Workbook

Sheet Feuil1
A1: Date | B1: code | C1: commentaires
A2: 43101 | B2: 100 | C2: - impayés | E2: =IF(B2=T_Synt!A$3,ROW(),"") -> 2 | F2: =IF(B2=T_Synt!A$4,ROW(),"") | G2: =IF(B2=T_Synt!A$5,ROW(),"") | H2: =IF(B2=T_Synt!D$3,ROW(),"")
A3: 43105 | B3: 205 | C3: - en retard | E3: =IF(B3=T_Synt!A$3,ROW(),"") | F3: =IF(B3=T_Synt!A$4,ROW(),"") -> 3 | G3: =IF(B3=T_Synt!A$5,ROW(),"") | H3: =IF(B3=T_Synt!D$3,ROW(),"")
A4: 43106 | B4: 3200 | C4: - en cours | E4: =IF(B4=T_Synt!A$3,ROW(),"") | F4: =IF(B4=T_Synt!A$4,ROW(),"") | G4: =IF(B4=T_Synt!A$5,ROW(),"") -> 4 | H4: =IF(B4=T_Synt!D$3,ROW(),"") -> 4
A5: 43110 | B5: 100 | C5: - demande de moratoire | E5: =IF(B5=T_Synt!A$3,ROW(),"") -> 5 | F5: =IF(B5=T_Synt!A$4,ROW(),"") | G5: =IF(B5=T_Synt!A$5,ROW(),"") | H5: =IF(B5=T_Synt!D$3,ROW(),"")
A6: 43110 | B6: 205 | C6: - règlement en cours | E6: =IF(B6=T_Synt!A$3,ROW(),"") | F6: =IF(B6=T_Synt!A$4,ROW(),"") -> 6 | G6: =IF(B6=T_Synt!A$5,ROW(),"") | H6: =IF(B6=T_Synt!D$3,ROW(),"")
A7: 43111 | B7: 100 | C7: - moratoire accepté | E7: =IF(B7=T_Synt!A$3,ROW(),"") -> 7 | F7: =IF(B7=T_Synt!A$4,ROW(),"") | G7: =IF(B7=T_Synt!A$5,ROW(),"") | H7: =IF(B7=T_Synt!D$3,ROW(),"")

Sheet T_Synt
A1: tableau de synthèse
A2: code | B2: commentaires | D2: code | E2: Dernier commentaire | F2: Date
A3: 100 | B3: =IF(ISERROR(INDIRECT("Feuil1!C"&SMALL(Feuil1!E:E,1),1)),"",INDIRECT("Feuil1!C"&SMALL(Feuil1!E:E,1),1))&IF(ISERROR(INDIRECT("Feuil1!C"&SMALL(Feuil1!E:E,2),1)),"",INDIRECT("Feuil1!C"&SMALL(Feuil1!E:E,2),1))&IF(ISERROR(INDIRECT("Feuil1!C"&SMALL(Feuil1!E:E,3),1)),"",INDIRECT("Feuil1!C"&SMALL(Feuil1!E:E,3),1))&IF(ISERROR(INDIRECT("Feuil1!C"&SMALL(Feuil1!E:E,4),1)),"",INDIRECT("Feuil1!C"&SMALL(Feuil1!E:E,4),1))&IF(ISERROR(INDIRECT("Feuil1!C"&SMALL(Feuil1!E:E,5),1)),"",INDIRECT("Feuil1!C"&SMALL(Feuil1!E:E,5),1)) -> - impayés - demande de moratoire - moratoire accepté | D3: 3200 | E3: =IF(ISERROR(INDIRECT("Feuil1!C"&LARGE(Feuil1!H:H,1),1)),"",INDIRECT("Feuil1!C"&LARGE(Feuil1!H:H,1),1)) -> - en cours | F3: =IF(ISERROR(INDIRECT("Feuil1!A"&LARGE(Feuil1!H:H,1),1)),"",INDIRECT("Feuil1!A"&LARGE(Feuil1!H:H,1),1)) -> 43106
A4: 205 | B4: =IF(ISERROR(INDIRECT("Feuil1!C"&SMALL(Feuil1!F:F,1),1)),"",INDIRECT("Feuil1!C"&SMALL(Feuil1!F:F,1),1))&IF(ISERROR(INDIRECT("Feuil1!C"&SMALL(Feuil1!F:F,2),1)),"",INDIRECT("Feuil1!C"&SMALL(Feuil1!F:F,2),1))&IF(ISERROR(INDIRECT("Feuil1!C"&SMALL(Feuil1!F:F,3),1)),"",INDIRECT("Feuil1!C"&SMALL(Feuil1!F:F,3),1))&IF(ISERROR(INDIRECT("Feuil1!C"&SMALL(Feuil1!F:F,4),1)),"",INDIRECT("Feuil1!C"&SMALL(Feuil1!F:F,4),1))&IF(ISERROR(INDIRECT("Feuil1!C"&SMALL(Feuil1!F:F,5),1)),"",INDIRECT("Feuil1!C"&SMALL(Feuil1!F:F,5),1)) -> - en retard - règlement en cours
A5: 3200 | B5: =IF(ISERROR(INDIRECT("Feuil1!C"&SMALL(Feuil1!G:G,1),1)),"",INDIRECT("Feuil1!C"&SMALL(Feuil1!G:G,1),1))&IF(ISERROR(INDIRECT("Feuil1!C"&SMALL(Feuil1!G:G,2),1)),"",INDIRECT("Feuil1!C"&SMALL(Feuil1!G:G,2),1))&IF(ISERROR(INDIRECT("Feuil1!C"&SMALL(Feuil1!G:G,3),1)),"",INDIRECT("Feuil1!C"&SMALL(Feuil1!G:G,3),1))&IF(ISERROR(INDIRECT("Feuil1!C"&SMALL(Feuil1!G:G,4),1)),"",INDIRECT("Feuil1!C"&SMALL(Feuil1!G:G,4),1))&IF(ISERROR(INDIRECT("Feuil1!C"&SMALL(Feuil1!G:G,5),1)),"",INDIRECT("Feuil1!C"&SMALL(Feuil1!G:G,5),1)) -> - en cours
