Workbook

Sheet Recherche
A1: Courtier | B1: Comnpagnie représenté | C1: Représentant | D1: Adresse email
A2: Courtier Pharma | B2: =IF(Dll!$G$1<ROW()-1,"",INDIRECT("Dll!H"&SMALL(Dll!I:I,ROW()-1),1)) -> Arthri-plus | C2: =IF(Dll!$G$1<ROW()-1,"",INDIRECT("Dll!C"&SMALL(Dll!I:I,ROW()-1),1)) -> Jimmy Tardif (1-450-888-0120) | D2: =IF(Dll!$G$1<ROW()-1,"",INDIRECT("Dll!D"&SMALL(Dll!I:I,ROW()-1),1)) -> jimmy.tardif@cgocable.ca
B3: =IF(Dll!$G$1<ROW()-1,"",INDIRECT("Dll!H"&SMALL(Dll!I:I,ROW()-1),1)) -> Genacol | C3: =IF(Dll!$G$1<ROW()-1,"",INDIRECT("Dll!C"&SMALL(Dll!I:I,ROW()-1),1)) -> Jimmy Tardif (1-450-888-0120) | D3: =IF(Dll!$G$1<ROW()-1,"",INDIRECT("Dll!D"&SMALL(Dll!I:I,ROW()-1),1)) -> jimmy.tardif@cgocable.ca
B4: =IF(Dll!$G$1<ROW()-1,"",INDIRECT("Dll!H"&SMALL(Dll!I:I,ROW()-1),1)) -> Progel | C4: =IF(Dll!$G$1<ROW()-1,"",INDIRECT("Dll!C"&SMALL(Dll!I:I,ROW()-1),1)) -> Jimmy Tardif (1-450-888-0120) | D4: =IF(Dll!$G$1<ROW()-1,"",INDIRECT("Dll!D"&SMALL(Dll!I:I,ROW()-1),1)) -> jimmy.tardif@cgocable.ca
B5: =IF(Dll!$G$1<ROW()-1,"",INDIRECT("Dll!H"&SMALL(Dll!I:I,ROW()-1),1)) -> Juna | C5: =IF(Dll!$G$1<ROW()-1,"",INDIRECT("Dll!C"&SMALL(Dll!I:I,ROW()-1),1)) -> Jimmy Tardif (1-450-888-0120) | D5: =IF(Dll!$G$1<ROW()-1,"",INDIRECT("Dll!D"&SMALL(Dll!I:I,ROW()-1),1)) -> jimmy.tardif@cgocable.ca
B6: =IF(Dll!$G$1<ROW()-1,"",INDIRECT("Dll!H"&SMALL(Dll!I:I,ROW()-1),1)) -> Cattier | C6: =IF(Dll!$G$1<ROW()-1,"",INDIRECT("Dll!C"&SMALL(Dll!I:I,ROW()-1),1)) -> Jimmy Tardif (1-450-888-0120) | D6: =IF(Dll!$G$1<ROW()-1,"",INDIRECT("Dll!D"&SMALL(Dll!I:I,ROW()-1),1)) -> jimmy.tardif@cgocable.ca
B7: =IF(Dll!$G$1<ROW()-1,"",INDIRECT("Dll!H"&SMALL(Dll!I:I,ROW()-1),1)) -> Bravodeli | C7: =IF(Dll!$G$1<ROW()-1,"",INDIRECT("Dll!C"&SMALL(Dll!I:I,ROW()-1),1)) -> Jimmy Tardif (1-450-888-0120) | D7: =IF(Dll!$G$1<ROW()-1,"",INDIRECT("Dll!D"&SMALL(Dll!I:I,ROW()-1),1)) -> jimmy.tardif@cgocable.ca
B8: =IF(Dll!$G$1<ROW()-1,"",INDIRECT("Dll!H"&SMALL(Dll!I:I,ROW()-1),1)) -> Chew Pod | C8: =IF(Dll!$G$1<ROW()-1,"",INDIRECT("Dll!C"&SMALL(Dll!I:I,ROW()-1),1)) -> Jimmy Tardif (1-450-888-0120) | D8: =IF(Dll!$G$1<ROW()-1,"",INDIRECT("Dll!D"&SMALL(Dll!I:I,ROW()-1),1)) -> jimmy.tardif@cgocable.ca
B9: =IF(Dll!$G$1<ROW()-1,"",INDIRECT("Dll!H"&SMALL(Dll!I:I,ROW()-1),1)) -> Diamangel | C9: =IF(Dll!$G$1<ROW()-1,"",INDIRECT("Dll!C"&SMALL(Dll!I:I,ROW()-1),1)) -> Jimmy Tardif (1-450-888-0120) | D9: =IF(Dll!$G$1<ROW()-1,"",INDIRECT("Dll!D"&SMALL(Dll!I:I,ROW()-1),1)) -> jimmy.tardif@cgocable.ca
B10: =IF(Dll!$G$1<ROW()-1,"",INDIRECT("Dll!H"&SMALL(Dll!I:I,ROW()-1),1)) -> Pissenlit&Coccinelle | C10: =IF(Dll!$G$1<ROW()-1,"",INDIRECT("Dll!C"&SMALL(Dll!I:I,ROW()-1),1)) -> Jimmy Tardif (1-450-888-0120) | D10: =IF(Dll!$G$1<ROW()-1,"",INDIRECT("Dll!D"&SMALL(Dll!I:I,ROW()-1),1)) -> jimmy.tardif@cgocable.ca
B11: =IF(Dll!$G$1<ROW()-1,"",INDIRECT("Dll!H"&SMALL(Dll!I:I,ROW()-1),1)) -> Le Savonneur | C11: =IF(Dll!$G$1<ROW()-1,"",INDIRECT("Dll!C"&SMALL(Dll!I:I,ROW()-1),1)) -> Jimmy Tardif (1-450-888-0120) | D11: =IF(Dll!$G$1<ROW()-1,"",INDIRECT("Dll!D"&SMALL(Dll!I:I,ROW()-1),1)) -> jimmy.tardif@cgocable.ca
B12: =IF(Dll!$G$1<ROW()-1,"",INDIRECT("Dll!H"&SMALL(Dll!I:I,ROW()-1),1)) -> Hot Pad | C12: =IF(Dll!$G$1<ROW()-1,"",INDIRECT("Dll!C"&SMALL(Dll!I:I,ROW()-1),1)) -> Jimmy Tardif (1-450-888-0120) | D12: =IF(Dll!$G$1<ROW()-1,"",INDIRECT("Dll!D"&SMALL(Dll!I:I,ROW()-1),1)) -> jimmy.tardif@cgocable.ca
B13: =IF(Dll!$G$1<ROW()-1,"",INDIRECT("Dll!H"&SMALL(Dll!I:I,ROW()-1),1)) -> Chocolat des Pères | C13: =IF(Dll!$G$1<ROW()-1,"",INDIRECT("Dll!C"&SMALL(Dll!I:I,ROW()-1),1)) -> Jimmy Tardif (1-450-888-0120) | D13: =IF(Dll!$G$1<ROW()-1,"",INDIRECT("Dll!D"&SMALL(Dll!I:I,ROW()-1),1)) -> jimmy.tardif@cgocable.ca
B14: =IF(Dll!$G$1<ROW()-1,"",INDIRECT("Dll!H"&SMALL(Dll!I:I,ROW()-1),1)) -> Béké Bobo | C14: =IF(Dll!$G$1<ROW()-1,"",INDIRECT("Dll!C"&SMALL(Dll!I:I,ROW()-1),1)) -> Jimmy Tardif (1-450-888-0120) | D14: =IF(Dll!$G$1<ROW()-1,"",INDIRECT("Dll!D"&SMALL(Dll!I:I,ROW()-1),1)) -> jimmy.tardif@cgocable.ca
... B1000: =IF(Dll!$G$1<ROW()-1,"",INDIRECT("Dll!H"&SMALL(Dll!I:I,ROW()-1),1)) | C1000: =IF(Dll!$G$1<ROW()-1,"",INDIRECT("Dll!C"&SMALL(Dll!I:I,ROW()-1),1)) | D1000: =IF(Dll!$G$1<ROW()-1,"",INDIRECT("Dll!D"&SMALL(Dll!I:I,ROW()-1),1))

Sheet Dll
G1: =COUNTIF(I:I,">=1") -> 17
A2: Ac courtier | B2: Olegoxpress | C2: Arduino Corso (1-514-567-4975) | D2: accourtier@yahoo.ca | E2: =IF(ISERROR(SMALL(F$2:F$400,ROW()-1)),"",INDIRECT("A"&SMALL(F$2:F$400,ROW()-1))) -> Ac courtier | F2: =IF(OR(A2="",A2=A3),"",ROW()) | H2: =IF(OR(Dll!A2="",Recherche!A2<>Dll!A2),"",Dll!B2) | I2: =IF(A2=Recherche!$A$2,ROW(),"")
A3: Ac courtier | B3: Carte au bois | C3: Arduino Corso (1-514-567-4975) | D3: accourtier@yahoo.ca | E3: =IF(ISERROR(SMALL(F$2:F$400,ROW()-1)),"",INDIRECT("A"&SMALL(F$2:F$400,ROW()-1))) -> Acosta | F3: =IF(OR(A3="",A3=A4),"",ROW()) | H3: =IF(OR(Dll!A3="",Recherche!A2<>Dll!A3),"",Dll!B3) | I3: =IF(A3=Recherche!$A$2,ROW(),"") | K3: =IF(I2>0,H2,"")
A4: Ac courtier | B4: Gertex Hosiery Inc. | C4: Arduino Corso (1-514-567-4975) | D4: accourtier@yahoo.ca | E4: =IF(ISERROR(SMALL(F$2:F$400,ROW()-1)),"",INDIRECT("A"&SMALL(F$2:F$400,ROW()-1))) -> Advantage Solutions | F4: =IF(OR(A4="",A4=A5),"",ROW()) | H4: =IF(OR(Dll!A4="",Recherche!A2<>Dll!A4),"",Dll!B4) | I4: =IF(A4=Recherche!$A$2,ROW(),"") | K4: =IF(I3>0,H3,"")
A5: Ac courtier | C5: Arduino Corso (1-514-567-4975) | D5: accourtier@yahoo.ca | E5: =IF(ISERROR(SMALL(F$2:F$400,ROW()-1)),"",INDIRECT("A"&SMALL(F$2:F$400,ROW()-1))) -> Agnece 2L | F5: =IF(OR(A5="",A5=A6),"",ROW()) | H5: =IF(OR(Dll!A5="",Recherche!A2<>Dll!A5),"",Dll!B5) | I5: =IF(A5=Recherche!$A$2,ROW(),"") | K5: =IF(I4>0,H4,"")
A6: Ac courtier | C6: Arduino Corso (1-514-567-4975) | D6: accourtier@yahoo.ca | E6: =IF(ISERROR(SMALL(F$2:F$400,ROW()-1)),"",INDIRECT("A"&SMALL(F$2:F$400,ROW()-1))) -> Airway | F6: =IF(OR(A6="",A6=A7),"",ROW()) | H6: =IF(OR(Dll!A6="",Recherche!A2<>Dll!A6),"",Dll!B6) | I6: =IF(A6=Recherche!$A$2,ROW(),"") | K6: =IF(I5>0,H5,"")
A7: Ac courtier | C7: Arduino Corso (1-514-567-4975) | D7: accourtier@yahoo.ca | E7: =IF(ISERROR(SMALL(F$2:F$400,ROW()-1)),"",INDIRECT("A"&SMALL(F$2:F$400,ROW()-1))) -> Alliance | F7: =IF(OR(A7="",A7=A8),"",ROW()) -> 7 | H7: =IF(OR(Dll!A7="",Recherche!A2<>Dll!A7),"",Dll!B7) | I7: =IF(A7=Recherche!$A$2,ROW(),"") | K7: =IF(I6>0,H6,"")
A8: Acosta | B8: Burt's Bees | C8: Lucie Fontaine (1-418-334-0888) | D8: lfontaine@acosta.com | E8: =IF(ISERROR(SMALL(F$2:F$400,ROW()-1)),"",INDIRECT("A"&SMALL(F$2:F$400,ROW()-1))) -> Biochala | F8: =IF(OR(A8="",A8=A9),"",ROW()) | H8: =IF(OR(Dll!A8="",Recherche!A2<>Dll!A8),"",Dll!B8) | I8: =IF(A8=Recherche!$A$2,ROW(),"") | K8: =IF(I7>0,H7,"")
A9: Acosta | B9: Canadian Salt Co. | C9: Lucie Fontaine (1-418-334-0888) | D9: lfontaine@acosta.com | E9: =IF(ISERROR(SMALL(F$2:F$400,ROW()-1)),"",INDIRECT("A"&SMALL(F$2:F$400,ROW()-1))) -> Bruno | F9: =IF(OR(A9="",A9=A10),"",ROW()) | H9: =IF(OR(Dll!A9="",Recherche!A2<>Dll!A9),"",Dll!B9) | I9: =IF(A9=Recherche!$A$2,ROW(),"") | K9: =IF(I8>0,H8,"")
A10: Acosta | B10: CB Powell | C10: Lucie Fontaine (1-418-334-0888) | D10: lfontaine@acosta.com | E10: =IF(ISERROR(SMALL(F$2:F$400,ROW()-1)),"",INDIRECT("A"&SMALL(F$2:F$400,ROW()-1))) -> Cavan | F10: =IF(OR(A10="",A10=A11),"",ROW()) | H10: =IF(OR(Dll!A10="",Recherche!A2<>Dll!A10),"",Dll!B10) | I10: =IF(A10=Recherche!$A$2,ROW(),"") | K10: =IF(I9>0,H9,"")
A11: Acosta | B11: Ganong | C11: Lucie Fontaine (1-418-334-0888) | D11: lfontaine@acosta.com | E11: =IF(ISERROR(SMALL(F$2:F$400,ROW()-1)),"",INDIRECT("A"&SMALL(F$2:F$400,ROW()-1))) -> Ciné Royal | F11: =IF(OR(A11="",A11=A12),"",ROW()) | H11: =IF(OR(Dll!A11="",Recherche!A2<>Dll!A11),"",Dll!B11) | I11: =IF(A11=Recherche!$A$2,ROW(),"") | K11: =IF(I10>0,H10,"")
A12: Acosta | B12: Kisko Products | C12: Lucie Fontaine (1-418-334-0888) | D12: lfontaine@acosta.com | E12: =IF(ISERROR(SMALL(F$2:F$400,ROW()-1)),"",INDIRECT("A"&SMALL(F$2:F$400,ROW()-1))) -> Courtier Pharma | F12: =IF(OR(A12="",A12=A13),"",ROW()) | H12: =IF(OR(Dll!A12="",Recherche!A2<>Dll!A12),"",Dll!B12) | I12: =IF(A12=Recherche!$A$2,ROW(),"") | K12: =IF(I11>0,H11,"")
A13: Acosta | B13: Oetker | C13: Lucie Fontaine (1-418-334-0888) | D13: lfontaine@acosta.com | E13: =IF(ISERROR(SMALL(F$2:F$400,ROW()-1)),"",INDIRECT("A"&SMALL(F$2:F$400,ROW()-1))) -> Fempro | F13: =IF(OR(A13="",A13=A14),"",ROW()) | H13: =IF(OR(Dll!A13="",Recherche!A2<>Dll!A13),"",Dll!B13) | I13: =IF(A13=Recherche!$A$2,ROW(),"") | K13: =IF(I12>0,H12,"")
A14: Acosta | B14: Mcneil Nutritional | C14: Lucie Fontaine (1-418-334-0888) | D14: lfontaine@acosta.com | E14: =IF(ISERROR(SMALL(F$2:F$400,ROW()-1)),"",INDIRECT("A"&SMALL(F$2:F$400,ROW()-1))) -> Galderma | F14: =IF(OR(A14="",A14=A15),"",ROW()) | H14: =IF(OR(Dll!A14="",Recherche!A2<>Dll!A14),"",Dll!B14) | I14: =IF(A14=Recherche!$A$2,ROW(),"") | K14: =IF(I13>0,H13,"")
A15: Acosta | B15: Natrel Baboo | C15: Lucie Fontaine (1-418-334-0888) | D15: lfontaine@acosta.com | E15: =IF(ISERROR(SMALL(F$2:F$400,ROW()-1)),"",INDIRECT("A"&SMALL(F$2:F$400,ROW()-1))) -> KW | F15: =IF(OR(A15="",A15=A16),"",ROW()) | H15: =IF(OR(Dll!A15="",Recherche!A2<>Dll!A15),"",Dll!B15) | I15: =IF(A15=Recherche!$A$2,ROW(),"")
A16: Acosta | B16: Ocean Spray Int. | C16: Lucie Fontaine (1-418-334-0888) | D16: lfontaine@acosta.com | E16: =IF(ISERROR(SMALL(F$2:F$400,ROW()-1)),"",INDIRECT("A"&SMALL(F$2:F$400,ROW()-1))) -> Myriad Pharma | F16: =IF(OR(A16="",A16=A17),"",ROW()) | H16: =IF(OR(Dll!A16="",Recherche!A2<>Dll!A16),"",Dll!B16) | I16: =IF(A16=Recherche!$A$2,ROW(),"")
A17: Acosta | B17: Perfetti Van Melle | C17: Lucie Fontaine (1-418-334-0888) | D17: lfontaine@acosta.com | E17: =IF(ISERROR(SMALL(F$2:F$400,ROW()-1)),"",INDIRECT("A"&SMALL(F$2:F$400,ROW()-1))) -> Norrizon | F17: =IF(OR(A17="",A17=A18),"",ROW()) | H17: =IF(OR(Dll!A17="",Recherche!A2<>Dll!A17),"",Dll!B17) | I17: =IF(A17=Recherche!$A$2,ROW(),"")
A18: Acosta | B18: Smucker Foods of Canada | C18: Lucie Fontaine (1-418-334-0888) | D18: lfontaine@acosta.com | E18: =IF(ISERROR(SMALL(F$2:F$400,ROW()-1)),"",INDIRECT("A"&SMALL(F$2:F$400,ROW()-1))) -> Pro Action | F18: =IF(OR(A18="",A18=A19),"",ROW()) | H18: =IF(OR(Dll!A18="",Recherche!A2<>Dll!A18),"",Dll!B18) | I18: =IF(A18=Recherche!$A$2,ROW(),"")
A19: Acosta | B19: Sun Products | C19: Lucie Fontaine (1-418-334-0888) | D19: lfontaine@acosta.com | E19: =IF(ISERROR(SMALL(F$2:F$400,ROW()-1)),"",INDIRECT("A"&SMALL(F$2:F$400,ROW()-1))) -> Prodex | F19: =IF(OR(A19="",A19=A20),"",ROW()) | H19: =IF(OR(Dll!A19="",Recherche!A2<>Dll!A19),"",Dll!B19) | I19: =IF(A19=Recherche!$A$2,ROW(),"")
A20: Acosta | B20: Whiripool | C20: Lucie Fontaine (1-418-334-0888) | D20: lfontaine@acosta.com | E20: =IF(ISERROR(SMALL(F$2:F$400,ROW()-1)),"",INDIRECT("A"&SMALL(F$2:F$400,ROW()-1))) -> Rose & Associés | F20: =IF(OR(A20="",A20=A21),"",ROW()) | H20: =IF(OR(Dll!A20="",Recherche!A2<>Dll!A20),"",Dll!B20) | I20: =IF(A20=Recherche!$A$2,ROW(),"")
A21: Acosta | B21: Allan Canddy | C21: Lucie Fontaine (1-418-334-0888) | D21: lfontaine@acosta.com | E21: =IF(ISERROR(SMALL(F$2:F$400,ROW()-1)),"",INDIRECT("A"&SMALL(F$2:F$400,ROW()-1))) | F21: =IF(OR(A21="",A21=A22),"",ROW()) | H21: =IF(OR(Dll!A21="",Recherche!A2<>Dll!A21),"",Dll!B21) | I21: =IF(A21=Recherche!$A$2,ROW(),"")
A22: Acosta | B22: Clorox | C22: Lucie Fontaine (1-418-334-0888) | D22: lfontaine@acosta.com | E22: =IF(ISERROR(SMALL(F$2:F$400,ROW()-1)),"",INDIRECT("A"&SMALL(F$2:F$400,ROW()-1))) | F22: =IF(OR(A22="",A22=A23),"",ROW()) | H22: =IF(OR(Dll!A22="",Recherche!A2<>Dll!A22),"",Dll!B22) | I22: =IF(A22=Recherche!$A$2,ROW(),"")
A23: Acosta | B23: Colgate | C23: Lucie Fontaine (1-418-334-0888) | D23: lfontaine@acosta.com | E23: =IF(ISERROR(SMALL(F$2:F$400,ROW()-1)),"",INDIRECT("A"&SMALL(F$2:F$400,ROW()-1))) | F23: =IF(OR(A23="",A23=A24),"",ROW()) | H23: =IF(OR(Dll!A23="",Recherche!A2<>Dll!A23),"",Dll!B23) | I23: =IF(A23=Recherche!$A$2,ROW(),"")
A24: Acosta | B24: WD 40 | C24: Lucie Fontaine (1-418-334-0888) | D24: lfontaine@acosta.com | E24: =IF(ISERROR(SMALL(F$2:F$400,ROW()-1)),"",INDIRECT("A"&SMALL(F$2:F$400,ROW()-1))) | F24: =IF(OR(A24="",A24=A25),"",ROW()) | H24: =IF(OR(Dll!A24="",Recherche!A2<>Dll!A24),"",Dll!B24) | I24: =IF(A24=Recherche!$A$2,ROW(),"")
A25: Acosta | B25: Weider | C25: Lucie Fontaine (1-418-334-0888) | D25: lfontaine@acosta.com | E25: =IF(ISERROR(SMALL(F$2:F$400,ROW()-1)),"",INDIRECT("A"&SMALL(F$2:F$400,ROW()-1))) | F25: =IF(OR(A25="",A25=A26),"",ROW()) -> 25 | H25: =IF(OR(Dll!A25="",Recherche!A2<>Dll!A25),"",Dll!B25) | I25: =IF(A25=Recherche!$A$2,ROW(),"")
A26: Advantage Solutions | B26: Relaxa | C26: Lyne Malenfant (1-450-975-2525) (#513) | D26: lyne.malenfant@asmnet.com | E26: =IF(ISERROR(SMALL(F$2:F$400,ROW()-1)),"",INDIRECT("A"&SMALL(F$2:F$400,ROW()-1))) | F26: =IF(OR(A26="",A26=A27),"",ROW()) | H26: =IF(OR(Dll!A26="",Recherche!A2<>Dll!A26),"",Dll!B26) | I26: =IF(A26=Recherche!$A$2,ROW(),"")
A27: Advantage Solutions | B27: Antistax | C27: Lyne Malenfant (1-450-975-2525) (#513) | D27: lyne.malenfant@asmnet.com | E27: =IF(ISERROR(SMALL(F$2:F$400,ROW()-1)),"",INDIRECT("A"&SMALL(F$2:F$400,ROW()-1))) | F27: =IF(OR(A27="",A27=A28),"",ROW()) | H27: =IF(OR(Dll!A27="",Recherche!A2<>Dll!A27),"",Dll!B27) | I27: =IF(A27=Recherche!$A$2,ROW(),"")
A28: Advantage Solutions | B28: Blistex | C28: Lyne Malenfant (1-450-975-2525) (#513) | D28: lyne.malenfant@asmnet.com | E28: =IF(ISERROR(SMALL(F$2:F$400,ROW()-1)),"",INDIRECT("A"&SMALL(F$2:F$400,ROW()-1))) | F28: =IF(OR(A28="",A28=A29),"",ROW()) | H28: =IF(OR(Dll!A28="",Recherche!A2<>Dll!A28),"",Dll!B28) | I28: =IF(A28=Recherche!$A$2,ROW(),"")
A29: Advantage Solutions | B29: Glysomed | C29: Lyne Malenfant (1-450-975-2525) (#513) | D29: lyne.malenfant@asmnet.com | E29: =IF(ISERROR(SMALL(F$2:F$400,ROW()-1)),"",INDIRECT("A"&SMALL(F$2:F$400,ROW()-1))) | F29: =IF(OR(A29="",A29=A30),"",ROW()) | H29: =IF(OR(Dll!A29="",Recherche!A2<>Dll!A29),"",Dll!B29) | I29: =IF(A29=Recherche!$A$2,ROW(),"")
A30: Advantage Solutions | B30: Zantac | C30: Lyne Malenfant (1-450-975-2525) (#513) | D30: lyne.malenfant@asmnet.com | E30: =IF(ISERROR(SMALL(F$2:F$400,ROW()-1)),"",INDIRECT("A"&SMALL(F$2:F$400,ROW()-1))) | F30: =IF(OR(A30="",A30=A31),"",ROW()) | H30: =IF(OR(Dll!A30="",Recherche!A2<>Dll!A30),"",Dll!B30) | I30: =IF(A30=Recherche!$A$2,ROW(),"")
A31: Advantage Solutions | B31: Trojan | C31: Lyne Malenfant (1-450-975-2525) (#513) | D31: lyne.malenfant@asmnet.com | E31: =IF(ISERROR(SMALL(F$2:F$400,ROW()-1)),"",INDIRECT("A"&SMALL(F$2:F$400,ROW()-1))) | F31: =IF(OR(A31="",A31=A32),"",ROW()) | H31: =IF(OR(Dll!A31="",Recherche!A2<>Dll!A31),"",Dll!B31) | I31: =IF(A31=Recherche!$A$2,ROW(),"")
A32: Advantage Solutions | B32: Rub A535 Antiphlogistine | C32: Lyne Malenfant (1-450-975-2525) (#513) | D32: lyne.malenfant@asmnet.com | E32: =IF(ISERROR(SMALL(F$2:F$400,ROW()-1)),"",INDIRECT("A"&SMALL(F$2:F$400,ROW()-1))) | F32: =IF(OR(A32="",A32=A33),"",ROW()) | H32: =IF(OR(Dll!A32="",Recherche!A2<>Dll!A32),"",Dll!B32) | I32: =IF(A32=Recherche!$A$2,ROW(),"")
A33: Advantage Solutions | B33: Gravol | C33: Lyne Malenfant (1-450-975-2525) (#513) | D33: lyne.malenfant@asmnet.com | E33: =IF(ISERROR(SMALL(F$2:F$400,ROW()-1)),"",INDIRECT("A"&SMALL(F$2:F$400,ROW()-1))) | F33: =IF(OR(A33="",A33=A34),"",ROW()) | H33: =IF(OR(Dll!A33="",Recherche!A2<>Dll!A33),"",Dll!B33) | I33: =IF(A33=Recherche!$A$2,ROW(),"")
A34: Advantage Solutions | B34: Frist Réponse | C34: Lyne Malenfant (1-450-975-2525) (#513) | D34: lyne.malenfant@asmnet.com | E34: =IF(ISERROR(SMALL(F$2:F$400,ROW()-1)),"",INDIRECT("A"&SMALL(F$2:F$400,ROW()-1))) | F34: =IF(OR(A34="",A34=A35),"",ROW()) | H34: =IF(OR(Dll!A34="",Recherche!A2<>Dll!A34),"",Dll!B34) | I34: =IF(A34=Recherche!$A$2,ROW(),"")
A35: Advantage Solutions | B35: Atasol | C35: Lyne Malenfant (1-450-975-2525) (#513) | D35: lyne.malenfant@asmnet.com | E35: =IF(ISERROR(SMALL(F$2:F$400,ROW()-1)),"",INDIRECT("A"&SMALL(F$2:F$400,ROW()-1))) | F35: =IF(OR(A35="",A35=A36),"",ROW()) | H35: =IF(OR(Dll!A35="",Recherche!A2<>Dll!A35),"",Dll!B35) | I35: =IF(A35=Recherche!$A$2,ROW(),"")
A36: Advantage Solutions | B36: Orajel | C36: Lyne Malenfant (1-450-975-2525) (#513) | D36: lyne.malenfant@asmnet.com | E36: =IF(ISERROR(SMALL(F$2:F$400,ROW()-1)),"",INDIRECT("A"&SMALL(F$2:F$400,ROW()-1))) | F36: =IF(OR(A36="",A36=A37),"",ROW()) | H36: =IF(OR(Dll!A36="",Recherche!A2<>Dll!A36),"",Dll!B36) | I36: =IF(A36=Recherche!$A$2,ROW(),"")
A37: Advantage Solutions | B37: Pfizer | C37: Lyne Malenfant (1-450-975-2525) (#513) | D37: lyne.malenfant@asmnet.com | E37: =IF(ISERROR(SMALL(F$2:F$400,ROW()-1)),"",INDIRECT("A"&SMALL(F$2:F$400,ROW()-1))) | F37: =IF(OR(A37="",A37=A38),"",ROW()) | H37: =IF(OR(Dll!A37="",Recherche!A2<>Dll!A37),"",Dll!B37) | I37: =IF(A37=Recherche!$A$2,ROW(),"")
A38: Advantage Solutions | B38: Vicks | C38: Lyne Malenfant (1-450-975-2525) (#513) | D38: lyne.malenfant@asmnet.com | E38: =IF(ISERROR(SMALL(F$2:F$400,ROW()-1)),"",INDIRECT("A"&SMALL(F$2:F$400,ROW()-1))) | F38: =IF(OR(A38="",A38=A39),"",ROW()) | H38: =IF(OR(Dll!A38="",Recherche!A2<>Dll!A38),"",Dll!B38) | I38: =IF(A38=Recherche!$A$2,ROW(),"")
A39: Advantage Solutions | B39: Church&Dwight Co. | C39: Lyne Malenfant (1-450-975-2525) (#513) | D39: lyne.malenfant@asmnet.com | E39: =IF(ISERROR(SMALL(F$2:F$400,ROW()-1)),"",INDIRECT("A"&SMALL(F$2:F$400,ROW()-1))) | F39: =IF(OR(A39="",A39=A40),"",ROW()) | H39: =IF(OR(Dll!A39="",Recherche!A2<>Dll!A39),"",Dll!B39) | I39: =IF(A39=Recherche!$A$2,ROW(),"")
A40: Advantage Solutions | B40: Glaxo (GSK) | C40: Lyne Malenfant (1-450-975-2525) (#513) | D40: lyne.malenfant@asmnet.com | E40: =IF(ISERROR(SMALL(F$2:F$400,ROW()-1)),"",INDIRECT("A"&SMALL(F$2:F$400,ROW()-1))) | F40: =IF(OR(A40="",A40=A41),"",ROW()) -> 40 | H40: =IF(OR(Dll!A40="",Recherche!A2<>Dll!A40),"",Dll!B40) | I40: =IF(A40=Recherche!$A$2,ROW(),"")
...
