Workbook

Sheet bdd
A1: UNITE DE TRAVAIL | B1: Famille de risques | C1: Description des situations de travail | D1: Modalité d’exposition aux risques | E1: Description des risques identifiés | F1: Moyens de prévention actuels & pistes d'action | G1: Priorisation* | H1: =MAX(H2:H600) -> 600
A2: ACCUEIL | B2: Aménagement de l’espace | C2: Installation informatique | D2: Photocopieur dans la pièce : pollution passages nombreux (déconcentration) | E2: Problèmes respiratoires | F2: Nouveau local pour le photocopieur / espace RH / désengorger l’accueil | H2: =IF(A2='onglet de saisie'!$A$2,ROW(),"") | I2: =IF(H2="","",INDIRECT("B"&ROW())) | J2: =IF(I2='onglet de saisie'!$B$2,INDIRECT("C"&ROW()),"") -> Installation informatique | K2: =IF(J2='onglet de saisie'!$C$2,INDIRECT("d"&ROW()),"") | L2: =IF(K2='onglet de saisie'!$D$2,ROW(),"") -> 2
A3: ACCUEIL | B3: Manipulation | C3: Secrétariat / réception des colis | D3: Utilisation massicot ciseaux… Répétition des gestes | E3: Coupures/blessures | F3: Siège ergonomique / Trousse de soins (1er secours) Affichage pédagogique : consignes d’utilisation du massicot / utilisation limitée (salariés formés uniquement / matériel sous clé…) | H3: =IF(A3='onglet de saisie'!$A$2,ROW(),"") | I3: =IF(H3="","",INDIRECT("B"&ROW())) | J3: =IF(I3='onglet de saisie'!$B$2,INDIRECT("C"&ROW()),"") -> Secrétariat / réception des colis | K3: =IF(J3='onglet de saisie'!$C$2,INDIRECT("d"&ROW()),"") | L3: =IF(K3='onglet de saisie'!$D$2,ROW(),"") -> 3
A4: ACCUEIL | B4: Manipulation | C4: Secrétariat / réception des colis | D4: Réception de colis 2x/mois lourd | E4: Dorsalgies, lumbagos, tendinites Chocs, écrasement | F4: Chariot de manutention / Livraison à l'étage | H4: =IF(A4='onglet de saisie'!$A$2,ROW(),"") | I4: =IF(H4="","",INDIRECT("B"&ROW())) | J4: =IF(I4='onglet de saisie'!$B$2,INDIRECT("C"&ROW()),"") -> Secrétariat / réception des colis | K4: =IF(J4='onglet de saisie'!$C$2,INDIRECT("d"&ROW()),"") | L4: =IF(K4='onglet de saisie'!$D$2,ROW(),"") -> 4
A5: ACTIVITES ENFANCE JEUNESSE | B5: Aménagement de l’espace | C5: Nettoyage sols et rangement du matériel | D5: encadrement d'enfants: Jouets qui trainent sur le sol | E5: Chutes, entorses, glissades | F5: Rangement régulier avec les enfants / Localiser les espaces de jeux / zone de passage | H5: =IF(A5='onglet de saisie'!$A$2,ROW(),"") | I5: =IF(H5="","",INDIRECT("B"&ROW())) | J5: =IF(I5='onglet de saisie'!$B$2,INDIRECT("C"&ROW()),"") -> Nettoyage sols et rangement du matériel | K5: =IF(J5='onglet de saisie'!$C$2,INDIRECT("d"&ROW()),"") | L5: =IF(K5='onglet de saisie'!$D$2,ROW(),"") -> 5
A6: ACTIVITES ENFANCE JEUNESSE | B6: RPS | C6: Activités avec les enfants | D6: Agressivité, insultes du public envers les animateurs - pouvant engendrer des réactions inadaptées de l’animateur | E6: Sentiment de non reconnaissance Stress Conflits / Tensions Fatigue nerveuse / irritabilité / maux de tête | F6: Retour, soutien de la part de la direction / Formation gestion des conflits/agressivité / Identification d’ »interdictions de sortie » / Analyse des pratiques professionnelles / temps d’échange | H6: =IF(A6='onglet de saisie'!$A$2,ROW(),"") | I6: =IF(H6="","",INDIRECT("B"&ROW())) | J6: =IF(I6='onglet de saisie'!$B$2,INDIRECT("C"&ROW()),"") -> Activités avec les enfants | K6: =IF(J6='onglet de saisie'!$C$2,INDIRECT("d"&ROW()),"") | L6: =IF(K6='onglet de saisie'!$D$2,ROW(),"") -> 6
A7: ACTIVITES ENFANCE JEUNESSE | B7: Nuisances sonores / Bruits | C7: Présence auprès des enfants | D7: Nombre de personne important | E7: Fatigue nerveuse / irritabilité / maux de tête | F7: Réflexion sur le planning | H7: =IF(A7='onglet de saisie'!$A$2,ROW(),"") | I7: =IF(H7="","",INDIRECT("B"&ROW())) | J7: =IF(I7='onglet de saisie'!$B$2,INDIRECT("C"&ROW()),"") -> Présence auprès des enfants | K7: =IF(J7='onglet de saisie'!$C$2,INDIRECT("d"&ROW()),"") | L7: =IF(K7='onglet de saisie'!$D$2,ROW(),"") -> 7
A8: ACTIVITES ENFANCE JEUNESSE | B8: Nuisances sonores / Bruits | C8: Présence auprès des enfants | D8: Locaux petits et communicants | E8: Fatigue nerveuse / irritabilité / maux de tête | F8: Recherche d’autres salles | H8: =IF(A8='onglet de saisie'!$A$2,ROW(),"") | I8: =IF(H8="","",INDIRECT("B"&ROW())) | J8: =IF(I8='onglet de saisie'!$B$2,INDIRECT("C"&ROW()),"") -> Présence auprès des enfants | K8: =IF(J8='onglet de saisie'!$C$2,INDIRECT("d"&ROW()),"") | L8: =IF(K8='onglet de saisie'!$D$2,ROW(),"") -> 8
A9: ACTIVITES ENFANCE JEUNESSE | B9: Nuisances sonores / Bruits | C9: Présence auprès des enfants | D9: Proximité des groupes | E9: Fatigue nerveuse / irritabilité / maux de tête | H9: =IF(A9='onglet de saisie'!$A$2,ROW(),"") | I9: =IF(H9="","",INDIRECT("B"&ROW())) | J9: =IF(I9='onglet de saisie'!$B$2,INDIRECT("C"&ROW()),"") -> Présence auprès des enfants | K9: =IF(J9='onglet de saisie'!$C$2,INDIRECT("d"&ROW()),"") | L9: =IF(K9='onglet de saisie'!$D$2,ROW(),"") -> 9
A10: ACTIVITES ENFANCE JEUNESSE | B10: Nuisances sonores / Bruits | C10: Présence auprès des enfants | D10: Transit des usagers | F10: Travail partenarial avec la mairie | H10: =IF(A10='onglet de saisie'!$A$2,ROW(),"") | I10: =IF(H10="","",INDIRECT("B"&ROW())) | J10: =IF(I10='onglet de saisie'!$B$2,INDIRECT("C"&ROW()),"") -> Présence auprès des enfants | K10: =IF(J10='onglet de saisie'!$C$2,INDIRECT("d"&ROW()),"") | L10: =IF(K10='onglet de saisie'!$D$2,ROW(),"") -> 10
A11: ADMINISTRATIF | B11: Aménagement de l’espace | C11: Poste de travail | D11: Poste de travail bureautique inadapté / Position contrainte ou non-adaptée / temps passé devant un écran | E11: Dorsalgies, lumbagos, tendinites Fatigue Oculaire Fatigue nerveuse / irritabilité / maux de tête | F11: Retrouver le compte rendu de la visite MT Passer de l’affichage des consignes / fiches de la médecine du travail au partage avec les collègues | H11: =IF(A11='onglet de saisie'!$A$2,ROW(),"") | I11: =IF(H11="","",INDIRECT("B"&ROW())) | J11: =IF(I11='onglet de saisie'!$B$2,INDIRECT("C"&ROW()),"") -> Poste de travail | K11: =IF(J11='onglet de saisie'!$C$2,INDIRECT("d"&ROW()),"") | L11: =IF(K11='onglet de saisie'!$D$2,ROW(),"") -> 11
A12: ADMINISTRATIF | B12: RPS | C12: Au poste de travail | D12: Sollicitations permanentes (public, salariés, téléphoniques… | E12: Fatigue nerveuse / irritabilité / maux de tête | F12: Musique au casque | H12: =IF(A12='onglet de saisie'!$A$2,ROW(),"") | I12: =IF(H12="","",INDIRECT("B"&ROW())) | J12: =IF(I12='onglet de saisie'!$B$2,INDIRECT("C"&ROW()),"") -> Au poste de travail | K12: =IF(J12='onglet de saisie'!$C$2,INDIRECT("d"&ROW()),"") | L12: =IF(K12='onglet de saisie'!$D$2,ROW(),"") -> 12
A13: ADMINISTRATIF | B13: RPS | C13: Au poste de travail | D13: Bruit | E13: Stress | F13: Télétravail | H13: =IF(A13='onglet de saisie'!$A$2,ROW(),"") | I13: =IF(H13="","",INDIRECT("B"&ROW())) | J13: =IF(I13='onglet de saisie'!$B$2,INDIRECT("C"&ROW()),"") -> Au poste de travail | K13: =IF(J13='onglet de saisie'!$C$2,INDIRECT("d"&ROW()),"") | L13: =IF(K13='onglet de saisie'!$D$2,ROW(),"") -> 13
A14: ADMINISTRATIF | B14: RPS | C14: Au poste de travail | D14: Proximité avec la salle d’accueil | E14: Fatigue nerveuse / irritabilité / maux de tête | H14: =IF(A14='onglet de saisie'!$A$2,ROW(),"") | I14: =IF(H14="","",INDIRECT("B"&ROW())) | J14: =IF(I14='onglet de saisie'!$B$2,INDIRECT("C"&ROW()),"") -> Au poste de travail | K14: =IF(J14='onglet de saisie'!$C$2,INDIRECT("d"&ROW()),"") | L14: =IF(K14='onglet de saisie'!$D$2,ROW(),"") -> 14
A15: ADMINISTRATIF | B15: RPS | C15: Au poste de travail | D15: Déconcentration | H15: =IF(A15='onglet de saisie'!$A$2,ROW(),"") | I15: =IF(H15="","",INDIRECT("B"&ROW())) | J15: =IF(I15='onglet de saisie'!$B$2,INDIRECT("C"&ROW()),"") -> Au poste de travail | K15: =IF(J15='onglet de saisie'!$C$2,INDIRECT("d"&ROW()),"") | L15: =IF(K15='onglet de saisie'!$D$2,ROW(),"") -> 15
A16: ADMINISTRATIF | B16: RPS | C16: Au poste de travail | D16: Pression du travail / service aux adhérents (dossiers à boucler dans des délais contraints, sollicitations multiples...) | E16: Fatigue nerveuse / irritabilité / maux de tête | H16: =IF(A16='onglet de saisie'!$A$2,ROW(),"") | I16: =IF(H16="","",INDIRECT("B"&ROW())) | J16: =IF(I16='onglet de saisie'!$B$2,INDIRECT("C"&ROW()),"") -> Au poste de travail | K16: =IF(J16='onglet de saisie'!$C$2,INDIRECT("d"&ROW()),"") | L16: =IF(K16='onglet de saisie'!$D$2,ROW(),"") -> 16
A17: ADMINISTRATIF | B17: RPS | C17: Au poste de travail | D17: Conflits d’urgence / d’importance | E17: Stress | H17: =IF(A17='onglet de saisie'!$A$2,ROW(),"") | I17: =IF(H17="","",INDIRECT("B"&ROW())) | J17: =IF(I17='onglet de saisie'!$B$2,INDIRECT("C"&ROW()),"") -> Au poste de travail | K17: =IF(J17='onglet de saisie'!$C$2,INDIRECT("d"&ROW()),"") | L17: =IF(K17='onglet de saisie'!$D$2,ROW(),"") -> 17
A18: ADMINISTRATIF | B18: RPS | C18: Au poste de travail | D18: Surcharge de travail | E18: Fatigue nerveuse / irritabilité / maux de tête | H18: =IF(A18='onglet de saisie'!$A$2,ROW(),"") | I18: =IF(H18="","",INDIRECT("B"&ROW())) | J18: =IF(I18='onglet de saisie'!$B$2,INDIRECT("C"&ROW()),"") -> Au poste de travail | K18: =IF(J18='onglet de saisie'!$C$2,INDIRECT("d"&ROW()),"") | L18: =IF(K18='onglet de saisie'!$D$2,ROW(),"") -> 18
A19: Administratif - Site Matisse | B19: Aménagement de l’espace | C19: Bâtiments défectueux / inadaptés | D19: Escalier en colimaçon avec des marches de profondeur différente Port du plateau (avec cafés) qui empêche de se tenir à la rampe | E19: Chute, entorse, brûlure | G19: Equipement d'un ascenseur ou un monte charge | H19: =IF(A19='onglet de saisie'!$A$2,ROW(),"") | I19: =IF(H19="","",INDIRECT("B"&ROW())) | J19: =IF(I19='onglet de saisie'!$B$2,INDIRECT("C"&ROW()),"") -> Bâtiments défectueux / inadaptés | K19: =IF(J19='onglet de saisie'!$C$2,INDIRECT("d"&ROW()),"") | L19: =IF(K19='onglet de saisie'!$D$2,ROW(),"") -> 19
A20: Administratif - Site Matisse | B20: Nuisances sonores / Bruits | C20: Accueil du public | D20: Configuration des lieux : atrium Public, adhérents dans l'atrium ; animations dans l'atrium (ex : papothèque) . Poste de chargée d'accueil a beaucoup d'administratif à assumer en plus Problème de concentration | E20: Stress Fatigue nerveuse / irritabilité / maux de tête | F20: Quand elles sont 2, possibilité pour celle qui a des travaux de se mettre en retrait | G20: . Mise en place d'affiches indiquant qu'il s'agit d'un lieu de travail . Intervention des animateurs pour renforcer la "tenue" du groupe | H20: =IF(A20='onglet de saisie'!$A$2,ROW(),"") | I20: =IF(H20="","",INDIRECT("B"&ROW())) | J20: =IF(I20='onglet de saisie'!$B$2,INDIRECT("C"&ROW()),"") -> Accueil du public | K20: =IF(J20='onglet de saisie'!$C$2,INDIRECT("d"&ROW()),"") | L20: =IF(K20='onglet de saisie'!$D$2,ROW(),"") -> 20
A21: Administratif - Site Matisse | B21: Liés aux appareils électriques | C21: maintenance du matériel électrique (volets, etc) | D21: Présence d'une multitude de câbles électriques ou informatiques Accéder à la manivelle des volets : risque de chute mais peut être réglé par la mise en place de volets électriques | E21: Chute | G21: Mise en place de câches électriques Réagencer le bureau Fermeture électrique des volets | H21: =IF(A21='onglet de saisie'!$A$2,ROW(),"") | I21: =IF(H21="","",INDIRECT("B"&ROW())) | J21: =IF(I21='onglet de saisie'!$B$2,INDIRECT("C"&ROW()),"") -> maintenance du matériel électrique (volets, etc) | K21: =IF(J21='onglet de saisie'!$C$2,INDIRECT("d"&ROW()),"") | L21: =IF(K21='onglet de saisie'!$D$2,ROW(),"") -> 21
A22: ADMINISTRATIF - TRANSVERSAL | B22: RPS | C22: Réception des commandes faites en direct | D22: Recherches des destinataires ; perte de tempsGestion des livreurs pas toujours conviviaux Non application d'une procédure mise en place (toute personne passant commande directe doit informer l'accueil pour qu'il n'y ait pas de recherche de destinataire) | E22: Stress, sentiment de manque de considération | F22: Mise en place d'une procédure (mais non appliquée) | G22: Opération "Vis ma vie" | H22: =IF(A22='onglet de saisie'!$A$2,ROW(),"") | I22: =IF(H22="","",INDIRECT("B"&ROW())) | J22: =IF(I22='onglet de saisie'!$B$2,INDIRECT("C"&ROW()),"") -> Réception des commandes faites en direct | K22: =IF(J22='onglet de saisie'!$C$2,INDIRECT("d"&ROW()),"") | L22: =IF(K22='onglet de saisie'!$D$2,ROW(),"") -> 22
A23: ADMINISTRATIF - TRANSVERSAL | B23: RPS | C23: Au poste de travail | D23: Accueil: Travail administratif à réaliser dans un espace ouvert, bruyant, peu propice à la concentration Décalage de perception entre animateurs et administratifs | E23: Stress, fatigue, sentiment de manque de considération | F23: Sensibilisation par affichage | G23: Casque personnel pour améliorer la qualité d'écoute téléphonique | H23: =IF(A23='onglet de saisie'!$A$2,ROW(),"") | I23: =IF(H23="","",INDIRECT("B"&ROW())) | J23: =IF(I23='onglet de saisie'!$B$2,INDIRECT("C"&ROW()),"") -> Au poste de travail | K23: =IF(J23='onglet de saisie'!$C$2,INDIRECT("d"&ROW()),"") | L23: =IF(K23='onglet de saisie'!$D$2,ROW(),"") -> 23
A24: ADMINISTRATIF - TRANSVERSAL | B24: RPS | C24: Accueil du public | D24: Public très difficile pour certains Sentiment de risques meme en dehors de l'Afsco | E24: Agressions physiques ou verbales Sentiment d'isolement | F24: . Mise en place de talkies . Formation sur gestion public difficile . Consigne du soutien des collègues . "Groupe de parole" en réunion d'équipe | G24: . Piqure de rappel en Formation . Faire une utilisation plus efficace des talkies Supervision | H24: =IF(A24='onglet de saisie'!$A$2,ROW(),"") | I24: =IF(H24="","",INDIRECT("B"&ROW())) | J24: =IF(I24='onglet de saisie'!$B$2,INDIRECT("C"&ROW()),"") -> Accueil du public | K24: =IF(J24='onglet de saisie'!$C$2,INDIRECT("d"&ROW()),"") | L24: =IF(K24='onglet de saisie'!$D$2,ROW(),"") -> 24
A25: ADMINISTRATIF - TRANSVERSAL | B25: RPS | C25: Transmission d'informations interne/externe | D25: Ne dispose pas de toutes les informations (présence des animateurs / des parents qui viennent chercher les enfants ...), malgré les procédures mises en place | E25: Sentiment de non reconnaissance | F25: Procédures en place (annonce par mail d'une période d'absence, laisser la liste des enfants sortis à l'accueil, avec le lieu..) | G25: Projet visant à amener la compréhension de la réalité du poste | H25: =IF(A25='onglet de saisie'!$A$2,ROW(),"") | I25: =IF(H25="","",INDIRECT("B"&ROW())) | J25: =IF(I25='onglet de saisie'!$B$2,INDIRECT("C"&ROW()),"") -> Transmission d'informations interne/externe | K25: =IF(J25='onglet de saisie'!$C$2,INDIRECT("d"&ROW()),"") | L25: =IF(K25='onglet de saisie'!$D$2,ROW(),"") -> 25
A26: Administratif Site LOTI | B26: RPS | C26: Gestion financière / constitution des dossiers / suivi et Relation aux financeurs | D26: Echéances administratives: pratiques internes ou demandes externes Certaines périodes trop chargées Environnement mouvant Temps contraint Pas d'embauche | E26: Stress, fatigue | G26: . Anticiper les demandes (les faire plus tôt) . Gestion des priorités et anticipation : échéances annuelles . Finaliser des dossiers : question de la conscience de l'incidence sur le travail de l'autre | H26: =IF(A26='onglet de saisie'!$A$2,ROW(),"") | I26: =IF(H26="","",INDIRECT("B"&ROW())) | J26: =IF(I26='onglet de saisie'!$B$2,INDIRECT("C"&ROW()),"") -> Gestion financière / constitution des dossiers / suivi et Relation aux financeurs | K26: =IF(J26='onglet de saisie'!$C$2,INDIRECT("d"&ROW()),"") | L26: =IF(K26='onglet de saisie'!$D$2,ROW(),"") -> 26
A27: Administratif Site LOTI | B27: RPS | C27: Accueil du public | D27: Public un peu difficile par rapport aux factures | E27: Agressions physiques ou verbales Sentiment d'isolement | F27: . Mise en place de talkies . Formation gestion public difficile . Soutien des collègues ."Groupe de parole" en runion d'équipe | G27: . Formation . Utilisation plus efficace des talkies . Supervision | H27: =IF(A27='onglet de saisie'!$A$2,ROW(),"") | I27: =IF(H27="","",INDIRECT("B"&ROW())) | J27: =IF(I27='onglet de saisie'!$B$2,INDIRECT("C"&ROW()),"") -> Accueil du public | K27: =IF(J27='onglet de saisie'!$C$2,INDIRECT("d"&ROW()),"") | L27: =IF(K27='onglet de saisie'!$D$2,ROW(),"") -> 27
A28: Administratif Site LOTI | B28: Liés aux déplacements | C28: Arrivées départs, déplacements entre les locaux (lieux de travail, réunions, etc) | D28: Trajets piétons quotidiens entre les 2 sites et la Poste pour les navettes courrier : mauvais temps, verglas, traverser les voies du tram, les rails | E28: Chute, choc, entorse | F28: . Centraliser (banettes) et optimiser les déplacements . Scan des documents | H28: =IF(A28='onglet de saisie'!$A$2,ROW(),"") | I28: =IF(H28="","",INDIRECT("B"&ROW())) | J28: =IF(I28='onglet de saisie'!$B$2,INDIRECT("C"&ROW()),"") -> Arrivées départs, déplacements entre les locaux (lieux de travail, réunions, etc) | K28: =IF(J28='onglet de saisie'!$C$2,INDIRECT("d"&ROW()),"") | L28: =IF(K28='onglet de saisie'!$D$2,ROW(),"") -> 28
A29: Administratif Site LOTI | B29: Liés aux déplacements | C29: Déplacement dans les locaux | D29: Coté porte-manteaux des enfants : présence régulière de vestes au sol (surtout en hiver) | E29: Chute | G29: . Ramasser les vestes . Vérifier les crochets . Gestes pédagogiques | H29: =IF(A29='onglet de saisie'!$A$2,ROW(),"") | I29: =IF(H29="","",INDIRECT("B"&ROW())) | J29: =IF(I29='onglet de saisie'!$B$2,INDIRECT("C"&ROW()),"") -> Déplacement dans les locaux | K29: =IF(J29='onglet de saisie'!$C$2,INDIRECT("d"&ROW()),"") | L29: =IF(K29='onglet de saisie'!$D$2,ROW(),"") -> 29
A30: Administratif Site LOTI | B30: Aménagement de l’espace | C30: Accès au matériel / archives | D30: Stockage en hauteur et tabouret (pied d'éléphant) pas assez haut : perte d'équilibre | E30: Chute | G30: . Déplacer lieu de stockage des enveloppes et des archives dans le local photocopieur (meuble sous utilisé) | H30: =IF(A30='onglet de saisie'!$A$2,ROW(),"") | I30: =IF(H30="","",INDIRECT("B"&ROW())) | J30: =IF(I30='onglet de saisie'!$B$2,INDIRECT("C"&ROW()),"") -> Accès au matériel / archives | K30: =IF(J30='onglet de saisie'!$C$2,INDIRECT("d"&ROW()),"") | L30: =IF(K30='onglet de saisie'!$D$2,ROW(),"") -> 30
A31: Administratif Site LOTI | B31: Aménagement de l’espace | C31: Installation informatique | D31: Barres des switch et arrière des serveurs inaccessibles Cablages partout Il faut être en équilibre pour accéder à la relance du serveur .Risque de rester seul suite à une chute | E31: Chute, choc, entorse | F31: Seules 2 personnes sont habilitées pour aller dans ce local | G31: . Rangement du local . Mettre les switchs à niveau accessible . Installer les serveurs différemment . Prévenir quelqu'un lorsque l'on va dans le local | H31: =IF(A31='onglet de saisie'!$A$2,ROW(),"") | I31: =IF(H31="","",INDIRECT("B"&ROW())) | J31: =IF(I31='onglet de saisie'!$B$2,INDIRECT("C"&ROW()),"") -> Installation informatique | K31: =IF(J31='onglet de saisie'!$C$2,INDIRECT("d"&ROW()),"") | L31: =IF(K31='onglet de saisie'!$D$2,ROW(),"") -> 31
A32: Administratif Site LOTI | B32: Aménagement de l’espace | C32: Bâtiments défectueux / inadaptés | D32: Porte opaque, lourde, (coupe feu): Risque choc violent si une personne entre énergiquement au même moment | E32: Chocs, chutes, coupures | G32: . Intégrer cette problématique lors du réaménagement de l'accueil (en projet) | H32: =IF(A32='onglet de saisie'!$A$2,ROW(),"") | I32: =IF(H32="","",INDIRECT("B"&ROW())) | J32: =IF(I32='onglet de saisie'!$B$2,INDIRECT("C"&ROW()),"") -> Bâtiments défectueux / inadaptés | K32: =IF(J32='onglet de saisie'!$C$2,INDIRECT("d"&ROW()),"") | L32: =IF(K32='onglet de saisie'!$D$2,ROW(),"") -> 32
A33: Administratif Site LOTI | B33: Aménagement de l’espace | C33: Problèmes d'odeurs | D33: Emanation occasionnelle d'odeurs nauséabondes (remontées d'égouts par les toilettes 6-11 ans) | E33: Indisposition | F33: Utilisation d'aérosols | G33: Réflexion à d'éventuelles solutions avec le service logistique | H33: =IF(A33='onglet de saisie'!$A$2,ROW(),"") | I33: =IF(H33="","",INDIRECT("B"&ROW())) | J33: =IF(I33='onglet de saisie'!$B$2,INDIRECT("C"&ROW()),"") -> Problèmes d'odeurs | K33: =IF(J33='onglet de saisie'!$C$2,INDIRECT("d"&ROW()),"") | L33: =IF(K33='onglet de saisie'!$D$2,ROW(),"") -> 33
A34: Administratif Site LOTI | B34: Nuisances sonores / Bruits | C34: Pendant les repas | D34: Escalier : caisse de résonnance Groupe des 6/11 en stand by le temps de la préparation du gouter Escalier principal emprunté par les 6/11 pour le gouter et le soir Proximité des bureaux avec l'escalier et/ou la salle de gouter | E34: Stress, fatigue | G34: . Sensibilisation sur le fait qu'il s'agit d'un lieu de travail . Intervention des animateurs pour renforcer la "tenue" du groupe | H34: =IF(A34='onglet de saisie'!$A$2,ROW(),"") | I34: =IF(H34="","",INDIRECT("B"&ROW())) | J34: =IF(I34='onglet de saisie'!$B$2,INDIRECT("C"&ROW()),"") -> Pendant les repas | K34: =IF(J34='onglet de saisie'!$C$2,INDIRECT("d"&ROW()),"") | L34: =IF(K34='onglet de saisie'!$D$2,ROW(),"") -> 34
A35: Administratif Site LOTI | B35: Aménagement de l’espace | C35: Gestion de la caisse | D35: Manipulation de la caisse : déplacements entre le bureau et le retour du bureau pour la rendre inaccessible Caisse Lourde | E35: Douleurs au poignet et au bras | G35: . Caisse enregistreuse ou mise en place d'une tablette amovible sur laquelle serait installée la caisse ou réflexion sur les habitudes de travail (faire une rotation plutôt que poser la caisse ?) | H35: =IF(A35='onglet de saisie'!$A$2,ROW(),"") | I35: =IF(H35="","",INDIRECT("B"&ROW())) | J35: =IF(I35='onglet de saisie'!$B$2,INDIRECT("C"&ROW()),"") -> Gestion de la caisse | K35: =IF(J35='onglet de saisie'!$C$2,INDIRECT("d"&ROW()),"") | L35: =IF(K35='onglet de saisie'!$D$2,ROW(),"") -> 35
A36: Administratif Site LOTI | B36: Manutention | C36: Mise en place / rangement / nettoyage | D36: Stockage en hauteur et tabouret (pied d'éléphant) pas assez haut : perte d'équilibre | E36: Chutes d'objets | F36: Désormais accessible car stockées derrière une armoire | H36: =IF(A36='onglet de saisie'!$A$2,ROW(),"") | I36: =IF(H36="","",INDIRECT("B"&ROW())) | J36: =IF(I36='onglet de saisie'!$B$2,INDIRECT("C"&ROW()),"") -> Mise en place / rangement / nettoyage | K36: =IF(J36='onglet de saisie'!$C$2,INDIRECT("d"&ROW()),"") | L36: =IF(K36='onglet de saisie'!$D$2,ROW(),"") -> 36
A37: Administratif Site LOTI | B37: Problèmes éclairage | C37: Travail sur les écrans | D37: Eblouissements | E37: Fatigue oculaire | G37: Pose de stores (récent) | H37: =IF(A37='onglet de saisie'!$A$2,ROW(),"") | I37: =IF(H37="","",INDIRECT("B"&ROW())) | J37: =IF(I37='onglet de saisie'!$B$2,INDIRECT("C"&ROW()),"") -> Travail sur les écrans | K37: =IF(J37='onglet de saisie'!$C$2,INDIRECT("d"&ROW()),"") | L37: =IF(K37='onglet de saisie'!$D$2,ROW(),"") -> 37
A38: Administratif Site LOTI | B38: Liés aux appareils électriques | C38: maintenance du matériel informatique | D38: Manipulation imprimante/photocopieur : Risque de brûlures | E38: Brûlures | F38: Achat d'un phocopieur plus récent | H38: =IF(A38='onglet de saisie'!$A$2,ROW(),"") | I38: =IF(H38="","",INDIRECT("B"&ROW())) | J38: =IF(I38='onglet de saisie'!$B$2,INDIRECT("C"&ROW()),"") -> maintenance du matériel informatique | K38: =IF(J38='onglet de saisie'!$C$2,INDIRECT("d"&ROW()),"") | L38: =IF(K38='onglet de saisie'!$D$2,ROW(),"") -> 38
A39: Administratif Site LOTI | B39: Aménagement de l’espace | C39: Accès au matériel / archives | D39: Présence de câbles au sol Lourdeur de la porte d'accès au local Annexe au bureau : archives, local, porte très lourde à ouvrir | E39: Chute, choc, entorse | G39: . Modifier le câblage . Régler le groom de la porte | H39: =IF(A39='onglet de saisie'!$A$2,ROW(),"") | I39: =IF(H39="","",INDIRECT("B"&ROW())) | J39: =IF(I39='onglet de saisie'!$B$2,INDIRECT("C"&ROW()),"") -> Accès au matériel / archives | K39: =IF(J39='onglet de saisie'!$C$2,INDIRECT("d"&ROW()),"") | L39: =IF(K39='onglet de saisie'!$D$2,ROW(),"") -> 39
A40: ADULTES | B40: Manutention | C40: Préparation de la salle pour les animations du centre social (loto, fête de quartiers..) | D40: Activités collectives / de convivialité: Prendre la vaisselle placée en hauteur dans les placards Allumage du video projecteur au plafond (monter sur une table) Utilisation d'un escabeau | E40: Entorse, hématomes, léger traumatisme crânien, coupure, chute, chocs | F40: . Escabeau aux normes | G40: En fonction du type de manutention : consigne de travail d'être à 2 | H40: =IF(A40='onglet de saisie'!$A$2,ROW(),"") | I40: =IF(H40="","",INDIRECT("B"&ROW())) | J40: =IF(I40='onglet de saisie'!$B$2,INDIRECT("C"&ROW()),"") -> Préparation de la salle pour les animations du centre social (loto, fête de quartiers..) | K40: =IF(J40='onglet de saisie'!$C$2,INDIRECT("d"&ROW()),"") | L40: =IF(K40='onglet de saisie'!$D$2,ROW(),"") -> 40
...

Sheet onglet de saisie
A1: UNITE DE TRAVAIL | B1: FAMILLE DE RISQUE | C1: Description des situations de travail | D1: Modalité d’exposition aux risques | E1: Description des risques identifiés | F1: Actuellement mis en œuvre | G1: Pistes d’action* | H1: Priorisation*
E2: =HYPERLINK("#a2:d2","RAZ") -> RAZ | I2: =IF(ISERROR(SMALL(bdd!$H$1:$H$600,ROW()-2)>bdd!$H$1),"",SMALL(bdd!$H$1:$H$600,ROW()-2))
A3: =IF(INDIRECT(CONCATENATE("bdd!A",$I3))="","",INDIRECT(CONCATENATE("bdd!A",$I3))) -> ACCUEIL | B3: =IF(INDIRECT(CONCATENATE("bdd!B",$I3))="","",INDIRECT(CONCATENATE("bdd!B",$I3))) -> Aménagement de l’espace | C3: =IF(INDIRECT(CONCATENATE("bdd!C",$I3))="","",INDIRECT(CONCATENATE("bdd!C",$I3))) -> Installation informatique | D3: =IF(INDIRECT(CONCATENATE("bdd!D",$I3))="","",INDIRECT(CONCATENATE("bdd!D",$I3))) -> Photocopieur dans la pièce : pollution passages nombreux (déconcentration) | E3: =IF(INDIRECT(CONCATENATE("bdd!E",$I3))="","",INDIRECT(CONCATENATE("bdd!E",$I3))) -> Problèmes respiratoires | F3: =IF(INDIRECT(CONCATENATE("bdd!F",$I3))="","",INDIRECT(CONCATENATE("bdd!F",$I3))) -> Nouveau local pour le photocopieur / espace RH / désengorger l’accueil | G3: =IF(INDIRECT(CONCATENATE("bdd!G",$I3))="","",INDIRECT(CONCATENATE("bdd!G",$I3))) | I3: =IF(ISERROR(SMALL(bdd!$L$1:$L$600,ROW()-2)>bdd!$H$1),"",SMALL(bdd!$L$1:$L$600,ROW()-2)) -> 2
D4: =HYPERLINK("#bdd!D"&$I3,"pour édition") -> pour édition | E4: =HYPERLINK("#bdd!E"&$I3,"pour édition") -> pour édition | F4: =HYPERLINK("#bdd!F"&$I3,"pour édition") -> pour édition | G4: =HYPERLINK("#bdd!G"&$I3,"pour édition") -> pour édition | I4: =IF(ISERROR(SMALL(bdd!$L$1:$L$600,ROW()-2)>bdd!$H$1),"",SMALL(bdd!$L$1:$L$600,ROW()-2)) -> 3
I5: =IF(ISERROR(SMALL(bdd!$L$1:$L$600,ROW()-2)>bdd!$H$1),"",SMALL(bdd!$L$1:$L$600,ROW()-2)) -> 4
I6: =IF(ISERROR(SMALL(bdd!$L$1:$L$600,ROW()-2)>bdd!$H$1),"",SMALL(bdd!$L$1:$L$600,ROW()-2)) -> 5
I7: =IF(ISERROR(SMALL(bdd!$L$1:$L$600,ROW()-2)>bdd!$H$1),"",SMALL(bdd!$L$1:$L$600,ROW()-2)) -> 6
I8: =IF(ISERROR(SMALL(bdd!$L$1:$L$600,ROW()-2)>bdd!$H$1),"",SMALL(bdd!$L$1:$L$600,ROW()-2)) -> 7
I9: =IF(ISERROR(SMALL(bdd!$L$1:$L$600,ROW()-2)>bdd!$H$1),"",SMALL(bdd!$L$1:$L$600,ROW()-2)) -> 8
I10: =IF(ISERROR(SMALL(bdd!$L$1:$L$600,ROW()-2)>bdd!$H$1),"",SMALL(bdd!$L$1:$L$600,ROW()-2)) -> 9
I11: =IF(ISERROR(SMALL(bdd!$L$1:$L$600,ROW()-2)>bdd!$H$1),"",SMALL(bdd!$L$1:$L$600,ROW()-2)) -> 10
I12: =IF(ISERROR(SMALL(bdd!$H$1:$H$600,ROW()-1)>bdd!$H$1),"",SMALL(bdd!$H$1:$H$600,ROW()-1)) -> 560
I13: =IF(ISERROR(SMALL(bdd!$H$1:$H$600,ROW()-1)>bdd!$H$1),"",SMALL(bdd!$H$1:$H$600,ROW()-1)) -> 561
I14: =IF(ISERROR(SMALL(bdd!$H$1:$H$600,ROW()-1)>bdd!$H$1),"",SMALL(bdd!$H$1:$H$600,ROW()-1)) -> 562
I15: =IF(ISERROR(SMALL(bdd!$H$1:$H$600,ROW()-1)>bdd!$H$1),"",SMALL(bdd!$H$1:$H$600,ROW()-1)) -> 563
I16: =IF(ISERROR(SMALL(bdd!$H$1:$H$600,ROW()-1)>bdd!$H$1),"",SMALL(bdd!$H$1:$H$600,ROW()-1)) -> 564
I17: =IF(ISERROR(SMALL(bdd!$H$1:$H$600,ROW()-1)>bdd!$H$1),"",SMALL(bdd!$H$1:$H$600,ROW()-1)) -> 565
I18: =IF(ISERROR(SMALL(bdd!$H$1:$H$600,ROW()-1)>bdd!$H$1),"",SMALL(bdd!$H$1:$H$600,ROW()-1)) -> 566
I19: =IF(ISERROR(SMALL(bdd!$H$1:$H$600,ROW()-1)>bdd!$H$1),"",SMALL(bdd!$H$1:$H$600,ROW()-1)) -> 567
I20: =IF(ISERROR(SMALL(bdd!$H$1:$H$600,ROW()-1)>bdd!$H$1),"",SMALL(bdd!$H$1:$H$600,ROW()-1)) -> 568
I21: =IF(ISERROR(SMALL(bdd!$H$1:$H$600,ROW()-1)>bdd!$H$1),"",SMALL(bdd!$H$1:$H$600,ROW()-1)) -> 569
I22: =IF(ISERROR(SMALL(bdd!$H$1:$H$600,ROW()-1)>bdd!$H$1),"",SMALL(bdd!$H$1:$H$600,ROW()-1)) -> 570
I23: =IF(ISERROR(SMALL(bdd!$H$1:$H$600,ROW()-1)>bdd!$H$1),"",SMALL(bdd!$H$1:$H$600,ROW()-1)) -> 571
