Workbook

Sheet Reporting
A2: BUDGET ET REALISE 2018 2019
B5: Codes comptables | C5: Budget 2018-2019 | D5: Réalisé au 30 novembre 2018
A7: CHARGES D'EXPLOITATION
A9: Charges externes
A10: Energie | B10: 606100, 606101 | C10: 4500 | D10: =GETPIVOTDATA("SOLDE",'TCD compta'!$A$3,"CODE COMPTABLE",606100,"LIBELLE CODE COMPTABLE","ELECTRICITE")+GETPIVOTDATA("SOLDE",'TCD compta'!$A$3,"CODE COMPTABLE",606101,"LIBELLE CODE COMPTABLE","GAZ") -> 2123.63 | E10: =SUMIF(F4!C$1:C$74,A10,F4!B$1:B$74) -> 2123.63
A11: Fournitures administratives; petit matériel | B11: 606300, 606400, 606500 | C11: 5500 | D11: =GETPIVOTDATA("SOLDE",'TCD compta'!$A$3,"CODE COMPTABLE",606300,"LIBELLE CODE COMPTABLE","Fournitures d’entretien et de ")+GETPIVOTDATA("SOLDE",'TCD compta'!$A$3,"CODE COMPTABLE",606400,"LIBELLE CODE COMPTABLE","FOURNITURES ADMINISTRATIVES")+GETPIVOTDATA("SOLDE",'TCD compta'!$A$3,"CODE COMPTABLE",606500,"LIBELLE CODE COMPTABLE","FOURNITURES, PETIT MATERIEL") -> 2254.66 | E11: =SUMIF(F4!C$1:C$74,A11,F4!B$1:B$74) -> 2254.66
A12: Prestations enseignement | B12: 604820 | C12: 24400 | D12: =GETPIVOTDATA("SOLDE",[1]tcd3011!$A$3,"CODE COMPTABLE",604820,"LIBELLE CODE COMPTABLE","PRESTATIONS DE SERVICE ENSEIGN") -> #REF! | E12: =SUMIF(F4!C$1:C$74,A12,F4!B$1:B$74) -> 4749
A13: Loyers immobiliers, locations | B13: 612200, 613201, 613202, 613203, 613204, 613205, 613207, 613500, 614001, 614002, 614003, 614005, 614006, | C13: 74000 | D13: =GETPIVOTDATA("SOLDE",'TCD compta'!$A$3,"CODE COMPTABLE",612200,"LIBELLE CODE COMPTABLE","REDEVANCE CREDIT BAIL MOBILIER")+GETPIVOTDATA("SOLDE",'TCD compta'!$A$3,"CODE COMPTABLE",613201,"LIBELLE CODE COMPTABLE","LOCATION SALLE DE COURS")+GETPIVOTDATA("SOLDE",'TCD compta'!$A$3,"CODE COMPTABLE",613202,"LIBELLE CODE COMPTABLE","LOYER STE ISAURE A 300477")+GETPIVOTDATA("SOLDE",'TCD compta'!$A$3,"CODE COMPTABLE",613203,"LIBELLE CODE COMPTABLE","LOYER DUHESME&EX LOGE GARDIENN")+GETPIVOTDATA("SOLDE",'TCD compta'!$A$3,"CODE COMPTABLE",613204,"LIBELLE CODE COMPTABLE","LOYER STE ISAURE C 403085")+GETPIVOTDATA("SOLDE",'TCD compta'!$A$3,"CODE COMPTABLE",613205,"LIBELLE CODE COMPTABLE","LOYER RUE STE ISAURE 1ER D COM")+GETPIVOTDATA("SOLDE",'TCD compta'!$A$3,"CODE COMPTABLE",613207,"LIBELLE CODE COMPTABLE","LOYER LOCAUX PHARMACIE COMPTE ")+GETPIVOTDATA("SOLDE",'TCD compta'!$A$3,"CODE COMPTABLE",613500,"LIBELLE CODE COMPTABLE","LOCATIONS MOBILIERES")+GETPIVOTDATA("SOLDE",'TCD compta'!$A$3,"CODE COMPTABLE",614001,"LIBELLE CODE COMPTABLE","CHARGES STE ISAURE A 300477")+GETPIVOTDATA("SOLDE",'TCD compta'!$A$3,"CODE COMPTABLE",614002,"LIBELLE CODE COMPTABLE","CHARGES DUHESME&EX LOGE GARDIE")+GETPIVOTDATA("SOLDE",'TCD compta'!$A$3,"CODE COMPTABLE",614003,"LIBELLE CODE COMPTABLE","CHARGES STE ISAURE C 403085")+GETPIVOTDATA("SOLDE",'TCD compta'!$A$3,"CODE COMPTABLE",614005,"LIBELLE CODE COMPTABLE","CHARGES STE ISAURE 1ERD COMPTE")+GETPIVOTDATA("SOLDE",'TCD compta'!$A$3,"CODE COMPTABLE",614006,"LIBELLE CODE COMPTABLE","CHARGES LOCAUX EX PHARMACIE CP") -> 19382.17 | E13: =SUMIF(F4!C$1:C$74,A13,F4!B$1:B$74) -> 17389.55
A14: Entretien et réparations | B14: 615200, 615500 | C14: 5370 | E14: =SUMIF(F4!C$1:C$74,A14,F4!B$1:B$74) -> 1394.95
A15: Maintenance informatique | B15: 615600 | C15: 75000 | E15: =SUMIF(F4!C$1:C$74,A15,F4!B$1:B$74) -> 8658.86
A16: Primes d'assurance | B16: 616001, 616003 | C16: 900 | E16: =SUMIF(F4!C$1:C$74,A16,F4!B$1:B$74) -> 3625.05
A17: Documentation | B17: 618100, 618300 | C17: 4900 | E17: =SUMIF(F4!C$1:C$74,A17,F4!B$1:B$74) -> 70.69
A18: Etudes et recherches | C18: 0 | E18: =SUMIF(F4!C$1:C$74,A18,F4!B$1:B$74) -> 0
A19: Honoraires et frais d'actes | B19: 622600, 622610, 622620, 622700 | C19: 60500 | E19: =SUMIF(F4!C$1:C$74,A19,F4!B$1:B$74) -> 29613.76
A20: Inscription colloque | B20: 618500 | C20: 1000 | E20: =SUMIF(F4!C$1:C$74,A20,F4!B$1:B$74) -> 109.16
A21: Organisation salon | B21: 623302 | C21: 150000 | E21: =SUMIF(F4!C$1:C$74,A21,F4!B$1:B$74) -> 3990
A22: Référentiel qualité | C22: 0 | E22: =SUMIF(F4!C$1:C$74,A22,F4!B$1:B$74) -> 0
A23: Personnel extérieur/droits d'auteurs | C23: 0 | E23: =SUMIF(F4!C$1:C$74,A23,F4!B$1:B$74) -> 0
A24: Annonces et insertions | B24: 623100 | C24: 24000 | E24: =SUMIF(F4!C$1:C$74,A24,F4!B$1:B$74) -> 8793.04
A25: Frais de campagne des dons | B25: 623202, 623203, 623205, 623206 | C25: 147500 | E25: =SUMIF(F4!C$1:C$74,A25,F4!B$1:B$74) -> 18891.28
A26: Frais de communication | B26: 622630, 623601, 623602 | C26: 93500 | E26: =SUMIF(F4!C$1:C$74,A26,F4!B$1:B$74) -> 0
A27: Missions, réceptions, déplacements | B27: 623400, 624100, 625100, 625101, 625102, 625103, 625105, 625107, 625108, 625600 | C27: 42500 | E27: =SUMIF(F4!C$1:C$74,A27,F4!B$1:B$74) -> 6274.96
A28: Frais postaux,internet et téléphone | B28: 626100, 626300, 626500 | C28: 17000 | E28: =SUMIF(F4!C$1:C$74,A28,F4!B$1:B$74) -> 3209.07
A29: Services bancaires | B29: 627100, 627800, 627802 | C29: 8000 | E29: =SUMIF(F4!C$1:C$74,A29,F4!B$1:B$74) -> 1902.79
A30: Impôts, taxes et versements assimilés | C30: 2000 | E30: =SUMIF(F4!C$1:C$74,A30,F4!B$1:B$74) -> 0
A31: Cotisations-réseaux influence | B31: 628100 | C31: 3300 | E31: =SUMIF(F4!C$1:C$74,A31,F4!B$1:B$74) -> 0
A32: Total charges externes | C32: =SUM(C10:C31) -> 743870 | D32: =SUM(D10:D31) -> #REF! | E32: =SUM(E10:E31) -> 113050.45
A35: Coût du personnel
A36: Taxes sur les salaires et part. formation | B36: 631100, 633300, 648000 | E36: =SUMIF(F4!C$1:C$74,A36,F4!B$1:B$74) -> 13697.07
A37: Rémunérations du personnel | B37: 641100, 641200, 641400, 641430, 641440 | E37: =SUMIF(F4!C$1:C$74,A37,F4!B$1:B$74) -> 130373.48
A38: Charges sociales | B38: 645100, 645200, 645300, 645305, 645320, 645400, 645810, 645820, 647000 (ou647410), 647500, 648000 | E38: =SUMIF(F4!C$1:C$74,A38,F4!B$1:B$74) -> 56512.38
A39: Total coût du personnel | C39: =SUM(C36:C38) -> 0 | D39: =SUM(D36:D38) -> 0 | E39: =SUM(E36:E38) -> 200582.93
A42: Manquants
A43: LIVRES POUR CESSION FPE | B43: 607400 | E43: =SUMIF(F4!C$1:C$74,A43,F4!B$1:B$74) -> 104.5
A44: CHARGES STE ISAURE 1ERD COMPTE | B44: 614005 | E44: =SUMIF(F4!C$1:C$74,A44,F4!B$1:B$74) -> 1392.62
A45: CHARGES LOCAUX EX PHARMACIE CP | B45: 614006 | E45: =SUMIF(F4!C$1:C$74,A45,F4!B$1:B$74) -> 600
A46: SUBVENTIONS FPE A FA | B46: 657630 | E46: =SUMIF(F4!C$1:C$74,A46,F4!B$1:B$74) -> 25000
A47: Charges div.de gestion courant | B47: 658000 | E47: =SUMIF(F4!C$1:C$74,A47,F4!B$1:B$74) -> 0.79
E48: =SUM(E43:E47) -> 27097.91

Sheet Extraction logiciel compta
A1: DATE | B1: JOURNAL | C1: CODE COMPTABLE | D1: LIBELLE ECRITURE | E1: DEBIT | F1: CREDIT | G1: SOLDE | H1: LIBELLE CODE COMPTABLE
A2: 43349 | B2: HA2 | C2: 604820 | D2: R LE ROUX-MION 2EME SEANCE DU 16/12/2017 | E2: 150 | F2: 0 | G2: =E2-F2 -> 150 | H2: PRESTATIONS DE SERVICE ENSEIGN
A3: 43349 | B3: HA2 | C3: 604820 | D3: R LE ROUX-MION 3EME SEANCE DU 03/02/2018 | E3: 150 | F3: 0 | G3: =E3-F3 -> 150 | H3: PRESTATIONS DE SERVICE ENSEIGN
A4: 43349 | B4: HA2 | C4: 604820 | D4: R LE ROUX-MION 4EME SEANCE DU 24/03/2018 | E4: 150 | F4: 0 | G4: =E4-F4 -> 150 | H4: PRESTATIONS DE SERVICE ENSEIGN
A5: 43349 | B5: HA2 | C5: 604820 | D5: R LE ROUX-MION 5EME SEANCE DU 05/05/2018 | E5: 150 | F5: 0 | G5: =E5-F5 -> 150 | H5: PRESTATIONS DE SERVICE ENSEIGN
A6: 43358 | B6: HA2 | C6: 604820 | D6: TUTORAT ET ENTRETIENS C DESOMBES ET B SOREL | E6: 160 | F6: 0 | G6: =E6-F6 -> 160 | H6: PRESTATIONS DE SERVICE ENSEIGN
A7: 43372 | B7: HA2 | C7: 604820 | D7: PRESENTATION PEDAGOGIE MONTESSORI TDJM | E7: 300 | F7: 0 | G7: =E7-F7 -> 300 | H7: PRESTATIONS DE SERVICE ENSEIGN
A8: 43369 | B8: HA2 | C8: 604820 | D8: PREPARER STRATEGIQUEMENT SON ANNEE 24/09 L BOURDIN | E8: 550 | F8: 0 | G8: =E8-F8 -> 550 | H8: PRESTATIONS DE SERVICE ENSEIGN
A9: 43402 | B9: HA2 | C9: 604820 | D9: PRESTATION DU 24/10 L'ART ORATOIRE | E9: 930 | F9: 0 | G9: =E9-F9 -> 930 | H9: PRESTATIONS DE SERVICE ENSEIGN
A10: 43402 | B10: HA2 | C10: 604820 | D10: INTERVENTION 18/10 | E10: 600 | F10: 0 | G10: =E10-F10 -> 600 | H10: PRESTATIONS DE SERVICE ENSEIGN
A11: 43392 | B11: HA2 | C11: 604820 | D11: ATELIER ACADEMIE DU PROF. V. SUBIAS 19/10 | E11: 500 | F11: 0 | G11: =E11-F11 -> 500 | H11: PRESTATIONS DE SERVICE ENSEIGN
A12: 43397 | B12: HA2 | C12: 604820 | D12: INTERVENTION 22 ET 23 OCTOBRE WEI | E12: 574 | F12: 0 | G12: =E12-F12 -> 574 | H12: PRESTATIONS DE SERVICE ENSEIGN
A13: 43419 | B13: HA2 | C13: 604820 | D13: INTERVENTION MY PIERRE 10, 11 ET 12 NOVEMBRE | E13: 375 | F13: 0 | G13: =E13-F13 -> 375 | H13: PRESTATIONS DE SERVICE ENSEIGN
... A701: 43425 | B701: OD | C701: 658000 | D701: ECART S/PREL MUTUELLE TR3 2018 | E701: 0 | F701: 0.13 | G701: =E701-F701 -> -0.13 | H701: Charges div.de gestion courant

Sheet TCD compta
A3: CODE COMPTABLE | B3: LIBELLE CODE COMPTABLE | C3: Somme - SOLDE
A4: 604820 | C4: 4749
B5: PRESTATIONS DE SERVICE ENSEIGN | C5: 4749
A6: 606100 | C6: 1989.16
B7: ELECTRICITE | C7: 1989.16
A8: 606101 | C8: 134.47
B9: GAZ | C9: 134.47
A10: 606300 | C10: 915.4
B11: Fournitures d’entretien et de | C11: 915.4
A12: 606400 | C12: 1332.66
B13: FOURNITURES ADMINISTRATIVES | C13: 1332.66
A14: 606500 | C14: 6.6
B15: FOURNITURES, PETIT MATERIEL | C15: 6.6
A16: 607400 | C16: 1833.33
B17: LIVRES POUR CESSION FPE | C17: 1833.33
A18: 612200 | C18: 104.5
B19: REDEVANCE CREDIT BAIL MOBILIER | C19: 104.5
A20: 613201 | C20: 2455
B21: LOCATION SALLE DE COURS | C21: 2455
A22: 613202 | C22: 1024.77
B23: LOYER STE ISAURE A 300477 | C23: 1024.77
A24: 613203 | C24: 2174.61
B25: LOYER DUHESME&EX LOGE GARDIENN | C25: 2174.61
A26: 613204 | C26: 948.78
B27: LOYER STE ISAURE C 403085 | C27: 948.78
A28: 613205 | C28: 2515.24
B29: LOYER RUE STE ISAURE 1ER D COM | C29: 2515.24
A30: 613207 | C30: 7666.65
B31: LOYER LOCAUX PHARMACIE COMPTE | C31: 7666.65
A32: 613500 | C32: 80
B33: LOCATIONS MOBILIERES | C33: 80
A34: 614001 | C34: 90
B35: CHARGES STE ISAURE A 300477 | C35: 90
A36: 614002 | C36: 240
B37: CHARGES DUHESME&EX LOGE GARDIE | C37: 240
A38: 614003 | C38: 90
B39: CHARGES STE ISAURE C 403085 | C39: 90
A40: 614005 | C40: 1392.62
B41: CHARGES STE ISAURE 1ERD COMPTE | C41: 1392.62
A42: 614006 | C42: 600
...

Sheet F4
A1: 604820 | B1: =SUMIF(KodKompt,A1,Sold) -> 4749 | C1: Prestations enseignement | E1: Taxes sur les salaires et part. formation | F1: 631100 | G1: 633300 | H1: 648000
A2: 606100 | B2: =SUMIF(KodKompt,A2,Sold) -> 1989.16 | C2: Energie | E2: Rémunérations du personnel | F2: 641100 | G2: 641200 | H2: 641400 | I2: 641430 | J2: 641440
A3: 606101 | B3: =SUMIF(KodKompt,A3,Sold) -> 134.47 | C3: Energie | E3: Charges sociales | F3: 645100 | G3: 645200 | H3: 645300 | I3: 645305 | J3: 645320 | K3: 645400 | L3: 645810 | M3: 645820 | N3: 647000 | O3: 647410 | P3: 647500 | Q3: 648000
A4: 606300 | B4: =SUMIF(KodKompt,A4,Sold) -> 915.4 | C4: Fournitures administratives; petit matériel | E4: Energie | F4: 606100 | G4: 606101
A5: 606400 | B5: =SUMIF(KodKompt,A5,Sold) -> 1332.66 | C5: Fournitures administratives; petit matériel | E5: Fournitures administratives; petit matériel | F5: 606300 | G5: 606400 | H5: 606500
A6: 606500 | B6: =SUMIF(KodKompt,A6,Sold) -> 6.6 | C6: Fournitures administratives; petit matériel | E6: Prestations enseignement | F6: 604820
A7: 607400 | B7: =SUMIF(KodKompt,A8,Sold) -> 104.5 | C7: LIVRES POUR CESSION FPE | E7: Loyers immobiliers, locations | F7: 612200 | G7: 613201 | H7: 613202 | I7: 613203 | J7: 613204 | K7: 613205 | L7: 613207 | M7: 613500 | N7: 614001 | O7: 614002 | P7: 614003 | Q7: 614005 | R7: 614006
A8: 612200 | B8: =SUMIF(KodKompt,A8,Sold) -> 104.5 | C8: Loyers immobiliers, locations | E8: Entretien et réparations | F8: 615200 | G8: 615500
A9: 613201 | B9: =SUMIF(KodKompt,A9,Sold) -> 2455 | C9: Loyers immobiliers, locations | E9: Maintenance informatique | F9: 615600
A10: 613202 | B10: =SUMIF(KodKompt,A10,Sold) -> 1024.77 | C10: Loyers immobiliers, locations | E10: Primes d'assurance | F10: 616001 | G10: 616003
A11: 613203 | B11: =SUMIF(KodKompt,A11,Sold) -> 2174.61 | C11: Loyers immobiliers, locations | E11: Documentation | F11: 618100 | G11: 618300
A12: 613204 | B12: =SUMIF(KodKompt,A12,Sold) -> 948.78 | C12: Loyers immobiliers, locations | E12: Etudes et recherches
A13: 613205 | B13: =SUMIF(KodKompt,A13,Sold) -> 2515.24 | C13: Loyers immobiliers, locations | E13: Honoraires et frais d'actes | F13: 622600 | G13: 622610 | H13: 622620 | I13: 622700
A14: 613207 | B14: =SUMIF(KodKompt,A14,Sold) -> 7666.65 | C14: Loyers immobiliers, locations | E14: Inscription colloque | F14: 618500
A15: 613500 | B15: =SUMIF(KodKompt,A15,Sold) -> 80 | C15: Loyers immobiliers, locations | E15: Organisation salon | F15: 623302
A16: 614001 | B16: =SUMIF(KodKompt,A16,Sold) -> 90 | C16: Loyers immobiliers, locations | E16: Référentiel qualité
A17: 614002 | B17: =SUMIF(KodKompt,A17,Sold) -> 240 | C17: Loyers immobiliers, locations | E17: Personnel extérieur/droits d'auteurs
A18: 614003 | B18: =SUMIF(KodKompt,A18,Sold) -> 90 | C18: Loyers immobiliers, locations | E18: Annonces et insertions | F18: 623100
A19: 614005 | B19: =SUMIF(KodKompt,A19,Sold) -> 1392.62 | C19: CHARGES STE ISAURE 1ERD COMPTE | E19: Frais de campagne des dons | F19: 623202 | G19: 623203 | H19: 623205 | I19: 623206
A20: 614006 | B20: =SUMIF(KodKompt,A20,Sold) -> 600 | C20: CHARGES LOCAUX EX PHARMACIE CP | E20: Frais de communication | F20: 622630 | G20: 623601 | H20: 623602
A21: 615200 | B21: =SUMIF(KodKompt,A21,Sold) -> 1312.58 | C21: Entretien et réparations | E21: Missions, réceptions, déplacements | F21: 623400 | G21: 624100 | H21: 625100 | I21: 625101 | J21: 625102 | K21: 625103 | L21: 625105 | M21: 625107 | N21: 625108 | O21: 625600
A22: 615500 | B22: =SUMIF(KodKompt,A22,Sold) -> 82.37 | C22: Entretien et réparations | E22: Frais postaux,internet et téléphone | F22: 626100 | G22: 626300 | H22: 626500
A23: 615600 | B23: =SUMIF(KodKompt,A23,Sold) -> 8658.86 | C23: Maintenance informatique | E23: Services bancaires | F23: 627100 | G23: 627800 | H23: 627802
A24: 616001 | B24: =SUMIF(KodKompt,A24,Sold) -> 3625.05 | C24: Primes d'assurance | E24: Impôts, taxes et versements assimilés
A25: 618100 | B25: =SUMIF(KodKompt,A25,Sold) -> 34.7 | C25: Documentation | E25: Cotisations-réseaux influence | F25: 628100
A26: 618300 | B26: =SUMIF(KodKompt,A26,Sold) -> 35.99 | C26: Documentation
A27: 618500 | B27: =SUMIF(KodKompt,A27,Sold) -> 109.16 | C27: Inscription colloque
A28: 622600 | B28: =SUMIF(KodKompt,A28,Sold) -> 11550 | C28: Honoraires et frais d'actes
A29: 622610 | B29: =SUMIF(KodKompt,A29,Sold) -> 360 | C29: Honoraires et frais d'actes
A30: 622620 | B30: =SUMIF(KodKompt,A30,Sold) -> 7600.28 | C30: Honoraires et frais d'actes
A31: 622620 | B31: =SUMIF(KodKompt,A31,Sold) -> 7600.28 | C31: Honoraires et frais d'actes
A32: 622630 | B32: =SUMIF(KodKompt,A32,Sold) -> 36720 | C32: Frais de communication
A33: 622700 | B33: =SUMIF(KodKompt,A33,Sold) -> 2503.2 | C33: Honoraires et frais d'actes
A34: 623100 | B34: =SUMIF(KodKompt,A34,Sold) -> 8793.04 | C34: Annonces et insertions
A35: 623202 | B35: =SUMIF(KodKompt,A35,Sold) -> 2251.2 | C35: Frais de campagne des dons
A36: 623203 | B36: =SUMIF(KodKompt,A36,Sold) -> 5083.5 | C36: Frais de campagne des dons
A37: 623205 | B37: =SUMIF(KodKompt,A37,Sold) -> 10341.58 | C37: Frais de campagne des dons
... A74: 658000 | B74: =SUMIF(KodKompt,A74,Sold) -> 0.79 | C74: Charges div.de gestion courant
