Workbook

Sheet Graph2

Sheet Graph1

Sheet 00
E4: =SUM(D9+7) -> 43108
F7: Equipe "A"
C8: N° DE SEMAINE | D8: DEBUT | E8: FIN | F8: Lundi | G8: mardi | H8: mercredi | I8: jeudi | J8: vendredi | K8: samedi | L8: dimanche
C9: 1 | D9: 43101 | E9: 43107 | G9: A1 | H9: A2 | I9: A3 | K9: A1 | L9: A2
C10: 2 | D10: =SUM(D9+7) -> 43108 | E10: =SUM(E9+7) -> 43114 | F10: A3 | H10: A1 | I10: A2 | J10: A3 | L10: A1
C11: 3 | D11: =SUM(D10+7) -> 43115 | E11: =SUM(E10+7) -> 43121 | F11: A2 | G11: A3 | I11: A1 | J11: A2 | K11: A3
C12: 4 | D12: =SUM(D11+7) -> 43122 | E12: =SUM(E11+7) -> 43128 | F12: A1 | G12: A2 | H12: A3 | J12: A1 | K12: A2 | L12: A3
C13: 5 | D13: =SUM(D12+7) -> 43129 | E13: =SUM(E12+7) -> 43135 | G13: A1 | H13: A2 | I13: A3 | K13: A1 | L13: A2
C14: 6 | D14: =SUM(D13+7) -> 43136 | E14: =SUM(E13+7) -> 43142 | F14: A3 | H14: A1 | I14: A2 | J14: A3 | L14: A1
C15: 7 | D15: =SUM(D14+7) -> 43143 | E15: =SUM(E14+7) -> 43149 | F15: A2 | G15: A3 | I15: A1 | J15: A2 | K15: A3
C16: 8 | D16: =SUM(D15+7) -> 43150 | E16: =SUM(E15+7) -> 43156 | F16: A1 | G16: A2 | H16: A3 | J16: A1 | K16: A2 | L16: A3
C17: 9 | D17: =SUM(D16+7) -> 43157 | E17: =SUM(E16+7) -> 43163 | G17: A1 | H17: A2 | I17: A3 | K17: A1 | L17: A2
C18: 10 | D18: =SUM(D17+7) -> 43164 | E18: =SUM(E17+7) -> 43170 | F18: A3 | H18: A1 | I18: A2 | J18: A3 | L18: A1
C19: 11 | D19: =SUM(D18+7) -> 43171 | E19: =SUM(E18+7) -> 43177 | F19: A2 | G19: A3 | I19: A1 | J19: A2 | K19: A3
C20: 12 | D20: =SUM(D19+7) -> 43178 | E20: =SUM(E19+7) -> 43184 | F20: A1 | G20: A2 | H20: A3 | J20: A1 | K20: A2 | L20: A3
C21: 13 | D21: =SUM(D20+7) -> 43185 | E21: =SUM(E20+7) -> 43191 | G21: A1 | H21: A2 | I21: A3 | K21: A1 | L21: A2
C22: 14 | D22: =SUM(D21+7) -> 43192 | E22: =SUM(E21+7) -> 43198 | F22: A3 | H22: A1 | I22: A2 | J22: A3 | L22: A1
C23: 15 | D23: =SUM(D22+7) -> 43199 | E23: =SUM(E22+7) -> 43205 | F23: A2 | G23: A3 | I23: A1 | J23: A2 | K23: A3
C24: 16 | D24: =SUM(D23+7) -> 43206 | E24: =SUM(E23+7) -> 43212 | F24: A1 | G24: A2 | H24: A3 | J24: A1 | K24: A2 | L24: A3
C25: 17 | D25: =SUM(D24+7) -> 43213 | E25: =SUM(E24+7) -> 43219 | G25: A1 | H25: A2 | I25: A3 | K25: A1 | L25: A2
C26: 18 | D26: =SUM(D25+7) -> 43220 | E26: =SUM(E25+7) -> 43226 | F26: A3 | H26: A1 | I26: A2 | J26: A3 | L26: A1
C27: 19 | D27: =SUM(D26+7) -> 43227 | E27: =SUM(E26+7) -> 43233 | F27: A2 | G27: A3 | I27: A1 | J27: A2 | K27: A3
C28: 20 | D28: =SUM(D27+7) -> 43234 | E28: =SUM(E27+7) -> 43240 | F28: A1 | G28: A2 | H28: A3 | J28: A1 | K28: A2 | L28: A3
C29: 21 | D29: =SUM(D28+7) -> 43241 | E29: =SUM(E28+7) -> 43247 | G29: A1 | H29: A2 | I29: A3 | K29: A1 | L29: A2
C30: 22 | D30: =SUM(D29+7) -> 43248 | E30: =SUM(E29+7) -> 43254 | F30: A3 | H30: A1 | I30: A2 | J30: A3 | L30: A1
C31: 23 | D31: =SUM(D30+7) -> 43255 | E31: =SUM(E30+7) -> 43261 | F31: A2 | G31: A3 | I31: A1 | J31: A2 | K31: A3
C32: 24 | D32: =SUM(D31+7) -> 43262 | E32: =SUM(E31+7) -> 43268 | F32: A1 | G32: A2 | H32: A3 | J32: A1 | K32: A2 | L32: A3
C33: 25 | D33: =SUM(D32+7) -> 43269 | E33: =SUM(E32+7) -> 43275 | G33: A1 | H33: A2 | I33: A3 | K33: A1 | L33: A2
C34: 26 | D34: =SUM(D33+7) -> 43276 | E34: =SUM(E33+7) -> 43282 | F34: A3 | H34: A1 | I34: A2 | J34: A3 | L34: A1
C35: 27 | D35: =SUM(D34+7) -> 43283 | E35: =SUM(E34+7) -> 43289 | F35: A2 | G35: A3 | I35: A1 | J35: A2 | K35: A3
C36: 28 | D36: =SUM(D35+7) -> 43290 | E36: =SUM(E35+7) -> 43296 | F36: A1 | G36: A2 | H36: A3 | J36: A1 | K36: A2 | L36: A3
C37: 29 | D37: =SUM(D36+7) -> 43297 | E37: =SUM(E36+7) -> 43303 | G37: A1 | H37: A2 | I37: A3 | K37: A1 | L37: A2
C38: 30 | D38: =SUM(D37+7) -> 43304 | E38: =SUM(E37+7) -> 43310 | F38: A3 | H38: A1 | I38: A2 | J38: A3 | L38: A1
C39: 31 | D39: =SUM(D38+7) -> 43311 | E39: =SUM(E38+7) -> 43317 | F39: A2 | G39: A3 | I39: A1 | J39: A2 | K39: A3
C40: 32 | D40: =SUM(D39+7) -> 43318 | E40: =SUM(E39+7) -> 43324 | F40: A1 | G40: A2 | H40: A3 | J40: A1 | K40: A2 | L40: A3
C41: 33 | D41: =SUM(D40+7) -> 43325 | E41: =SUM(E40+7) -> 43331 | G41: A1 | H41: A2 | I41: A3 | K41: A1 | L41: A2
C42: 34 | D42: =SUM(D41+7) -> 43332 | E42: =SUM(E41+7) -> 43338 | F42: A3 | H42: A1 | I42: A2 | J42: A3 | L42: A1
C43: 35 | D43: =SUM(D42+7) -> 43339 | E43: =SUM(E42+7) -> 43345 | F43: A2 | G43: A3 | I43: A1 | J43: A2 | K43: A3
C44: 36 | D44: =SUM(D43+7) -> 43346 | E44: =SUM(E43+7) -> 43352 | F44: A1 | G44: A2 | H44: A3 | J44: A1 | K44: A2 | L44: A3
C45: 37 | D45: =SUM(D44+7) -> 43353 | E45: =SUM(E44+7) -> 43359 | G45: A1 | H45: A2 | I45: A3 | K45: A1 | L45: A2
...

Sheet Feuil1
A9: DIRECTION AÉROPORT Med V | Y9: CMN.9.E.010/00
A10: Département Technique Navigation
A11: Division équipement aérogare
A12: Service | C12: Électricité
A13: section réseau HT/MT | Z13: Semaine : | AB13: 40
A14: TABLEAU DE SERVICE
A15: =DATE(2017,10,2) -> 43010 | O15: au | P15: =SUM(A15+6) -> 43016
A16: Section réseau HT/MT | H16: lundi | J16: =SUM(A15) -> 43010 | K16: Mardi | M16: =SUM(A15+1) -> 43011 | N16: Mercredi | P16: =SUM(M16+1) -> 43012 | Q16: Jeudi | S16: =SUM(P16+1) -> 43013 | T16: Vendredi | V16: =SUM(S16+1) -> 43014 | W16: Samedi | Y16: =SUM(V16+1) -> 43015 | Z16: Dimenche | AB16: =SUM(Y16+1) -> 43016
A17: A | C17: 8157 | E17: ELBIED MOHAMED | H17: A2 | K17: A3 | Q17: A1 | T17: A2 | W17: A3
A18: B | C18: 3849 | E18: (*) TABRI HASSAN | H18: B1 | K18: B2 | N18: B3 | T18: B1 | W18: B2 | Z18: B3
A19: C | C19: 3484 | E19: (*) SADIKI ABDELILAH | K19: C1 | N19: C2 | Q19: C3 | W19: C1 | Z19: C2
A20: D | C20: 8158 | E20: (*) LAHLAL MAJID | H20: D3 | N20: D1 | Q20: D2 | T20: D3 | Z20: D1
A21: ADM | C21: 8154 | E21: HARRANE ABDELILAH | H21: ADM | K21: ADM | N21: ADM | Q21: ADM | T21: ADM
C22: 8164 | E22: CHAIB MOHAMED | H22: ADM | K22: ADM | N22: ADM | Q22: ADM | T22: ADM
A24: MLE | C24: NOM | H24: Nature du congé | L24: Durée | O24: à compter de | T24: Date de reprise | Y24: INTÉRIM
B28: Demandeur d'absence | G28: Demandeur de Remplacement | L28: Remplaçant | Q28: Date de l'actualisation | U28: Vacation | Y28: MOTIF
A33: NB
B34: (*) | C34: chef d'equipe
A36: Jour Férié | D36: JF | F36: Horaire Administratif | I36: ADM | K36: 08h30-16h30 | Q36: Equipe | T36: 08h30-20h30 | W36: 20h30-00h00 | Z36: 00h00-8h30
A37: Accident de Travail | D37: AT | Q37: A | T37: A1 | W37: A2 | Z37: A3
A38: Congé Administratif | D38: CA | Q38: B | T38: B1 | W38: B2 | Z38: B3
A39: Congé de Maladie | D39: CM | Q39: C | T39: C1 | W39: C2 | Z39: C3
A40: Congé Exceptionnel | D40: CE | Q40: D | T40: D1 | W40: D2 | Z40: D3
A42: Dressé par : | L42: Vérifier Par : | Z42: Approuvé par :

Sheet Feuil14
B11: DIRECTION AÉROPORT Med V | Z11: CMN.9.E.010/00
B12: Département Technique Navigation
B13: Division équipement aérogare
B14: Service | D14: Électricité
B15: section réseau HT/MT | AA15: Semaine : | AC15: 45
B16: TABLEAU DE SERVICE
B18: =SUMIF('00'!$C$9:$C$50,AC15,'00'!$D$9:$D$50) -> 0 | P18: au | Q18: =SUM(B18+6) -> 6
B20: Section réseau HT/MT | I20: lundi | K20: =SUM(B18) -> 0 | L20: Mardi | N20: =SUM(B18+1) -> 1 | O20: Mercredi | Q20: =SUM(N20+1) -> 2 | R20: Jeudi | T20: =SUM(Q20+1) -> 3 | U20: Vendredi | W20: =SUM(T20+1) -> 4 | X20: Samedi | Z20: =SUM(W20+1) -> 5 | AA20: Dimenche | AC20: =SUM(Z20+1) -> 6
B21: A | D21: 8157 | F21: ELBIED MOHAMED | L21: A1 | O21: A2 | R21: A3 | X21: A1 | AA21: A2
B22: B | D22: 3849 | F22: (*) TABRI HASSAN | I22: B3 | O22: B1 | R22: B2 | U22: B3 | AA22: B1
B23: C | D23: 3484 | F23: (*) SADIKI ABDELILAH | I23: C2 | L23: C3 | R23: C1 | U23: C2 | X23: C3
B24: D | D24: 8158 | F24: (*) LAHLAL MAJID | I24: D1 | L24: D2 | O24: D3 | U24: D1 | X24: D2 | AA24: D3
B25: ADM | D25: 8154 | F25: HARRANE ABDELILAH | I25: ADM | L25: ADM | O25: ADM | R25: ADM | U25: ADM
D26: 8164 | F26: CHAIB MOHAMED | I26: ADM | L26: ADM | O26: ADM | R26: ADM | U26: ADM
B28: MLE | D28: NOM | I28: Nature du congé | M28: Durée | P28: à compter de | U28: Date de reprise | Z28: INTÉRIM
C32: Demandeur d'absence | H32: Demandeur de Remplacement | M32: Remplaçant | R32: Date de l'actualisation | V32: Vacation | Z32: MOTIF
B37: NB
C38: (*) | D38: chef d'equipe
B40: Jour Férié | E40: JF | G40: Horaire Administratif | J40: ADM | L40: 08h30-16h30 | R40: Equipe | U40: 08h30-20h30 | X40: 20h30-00h00 | AA40: 00h00-8h30
B41: Accident de Travail | E41: AT | R41: A | U41: A1 | X41: A2 | AA41: A3
B42: Congé Administratif | E42: CA | R42: B | U42: B1 | X42: B2 | AA42: B3
B43: Congé de Maladie | E43: CM | R43: C | U43: C1 | X43: C2 | AA43: C3
B44: Congé Exceptionnel | E44: CE | R44: D | U44: D1 | X44: D2 | AA44: D3
B46: Dressé par : | M46: Vérifier Par : | AA46: Approuvé par :

Sheet TEST
B11: Direction Aéroport Mohammed V
B12: Département Technique
B13: Division Technique Navigation
H15: ;
B16: TABLEAU DE SERVICE PREVISIONNEL ELECTRICITE BALISAGE
Z17: CMN.9.E.010/00
I18: Semaine: | L18: 26 | N18: =VLOOKUP($L$18,'00'!$C$9:$L$60,2,0) -> 43276 | P18: au | Q18: =SUM(N18+6) -> 43282
B20: Equipe | D20: Mle | F20: Nom | H20: Prénom | I20: Lundi | K20: =SUM(N18) -> 43276 | L20: Mardi | N20: =SUM(N18+1) -> 43277 | O20: Mercredi | Q20: =SUM(N18+2) -> 43278 | R20: Jeudi | T20: =SUM(Q20+1) -> 43279 | U20: Vendredi | W20: =SUM(T20+1) -> 43280 | X20: Samedi | Z20: =SUM(W20+1) -> 43281 | AA20: Dimanche | AC20: =SUM(Z20+1) -> 43282
B21: A | D21: 8290 | F21: JEAN | H21: PAUL | I21: =VLOOKUP($L$18,'00'!$C$9:$L$60,4,0) -> A3 | L21: =VLOOKUP($L$18,'00'!$C$9:$L$60,5,0) -> 0 | O21: =VLOOKUP($L$18,'00'!$C$9:$L$60,6,0) -> A1 | R21: =VLOOKUP($L$18,'00'!$C$9:$L$60,7,0) -> A2 | U21: =VLOOKUP($L$18,'00'!$C$9:$L$60,8,0) -> A3 | X21: =VLOOKUP($L$18,'00'!$C$9:$L$60,9,0) -> 0 | AA21: =VLOOKUP($L$18,'00'!$C$9:$L$60,10,0) -> A1
D22: 3967 | F22: MICHAEL | H22: JOSEF | I22: =VLOOKUP($L$18,'00'!$C$9:$L$60,4,0) -> A3 | L22: =VLOOKUP($L$18,'00'!$C$9:$L$60,5,0) -> 0 | O22: =VLOOKUP($L$18,'00'!$C$9:$L$60,6,0) -> A1 | R22: =VLOOKUP($L$18,'00'!$C$9:$L$60,7,0) -> A2 | U22: =VLOOKUP($L$18,'00'!$C$9:$L$60,8,0) -> A3 | X22: =VLOOKUP($L$18,'00'!$C$9:$L$60,9,0) -> 0 | AA22: =VLOOKUP($L$18,'00'!$C$9:$L$60,10,0) -> A1
B25: Dressé par :
