Workbook

Sheet Feuil1
A1: Sauce tomate | B1: mozzarella | C1: saucisson pepperoni | D1: jambon | E1: champignons | F1: oignons | G1: poivrons mélangés | H1: olives noires | I1: boulettes de boeuf assaisonnées* | Y1: Recette 1 | AB1: 1 | AC1: bacon
A2: Crème fraîche légère | B2: mozzarella | C2: chèvre | D2: bacon | E2: Fourme d’Ambert A.O.P | F2: figues séchées et oignons | G2: nappée de miel. | Y2: Recette 2 | AB2: 2 | AC2: boulettes de boeuf assaisonnées*
A3: Sauce tomate | B3: mozzarella | C3: merguez | Y3: Recette 3 | AB3: 3 | AC3: champignons
A4: Sauce tomate | B4: râpé vegan | Y4: Recette 4 | AB4: 4 | AC4: chèvre
A5: Sauce barbecue | B5: mozzarella | C5: poulet rôti | D5: merguez | E5: boulettes de boeuf assaisonnées* | Y5: Recette 5 | AB5: 5 | AC5: Crème fraîche légère
A6: Sauce tomate | B6: râpé vegan | C6: champignons | D6: oignons | E6: poivrons mélangés | F6: olives noires | G6: tomates fraîches | H6: origan | Y6: Recette 6 | AB6: 6 | AC6: Emmental
A7: Sauce tomate | B7: mozzarella | C7: saucisson pepperoni | Y7: Recette 7 | AB7: 7 | AC7: emmental
A8: Sauce tomate | B8: mozzarella | C8: chèvre | D8: emmental | E8: Fourme d’Ambert A.O.P. | Y8: Recette 8 | AB8: 8 | AC8: figues séchées et oignons
A9: Sauce tomate | B9: mozzarella | C9: boulettes de boeuf assaisonnées* | D9: tomates fraîches | E9: origan | Y9: Recette 9 | AB9: 9 | AC9: Fourme d’Ambert A.O.P
A10: Crème fraîche légère | B10: mozzarella | C10: oignons | D10: poulet rôti | E10: champignons | F10: Emmental | Y10: Recette 10 | AB10: 10 | AC10: Fourme d’Ambert A.O.P.
AB11: 11 | AC11: jambon
A12: bacon | B12: boulettes de boeuf assaisonnées* | C12: champignons | D12: chèvre | E12: Crème fraîche légère | F12: Emmental | G12: emmental | H12: figues séchées et oignons | I12: Fourme d’Ambert A.O.P | J12: Fourme d’Ambert A.O.P. | K12: jambon | L12: merguez | M12: mozzarella | N12: nappée de miel. | O12: oignons | P12: olives noires | Q12: origan | R12: poivrons mélangés | S12: poulet rôti | T12: râpé vegan | U12: Sauce barbecue | V12: Sauce tomate | W12: saucisson pepperoni | X12: tomates fraîches | AB12: 12 | AC12: merguez
A13: =IF(ISNUMBER(MATCH(A$12,$A1:$X1,0)),A$12,"") | B13: =IF(ISNUMBER(MATCH(B$12,$A1:$X1,0)),B$12,"") -> boulettes de boeuf assaisonnées* | C13: =IF(ISNUMBER(MATCH(C$12,$A1:$X1,0)),C$12,"") -> champignons | D13: =IF(ISNUMBER(MATCH(D$12,$A1:$X1,0)),D$12,"") | E13: =IF(ISNUMBER(MATCH(E$12,$A1:$X1,0)),E$12,"") | F13: =IF(ISNUMBER(MATCH(F$12,$A1:$X1,0)),F$12,"") | G13: =IF(ISNUMBER(MATCH(G$12,$A1:$X1,0)),G$12,"") | H13: =IF(ISNUMBER(MATCH(H$12,$A1:$X1,0)),H$12,"") | ... X13: =IF(ISNUMBER(MATCH(X$12,$A1:$X1,0)),X$12,"") | Y13: Recette 1 | AB13: 13 | AC13: mozzarella
A14: =IF(ISNUMBER(MATCH(A$12,$A2:$X2,0)),A$12,"") -> bacon | B14: =IF(ISNUMBER(MATCH(B$12,$A2:$X2,0)),B$12,"") | C14: =IF(ISNUMBER(MATCH(C$12,$A2:$X2,0)),C$12,"") | D14: =IF(ISNUMBER(MATCH(D$12,$A2:$X2,0)),D$12,"") -> chèvre | E14: =IF(ISNUMBER(MATCH(E$12,$A2:$X2,0)),E$12,"") -> Crème fraîche légère | F14: =IF(ISNUMBER(MATCH(F$12,$A2:$X2,0)),F$12,"") | G14: =IF(ISNUMBER(MATCH(G$12,$A2:$X2,0)),G$12,"") | H14: =IF(ISNUMBER(MATCH(H$12,$A2:$X2,0)),H$12,"") -> figues séchées et oignons | ... X14: =IF(ISNUMBER(MATCH(X$12,$A2:$X2,0)),X$12,"") | Y14: Recette 2 | AB14: 14 | AC14: nappée de miel.
A15: =IF(ISNUMBER(MATCH(A$12,$A3:$X3,0)),A$12,"") | B15: =IF(ISNUMBER(MATCH(B$12,$A3:$X3,0)),B$12,"") | C15: =IF(ISNUMBER(MATCH(C$12,$A3:$X3,0)),C$12,"") | D15: =IF(ISNUMBER(MATCH(D$12,$A3:$X3,0)),D$12,"") | E15: =IF(ISNUMBER(MATCH(E$12,$A3:$X3,0)),E$12,"") | F15: =IF(ISNUMBER(MATCH(F$12,$A3:$X3,0)),F$12,"") | G15: =IF(ISNUMBER(MATCH(G$12,$A3:$X3,0)),G$12,"") | H15: =IF(ISNUMBER(MATCH(H$12,$A3:$X3,0)),H$12,"") | ... X15: =IF(ISNUMBER(MATCH(X$12,$A3:$X3,0)),X$12,"") | Y15: Recette 3 | AB15: 15 | AC15: oignons
A16: =IF(ISNUMBER(MATCH(A$12,$A4:$X4,0)),A$12,"") | B16: =IF(ISNUMBER(MATCH(B$12,$A4:$X4,0)),B$12,"") | C16: =IF(ISNUMBER(MATCH(C$12,$A4:$X4,0)),C$12,"") | D16: =IF(ISNUMBER(MATCH(D$12,$A4:$X4,0)),D$12,"") | E16: =IF(ISNUMBER(MATCH(E$12,$A4:$X4,0)),E$12,"") | F16: =IF(ISNUMBER(MATCH(F$12,$A4:$X4,0)),F$12,"") | G16: =IF(ISNUMBER(MATCH(G$12,$A4:$X4,0)),G$12,"") | H16: =IF(ISNUMBER(MATCH(H$12,$A4:$X4,0)),H$12,"") | ... X16: =IF(ISNUMBER(MATCH(X$12,$A4:$X4,0)),X$12,"") | Y16: Recette 4 | AB16: 16 | AC16: olives noires
A17: =IF(ISNUMBER(MATCH(A$12,$A5:$X5,0)),A$12,"") | B17: =IF(ISNUMBER(MATCH(B$12,$A5:$X5,0)),B$12,"") -> boulettes de boeuf assaisonnées* | C17: =IF(ISNUMBER(MATCH(C$12,$A5:$X5,0)),C$12,"") | D17: =IF(ISNUMBER(MATCH(D$12,$A5:$X5,0)),D$12,"") | E17: =IF(ISNUMBER(MATCH(E$12,$A5:$X5,0)),E$12,"") | F17: =IF(ISNUMBER(MATCH(F$12,$A5:$X5,0)),F$12,"") | G17: =IF(ISNUMBER(MATCH(G$12,$A5:$X5,0)),G$12,"") | H17: =IF(ISNUMBER(MATCH(H$12,$A5:$X5,0)),H$12,"") | ... X17: =IF(ISNUMBER(MATCH(X$12,$A5:$X5,0)),X$12,"") | Y17: Recette 5 | AB17: 17 | AC17: origan
A18: =IF(ISNUMBER(MATCH(A$12,$A6:$X6,0)),A$12,"") | B18: =IF(ISNUMBER(MATCH(B$12,$A6:$X6,0)),B$12,"") | C18: =IF(ISNUMBER(MATCH(C$12,$A6:$X6,0)),C$12,"") -> champignons | D18: =IF(ISNUMBER(MATCH(D$12,$A6:$X6,0)),D$12,"") | E18: =IF(ISNUMBER(MATCH(E$12,$A6:$X6,0)),E$12,"") | F18: =IF(ISNUMBER(MATCH(F$12,$A6:$X6,0)),F$12,"") | G18: =IF(ISNUMBER(MATCH(G$12,$A6:$X6,0)),G$12,"") | H18: =IF(ISNUMBER(MATCH(H$12,$A6:$X6,0)),H$12,"") | ... X18: =IF(ISNUMBER(MATCH(X$12,$A6:$X6,0)),X$12,"") -> tomates fraîches | Y18: Recette 6 | AB18: 18 | AC18: poivrons mélangés
A19: =IF(ISNUMBER(MATCH(A$12,$A7:$X7,0)),A$12,"") | B19: =IF(ISNUMBER(MATCH(B$12,$A7:$X7,0)),B$12,"") | C19: =IF(ISNUMBER(MATCH(C$12,$A7:$X7,0)),C$12,"") | D19: =IF(ISNUMBER(MATCH(D$12,$A7:$X7,0)),D$12,"") | E19: =IF(ISNUMBER(MATCH(E$12,$A7:$X7,0)),E$12,"") | F19: =IF(ISNUMBER(MATCH(F$12,$A7:$X7,0)),F$12,"") | G19: =IF(ISNUMBER(MATCH(G$12,$A7:$X7,0)),G$12,"") | H19: =IF(ISNUMBER(MATCH(H$12,$A7:$X7,0)),H$12,"") | ... X19: =IF(ISNUMBER(MATCH(X$12,$A7:$X7,0)),X$12,"") | Y19: Recette 7 | AB19: 19 | AC19: poulet rôti
A20: =IF(ISNUMBER(MATCH(A$12,$A8:$X8,0)),A$12,"") | B20: =IF(ISNUMBER(MATCH(B$12,$A8:$X8,0)),B$12,"") | C20: =IF(ISNUMBER(MATCH(C$12,$A8:$X8,0)),C$12,"") | D20: =IF(ISNUMBER(MATCH(D$12,$A8:$X8,0)),D$12,"") -> chèvre | E20: =IF(ISNUMBER(MATCH(E$12,$A8:$X8,0)),E$12,"") | F20: =IF(ISNUMBER(MATCH(F$12,$A8:$X8,0)),F$12,"") | G20: =IF(ISNUMBER(MATCH(G$12,$A8:$X8,0)),G$12,"") | H20: =IF(ISNUMBER(MATCH(H$12,$A8:$X8,0)),H$12,"") | ... X20: =IF(ISNUMBER(MATCH(X$12,$A8:$X8,0)),X$12,"") | Y20: Recette 8 | AB20: 20 | AC20: râpé vegan
A21: =IF(ISNUMBER(MATCH(A$12,$A9:$X9,0)),A$12,"") | B21: =IF(ISNUMBER(MATCH(B$12,$A9:$X9,0)),B$12,"") -> boulettes de boeuf assaisonnées* | C21: =IF(ISNUMBER(MATCH(C$12,$A9:$X9,0)),C$12,"") | D21: =IF(ISNUMBER(MATCH(D$12,$A9:$X9,0)),D$12,"") | E21: =IF(ISNUMBER(MATCH(E$12,$A9:$X9,0)),E$12,"") | F21: =IF(ISNUMBER(MATCH(F$12,$A9:$X9,0)),F$12,"") | G21: =IF(ISNUMBER(MATCH(G$12,$A9:$X9,0)),G$12,"") | H21: =IF(ISNUMBER(MATCH(H$12,$A9:$X9,0)),H$12,"") | ... X21: =IF(ISNUMBER(MATCH(X$12,$A9:$X9,0)),X$12,"") -> tomates fraîches | Y21: Recette 9 | AB21: 21 | AC21: Sauce barbecue
A22: =IF(ISNUMBER(MATCH(A$12,$A10:$X10,0)),A$12,"") | B22: =IF(ISNUMBER(MATCH(B$12,$A10:$X10,0)),B$12,"") | C22: =IF(ISNUMBER(MATCH(C$12,$A10:$X10,0)),C$12,"") | D22: =IF(ISNUMBER(MATCH(D$12,$A10:$X10,0)),D$12,"") | E22: =IF(ISNUMBER(MATCH(E$12,$A10:$X10,0)),E$12,"") -> Crème fraîche légère | F22: =IF(ISNUMBER(MATCH(F$12,$A10:$X10,0)),F$12,"") -> Emmental | G22: =IF(ISNUMBER(MATCH(G$12,$A10:$X10,0)),G$12,"") -> emmental | H22: =IF(ISNUMBER(MATCH(H$12,$A10:$X10,0)),H$12,"") | ... X22: =IF(ISNUMBER(MATCH(X$12,$A10:$X10,0)),X$12,"") | Y22: Recette 10 | AB22: 22 | AC22: Sauce tomate
AB23: 23 | AC23: saucisson pepperoni
A24: =IF(INDIRECT(ADDRESS(MATCH(F2!$A$1,$Y$13:$Y$22,0)+12,COLUMN()),1)="","",COLUMN()) | B24: =IF(INDIRECT(ADDRESS(MATCH(F2!$A$1,$Y$13:$Y$22,0)+12,COLUMN()),1)="","",COLUMN()) | C24: =IF(INDIRECT(ADDRESS(MATCH(F2!$A$1,$Y$13:$Y$22,0)+12,COLUMN()),1)="","",COLUMN()) | D24: =IF(INDIRECT(ADDRESS(MATCH(F2!$A$1,$Y$13:$Y$22,0)+12,COLUMN()),1)="","",COLUMN()) -> 4 | E24: =IF(INDIRECT(ADDRESS(MATCH(F2!$A$1,$Y$13:$Y$22,0)+12,COLUMN()),1)="","",COLUMN()) | F24: =IF(INDIRECT(ADDRESS(MATCH(F2!$A$1,$Y$13:$Y$22,0)+12,COLUMN()),1)="","",COLUMN()) | G24: =IF(INDIRECT(ADDRESS(MATCH(F2!$A$1,$Y$13:$Y$22,0)+12,COLUMN()),1)="","",COLUMN()) | H24: =IF(INDIRECT(ADDRESS(MATCH(F2!$A$1,$Y$13:$Y$22,0)+12,COLUMN()),1)="","",COLUMN()) | ... X24: =IF(INDIRECT(ADDRESS(MATCH(F2!$A$1,$Y$13:$Y$22,0)+12,COLUMN()),1)="","",COLUMN()) | AB24: 24 | AC24: tomates fraîches

Sheet F2
A1: Recette 8
A2: =IF(ISERROR(SMALL(Feuil1!A$24:X$24,ROW()-1)),"",INDIRECT(ADDRESS(MATCH($A$1,Feuil1!Y$13:Y$22,0)+12,SMALL(Feuil1!A$24:X$24,ROW()-1),4,1,"Feuil1"),1)) -> chèvre
A3: =IF(ISERROR(SMALL(Feuil1!A$24:X$24,ROW()-1)),"",INDIRECT(ADDRESS(MATCH($A$1,Feuil1!Y$13:Y$22,0)+12,SMALL(Feuil1!A$24:X$24,ROW()-1),4,1,"Feuil1"),1)) -> Fourme d’Ambert A.O.P.
A4: =IF(ISERROR(SMALL(Feuil1!A$24:X$24,ROW()-1)),"",INDIRECT(ADDRESS(MATCH($A$1,Feuil1!Y$13:Y$22,0)+12,SMALL(Feuil1!A$24:X$24,ROW()-1),4,1,"Feuil1"),1)) -> mozzarella
A5: =IF(ISERROR(SMALL(Feuil1!A$24:X$24,ROW()-1)),"",INDIRECT(ADDRESS(MATCH($A$1,Feuil1!Y$13:Y$22,0)+12,SMALL(Feuil1!A$24:X$24,ROW()-1),4,1,"Feuil1"),1)) -> Sauce tomate
A6: =IF(ISERROR(SMALL(Feuil1!A$24:X$24,ROW()-1)),"",INDIRECT(ADDRESS(MATCH($A$1,Feuil1!Y$13:Y$22,0)+12,SMALL(Feuil1!A$24:X$24,ROW()-1),4,1,"Feuil1"),1))
A7: =IF(ISERROR(SMALL(Feuil1!A$24:X$24,ROW()-1)),"",INDIRECT(ADDRESS(MATCH($A$1,Feuil1!Y$13:Y$22,0)+12,SMALL(Feuil1!A$24:X$24,ROW()-1),4,1,"Feuil1"),1))
A8: =IF(ISERROR(SMALL(Feuil1!A$24:X$24,ROW()-1)),"",INDIRECT(ADDRESS(MATCH($A$1,Feuil1!Y$13:Y$22,0)+12,SMALL(Feuil1!A$24:X$24,ROW()-1),4,1,"Feuil1"),1))
A9: =IF(ISERROR(SMALL(Feuil1!A$24:X$24,ROW()-1)),"",INDIRECT(ADDRESS(MATCH($A$1,Feuil1!Y$13:Y$22,0)+12,SMALL(Feuil1!A$24:X$24,ROW()-1),4,1,"Feuil1"),1))
A10: =IF(ISERROR(SMALL(Feuil1!A$24:X$24,ROW()-1)),"",INDIRECT(ADDRESS(MATCH($A$1,Feuil1!Y$13:Y$22,0)+12,SMALL(Feuil1!A$24:X$24,ROW()-1),4,1,"Feuil1"),1))
A11: =IF(ISERROR(SMALL(Feuil1!A$24:X$24,ROW()-1)),"",INDIRECT(ADDRESS(MATCH($A$1,Feuil1!Y$13:Y$22,0)+12,SMALL(Feuil1!A$24:X$24,ROW()-1),4,1,"Feuil1"),1))
A12: =IF(ISERROR(SMALL(Feuil1!A$24:X$24,ROW()-1)),"",INDIRECT(ADDRESS(MATCH($A$1,Feuil1!Y$13:Y$22,0)+12,SMALL(Feuil1!A$24:X$24,ROW()-1),4,1,"Feuil1"),1))
A13: =IF(ISERROR(SMALL(Feuil1!A$24:X$24,ROW()-1)),"",INDIRECT(ADDRESS(MATCH($A$1,Feuil1!Y$13:Y$22,0)+12,SMALL(Feuil1!A$24:X$24,ROW()-1),4,1,"Feuil1"),1))
... A24: =IF(ISERROR(SMALL(Feuil1!A$24:X$24,ROW()-1)),"",INDIRECT(ADDRESS(MATCH($A$1,Feuil1!Y$13:Y$22,0)+12,SMALL(Feuil1!A$24:X$24,ROW()-1),4,1,"Feuil1"),1))
