Workbook

Sheet Sheet1
A2: Package retrofit choisit | C2: 220 | G2: =HYPERLINK("#"&CONCATENATE("a2:f",MATCH("Total",F:F,0)+1),"Zimp") -> Zimp | I2: option
A8: item | B8: jde | C8: description | D8: quantité | E8: Prix Unit | F8: total
A9: =IF(C9="","",INDIRECT("Sheet2!A"&MATCH($C9,Sheet2!$I:$I,0),1)) -> 7 | B9: =IF(C9="","",INDIRECT("Sheet2!B"&MATCH($C9,Sheet2!$I:$I,0),1)) -> 308104 | C9: BREAKER;1 POLE;2A; | D9: 12 | E9: =IF(C9="","",INDIRECT("Sheet2!E"&MATCH($C9,Sheet2!$I:$I,0),1)) -> 10.61 | F9: =IF(F8="Total",ROUND(SUM(F7:F$9),2),IF(ISNUMBER(MATCH("Total",F8:F$9,0)),"",IF(AND(F8<>"Total",SUM(A9:E10)=0),"Total",IF(OR(C9="",D9=""),"",D9*E9)))) -> 127.32
A10: =IF(C10="","",INDIRECT("Sheet2!A"&MATCH($C10,Sheet2!$I:$I,0),1)) -> 2 | B10: =IF(C10="","",INDIRECT("Sheet2!B"&MATCH($C10,Sheet2!$I:$I,0),1)) -> 279484 | C10: ENCLOSURE;060X060X021CM; | D10: 5 | E10: =IF(C10="","",INDIRECT("Sheet2!E"&MATCH($C10,Sheet2!$I:$I,0),1)) -> 85.99 | F10: =IF(F9="Total",ROUND(SUM(F8:F$9),2),IF(ISNUMBER(MATCH("Total",F$9:F9,0)),"",IF(AND(F9<>"Total",SUM(A10:E11)=0),"Total",IF(OR(C10="",D10=""),"",D10*E10)))) -> 429.95
A11: =IF(C11="","",INDIRECT("Sheet2!A"&MATCH($C11,Sheet2!$I:$I,0),1)) -> 3 | B11: =IF(C11="","",INDIRECT("Sheet2!B"&MATCH($C11,Sheet2!$I:$I,0),1)) -> 295902 | C11: ENCLOSURE;MTG BRACKET KIT; | D11: 50 | E11: =IF(C11="","",INDIRECT("Sheet2!E"&MATCH($C11,Sheet2!$I:$I,0),1)) -> 2.079 | F11: =IF(F10="Total",ROUND(SUM(F$9:F9),2),IF(ISNUMBER(MATCH("Total",F$9:F10,0)),"",IF(AND(F10<>"Total",SUM(A11:E12)=0),"Total",IF(OR(C11="",D11=""),"",D11*E11)))) -> 103.95
A12: =IF(C12="","",INDIRECT("Sheet2!A"&MATCH($C12,Sheet2!$I:$I,0),1)) -> 4 | B12: =IF(C12="","",INDIRECT("Sheet2!B"&MATCH($C12,Sheet2!$I:$I,0),1)) -> 307757 | C12: MAIN SWITCH 25A 3 POS N | D12: 3 | E12: =IF(C12="","",INDIRECT("Sheet2!E"&MATCH($C12,Sheet2!$I:$I,0),1)) -> 17.52 | F12: =IF(F11="Total",ROUND(SUM(F$9:F10),2),IF(ISNUMBER(MATCH("Total",F$9:F11,0)),"",IF(AND(F11<>"Total",SUM(A12:E13)=0),"Total",IF(OR(C12="",D12=""),"",D12*E12)))) -> 52.56
A13: =IF(C13="","",INDIRECT("Sheet2!A"&MATCH($C13,Sheet2!$I:$I,0),1)) -> 6 | B13: =IF(C13="","",INDIRECT("Sheet2!B"&MATCH($C13,Sheet2!$I:$I,0),1)) -> 308106 | C13: BREAKER;1 POLE;4A | D13: 7 | E13: =IF(C13="","",INDIRECT("Sheet2!E"&MATCH($C13,Sheet2!$I:$I,0),1)) -> 10.61 | F13: =IF(F12="Total",ROUND(SUM(F$9:F11),2),IF(ISNUMBER(MATCH("Total",F$9:F12,0)),"",IF(AND(F12<>"Total",SUM(A13:E14)=0),"Total",IF(OR(C13="",D13=""),"",D13*E13)))) -> 74.27
A14: =IF(C14="","",INDIRECT("Sheet2!A"&MATCH($C14,Sheet2!$I:$I,0),1)) -> 12 | B14: =IF(C14="","",INDIRECT("Sheet2!B"&MATCH($C14,Sheet2!$I:$I,0),1)) -> 353021 | C14: EM. STOP MUSHROOM PUSHBUTTON, | D14: 6 | E14: =IF(C14="","",INDIRECT("Sheet2!E"&MATCH($C14,Sheet2!$I:$I,0),1)) -> 9.324 | F14: =IF(F13="Total",ROUND(SUM(F$9:F12),2),IF(ISNUMBER(MATCH("Total",F$9:F13,0)),"",IF(AND(F13<>"Total",SUM(A14:E15)=0),"Total",IF(OR(C14="",D14=""),"",D14*E14)))) -> 55.944
A15: =IF(C15="","",INDIRECT("Sheet2!A"&MATCH($C15,Sheet2!$I:$I,0),1)) -> 13 | B15: =IF(C15="","",INDIRECT("Sheet2!B"&MATCH($C15,Sheet2!$I:$I,0),1)) -> 353057 | C15: CONTACT MODULE 2NC | D15: 2 | E15: =IF(C15="","",INDIRECT("Sheet2!E"&MATCH($C15,Sheet2!$I:$I,0),1)) -> 4.998 | F15: =IF(F14="Total",ROUND(SUM(F$9:F13),2),IF(ISNUMBER(MATCH("Total",F$9:F14,0)),"",IF(AND(F14<>"Total",SUM(A15:E16)=0),"Total",IF(OR(C15="",D15=""),"",D15*E15)))) -> 9.996
A16: =IF(C16="","",INDIRECT("Sheet2!A"&MATCH($C16,Sheet2!$I:$I,0),1)) -> 14 | B16: =IF(C16="","",INDIRECT("Sheet2!B"&MATCH($C16,Sheet2!$I:$I,0),1)) -> 353041 | C16: LABEL HOLDER | D16: 10 | E16: =IF(C16="","",INDIRECT("Sheet2!E"&MATCH($C16,Sheet2!$I:$I,0),1)) -> 0.286 | F16: =IF(F15="Total",ROUND(SUM(F$9:F14),2),IF(ISNUMBER(MATCH("Total",F$9:F15,0)),"",IF(AND(F15<>"Total",SUM(A16:E17)=0),"Total",IF(OR(C16="",D16=""),"",D16*E16)))) -> 2.86
A17: =IF(C17="","",INDIRECT("Sheet2!A"&MATCH($C17,Sheet2!$I:$I,0),1)) -> 15 | B17: =IF(C17="","",INDIRECT("Sheet2!B"&MATCH($C17,Sheet2!$I:$I,0),1)) -> 353043 | C17: LABELING PLATE, SELF-ADHESIVE | D17: 100 | E17: =IF(C17="","",INDIRECT("Sheet2!E"&MATCH($C17,Sheet2!$I:$I,0),1)) -> 0.2906 | F17: =IF(F16="Total",ROUND(SUM(F$9:F15),2),IF(ISNUMBER(MATCH("Total",F$9:F16,0)),"",IF(AND(F16<>"Total",SUM(A17:E18)=0),"Total",IF(OR(C17="",D17=""),"",D17*E17)))) -> 29.06
A18: =IF(C18="","",INDIRECT("Sheet2!A"&MATCH($C18,Sheet2!$I:$I,0),1)) -> 16 | B18: =IF(C18="","",INDIRECT("Sheet2!B"&MATCH($C18,Sheet2!$I:$I,0),1)) -> 145157 | C18: RELAY E-STOP | D18: 8 | E18: =IF(C18="","",INDIRECT("Sheet2!E"&MATCH($C18,Sheet2!$I:$I,0),1)) -> 179.2 | F18: =IF(F17="Total",ROUND(SUM(F$9:F16),2),IF(ISNUMBER(MATCH("Total",F$9:F17,0)),"",IF(AND(F17<>"Total",SUM(A18:E19)=0),"Total",IF(OR(C18="",D18=""),"",D18*E18)))) -> 1433.6
A19: =IF(C19="","",INDIRECT("Sheet2!A"&MATCH($C19,Sheet2!$I:$I,0),1)) -> 18 | B19: =IF(C19="","",INDIRECT("Sheet2!B"&MATCH($C19,Sheet2!$I:$I,0),1)) -> 143979 | C19: ELECT.RELAY. | D19: 24 | E19: =IF(C19="","",INDIRECT("Sheet2!E"&MATCH($C19,Sheet2!$I:$I,0),1)) -> 3.41 | F19: =IF(F18="Total",ROUND(SUM(F$9:F17),2),IF(ISNUMBER(MATCH("Total",F$9:F18,0)),"",IF(AND(F18<>"Total",SUM(A19:E20)=0),"Total",IF(OR(C19="",D19=""),"",D19*E19)))) -> 81.84
A20: =IF(C20="","",INDIRECT("Sheet2!A"&MATCH($C20,Sheet2!$I:$I,0),1)) -> 20 | B20: =IF(C20="","",INDIRECT("Sheet2!B"&MATCH($C20,Sheet2!$I:$I,0),1)) -> 287147 | C20: RELAY SOCKET BASE 14 PIN | D20: 12 | E20: =IF(C20="","",INDIRECT("Sheet2!E"&MATCH($C20,Sheet2!$I:$I,0),1)) -> 7.1 | F20: =IF(F19="Total",ROUND(SUM(F$9:F18),2),IF(ISNUMBER(MATCH("Total",F$9:F19,0)),"",IF(AND(F19<>"Total",SUM(A20:E21)=0),"Total",IF(OR(C20="",D20=""),"",D20*E20)))) -> 85.2
A21: =IF(C21="","",INDIRECT("Sheet2!A"&MATCH($C21,Sheet2!$I:$I,0),1)) -> 8 | B21: =IF(C21="","",INDIRECT("Sheet2!B"&MATCH($C21,Sheet2!$I:$I,0),1)) -> 296952 | C21: BREAKER;1 POLE;6A; | D21: 1 | E21: =IF(C21="","",INDIRECT("Sheet2!E"&MATCH($C21,Sheet2!$I:$I,0),1)) -> 9.71 | F21: =IF(F20="Total",ROUND(SUM(F$9:F19),2),IF(ISNUMBER(MATCH("Total",F$9:F20,0)),"",IF(AND(F20<>"Total",SUM(A21:E22)=0),"Total",IF(OR(C21="",D21=""),"",D21*E21)))) -> 9.71
A22: =IF(C22="","",INDIRECT("Sheet2!A"&MATCH($C22,Sheet2!$I:$I,0),1)) -> 10 | B22: =IF(C22="","",INDIRECT("Sheet2!B"&MATCH($C22,Sheet2!$I:$I,0),1)) -> 7135 | C22: POWER SUPPLY | D22: 2 | E22: =IF(C22="","",INDIRECT("Sheet2!E"&MATCH($C22,Sheet2!$I:$I,0),1)) -> 138.4 | F22: =IF(F21="Total",ROUND(SUM(F$9:F20),2),IF(ISNUMBER(MATCH("Total",F$9:F21,0)),"",IF(AND(F21<>"Total",SUM(A22:E23)=0),"Total",IF(OR(C22="",D22=""),"",D22*E22)))) -> 276.8
... A36: =IF(C36="","",INDIRECT("Sheet2!A"&MATCH($C36,Sheet2!$I:$I,0),1)) -> 43 | B36: =IF(C36="","",INDIRECT("Sheet2!B"&MATCH($C36,Sheet2!$I:$I,0),1)) -> 287681 | C36: MACHINE NUMBER PLATE | D36: 150 | E36: =IF(C36="","",INDIRECT("Sheet2!E"&MATCH($C36,Sheet2!$I:$I,0),1)) -> 0.0127 | F36: =IF(F35="Total",ROUND(SUM(F$9:F34),2),IF(ISNUMBER(MATCH("Total",F$9:F35,0)),"",IF(AND(F35<>"Total",SUM(A36:E37)=0),"Total",IF(OR(C36="",D36=""),"",D36*E36)))) -> 1.905
A37: =IF(C37="","",INDIRECT("Sheet2!A"&MATCH($C37,Sheet2!$I:$I,0),1)) | B37: =IF(C37="","",INDIRECT("Sheet2!B"&MATCH($C37,Sheet2!$I:$I,0),1)) | E37: =IF(C37="","",INDIRECT("Sheet2!E"&MATCH($C37,Sheet2!$I:$I,0),1)) | F37: =IF(F36="Total",ROUND(SUM(F$9:F35),2),IF(ISNUMBER(MATCH("Total",F$9:F36,0)),"",IF(AND(F36<>"Total",SUM(A37:E38)=0),"Total",IF(OR(C37="",D37=""),"",D37*E37)))) -> Total
A38: =IF(C38="","",INDIRECT("Sheet2!A"&MATCH($C38,Sheet2!$I:$I,0),1)) | B38: =IF(C38="","",INDIRECT("Sheet2!B"&MATCH($C38,Sheet2!$I:$I,0),1)) | E38: =IF(C38="","",INDIRECT("Sheet2!E"&MATCH($C38,Sheet2!$I:$I,0),1)) | F38: =IF(F37="Total",ROUND(SUM(F$9:F36),2),IF(ISNUMBER(MATCH("Total",F$9:F37,0)),"",IF(AND(F37<>"Total",SUM(A38:E39)=0),"Total",IF(OR(C38="",D38=""),"",D38*E38)))) -> 19304.56
A39: =IF(C39="","",INDIRECT("Sheet2!A"&MATCH($C39,Sheet2!$I:$I,0),1)) | B39: =IF(C39="","",INDIRECT("Sheet2!B"&MATCH($C39,Sheet2!$I:$I,0),1)) | E39: =IF(C39="","",INDIRECT("Sheet2!E"&MATCH($C39,Sheet2!$I:$I,0),1)) | F39: =IF(F38="Total",ROUND(SUM(F$9:F37),2),IF(ISNUMBER(MATCH("Total",F$9:F38,0)),"",IF(AND(F38<>"Total",SUM(A39:E40)=0),"Total",IF(OR(C39="",D39=""),"",D39*E39))))
A40: =IF(C40="","",INDIRECT("Sheet2!A"&MATCH($C40,Sheet2!$I:$I,0),1)) | B40: =IF(C40="","",INDIRECT("Sheet2!B"&MATCH($C40,Sheet2!$I:$I,0),1)) | E40: =IF(C40="","",INDIRECT("Sheet2!E"&MATCH($C40,Sheet2!$I:$I,0),1)) | F40: =IF(F39="Total",ROUND(SUM(F$9:F38),2),IF(ISNUMBER(MATCH("Total",F$9:F39,0)),"",IF(AND(F39<>"Total",SUM(A40:E41)=0),"Total",IF(OR(C40="",D40=""),"",D40*E40))))
A41: =IF(C41="","",INDIRECT("Sheet2!A"&MATCH($C41,Sheet2!$I:$I,0),1)) | B41: =IF(C41="","",INDIRECT("Sheet2!B"&MATCH($C41,Sheet2!$I:$I,0),1)) | E41: =IF(C41="","",INDIRECT("Sheet2!E"&MATCH($C41,Sheet2!$I:$I,0),1)) | F41: =IF(F40="Total",ROUND(SUM(F$9:F39),2),IF(ISNUMBER(MATCH("Total",F$9:F40,0)),"",IF(AND(F40<>"Total",SUM(A41:E42)=0),"Total",IF(OR(C41="",D41=""),"",D41*E41))))
A42: =IF(C42="","",INDIRECT("Sheet2!A"&MATCH($C42,Sheet2!$I:$I,0),1)) | B42: =IF(C42="","",INDIRECT("Sheet2!B"&MATCH($C42,Sheet2!$I:$I,0),1)) | E42: =IF(C42="","",INDIRECT("Sheet2!E"&MATCH($C42,Sheet2!$I:$I,0),1)) | F42: =IF(F41="Total",ROUND(SUM(F$9:F40),2),IF(ISNUMBER(MATCH("Total",F$9:F41,0)),"",IF(AND(F41<>"Total",SUM(A42:E43)=0),"Total",IF(OR(C42="",D42=""),"",D42*E42))))
F43: =IF(F42="Total",ROUND(SUM(F$9:F41),2),IF(ISNUMBER(MATCH("Total",F$9:F42,0)),"",IF(AND(F42<>"Total",SUM(A43:E44)=0),"Total",IF(OR(C43="",D43=""),"",D43*E43))))
F44: =IF(F43="Total",ROUND(SUM(F$9:F42),2),IF(ISNUMBER(MATCH("Total",F$9:F43,0)),"",IF(AND(F43<>"Total",SUM(A44:E45)=0),"Total",IF(OR(C44="",D44=""),"",D44*E44))))
F45: =IF(F44="Total",ROUND(SUM(F$9:F43),2),IF(ISNUMBER(MATCH("Total",F$9:F44,0)),"",IF(AND(F44<>"Total",SUM(A45:E46)=0),"Total",IF(OR(C45="",D45=""),"",D45*E45))))
F46: =IF(F45="Total",ROUND(SUM(F$9:F44),2),IF(ISNUMBER(MATCH("Total",F$9:F45,0)),"",IF(AND(F45<>"Total",SUM(A46:E47)=0),"Total",IF(OR(C46="",D46=""),"",D46*E46))))
F47: =IF(F46="Total",ROUND(SUM(F$9:F45),2),IF(ISNUMBER(MATCH("Total",F$9:F46,0)),"",IF(AND(F46<>"Total",SUM(A47:E48)=0),"Total",IF(OR(C47="",D47=""),"",D47*E47))))
F48: =IF(F47="Total",ROUND(SUM(F$9:F46),2),IF(ISNUMBER(MATCH("Total",F$9:F47,0)),"",IF(AND(F47<>"Total",SUM(A48:E49)=0),"Total",IF(OR(C48="",D48=""),"",D48*E48))))
F49: =IF(F48="Total",ROUND(SUM(F$9:F47),2),IF(ISNUMBER(MATCH("Total",F$9:F48,0)),"",IF(AND(F48<>"Total",SUM(A49:E50)=0),"Total",IF(OR(C49="",D49=""),"",D49*E49))))
F50: =IF(F49="Total",ROUND(SUM(F$9:F48),2),IF(ISNUMBER(MATCH("Total",F$9:F49,0)),"",IF(AND(F49<>"Total",SUM(A50:E51)=0),"Total",IF(OR(C50="",D50=""),"",D50*E50))))
F51: =IF(F50="Total",ROUND(SUM(F$9:F49),2),IF(ISNUMBER(MATCH("Total",F$9:F50,0)),"",IF(AND(F50<>"Total",SUM(A51:E52)=0),"Total",IF(OR(C51="",D51=""),"",D51*E51))))

Sheet Sheet2
A1: 2 | B1: 279484 | C1: ENCLOSURE;060X060X021CM; | D1: 1 | E1: 85.99 | G1: 220 | H1: =IF(OR(ISNUMBER(MATCH(C1,Sheet1!C$9:C$60,0)),G1<>Sheet1!$C$2),"",ROW()) | I1: =IF(AND(ISNUMBER(MATCH($C1,Sheet1!$C$9:$C$60,0)),$G1=Sheet1!$C$2),C1,"") -> ENCLOSURE;060X060X021CM;
A2: 3 | B2: 295902 | C2: ENCLOSURE;MTG BRACKET KIT; | D2: 4 | E2: 2.079 | G2: 220 | H2: =IF(OR(ISNUMBER(MATCH(C2,Sheet1!C$9:C$60,0)),G2<>Sheet1!$C$2),"",ROW()) | I2: =IF(AND(ISNUMBER(MATCH($C2,Sheet1!$C$9:$C$60,0)),$G2=Sheet1!$C$2),C2,"") -> ENCLOSURE;MTG BRACKET KIT;
A3: 4 | B3: 307757 | C3: MAIN SWITCH 25A 3 POS N | D3: 1 | E3: 17.52 | G3: 220 | H3: =IF(OR(ISNUMBER(MATCH(C3,Sheet1!C$9:C$60,0)),G3<>Sheet1!$C$2),"",ROW()) | I3: =IF(AND(ISNUMBER(MATCH($C3,Sheet1!$C$9:$C$60,0)),$G3=Sheet1!$C$2),C3,"") -> MAIN SWITCH 25A 3 POS N
A4: 6 | B4: 308106 | C4: BREAKER;1 POLE;4A | D4: 1 | E4: 10.61 | G4: 220 | H4: =IF(OR(ISNUMBER(MATCH(C4,Sheet1!C$9:C$60,0)),G4<>Sheet1!$C$2),"",ROW()) | I4: =IF(AND(ISNUMBER(MATCH($C4,Sheet1!$C$9:$C$60,0)),$G4=Sheet1!$C$2),C4,"") -> BREAKER;1 POLE;4A
A5: 7 | B5: 308104 | C5: BREAKER;1 POLE;2A; | D5: 1 | E5: 10.61 | G5: 220 | H5: =IF(OR(ISNUMBER(MATCH(C5,Sheet1!C$9:C$60,0)),G5<>Sheet1!$C$2),"",ROW()) | I5: =IF(AND(ISNUMBER(MATCH($C5,Sheet1!$C$9:$C$60,0)),$G5=Sheet1!$C$2),C5,"") -> BREAKER;1 POLE;2A;
A6: 8 | B6: 296952 | C6: BREAKER;1 POLE;6A; | D6: 1 | E6: 9.71 | G6: 220 | H6: =IF(OR(ISNUMBER(MATCH(C6,Sheet1!C$9:C$60,0)),G6<>Sheet1!$C$2),"",ROW()) | I6: =IF(AND(ISNUMBER(MATCH($C6,Sheet1!$C$9:$C$60,0)),$G6=Sheet1!$C$2),C6,"") -> BREAKER;1 POLE;6A;
A7: 10 | B7: 7135 | C7: POWER SUPPLY | D7: 1 | E7: 138.4 | G7: 220 | H7: =IF(OR(ISNUMBER(MATCH(C7,Sheet1!C$9:C$60,0)),G7<>Sheet1!$C$2),"",ROW()) | I7: =IF(AND(ISNUMBER(MATCH($C7,Sheet1!$C$9:$C$60,0)),$G7=Sheet1!$C$2),C7,"") -> POWER SUPPLY
A8: 12 | B8: 353021 | C8: EM. STOP MUSHROOM PUSHBUTTON, | D8: 1 | E8: 9.324 | G8: 220 | H8: =IF(OR(ISNUMBER(MATCH(C8,Sheet1!C$9:C$60,0)),G8<>Sheet1!$C$2),"",ROW()) | I8: =IF(AND(ISNUMBER(MATCH($C8,Sheet1!$C$9:$C$60,0)),$G8=Sheet1!$C$2),C8,"") -> EM. STOP MUSHROOM PUSHBUTTON,
A9: 13 | B9: 353057 | C9: CONTACT MODULE 2NC | D9: 1 | E9: 4.998 | G9: 220 | H9: =IF(OR(ISNUMBER(MATCH(C9,Sheet1!C$9:C$60,0)),G9<>Sheet1!$C$2),"",ROW()) | I9: =IF(AND(ISNUMBER(MATCH($C9,Sheet1!$C$9:$C$60,0)),$G9=Sheet1!$C$2),C9,"") -> CONTACT MODULE 2NC
A10: 14 | B10: 353041 | C10: LABEL HOLDER | D10: 3 | E10: 0.286 | G10: 220 | H10: =IF(OR(ISNUMBER(MATCH(C10,Sheet1!C$9:C$60,0)),G10<>Sheet1!$C$2),"",ROW()) | I10: =IF(AND(ISNUMBER(MATCH($C10,Sheet1!$C$9:$C$60,0)),$G10=Sheet1!$C$2),C10,"") -> LABEL HOLDER
A11: 15 | B11: 353043 | C11: LABELING PLATE, SELF-ADHESIVE | D11: 6 | E11: 0.2906 | G11: 220 | H11: =IF(OR(ISNUMBER(MATCH(C11,Sheet1!C$9:C$60,0)),G11<>Sheet1!$C$2),"",ROW()) | I11: =IF(AND(ISNUMBER(MATCH($C11,Sheet1!$C$9:$C$60,0)),$G11=Sheet1!$C$2),C11,"") -> LABELING PLATE, SELF-ADHESIVE
A12: 16 | B12: 145157 | C12: RELAY E-STOP | D12: 1 | E12: 179.2 | G12: 220 | H12: =IF(OR(ISNUMBER(MATCH(C12,Sheet1!C$9:C$60,0)),G12<>Sheet1!$C$2),"",ROW()) | I12: =IF(AND(ISNUMBER(MATCH($C12,Sheet1!$C$9:$C$60,0)),$G12=Sheet1!$C$2),C12,"") -> RELAY E-STOP
... A15: 20 | B15: 287147 | C15: RELAY SOCKET BASE 14 PIN | D15: 12 | E15: 7.1 | G15: 220 | H15: =IF(OR(ISNUMBER(MATCH(C15,Sheet1!C$9:C$60,0)),G15<>Sheet1!$C$2),"",ROW()) | I15: =IF(AND(ISNUMBER(MATCH($C15,Sheet1!$C$9:$C$60,0)),$G15=Sheet1!$C$2),C15,"") -> RELAY SOCKET BASE 14 PIN
A16: 21 | B16: 287146 | C16: ELECT.RELAY. | E16: 5.53 | G16: 220 | H16: =IF(OR(ISNUMBER(MATCH(C16,Sheet1!C$9:C$60,0)),G16<>Sheet1!$C$2),"",ROW()) | I16: =IF(AND(ISNUMBER(MATCH($C16,Sheet1!$C$9:$C$60,0)),$G16=Sheet1!$C$2),C16,"") -> ELECT.RELAY.
A17: 23 | B17: 143981 | C17: TERMINAL BLOCK 0.5-4MM2 2,5ZDU | D17: 40 | E17: 0.5166 | G17: 220 | H17: =IF(OR(ISNUMBER(MATCH(C17,Sheet1!C$9:C$60,0)),G17<>Sheet1!$C$2),"",ROW()) | I17: =IF(AND(ISNUMBER(MATCH($C17,Sheet1!$C$9:$C$60,0)),$G17=Sheet1!$C$2),C17,"") -> TERMINAL BLOCK 0.5-4MM2 2,5ZDU
A18: 24 | B18: 293545 | C18: END PLATE ZAP / TW1;1608740000 | D18: 6 | E18: 0.2467 | G18: 220 | H18: =IF(OR(ISNUMBER(MATCH(C18,Sheet1!C$9:C$60,0)),G18<>Sheet1!$C$2),"",ROW()) | I18: =IF(AND(ISNUMBER(MATCH($C18,Sheet1!$C$9:$C$60,0)),$G18=Sheet1!$C$2),C18,"") -> END PLATE ZAP / TW1;1608740000
A19: 25 | B19: 293541 | C19: EWK1 TERMINAL END BRACKET | D19: 7 | E19: 0.3321 | G19: 220 | H19: =IF(OR(ISNUMBER(MATCH(C19,Sheet1!C$9:C$60,0)),G19<>Sheet1!$C$2),"",ROW()) | I19: =IF(AND(ISNUMBER(MATCH($C19,Sheet1!$C$9:$C$60,0)),$G19=Sheet1!$C$2),C19,"") -> EWK1 TERMINAL END BRACKET
A20: 26 | B20: 293814 | C20: TERMINAL,BLU 0.5-4MM2,ZDU2.5 | D20: 2 | E20: 0.5166 | G20: 220 | H20: =IF(OR(ISNUMBER(MATCH(C20,Sheet1!C$9:C$60,0)),G20<>Sheet1!$C$2),"",ROW()) | I20: =IF(AND(ISNUMBER(MATCH($C20,Sheet1!$C$9:$C$60,0)),$G20=Sheet1!$C$2),C20,"") -> TERMINAL,BLU 0.5-4MM2,ZDU2.5
A21: 27 | B21: 143974 | C21: EARTH TERMINAL ZPE 2,5 | D21: 6 | E21: 1.803 | G21: 220 | H21: =IF(OR(ISNUMBER(MATCH(C21,Sheet1!C$9:C$60,0)),G21<>Sheet1!$C$2),"",ROW()) | I21: =IF(AND(ISNUMBER(MATCH($C21,Sheet1!$C$9:$C$60,0)),$G21=Sheet1!$C$2),C21,"") -> EARTH TERMINAL ZPE 2,5
A22: 28 | B22: 293901 | C22: E507 MARKING STRIP | D22: 6 | E22: 1.191 | G22: 220 | H22: =IF(OR(ISNUMBER(MATCH(C22,Sheet1!C$9:C$60,0)),G22<>Sheet1!$C$2),"",ROW()) | I22: =IF(AND(ISNUMBER(MATCH($C22,Sheet1!$C$9:$C$60,0)),$G22=Sheet1!$C$2),C22,"") -> E507 MARKING STRIP
A23: 29 | B23: 293818 | C23: TERMINAL, GROUP CARRIER,SCHT 7 | D23: 6 | E23: 0.1773 | G23: 220 | H23: =IF(OR(ISNUMBER(MATCH(C23,Sheet1!C$9:C$60,0)),G23<>Sheet1!$C$2),"",ROW()) | I23: =IF(AND(ISNUMBER(MATCH($C23,Sheet1!$C$9:$C$60,0)),$G23=Sheet1!$C$2),C23,"") -> TERMINAL, GROUP CARRIER,SCHT 7
A24: 31 | B24: 143981 | C24: TERMINAL BLOCK 0.5-4MM2 2,5ZDU | D24: 3 | E24: 0.5166 | G24: 220 | H24: =IF(OR(ISNUMBER(MATCH(C24,Sheet1!C$9:C$60,0)),G24<>Sheet1!$C$2),"",ROW()) | I24: =IF(AND(ISNUMBER(MATCH($C24,Sheet1!$C$9:$C$60,0)),$G24=Sheet1!$C$2),C24,"") -> TERMINAL BLOCK 0.5-4MM2 2,5ZDU
A25: 33 | B25: 278334 | C25: CABLE GLAND;PLASTIC;SKINTOP | D25: 5 | E25: 0.21 | G25: 220 | H25: =IF(OR(ISNUMBER(MATCH(C25,Sheet1!C$9:C$60,0)),G25<>Sheet1!$C$2),"",ROW()) | I25: =IF(AND(ISNUMBER(MATCH($C25,Sheet1!$C$9:$C$60,0)),$G25=Sheet1!$C$2),C25,"") -> CABLE GLAND;PLASTIC;SKINTOP
A26: 34 | B26: 278335 | C26: CABLE GLAND;PLASTIC;SKINTOP | D26: 1 | E26: 0.32 | G26: 220 | H26: =IF(OR(ISNUMBER(MATCH(C26,Sheet1!C$9:C$60,0)),G26<>Sheet1!$C$2),"",ROW()) | I26: =IF(AND(ISNUMBER(MATCH($C26,Sheet1!$C$9:$C$60,0)),$G26=Sheet1!$C$2),C26,"") -> CABLE GLAND;PLASTIC;SKINTOP
A27: 36 | B27: 338533 | C27: SPEEDAC IQ KIT #4;PANEL MOUNT | D27: 1 | E27: 1356.9 | G27: 220 | H27: =IF(OR(ISNUMBER(MATCH(C27,Sheet1!C$9:C$60,0)),G27<>Sheet1!$C$2),"",ROW()) | I27: =IF(AND(ISNUMBER(MATCH($C27,Sheet1!$C$9:$C$60,0)),$G27=Sheet1!$C$2),C27,"") -> SPEEDAC IQ KIT #4;PANEL MOUNT
A28: 37 | B28: 145055 | C28: RELAY CONTACT 24VDC | D28: 4 | E28: 12.71 | G28: 220 | H28: =IF(OR(ISNUMBER(MATCH(C28,Sheet1!C$9:C$60,0)),G28<>Sheet1!$C$2),"",ROW()) | I28: =IF(AND(ISNUMBER(MATCH($C28,Sheet1!$C$9:$C$60,0)),$G28=Sheet1!$C$2),C28,"") -> RELAY CONTACT 24VDC
... A32: 42 | B32: 145152 | C32: INTR. SAFE RELAY - 1 CHANNEL | D32: 1 | E32: 108 | G32: 220 | H32: =IF(OR(ISNUMBER(MATCH(C32,Sheet1!C$9:C$60,0)),G32<>Sheet1!$C$2),"",ROW()) -> 32 | I32: =IF(AND(ISNUMBER(MATCH($C32,Sheet1!$C$9:$C$60,0)),$G32=Sheet1!$C$2),C32,"")
A33: 43 | B33: 287681 | C33: MACHINE NUMBER PLATE | E33: 0.0127 | G33: 220 | H33: =IF(OR(ISNUMBER(MATCH(C33,Sheet1!C$9:C$60,0)),G33<>Sheet1!$C$2),"",ROW()) | I33: =IF(AND(ISNUMBER(MATCH($C33,Sheet1!$C$9:$C$60,0)),$G33=Sheet1!$C$2),C33,"") -> MACHINE NUMBER PLATE
A34: 44 | B34: 291933 | C34: WARNING LABEL WIRING 85X30MM | E34: 4.75 | G34: 220 | H34: =IF(OR(ISNUMBER(MATCH(C34,Sheet1!C$9:C$60,0)),G34<>Sheet1!$C$2),"",ROW()) | I34: =IF(AND(ISNUMBER(MATCH($C34,Sheet1!$C$9:$C$60,0)),$G34=Sheet1!$C$2),C34,"") -> WARNING LABEL WIRING 85X30MM
A35: 45 | B35: 277762 | C35: STICKER WARNING SIGN 75X90MM | E35: 12.8 | G35: 220 | H35: =IF(OR(ISNUMBER(MATCH(C35,Sheet1!C$9:C$60,0)),G35<>Sheet1!$C$2),"",ROW()) -> 35 | I35: =IF(AND(ISNUMBER(MATCH($C35,Sheet1!$C$9:$C$60,0)),$G35=Sheet1!$C$2),C35,"")
A36: 2 | B36: 279484 | C36: ENCLOSURE;060X060X021CM; | D36: 1 | E36: € 85,99 | G36: 380 | H36: =IF(OR(ISNUMBER(MATCH(C36,Sheet1!C$9:C$60,0)),G36<>Sheet1!$C$2),"",ROW()) | I36: =IF(AND(ISNUMBER(MATCH($C36,Sheet1!$C$9:$C$60,0)),$G36=Sheet1!$C$2),C36,"")
A37: 3 | B37: 295902 | C37: ENCLOSURE;MTG BRACKET KIT; | D37: 4 | E37: € 2,08 | G37: 380 | H37: =IF(OR(ISNUMBER(MATCH(C37,Sheet1!C$9:C$60,0)),G37<>Sheet1!$C$2),"",ROW()) | I37: =IF(AND(ISNUMBER(MATCH($C37,Sheet1!$C$9:$C$60,0)),$G37=Sheet1!$C$2),C37,"")
A38: 4 | B38: 307757 | C38: MAIN SWITCH 25A 3 POS N | D38: 1 | E38: € 17,52 | G38: 380 | H38: =IF(OR(ISNUMBER(MATCH(C38,Sheet1!C$9:C$60,0)),G38<>Sheet1!$C$2),"",ROW()) | I38: =IF(AND(ISNUMBER(MATCH($C38,Sheet1!$C$9:$C$60,0)),$G38=Sheet1!$C$2),C38,"")
A39: 6 | B39: 308106 | C39: BREAKER;1 POLE;4A | D39: 1 | E39: € 10,61 | G39: 380 | H39: =IF(OR(ISNUMBER(MATCH(C39,Sheet1!C$9:C$60,0)),G39<>Sheet1!$C$2),"",ROW()) | I39: =IF(AND(ISNUMBER(MATCH($C39,Sheet1!$C$9:$C$60,0)),$G39=Sheet1!$C$2),C39,"")
A40: 7 | B40: 308104 | C40: BREAKER;1 POLE;2A; | D40: 1 | E40: € 10,61 | G40: 380 | H40: =IF(OR(ISNUMBER(MATCH(C40,Sheet1!C$9:C$60,0)),G40<>Sheet1!$C$2),"",ROW()) | I40: =IF(AND(ISNUMBER(MATCH($C40,Sheet1!$C$9:$C$60,0)),$G40=Sheet1!$C$2),C40,"")
A41: 8 | B41: 282814 | C41: BREAKER;3 POLE;6A | D41: 1 | E41: € 25,71 | G41: 380 | H41: =IF(OR(ISNUMBER(MATCH(C41,Sheet1!C$9:C$60,0)),G41<>Sheet1!$C$2),"",ROW()) | I41: =IF(AND(ISNUMBER(MATCH($C41,Sheet1!$C$9:$C$60,0)),$G41=Sheet1!$C$2),C41,"")
A42: 10 | B42: 210255 | C42: POWER SUPPLY 24VDC/10A (400V) | D42: 1 | E42: € 128,00 | G42: 380 | H42: =IF(OR(ISNUMBER(MATCH(C42,Sheet1!C$9:C$60,0)),G42<>Sheet1!$C$2),"",ROW()) | I42: =IF(AND(ISNUMBER(MATCH($C42,Sheet1!$C$9:$C$60,0)),$G42=Sheet1!$C$2),C42,"")
A43: 12 | B43: 353021 | C43: EM. STOP MUSHROOM PUSHBUTTON, | D43: 1 | E43: € 9,32 | G43: 380 | H43: =IF(OR(ISNUMBER(MATCH(C43,Sheet1!C$9:C$60,0)),G43<>Sheet1!$C$2),"",ROW()) | I43: =IF(AND(ISNUMBER(MATCH($C43,Sheet1!$C$9:$C$60,0)),$G43=Sheet1!$C$2),C43,"")
A44: 13 | B44: 353057 | C44: CONTACT MODULE 2NC | D44: 1 | E44: € 5,00 | G44: 380 | H44: =IF(OR(ISNUMBER(MATCH(C44,Sheet1!C$9:C$60,0)),G44<>Sheet1!$C$2),"",ROW()) | I44: =IF(AND(ISNUMBER(MATCH($C44,Sheet1!$C$9:$C$60,0)),$G44=Sheet1!$C$2),C44,"")
A45: 14 | B45: 353041 | C45: LABEL HOLDER | D45: 3 | E45: € 0,29 | G45: 380 | H45: =IF(OR(ISNUMBER(MATCH(C45,Sheet1!C$9:C$60,0)),G45<>Sheet1!$C$2),"",ROW()) | I45: =IF(AND(ISNUMBER(MATCH($C45,Sheet1!$C$9:$C$60,0)),$G45=Sheet1!$C$2),C45,"")
...
