Workbook

Sheet FICHE AGENT
A1: FICHE AGENT CDQVT | M1: =IF(COUNTA($M$1:M1)<=$N$1,SMALL(Feuil1!AA:AA,ROW()),"") -> 2 | N1: =COUNTIF(Feuil1!AA:AA,">=1") -> 4
A2: NOM PRENOM: | C2: TOTO JACQUE | D2: MATRICULE: | E2: =INDIRECT("Feuil1!B"&MATCH(C2,Feuil1!C2:C6,0)+1,1) -> 123456 | F2: ville d'habitation | G2: =IFERROR(INDIRECT("Feuil1!"&ADDRESS(M1,MATCH(F2,Feuil1!$A$1:$Z$1,0)),1),"") -> PARIS | H2: STATUT | I2: =IFERROR(INDIRECT("Feuil1!"&ADDRESS(M1,MATCH(H2,Feuil1!$A$1:$Z$1,0)),1),"") -> PRIVE | M2: =IF(COUNTA($M$1:M2)<=$N$1,SMALL(Feuil1!AA:AA,ROW()),"") -> 3
A3: date fin RQTH | C3: =IFERROR(INDIRECT("Feuil1!"&ADDRESS(M1,MATCH(A3,Feuil1!$A$1:$Z$1,0)),1),"") -> 43435 | D3: AGE | E3: =IFERROR(INDIRECT("Feuil1!"&ADDRESS(M1,MATCH(D3,Feuil1!$A$1:$Z$1,0)),1),"") -> 25 | F3: SEXE | G3: =IFERROR(INDIRECT("Feuil1!"&ADDRESS(M1,MATCH(F3,Feuil1!$A$1:$Z$1,0)),1),"") -> MASCULIN | H3: DT/Dir | I3: =IFERROR(INDIRECT("Feuil1!"&ADDRESS(M1,MATCH(H3,Feuil1!$A$1:$Z$1,0)),1),"") -> VERSAILLE | M3: =IF(COUNTA($M$1:M3)<=$N$1,SMALL(Feuil1!AA:AA,ROW()),"") -> 5
A4: SITE | C4: =IFERROR(INDIRECT("Feuil1!"&ADDRESS(M1,MATCH(A4,Feuil1!$A$1:$Z$1,0)),1),"") -> PARIS15 | D4: Responsable n+1 | E4: =IFERROR(INDIRECT("Feuil1!"&ADDRESS(M1,MATCH(D4,Feuil1!$A$1:$Z$1,0)),1),"") -> JACQUES | F4: Ancienneté | G4: =IFERROR(INDIRECT("Feuil1!"&ADDRESS(M1,MATCH(F4,Feuil1!$A$1:$Z$1,0)),1),"") -> 2014 | H4: POSTE ACTUEL | I4: =IFERROR(INDIRECT("Feuil1!"&ADDRESS(M1,MATCH(H4,Feuil1!$A$1:$Z$1,0)),1),"") -> AGENT | M4: =IF(COUNTA($M$1:M4)<=$N$1,SMALL(Feuil1!AA:AA,ROW()),"") -> 6
A5: quotité Temps. Travail | C5: =IFERROR(INDIRECT("Feuil1!"&ADDRESS(M1,MATCH(A5,Feuil1!$A$1:$Z$1,0)),1),"") -> 1 | D5: télé travail | E5: =IFERROR(INDIRECT("Feuil1!"&ADDRESS(M1,MATCH(D5,Feuil1!$A$1:$Z$1,0)),1),"") -> OUI | F5: N° Sécu ? | G5: =IFERROR(INDIRECT("Feuil1!"&ADDRESS(M1,MATCH(F5,Feuil1!$A$1:$Z$1,0)),1),"") -> 17012******* | M5: =IF(COUNTA($M$1:M5)<=$N$1,SMALL(Feuil1!AA:AA,ROW()),"")
M6: =IF(COUNTA($M$1:M6)<=$N$1,SMALL(Feuil1!AA:AA,ROW()),"")
A7: Niveau RPS | B7: Type situation | D7: Date de l'alerte | E7: Origine de l'alerte | F7: Soutien Syndical | G7: description de la demande | H7: Date Action | I7: Action | J7: Acteur sollicité | K7: Observations | L7: Date | M7: =IF(COUNTA($M$1:M7)<=$N$1,SMALL(Feuil1!AA:AA,ROW()),"")
A8: =IFERROR(INDIRECT("Feuil1!"&ADDRESS(M1,MATCH(A$7,Feuil1!$A$1:$Z$1,0)),1),"") -> 1 | B8: =IFERROR(INDIRECT("Feuil1!"&ADDRESS(M1,MATCH(B$7,Feuil1!$A$1:$Z$1,0)),1),"") -> Dificultés sociales (dettes, violence …) | D8: =IFERROR(INDIRECT("Feuil1!"&ADDRESS(M1,MATCH(D$7,Feuil1!$A$1:$Z$1,0)),1),"") -> 43291 | E8: =IFERROR(INDIRECT("Feuil1!"&ADDRESS(M1,MATCH(E$7,Feuil1!$A$1:$Z$1,0)),1),"") -> DAPE | F8: =IFERROR(INDIRECT("Feuil1!"&ADDRESS(M1,MATCH(F$7,Feuil1!$A$1:$Z$1,0)),1),"") -> O | G8: =IFERROR(INDIRECT("Feuil1!"&ADDRESS(M1,MATCH(G$7,Feuil1!$A$1:$Z$1,0)),1),"") -> JUSTE UN TEST | H8: =IFERROR(INDIRECT("Feuil1!"&ADDRESS(M1,MATCH(H$7,Feuil1!$A$1:$Z$1,0)),1),"") -> 43292 | I8: =IFERROR(INDIRECT("Feuil1!"&ADDRESS(M1,MATCH(I$7,Feuil1!$A$1:$Z$1,0)),1),"") -> Contact… | J8: =IFERROR(INDIRECT("Feuil1!"&ADDRESS(M1,MATCH(J$7,Feuil1!$A$1:$Z$1,0)),1),"") -> ELD | K8: =IFERROR(INDIRECT("Feuil1!"&ADDRESS(M1,MATCH(K$7,Feuil1!$A$1:$Z$1,0)),1),"") -> OBESRVATION1 | L8: =IFERROR(INDIRECT("Feuil1!"&ADDRESS(M1,MATCH(L$7,Feuil1!$A$1:$Z$1,0)),1),"") -> 43293 | M8: =IF(COUNTA($M$1:M8)<=$N$1,SMALL(Feuil1!AA:AA,ROW()),"")
A9: =IFERROR(INDIRECT("Feuil1!"&ADDRESS(M2,MATCH(A$7,Feuil1!$A$1:$Z$1,0)),1),"") -> 3 | B9: =IFERROR(INDIRECT("Feuil1!"&ADDRESS(M2,MATCH(B$7,Feuil1!$A$1:$Z$1,0)),1),"") -> Décès | C9: =IFERROR(INDIRECT("Feuil1!"&ADDRESS(M2,MATCH(C$7,Feuil1!$A$1:$Z$1,0)),1),"") | D9: =IFERROR(INDIRECT("Feuil1!"&ADDRESS(M2,MATCH(D$7,Feuil1!$A$1:$Z$1,0)),1),"") -> 43292 | E9: =IFERROR(INDIRECT("Feuil1!"&ADDRESS(M2,MATCH(E$7,Feuil1!$A$1:$Z$1,0)),1),"") -> AGENT | F9: =IFERROR(INDIRECT("Feuil1!"&ADDRESS(M2,MATCH(F$7,Feuil1!$A$1:$Z$1,0)),1),"") -> N | G9: =IFERROR(INDIRECT("Feuil1!"&ADDRESS(M2,MATCH(G$7,Feuil1!$A$1:$Z$1,0)),1),"") -> DEUXIEME TEST | H9: =IFERROR(INDIRECT("Feuil1!"&ADDRESS(M2,MATCH(H$7,Feuil1!$A$1:$Z$1,0)),1),"") -> 43292 | I9: =IFERROR(INDIRECT("Feuil1!"&ADDRESS(M2,MATCH(I$7,Feuil1!$A$1:$Z$1,0)),1),"") -> DAT… | J9: =IFERROR(INDIRECT("Feuil1!"&ADDRESS(M2,MATCH(J$7,Feuil1!$A$1:$Z$1,0)),1),"") -> Charg. Diversité | K9: =IFERROR(INDIRECT("Feuil1!"&ADDRESS(M2,MATCH(K$7,Feuil1!$A$1:$Z$1,0)),1),"") -> OBESRVATION2 | L9: =IFERROR(INDIRECT("Feuil1!"&ADDRESS(M2,MATCH(L$7,Feuil1!$A$1:$Z$1,0)),1),"") -> 43294 | M9: =IF(COUNTA($M$1:M9)<=$N$1,SMALL(Feuil1!AA:AA,ROW()),"")
A10: =IFERROR(INDIRECT("Feuil1!"&ADDRESS(M3,MATCH(A$7,Feuil1!$A$1:$Z$1,0)),1),"") -> 2 | B10: =IFERROR(INDIRECT("Feuil1!"&ADDRESS(M3,MATCH(B$7,Feuil1!$A$1:$Z$1,0)),1),"") -> Mal être au travail | C10: =IFERROR(INDIRECT("Feuil1!"&ADDRESS(M3,MATCH(C$7,Feuil1!$A$1:$Z$1,0)),1),"") | D10: =IFERROR(INDIRECT("Feuil1!"&ADDRESS(M3,MATCH(D$7,Feuil1!$A$1:$Z$1,0)),1),"") -> 43291 | E10: =IFERROR(INDIRECT("Feuil1!"&ADDRESS(M3,MATCH(E$7,Feuil1!$A$1:$Z$1,0)),1),"") -> DAPE | F10: =IFERROR(INDIRECT("Feuil1!"&ADDRESS(M3,MATCH(F$7,Feuil1!$A$1:$Z$1,0)),1),"") -> O | G10: =IFERROR(INDIRECT("Feuil1!"&ADDRESS(M3,MATCH(G$7,Feuil1!$A$1:$Z$1,0)),1),"") -> quatrieme | H10: =IFERROR(INDIRECT("Feuil1!"&ADDRESS(M3,MATCH(H$7,Feuil1!$A$1:$Z$1,0)),1),"") -> 43292 | I10: =IFERROR(INDIRECT("Feuil1!"&ADDRESS(M3,MATCH(I$7,Feuil1!$A$1:$Z$1,0)),1),"") -> Intervention …. | J10: =IFERROR(INDIRECT("Feuil1!"&ADDRESS(M3,MATCH(J$7,Feuil1!$A$1:$Z$1,0)),1),"") -> ELD | K10: =IFERROR(INDIRECT("Feuil1!"&ADDRESS(M3,MATCH(K$7,Feuil1!$A$1:$Z$1,0)),1),"") -> OBESRVATION4 | L10: =IFERROR(INDIRECT("Feuil1!"&ADDRESS(M3,MATCH(L$7,Feuil1!$A$1:$Z$1,0)),1),"") -> 43293 | M10: =IF(COUNTA($M$1:M10)<=$N$1,SMALL(Feuil1!AA:AA,ROW()),"")
A11: =IFERROR(INDIRECT("Feuil1!"&ADDRESS(M4,MATCH(A$7,Feuil1!$A$1:$Z$1,0)),1),"") -> 3 | B11: =IFERROR(INDIRECT("Feuil1!"&ADDRESS(M4,MATCH(B$7,Feuil1!$A$1:$Z$1,0)),1),"") -> Décès | C11: =IFERROR(INDIRECT("Feuil1!"&ADDRESS(M4,MATCH(C$7,Feuil1!$A$1:$Z$1,0)),1),"") | D11: =IFERROR(INDIRECT("Feuil1!"&ADDRESS(M4,MATCH(D$7,Feuil1!$A$1:$Z$1,0)),1),"") -> 43292 | E11: =IFERROR(INDIRECT("Feuil1!"&ADDRESS(M4,MATCH(E$7,Feuil1!$A$1:$Z$1,0)),1),"") -> AGENT | F11: =IFERROR(INDIRECT("Feuil1!"&ADDRESS(M4,MATCH(F$7,Feuil1!$A$1:$Z$1,0)),1),"") -> N | G11: =IFERROR(INDIRECT("Feuil1!"&ADDRESS(M4,MATCH(G$7,Feuil1!$A$1:$Z$1,0)),1),"") -> cinquieme | H11: =IFERROR(INDIRECT("Feuil1!"&ADDRESS(M4,MATCH(H$7,Feuil1!$A$1:$Z$1,0)),1),"") -> 43293 | I11: =IFERROR(INDIRECT("Feuil1!"&ADDRESS(M4,MATCH(I$7,Feuil1!$A$1:$Z$1,0)),1),"") -> DAT… | J11: =IFERROR(INDIRECT("Feuil1!"&ADDRESS(M4,MATCH(J$7,Feuil1!$A$1:$Z$1,0)),1),"") -> Charg. Diversité | K11: =IFERROR(INDIRECT("Feuil1!"&ADDRESS(M4,MATCH(K$7,Feuil1!$A$1:$Z$1,0)),1),"") -> OBESRVATION5 | L11: =IFERROR(INDIRECT("Feuil1!"&ADDRESS(M4,MATCH(L$7,Feuil1!$A$1:$Z$1,0)),1),"") -> 43294 | M11: =IF(COUNTA($M$1:M11)<=$N$1,SMALL(Feuil1!AA:AA,ROW()),"")
A12: =IFERROR(INDIRECT("Feuil1!"&ADDRESS(M5,MATCH(A$7,Feuil1!$A$1:$Z$1,0)),1),"") | B12: =IFERROR(INDIRECT("Feuil1!"&ADDRESS(M5,MATCH(B$7,Feuil1!$A$1:$Z$1,0)),1),"") | C12: =IFERROR(INDIRECT("Feuil1!"&ADDRESS(M5,MATCH(C$7,Feuil1!$A$1:$Z$1,0)),1),"") | D12: =IFERROR(INDIRECT("Feuil1!"&ADDRESS(M5,MATCH(D$7,Feuil1!$A$1:$Z$1,0)),1),"") | E12: =IFERROR(INDIRECT("Feuil1!"&ADDRESS(M5,MATCH(E$7,Feuil1!$A$1:$Z$1,0)),1),"") | F12: =IFERROR(INDIRECT("Feuil1!"&ADDRESS(M5,MATCH(F$7,Feuil1!$A$1:$Z$1,0)),1),"") | G12: =IFERROR(INDIRECT("Feuil1!"&ADDRESS(M5,MATCH(G$7,Feuil1!$A$1:$Z$1,0)),1),"") | H12: =IFERROR(INDIRECT("Feuil1!"&ADDRESS(M5,MATCH(H$7,Feuil1!$A$1:$Z$1,0)),1),"") | I12: =IFERROR(INDIRECT("Feuil1!"&ADDRESS(M5,MATCH(I$7,Feuil1!$A$1:$Z$1,0)),1),"") | J12: =IFERROR(INDIRECT("Feuil1!"&ADDRESS(M5,MATCH(J$7,Feuil1!$A$1:$Z$1,0)),1),"") | K12: =IFERROR(INDIRECT("Feuil1!"&ADDRESS(M5,MATCH(K$7,Feuil1!$A$1:$Z$1,0)),1),"") | L12: =IFERROR(INDIRECT("Feuil1!"&ADDRESS(M5,MATCH(L$7,Feuil1!$A$1:$Z$1,0)),1),"") | M12: =IF(COUNTA($M$1:M12)<=$N$1,SMALL(Feuil1!AA:AA,ROW()),"")
A13: =IFERROR(INDIRECT("Feuil1!"&ADDRESS(M6,MATCH(A$7,Feuil1!$A$1:$Z$1,0)),1),"") | B13: =IFERROR(INDIRECT("Feuil1!"&ADDRESS(M6,MATCH(B$7,Feuil1!$A$1:$Z$1,0)),1),"") | C13: =IFERROR(INDIRECT("Feuil1!"&ADDRESS(M6,MATCH(C$7,Feuil1!$A$1:$Z$1,0)),1),"") | D13: =IFERROR(INDIRECT("Feuil1!"&ADDRESS(M6,MATCH(D$7,Feuil1!$A$1:$Z$1,0)),1),"") | E13: =IFERROR(INDIRECT("Feuil1!"&ADDRESS(M6,MATCH(E$7,Feuil1!$A$1:$Z$1,0)),1),"") | F13: =IFERROR(INDIRECT("Feuil1!"&ADDRESS(M6,MATCH(F$7,Feuil1!$A$1:$Z$1,0)),1),"") | G13: =IFERROR(INDIRECT("Feuil1!"&ADDRESS(M6,MATCH(G$7,Feuil1!$A$1:$Z$1,0)),1),"") | H13: =IFERROR(INDIRECT("Feuil1!"&ADDRESS(M6,MATCH(H$7,Feuil1!$A$1:$Z$1,0)),1),"") | I13: =IFERROR(INDIRECT("Feuil1!"&ADDRESS(M6,MATCH(I$7,Feuil1!$A$1:$Z$1,0)),1),"") | J13: =IFERROR(INDIRECT("Feuil1!"&ADDRESS(M6,MATCH(J$7,Feuil1!$A$1:$Z$1,0)),1),"") | K13: =IFERROR(INDIRECT("Feuil1!"&ADDRESS(M6,MATCH(K$7,Feuil1!$A$1:$Z$1,0)),1),"") | L13: =IFERROR(INDIRECT("Feuil1!"&ADDRESS(M6,MATCH(L$7,Feuil1!$A$1:$Z$1,0)),1),"") | M13: =IF(COUNTA($M$1:M13)<=$N$1,SMALL(Feuil1!AA:AA,ROW()),"")
A14: =IFERROR(INDIRECT("Feuil1!"&ADDRESS(M7,MATCH(A$7,Feuil1!$A$1:$Z$1,0)),1),"") | B14: =IFERROR(INDIRECT("Feuil1!"&ADDRESS(M7,MATCH(B$7,Feuil1!$A$1:$Z$1,0)),1),"") | C14: =IFERROR(INDIRECT("Feuil1!"&ADDRESS(M7,MATCH(C$7,Feuil1!$A$1:$Z$1,0)),1),"") | D14: =IFERROR(INDIRECT("Feuil1!"&ADDRESS(M7,MATCH(D$7,Feuil1!$A$1:$Z$1,0)),1),"") | E14: =IFERROR(INDIRECT("Feuil1!"&ADDRESS(M7,MATCH(E$7,Feuil1!$A$1:$Z$1,0)),1),"") | F14: =IFERROR(INDIRECT("Feuil1!"&ADDRESS(M7,MATCH(F$7,Feuil1!$A$1:$Z$1,0)),1),"") | G14: =IFERROR(INDIRECT("Feuil1!"&ADDRESS(M7,MATCH(G$7,Feuil1!$A$1:$Z$1,0)),1),"") | H14: =IFERROR(INDIRECT("Feuil1!"&ADDRESS(M7,MATCH(H$7,Feuil1!$A$1:$Z$1,0)),1),"") | I14: =IFERROR(INDIRECT("Feuil1!"&ADDRESS(M7,MATCH(I$7,Feuil1!$A$1:$Z$1,0)),1),"") | J14: =IFERROR(INDIRECT("Feuil1!"&ADDRESS(M7,MATCH(J$7,Feuil1!$A$1:$Z$1,0)),1),"") | K14: =IFERROR(INDIRECT("Feuil1!"&ADDRESS(M7,MATCH(K$7,Feuil1!$A$1:$Z$1,0)),1),"") | L14: =IFERROR(INDIRECT("Feuil1!"&ADDRESS(M7,MATCH(L$7,Feuil1!$A$1:$Z$1,0)),1),"") | M14: =IF(COUNTA($M$1:M14)<=$N$1,SMALL(Feuil1!AA:AA,ROW()),"")
A15: =IFERROR(INDIRECT("Feuil1!"&ADDRESS(M8,MATCH(A$7,Feuil1!$A$1:$Z$1,0)),1),"") | B15: =IFERROR(INDIRECT("Feuil1!"&ADDRESS(M8,MATCH(B$7,Feuil1!$A$1:$Z$1,0)),1),"") | C15: =IFERROR(INDIRECT("Feuil1!"&ADDRESS(M8,MATCH(C$7,Feuil1!$A$1:$Z$1,0)),1),"") | D15: =IFERROR(INDIRECT("Feuil1!"&ADDRESS(M8,MATCH(D$7,Feuil1!$A$1:$Z$1,0)),1),"") | E15: =IFERROR(INDIRECT("Feuil1!"&ADDRESS(M8,MATCH(E$7,Feuil1!$A$1:$Z$1,0)),1),"") | F15: =IFERROR(INDIRECT("Feuil1!"&ADDRESS(M8,MATCH(F$7,Feuil1!$A$1:$Z$1,0)),1),"") | G15: =IFERROR(INDIRECT("Feuil1!"&ADDRESS(M8,MATCH(G$7,Feuil1!$A$1:$Z$1,0)),1),"") | H15: =IFERROR(INDIRECT("Feuil1!"&ADDRESS(M8,MATCH(H$7,Feuil1!$A$1:$Z$1,0)),1),"") | I15: =IFERROR(INDIRECT("Feuil1!"&ADDRESS(M8,MATCH(I$7,Feuil1!$A$1:$Z$1,0)),1),"") | J15: =IFERROR(INDIRECT("Feuil1!"&ADDRESS(M8,MATCH(J$7,Feuil1!$A$1:$Z$1,0)),1),"") | K15: =IFERROR(INDIRECT("Feuil1!"&ADDRESS(M8,MATCH(K$7,Feuil1!$A$1:$Z$1,0)),1),"") | L15: =IFERROR(INDIRECT("Feuil1!"&ADDRESS(M8,MATCH(L$7,Feuil1!$A$1:$Z$1,0)),1),"") | M15: =IF(COUNTA($M$1:M15)<=$N$1,SMALL(Feuil1!AA:AA,ROW()),"")
A16: =IFERROR(INDIRECT("Feuil1!"&ADDRESS(M9,MATCH(A$7,Feuil1!$A$1:$Z$1,0)),1),"") | B16: =IFERROR(INDIRECT("Feuil1!"&ADDRESS(M9,MATCH(B$7,Feuil1!$A$1:$Z$1,0)),1),"") | C16: =IFERROR(INDIRECT("Feuil1!"&ADDRESS(M9,MATCH(C$7,Feuil1!$A$1:$Z$1,0)),1),"") | D16: =IFERROR(INDIRECT("Feuil1!"&ADDRESS(M9,MATCH(D$7,Feuil1!$A$1:$Z$1,0)),1),"") | E16: =IFERROR(INDIRECT("Feuil1!"&ADDRESS(M9,MATCH(E$7,Feuil1!$A$1:$Z$1,0)),1),"") | F16: =IFERROR(INDIRECT("Feuil1!"&ADDRESS(M9,MATCH(F$7,Feuil1!$A$1:$Z$1,0)),1),"") | G16: =IFERROR(INDIRECT("Feuil1!"&ADDRESS(M9,MATCH(G$7,Feuil1!$A$1:$Z$1,0)),1),"") | H16: =IFERROR(INDIRECT("Feuil1!"&ADDRESS(M9,MATCH(H$7,Feuil1!$A$1:$Z$1,0)),1),"") | I16: =IFERROR(INDIRECT("Feuil1!"&ADDRESS(M9,MATCH(I$7,Feuil1!$A$1:$Z$1,0)),1),"") | J16: =IFERROR(INDIRECT("Feuil1!"&ADDRESS(M9,MATCH(J$7,Feuil1!$A$1:$Z$1,0)),1),"") | K16: =IFERROR(INDIRECT("Feuil1!"&ADDRESS(M9,MATCH(K$7,Feuil1!$A$1:$Z$1,0)),1),"") | L16: =IFERROR(INDIRECT("Feuil1!"&ADDRESS(M9,MATCH(L$7,Feuil1!$A$1:$Z$1,0)),1),"") | M16: =IF(COUNTA($M$1:M16)<=$N$1,SMALL(Feuil1!AA:AA,ROW()),"")
A17: =IFERROR(INDIRECT("Feuil1!"&ADDRESS(M10,MATCH(A$7,Feuil1!$A$1:$Z$1,0)),1),"") | B17: =IFERROR(INDIRECT("Feuil1!"&ADDRESS(M10,MATCH(B$7,Feuil1!$A$1:$Z$1,0)),1),"") | C17: =IFERROR(INDIRECT("Feuil1!"&ADDRESS(M10,MATCH(C$7,Feuil1!$A$1:$Z$1,0)),1),"") | D17: =IFERROR(INDIRECT("Feuil1!"&ADDRESS(M10,MATCH(D$7,Feuil1!$A$1:$Z$1,0)),1),"") | E17: =IFERROR(INDIRECT("Feuil1!"&ADDRESS(M10,MATCH(E$7,Feuil1!$A$1:$Z$1,0)),1),"") | F17: =IFERROR(INDIRECT("Feuil1!"&ADDRESS(M10,MATCH(F$7,Feuil1!$A$1:$Z$1,0)),1),"") | G17: =IFERROR(INDIRECT("Feuil1!"&ADDRESS(M10,MATCH(G$7,Feuil1!$A$1:$Z$1,0)),1),"") | H17: =IFERROR(INDIRECT("Feuil1!"&ADDRESS(M10,MATCH(H$7,Feuil1!$A$1:$Z$1,0)),1),"") | I17: =IFERROR(INDIRECT("Feuil1!"&ADDRESS(M10,MATCH(I$7,Feuil1!$A$1:$Z$1,0)),1),"") | J17: =IFERROR(INDIRECT("Feuil1!"&ADDRESS(M10,MATCH(J$7,Feuil1!$A$1:$Z$1,0)),1),"") | K17: =IFERROR(INDIRECT("Feuil1!"&ADDRESS(M10,MATCH(K$7,Feuil1!$A$1:$Z$1,0)),1),"") | L17: =IFERROR(INDIRECT("Feuil1!"&ADDRESS(M10,MATCH(L$7,Feuil1!$A$1:$Z$1,0)),1),"") | M17: =IF(COUNTA($M$1:M17)<=$N$1,SMALL(Feuil1!AA:AA,ROW()),"")
A18: =IFERROR(INDIRECT("Feuil1!"&ADDRESS(M11,MATCH(A$7,Feuil1!$A$1:$Z$1,0)),1),"") | B18: =IFERROR(INDIRECT("Feuil1!"&ADDRESS(M11,MATCH(B$7,Feuil1!$A$1:$Z$1,0)),1),"") | C18: =IFERROR(INDIRECT("Feuil1!"&ADDRESS(M11,MATCH(C$7,Feuil1!$A$1:$Z$1,0)),1),"") | D18: =IFERROR(INDIRECT("Feuil1!"&ADDRESS(M11,MATCH(D$7,Feuil1!$A$1:$Z$1,0)),1),"") | E18: =IFERROR(INDIRECT("Feuil1!"&ADDRESS(M11,MATCH(E$7,Feuil1!$A$1:$Z$1,0)),1),"") | F18: =IFERROR(INDIRECT("Feuil1!"&ADDRESS(M11,MATCH(F$7,Feuil1!$A$1:$Z$1,0)),1),"") | G18: =IFERROR(INDIRECT("Feuil1!"&ADDRESS(M11,MATCH(G$7,Feuil1!$A$1:$Z$1,0)),1),"") | H18: =IFERROR(INDIRECT("Feuil1!"&ADDRESS(M11,MATCH(H$7,Feuil1!$A$1:$Z$1,0)),1),"") | I18: =IFERROR(INDIRECT("Feuil1!"&ADDRESS(M11,MATCH(I$7,Feuil1!$A$1:$Z$1,0)),1),"") | J18: =IFERROR(INDIRECT("Feuil1!"&ADDRESS(M11,MATCH(J$7,Feuil1!$A$1:$Z$1,0)),1),"") | K18: =IFERROR(INDIRECT("Feuil1!"&ADDRESS(M11,MATCH(K$7,Feuil1!$A$1:$Z$1,0)),1),"") | L18: =IFERROR(INDIRECT("Feuil1!"&ADDRESS(M11,MATCH(L$7,Feuil1!$A$1:$Z$1,0)),1),"") | M18: =IF(COUNTA($M$1:M18)<=$N$1,SMALL(Feuil1!AA:AA,ROW()),"")
A19: =IFERROR(INDIRECT("Feuil1!"&ADDRESS(M12,MATCH(A$7,Feuil1!$A$1:$Z$1,0)),1),"") | B19: =IFERROR(INDIRECT("Feuil1!"&ADDRESS(M12,MATCH(B$7,Feuil1!$A$1:$Z$1,0)),1),"") | C19: =IFERROR(INDIRECT("Feuil1!"&ADDRESS(M12,MATCH(C$7,Feuil1!$A$1:$Z$1,0)),1),"") | D19: =IFERROR(INDIRECT("Feuil1!"&ADDRESS(M12,MATCH(D$7,Feuil1!$A$1:$Z$1,0)),1),"") | E19: =IFERROR(INDIRECT("Feuil1!"&ADDRESS(M12,MATCH(E$7,Feuil1!$A$1:$Z$1,0)),1),"") | F19: =IFERROR(INDIRECT("Feuil1!"&ADDRESS(M12,MATCH(F$7,Feuil1!$A$1:$Z$1,0)),1),"") | G19: =IFERROR(INDIRECT("Feuil1!"&ADDRESS(M12,MATCH(G$7,Feuil1!$A$1:$Z$1,0)),1),"") | H19: =IFERROR(INDIRECT("Feuil1!"&ADDRESS(M12,MATCH(H$7,Feuil1!$A$1:$Z$1,0)),1),"") | I19: =IFERROR(INDIRECT("Feuil1!"&ADDRESS(M12,MATCH(I$7,Feuil1!$A$1:$Z$1,0)),1),"") | J19: =IFERROR(INDIRECT("Feuil1!"&ADDRESS(M12,MATCH(J$7,Feuil1!$A$1:$Z$1,0)),1),"") | K19: =IFERROR(INDIRECT("Feuil1!"&ADDRESS(M12,MATCH(K$7,Feuil1!$A$1:$Z$1,0)),1),"") | L19: =IFERROR(INDIRECT("Feuil1!"&ADDRESS(M12,MATCH(L$7,Feuil1!$A$1:$Z$1,0)),1),"") | M19: =IF(COUNTA($M$1:M19)<=$N$1,SMALL(Feuil1!AA:AA,ROW()),"")
A20: =IFERROR(INDIRECT("Feuil1!"&ADDRESS(M13,MATCH(A$7,Feuil1!$A$1:$Z$1,0)),1),"") | B20: =IFERROR(INDIRECT("Feuil1!"&ADDRESS(M13,MATCH(B$7,Feuil1!$A$1:$Z$1,0)),1),"") | C20: =IFERROR(INDIRECT("Feuil1!"&ADDRESS(M13,MATCH(C$7,Feuil1!$A$1:$Z$1,0)),1),"") | D20: =IFERROR(INDIRECT("Feuil1!"&ADDRESS(M13,MATCH(D$7,Feuil1!$A$1:$Z$1,0)),1),"") | E20: =IFERROR(INDIRECT("Feuil1!"&ADDRESS(M13,MATCH(E$7,Feuil1!$A$1:$Z$1,0)),1),"") | F20: =IFERROR(INDIRECT("Feuil1!"&ADDRESS(M13,MATCH(F$7,Feuil1!$A$1:$Z$1,0)),1),"") | G20: =IFERROR(INDIRECT("Feuil1!"&ADDRESS(M13,MATCH(G$7,Feuil1!$A$1:$Z$1,0)),1),"") | H20: =IFERROR(INDIRECT("Feuil1!"&ADDRESS(M13,MATCH(H$7,Feuil1!$A$1:$Z$1,0)),1),"") | I20: =IFERROR(INDIRECT("Feuil1!"&ADDRESS(M13,MATCH(I$7,Feuil1!$A$1:$Z$1,0)),1),"") | J20: =IFERROR(INDIRECT("Feuil1!"&ADDRESS(M13,MATCH(J$7,Feuil1!$A$1:$Z$1,0)),1),"") | K20: =IFERROR(INDIRECT("Feuil1!"&ADDRESS(M13,MATCH(K$7,Feuil1!$A$1:$Z$1,0)),1),"") | L20: =IFERROR(INDIRECT("Feuil1!"&ADDRESS(M13,MATCH(L$7,Feuil1!$A$1:$Z$1,0)),1),"") | M20: =IF(COUNTA($M$1:M20)<=$N$1,SMALL(Feuil1!AA:AA,ROW()),"")
... A28: =IFERROR(INDIRECT("Feuil1!"&ADDRESS(M21,MATCH(A$7,Feuil1!$A$1:$Z$1,0)),1),"") | B28: =IFERROR(INDIRECT("Feuil1!"&ADDRESS(M21,MATCH(B$7,Feuil1!$A$1:$Z$1,0)),1),"") | C28: =IFERROR(INDIRECT("Feuil1!"&ADDRESS(M21,MATCH(C$7,Feuil1!$A$1:$Z$1,0)),1),"") | D28: =IFERROR(INDIRECT("Feuil1!"&ADDRESS(M21,MATCH(D$7,Feuil1!$A$1:$Z$1,0)),1),"") | E28: =IFERROR(INDIRECT("Feuil1!"&ADDRESS(M21,MATCH(E$7,Feuil1!$A$1:$Z$1,0)),1),"") | F28: =IFERROR(INDIRECT("Feuil1!"&ADDRESS(M21,MATCH(F$7,Feuil1!$A$1:$Z$1,0)),1),"") | G28: =IFERROR(INDIRECT("Feuil1!"&ADDRESS(M21,MATCH(G$7,Feuil1!$A$1:$Z$1,0)),1),"") | H28: =IFERROR(INDIRECT("Feuil1!"&ADDRESS(M21,MATCH(H$7,Feuil1!$A$1:$Z$1,0)),1),"") | I28: =IFERROR(INDIRECT("Feuil1!"&ADDRESS(M21,MATCH(I$7,Feuil1!$A$1:$Z$1,0)),1),"") | J28: =IFERROR(INDIRECT("Feuil1!"&ADDRESS(M21,MATCH(J$7,Feuil1!$A$1:$Z$1,0)),1),"") | K28: =IFERROR(INDIRECT("Feuil1!"&ADDRESS(M21,MATCH(K$7,Feuil1!$A$1:$Z$1,0)),1),"") | L28: =IFERROR(INDIRECT("Feuil1!"&ADDRESS(M21,MATCH(L$7,Feuil1!$A$1:$Z$1,0)),1),"") | M28: =IF(COUNTA($M$1:M28)<=$N$1,SMALL(Feuil1!AA:AA,ROW()),"")

Sheet Feuil1
A1: Niveau RPS | B1: Matricule | C1: Nom Prénom | D1: sexe | E1: ville d'habitation | F1: Age | G1: Statut | H1: date fin RQTH | I1: Ancienneté | J1: DT/Dir | K1: Responsable n+1 | L1: site | M1: Poste actuel | N1: quotité Temps. Travail | O1: télé travail | P1: N° Sécu ? | Q1: Type situation | R1: Date de l'alerte | S1: Origine de l'alerte | T1: Soutien syndical | U1: description de la demande | V1: Date Action | W1: Action | X1: Acteur sollicité | Y1: Observations | Z1: Date
A2: =IF(ISERROR(VLOOKUP($Q2,[1]liste!A$1:B$1048576,2,0))," ",(VLOOKUP($Q2,[1]liste!A$1:B$1048576,2,0))) -> 1 | B2: 123456 | C2: TOTO JACQUE | D2: MASCULIN | E2: PARIS | F2: 25 | G2: PRIVE | H2: 43435 | I2: 2014 | J2: VERSAILLE | K2: JACQUES | L2: PARIS15 | M2: AGENT | N2: 1 | O2: OUI | P2: 17012******* | Q2: Dificultés sociales (dettes, violence …) | R2: 43291 | S2: DAPE | T2: O | U2: JUSTE UN TEST | V2: 43292 | W2: Contact… | X2: ELD | Y2: OBESRVATION1 | Z2: 43293 | AA2: =IF(C2='FICHE AGENT'!$C$2,ROW(),"") -> 2
A3: =IF(ISERROR(VLOOKUP($Q3,[1]liste!A$1:B$1048576,2,0))," ",(VLOOKUP($Q3,[1]liste!A$1:B$1048576,2,0))) -> 3 | B3: 123456 | C3: TOTO JACQUE | D3: MASCULIN | E3: PARIS | F3: 25 | G3: PRIVE | H3: 43435 | I3: 2014 | J3: VERSAILLE | K3: JACQUES | L3: PARIS15 | M3: AGENT | N3: 1 | O3: OUI | P3: 17012******* | Q3: Décès | R3: 43292 | S3: AGENT | T3: N | U3: DEUXIEME TEST | V3: 43292 | W3: DAT… | X3: Charg. Diversité | Y3: OBESRVATION2 | Z3: 43294 | AA3: =IF(C3='FICHE AGENT'!$C$2,ROW(),"") -> 3
A4: =IF(ISERROR(VLOOKUP($Q4,[1]liste!A$1:B$1048576,2,0))," ",(VLOOKUP($Q4,[1]liste!A$1:B$1048576,2,0))) -> 2 | B4: =+B3+1 -> 123457 | C4: TATA JACQUES | D4: FEMININ | E4: VERSAILLES | F4: 30 | G4: PUBLIC | H4: 42971 | I4: 2011 | J4: IVRY | K4: ROBERT | L4: LA DEFENCE | M4: CADRE | N4: 0.52 | O4: NON | P4: 18205******* | Q4: Inaptitude | R4: 43293 | S4: DAPE | T4: O | U4: TROISIEME TEST | V4: 43292 | W4: Orientation… | X4: Médecin travail | Y4: OBESRVATION3 | Z4: 43295 | AA4: =IF(C4='FICHE AGENT'!$C$2,ROW(),"")
A5: =IF(ISERROR(VLOOKUP($Q5,[1]liste!A$1:B$1048576,2,0))," ",(VLOOKUP($Q5,[1]liste!A$1:B$1048576,2,0))) -> 2 | B5: 123456 | C5: TOTO JACQUE | D5: MASCULIN | E5: PARIS | F5: 25 | G5: PRIVE | H5: 43436 | I5: 2014 | J5: VERSAILLE | K5: JACQUES | L5: PARIS15 | M5: AGENT | N5: 1 | O5: OUI | P5: 17012******* | Q5: Mal être au travail | R5: 43291 | S5: DAPE | T5: O | U5: quatrieme | V5: 43292 | W5: Intervention …. | X5: ELD | Y5: OBESRVATION4 | Z5: 43293 | AA5: =IF(C5='FICHE AGENT'!$C$2,ROW(),"") -> 5
A6: =IF(ISERROR(VLOOKUP($Q6,[1]liste!A$1:B$1048576,2,0))," ",(VLOOKUP($Q6,[1]liste!A$1:B$1048576,2,0))) -> 3 | B6: 123456 | C6: TOTO JACQUE | D6: MASCULIN | E6: PARIS | F6: 25 | G6: PRIVE | H6: 43437 | I6: 2014 | J6: VERSAILLES | K6: JACQUES | L6: PARIS15 | M6: AGENT | N6: 1 | O6: OUI | P6: 17012******* | Q6: Décès | R6: 43292 | S6: AGENT | T6: N | U6: cinquieme | V6: 43293 | W6: DAT… | X6: Charg. Diversité | Y6: OBESRVATION5 | Z6: 43294 | AA6: =IF(C6='FICHE AGENT'!$C$2,ROW(),"") -> 6
A7: =IF(ISERROR(VLOOKUP($Q7,[1]liste!A$1:B$1048576,2,0))," ",(VLOOKUP($Q7,[1]liste!A$1:B$1048576,2,0)))
A8: =IF(ISERROR(VLOOKUP($Q8,[1]liste!A$1:B$1048576,2,0))," ",(VLOOKUP($Q8,[1]liste!A$1:B$1048576,2,0)))
A9: =IF(ISERROR(VLOOKUP($Q9,[1]liste!A$1:B$1048576,2,0))," ",(VLOOKUP($Q9,[1]liste!A$1:B$1048576,2,0)))
A10: =IF(ISERROR(VLOOKUP($Q10,[1]liste!A$1:B$1048576,2,0))," ",(VLOOKUP($Q10,[1]liste!A$1:B$1048576,2,0)))
A11: =IF(ISERROR(VLOOKUP($Q11,[1]liste!A$1:B$1048576,2,0))," ",(VLOOKUP($Q11,[1]liste!A$1:B$1048576,2,0)))
A12: =IF(ISERROR(VLOOKUP($Q12,[1]liste!A$1:B$1048576,2,0))," ",(VLOOKUP($Q12,[1]liste!A$1:B$1048576,2,0)))
A13: =IF(ISERROR(VLOOKUP($Q13,[1]liste!A$1:B$1048576,2,0))," ",(VLOOKUP($Q13,[1]liste!A$1:B$1048576,2,0)))
A14: =IF(ISERROR(VLOOKUP($Q14,[1]liste!A$1:B$1048576,2,0))," ",(VLOOKUP($Q14,[1]liste!A$1:B$1048576,2,0)))
A15: =IF(ISERROR(VLOOKUP($Q15,[1]liste!A$1:B$1048576,2,0))," ",(VLOOKUP($Q15,[1]liste!A$1:B$1048576,2,0)))
A16: =IF(ISERROR(VLOOKUP($Q16,[1]liste!A$1:B$1048576,2,0))," ",(VLOOKUP($Q16,[1]liste!A$1:B$1048576,2,0)))
A17: =IF(ISERROR(VLOOKUP($Q17,[1]liste!A$1:B$1048576,2,0))," ",(VLOOKUP($Q17,[1]liste!A$1:B$1048576,2,0)))
A18: =IF(ISERROR(VLOOKUP($Q18,[1]liste!A$1:B$1048576,2,0))," ",(VLOOKUP($Q18,[1]liste!A$1:B$1048576,2,0)))
... A10000: =IF(ISERROR(VLOOKUP($Q10000,[1]liste!A$1:B$1048576,2,0))," ",(VLOOKUP($Q10000,[1]liste!A$1:B$1048576,2,0)))
