Workbook

Sheet base de données
Q1: DATE DE NAISSANCE ENFANTS
A2: FICHE N° | B2: NOM | C2: PRENOM | D2: DATE DE NAISSANCE | E2: JOUR DE NAISSANCE | F2: MOIS DE NAISSANCE | G2: MOIS ANNIVERSAIRE | H2: AGE | I2: SEXE | J2: DATE D'ENTREE | K2: ANCIENNETEE | L2: POSTE | M2: STATUT | N2: ADRESSE MAIL | O2: N° PORTABLE | P2: NOMBRE D ENFANTS | Q2: ENFANT 1 | R2: ENFANT 2 | S2: ENFANT 3 | T2: ENFANT 4 | U2: ENFANT 5 | V2: ENFANT 6 | W2: ADRESSE POSTALE | X2: VILLE | Y2: SECTEUR GEOGRAPHIQUE | Z2: sexe pour pyramide | AA2: AMO | AB2: AWE | AC2: ADA | AE2: SEXE | AG2: COLLEGE | AI2: POSTE
A3: 1 | B3: a | C3: Isabelle | D3: 26663 | E3: =IF(D3="","",DAY(D3)) -> 30 | F3: =IF(D3="","",MONTH(D3)) -> 12 | G3: =PROPER(TEXT($D3,"mmmm")) -> Décembre | H3: =DATEDIF(Données4[[#This Row],[DATE DE NAISSANCE]],TODAY(), "y") -> 47 | I3: M | J3: 39571 | K3: =DATEDIF(J3,TODAY(),"y") -> 11 | L3: ADMINISTRATIF | M3: 1er COLLEGE | P3: 2 | W3: 33 rue des hhhh 30000 iouytr | Z3: =IF(I:I,-1,0) -> #VALUE! | AA3: =IF(F3=MONTH(TODAY()),ROW(),"") | AB3: =IF(_xlfn.ISOWEEKNUM(DATE(YEAR(TODAY()),MONTH(D3),DAY(D3)))=_xlfn.ISOWEEKNUM(TODAY()),ROW(),"") | AC3: =IF(AND(DAY(D3)=DAY(TODAY()),MONTH(D3)=MONTH(TODAY())),ROW(),"") | AE3: M | AG3: 1er COLLEGE | AI3: ADMINISTRATIF
A4: 2 | B4: d | C4: Liliane | D4: =D3+369 -> 27032 | E4: =IF(D4="","",DAY(D4)) -> 3 | F4: =IF(D4="","",MONTH(D4)) -> 1 | G4: =PROPER(TEXT($D4,"mmmm")) -> Janvier | H4: =DATEDIF(Données4[[#This Row],[DATE DE NAISSANCE]],TODAY(), "y") -> 46 | I4: F | J4: 43225 | K4: =DATEDIF(J4,TODAY(),"y") -> 1 | L4: GARAGE | M4: 1er COLLEGE | P4: 0 | AA4: =IF(F4=MONTH(TODAY()),ROW(),"") -> 4 | AB4: =IF(_xlfn.ISOWEEKNUM(DATE(YEAR(TODAY()),MONTH(D4),DAY(D4)))=_xlfn.ISOWEEKNUM(TODAY()),ROW(),"") | AC4: =IF(AND(DAY(D4)=DAY(TODAY()),MONTH(D4)=MONTH(TODAY())),ROW(),"") | AE4: F | AG4: 2eme COLLEGE | AI4: GARAGE
A5: 3 | B5: g | C5: Laurent | D5: =D4+369 -> 27401 | E5: =IF(D5="","",DAY(D5)) -> 7 | F5: =IF(D5="","",MONTH(D5)) -> 1 | G5: =PROPER(TEXT($D5,"mmmm")) -> Janvier | H5: =DATEDIF(Données4[[#This Row],[DATE DE NAISSANCE]],TODAY(), "y") -> 45 | I5: F | J5: 36648 | K5: =DATEDIF(J5,TODAY(),"y") -> 19 | L5: ADMINISTRATIF | M5: 1er COLLEGE | P5: 4 | AA5: =IF(F5=MONTH(TODAY()),ROW(),"") -> 5 | AB5: =IF(_xlfn.ISOWEEKNUM(DATE(YEAR(TODAY()),MONTH(D5),DAY(D5)))=_xlfn.ISOWEEKNUM(TODAY()),ROW(),"") | AC5: =IF(AND(DAY(D5)=DAY(TODAY()),MONTH(D5)=MONTH(TODAY())),ROW(),"") | AI5: DIRECTEUR
A6: 4 | B6: d | C6: Magalie | D6: =D5+369 -> 27770 | E6: =IF(D6="","",DAY(D6)) -> 11 | F6: =IF(D6="","",MONTH(D6)) -> 1 | G6: =PROPER(TEXT($D6,"mmmm")) -> Janvier | H6: =DATEDIF(Données4[[#This Row],[DATE DE NAISSANCE]],TODAY(), "y") -> 44 | I6: M | J6: 43498 | K6: =DATEDIF(J6,TODAY(),"y") -> 0 | L6: GARAGE | M6: 2eme COLLEGE | O6: 06/00/00/00/00 | P6: 1 | AA6: =IF(F6=MONTH(TODAY()),ROW(),"") -> 6 | AB6: =IF(_xlfn.ISOWEEKNUM(DATE(YEAR(TODAY()),MONTH(D6),DAY(D6)))=_xlfn.ISOWEEKNUM(TODAY()),ROW(),"") | AC6: =IF(AND(DAY(D6)=DAY(TODAY()),MONTH(D6)=MONTH(TODAY())),ROW(),"") | AI6: QUAI
A7: 5 | B7: km | C7: Julie | D7: =D6+369 -> 28139 | E7: =IF(D7="","",DAY(D7)) -> 14 | F7: =IF(D7="","",MONTH(D7)) -> 1 | G7: =PROPER(TEXT($D7,"mmmm")) -> Janvier | H7: =DATEDIF(Données4[[#This Row],[DATE DE NAISSANCE]],TODAY(), "y") -> 43 | I7: F | J7: 36653 | K7: =DATEDIF(J7,TODAY(),"y") -> 19 | L7: DIRECTEUR | M7: 2eme COLLEGE | AA7: =IF(F7=MONTH(TODAY()),ROW(),"") -> 7 | AB7: =IF(_xlfn.ISOWEEKNUM(DATE(YEAR(TODAY()),MONTH(D7),DAY(D7)))=_xlfn.ISOWEEKNUM(TODAY()),ROW(),"") | AC7: =IF(AND(DAY(D7)=DAY(TODAY()),MONTH(D7)=MONTH(TODAY())),ROW(),"") | AI7: CHAUFFEUR
A8: 6 | B8: o | C8: Stéphane | D8: =D7+369 -> 28508 | E8: =IF(D8="","",DAY(D8)) -> 18 | F8: =IF(D8="","",MONTH(D8)) -> 1 | G8: =PROPER(TEXT($D8,"mmmm")) -> Janvier | H8: =DATEDIF(Données4[[#This Row],[DATE DE NAISSANCE]],TODAY(), "y") -> 42 | I8: M | J8: 36654 | K8: =DATEDIF(J8,TODAY(),"y") -> 19 | L8: QUAI | M8: 2eme COLLEGE | AA8: =IF(F8=MONTH(TODAY()),ROW(),"") -> 8 | AB8: =IF(_xlfn.ISOWEEKNUM(DATE(YEAR(TODAY()),MONTH(D8),DAY(D8)))=_xlfn.ISOWEEKNUM(TODAY()),ROW(),"") | AC8: =IF(AND(DAY(D8)=DAY(TODAY()),MONTH(D8)=MONTH(TODAY())),ROW(),"") | AI8: DIRECTEUR
A9: 7 | B9: u | C9: Camille | D9: =D8+369 -> 28877 | E9: =IF(D9="","",DAY(D9)) -> 22 | F9: =IF(D9="","",MONTH(D9)) -> 1 | G9: =PROPER(TEXT($D9,"mmmm")) -> Janvier | H9: =DATEDIF(Données4[[#This Row],[DATE DE NAISSANCE]],TODAY(), "y") -> 41 | I9: F | J9: 32999 | K9: =DATEDIF(J9,TODAY(),"y") -> 29 | L9: QUAI | M9: 2eme COLLEGE | AA9: =IF(F9=MONTH(TODAY()),ROW(),"") -> 9 | AB9: =IF(_xlfn.ISOWEEKNUM(DATE(YEAR(TODAY()),MONTH(D9),DAY(D9)))=_xlfn.ISOWEEKNUM(TODAY()),ROW(),"") -> 9 | AC9: =IF(AND(DAY(D9)=DAY(TODAY()),MONTH(D9)=MONTH(TODAY())),ROW(),"") | AI9: RH
A10: 8 | B10: y | C10: Nathalie | D10: =D9+369 -> 29246 | E10: =IF(D10="","",DAY(D10)) -> 26 | F10: =IF(D10="","",MONTH(D10)) -> 1 | G10: =PROPER(TEXT($D10,"mmmm")) -> Janvier | H10: =DATEDIF(Données4[[#This Row],[DATE DE NAISSANCE]],TODAY(), "y") -> 40 | I10: M | J10: 42128 | K10: =DATEDIF(J10,TODAY(),"y") -> 4 | L10: DIRECTEUR | M10: 2eme COLLEGE | P10: 3 | AA10: =IF(F10=MONTH(TODAY()),ROW(),"") -> 10 | AB10: =IF(_xlfn.ISOWEEKNUM(DATE(YEAR(TODAY()),MONTH(D10),DAY(D10)))=_xlfn.ISOWEEKNUM(TODAY()),ROW(),"") -> 10 | AC10: =IF(AND(DAY(D10)=DAY(TODAY()),MONTH(D10)=MONTH(TODAY())),ROW(),"") -> 10
A11: 9 | B11: d | C11: michel | D11: =D10+369 -> 29615 | E11: =IF(D11="","",DAY(D11)) -> 29 | F11: =IF(D11="","",MONTH(D11)) -> 1 | G11: =PROPER(TEXT($D11,"mmmm")) -> Janvier | H11: =DATEDIF(Données4[[#This Row],[DATE DE NAISSANCE]],TODAY(), "y") -> 38 | I11: M | J11: 36650 | K11: =DATEDIF(J11,TODAY(),"y") -> 19 | L11: CHAUFFEUR | M11: 1er COLLEGE | AA11: =IF(F11=MONTH(TODAY()),ROW(),"") -> 11 | AB11: =IF(_xlfn.ISOWEEKNUM(DATE(YEAR(TODAY()),MONTH(D11),DAY(D11)))=_xlfn.ISOWEEKNUM(TODAY()),ROW(),"") | AC11: =IF(AND(DAY(D11)=DAY(TODAY()),MONTH(D11)=MONTH(TODAY())),ROW(),"")
A12: 10 | B12: bb | C12: 22 | D12: =D11+369 -> 29984 | E12: =IF(D12="","",DAY(D12)) -> 2 | F12: =IF(D12="","",MONTH(D12)) -> 2 | G12: =PROPER(TEXT($D12,"mmmm")) -> Février | H12: =DATEDIF(Données4[[#This Row],[DATE DE NAISSANCE]],TODAY(), "y") -> 37 | I12: F | J12: 32408 | K12: =DATEDIF(J12,TODAY(),"y") -> 31 | AA12: =IF(F12=MONTH(TODAY()),ROW(),"") | AB12: =IF(_xlfn.ISOWEEKNUM(DATE(YEAR(TODAY()),MONTH(D12),DAY(D12)))=_xlfn.ISOWEEKNUM(TODAY()),ROW(),"") | AC12: =IF(AND(DAY(D12)=DAY(TODAY()),MONTH(D12)=MONTH(TODAY())),ROW(),"")

Sheet anniversaire a souhaiter
B2: ANNIVERSAIRE CE JOUR | I2: ANNIVERSAIRE DANS LA SEMAINE
B4: NOM | C4: PRENOM | D4: DATE DE NAISSANCE | E4: AGE | F4: SEXE | G4: ADRESSE MAIL | I4: NOM | J4: PRENOM | K4: DATE DE NAISSANCE | L4: AGE | M4: SEXE | N4: ADRESSE MAIL
B5: =IF(ISERROR(SMALL(ADA,ROW()-4)),"",INDIRECT(ADDRESS(SMALL(ADA,ROW()-4),MATCH(B$4,'base de données'!$2:$2,0),4,1,"base de données"),1)) -> y | C5: =IF(ISERROR(SMALL(ADA,ROW()-4)),"",INDIRECT(ADDRESS(SMALL(ADA,ROW()-4),MATCH(C$4,'base de données'!$2:$2,0),4,1,"base de données"),1)) -> Nathalie | D5: =IF(ISERROR(SMALL(ADA,ROW()-4)),"",INDIRECT(ADDRESS(SMALL(ADA,ROW()-4),MATCH(D$4,'base de données'!$2:$2,0),4,1,"base de données"),1)) -> 29246 | E5: =IF(ISERROR(SMALL(ADA,ROW()-4)),"",INDIRECT(ADDRESS(SMALL(ADA,ROW()-4),MATCH(E$4,'base de données'!$2:$2,0),4,1,"base de données"),1)) -> 40 | F5: =IF(ISERROR(SMALL(ADA,ROW()-4)),"",INDIRECT(ADDRESS(SMALL(ADA,ROW()-4),MATCH(F$4,'base de données'!$2:$2,0),4,1,"base de données"),1)) -> M | G5: =IF(ISERROR(SMALL(ADA,ROW()-4)),"",INDIRECT(ADDRESS(SMALL(ADA,ROW()-4),MATCH(G$4,'base de données'!$2:$2,0),4,1,"base de données"),1)) -> 0 | I5: =IF(ISERROR(SMALL(AWE,ROW()-4)),"",INDIRECT(ADDRESS(SMALL(AWE,ROW()-4),MATCH(I$4,'base de données'!$2:$2,0),4,1,"base de données"),1)) -> u | J5: =IF(ISERROR(SMALL(AWE,ROW()-4)),"",INDIRECT(ADDRESS(SMALL(AWE,ROW()-4),MATCH(J$4,'base de données'!$2:$2,0),4,1,"base de données"),1)) -> Camille | K5: =IF(ISERROR(SMALL(AWE,ROW()-4)),"",INDIRECT(ADDRESS(SMALL(AWE,ROW()-4),MATCH(K$4,'base de données'!$2:$2,0),4,1,"base de données"),1)) -> 28877 | L5: =IF(ISERROR(SMALL(AWE,ROW()-4)),"",INDIRECT(ADDRESS(SMALL(AWE,ROW()-4),MATCH(L$4,'base de données'!$2:$2,0),4,1,"base de données"),1)) -> 41 | M5: =IF(ISERROR(SMALL(AWE,ROW()-4)),"",INDIRECT(ADDRESS(SMALL(AWE,ROW()-4),MATCH(M$4,'base de données'!$2:$2,0),4,1,"base de données"),1)) -> F | N5: =IF(ISERROR(SMALL(AWE,ROW()-4)),"",INDIRECT(ADDRESS(SMALL(AWE,ROW()-4),MATCH(N$4,'base de données'!$2:$2,0),4,1,"base de données"),1)) -> 0
B6: =IF(ISERROR(SMALL(ADA,ROW()-4)),"",INDIRECT(ADDRESS(SMALL(ADA,ROW()-4),MATCH(B$4,'base de données'!$2:$2,0),4,1,"base de données"),1)) | C6: =IF(ISERROR(SMALL(ADA,ROW()-4)),"",INDIRECT(ADDRESS(SMALL(ADA,ROW()-4),MATCH(C$4,'base de données'!$2:$2,0),4,1,"base de données"),1)) | D6: =IF(ISERROR(SMALL(ADA,ROW()-4)),"",INDIRECT(ADDRESS(SMALL(ADA,ROW()-4),MATCH(D$4,'base de données'!$2:$2,0),4,1,"base de données"),1)) | E6: =IF(ISERROR(SMALL(ADA,ROW()-4)),"",INDIRECT(ADDRESS(SMALL(ADA,ROW()-4),MATCH(E$4,'base de données'!$2:$2,0),4,1,"base de données"),1)) | F6: =IF(ISERROR(SMALL(ADA,ROW()-4)),"",INDIRECT(ADDRESS(SMALL(ADA,ROW()-4),MATCH(F$4,'base de données'!$2:$2,0),4,1,"base de données"),1)) | G6: =IF(ISERROR(SMALL(ADA,ROW()-4)),"",INDIRECT(ADDRESS(SMALL(ADA,ROW()-4),MATCH(G$4,'base de données'!$2:$2,0),4,1,"base de données"),1)) | I6: =IF(ISERROR(SMALL(AWE,ROW()-4)),"",INDIRECT(ADDRESS(SMALL(AWE,ROW()-4),MATCH(I$4,'base de données'!$2:$2,0),4,1,"base de données"),1)) -> y | J6: =IF(ISERROR(SMALL(AWE,ROW()-4)),"",INDIRECT(ADDRESS(SMALL(AWE,ROW()-4),MATCH(J$4,'base de données'!$2:$2,0),4,1,"base de données"),1)) -> Nathalie | K6: =IF(ISERROR(SMALL(AWE,ROW()-4)),"",INDIRECT(ADDRESS(SMALL(AWE,ROW()-4),MATCH(K$4,'base de données'!$2:$2,0),4,1,"base de données"),1)) -> 29246 | L6: =IF(ISERROR(SMALL(AWE,ROW()-4)),"",INDIRECT(ADDRESS(SMALL(AWE,ROW()-4),MATCH(L$4,'base de données'!$2:$2,0),4,1,"base de données"),1)) -> 40 | M6: =IF(ISERROR(SMALL(AWE,ROW()-4)),"",INDIRECT(ADDRESS(SMALL(AWE,ROW()-4),MATCH(M$4,'base de données'!$2:$2,0),4,1,"base de données"),1)) -> M | N6: =IF(ISERROR(SMALL(AWE,ROW()-4)),"",INDIRECT(ADDRESS(SMALL(AWE,ROW()-4),MATCH(N$4,'base de données'!$2:$2,0),4,1,"base de données"),1)) -> 0
B7: =IF(ISERROR(SMALL(ADA,ROW()-4)),"",INDIRECT(ADDRESS(SMALL(ADA,ROW()-4),MATCH(B$4,'base de données'!$2:$2,0),4,1,"base de données"),1)) | C7: =IF(ISERROR(SMALL(ADA,ROW()-4)),"",INDIRECT(ADDRESS(SMALL(ADA,ROW()-4),MATCH(C$4,'base de données'!$2:$2,0),4,1,"base de données"),1)) | D7: =IF(ISERROR(SMALL(ADA,ROW()-4)),"",INDIRECT(ADDRESS(SMALL(ADA,ROW()-4),MATCH(D$4,'base de données'!$2:$2,0),4,1,"base de données"),1)) | E7: =IF(ISERROR(SMALL(ADA,ROW()-4)),"",INDIRECT(ADDRESS(SMALL(ADA,ROW()-4),MATCH(E$4,'base de données'!$2:$2,0),4,1,"base de données"),1)) | F7: =IF(ISERROR(SMALL(ADA,ROW()-4)),"",INDIRECT(ADDRESS(SMALL(ADA,ROW()-4),MATCH(F$4,'base de données'!$2:$2,0),4,1,"base de données"),1)) | G7: =IF(ISERROR(SMALL(ADA,ROW()-4)),"",INDIRECT(ADDRESS(SMALL(ADA,ROW()-4),MATCH(G$4,'base de données'!$2:$2,0),4,1,"base de données"),1)) | I7: =IF(ISERROR(SMALL(AWE,ROW()-4)),"",INDIRECT(ADDRESS(SMALL(AWE,ROW()-4),MATCH(I$4,'base de données'!$2:$2,0),4,1,"base de données"),1)) | J7: =IF(ISERROR(SMALL(AWE,ROW()-4)),"",INDIRECT(ADDRESS(SMALL(AWE,ROW()-4),MATCH(J$4,'base de données'!$2:$2,0),4,1,"base de données"),1)) | K7: =IF(ISERROR(SMALL(AWE,ROW()-4)),"",INDIRECT(ADDRESS(SMALL(AWE,ROW()-4),MATCH(K$4,'base de données'!$2:$2,0),4,1,"base de données"),1)) | L7: =IF(ISERROR(SMALL(AWE,ROW()-4)),"",INDIRECT(ADDRESS(SMALL(AWE,ROW()-4),MATCH(L$4,'base de données'!$2:$2,0),4,1,"base de données"),1)) | M7: =IF(ISERROR(SMALL(AWE,ROW()-4)),"",INDIRECT(ADDRESS(SMALL(AWE,ROW()-4),MATCH(M$4,'base de données'!$2:$2,0),4,1,"base de données"),1)) | N7: =IF(ISERROR(SMALL(AWE,ROW()-4)),"",INDIRECT(ADDRESS(SMALL(AWE,ROW()-4),MATCH(N$4,'base de données'!$2:$2,0),4,1,"base de données"),1))
B8: =IF(ISERROR(SMALL(ADA,ROW()-4)),"",INDIRECT(ADDRESS(SMALL(ADA,ROW()-4),MATCH(B$4,'base de données'!$2:$2,0),4,1,"base de données"),1)) | C8: =IF(ISERROR(SMALL(ADA,ROW()-4)),"",INDIRECT(ADDRESS(SMALL(ADA,ROW()-4),MATCH(C$4,'base de données'!$2:$2,0),4,1,"base de données"),1)) | D8: =IF(ISERROR(SMALL(ADA,ROW()-4)),"",INDIRECT(ADDRESS(SMALL(ADA,ROW()-4),MATCH(D$4,'base de données'!$2:$2,0),4,1,"base de données"),1)) | E8: =IF(ISERROR(SMALL(ADA,ROW()-4)),"",INDIRECT(ADDRESS(SMALL(ADA,ROW()-4),MATCH(E$4,'base de données'!$2:$2,0),4,1,"base de données"),1)) | F8: =IF(ISERROR(SMALL(ADA,ROW()-4)),"",INDIRECT(ADDRESS(SMALL(ADA,ROW()-4),MATCH(F$4,'base de données'!$2:$2,0),4,1,"base de données"),1)) | G8: =IF(ISERROR(SMALL(ADA,ROW()-4)),"",INDIRECT(ADDRESS(SMALL(ADA,ROW()-4),MATCH(G$4,'base de données'!$2:$2,0),4,1,"base de données"),1)) | I8: =IF(ISERROR(SMALL(AWE,ROW()-4)),"",INDIRECT(ADDRESS(SMALL(AWE,ROW()-4),MATCH(I$4,'base de données'!$2:$2,0),4,1,"base de données"),1)) | J8: =IF(ISERROR(SMALL(AWE,ROW()-4)),"",INDIRECT(ADDRESS(SMALL(AWE,ROW()-4),MATCH(J$4,'base de données'!$2:$2,0),4,1,"base de données"),1)) | K8: =IF(ISERROR(SMALL(AWE,ROW()-4)),"",INDIRECT(ADDRESS(SMALL(AWE,ROW()-4),MATCH(K$4,'base de données'!$2:$2,0),4,1,"base de données"),1)) | L8: =IF(ISERROR(SMALL(AWE,ROW()-4)),"",INDIRECT(ADDRESS(SMALL(AWE,ROW()-4),MATCH(L$4,'base de données'!$2:$2,0),4,1,"base de données"),1)) | M8: =IF(ISERROR(SMALL(AWE,ROW()-4)),"",INDIRECT(ADDRESS(SMALL(AWE,ROW()-4),MATCH(M$4,'base de données'!$2:$2,0),4,1,"base de données"),1)) | N8: =IF(ISERROR(SMALL(AWE,ROW()-4)),"",INDIRECT(ADDRESS(SMALL(AWE,ROW()-4),MATCH(N$4,'base de données'!$2:$2,0),4,1,"base de données"),1))
B9: =IF(ISERROR(SMALL(ADA,ROW()-4)),"",INDIRECT(ADDRESS(SMALL(ADA,ROW()-4),MATCH(B$4,'base de données'!$2:$2,0),4,1,"base de données"),1)) | C9: =IF(ISERROR(SMALL(ADA,ROW()-4)),"",INDIRECT(ADDRESS(SMALL(ADA,ROW()-4),MATCH(C$4,'base de données'!$2:$2,0),4,1,"base de données"),1)) | D9: =IF(ISERROR(SMALL(ADA,ROW()-4)),"",INDIRECT(ADDRESS(SMALL(ADA,ROW()-4),MATCH(D$4,'base de données'!$2:$2,0),4,1,"base de données"),1)) | E9: =IF(ISERROR(SMALL(ADA,ROW()-4)),"",INDIRECT(ADDRESS(SMALL(ADA,ROW()-4),MATCH(E$4,'base de données'!$2:$2,0),4,1,"base de données"),1)) | F9: =IF(ISERROR(SMALL(ADA,ROW()-4)),"",INDIRECT(ADDRESS(SMALL(ADA,ROW()-4),MATCH(F$4,'base de données'!$2:$2,0),4,1,"base de données"),1)) | G9: =IF(ISERROR(SMALL(ADA,ROW()-4)),"",INDIRECT(ADDRESS(SMALL(ADA,ROW()-4),MATCH(G$4,'base de données'!$2:$2,0),4,1,"base de données"),1)) | I9: =IF(ISERROR(SMALL(AWE,ROW()-4)),"",INDIRECT(ADDRESS(SMALL(AWE,ROW()-4),MATCH(I$4,'base de données'!$2:$2,0),4,1,"base de données"),1)) | J9: =IF(ISERROR(SMALL(AWE,ROW()-4)),"",INDIRECT(ADDRESS(SMALL(AWE,ROW()-4),MATCH(J$4,'base de données'!$2:$2,0),4,1,"base de données"),1)) | K9: =IF(ISERROR(SMALL(AWE,ROW()-4)),"",INDIRECT(ADDRESS(SMALL(AWE,ROW()-4),MATCH(K$4,'base de données'!$2:$2,0),4,1,"base de données"),1)) | L9: =IF(ISERROR(SMALL(AWE,ROW()-4)),"",INDIRECT(ADDRESS(SMALL(AWE,ROW()-4),MATCH(L$4,'base de données'!$2:$2,0),4,1,"base de données"),1)) | M9: =IF(ISERROR(SMALL(AWE,ROW()-4)),"",INDIRECT(ADDRESS(SMALL(AWE,ROW()-4),MATCH(M$4,'base de données'!$2:$2,0),4,1,"base de données"),1)) | N9: =IF(ISERROR(SMALL(AWE,ROW()-4)),"",INDIRECT(ADDRESS(SMALL(AWE,ROW()-4),MATCH(N$4,'base de données'!$2:$2,0),4,1,"base de données"),1))
B10: =IF(ISERROR(SMALL(ADA,ROW()-4)),"",INDIRECT(ADDRESS(SMALL(ADA,ROW()-4),MATCH(B$4,'base de données'!$2:$2,0),4,1,"base de données"),1)) | C10: =IF(ISERROR(SMALL(ADA,ROW()-4)),"",INDIRECT(ADDRESS(SMALL(ADA,ROW()-4),MATCH(C$4,'base de données'!$2:$2,0),4,1,"base de données"),1)) | D10: =IF(ISERROR(SMALL(ADA,ROW()-4)),"",INDIRECT(ADDRESS(SMALL(ADA,ROW()-4),MATCH(D$4,'base de données'!$2:$2,0),4,1,"base de données"),1)) | E10: =IF(ISERROR(SMALL(ADA,ROW()-4)),"",INDIRECT(ADDRESS(SMALL(ADA,ROW()-4),MATCH(E$4,'base de données'!$2:$2,0),4,1,"base de données"),1)) | F10: =IF(ISERROR(SMALL(ADA,ROW()-4)),"",INDIRECT(ADDRESS(SMALL(ADA,ROW()-4),MATCH(F$4,'base de données'!$2:$2,0),4,1,"base de données"),1)) | G10: =IF(ISERROR(SMALL(ADA,ROW()-4)),"",INDIRECT(ADDRESS(SMALL(ADA,ROW()-4),MATCH(G$4,'base de données'!$2:$2,0),4,1,"base de données"),1)) | I10: =IF(ISERROR(SMALL(AWE,ROW()-4)),"",INDIRECT(ADDRESS(SMALL(AWE,ROW()-4),MATCH(I$4,'base de données'!$2:$2,0),4,1,"base de données"),1)) | J10: =IF(ISERROR(SMALL(AWE,ROW()-4)),"",INDIRECT(ADDRESS(SMALL(AWE,ROW()-4),MATCH(J$4,'base de données'!$2:$2,0),4,1,"base de données"),1)) | K10: =IF(ISERROR(SMALL(AWE,ROW()-4)),"",INDIRECT(ADDRESS(SMALL(AWE,ROW()-4),MATCH(K$4,'base de données'!$2:$2,0),4,1,"base de données"),1)) | L10: =IF(ISERROR(SMALL(AWE,ROW()-4)),"",INDIRECT(ADDRESS(SMALL(AWE,ROW()-4),MATCH(L$4,'base de données'!$2:$2,0),4,1,"base de données"),1)) | M10: =IF(ISERROR(SMALL(AWE,ROW()-4)),"",INDIRECT(ADDRESS(SMALL(AWE,ROW()-4),MATCH(M$4,'base de données'!$2:$2,0),4,1,"base de données"),1)) | N10: =IF(ISERROR(SMALL(AWE,ROW()-4)),"",INDIRECT(ADDRESS(SMALL(AWE,ROW()-4),MATCH(N$4,'base de données'!$2:$2,0),4,1,"base de données"),1))
B11: =IF(ISERROR(SMALL(ADA,ROW()-4)),"",INDIRECT(ADDRESS(SMALL(ADA,ROW()-4),MATCH(B$4,'base de données'!$2:$2,0),4,1,"base de données"),1)) | C11: =IF(ISERROR(SMALL(ADA,ROW()-4)),"",INDIRECT(ADDRESS(SMALL(ADA,ROW()-4),MATCH(C$4,'base de données'!$2:$2,0),4,1,"base de données"),1)) | D11: =IF(ISERROR(SMALL(ADA,ROW()-4)),"",INDIRECT(ADDRESS(SMALL(ADA,ROW()-4),MATCH(D$4,'base de données'!$2:$2,0),4,1,"base de données"),1)) | E11: =IF(ISERROR(SMALL(ADA,ROW()-4)),"",INDIRECT(ADDRESS(SMALL(ADA,ROW()-4),MATCH(E$4,'base de données'!$2:$2,0),4,1,"base de données"),1)) | F11: =IF(ISERROR(SMALL(ADA,ROW()-4)),"",INDIRECT(ADDRESS(SMALL(ADA,ROW()-4),MATCH(F$4,'base de données'!$2:$2,0),4,1,"base de données"),1)) | G11: =IF(ISERROR(SMALL(ADA,ROW()-4)),"",INDIRECT(ADDRESS(SMALL(ADA,ROW()-4),MATCH(G$4,'base de données'!$2:$2,0),4,1,"base de données"),1)) | I11: =IF(ISERROR(SMALL(AWE,ROW()-4)),"",INDIRECT(ADDRESS(SMALL(AWE,ROW()-4),MATCH(I$4,'base de données'!$2:$2,0),4,1,"base de données"),1)) | J11: =IF(ISERROR(SMALL(AWE,ROW()-4)),"",INDIRECT(ADDRESS(SMALL(AWE,ROW()-4),MATCH(J$4,'base de données'!$2:$2,0),4,1,"base de données"),1)) | K11: =IF(ISERROR(SMALL(AWE,ROW()-4)),"",INDIRECT(ADDRESS(SMALL(AWE,ROW()-4),MATCH(K$4,'base de données'!$2:$2,0),4,1,"base de données"),1)) | L11: =IF(ISERROR(SMALL(AWE,ROW()-4)),"",INDIRECT(ADDRESS(SMALL(AWE,ROW()-4),MATCH(L$4,'base de données'!$2:$2,0),4,1,"base de données"),1)) | M11: =IF(ISERROR(SMALL(AWE,ROW()-4)),"",INDIRECT(ADDRESS(SMALL(AWE,ROW()-4),MATCH(M$4,'base de données'!$2:$2,0),4,1,"base de données"),1)) | N11: =IF(ISERROR(SMALL(AWE,ROW()-4)),"",INDIRECT(ADDRESS(SMALL(AWE,ROW()-4),MATCH(N$4,'base de données'!$2:$2,0),4,1,"base de données"),1))
B12: =IF(ISERROR(SMALL(ADA,ROW()-4)),"",INDIRECT(ADDRESS(SMALL(ADA,ROW()-4),MATCH(B$4,'base de données'!$2:$2,0),4,1,"base de données"),1)) | C12: =IF(ISERROR(SMALL(ADA,ROW()-4)),"",INDIRECT(ADDRESS(SMALL(ADA,ROW()-4),MATCH(C$4,'base de données'!$2:$2,0),4,1,"base de données"),1)) | D12: =IF(ISERROR(SMALL(ADA,ROW()-4)),"",INDIRECT(ADDRESS(SMALL(ADA,ROW()-4),MATCH(D$4,'base de données'!$2:$2,0),4,1,"base de données"),1)) | E12: =IF(ISERROR(SMALL(ADA,ROW()-4)),"",INDIRECT(ADDRESS(SMALL(ADA,ROW()-4),MATCH(E$4,'base de données'!$2:$2,0),4,1,"base de données"),1)) | F12: =IF(ISERROR(SMALL(ADA,ROW()-4)),"",INDIRECT(ADDRESS(SMALL(ADA,ROW()-4),MATCH(F$4,'base de données'!$2:$2,0),4,1,"base de données"),1)) | G12: =IF(ISERROR(SMALL(ADA,ROW()-4)),"",INDIRECT(ADDRESS(SMALL(ADA,ROW()-4),MATCH(G$4,'base de données'!$2:$2,0),4,1,"base de données"),1)) | I12: =IF(ISERROR(SMALL(AWE,ROW()-4)),"",INDIRECT(ADDRESS(SMALL(AWE,ROW()-4),MATCH(I$4,'base de données'!$2:$2,0),4,1,"base de données"),1)) | J12: =IF(ISERROR(SMALL(AWE,ROW()-4)),"",INDIRECT(ADDRESS(SMALL(AWE,ROW()-4),MATCH(J$4,'base de données'!$2:$2,0),4,1,"base de données"),1)) | K12: =IF(ISERROR(SMALL(AWE,ROW()-4)),"",INDIRECT(ADDRESS(SMALL(AWE,ROW()-4),MATCH(K$4,'base de données'!$2:$2,0),4,1,"base de données"),1)) | L12: =IF(ISERROR(SMALL(AWE,ROW()-4)),"",INDIRECT(ADDRESS(SMALL(AWE,ROW()-4),MATCH(L$4,'base de données'!$2:$2,0),4,1,"base de données"),1)) | M12: =IF(ISERROR(SMALL(AWE,ROW()-4)),"",INDIRECT(ADDRESS(SMALL(AWE,ROW()-4),MATCH(M$4,'base de données'!$2:$2,0),4,1,"base de données"),1)) | N12: =IF(ISERROR(SMALL(AWE,ROW()-4)),"",INDIRECT(ADDRESS(SMALL(AWE,ROW()-4),MATCH(N$4,'base de données'!$2:$2,0),4,1,"base de données"),1))
B14: ANNIVERSAIRE DANS LE MOIS
B16: NOM | C16: PRENOM | D16: DATE DE NAISSANCE | E16: AGE | F16: SEXE | G16: ADRESSE MAIL
B17: =IF(ISERROR(SMALL(AMO,ROW()-16)),"",INDIRECT(ADDRESS(SMALL(AMO,ROW()-16),MATCH(B$4,'base de données'!$2:$2,0),4,1,"base de données"),1)) -> d | C17: =IF(ISERROR(SMALL(AMO,ROW()-16)),"",INDIRECT(ADDRESS(SMALL(AMO,ROW()-16),MATCH(C$4,'base de données'!$2:$2,0),4,1,"base de données"),1)) -> Liliane | D17: =IF(ISERROR(SMALL(AMO,ROW()-16)),"",INDIRECT(ADDRESS(SMALL(AMO,ROW()-16),MATCH(D$4,'base de données'!$2:$2,0),4,1,"base de données"),1)) -> 27032 | E17: =IF(ISERROR(SMALL(AMO,ROW()-16)),"",INDIRECT(ADDRESS(SMALL(AMO,ROW()-16),MATCH(E$4,'base de données'!$2:$2,0),4,1,"base de données"),1)) -> 46 | F17: =IF(ISERROR(SMALL(AMO,ROW()-16)),"",INDIRECT(ADDRESS(SMALL(AMO,ROW()-16),MATCH(F$4,'base de données'!$2:$2,0),4,1,"base de données"),1)) -> F | G17: =IF(ISERROR(SMALL(AMO,ROW()-16)),"",INDIRECT(ADDRESS(SMALL(AMO,ROW()-16),MATCH(G$4,'base de données'!$2:$2,0),4,1,"base de données"),1)) -> 0
B18: =IF(ISERROR(SMALL(AMO,ROW()-16)),"",INDIRECT(ADDRESS(SMALL(AMO,ROW()-16),MATCH(B$4,'base de données'!$2:$2,0),4,1,"base de données"),1)) -> g | C18: =IF(ISERROR(SMALL(AMO,ROW()-16)),"",INDIRECT(ADDRESS(SMALL(AMO,ROW()-16),MATCH(C$4,'base de données'!$2:$2,0),4,1,"base de données"),1)) -> Laurent | D18: =IF(ISERROR(SMALL(AMO,ROW()-16)),"",INDIRECT(ADDRESS(SMALL(AMO,ROW()-16),MATCH(D$4,'base de données'!$2:$2,0),4,1,"base de données"),1)) -> 27401 | E18: =IF(ISERROR(SMALL(AMO,ROW()-16)),"",INDIRECT(ADDRESS(SMALL(AMO,ROW()-16),MATCH(E$4,'base de données'!$2:$2,0),4,1,"base de données"),1)) -> 45 | F18: =IF(ISERROR(SMALL(AMO,ROW()-16)),"",INDIRECT(ADDRESS(SMALL(AMO,ROW()-16),MATCH(F$4,'base de données'!$2:$2,0),4,1,"base de données"),1)) -> F | G18: =IF(ISERROR(SMALL(AMO,ROW()-16)),"",INDIRECT(ADDRESS(SMALL(AMO,ROW()-16),MATCH(G$4,'base de données'!$2:$2,0),4,1,"base de données"),1)) -> 0
B19: =IF(ISERROR(SMALL(AMO,ROW()-16)),"",INDIRECT(ADDRESS(SMALL(AMO,ROW()-16),MATCH(B$4,'base de données'!$2:$2,0),4,1,"base de données"),1)) -> d | C19: =IF(ISERROR(SMALL(AMO,ROW()-16)),"",INDIRECT(ADDRESS(SMALL(AMO,ROW()-16),MATCH(C$4,'base de données'!$2:$2,0),4,1,"base de données"),1)) -> Magalie | D19: =IF(ISERROR(SMALL(AMO,ROW()-16)),"",INDIRECT(ADDRESS(SMALL(AMO,ROW()-16),MATCH(D$4,'base de données'!$2:$2,0),4,1,"base de données"),1)) -> 27770 | E19: =IF(ISERROR(SMALL(AMO,ROW()-16)),"",INDIRECT(ADDRESS(SMALL(AMO,ROW()-16),MATCH(E$4,'base de données'!$2:$2,0),4,1,"base de données"),1)) -> 44 | F19: =IF(ISERROR(SMALL(AMO,ROW()-16)),"",INDIRECT(ADDRESS(SMALL(AMO,ROW()-16),MATCH(F$4,'base de données'!$2:$2,0),4,1,"base de données"),1)) -> M | G19: =IF(ISERROR(SMALL(AMO,ROW()-16)),"",INDIRECT(ADDRESS(SMALL(AMO,ROW()-16),MATCH(G$4,'base de données'!$2:$2,0),4,1,"base de données"),1)) -> 0
B20: =IF(ISERROR(SMALL(AMO,ROW()-16)),"",INDIRECT(ADDRESS(SMALL(AMO,ROW()-16),MATCH(B$4,'base de données'!$2:$2,0),4,1,"base de données"),1)) -> km | C20: =IF(ISERROR(SMALL(AMO,ROW()-16)),"",INDIRECT(ADDRESS(SMALL(AMO,ROW()-16),MATCH(C$4,'base de données'!$2:$2,0),4,1,"base de données"),1)) -> Julie | D20: =IF(ISERROR(SMALL(AMO,ROW()-16)),"",INDIRECT(ADDRESS(SMALL(AMO,ROW()-16),MATCH(D$4,'base de données'!$2:$2,0),4,1,"base de données"),1)) -> 28139 | E20: =IF(ISERROR(SMALL(AMO,ROW()-16)),"",INDIRECT(ADDRESS(SMALL(AMO,ROW()-16),MATCH(E$4,'base de données'!$2:$2,0),4,1,"base de données"),1)) -> 43 | F20: =IF(ISERROR(SMALL(AMO,ROW()-16)),"",INDIRECT(ADDRESS(SMALL(AMO,ROW()-16),MATCH(F$4,'base de données'!$2:$2,0),4,1,"base de données"),1)) -> F | G20: =IF(ISERROR(SMALL(AMO,ROW()-16)),"",INDIRECT(ADDRESS(SMALL(AMO,ROW()-16),MATCH(G$4,'base de données'!$2:$2,0),4,1,"base de données"),1)) -> 0
B21: =IF(ISERROR(SMALL(AMO,ROW()-16)),"",INDIRECT(ADDRESS(SMALL(AMO,ROW()-16),MATCH(B$4,'base de données'!$2:$2,0),4,1,"base de données"),1)) -> o | C21: =IF(ISERROR(SMALL(AMO,ROW()-16)),"",INDIRECT(ADDRESS(SMALL(AMO,ROW()-16),MATCH(C$4,'base de données'!$2:$2,0),4,1,"base de données"),1)) -> Stéphane | D21: =IF(ISERROR(SMALL(AMO,ROW()-16)),"",INDIRECT(ADDRESS(SMALL(AMO,ROW()-16),MATCH(D$4,'base de données'!$2:$2,0),4,1,"base de données"),1)) -> 28508 | E21: =IF(ISERROR(SMALL(AMO,ROW()-16)),"",INDIRECT(ADDRESS(SMALL(AMO,ROW()-16),MATCH(E$4,'base de données'!$2:$2,0),4,1,"base de données"),1)) -> 42 | F21: =IF(ISERROR(SMALL(AMO,ROW()-16)),"",INDIRECT(ADDRESS(SMALL(AMO,ROW()-16),MATCH(F$4,'base de données'!$2:$2,0),4,1,"base de données"),1)) -> M | G21: =IF(ISERROR(SMALL(AMO,ROW()-16)),"",INDIRECT(ADDRESS(SMALL(AMO,ROW()-16),MATCH(G$4,'base de données'!$2:$2,0),4,1,"base de données"),1)) -> 0
B22: =IF(ISERROR(SMALL(AMO,ROW()-16)),"",INDIRECT(ADDRESS(SMALL(AMO,ROW()-16),MATCH(B$4,'base de données'!$2:$2,0),4,1,"base de données"),1)) -> u | C22: =IF(ISERROR(SMALL(AMO,ROW()-16)),"",INDIRECT(ADDRESS(SMALL(AMO,ROW()-16),MATCH(C$4,'base de données'!$2:$2,0),4,1,"base de données"),1)) -> Camille | D22: =IF(ISERROR(SMALL(AMO,ROW()-16)),"",INDIRECT(ADDRESS(SMALL(AMO,ROW()-16),MATCH(D$4,'base de données'!$2:$2,0),4,1,"base de données"),1)) -> 28877 | E22: =IF(ISERROR(SMALL(AMO,ROW()-16)),"",INDIRECT(ADDRESS(SMALL(AMO,ROW()-16),MATCH(E$4,'base de données'!$2:$2,0),4,1,"base de données"),1)) -> 41 | F22: =IF(ISERROR(SMALL(AMO,ROW()-16)),"",INDIRECT(ADDRESS(SMALL(AMO,ROW()-16),MATCH(F$4,'base de données'!$2:$2,0),4,1,"base de données"),1)) -> F | G22: =IF(ISERROR(SMALL(AMO,ROW()-16)),"",INDIRECT(ADDRESS(SMALL(AMO,ROW()-16),MATCH(G$4,'base de données'!$2:$2,0),4,1,"base de données"),1)) -> 0
B23: =IF(ISERROR(SMALL(AMO,ROW()-16)),"",INDIRECT(ADDRESS(SMALL(AMO,ROW()-16),MATCH(B$4,'base de données'!$2:$2,0),4,1,"base de données"),1)) -> y | C23: =IF(ISERROR(SMALL(AMO,ROW()-16)),"",INDIRECT(ADDRESS(SMALL(AMO,ROW()-16),MATCH(C$4,'base de données'!$2:$2,0),4,1,"base de données"),1)) -> Nathalie | D23: =IF(ISERROR(SMALL(AMO,ROW()-16)),"",INDIRECT(ADDRESS(SMALL(AMO,ROW()-16),MATCH(D$4,'base de données'!$2:$2,0),4,1,"base de données"),1)) -> 29246 | E23: =IF(ISERROR(SMALL(AMO,ROW()-16)),"",INDIRECT(ADDRESS(SMALL(AMO,ROW()-16),MATCH(E$4,'base de données'!$2:$2,0),4,1,"base de données"),1)) -> 40 | F23: =IF(ISERROR(SMALL(AMO,ROW()-16)),"",INDIRECT(ADDRESS(SMALL(AMO,ROW()-16),MATCH(F$4,'base de données'!$2:$2,0),4,1,"base de données"),1)) -> M | G23: =IF(ISERROR(SMALL(AMO,ROW()-16)),"",INDIRECT(ADDRESS(SMALL(AMO,ROW()-16),MATCH(G$4,'base de données'!$2:$2,0),4,1,"base de données"),1)) -> 0
B24: =IF(ISERROR(SMALL(AMO,ROW()-16)),"",INDIRECT(ADDRESS(SMALL(AMO,ROW()-16),MATCH(B$4,'base de données'!$2:$2,0),4,1,"base de données"),1)) -> d | C24: =IF(ISERROR(SMALL(AMO,ROW()-16)),"",INDIRECT(ADDRESS(SMALL(AMO,ROW()-16),MATCH(C$4,'base de données'!$2:$2,0),4,1,"base de données"),1)) -> michel | D24: =IF(ISERROR(SMALL(AMO,ROW()-16)),"",INDIRECT(ADDRESS(SMALL(AMO,ROW()-16),MATCH(D$4,'base de données'!$2:$2,0),4,1,"base de données"),1)) -> 29615 | E24: =IF(ISERROR(SMALL(AMO,ROW()-16)),"",INDIRECT(ADDRESS(SMALL(AMO,ROW()-16),MATCH(E$4,'base de données'!$2:$2,0),4,1,"base de données"),1)) -> 38 | F24: =IF(ISERROR(SMALL(AMO,ROW()-16)),"",INDIRECT(ADDRESS(SMALL(AMO,ROW()-16),MATCH(F$4,'base de données'!$2:$2,0),4,1,"base de données"),1)) -> M | G24: =IF(ISERROR(SMALL(AMO,ROW()-16)),"",INDIRECT(ADDRESS(SMALL(AMO,ROW()-16),MATCH(G$4,'base de données'!$2:$2,0),4,1,"base de données"),1)) -> 0
B25: =IF(ISERROR(SMALL(AMO,ROW()-16)),"",INDIRECT(ADDRESS(SMALL(AMO,ROW()-16),MATCH(B$4,'base de données'!$2:$2,0),4,1,"base de données"),1)) | C25: =IF(ISERROR(SMALL(AMO,ROW()-16)),"",INDIRECT(ADDRESS(SMALL(AMO,ROW()-16),MATCH(C$4,'base de données'!$2:$2,0),4,1,"base de données"),1)) | D25: =IF(ISERROR(SMALL(AMO,ROW()-16)),"",INDIRECT(ADDRESS(SMALL(AMO,ROW()-16),MATCH(D$4,'base de données'!$2:$2,0),4,1,"base de données"),1)) | E25: =IF(ISERROR(SMALL(AMO,ROW()-16)),"",INDIRECT(ADDRESS(SMALL(AMO,ROW()-16),MATCH(E$4,'base de données'!$2:$2,0),4,1,"base de données"),1)) | F25: =IF(ISERROR(SMALL(AMO,ROW()-16)),"",INDIRECT(ADDRESS(SMALL(AMO,ROW()-16),MATCH(F$4,'base de données'!$2:$2,0),4,1,"base de données"),1)) | G25: =IF(ISERROR(SMALL(AMO,ROW()-16)),"",INDIRECT(ADDRESS(SMALL(AMO,ROW()-16),MATCH(G$4,'base de données'!$2:$2,0),4,1,"base de données"),1))
B26: =IF(ISERROR(SMALL(AMO,ROW()-16)),"",INDIRECT(ADDRESS(SMALL(AMO,ROW()-16),MATCH(B$4,'base de données'!$2:$2,0),4,1,"base de données"),1)) | C26: =IF(ISERROR(SMALL(AMO,ROW()-16)),"",INDIRECT(ADDRESS(SMALL(AMO,ROW()-16),MATCH(C$4,'base de données'!$2:$2,0),4,1,"base de données"),1)) | D26: =IF(ISERROR(SMALL(AMO,ROW()-16)),"",INDIRECT(ADDRESS(SMALL(AMO,ROW()-16),MATCH(D$4,'base de données'!$2:$2,0),4,1,"base de données"),1)) | E26: =IF(ISERROR(SMALL(AMO,ROW()-16)),"",INDIRECT(ADDRESS(SMALL(AMO,ROW()-16),MATCH(E$4,'base de données'!$2:$2,0),4,1,"base de données"),1)) | F26: =IF(ISERROR(SMALL(AMO,ROW()-16)),"",INDIRECT(ADDRESS(SMALL(AMO,ROW()-16),MATCH(F$4,'base de données'!$2:$2,0),4,1,"base de données"),1)) | G26: =IF(ISERROR(SMALL(AMO,ROW()-16)),"",INDIRECT(ADDRESS(SMALL(AMO,ROW()-16),MATCH(G$4,'base de données'!$2:$2,0),4,1,"base de données"),1))
B27: =IF(ISERROR(SMALL(AMO,ROW()-16)),"",INDIRECT(ADDRESS(SMALL(AMO,ROW()-16),MATCH(B$4,'base de données'!$2:$2,0),4,1,"base de données"),1)) | C27: =IF(ISERROR(SMALL(AMO,ROW()-16)),"",INDIRECT(ADDRESS(SMALL(AMO,ROW()-16),MATCH(C$4,'base de données'!$2:$2,0),4,1,"base de données"),1)) | D27: =IF(ISERROR(SMALL(AMO,ROW()-16)),"",INDIRECT(ADDRESS(SMALL(AMO,ROW()-16),MATCH(D$4,'base de données'!$2:$2,0),4,1,"base de données"),1)) | E27: =IF(ISERROR(SMALL(AMO,ROW()-16)),"",INDIRECT(ADDRESS(SMALL(AMO,ROW()-16),MATCH(E$4,'base de données'!$2:$2,0),4,1,"base de données"),1)) | F27: =IF(ISERROR(SMALL(AMO,ROW()-16)),"",INDIRECT(ADDRESS(SMALL(AMO,ROW()-16),MATCH(F$4,'base de données'!$2:$2,0),4,1,"base de données"),1)) | G27: =IF(ISERROR(SMALL(AMO,ROW()-16)),"",INDIRECT(ADDRESS(SMALL(AMO,ROW()-16),MATCH(G$4,'base de données'!$2:$2,0),4,1,"base de données"),1))
B28: =IF(ISERROR(SMALL(AMO,ROW()-16)),"",INDIRECT(ADDRESS(SMALL(AMO,ROW()-16),MATCH(B$4,'base de données'!$2:$2,0),4,1,"base de données"),1)) | C28: =IF(ISERROR(SMALL(AMO,ROW()-16)),"",INDIRECT(ADDRESS(SMALL(AMO,ROW()-16),MATCH(C$4,'base de données'!$2:$2,0),4,1,"base de données"),1)) | D28: =IF(ISERROR(SMALL(AMO,ROW()-16)),"",INDIRECT(ADDRESS(SMALL(AMO,ROW()-16),MATCH(D$4,'base de données'!$2:$2,0),4,1,"base de données"),1)) | E28: =IF(ISERROR(SMALL(AMO,ROW()-16)),"",INDIRECT(ADDRESS(SMALL(AMO,ROW()-16),MATCH(E$4,'base de données'!$2:$2,0),4,1,"base de données"),1)) | F28: =IF(ISERROR(SMALL(AMO,ROW()-16)),"",INDIRECT(ADDRESS(SMALL(AMO,ROW()-16),MATCH(F$4,'base de données'!$2:$2,0),4,1,"base de données"),1)) | G28: =IF(ISERROR(SMALL(AMO,ROW()-16)),"",INDIRECT(ADDRESS(SMALL(AMO,ROW()-16),MATCH(G$4,'base de données'!$2:$2,0),4,1,"base de données"),1))

Sheet Synthèse de l'effectif
B3: STATUT | C3: Données | D3: SEXE
B4: 1er COLLEGE | F4: 1er COLLEGE Compter - NOM | G4: 1er COLLEGE Compter - NOM | H4: 2eme COLLEGE | L4: 2eme COLLEGE Compter - NOM | M4: 2eme COLLEGE Compter - NOM | N4: (vide) | P4: (vide) Compter - NOM | Q4: (vide) Compter - NOM | R4: Total Compter - NOM | S4: Total Compter - NOM
B5: Compter - NOM | D5: Compter - NOM | H5: Compter - NOM | J5: Compter - NOM | N5: Compter - NOM | O5: Compter - NOM
A6: POSTE | B6: F | C6: M | D6: F | E6: M | H6: F | I6: M | J6: F | K6: M | N6: F | O6: F
A7: ADMINISTRATIF | B7: 1 | C7: 1 | D7: 0.1 | E7: 0.1 | F7: 2 | G7: 0.2 | R7: 2 | S7: 0.2
A8: CHAUFFEUR | C8: 1 | E8: 0.1 | F8: 1 | G8: 0.1 | R8: 1 | S8: 0.1
A9: DIRECTEUR | H9: 1 | I9: 1 | J9: 0.1 | K9: 0.1 | L9: 2 | M9: 0.2 | R9: 2 | S9: 0.2
A10: GARAGE | B10: 1 | D10: 0.1 | F10: 1 | G10: 0.1 | I10: 1 | K10: 0.1 | L10: 1 | M10: 0.1 | R10: 2 | S10: 0.2
A11: QUAI | H11: 1 | I11: 1 | J11: 0.1 | K11: 0.1 | L11: 2 | M11: 0.2 | R11: 2 | S11: 0.2
A12: (vide) | N12: 1 | O12: 0.1 | P12: 1 | Q12: 0.1 | R12: 1 | S12: 0.1
A13: Total Résultat | B13: 2 | C13: 2 | D13: 0.2 | E13: 0.2 | F13: 4 | G13: 0.4 | H13: 2 | I13: 3 | J13: 0.2 | K13: 0.3 | L13: 5 | M13: 0.5 | N13: 1 | O13: 0.1 | P13: 1 | Q13: 0.1 | R13: 10 | S13: 1

Sheet synthése de l' effectif 2 
B2: SYNTHESE DE L EFFECTIF
C5: TOTAL
B6: EFFECTIF TOTAL | C6: =GETPIVOTDATA("Nombre de NOM",'Synthèse de l''effectif'!$A$3) -> 10
B8: PAR SEXE | E8: PART DE L'EFFECTIF
B9: FEMMES | C9: =GETPIVOTDATA("Nombre de NOM",'Synthèse de l''effectif'!$A$3,"SEXE","F","STATUT","1er COLLEGE")+GETPIVOTDATA("Nombre de NOM",'Synthèse de l''effectif'!$A$3,"SEXE","F","STATUT","2eme COLLEGE") -> 4 | E9: FEMMES | F9: =SUM(C9/$C$6) -> 0.4
B10: HOMMES | C10: =GETPIVOTDATA("Nombre de NOM",'Synthèse de l''effectif'!$A$3,"SEXE","M","STATUT","1er COLLEGE")+GETPIVOTDATA("Nombre de NOM",'Synthèse de l''effectif'!$A$3,"SEXE","M","STATUT","2eme COLLEGE") -> 5 | E10: HOMMES | F10: =SUM(C10/$C$6) -> 0.5
B12: PAR STATUT
B13: 2eme COLLEGE | C13: =GETPIVOTDATA("Nombre de NOM",'Synthèse de l''effectif'!$A$3,"STATUT","2eme COLLEGE") -> 5 | E13: 2eme COLLEGE | F13: =SUM(C13/$C$6) -> 0.5
B14: Femmes | C14: =GETPIVOTDATA("Nombre de NOM",'Synthèse de l''effectif'!$A$3,"SEXE","F","STATUT","2eme COLLEGE") -> 2 | E14: Femmes | F14: =SUM(C14/$C$6) -> 0.2
B15: Hommes | C15: =GETPIVOTDATA("Nombre de NOM",'Synthèse de l''effectif'!$A$3,"SEXE","M","STATUT","2eme COLLEGE") -> 3 | E15: Hommes | F15: =SUM(C15/$C$6) -> 0.3
B16: 1er COLLEGE | C16: =GETPIVOTDATA("Nombre de NOM",'Synthèse de l''effectif'!$A$3,"STATUT","1er COLLEGE") -> 4 | E16: 1er COLLEGE | F16: =SUM(C16/$C$6) -> 0.4
B17: Femmes | C17: =GETPIVOTDATA("Nombre de NOM",'Synthèse de l''effectif'!$A$3,"SEXE","F","STATUT","1er COLLEGE") -> 2 | E17: Femmes | F17: =SUM(C17/$C$6) -> 0.2
B18: Hommes | C18: =GETPIVOTDATA("Nombre de NOM",'Synthèse de l''effectif'!$A$3,"SEXE","M","STATUT","1er COLLEGE") -> 2 | E18: Hommes | F18: =SUM(C18/$C$6) -> 0.2
B20: PAR FONCTION ET SEXE
B21: ADMINISTRATIF | C21: =COUNTIF('base de données'!L:L,'synthése de l'' effectif 2 '!B21) -> 2 | E21: ADMINISTRATIF | F21: =C21/$C$6 -> 0.2
B22: Femmes | C22: =COUNTIFS('base de données'!L:L,'synthése de l'' effectif 2 '!$B$21,'base de données'!I:I,"F") -> 1 | E22: Femmes | F22: =C22/$C$6 -> 0.1
B23: Hommes | C23: =COUNTIFS('base de données'!L:L,'synthése de l'' effectif 2 '!$B$21,'base de données'!I:I,"M") -> 1 | E23: Hommes | F23: =C23/$C$6 -> 0.1
B24: QUAI | C24: =COUNTIF('base de données'!L:L,'synthése de l'' effectif 2 '!B24) -> 2 | E24: QUAI | F24: =C24/$C$6 -> 0.2
B25: Femmes | C25: =COUNTIFS('base de données'!L:L,'synthése de l'' effectif 2 '!$B$24,'base de données'!I:I,"F") -> 1 | E25: Femmes | F25: =C25/$C$6 -> 0.1
B26: Hommes | C26: =COUNTIFS('base de données'!L:L,'synthése de l'' effectif 2 '!$B$24,'base de données'!I:I,"M") -> 1 | E26: Hommes | F26: =C26/$C$6 -> 0.1
B27: GARAGE | C27: =COUNTIF('base de données'!L:L,'synthése de l'' effectif 2 '!B27) -> 2 | E27: GARAGE | F27: =C27/$C$6 -> 0.2
B28: Femmes | C28: =COUNTIFS('base de données'!L:L,'synthése de l'' effectif 2 '!$B$27,'base de données'!I:I,"F") -> 1 | E28: Femmes | F28: =C28/$C$6 -> 0.1
B29: Hommes | C29: =COUNTIFS('base de données'!L:L,'synthése de l'' effectif 2 '!$B$27,'base de données'!I:I,"M") -> 1 | E29: Hommes | F29: =C29/$C$6 -> 0.1
B30: CHAUFFEUR | C30: =COUNTIF('base de données'!L:L,'synthése de l'' effectif 2 '!B30) -> 1 | E30: CHAUFFEUR | F30: =C30/$C$6 -> 0.1
B31: Femmes | C31: =COUNTIFS('base de données'!L:L,'synthése de l'' effectif 2 '!$B$30,'base de données'!I:I,"F") -> 0 | E31: Femmes | F31: =C31/$C$6 -> 0
B32: Hommes | C32: =COUNTIFS('base de données'!L:L,'synthése de l'' effectif 2 '!$B$30,'base de données'!I:I,"M") -> 1 | E32: Hommes | F32: =C32/$C$6 -> 0.1
B33: DIRECTEUR | C33: =COUNTIF('base de données'!L:L,'synthése de l'' effectif 2 '!B33) -> 2 | E33: DIR | F33: =C33/$C$6 -> 0.2
B34: Femmes | C34: =COUNTIFS('base de données'!L:L,'synthése de l'' effectif 2 '!$B$33,'base de données'!I:I,"F") -> 1 | E34: Femmes | F34: =C34/$C$6 -> 0.1
B35: Hommes | C35: =COUNTIFS('base de données'!L:L,'synthése de l'' effectif 2 '!$B$33,'base de données'!I:I,"M") -> 1 | E35: Hommes | F35: =C35/$C$6 -> 0.1

Sheet graphique 
B85: LA PYRAMIDE DES ÂGES
C87: Homme | D87: Femme
B88: 20 | C88: =SUMPRODUCT((Données4[SEXE]="M")*(Données4[AGE]<'graphique '!B88)*(Données4[AGE]>='graphique '!B87)) -> 0 | D88: =SUMPRODUCT((Données4[SEXE]="F")*(Données4[AGE]<'graphique '!B88)*(Données4[AGE]>='graphique '!B87))*-1 -> 0
B89: 25 | C89: =SUMPRODUCT((Données4[SEXE]="M")*(Données4[AGE]<'graphique '!B89)*(Données4[AGE]>='graphique '!B88)) -> 0 | D89: =SUMPRODUCT((Données4[SEXE]="F")*(Données4[AGE]<'graphique '!B89)*(Données4[AGE]>='graphique '!B88))*-1 -> 0
B90: 30 | C90: =SUMPRODUCT((Données4[SEXE]="M")*(Données4[AGE]<'graphique '!B90)*(Données4[AGE]>='graphique '!B89)) -> 0 | D90: =SUMPRODUCT((Données4[SEXE]="F")*(Données4[AGE]<'graphique '!B90)*(Données4[AGE]>='graphique '!B89))*-1 -> 0
B91: 35 | C91: =SUMPRODUCT((Données4[SEXE]="M")*(Données4[AGE]<'graphique '!B91)*(Données4[AGE]>='graphique '!B90)) -> 0 | D91: =SUMPRODUCT((Données4[SEXE]="F")*(Données4[AGE]<'graphique '!B91)*(Données4[AGE]>='graphique '!B90))*-1 -> 0
B92: 40 | C92: =SUMPRODUCT((Données4[SEXE]="M")*(Données4[AGE]<'graphique '!B92)*(Données4[AGE]>='graphique '!B91)) -> 1 | D92: =SUMPRODUCT((Données4[SEXE]="F")*(Données4[AGE]<'graphique '!B92)*(Données4[AGE]>='graphique '!B91))*-1 -> -1
B93: 45 | C93: =SUMPRODUCT((Données4[SEXE]="M")*(Données4[AGE]<'graphique '!B93)*(Données4[AGE]>='graphique '!B92)) -> 3 | D93: =SUMPRODUCT((Données4[SEXE]="F")*(Données4[AGE]<'graphique '!B93)*(Données4[AGE]>='graphique '!B92))*-1 -> -2
B94: 50 | C94: =SUMPRODUCT((Données4[SEXE]="M")*(Données4[AGE]<'graphique '!B94)*(Données4[AGE]>='graphique '!B93)) -> 1 | D94: =SUMPRODUCT((Données4[SEXE]="F")*(Données4[AGE]<'graphique '!B94)*(Données4[AGE]>='graphique '!B93))*-1 -> -2
B95: 55 | C95: =SUMPRODUCT((Données4[SEXE]="M")*(Données4[AGE]<'graphique '!B95)*(Données4[AGE]>='graphique '!B94)) -> 0 | D95: =SUMPRODUCT((Données4[SEXE]="F")*(Données4[AGE]<'graphique '!B95)*(Données4[AGE]>='graphique '!B94))*-1 -> 0
B96: 60 | C96: =SUMPRODUCT((Données4[SEXE]="M")*(Données4[AGE]<'graphique '!B96)*(Données4[AGE]>='graphique '!B95)) -> 0 | D96: =SUMPRODUCT((Données4[SEXE]="F")*(Données4[AGE]<'graphique '!B96)*(Données4[AGE]>='graphique '!B95))*-1 -> 0
B97: 65 | C97: =SUMPRODUCT((Données4[SEXE]="M")*(Données4[AGE]<'graphique '!B97)*(Données4[AGE]>='graphique '!B96)) -> 0 | D97: =SUMPRODUCT((Données4[SEXE]="F")*(Données4[AGE]<'graphique '!B97)*(Données4[AGE]>='graphique '!B96))*-1 -> 0
B98: 70 | C98: =SUMPRODUCT((Données4[SEXE]="M")*(Données4[AGE]<'graphique '!B98)*(Données4[AGE]>='graphique '!B97)) -> 0 | D98: =SUMPRODUCT((Données4[SEXE]="F")*(Données4[AGE]<'graphique '!B98)*(Données4[AGE]>='graphique '!B97))*-1 -> 0
B99: AGE MOYEN | C99: =AVERAGEIF('base de données'!$I:$I,"M",'base de données'!$H:$H) -> 42.2 | D99: =AVERAGEIF('base de données'!$I:$I,"F",'base de données'!$H:$H) -> 42.4
B101: LA PYRAMIDE ANCIENNETEE
C103: Homme | D103: Femme
B104: 5 | C104: =SUMPRODUCT((Données4[SEXE]="M")*(Données4[ANCIENNETEE]<'graphique '!B104)*(Données4[ANCIENNETEE]>='graphique '!B103)) -> 2 | D104: =SUMPRODUCT((Données4[SEXE]="F")*(Données4[ANCIENNETEE]<'graphique '!B104)*(Données4[ANCIENNETEE]>='graphique '!B103))*-1 -> -1
B105: 10 | C105: =SUMPRODUCT((Données4[SEXE]="M")*(Données4[ANCIENNETEE]<'graphique '!B105)*(Données4[ANCIENNETEE]>='graphique '!B104)) -> 0 | D105: =SUMPRODUCT((Données4[SEXE]="F")*(Données4[ANCIENNETEE]<'graphique '!B105)*(Données4[ANCIENNETEE]>='graphique '!B104))*-1 -> 0
B106: 15 | C106: =SUMPRODUCT((Données4[SEXE]="M")*(Données4[ANCIENNETEE]<'graphique '!B106)*(Données4[ANCIENNETEE]>='graphique '!B105)) -> 1 | D106: =SUMPRODUCT((Données4[SEXE]="F")*(Données4[ANCIENNETEE]<'graphique '!B106)*(Données4[ANCIENNETEE]>='graphique '!B105))*-1 -> 0
B107: 20 | C107: =SUMPRODUCT((Données4[SEXE]="M")*(Données4[ANCIENNETEE]<'graphique '!B107)*(Données4[ANCIENNETEE]>='graphique '!B106)) -> 2 | D107: =SUMPRODUCT((Données4[SEXE]="F")*(Données4[ANCIENNETEE]<'graphique '!B107)*(Données4[ANCIENNETEE]>='graphique '!B106))*-1 -> -2
B108: 25 | C108: =SUMPRODUCT((Données4[SEXE]="M")*(Données4[ANCIENNETEE]<'graphique '!B108)*(Données4[ANCIENNETEE]>='graphique '!B107)) -> 0 | D108: =SUMPRODUCT((Données4[SEXE]="F")*(Données4[ANCIENNETEE]<'graphique '!B108)*(Données4[ANCIENNETEE]>='graphique '!B107))*-1 -> 0
B109: 30 | C109: =SUMPRODUCT((Données4[SEXE]="M")*(Données4[ANCIENNETEE]<'graphique '!B109)*(Données4[ANCIENNETEE]>='graphique '!B108)) -> 0 | D109: =SUMPRODUCT((Données4[SEXE]="F")*(Données4[ANCIENNETEE]<'graphique '!B109)*(Données4[ANCIENNETEE]>='graphique '!B108))*-1 -> -1
B110: 35 | C110: =SUMPRODUCT((Données4[SEXE]="M")*(Données4[ANCIENNETEE]<'graphique '!B110)*(Données4[ANCIENNETEE]>='graphique '!B109)) -> 0 | D110: =SUMPRODUCT((Données4[SEXE]="F")*(Données4[ANCIENNETEE]<'graphique '!B110)*(Données4[ANCIENNETEE]>='graphique '!B109))*-1 -> -1
B111: 40 | C111: =SUMPRODUCT((Données4[SEXE]="M")*(Données4[ANCIENNETEE]<'graphique '!B111)*(Données4[ANCIENNETEE]>='graphique '!B110)) -> 0 | D111: =SUMPRODUCT((Données4[SEXE]="F")*(Données4[ANCIENNETEE]<'graphique '!B111)*(Données4[ANCIENNETEE]>='graphique '!B110))*-1 -> 0
B112: 45 | C112: =SUMPRODUCT((Données4[SEXE]="M")*(Données4[ANCIENNETEE]<'graphique '!B112)*(Données4[ANCIENNETEE]>='graphique '!B111)) -> 0 | D112: =SUMPRODUCT((Données4[SEXE]="F")*(Données4[ANCIENNETEE]<'graphique '!B112)*(Données4[ANCIENNETEE]>='graphique '!B111))*-1 -> 0
B113: 50 | C113: =SUMPRODUCT((Données4[SEXE]="M")*(Données4[ANCIENNETEE]<'graphique '!B113)*(Données4[ANCIENNETEE]>='graphique '!B112)) -> 0 | D113: =SUMPRODUCT((Données4[SEXE]="F")*(Données4[ANCIENNETEE]<'graphique '!B113)*(Données4[ANCIENNETEE]>='graphique '!B112))*-1 -> 0
B115: moyenne anciennete | C115: =AVERAGEIF('base de données'!$I:$I,"M",'base de données'!$K:$K) -> 10.6 | D115: =AVERAGEIF('base de données'!$I:$I,"F",'base de données'!$K:$K) -> 19.8

Sheet fiche individuelle par personne
B1: nom | G1: prénom
B6: date de naissance | G6: adresse postale
B9: date d'embauche | G9: n°portable
B12: nombre d'enfants | G12: enfants 1
B15: enfants 2 | G15: enfants 3
B18: enfants 4 | G18: enfants 5
B21: LOISIRS BRICOLAGE HABILLEMENT
B23: sports pratiquer | G23: magasin de sport habituel
B26: magazin de bricolage habituel | G26: magazin vestimentaire habituel
B29: souhait que vous aimeriez voir fait par vos représentant du personnel
B32: commentaire

Sheet fiche individuelle vierge a rem
B1: nom | G1: prénom
B6: date de naissance | G6: adresse postale
B9: date d'embauche | G9: n°portable
B12: nombre d'enfants | G12: enfants 1
B15: enfants 2 | G15: enfants 3
B18: enfants 4 | G18: enfants 5
B21: LOISIRS BRICOLAGE HABILLEMENT
B23: sports pratiquer | G23: magasin de sport habituel
B26: magazin de bricolage habituel | G26: magazin vestimentaire habituel
B29: souhait que vous aimeriez voir fait par vos représentant du personnel
B32: commentaire

Sheet sommaire
