Workbook

Sheet Feuil1
C2: PRIMES CHAUFFEURS | G2: OCT. 17
B4: N° | C4: NAVETTES | H4: TOTAL | I4: PRIMES | J4: EXPORT | K4: PRIMES | L4: TOTAL
C5: 10064 | D5: 10012 | E5: 10009 | F5: 10008 | G5: 10010
B6: LTTR 483 AH | C6: 0 | D6: 0 | E6: =COUNTIF('[1]FACT N°128SFOT17'!$E$21:$E$22,B6)+COUNTIF('[1]FACT N°131SFOT17'!$E$21:$E$43,B6) -> 0 | F6: 0 | G6: =COUNTIF('[1]FACT N°126SFOT17'!$E$21:$E$39,B6)+COUNTIF('[1]FACT N°125SFOT17'!$E$21:$E$44,B6)+COUNTIF('[1]FACT N°130SFOT17'!$E$21,B6)+COUNTIF('[1]FACT N°129SFOT17'!$E$21:$E$26,B6) -> 0 | H6: =SUM(C6:G6) -> 0 | I6: =(C6*10000)+(D6*2500)+(E6*5000)+(G6*5000)+(F6*5000) -> 0 | J6: =COUNTIF('[1]FACT N°17SBOT17'!$E$21,B6)+COUNTIF('[1]FACT N°16SBOT17'!$E$21:$E$22,B6)+COUNTIF('[1]FACT N°127SFOT17'!$E$21,B6)+COUNTIF('[1]FACT N°18SBOT17'!$E$21,B6) -> 0 | K6: =IF(B6="LTTR 273 AF",J6*30000,J6*25000) -> 0 | L6: =K6+I6 -> 0
B7: LTTR 275 AF | C7: 0 | D7: 0 | E7: =COUNTIF('[1]FACT N°128SFOT17'!$E$21:$E$22,B7)+COUNTIF('[1]FACT N°131SFOT17'!$E$21:$E$43,B7) -> 0 | F7: 0 | G7: =COUNTIF('[1]FACT N°126SFOT17'!$E$21:$E$39,B7)+COUNTIF('[1]FACT N°125SFOT17'!$E$21:$E$44,B7)+COUNTIF('[1]FACT N°130SFOT17'!$E$21,B7)+COUNTIF('[1]FACT N°129SFOT17'!$E$21:$E$26,B7) -> 0 | H7: =SUM(C7:G7) -> 0 | I7: =(C7*10000)+(D7*2500)+(E7*5000)+(G7*5000)+(F7*5000) -> 0 | J7: =COUNTIF('[1]FACT N°17SBOT17'!$E$21,B7)+COUNTIF('[1]FACT N°16SBOT17'!$E$21:$E$22,B7)+COUNTIF('[1]FACT N°127SFOT17'!$E$21,B7)+COUNTIF('[1]FACT N°18SBOT17'!$E$21,B7) -> 0 | K7: =IF(B7="LTTR 273 AF",J7*30000,J7*25000) -> 0 | L7: =K7+I7 -> 0
B8: LTTR 273 AF | C8: 0 | D8: 0 | E8: =COUNTIF('[1]FACT N°128SFOT17'!$E$21:$E$22,B8)+COUNTIF('[1]FACT N°131SFOT17'!$E$21:$E$43,B8) -> 0 | F8: 0 | G8: =COUNTIF('[1]FACT N°126SFOT17'!$E$21:$E$39,B8)+COUNTIF('[1]FACT N°125SFOT17'!$E$21:$E$44,B8)+COUNTIF('[1]FACT N°130SFOT17'!$E$21,B8)+COUNTIF('[1]FACT N°129SFOT17'!$E$21:$E$26,B8) -> 0 | H8: =SUM(C8:G8) -> 0 | I8: =(C8*10000)+(D8*2500)+(E8*5000)+(G8*5000)+(F8*5000) -> 0 | J8: =COUNTIF('[1]FACT N°17SBOT17'!$E$21,B8)+COUNTIF('[1]FACT N°16SBOT17'!$E$21:$E$22,B8)+COUNTIF('[1]FACT N°127SFOT17'!$E$21,B8)+COUNTIF('[1]FACT N°18SBOT17'!$E$21,B8) -> 1 | K8: =IF(B8="LTTR 273 AF",J8*30000,J8*25000) -> 30000 | L8: =K8+I8 -> 30000
B9: LTTR 797 AJ | C9: 0 | D9: 0 | E9: =COUNTIF('[1]FACT N°128SFOT17'!$E$21:$E$22,B9)+COUNTIF('[1]FACT N°131SFOT17'!$E$21:$E$43,B9) -> 0 | F9: 0 | G9: =COUNTIF('[1]FACT N°126SFOT17'!$E$21:$E$39,B9)+COUNTIF('[1]FACT N°125SFOT17'!$E$21:$E$44,B9)+COUNTIF('[1]FACT N°130SFOT17'!$E$21,B9)+COUNTIF('[1]FACT N°129SFOT17'!$E$21:$E$26,B9) -> 0 | H9: =SUM(C9:G9) -> 0 | I9: =(C9*10000)+(D9*2500)+(E9*5000)+(G9*5000)+(F9*5000) -> 0 | J9: =COUNTIF('[1]FACT N°17SBOT17'!$E$21,B9)+COUNTIF('[1]FACT N°16SBOT17'!$E$21:$E$22,B9)+COUNTIF('[1]FACT N°127SFOT17'!$E$21,B9)+COUNTIF('[1]FACT N°18SBOT17'!$E$21,B9) -> 0 | K9: =IF(B9="LTTR 273 AF",J9*30000,J9*25000) -> 0 | L9: =K9+I9 -> 0 | N9: UNE FONCTION NB.SI ME DONNAIT LE NOMBRE DE VOYAGE / CAMION SUR UNE FACTURE EN COURS
B10: LTTR 798 AJ | C10: 0 | D10: 0 | E10: =COUNTIF('[1]FACT N°128SFOT17'!$E$21:$E$22,B10)+COUNTIF('[1]FACT N°131SFOT17'!$E$21:$E$43,B10) -> 3 | F10: 0 | G10: =COUNTIF('[1]FACT N°126SFOT17'!$E$21:$E$39,B10)+COUNTIF('[1]FACT N°125SFOT17'!$E$21:$E$44,B10)+COUNTIF('[1]FACT N°130SFOT17'!$E$21,B10)+COUNTIF('[1]FACT N°129SFOT17'!$E$21:$E$26,B10) -> 6 | H10: =SUM(C10:G10) -> 9 | I10: =(C10*10000)+(D10*2500)+(E10*5000)+(G10*5000)+(F10*5000) -> 45000 | J10: =COUNTIF('[1]FACT N°17SBOT17'!$E$21,B10)+COUNTIF('[1]FACT N°16SBOT17'!$E$21:$E$22,B10)+COUNTIF('[1]FACT N°127SFOT17'!$E$21,B10)+COUNTIF('[1]FACT N°18SBOT17'!$E$21,B10) -> 0 | K10: =IF(B10="LTTR 273 AF",J10*30000,J10*25000) -> 0 | L10: =K10+I10 -> 45000
B11: LTTR 175 AL | C11: 0 | D11: 0 | E11: =COUNTIF('[1]FACT N°128SFOT17'!$E$21:$E$22,B11)+COUNTIF('[1]FACT N°131SFOT17'!$E$21:$E$43,B11) -> 0 | F11: 0 | G11: =COUNTIF('[1]FACT N°126SFOT17'!$E$21:$E$39,B11)+COUNTIF('[1]FACT N°125SFOT17'!$E$21:$E$44,B11)+COUNTIF('[1]FACT N°130SFOT17'!$E$21,B11)+COUNTIF('[1]FACT N°129SFOT17'!$E$21:$E$26,B11) -> 7 | H11: =SUM(C11:G11) -> 7 | I11: =(C11*10000)+(D11*2500)+(E11*5000)+(G11*5000)+(F11*5000) -> 35000 | J11: =COUNTIF('[1]FACT N°17SBOT17'!$E$21,B11)+COUNTIF('[1]FACT N°16SBOT17'!$E$21:$E$22,B11)+COUNTIF('[1]FACT N°127SFOT17'!$E$21,B11)+COUNTIF('[1]FACT N°18SBOT17'!$E$21,B11) -> 1 | K11: =IF(B11="LTTR 273 AF",J11*30000,J11*25000) -> 25000 | L11: =K11+I11 -> 60000
B12: LTTR 689 AM | C12: 0 | D12: 0 | E12: =COUNTIF('[1]FACT N°128SFOT17'!$E$21:$E$22,B12)+COUNTIF('[1]FACT N°131SFOT17'!$E$21:$E$43,B12) -> 8 | F12: 0 | G12: =COUNTIF('[1]FACT N°126SFOT17'!$E$21:$E$39,B12)+COUNTIF('[1]FACT N°125SFOT17'!$E$21:$E$44,B12)+COUNTIF('[1]FACT N°130SFOT17'!$E$21,B12)+COUNTIF('[1]FACT N°129SFOT17'!$E$21:$E$26,B12) -> 3 | H12: =SUM(C12:G12) -> 11 | I12: =(C12*10000)+(D12*2500)+(E12*5000)+(G12*5000)+(F12*5000) -> 55000 | J12: =COUNTIF('[1]FACT N°17SBOT17'!$E$21,B12)+COUNTIF('[1]FACT N°16SBOT17'!$E$21:$E$22,B12)+COUNTIF('[1]FACT N°127SFOT17'!$E$21,B12)+COUNTIF('[1]FACT N°18SBOT17'!$E$21,B12) -> 0 | K12: =IF(B12="LTTR 273 AF",J12*30000,J12*25000) -> 0 | L12: =K12+I12 -> 55000
B13: LTTR 690 AM | C13: 0 | D13: 0 | E13: =COUNTIF('[1]FACT N°128SFOT17'!$E$21:$E$22,B13)+COUNTIF('[1]FACT N°131SFOT17'!$E$21:$E$43,B13) -> 6 | F13: 0 | G13: =COUNTIF('[1]FACT N°126SFOT17'!$E$21:$E$39,B13)+COUNTIF('[1]FACT N°125SFOT17'!$E$21:$E$44,B13)+COUNTIF('[1]FACT N°130SFOT17'!$E$21,B13)+COUNTIF('[1]FACT N°129SFOT17'!$E$21:$E$26,B13) -> 4 | H13: =SUM(C13:G13) -> 10 | I13: =(C13*10000)+(D13*2500)+(E13*5000)+(G13*5000)+(F13*5000) -> 50000 | J13: =COUNTIF('[1]FACT N°17SBOT17'!$E$21,B13)+COUNTIF('[1]FACT N°16SBOT17'!$E$21:$E$22,B13)+COUNTIF('[1]FACT N°127SFOT17'!$E$21,B13)+COUNTIF('[1]FACT N°18SBOT17'!$E$21,B13) -> 0 | K13: =IF(B13="LTTR 273 AF",J13*30000,J13*25000) -> 0 | L13: =K13+I13 -> 50000
B14: LTTR 691 AM | C14: 0 | D14: 0 | E14: =COUNTIF('[1]FACT N°128SFOT17'!$E$21:$E$22,B14)+COUNTIF('[1]FACT N°131SFOT17'!$E$21:$E$43,B14) -> 2 | F14: 0 | G14: =COUNTIF('[1]FACT N°126SFOT17'!$E$21:$E$39,B14)+COUNTIF('[1]FACT N°125SFOT17'!$E$21:$E$44,B14)+COUNTIF('[1]FACT N°130SFOT17'!$E$21,B14)+COUNTIF('[1]FACT N°129SFOT17'!$E$21:$E$26,B14) -> 8 | H14: =SUM(C14:G14) -> 10 | I14: =(C14*10000)+(D14*2500)+(E14*5000)+(G14*5000)+(F14*5000) -> 50000 | J14: =COUNTIF('[1]FACT N°17SBOT17'!$E$21,B14)+COUNTIF('[1]FACT N°16SBOT17'!$E$21:$E$22,B14)+COUNTIF('[1]FACT N°127SFOT17'!$E$21,B14)+COUNTIF('[1]FACT N°18SBOT17'!$E$21,B14) -> 0 | K14: =IF(B14="LTTR 273 AF",J14*30000,J14*25000) -> 0 | L14: =K14+I14 -> 50000
B15: LTTR 917 AM | C15: 0 | D15: 0 | E15: =COUNTIF('[1]FACT N°128SFOT17'!$E$21:$E$22,B15)+COUNTIF('[1]FACT N°131SFOT17'!$E$21:$E$43,B15) -> 6 | F15: 0 | G15: =COUNTIF('[1]FACT N°126SFOT17'!$E$21:$E$39,B15)+COUNTIF('[1]FACT N°125SFOT17'!$E$21:$E$44,B15)+COUNTIF('[1]FACT N°130SFOT17'!$E$21,B15)+COUNTIF('[1]FACT N°129SFOT17'!$E$21:$E$26,B15) -> 3 | H15: =SUM(C15:G15) -> 9 | I15: =(C15*10000)+(D15*2500)+(E15*5000)+(G15*5000)+(F15*5000) -> 45000 | J15: =COUNTIF('[1]FACT N°17SBOT17'!$E$21,B15)+COUNTIF('[1]FACT N°16SBOT17'!$E$21:$E$22,B15)+COUNTIF('[1]FACT N°127SFOT17'!$E$21,B15)+COUNTIF('[1]FACT N°18SBOT17'!$E$21,B15) -> 0 | K15: =IF(B15="LTTR 273 AF",J15*30000,J15*25000) -> 0 | L15: =K15+I15 -> 45000
B16: LTTR 905 AN | C16: 0 | D16: 0 | E16: =COUNTIF('[1]FACT N°128SFOT17'!$E$21:$E$22,B16)+COUNTIF('[1]FACT N°131SFOT17'!$E$21:$E$43,B16) -> 0 | F16: 0 | G16: =COUNTIF('[1]FACT N°126SFOT17'!$E$21:$E$39,B16)+COUNTIF('[1]FACT N°125SFOT17'!$E$21:$E$44,B16)+COUNTIF('[1]FACT N°130SFOT17'!$E$21,B16)+COUNTIF('[1]FACT N°129SFOT17'!$E$21:$E$26,B16) -> 8 | H16: =SUM(C16:G16) -> 8 | I16: =(C16*10000)+(D16*2500)+(E16*5000)+(G16*5000)+(F16*5000) -> 40000 | J16: =COUNTIF('[1]FACT N°17SBOT17'!$E$21,B16)+COUNTIF('[1]FACT N°16SBOT17'!$E$21:$E$22,B16)+COUNTIF('[1]FACT N°127SFOT17'!$E$21,B16)+COUNTIF('[1]FACT N°18SBOT17'!$E$21,B16) -> 1 | K16: =IF(B16="LTTR 273 AF",J16*30000,J16*25000) -> 25000 | L16: =K16+I16 -> 65000
B17: LTTR 906 AN | C17: 0 | D17: 0 | E17: =COUNTIF('[1]FACT N°128SFOT17'!$E$21:$E$22,B17)+COUNTIF('[1]FACT N°131SFOT17'!$E$21:$E$43,B17) -> 0 | F17: 0 | G17: =COUNTIF('[1]FACT N°126SFOT17'!$E$21:$E$39,B17)+COUNTIF('[1]FACT N°125SFOT17'!$E$21:$E$44,B17)+COUNTIF('[1]FACT N°130SFOT17'!$E$21,B17)+COUNTIF('[1]FACT N°129SFOT17'!$E$21:$E$26,B17) -> 5 | H17: =SUM(C17:G17) -> 5 | I17: =(C17*10000)+(D17*2500)+(E17*5000)+(G17*5000)+(F17*5000) -> 25000 | J17: =COUNTIF('[1]FACT N°17SBOT17'!$E$21,B17)+COUNTIF('[1]FACT N°16SBOT17'!$E$21:$E$22,B17)+COUNTIF('[1]FACT N°127SFOT17'!$E$21,B17)+COUNTIF('[1]FACT N°18SBOT17'!$E$21,B17) -> 1 | K17: =IF(B17="LTTR 273 AF",J17*30000,J17*25000) -> 25000 | L17: =K17+I17 -> 50000
B18: LTTR 907 AN | C18: 0 | D18: 0 | E18: =COUNTIF('[1]FACT N°128SFOT17'!$E$21:$E$22,B18)+COUNTIF('[1]FACT N°131SFOT17'!$E$21:$E$43,B18) -> 0 | F18: 0 | G18: =COUNTIF('[1]FACT N°126SFOT17'!$E$21:$E$39,B18)+COUNTIF('[1]FACT N°125SFOT17'!$E$21:$E$44,B18)+COUNTIF('[1]FACT N°130SFOT17'!$E$21,B18)+COUNTIF('[1]FACT N°129SFOT17'!$E$21:$E$26,B18) -> 6 | H18: =SUM(C18:G18) -> 6 | I18: =(C18*10000)+(D18*2500)+(E18*5000)+(G18*5000)+(F18*5000) -> 30000 | J18: =COUNTIF('[1]FACT N°17SBOT17'!$E$21,B18)+COUNTIF('[1]FACT N°16SBOT17'!$E$21:$E$22,B18)+COUNTIF('[1]FACT N°127SFOT17'!$E$21,B18)+COUNTIF('[1]FACT N°18SBOT17'!$E$21,B18) -> 1 | K18: =IF(B18="LTTR 273 AF",J18*30000,J18*25000) -> 25000 | L18: =K18+I18 -> 55000
B19: TOTAL | C19: =SUBTOTAL(9,C6:C18) -> 0 | D19: =SUBTOTAL(9,D6:D18) -> 0 | E19: =SUBTOTAL(9,E6:E18) -> 25 | F19: =SUBTOTAL(9,F6:F18) -> 0 | G19: =SUBTOTAL(9,G6:G18) -> 50 | H19: =SUBTOTAL(9,H6:H18) -> 75 | I19: =SUBTOTAL(9,I6:I18) -> 375000 | J19: =SUBTOTAL(9,J6:J18) -> 5 | ... L19: =SUBTOTAL(9,L6:L18) -> 505000
C21: ="RECAP SALAIRES NETS "&G2 -> RECAP SALAIRES NETS OCT. 17
B22: N° | C22: SALAIRE | D22: PRIMES | E22: MOTORBOY | F22: > 50m³ | G22: < 40m³ | H22: Prime Spéciale | I22: Primes nettes | J22: TOTAL
B23: LTTR 483 AH | C23: 200000 | D23: =L6 -> 0 | E23: 50000 | F23: =(COUNTIFS('[1]FACT N°128SFOT17'!$E$21:$E$22,B6,'[1]FACT N°128SFOT17'!$L$21:$L$22,"=S")+COUNTIFS('[1]FACT N°126SFOT17'!$E$21:$E$39,B6,'[1]FACT N°126SFOT17'!$L$21:$L$39,"=S")+COUNTIFS('[1]FACT N°125SFOT17'!$E$21:$E$44,B6,'[1]FACT N°125SFOT17'!$L$21:$L$44,"=S")+COUNTIFS('[1]FACT N°131SFOT17'!$E$21:$E$43,B6,'[1]FACT N°131SFOT17'!$L$21:$L$43,"=S")+COUNTIFS('[1]FACT N°130SFOT17'!$E$21,B6,'[1]FACT N°130SFOT17'!$L$21,"=S")+COUNTIFS('[1]FACT N°129SFOT17'!$E$21:$E$26,B6,'[1]FACT N°129SFOT17'!$L$21:$L$26,"=S"))*2500 -> #VALUE! | G23: =(COUNTIFS('[1]FACT N°128SFOT17'!$E$21:$E$22,B6,'[1]FACT N°128SFOT17'!$L$21:$L$22,"=N")+COUNTIFS('[1]FACT N°126SFOT17'!$E$21:$E$39,B6,'[1]FACT N°126SFOT17'!$L$21:$L$39,"=N")+COUNTIFS('[1]FACT N°125SFOT17'!$E$21:$E$44,B6,'[1]FACT N°125SFOT17'!$L$21:$L$44,"=N")+COUNTIFS('[1]FACT N°131SFOT17'!$E$21:$E$43,B6,'[1]FACT N°131SFOT17'!$L$21:$L$43,"=N")+COUNTIFS('[1]FACT N°130SFOT17'!$E$21,B6,'[1]FACT N°130SFOT17'!$L$21,"=N")+COUNTIFS('[1]FACT N°129SFOT17'!$E$21:$E$26,B6,'[1]FACT N°129SFOT17'!$L$21:$L$26,"=N"))*2500 -> #VALUE! | H23: =IF(J61<7000000,0,IF(AND(J61>=7000000,J61<9000000),25000,IF(AND(J61>=9000000,J61<12000000),50000,IF(J61>=12000000,100000)))) -> 0 | I23: =D23+F23-G23+H23 -> #VALUE! | J23: =C23+E23+I23 -> #VALUE!
B24: LTTR 275 AF | C24: 150000 | D24: =L7 -> 0 | E24: 50000 | F24: =(COUNTIFS('[1]FACT N°128SFOT17'!$E$21:$E$22,B7,'[1]FACT N°128SFOT17'!$L$21:$L$22,"=S")+COUNTIFS('[1]FACT N°126SFOT17'!$E$21:$E$39,B7,'[1]FACT N°126SFOT17'!$L$21:$L$39,"=S")+COUNTIFS('[1]FACT N°125SFOT17'!$E$21:$E$44,B7,'[1]FACT N°125SFOT17'!$L$21:$L$44,"=S")+COUNTIFS('[1]FACT N°131SFOT17'!$E$21:$E$43,B7,'[1]FACT N°131SFOT17'!$L$21:$L$43,"=S")+COUNTIFS('[1]FACT N°130SFOT17'!$E$21,B7,'[1]FACT N°130SFOT17'!$L$21,"=S")+COUNTIFS('[1]FACT N°129SFOT17'!$E$21:$E$26,B7,'[1]FACT N°129SFOT17'!$L$21:$L$26,"=S"))*2500 -> #VALUE! | G24: =(COUNTIFS('[1]FACT N°128SFOT17'!$E$21:$E$22,B7,'[1]FACT N°128SFOT17'!$L$21:$L$22,"=N")+COUNTIFS('[1]FACT N°126SFOT17'!$E$21:$E$39,B7,'[1]FACT N°126SFOT17'!$L$21:$L$39,"=N")+COUNTIFS('[1]FACT N°125SFOT17'!$E$21:$E$44,B7,'[1]FACT N°125SFOT17'!$L$21:$L$44,"=N")+COUNTIFS('[1]FACT N°131SFOT17'!$E$21:$E$43,B7,'[1]FACT N°131SFOT17'!$L$21:$L$43,"=N")+COUNTIFS('[1]FACT N°130SFOT17'!$E$21,B7,'[1]FACT N°130SFOT17'!$L$21,"=N")+COUNTIFS('[1]FACT N°129SFOT17'!$E$21:$E$26,B7,'[1]FACT N°129SFOT17'!$L$21:$L$26,"=N"))*2500 -> #VALUE! | H24: =IF(J62<7000000,0,IF(AND(J62>=7000000,J62<9000000),25000,IF(AND(J62>=9000000,J62<12000000),50000,IF(J62>=12000000,100000)))) -> 0 | I24: =D24+F24-G24+H24 -> #VALUE! | J24: =C24+E24+I24 -> #VALUE!
B25: LTTR 273 AF | C25: 150000 | D25: =L8 -> 30000 | E25: 50000 | F25: =(COUNTIFS('[1]FACT N°128SFOT17'!$E$21:$E$22,B8,'[1]FACT N°128SFOT17'!$L$21:$L$22,"=S")+COUNTIFS('[1]FACT N°126SFOT17'!$E$21:$E$39,B8,'[1]FACT N°126SFOT17'!$L$21:$L$39,"=S")+COUNTIFS('[1]FACT N°125SFOT17'!$E$21:$E$44,B8,'[1]FACT N°125SFOT17'!$L$21:$L$44,"=S")+COUNTIFS('[1]FACT N°131SFOT17'!$E$21:$E$43,B8,'[1]FACT N°131SFOT17'!$L$21:$L$43,"=S")+COUNTIFS('[1]FACT N°130SFOT17'!$E$21,B8,'[1]FACT N°130SFOT17'!$L$21,"=S")+COUNTIFS('[1]FACT N°129SFOT17'!$E$21:$E$26,B8,'[1]FACT N°129SFOT17'!$L$21:$L$26,"=S"))*2500 -> #VALUE! | G25: =(COUNTIFS('[1]FACT N°128SFOT17'!$E$21:$E$22,B8,'[1]FACT N°128SFOT17'!$L$21:$L$22,"=N")+COUNTIFS('[1]FACT N°126SFOT17'!$E$21:$E$39,B8,'[1]FACT N°126SFOT17'!$L$21:$L$39,"=N")+COUNTIFS('[1]FACT N°125SFOT17'!$E$21:$E$44,B8,'[1]FACT N°125SFOT17'!$L$21:$L$44,"=N")+COUNTIFS('[1]FACT N°131SFOT17'!$E$21:$E$43,B8,'[1]FACT N°131SFOT17'!$L$21:$L$43,"=N")+COUNTIFS('[1]FACT N°130SFOT17'!$E$21,B8,'[1]FACT N°130SFOT17'!$L$21,"=N")+COUNTIFS('[1]FACT N°129SFOT17'!$E$21:$E$26,B8,'[1]FACT N°129SFOT17'!$L$21:$L$26,"=N"))*2500 -> #VALUE! | H25: =IF(J63<7000000,0,IF(AND(J63>=7000000,J63<9000000),25000,IF(AND(J63>=9000000,J63<12000000),50000,IF(J63>=12000000,100000)))) -> 0 | I25: =D25+F25-G25+H25 -> #VALUE! | J25: =C25+E25+I25 -> #VALUE!
B26: LTTR 797 AJ | C26: 150000 | D26: =L9 -> 0 | E26: 50000 | F26: =(COUNTIFS('[1]FACT N°128SFOT17'!$E$21:$E$22,B9,'[1]FACT N°128SFOT17'!$L$21:$L$22,"=S")+COUNTIFS('[1]FACT N°126SFOT17'!$E$21:$E$39,B9,'[1]FACT N°126SFOT17'!$L$21:$L$39,"=S")+COUNTIFS('[1]FACT N°125SFOT17'!$E$21:$E$44,B9,'[1]FACT N°125SFOT17'!$L$21:$L$44,"=S")+COUNTIFS('[1]FACT N°131SFOT17'!$E$21:$E$43,B9,'[1]FACT N°131SFOT17'!$L$21:$L$43,"=S")+COUNTIFS('[1]FACT N°130SFOT17'!$E$21,B9,'[1]FACT N°130SFOT17'!$L$21,"=S")+COUNTIFS('[1]FACT N°129SFOT17'!$E$21:$E$26,B9,'[1]FACT N°129SFOT17'!$L$21:$L$26,"=S"))*2500 -> #VALUE! | G26: =(COUNTIFS('[1]FACT N°128SFOT17'!$E$21:$E$22,B9,'[1]FACT N°128SFOT17'!$L$21:$L$22,"=N")+COUNTIFS('[1]FACT N°126SFOT17'!$E$21:$E$39,B9,'[1]FACT N°126SFOT17'!$L$21:$L$39,"=N")+COUNTIFS('[1]FACT N°125SFOT17'!$E$21:$E$44,B9,'[1]FACT N°125SFOT17'!$L$21:$L$44,"=N")+COUNTIFS('[1]FACT N°131SFOT17'!$E$21:$E$43,B9,'[1]FACT N°131SFOT17'!$L$21:$L$43,"=N")+COUNTIFS('[1]FACT N°130SFOT17'!$E$21,B9,'[1]FACT N°130SFOT17'!$L$21,"=N")+COUNTIFS('[1]FACT N°129SFOT17'!$E$21:$E$26,B9,'[1]FACT N°129SFOT17'!$L$21:$L$26,"=N"))*2500 -> #VALUE! | H26: =IF(J64<7000000,0,IF(AND(J64>=7000000,J64<9000000),25000,IF(AND(J64>=9000000,J64<12000000),50000,IF(J64>=12000000,100000)))) -> 0 | I26: =D26+F26-G26+H26 -> #VALUE! | J26: =C26+E26+I26 -> #VALUE!
B27: LTTR 798 AJ | C27: 150000 | D27: =L10 -> 45000 | E27: 50000 | F27: =(COUNTIFS('[1]FACT N°128SFOT17'!$E$21:$E$22,B10,'[1]FACT N°128SFOT17'!$L$21:$L$22,"=S")+COUNTIFS('[1]FACT N°126SFOT17'!$E$21:$E$39,B10,'[1]FACT N°126SFOT17'!$L$21:$L$39,"=S")+COUNTIFS('[1]FACT N°125SFOT17'!$E$21:$E$44,B10,'[1]FACT N°125SFOT17'!$L$21:$L$44,"=S")+COUNTIFS('[1]FACT N°131SFOT17'!$E$21:$E$43,B10,'[1]FACT N°131SFOT17'!$L$21:$L$43,"=S")+COUNTIFS('[1]FACT N°130SFOT17'!$E$21,B10,'[1]FACT N°130SFOT17'!$L$21,"=S")+COUNTIFS('[1]FACT N°129SFOT17'!$E$21:$E$26,B10,'[1]FACT N°129SFOT17'!$L$21:$L$26,"=S"))*2500 -> #VALUE! | G27: =(COUNTIFS('[1]FACT N°128SFOT17'!$E$21:$E$22,B10,'[1]FACT N°128SFOT17'!$L$21:$L$22,"=N")+COUNTIFS('[1]FACT N°126SFOT17'!$E$21:$E$39,B10,'[1]FACT N°126SFOT17'!$L$21:$L$39,"=N")+COUNTIFS('[1]FACT N°125SFOT17'!$E$21:$E$44,B10,'[1]FACT N°125SFOT17'!$L$21:$L$44,"=N")+COUNTIFS('[1]FACT N°131SFOT17'!$E$21:$E$43,B10,'[1]FACT N°131SFOT17'!$L$21:$L$43,"=N")+COUNTIFS('[1]FACT N°130SFOT17'!$E$21,B10,'[1]FACT N°130SFOT17'!$L$21,"=N")+COUNTIFS('[1]FACT N°129SFOT17'!$E$21:$E$26,B10,'[1]FACT N°129SFOT17'!$L$21:$L$26,"=N"))*2500 -> #VALUE! | H27: =IF(J65<7000000,0,IF(AND(J65>=7000000,J65<9000000),25000,IF(AND(J65>=9000000,J65<12000000),50000,IF(J65>=12000000,100000)))) -> 0 | I27: =D27+F27-G27+H27 -> #VALUE! | J27: =C27+E27+I27 -> #VALUE!
B28: LTTR 175 AL | C28: 150000 | D28: =L11 -> 60000 | E28: 50000 | F28: =(COUNTIFS('[1]FACT N°128SFOT17'!$E$21:$E$22,B11,'[1]FACT N°128SFOT17'!$L$21:$L$22,"=S")+COUNTIFS('[1]FACT N°126SFOT17'!$E$21:$E$39,B11,'[1]FACT N°126SFOT17'!$L$21:$L$39,"=S")+COUNTIFS('[1]FACT N°125SFOT17'!$E$21:$E$44,B11,'[1]FACT N°125SFOT17'!$L$21:$L$44,"=S")+COUNTIFS('[1]FACT N°131SFOT17'!$E$21:$E$43,B11,'[1]FACT N°131SFOT17'!$L$21:$L$43,"=S")+COUNTIFS('[1]FACT N°130SFOT17'!$E$21,B11,'[1]FACT N°130SFOT17'!$L$21,"=S")+COUNTIFS('[1]FACT N°129SFOT17'!$E$21:$E$26,B11,'[1]FACT N°129SFOT17'!$L$21:$L$26,"=S"))*2500 -> #VALUE! | G28: =(COUNTIFS('[1]FACT N°128SFOT17'!$E$21:$E$22,B11,'[1]FACT N°128SFOT17'!$L$21:$L$22,"=N")+COUNTIFS('[1]FACT N°126SFOT17'!$E$21:$E$39,B11,'[1]FACT N°126SFOT17'!$L$21:$L$39,"=N")+COUNTIFS('[1]FACT N°125SFOT17'!$E$21:$E$44,B11,'[1]FACT N°125SFOT17'!$L$21:$L$44,"=N")+COUNTIFS('[1]FACT N°131SFOT17'!$E$21:$E$43,B11,'[1]FACT N°131SFOT17'!$L$21:$L$43,"=N")+COUNTIFS('[1]FACT N°130SFOT17'!$E$21,B11,'[1]FACT N°130SFOT17'!$L$21,"=N")+COUNTIFS('[1]FACT N°129SFOT17'!$E$21:$E$26,B11,'[1]FACT N°129SFOT17'!$L$21:$L$26,"=N"))*2500 -> #VALUE! | H28: =IF(J66<7000000,0,IF(AND(J66>=7000000,J66<9000000),25000,IF(AND(J66>=9000000,J66<12000000),50000,IF(J66>=12000000,100000)))) -> 0 | I28: =D28+F28-G28+H28 -> #VALUE! | J28: =C28+E28+I28 -> #VALUE! | N28: PRIME SUPLEMENTAIRE
B29: LTTR 689 AM | C29: 150000 | D29: =L12 -> 55000 | E29: 50000 | F29: =(COUNTIFS('[1]FACT N°128SFOT17'!$E$21:$E$22,B12,'[1]FACT N°128SFOT17'!$L$21:$L$22,"=S")+COUNTIFS('[1]FACT N°126SFOT17'!$E$21:$E$39,B12,'[1]FACT N°126SFOT17'!$L$21:$L$39,"=S")+COUNTIFS('[1]FACT N°125SFOT17'!$E$21:$E$44,B12,'[1]FACT N°125SFOT17'!$L$21:$L$44,"=S")+COUNTIFS('[1]FACT N°131SFOT17'!$E$21:$E$43,B12,'[1]FACT N°131SFOT17'!$L$21:$L$43,"=S")+COUNTIFS('[1]FACT N°130SFOT17'!$E$21,B12,'[1]FACT N°130SFOT17'!$L$21,"=S")+COUNTIFS('[1]FACT N°129SFOT17'!$E$21:$E$26,B12,'[1]FACT N°129SFOT17'!$L$21:$L$26,"=S"))*2500 -> #VALUE! | G29: =(COUNTIFS('[1]FACT N°128SFOT17'!$E$21:$E$22,B12,'[1]FACT N°128SFOT17'!$L$21:$L$22,"=N")+COUNTIFS('[1]FACT N°126SFOT17'!$E$21:$E$39,B12,'[1]FACT N°126SFOT17'!$L$21:$L$39,"=N")+COUNTIFS('[1]FACT N°125SFOT17'!$E$21:$E$44,B12,'[1]FACT N°125SFOT17'!$L$21:$L$44,"=N")+COUNTIFS('[1]FACT N°131SFOT17'!$E$21:$E$43,B12,'[1]FACT N°131SFOT17'!$L$21:$L$43,"=N")+COUNTIFS('[1]FACT N°130SFOT17'!$E$21,B12,'[1]FACT N°130SFOT17'!$L$21,"=N")+COUNTIFS('[1]FACT N°129SFOT17'!$E$21:$E$26,B12,'[1]FACT N°129SFOT17'!$L$21:$L$26,"=N"))*2500 -> #VALUE! | H29: =IF(J67<7000000,0,IF(AND(J67>=7000000,J67<9000000),25000,IF(AND(J67>=9000000,J67<12000000),50000,IF(J67>=12000000,100000)))) -> 0 | I29: =D29+F29-G29+H29 -> #VALUE! | J29: =C29+E29+I29 -> #VALUE!
B30: LTTR 690 AM | C30: 150000 | D30: =L13 -> 50000 | E30: 50000 | F30: =(COUNTIFS('[1]FACT N°128SFOT17'!$E$21:$E$22,B13,'[1]FACT N°128SFOT17'!$L$21:$L$22,"=S")+COUNTIFS('[1]FACT N°126SFOT17'!$E$21:$E$39,B13,'[1]FACT N°126SFOT17'!$L$21:$L$39,"=S")+COUNTIFS('[1]FACT N°125SFOT17'!$E$21:$E$44,B13,'[1]FACT N°125SFOT17'!$L$21:$L$44,"=S")+COUNTIFS('[1]FACT N°131SFOT17'!$E$21:$E$43,B13,'[1]FACT N°131SFOT17'!$L$21:$L$43,"=S")+COUNTIFS('[1]FACT N°130SFOT17'!$E$21,B13,'[1]FACT N°130SFOT17'!$L$21,"=S")+COUNTIFS('[1]FACT N°129SFOT17'!$E$21:$E$26,B13,'[1]FACT N°129SFOT17'!$L$21:$L$26,"=S"))*2500 -> #VALUE! | G30: =(COUNTIFS('[1]FACT N°128SFOT17'!$E$21:$E$22,B13,'[1]FACT N°128SFOT17'!$L$21:$L$22,"=N")+COUNTIFS('[1]FACT N°126SFOT17'!$E$21:$E$39,B13,'[1]FACT N°126SFOT17'!$L$21:$L$39,"=N")+COUNTIFS('[1]FACT N°125SFOT17'!$E$21:$E$44,B13,'[1]FACT N°125SFOT17'!$L$21:$L$44,"=N")+COUNTIFS('[1]FACT N°131SFOT17'!$E$21:$E$43,B13,'[1]FACT N°131SFOT17'!$L$21:$L$43,"=N")+COUNTIFS('[1]FACT N°130SFOT17'!$E$21,B13,'[1]FACT N°130SFOT17'!$L$21,"=N")+COUNTIFS('[1]FACT N°129SFOT17'!$E$21:$E$26,B13,'[1]FACT N°129SFOT17'!$L$21:$L$26,"=N"))*2500 -> #VALUE! | H30: =IF(J68<7000000,0,IF(AND(J68>=7000000,J68<9000000),25000,IF(AND(J68>=9000000,J68<12000000),50000,IF(J68>=12000000,100000)))) -> 0 | I30: =D30+F30-G30+H30 -> #VALUE! | J30: =C30+E30+I30 -> #VALUE!
B31: LTTR 691 AM | C31: 150000 | D31: =L14 -> 50000 | E31: 50000 | F31: =(COUNTIFS('[1]FACT N°128SFOT17'!$E$21:$E$22,B14,'[1]FACT N°128SFOT17'!$L$21:$L$22,"=S")+COUNTIFS('[1]FACT N°126SFOT17'!$E$21:$E$39,B14,'[1]FACT N°126SFOT17'!$L$21:$L$39,"=S")+COUNTIFS('[1]FACT N°125SFOT17'!$E$21:$E$44,B14,'[1]FACT N°125SFOT17'!$L$21:$L$44,"=S")+COUNTIFS('[1]FACT N°131SFOT17'!$E$21:$E$43,B14,'[1]FACT N°131SFOT17'!$L$21:$L$43,"=S")+COUNTIFS('[1]FACT N°130SFOT17'!$E$21,B14,'[1]FACT N°130SFOT17'!$L$21,"=S")+COUNTIFS('[1]FACT N°129SFOT17'!$E$21:$E$26,B14,'[1]FACT N°129SFOT17'!$L$21:$L$26,"=S"))*2500 -> #VALUE! | G31: =(COUNTIFS('[1]FACT N°128SFOT17'!$E$21:$E$22,B14,'[1]FACT N°128SFOT17'!$L$21:$L$22,"=N")+COUNTIFS('[1]FACT N°126SFOT17'!$E$21:$E$39,B14,'[1]FACT N°126SFOT17'!$L$21:$L$39,"=N")+COUNTIFS('[1]FACT N°125SFOT17'!$E$21:$E$44,B14,'[1]FACT N°125SFOT17'!$L$21:$L$44,"=N")+COUNTIFS('[1]FACT N°131SFOT17'!$E$21:$E$43,B14,'[1]FACT N°131SFOT17'!$L$21:$L$43,"=N")+COUNTIFS('[1]FACT N°130SFOT17'!$E$21,B14,'[1]FACT N°130SFOT17'!$L$21,"=N")+COUNTIFS('[1]FACT N°129SFOT17'!$E$21:$E$26,B14,'[1]FACT N°129SFOT17'!$L$21:$L$26,"=N"))*2500 -> #VALUE! | H31: =IF(J69<7000000,0,IF(AND(J69>=7000000,J69<9000000),25000,IF(AND(J69>=9000000,J69<12000000),50000,IF(J69>=12000000,100000)))) -> 0 | I31: =D31+F31-G31+H31 -> #VALUE! | J31: =C31+E31+I31 -> #VALUE!
B32: LTTR 917 AM | C32: 150000 | D32: =L15 -> 45000 | E32: 50000 | F32: =(COUNTIFS('[1]FACT N°128SFOT17'!$E$21:$E$22,B15,'[1]FACT N°128SFOT17'!$L$21:$L$22,"=S")+COUNTIFS('[1]FACT N°126SFOT17'!$E$21:$E$39,B15,'[1]FACT N°126SFOT17'!$L$21:$L$39,"=S")+COUNTIFS('[1]FACT N°125SFOT17'!$E$21:$E$44,B15,'[1]FACT N°125SFOT17'!$L$21:$L$44,"=S")+COUNTIFS('[1]FACT N°131SFOT17'!$E$21:$E$43,B15,'[1]FACT N°131SFOT17'!$L$21:$L$43,"=S")+COUNTIFS('[1]FACT N°130SFOT17'!$E$21,B15,'[1]FACT N°130SFOT17'!$L$21,"=S")+COUNTIFS('[1]FACT N°129SFOT17'!$E$21:$E$26,B15,'[1]FACT N°129SFOT17'!$L$21:$L$26,"=S"))*2500 -> #VALUE! | G32: =(COUNTIFS('[1]FACT N°128SFOT17'!$E$21:$E$22,B15,'[1]FACT N°128SFOT17'!$L$21:$L$22,"=N")+COUNTIFS('[1]FACT N°126SFOT17'!$E$21:$E$39,B15,'[1]FACT N°126SFOT17'!$L$21:$L$39,"=N")+COUNTIFS('[1]FACT N°125SFOT17'!$E$21:$E$44,B15,'[1]FACT N°125SFOT17'!$L$21:$L$44,"=N")+COUNTIFS('[1]FACT N°131SFOT17'!$E$21:$E$43,B15,'[1]FACT N°131SFOT17'!$L$21:$L$43,"=N")+COUNTIFS('[1]FACT N°130SFOT17'!$E$21,B15,'[1]FACT N°130SFOT17'!$L$21,"=N")+COUNTIFS('[1]FACT N°129SFOT17'!$E$21:$E$26,B15,'[1]FACT N°129SFOT17'!$L$21:$L$26,"=N"))*2500 -> #VALUE! | H32: =IF(J70<7000000,0,IF(AND(J70>=7000000,J70<9000000),25000,IF(AND(J70>=9000000,J70<12000000),50000,IF(J70>=12000000,100000)))) -> 0 | I32: =D32+F32-G32+H32 -> #VALUE! | J32: =C32+E32+I32 -> #VALUE!
B33: LTTR 905 AN | C33: 150000 | D33: =L16 -> 65000 | E33: 50000 | F33: =(COUNTIFS('[1]FACT N°128SFOT17'!$E$21:$E$22,B16,'[1]FACT N°128SFOT17'!$L$21:$L$22,"=S")+COUNTIFS('[1]FACT N°126SFOT17'!$E$21:$E$39,B16,'[1]FACT N°126SFOT17'!$L$21:$L$39,"=S")+COUNTIFS('[1]FACT N°125SFOT17'!$E$21:$E$44,B16,'[1]FACT N°125SFOT17'!$L$21:$L$44,"=S")+COUNTIFS('[1]FACT N°131SFOT17'!$E$21:$E$43,B16,'[1]FACT N°131SFOT17'!$L$21:$L$43,"=S")+COUNTIFS('[1]FACT N°130SFOT17'!$E$21,B16,'[1]FACT N°130SFOT17'!$L$21,"=S")+COUNTIFS('[1]FACT N°129SFOT17'!$E$21:$E$26,B16,'[1]FACT N°129SFOT17'!$L$21:$L$26,"=S"))*2500 -> #VALUE! | G33: =(COUNTIFS('[1]FACT N°128SFOT17'!$E$21:$E$22,B16,'[1]FACT N°128SFOT17'!$L$21:$L$22,"=N")+COUNTIFS('[1]FACT N°126SFOT17'!$E$21:$E$39,B16,'[1]FACT N°126SFOT17'!$L$21:$L$39,"=N")+COUNTIFS('[1]FACT N°125SFOT17'!$E$21:$E$44,B16,'[1]FACT N°125SFOT17'!$L$21:$L$44,"=N")+COUNTIFS('[1]FACT N°131SFOT17'!$E$21:$E$43,B16,'[1]FACT N°131SFOT17'!$L$21:$L$43,"=N")+COUNTIFS('[1]FACT N°130SFOT17'!$E$21,B16,'[1]FACT N°130SFOT17'!$L$21,"=N")+COUNTIFS('[1]FACT N°129SFOT17'!$E$21:$E$26,B16,'[1]FACT N°129SFOT17'!$L$21:$L$26,"=N"))*2500 -> #VALUE! | H33: =IF(J71<7000000,0,IF(AND(J71>=7000000,J71<9000000),25000,IF(AND(J71>=9000000,J71<12000000),50000,IF(J71>=12000000,100000)))) -> 0 | I33: =D33+F33-G33+H33 -> #VALUE! | J33: =C33+E33+I33 -> #VALUE!
B34: LTTR 906 AN | C34: 150000 | D34: =L17 -> 50000 | E34: 50000 | F34: =(COUNTIFS('[1]FACT N°128SFOT17'!$E$21:$E$22,B17,'[1]FACT N°128SFOT17'!$L$21:$L$22,"=S")+COUNTIFS('[1]FACT N°126SFOT17'!$E$21:$E$39,B17,'[1]FACT N°126SFOT17'!$L$21:$L$39,"=S")+COUNTIFS('[1]FACT N°125SFOT17'!$E$21:$E$44,B17,'[1]FACT N°125SFOT17'!$L$21:$L$44,"=S")+COUNTIFS('[1]FACT N°131SFOT17'!$E$21:$E$43,B17,'[1]FACT N°131SFOT17'!$L$21:$L$43,"=S")+COUNTIFS('[1]FACT N°130SFOT17'!$E$21,B17,'[1]FACT N°130SFOT17'!$L$21,"=S")+COUNTIFS('[1]FACT N°129SFOT17'!$E$21:$E$26,B17,'[1]FACT N°129SFOT17'!$L$21:$L$26,"=S"))*2500 -> #VALUE! | G34: =(COUNTIFS('[1]FACT N°128SFOT17'!$E$21:$E$22,B17,'[1]FACT N°128SFOT17'!$L$21:$L$22,"=N")+COUNTIFS('[1]FACT N°126SFOT17'!$E$21:$E$39,B17,'[1]FACT N°126SFOT17'!$L$21:$L$39,"=N")+COUNTIFS('[1]FACT N°125SFOT17'!$E$21:$E$44,B17,'[1]FACT N°125SFOT17'!$L$21:$L$44,"=N")+COUNTIFS('[1]FACT N°131SFOT17'!$E$21:$E$43,B17,'[1]FACT N°131SFOT17'!$L$21:$L$43,"=N")+COUNTIFS('[1]FACT N°130SFOT17'!$E$21,B17,'[1]FACT N°130SFOT17'!$L$21,"=N")+COUNTIFS('[1]FACT N°129SFOT17'!$E$21:$E$26,B17,'[1]FACT N°129SFOT17'!$L$21:$L$26,"=N"))*2500 -> #VALUE! | H34: =IF(J72<7000000,0,IF(AND(J72>=7000000,J72<9000000),25000,IF(AND(J72>=9000000,J72<12000000),50000,IF(J72>=12000000,100000)))) -> 0 | I34: =D34+F34-G34+H34 -> #VALUE! | J34: =C34+E34+I34 -> #VALUE!
B35: LTTR 907 AN | C35: 150000 | D35: =L18 -> 55000 | E35: 50000 | F35: =(COUNTIFS('[1]FACT N°128SFOT17'!$E$21:$E$22,B18,'[1]FACT N°128SFOT17'!$L$21:$L$22,"=S")+COUNTIFS('[1]FACT N°126SFOT17'!$E$21:$E$39,B18,'[1]FACT N°126SFOT17'!$L$21:$L$39,"=S")+COUNTIFS('[1]FACT N°125SFOT17'!$E$21:$E$44,B18,'[1]FACT N°125SFOT17'!$L$21:$L$44,"=S")+COUNTIFS('[1]FACT N°131SFOT17'!$E$21:$E$43,B18,'[1]FACT N°131SFOT17'!$L$21:$L$43,"=S")+COUNTIFS('[1]FACT N°130SFOT17'!$E$21,B18,'[1]FACT N°130SFOT17'!$L$21,"=S")+COUNTIFS('[1]FACT N°129SFOT17'!$E$21:$E$26,B18,'[1]FACT N°129SFOT17'!$L$21:$L$26,"=S"))*2500 -> #VALUE! | G35: =(COUNTIFS('[1]FACT N°128SFOT17'!$E$21:$E$22,B18,'[1]FACT N°128SFOT17'!$L$21:$L$22,"=N")+COUNTIFS('[1]FACT N°126SFOT17'!$E$21:$E$39,B18,'[1]FACT N°126SFOT17'!$L$21:$L$39,"=N")+COUNTIFS('[1]FACT N°125SFOT17'!$E$21:$E$44,B18,'[1]FACT N°125SFOT17'!$L$21:$L$44,"=N")+COUNTIFS('[1]FACT N°131SFOT17'!$E$21:$E$43,B18,'[1]FACT N°131SFOT17'!$L$21:$L$43,"=N")+COUNTIFS('[1]FACT N°130SFOT17'!$E$21,B18,'[1]FACT N°130SFOT17'!$L$21,"=N")+COUNTIFS('[1]FACT N°129SFOT17'!$E$21:$E$26,B18,'[1]FACT N°129SFOT17'!$L$21:$L$26,"=N"))*2500 -> #VALUE! | H35: =IF(J73<7000000,0,IF(AND(J73>=7000000,J73<9000000),25000,IF(AND(J73>=9000000,J73<12000000),50000,IF(J73>=12000000,100000)))) -> 0 | I35: =D35+F35-G35+H35 -> #VALUE! | J35: =C35+E35+I35 -> #VALUE!
B36: Total | C36: =SUM(C23:C35) -> 2000000 | D36: =SUM(D23:D35) -> 505000 | E36: =SUM(E23:E35) -> 650000 | F36: =SUM(F23:F35) -> #VALUE! | G36: =-SUM(G23:G35) -> #VALUE! | H36: =SUM(H23:H35) -> 0 | I36: =SUM(I23:I35) -> #VALUE! | J36: =SUM(J23:J35) -> #VALUE!
E38: ="Prévisions Gasoil Navettes + MRS Bertoua "&G2 -> Prévisions Gasoil Navettes + MRS Bertoua OCT. 17
B40: N° | C40: ="NOMBRE DE "&C4 -> NOMBRE DE NAVETTES | H40: MRS BERTOUA | I40: Gasoil Navettes | J40: =+L4 -> TOTAL
C41: =C5 -> 10064 | D41: =D5 -> 10012 | E41: =E5 -> 10009 | F41: =F5 -> 10008 | G41: =G5 -> 10010
B42: LTTR 483 AH | C42: =C6 -> 0 | D42: =D6 -> 0 | E42: =E6 -> 0 | F42: =F6 -> 0 | G42: =G6 -> 0 | H42: 0 | I42: =J42-H42 -> 0 | J42: =(C42*330*677.76)+(D42*42*677.76)+(E42*98*677.76)+(F42*145*677.76)+(G42*95*677.76)+H42 -> 0
B43: LTTR 275 AF | C43: =C7 -> 0 | D43: =D7 -> 0 | E43: =E7 -> 0 | F43: =F7 -> 0 | G43: =G7 -> 0 | H43: 0 | I43: =J43-H43 -> 0 | J43: =(C43*330*677.76)+(D43*42*677.76)+(E43*98*677.76)+(F43*145*677.76)+(G43*95*677.76)+H43 -> 0
B44: LTTR 273 AF | C44: =C8 -> 0 | D44: =D8 -> 0 | E44: =E8 -> 0 | F44: =F8 -> 0 | G44: =G8 -> 0 | H44: =1168000+17520 -> 1185520 | I44: =J44-H44 -> 0 | J44: =(C44*330*677.76)+(D44*42*677.76)+(E44*98*677.76)+(F44*145*677.76)+(G44*95*677.76)+H44 -> 1185520
B45: LTTR 797 AJ | C45: =C9 -> 0 | D45: =D9 -> 0 | E45: =E9 -> 0 | F45: =F9 -> 0 | G45: =G9 -> 0 | H45: 584000 | I45: =J45-H45 -> 0 | J45: =(C45*330*677.76)+(D45*42*677.76)+(E45*98*677.76)+(F45*145*677.76)+(G45*95*677.76)+H45 -> 584000
...

Sheet Feuil2
B1: CALCUL DES SALAIRES, PRIMES, CONSOS GASOIL ET CHIFFRE D'AFFAIRES MOIS DE DECEMBRE 18
A2: Décembre
A3: CAMIONS | B3: UFA10008 | C3: UFA10009 | D3: UFA10010 | E3: UFA10012 | F3: UFA10064 | G3: TOTAL | H3: EXPORTS | I3: CA NAVETTES | J3: CA EXPORTS | K3: CA TOTAL | L3: SALAIRE | M3: PRIMES | N3: PRIME SPC | O3: TTAL SAL+PRIMES
A4: LTTR 175 AL | B4: =VLOOKUP($A4,Feuil1!$B$6:$L$18,5,0) -> 0 | C4: =VLOOKUP($A4,Feuil1!$B$6:$L$18,4,0) -> 0 | D4: =VLOOKUP($A4,Feuil1!$B$6:$L$18,6,0) -> 7 | E4: =VLOOKUP($A4,Feuil1!$B$6:$L$18,3,0) -> 0 | F4: =VLOOKUP($A4,Feuil1!$B$6:$L$18,2,0) -> 0 | G4: =SUM(B4:F4) -> 7 | H4: =VLOOKUP($A4,Feuil1!$B$6:$L$18,9,0) -> 1 | I4: =VLOOKUP($A4,Feuil1!$B$61:$L$73,7,0) -> 1685754 | J4: =VLOOKUP($A4,Feuil1!$B$61:$L$73,8,0) -> 2150000 | K4: =I4+J4 -> 3835754 | L4: 125000 | M4: =VLOOKUP($A4,Feuil1!$B$23:$L$35,3,0) -> 60000 | N4: =VLOOKUP($A4,Feuil1!$B$23:$L$35,7,0) -> 0 | O4: =SUM(L4:N4) -> 185000
A5: LTTR 273 AF | B5: =VLOOKUP($A5,Feuil1!$B$6:$L$18,5,0) -> 0 | C5: =VLOOKUP($A5,Feuil1!$B$6:$L$18,4,0) -> 0 | D5: =VLOOKUP($A5,Feuil1!$B$6:$L$18,6,0) -> 0 | E5: =VLOOKUP($A5,Feuil1!$B$6:$L$18,3,0) -> 0 | F5: =VLOOKUP($A5,Feuil1!$B$6:$L$18,2,0) -> 0 | G5: =SUM(B5:F5) -> 0 | H5: =VLOOKUP($A5,Feuil1!$B$6:$L$18,9,0) -> 1 | I5: =VLOOKUP($A5,Feuil1!$B$61:$L$73,7,0) -> 0 | J5: =VLOOKUP($A5,Feuil1!$B$61:$L$73,8,0) -> 2650000 | K5: =I5+J5 -> 2650000 | L5: 125000 | M5: =VLOOKUP($A5,Feuil1!$B$23:$L$35,3,0) -> 30000 | N5: =VLOOKUP($A5,Feuil1!$B$23:$L$35,7,0) -> 0 | O5: =SUM(L5:N5) -> 155000
A6: LTTR 275 AF | B6: =VLOOKUP($A6,Feuil1!$B$6:$L$18,5,0) -> 0 | C6: =VLOOKUP($A6,Feuil1!$B$6:$L$18,4,0) -> 0 | D6: =VLOOKUP($A6,Feuil1!$B$6:$L$18,6,0) -> 0 | E6: =VLOOKUP($A6,Feuil1!$B$6:$L$18,3,0) -> 0 | F6: =VLOOKUP($A6,Feuil1!$B$6:$L$18,2,0) -> 0 | G6: =SUM(B6:F6) -> 0 | H6: =VLOOKUP($A6,Feuil1!$B$6:$L$18,9,0) -> 0 | I6: =VLOOKUP($A6,Feuil1!$B$61:$L$73,7,0) -> 0 | J6: =VLOOKUP($A6,Feuil1!$B$61:$L$73,8,0) -> 0 | K6: =I6+J6 -> 0 | L6: 125000 | M6: =VLOOKUP($A6,Feuil1!$B$23:$L$35,3,0) -> 0 | N6: =VLOOKUP($A6,Feuil1!$B$23:$L$35,7,0) -> 0 | O6: =SUM(L6:N6) -> 125000
A7: LTTR 483 AH | B7: =VLOOKUP($A7,Feuil1!$B$6:$L$18,5,0) -> 0 | C7: =VLOOKUP($A7,Feuil1!$B$6:$L$18,4,0) -> 0 | D7: =VLOOKUP($A7,Feuil1!$B$6:$L$18,6,0) -> 0 | E7: =VLOOKUP($A7,Feuil1!$B$6:$L$18,3,0) -> 0 | F7: =VLOOKUP($A7,Feuil1!$B$6:$L$18,2,0) -> 0 | G7: =SUM(B7:F7) -> 0 | H7: =VLOOKUP($A7,Feuil1!$B$6:$L$18,9,0) -> 0 | I7: =VLOOKUP($A7,Feuil1!$B$61:$L$73,7,0) -> 0 | J7: =VLOOKUP($A7,Feuil1!$B$61:$L$73,8,0) -> 0 | K7: =I7+J7 -> 0 | L7: 125000 | M7: =VLOOKUP($A7,Feuil1!$B$23:$L$35,3,0) -> 0 | N7: =VLOOKUP($A7,Feuil1!$B$23:$L$35,7,0) -> 0 | O7: =SUM(L7:N7) -> 125000
A8: LTTR 689 AM | B8: =VLOOKUP($A8,Feuil1!$B$6:$L$18,5,0) -> 0 | C8: =VLOOKUP($A8,Feuil1!$B$6:$L$18,4,0) -> 8 | D8: =VLOOKUP($A8,Feuil1!$B$6:$L$18,6,0) -> 3 | E8: =VLOOKUP($A8,Feuil1!$B$6:$L$18,3,0) -> 0 | F8: =VLOOKUP($A8,Feuil1!$B$6:$L$18,2,0) -> 0 | G8: =SUM(B8:F8) -> 11 | H8: =VLOOKUP($A8,Feuil1!$B$6:$L$18,9,0) -> 0 | I8: =VLOOKUP($A8,Feuil1!$B$61:$L$73,7,0) -> 2588100.1 | J8: =VLOOKUP($A8,Feuil1!$B$61:$L$73,8,0) -> 0 | K8: =I8+J8 -> 2588100.1 | L8: 130000 | M8: =VLOOKUP($A8,Feuil1!$B$23:$L$35,3,0) -> 55000 | N8: =VLOOKUP($A8,Feuil1!$B$23:$L$35,7,0) -> 0 | O8: =SUM(L8:N8) -> 185000
A9: LTTR 690 AM | B9: =VLOOKUP($A9,Feuil1!$B$6:$L$18,5,0) -> 0 | C9: =VLOOKUP($A9,Feuil1!$B$6:$L$18,4,0) -> 6 | D9: =VLOOKUP($A9,Feuil1!$B$6:$L$18,6,0) -> 4 | E9: =VLOOKUP($A9,Feuil1!$B$6:$L$18,3,0) -> 0 | F9: =VLOOKUP($A9,Feuil1!$B$6:$L$18,2,0) -> 0 | G9: =SUM(B9:F9) -> 10 | H9: =VLOOKUP($A9,Feuil1!$B$6:$L$18,9,0) -> 0 | I9: =VLOOKUP($A9,Feuil1!$B$61:$L$73,7,0) -> 2300107.8 | J9: =VLOOKUP($A9,Feuil1!$B$61:$L$73,8,0) -> 0 | K9: =I9+J9 -> 2300107.8 | L9: 125000 | M9: =VLOOKUP($A9,Feuil1!$B$23:$L$35,3,0) -> 50000 | N9: =VLOOKUP($A9,Feuil1!$B$23:$L$35,7,0) -> 0 | O9: =SUM(L9:N9) -> 175000
A10: LTTR 691 AM | B10: =VLOOKUP($A10,Feuil1!$B$6:$L$18,5,0) -> 0 | C10: =VLOOKUP($A10,Feuil1!$B$6:$L$18,4,0) -> 2 | D10: =VLOOKUP($A10,Feuil1!$B$6:$L$18,6,0) -> 8 | E10: =VLOOKUP($A10,Feuil1!$B$6:$L$18,3,0) -> 0 | F10: =VLOOKUP($A10,Feuil1!$B$6:$L$18,2,0) -> 0 | G10: =SUM(B10:F10) -> 10 | H10: =VLOOKUP($A10,Feuil1!$B$6:$L$18,9,0) -> 0 | I10: =VLOOKUP($A10,Feuil1!$B$61:$L$73,7,0) -> 2516692.8 | J10: =VLOOKUP($A10,Feuil1!$B$61:$L$73,8,0) -> 0 | K10: =I10+J10 -> 2516692.8 | L10: 125000 | M10: =VLOOKUP($A10,Feuil1!$B$23:$L$35,3,0) -> 50000 | N10: =VLOOKUP($A10,Feuil1!$B$23:$L$35,7,0) -> 0 | O10: =SUM(L10:N10) -> 175000
A11: LTTR 797 AJ | B11: =VLOOKUP($A11,Feuil1!$B$6:$L$18,5,0) -> 0 | C11: =VLOOKUP($A11,Feuil1!$B$6:$L$18,4,0) -> 0 | D11: =VLOOKUP($A11,Feuil1!$B$6:$L$18,6,0) -> 0 | E11: =VLOOKUP($A11,Feuil1!$B$6:$L$18,3,0) -> 0 | F11: =VLOOKUP($A11,Feuil1!$B$6:$L$18,2,0) -> 0 | G11: =SUM(B11:F11) -> 0 | H11: =VLOOKUP($A11,Feuil1!$B$6:$L$18,9,0) -> 0 | I11: =VLOOKUP($A11,Feuil1!$B$61:$L$73,7,0) -> 0 | J11: =VLOOKUP($A11,Feuil1!$B$61:$L$73,8,0) -> 0 | K11: =I11+J11 -> 0 | L11: 125000 | M11: =VLOOKUP($A11,Feuil1!$B$23:$L$35,3,0) -> 0 | N11: =VLOOKUP($A11,Feuil1!$B$23:$L$35,7,0) -> 0 | O11: =SUM(L11:N11) -> 125000
A12: LTTR 798 AJ | B12: =VLOOKUP($A12,Feuil1!$B$6:$L$18,5,0) -> 0 | C12: =VLOOKUP($A12,Feuil1!$B$6:$L$18,4,0) -> 3 | D12: =VLOOKUP($A12,Feuil1!$B$6:$L$18,6,0) -> 6 | E12: =VLOOKUP($A12,Feuil1!$B$6:$L$18,3,0) -> 0 | F12: =VLOOKUP($A12,Feuil1!$B$6:$L$18,2,0) -> 0 | G12: =SUM(B12:F12) -> 9 | H12: =VLOOKUP($A12,Feuil1!$B$6:$L$18,9,0) -> 0 | I12: =VLOOKUP($A12,Feuil1!$B$61:$L$73,7,0) -> 2251960.2 | J12: =VLOOKUP($A12,Feuil1!$B$61:$L$73,8,0) -> 0 | K12: =I12+J12 -> 2251960.2 | L12: 125000 | M12: =VLOOKUP($A12,Feuil1!$B$23:$L$35,3,0) -> 45000 | N12: =VLOOKUP($A12,Feuil1!$B$23:$L$35,7,0) -> 0 | O12: =SUM(L12:N12) -> 170000
A13: LTTR 905 AN | B13: =VLOOKUP($A13,Feuil1!$B$6:$L$18,5,0) -> 0 | C13: =VLOOKUP($A13,Feuil1!$B$6:$L$18,4,0) -> 0 | D13: =VLOOKUP($A13,Feuil1!$B$6:$L$18,6,0) -> 8 | E13: =VLOOKUP($A13,Feuil1!$B$6:$L$18,3,0) -> 0 | F13: =VLOOKUP($A13,Feuil1!$B$6:$L$18,2,0) -> 0 | G13: =SUM(B13:F13) -> 8 | H13: =VLOOKUP($A13,Feuil1!$B$6:$L$18,9,0) -> 1 | I13: =VLOOKUP($A13,Feuil1!$B$61:$L$73,7,0) -> 2182838.2 | J13: =VLOOKUP($A13,Feuil1!$B$61:$L$73,8,0) -> 2150000 | K13: =I13+J13 -> 4332838.2 | L13: 140000 | M13: =VLOOKUP($A13,Feuil1!$B$23:$L$35,3,0) -> 65000 | N13: =VLOOKUP($A13,Feuil1!$B$23:$L$35,7,0) -> 0 | O13: =SUM(L13:N13) -> 205000
A14: LTTR 906 AN | B14: =VLOOKUP($A14,Feuil1!$B$6:$L$18,5,0) -> 0 | C14: =VLOOKUP($A14,Feuil1!$B$6:$L$18,4,0) -> 0 | D14: =VLOOKUP($A14,Feuil1!$B$6:$L$18,6,0) -> 5 | E14: =VLOOKUP($A14,Feuil1!$B$6:$L$18,3,0) -> 0 | F14: =VLOOKUP($A14,Feuil1!$B$6:$L$18,2,0) -> 0 | G14: =SUM(B14:F14) -> 5 | H14: =VLOOKUP($A14,Feuil1!$B$6:$L$18,9,0) -> 1 | I14: =VLOOKUP($A14,Feuil1!$B$61:$L$73,7,0) -> 1431193.9 | J14: =VLOOKUP($A14,Feuil1!$B$61:$L$73,8,0) -> 2150000 | K14: =I14+J14 -> 3581193.9 | L14: 140000 | M14: =VLOOKUP($A14,Feuil1!$B$23:$L$35,3,0) -> 50000 | N14: =VLOOKUP($A14,Feuil1!$B$23:$L$35,7,0) -> 0 | O14: =SUM(L14:N14) -> 190000
A15: LTTR 907 AN | B15: =VLOOKUP($A15,Feuil1!$B$6:$L$18,5,0) -> 0 | C15: =VLOOKUP($A15,Feuil1!$B$6:$L$18,4,0) -> 0 | D15: =VLOOKUP($A15,Feuil1!$B$6:$L$18,6,0) -> 6 | E15: =VLOOKUP($A15,Feuil1!$B$6:$L$18,3,0) -> 0 | F15: =VLOOKUP($A15,Feuil1!$B$6:$L$18,2,0) -> 0 | G15: =SUM(B15:F15) -> 6 | H15: =VLOOKUP($A15,Feuil1!$B$6:$L$18,9,0) -> 1 | I15: =VLOOKUP($A15,Feuil1!$B$61:$L$73,7,0) -> 1627907.2 | J15: =VLOOKUP($A15,Feuil1!$B$61:$L$73,8,0) -> 2150000 | K15: =I15+J15 -> 3777907.2 | L15: 130000 | M15: =VLOOKUP($A15,Feuil1!$B$23:$L$35,3,0) -> 55000 | N15: =VLOOKUP($A15,Feuil1!$B$23:$L$35,7,0) -> 0 | O15: =SUM(L15:N15) -> 185000
A16: LTTR 917 AM | B16: =VLOOKUP($A16,Feuil1!$B$6:$L$18,5,0) -> 0 | C16: =VLOOKUP($A16,Feuil1!$B$6:$L$18,4,0) -> 6 | D16: =VLOOKUP($A16,Feuil1!$B$6:$L$18,6,0) -> 3 | E16: =VLOOKUP($A16,Feuil1!$B$6:$L$18,3,0) -> 0 | F16: =VLOOKUP($A16,Feuil1!$B$6:$L$18,2,0) -> 0 | G16: =SUM(B16:F16) -> 9 | H16: =VLOOKUP($A16,Feuil1!$B$6:$L$18,9,0) -> 0 | I16: =VLOOKUP($A16,Feuil1!$B$61:$L$73,7,0) -> 2166259.7 | J16: =VLOOKUP($A16,Feuil1!$B$61:$L$73,8,0) -> 0 | K16: =I16+J16 -> 2166259.7 | L16: 125000 | M16: =VLOOKUP($A16,Feuil1!$B$23:$L$35,3,0) -> 45000 | N16: =VLOOKUP($A16,Feuil1!$B$23:$L$35,7,0) -> 0 | O16: =SUM(L16:N16) -> 170000
A17: TOTAL | B17: =SUM(B4:B16) -> 0 | C17: =SUM(C4:C16) -> 25 | D17: =SUM(D4:D16) -> 50 | E17: =SUM(E4:E16) -> 0 | F17: =SUM(F4:F16) -> 0 | G17: =SUM(G4:G16) -> 75 | H17: =SUM(H4:H16) -> 5 | I17: =SUM(I4:I16) -> 18750814 | ... O17: =SUM(O4:O16) -> 2170000
