Workbook

Sheet Feuil2 (2)
A10: DONNEES
G11: E Alu (N/mm²) = | J11: 70000
A12: Largeur (L): | C12: 2600 | D12: mm | G12: Contrainte maxi Alu (N/mm²) = | J12: 150
A13: Hauteur (H): | C13: 25 | D13: mm | G13: Demi Trame a (mm)= | J13: 450
A14: Pression (P): | C14: 200 | D14: Pa | G14: Surface trapèze (mm2)= | J14: =(C13-J13)*J13 -> -191250
G15: Module de flexion (cm3)= | J15: 52
A16: Critère
A18: Flèche maximale admissible (f): | C18: =IF(C14=800,MIN(C13/150,15),C13/150) -> 0.16666667 | D18: mm | E18: (D/150) voir 15 mm sous 800 Pa | Q18: Profilés | R18: Ix(cm4) | S18: Ix/V(cm3)
Q19: 485 390 /485 390 | R19: 7 | S19: 2.61
Q20: 485 390 /468 300 | R20: 12.67 | S20: 3.53
Q21: 468 390/468 320 | R21: 30.31 | S21: 5.97
A22: Inertie (I) exigée | C22: =(C14/1000000)*J14*((5*(C13)^2)-((4*(J13)^2)))^2/(1920*(C13-J13)*J11*C18) -> 2615.8149 | D22: mm4 | G22: =C22*10^-4 -> 0.26158149 | H22: cm4 | Q22: 468 300/ 468 300 | R22: 18.34 | S22: 5.11
A23: Flèche (fmaxi): | C23: =(C14/1*10^6)*((5*C13^2)-(4*J13^2))^2/(1920*J11*C22) -> 3.7037037e+08 | D23: mm | Q23: 468 300 /468 310 | R23: 26.49 | S23: 6.28
A24: Moment fléchissant (Mf): | C24: =(C14/1000000)*((3*(C13)^2)-(4*(J13)^2))/(24) -> -6.734375 | D24: N.mm | G24: =INDIRECT("F2!A"&F2!E3,1) -> 0.25445086 | H24: =HYPERLINK(CONCATENATE("#","F2.A",F2!E3),"ligne "&F2!E3) -> ligne 15 | Q24: 468 300 /468 320 | R24: 35.98 | S24: 7.08
A25: Contrainte (σ): | C25: =C24/J15 -> -0.12950721 | D25: N.mm2 | Q25: 468 310 /468 310 | R25: 34.74 | S25: 8.23
Q26: 468 300 /468 320 | R26: 35.98 | S26: 7.08
Q27: 468 310 /468 310 | R27: 34.74 | S27: 8.23
Q28: 468 310 /468 320 | R28: 44.18 | S28: 8.7
P29: Chicane point 4 | Q29: 468 320 /468 320 | R29: 53.62 | S29: 10.58
Q30: 489 890 /489 890 | R30: 7.09 | S30: 2.63
Q31: 489 890 /468 750 | R31: 13.31 | S31: 3.61
Q32: 489 890/468 760 | R32: 26.74 | S32: 5.79
Q33: 489 890 /446 270 | R33: 33.66 | S33: 6.6
Q34: 468 750 /468 750 | R34: 19.53 | S34: 5.29
Q35: 468 750 /468 760 | R35: 32.95 | S35: 7.13
Q36: 468 750 /446 270 | R36: 39.88 | S36: 7.62
Q37: 468 750 /485 870 | R37: 58.69 | S37: 9.8
Q38: 468 760 /468 760 | R38: 46.39 | S38: 10.04
Q39: 468 760 /446 270 | R39: 53.31 | S39: 10.45
Q40: 468 760 /485 870 | R40: 72.12 | S40: 13.2
Q41: 446 270 /446 270 | R41: 60.23 | S41: 11.81
... Q43: 485 280 /485 870 | R43: 97.84 | S43: 16.33

Sheet F2
A1: Plus proche | B1: Delta | D1: Valeur cherchée : | E1: ='Feuil2 (2)'!G22 -> 0.26158149
D2: Plus proche | E2: =INDIRECT("A"&MATCH(SMALL(B3:B24,1),B1:B24,0),1) -> 0.25445086
A3: 0.18671843 | B3: =ABS(A3-'Feuil2 (2)'!$G$22) -> 0.074863056 | D3: Ligne | E3: =MATCH(SMALL(B3:B24,1),B1:B24,0) -> 15
A4: 0.2147338 | B4: =ABS(A4-'Feuil2 (2)'!$G$22) -> 0.046847695 | D4: Delta | E4: =SMALL(B3:B24,1) -> 0.0071306338
A5: 0.32533713 | B5: =ABS(A5-'Feuil2 (2)'!$G$22) -> 0.06375564 | D5: Erreur | E5: =E4/E1 -> 0.027259703 | F5: =IF(ABS(E5)>0.03,"disproportionné",IF(ABS(E5)>0.015,"acceptable",IF(ABS(E5)<0.005,"négligeable"))) -> acceptable
A6: 0.12937104 | B6: =ABS(A6-'Feuil2 (2)'!$G$22) -> 0.13221045
A7: 0.51845415 | B7: =ABS(A7-'Feuil2 (2)'!$G$22) -> 0.25687266
A8: 0.11221367 | B8: =ABS(A8-'Feuil2 (2)'!$G$22) -> 0.14936782
A9: 0.77152722 | B9: =ABS(A9-'Feuil2 (2)'!$G$22) -> 0.50994573
A10: 0.82007233 | B10: =ABS(A10-'Feuil2 (2)'!$G$22) -> 0.55849084
A11: 0.21379431 | B11: =ABS(A11-'Feuil2 (2)'!$G$22) -> 0.047787185
A12: 0.22993857 | B12: =ABS(A12-'Feuil2 (2)'!$G$22) -> 0.031642925
A13: 0.19055514 | B13: =ABS(A13-'Feuil2 (2)'!$G$22) -> 0.07102635
A14: 0.029003748 | B14: =ABS(A14-'Feuil2 (2)'!$G$22) -> 0.23257774
A15: 0.25445086 | B15: =ABS(A15-'Feuil2 (2)'!$G$22) -> 0.0071306338
A16: 0.089467027 | B16: =ABS(A16-'Feuil2 (2)'!$G$22) -> 0.17211446
A17: 0.48004097 | B17: =ABS(A17-'Feuil2 (2)'!$G$22) -> 0.21845948
... A24: 0.83272898 | B24: =ABS(A24-'Feuil2 (2)'!$G$22) -> 0.57114749
