Workbook

Sheet saisie
A1: Dates | B1: Villes
A2: 43832 | B2: Paris
A3: 43833 | B3: Lyon
A4: 43837 | B4: Paris
A5: 43865 | B5: Paris
A6: 43869 | B6: Marseille
A7: 43900 | B7: Toulouse

Sheet recap
A1: Villes | B1: 43831 | C1: =EOMONTH(B1,0)+1 -> 43862 | D1: =EOMONTH(C1,0)+1 -> 43891 | E1: =EOMONTH(D1,0)+1 -> 43922 | F1: =EOMONTH(E1,0)+1 -> 43952 | G1: =EOMONTH(F1,0)+1 -> 43983
A2: Paris | B2: =COUNTIFS(saisie!$B$2:$B$7,$A2,saisie!$A$2:$A$7,">="&B$1,saisie!$A$2:$A$7,"<"&EOMONTH(B$1,0)+1) -> 2 | C2: =COUNTIFS(saisie!$B$2:$B$7,$A2,saisie!$A$2:$A$7,">="&C$1,saisie!$A$2:$A$7,"<"&EOMONTH(C$1,0)+1) -> 1 | D2: =COUNTIFS(saisie!$B$2:$B$7,$A2,saisie!$A$2:$A$7,">="&D$1,saisie!$A$2:$A$7,"<"&EOMONTH(D$1,0)+1) -> 0 | E2: =COUNTIFS(saisie!$B$2:$B$7,$A2,saisie!$A$2:$A$7,">="&E$1,saisie!$A$2:$A$7,"<"&EOMONTH(E$1,0)+1) -> 0 | F2: =COUNTIFS(saisie!$B$2:$B$7,$A2,saisie!$A$2:$A$7,">="&F$1,saisie!$A$2:$A$7,"<"&EOMONTH(F$1,0)+1) -> 0 | G2: =COUNTIFS(saisie!$B$2:$B$7,$A2,saisie!$A$2:$A$7,">="&G$1,saisie!$A$2:$A$7,"<"&EOMONTH(G$1,0)+1) -> 0
A3: Marseille | B3: =COUNTIFS(saisie!$B$2:$B$7,$A3,saisie!$A$2:$A$7,">="&B$1,saisie!$A$2:$A$7,"<"&EOMONTH(B$1,0)+1) -> 0 | C3: =COUNTIFS(saisie!$B$2:$B$7,$A3,saisie!$A$2:$A$7,">="&C$1,saisie!$A$2:$A$7,"<"&EOMONTH(C$1,0)+1) -> 1 | D3: =COUNTIFS(saisie!$B$2:$B$7,$A3,saisie!$A$2:$A$7,">="&D$1,saisie!$A$2:$A$7,"<"&EOMONTH(D$1,0)+1) -> 0 | E3: =COUNTIFS(saisie!$B$2:$B$7,$A3,saisie!$A$2:$A$7,">="&E$1,saisie!$A$2:$A$7,"<"&EOMONTH(E$1,0)+1) -> 0 | F3: =COUNTIFS(saisie!$B$2:$B$7,$A3,saisie!$A$2:$A$7,">="&F$1,saisie!$A$2:$A$7,"<"&EOMONTH(F$1,0)+1) -> 0 | G3: =COUNTIFS(saisie!$B$2:$B$7,$A3,saisie!$A$2:$A$7,">="&G$1,saisie!$A$2:$A$7,"<"&EOMONTH(G$1,0)+1) -> 0
A4: Toulouse | B4: =COUNTIFS(saisie!$B$2:$B$7,$A4,saisie!$A$2:$A$7,">="&B$1,saisie!$A$2:$A$7,"<"&EOMONTH(B$1,0)+1) -> 0 | C4: =COUNTIFS(saisie!$B$2:$B$7,$A4,saisie!$A$2:$A$7,">="&C$1,saisie!$A$2:$A$7,"<"&EOMONTH(C$1,0)+1) -> 0 | D4: =COUNTIFS(saisie!$B$2:$B$7,$A4,saisie!$A$2:$A$7,">="&D$1,saisie!$A$2:$A$7,"<"&EOMONTH(D$1,0)+1) -> 1 | E4: =COUNTIFS(saisie!$B$2:$B$7,$A4,saisie!$A$2:$A$7,">="&E$1,saisie!$A$2:$A$7,"<"&EOMONTH(E$1,0)+1) -> 0 | F4: =COUNTIFS(saisie!$B$2:$B$7,$A4,saisie!$A$2:$A$7,">="&F$1,saisie!$A$2:$A$7,"<"&EOMONTH(F$1,0)+1) -> 0 | G4: =COUNTIFS(saisie!$B$2:$B$7,$A4,saisie!$A$2:$A$7,">="&G$1,saisie!$A$2:$A$7,"<"&EOMONTH(G$1,0)+1) -> 0
A5: Lyon | B5: =COUNTIFS(saisie!$B$2:$B$7,$A5,saisie!$A$2:$A$7,">="&B$1,saisie!$A$2:$A$7,"<"&EOMONTH(B$1,0)+1) -> 1 | C5: =COUNTIFS(saisie!$B$2:$B$7,$A5,saisie!$A$2:$A$7,">="&C$1,saisie!$A$2:$A$7,"<"&EOMONTH(C$1,0)+1) -> 0 | D5: =COUNTIFS(saisie!$B$2:$B$7,$A5,saisie!$A$2:$A$7,">="&D$1,saisie!$A$2:$A$7,"<"&EOMONTH(D$1,0)+1) -> 0 | E5: =COUNTIFS(saisie!$B$2:$B$7,$A5,saisie!$A$2:$A$7,">="&E$1,saisie!$A$2:$A$7,"<"&EOMONTH(E$1,0)+1) -> 0 | F5: =COUNTIFS(saisie!$B$2:$B$7,$A5,saisie!$A$2:$A$7,">="&F$1,saisie!$A$2:$A$7,"<"&EOMONTH(F$1,0)+1) -> 0 | G5: =COUNTIFS(saisie!$B$2:$B$7,$A5,saisie!$A$2:$A$7,">="&G$1,saisie!$A$2:$A$7,"<"&EOMONTH(G$1,0)+1) -> 0
B6: =COUNTIFS(saisie!$B$2:$B$7,$A6,saisie!$A$2:$A$7,">="&B$1,saisie!$A$2:$A$7,"<"&EOMONTH(B$1,0)+1) -> 0 | C6: =COUNTIFS(saisie!$B$2:$B$7,$A6,saisie!$A$2:$A$7,">="&C$1,saisie!$A$2:$A$7,"<"&EOMONTH(C$1,0)+1) -> 0 | D6: =COUNTIFS(saisie!$B$2:$B$7,$A6,saisie!$A$2:$A$7,">="&D$1,saisie!$A$2:$A$7,"<"&EOMONTH(D$1,0)+1) -> 0 | E6: =COUNTIFS(saisie!$B$2:$B$7,$A6,saisie!$A$2:$A$7,">="&E$1,saisie!$A$2:$A$7,"<"&EOMONTH(E$1,0)+1) -> 0 | F6: =COUNTIFS(saisie!$B$2:$B$7,$A6,saisie!$A$2:$A$7,">="&F$1,saisie!$A$2:$A$7,"<"&EOMONTH(F$1,0)+1) -> 0 | G6: =COUNTIFS(saisie!$B$2:$B$7,$A6,saisie!$A$2:$A$7,">="&G$1,saisie!$A$2:$A$7,"<"&EOMONTH(G$1,0)+1) -> 0
B7: =COUNTIFS(saisie!$B$2:$B$7,$A7,saisie!$A$2:$A$7,">="&B$1,saisie!$A$2:$A$7,"<"&EOMONTH(B$1,0)+1) -> 0 | C7: =COUNTIFS(saisie!$B$2:$B$7,$A7,saisie!$A$2:$A$7,">="&C$1,saisie!$A$2:$A$7,"<"&EOMONTH(C$1,0)+1) -> 0 | D7: =COUNTIFS(saisie!$B$2:$B$7,$A7,saisie!$A$2:$A$7,">="&D$1,saisie!$A$2:$A$7,"<"&EOMONTH(D$1,0)+1) -> 0 | E7: =COUNTIFS(saisie!$B$2:$B$7,$A7,saisie!$A$2:$A$7,">="&E$1,saisie!$A$2:$A$7,"<"&EOMONTH(E$1,0)+1) -> 0 | F7: =COUNTIFS(saisie!$B$2:$B$7,$A7,saisie!$A$2:$A$7,">="&F$1,saisie!$A$2:$A$7,"<"&EOMONTH(F$1,0)+1) -> 0 | G7: =COUNTIFS(saisie!$B$2:$B$7,$A7,saisie!$A$2:$A$7,">="&G$1,saisie!$A$2:$A$7,"<"&EOMONTH(G$1,0)+1) -> 0
B8: =COUNTIFS(saisie!$B$2:$B$7,$A8,saisie!$A$2:$A$7,">="&B$1,saisie!$A$2:$A$7,"<"&EOMONTH(B$1,0)+1) -> 0 | C8: =COUNTIFS(saisie!$B$2:$B$7,$A8,saisie!$A$2:$A$7,">="&C$1,saisie!$A$2:$A$7,"<"&EOMONTH(C$1,0)+1) -> 0 | D8: =COUNTIFS(saisie!$B$2:$B$7,$A8,saisie!$A$2:$A$7,">="&D$1,saisie!$A$2:$A$7,"<"&EOMONTH(D$1,0)+1) -> 0 | E8: =COUNTIFS(saisie!$B$2:$B$7,$A8,saisie!$A$2:$A$7,">="&E$1,saisie!$A$2:$A$7,"<"&EOMONTH(E$1,0)+1) -> 0 | F8: =COUNTIFS(saisie!$B$2:$B$7,$A8,saisie!$A$2:$A$7,">="&F$1,saisie!$A$2:$A$7,"<"&EOMONTH(F$1,0)+1) -> 0 | G8: =COUNTIFS(saisie!$B$2:$B$7,$A8,saisie!$A$2:$A$7,">="&G$1,saisie!$A$2:$A$7,"<"&EOMONTH(G$1,0)+1) -> 0

Sheet Feuil3
