Workbook

Sheet Feuil1
A32: 171.84 | D32: 172.88226 | E32: 171.44524 | G32: =IF(D32>E32,D32,E32) -> 172.88226 | H32: =IF(E32<D32,E32,D32) -> 171.44524 | I32: =IFERROR(MATCH(G32,A32:A106,-1),"") | J32: =IFERROR(MATCH(H32,A32:A106,-1),"") -> 2 | M32: =IF(J32<>"",INDIRECT("a"&SUM(ROW(),J32),1),"") -> 170.72 | P32: =INDEX(A32:E232,MATCH(D32,A32:A232),1) -> 172.36
A33: 172.06 | G33: =IF(D33>E33,D33,E33) -> 0 | H33: =IF(E33<D33,E33,D33) -> 0 | I33: =IFERROR(MATCH(G33,A33:A107,-1),"") -> 75 | J33: =IFERROR(MATCH(H33,A33:A107,-1),"") -> 75 | M33: =IF(J33<>"",INDIRECT("a"&SUM(ROW(),J33),1),"") -> 174.22 | P33: =INDEX(A33:E233,MATCH(D33,A33:A233),1) -> #N/A
A34: 170.72 | D34: 172.4231 | E34: 169.39625 | G34: =IF(D34>E34,D34,E34) -> 172.4231 | H34: =IF(E34<D34,E34,D34) -> 169.39625 | I34: =IFERROR(MATCH(G34,A34:A108,-1),"") | J34: =IFERROR(MATCH(H34,A34:A108,-1),"") -> 75 | M34: =IF(J34<>"",INDIRECT("a"&SUM(ROW(),J34),1),"") -> 173.93 | P34: =INDEX(A34:E234,MATCH(D34,A34:A234),1) -> 172.36
A35: 171.46 | G35: =IF(D35>E35,D35,E35) -> 0 | H35: =IF(E35<D35,E35,D35) -> 0 | I35: =IFERROR(MATCH(G35,A35:A109,-1),"") -> 75 | J35: =IFERROR(MATCH(H35,A35:A109,-1),"") -> 75 | M35: =IF(J35<>"",INDIRECT("a"&SUM(ROW(),J35),1),"") -> 173.53 | P35: =INDEX(A35:E235,MATCH(D35,A35:A235),1) -> #N/A
A36: 172.37 | D36: 171.36143 | E36: 173.16333 | G36: =IF(D36>E36,D36,E36) -> 173.16333 | H36: =IF(E36<D36,E36,D36) -> 171.36143 | I36: =IFERROR(MATCH(G36,A36:A110,-1),"") | J36: =IFERROR(MATCH(H36,A36:A110,-1),"") -> 30 | M36: =IF(J36<>"",INDIRECT("a"&SUM(ROW(),J36),1),"") -> 171.15 | P36: =INDEX(A36:E236,MATCH(D36,A36:A236),1) -> #N/A
A37: 172.24 | G37: =IF(D37>E37,D37,E37) -> 0 | H37: =IF(E37<D37,E37,D37) -> 0 | I37: =IFERROR(MATCH(G37,A37:A111,-1),"") -> 75 | J37: =IFERROR(MATCH(H37,A37:A111,-1),"") -> 75 | M37: =IF(J37<>"",INDIRECT("a"&SUM(ROW(),J37),1),"") -> 173.1 | P37: =INDEX(A37:E237,MATCH(D37,A37:A237),1) -> #N/A
A38: 172.42 | D38: 172.74161 | E38: 171.9775 | G38: =IF(D38>E38,D38,E38) -> 172.74161 | H38: =IF(E38<D38,E38,D38) -> 171.9775 | I38: =IFERROR(MATCH(G38,A38:A112,-1),"") | J38: =IFERROR(MATCH(H38,A38:A112,-1),"") -> 27 | M38: =IF(J38<>"",INDIRECT("a"&SUM(ROW(),J38),1),"") -> 171.77 | P38: =INDEX(A38:E238,MATCH(D38,A38:A238),1) -> 172.36
A39: 172.36 | G39: =IF(D39>E39,D39,E39) -> 0 | H39: =IF(E39<D39,E39,D39) -> 0 | I39: =IFERROR(MATCH(G39,A39:A113,-1),"") -> 75 | J39: =IFERROR(MATCH(H39,A39:A113,-1),"") -> 75 | M39: =IF(J39<>"",INDIRECT("a"&SUM(ROW(),J39),1),"") -> 173.01 | P39: =INDEX(A39:E239,MATCH(D39,A39:A239),1) -> #N/A
A40: 173.3 | D40: 174.18875 | E40: 172.05482 | G40: =IF(D40>E40,D40,E40) -> 174.18875 | H40: =IF(E40<D40,E40,D40) -> 172.05482 | I40: =IFERROR(MATCH(G40,A40:A114,-1),"") | J40: =IFERROR(MATCH(H40,A40:A114,-1),"") -> 25 | M40: =IF(J40<>"",INDIRECT("a"&SUM(ROW(),J40),1),"") -> 171.77 | P40: =INDEX(A40:A240,MATCH(D40,A40:A240),1) -> 173.3
A41: 174.42 | D41: 176.10357 | E41: 172.23875 | G41: =IF(D41>E41,D41,E41) -> 176.10357 | H41: =IF(E41<D41,E41,D41) -> 172.23875 | I41: =IFERROR(MATCH(G41,A41:A115,-1),"") | J41: =IFERROR(MATCH(H41,A41:A115,-1),"") -> 23 | M41: =IF(J41<>"",INDIRECT("a"&SUM(ROW(),J41),1),"") -> 172.18 | P41: =INDEX(A41:E241,MATCH(D41,A41:A241),1) -> 174.61
A42: 174.82 | G42: =IF(D42>E42,D42,E42) -> 0 | H42: =IF(E42<D42,E42,D42) -> 0 | I42: =IFERROR(MATCH(G42,A42:A116,-1),"") -> 75 | J42: =IFERROR(MATCH(H42,A42:A116,-1),"") -> 75 | M42: =IF(J42<>"",INDIRECT("a"&SUM(ROW(),J42),1),"") -> 172.36
A43: 174.74 | G43: =IF(D43>E43,D43,E43) -> 0 | H43: =IF(E43<D43,E43,D43) -> 0 | I43: =IFERROR(MATCH(G43,A43:A117,-1),"") -> 75 | J43: =IFERROR(MATCH(H43,A43:A117,-1),"") -> 75 | M43: =IF(J43<>"",INDIRECT("a"&SUM(ROW(),J43),1),"") -> 171.81
A44: 174.67 | G44: =IF(D44>E44,D44,E44) -> 0 | H44: =IF(E44<D44,E44,D44) -> 0 | I44: =IFERROR(MATCH(G44,A44:A118,-1),"") -> 75 | J44: =IFERROR(MATCH(H44,A44:A118,-1),"") -> 75 | M44: =IF(J44<>"",INDIRECT("a"&SUM(ROW(),J44),1),"") -> 171.62
A45: 174.45 | G45: =IF(D45>E45,D45,E45) -> 0 | H45: =IF(E45<D45,E45,D45) -> 0 | I45: =IFERROR(MATCH(G45,A45:A119,-1),"") -> 75 | J45: =IFERROR(MATCH(H45,A45:A119,-1),"") -> 75 | M45: =IF(J45<>"",INDIRECT("a"&SUM(ROW(),J45),1),"") -> 170.24
A46: 174.53 | G46: =IF(D46>E46,D46,E46) -> 0 | H46: =IF(E46<D46,E46,D46) -> 0 | I46: =IFERROR(MATCH(G46,A46:A120,-1),"") -> 75 | J46: =IFERROR(MATCH(H46,A46:A120,-1),"") -> 75 | M46: =IF(J46<>"",INDIRECT("a"&SUM(ROW(),J46),1),"") -> 171.29
A47: 174.49 | G47: =IF(D47>E47,D47,E47) -> 0 | H47: =IF(E47<D47,E47,D47) -> 0 | I47: =IFERROR(MATCH(G47,A47:A121,-1),"") -> 75 | J47: =IFERROR(MATCH(H47,A47:A121,-1),"") -> 75 | M47: =IF(J47<>"",INDIRECT("a"&SUM(ROW(),J47),1),"") -> 173.52
A48: 174.11 | G48: =IF(D48>E48,D48,E48) -> 0 | H48: =IF(E48<D48,E48,D48) -> 0 | I48: =IFERROR(MATCH(G48,A48:A122,-1),"") -> 75 | J48: =IFERROR(MATCH(H48,A48:A122,-1),"") -> 75 | M48: =IF(J48<>"",INDIRECT("a"&SUM(ROW(),J48),1),"") -> 173.53
A49: 174.48 | G49: =IF(D49>E49,D49,E49) -> 0 | H49: =IF(E49<D49,E49,D49) -> 0 | I49: =IFERROR(MATCH(G49,A49:A123,-1),"") -> 75 | J49: =IFERROR(MATCH(H49,A49:A123,-1),"") -> 75 | M49: =IF(J49<>"",INDIRECT("a"&SUM(ROW(),J49),1),"") -> 173.56
A50: 174.17 | G50: =IF(D50>E50,D50,E50) -> 0 | H50: =IF(E50<D50,E50,D50) -> 0 | I50: =IFERROR(MATCH(G50,A50:A124,-1),"") -> 75 | J50: =IFERROR(MATCH(H50,A50:A124,-1),"") -> 75 | M50: =IF(J50<>"",INDIRECT("a"&SUM(ROW(),J50),1),"") -> 173.69
A51: 173.91 | G51: =IF(D51>E51,D51,E51) -> 0 | H51: =IF(E51<D51,E51,D51) -> 0 | I51: =IFERROR(MATCH(G51,A51:A125,-1),"") -> 75 | J51: =IFERROR(MATCH(H51,A51:A125,-1),"") -> 75 | M51: =IF(J51<>"",INDIRECT("a"&SUM(ROW(),J51),1),"") -> 173.16
A52: 173.89 | G52: =IF(D52>E52,D52,E52) -> 0 | H52: =IF(E52<D52,E52,D52) -> 0 | I52: =IFERROR(MATCH(G52,A52:A126,-1),"") -> 75 | J52: =IFERROR(MATCH(H52,A52:A126,-1),"") -> 75 | M52: =IF(J52<>"",INDIRECT("a"&SUM(ROW(),J52),1),"") -> 173.19
A53: 174.04 | D53: 174.39619 | E53: 173.79518 | G53: =IF(D53>E53,D53,E53) -> 174.39619 | H53: =IF(E53<D53,E53,D53) -> 173.79518 | I53: =IFERROR(MATCH(G53,A53:A127,-1),"") | J53: =IFERROR(MATCH(H53,A53:A127,-1),"") -> 6 | M53: =IF(J53<>"",INDIRECT("a"&SUM(ROW(),J53),1),"") -> 173.69
A54: 174.91 | D54: 176.05607 | E54: 173.70214 | G54: =IF(D54>E54,D54,E54) -> 176.05607 | H54: =IF(E54<D54,E54,D54) -> 173.70214 | I54: =IFERROR(MATCH(G54,A54:A128,-1),"") | J54: =IFERROR(MATCH(H54,A54:A128,-1),"") -> 5 | M54: =IF(J54<>"",INDIRECT("a"&SUM(ROW(),J54),1),"") -> 173.69
A55: 174.71 | G55: =IF(D55>E55,D55,E55) -> 0 | H55: =IF(E55<D55,E55,D55) -> 0 | I55: =IFERROR(MATCH(G55,A55:A129,-1),"") -> 75 | J55: =IFERROR(MATCH(H55,A55:A129,-1),"") -> 75 | M55: =IF(J55<>"",INDIRECT("a"&SUM(ROW(),J55),1),"") -> 173.5
A56: 174.73 | G56: =IF(D56>E56,D56,E56) -> 0 | H56: =IF(E56<D56,E56,D56) -> 0 | I56: =IFERROR(MATCH(G56,A56:A130,-1),"") -> 75 | J56: =IFERROR(MATCH(H56,A56:A130,-1),"") -> 75 | M56: =IF(J56<>"",INDIRECT("a"&SUM(ROW(),J56),1),"") -> 173.12
A57: 174.58 | G57: =IF(D57>E57,D57,E57) -> 0 | H57: =IF(E57<D57,E57,D57) -> 0 | I57: =IFERROR(MATCH(G57,A57:A131,-1),"") -> 75 | J57: =IFERROR(MATCH(H57,A57:A131,-1),"") -> 75 | M57: =IF(J57<>"",INDIRECT("a"&SUM(ROW(),J57),1),"") -> 173.13
A58: 173.99 | D58: 174.85714 | E58: 173.49631 | G58: =IF(D58>E58,D58,E58) -> 174.85714 | H58: =IF(E58<D58,E58,D58) -> 173.49631 | I58: =IFERROR(MATCH(G58,A58:A132,-1),"") | J58: =IFERROR(MATCH(H58,A58:A132,-1),"") -> 2 | M58: =IF(J58<>"",INDIRECT("a"&SUM(ROW(),J58),1),"") -> 173.11
A59: 173.69 | G59: =IF(D59>E59,D59,E59) -> 0 | H59: =IF(E59<D59,E59,D59) -> 0 | I59: =IFERROR(MATCH(G59,A59:A133,-1),"") -> 75 | J59: =IFERROR(MATCH(H59,A59:A133,-1),"") -> 75 | M59: =IF(J59<>"",INDIRECT("a"&SUM(ROW(),J59),1),"") -> 173.98
A60: 173.11 | G60: =IF(D60>E60,D60,E60) -> 0 | H60: =IF(E60<D60,E60,D60) -> 0 | I60: =IFERROR(MATCH(G60,A60:A134,-1),"") -> 75 | J60: =IFERROR(MATCH(H60,A60:A134,-1),"") -> 75 | M60: =IF(J60<>"",INDIRECT("a"&SUM(ROW(),J60),1),"") -> 173.97
A61: 172.84 | G61: =IF(D61>E61,D61,E61) -> 0 | H61: =IF(E61<D61,E61,D61) -> 0 | I61: =IFERROR(MATCH(G61,A61:A135,-1),"") -> 75 | J61: =IFERROR(MATCH(H61,A61:A135,-1),"") -> 75 | M61: =IF(J61<>"",INDIRECT("a"&SUM(ROW(),J61),1),"") -> 174.11
A62: 172.71 | G62: =IF(D62>E62,D62,E62) -> 0 | H62: =IF(E62<D62,E62,D62) -> 0 | I62: =IFERROR(MATCH(G62,A62:A136,-1),"") -> 75 | J62: =IFERROR(MATCH(H62,A62:A136,-1),"") -> 75 | M62: =IF(J62<>"",INDIRECT("a"&SUM(ROW(),J62),1),"") -> 174.05
A63: 172.54 | G63: =IF(D63>E63,D63,E63) -> 0 | H63: =IF(E63<D63,E63,D63) -> 0 | I63: =IFERROR(MATCH(G63,A63:A137,-1),"") -> 75 | J63: =IFERROR(MATCH(H63,A63:A137,-1),"") -> 75 | M63: =IF(J63<>"",INDIRECT("a"&SUM(ROW(),J63),1),"") -> 175.26
A64: 172.18 | G64: =IF(D64>E64,D64,E64) -> 0 | H64: =IF(E64<D64,E64,D64) -> 0 | I64: =IFERROR(MATCH(G64,A64:A138,-1),"") -> 75 | J64: =IFERROR(MATCH(H64,A64:A138,-1),"") -> 75 | M64: =IF(J64<>"",INDIRECT("a"&SUM(ROW(),J64),1),"") -> 174.73
A65: 171.77 | G65: =IF(D65>E65,D65,E65) -> 0 | H65: =IF(E65<D65,E65,D65) -> 0 | I65: =IFERROR(MATCH(G65,A65:A139,-1),"") -> 75 | J65: =IFERROR(MATCH(H65,A65:A139,-1),"") -> 75 | M65: =IF(J65<>"",INDIRECT("a"&SUM(ROW(),J65),1),"") -> 174.38
A66: 171.15 | G66: =IF(D66>E66,D66,E66) -> 0 | H66: =IF(E66<D66,E66,D66) -> 0 | I66: =IFERROR(MATCH(G66,A66:A140,-1),"") -> 75 | J66: =IFERROR(MATCH(H66,A66:A140,-1),"") -> 75 | M66: =IF(J66<>"",INDIRECT("a"&SUM(ROW(),J66),1),"") -> 174.13
A67: 171.05 | G67: =IF(D67>E67,D67,E67) -> 0 | H67: =IF(E67<D67,E67,D67) -> 0 | I67: =IFERROR(MATCH(G67,A67:A141,-1),"") -> 75 | J67: =IFERROR(MATCH(H67,A67:A141,-1),"") -> 75 | M67: =IF(J67<>"",INDIRECT("a"&SUM(ROW(),J67),1),"") -> 174
A68: 171.13 | G68: =IF(D68>E68,D68,E68) -> 0 | H68: =IF(E68<D68,E68,D68) -> 0 | I68: =IFERROR(MATCH(G68,A68:A142,-1),"") -> 75 | J68: =IFERROR(MATCH(H68,A68:A142,-1),"") -> 75 | M68: =IF(J68<>"",INDIRECT("a"&SUM(ROW(),J68),1),"") -> 173.41
A69: 171.42 | G69: =IF(D69>E69,D69,E69) -> 0 | H69: =IF(E69<D69,E69,D69) -> 0 | I69: =IFERROR(MATCH(G69,A69:A143,-1),"") -> 75 | J69: =IFERROR(MATCH(H69,A69:A143,-1),"") -> 75 | M69: =IF(J69<>"",INDIRECT("a"&SUM(ROW(),J69),1),"") -> 174.03
A70: 171.42 | G70: =IF(D70>E70,D70,E70) -> 0 | H70: =IF(E70<D70,E70,D70) -> 0 | I70: =IFERROR(MATCH(G70,A70:A144,-1),"") -> 75 | J70: =IFERROR(MATCH(H70,A70:A144,-1),"") -> 75 | M70: =IF(J70<>"",INDIRECT("a"&SUM(ROW(),J70),1),"") -> 173.17
A71: 171.96 | G71: =IF(D71>E71,D71,E71) -> 0 | H71: =IF(E71<D71,E71,D71) -> 0 | I71: =IFERROR(MATCH(G71,A71:A145,-1),"") -> 75 | J71: =IFERROR(MATCH(H71,A71:A145,-1),"") -> 75 | M71: =IF(J71<>"",INDIRECT("a"&SUM(ROW(),J71),1),"") -> 173.91
A72: 172.32 | D72: 171.62357 | E72: 172.44143 | G72: =IF(D72>E72,D72,E72) -> 172.44143 | H72: =IF(E72<D72,E72,D72) -> 171.62357 | I72: =IFERROR(MATCH(G72,A72:A146,-1),"") | J72: =IFERROR(MATCH(H72,A72:A146,-1),"") -> 47 | M72: =IF(J72<>"",INDIRECT("a"&SUM(ROW(),J72),1),"") -> 171.62
A73: 172.75 | D73: 173.5653 | E73: 172.15893 | G73: =IF(D73>E73,D73,E73) -> 173.5653 | H73: =IF(E73<D73,E73,D73) -> 172.15893 | I73: =IFERROR(MATCH(G73,A73:A147,-1),"") | J73: =IFERROR(MATCH(H73,A73:A147,-1),"") -> 43 | M73: =IF(J73<>"",INDIRECT("a"&SUM(ROW(),J73),1),"") -> 171.68
A74: 173.03 | G74: =IF(D74>E74,D74,E74) -> 0 | H74: =IF(E74<D74,E74,D74) -> 0 | I74: =IFERROR(MATCH(G74,A74:A148,-1),"") -> 75 | J74: =IFERROR(MATCH(H74,A74:A148,-1),"") -> 75 | M74: =IF(J74<>"",INDIRECT("a"&SUM(ROW(),J74),1),"") -> 172.23
A75: 172.95 | G75: =IF(D75>E75,D75,E75) -> 0 | H75: =IF(E75<D75,E75,D75) -> 0 | I75: =IFERROR(MATCH(G75,A75:A149,-1),"") -> 75 | J75: =IFERROR(MATCH(H75,A75:A149,-1),"") -> 75 | M75: =IF(J75<>"",INDIRECT("a"&SUM(ROW(),J75),1),"") -> 171.93
A76: 173.14 | G76: =IF(D76>E76,D76,E76) -> 0 | H76: =IF(E76<D76,E76,D76) -> 0 | I76: =IFERROR(MATCH(G76,A76:A150,-1),"") -> 75 | J76: =IFERROR(MATCH(H76,A76:A150,-1),"") -> 75 | M76: =IF(J76<>"",INDIRECT("a"&SUM(ROW(),J76),1),"") -> 170.82
A77: 173.09 | G77: =IF(D77>E77,D77,E77) -> 0 | H77: =IF(E77<D77,E77,D77) -> 0 | I77: =IFERROR(MATCH(G77,A77:A151,-1),"") -> 75 | J77: =IFERROR(MATCH(H77,A77:A151,-1),"") -> 75 | M77: =IF(J77<>"",INDIRECT("a"&SUM(ROW(),J77),1),"") -> 171.27
A78: 173.45 | G78: =IF(D78>E78,D78,E78) -> 0 | H78: =IF(E78<D78,E78,D78) -> 0 | I78: =IFERROR(MATCH(G78,A78:A152,-1),"") -> 75 | J78: =IFERROR(MATCH(H78,A78:A152,-1),"") -> 75 | M78: =IF(J78<>"",INDIRECT("a"&SUM(ROW(),J78),1),"") -> 171
A79: 173.29 | G79: =IF(D79>E79,D79,E79) -> 0 | H79: =IF(E79<D79,E79,D79) -> 0 | I79: =IFERROR(MATCH(G79,A79:A153,-1),"") -> 75 | J79: =IFERROR(MATCH(H79,A79:A153,-1),"") -> 75 | M79: =IF(J79<>"",INDIRECT("a"&SUM(ROW(),J79),1),"") -> 170.59
A80: 173.22 | G80: =IF(D80>E80,D80,E80) -> 0 | H80: =IF(E80<D80,E80,D80) -> 0 | I80: =IFERROR(MATCH(G80,A80:A154,-1),"") -> 75 | J80: =IFERROR(MATCH(H80,A80:A154,-1),"") -> 75 | M80: =IF(J80<>"",INDIRECT("a"&SUM(ROW(),J80),1),"") -> 170.63
A81: 172.96 | G81: =IF(D81>E81,D81,E81) -> 0 | H81: =IF(E81<D81,E81,D81) -> 0 | I81: =IFERROR(MATCH(G81,A81:A155,-1),"") -> 75 | J81: =IFERROR(MATCH(H81,A81:A155,-1),"") -> 75 | M81: =IF(J81<>"",INDIRECT("a"&SUM(ROW(),J81),1),"") -> 170.75
A82: 173.01 | G82: =IF(D82>E82,D82,E82) -> 0 | H82: =IF(E82<D82,E82,D82) -> 0 | I82: =IFERROR(MATCH(G82,A82:A156,-1),"") -> 75 | J82: =IFERROR(MATCH(H82,A82:A156,-1),"") -> 75 | M82: =IF(J82<>"",INDIRECT("a"&SUM(ROW(),J82),1),"") -> 171.48
A83: 173.54 | D83: 174.39821 | E83: 172.66393 | G83: =IF(D83>E83,D83,E83) -> 174.39821 | H83: =IF(E83<D83,E83,D83) -> 172.66393 | I83: =IFERROR(MATCH(G83,A83:A157,-1),"") | J83: =IFERROR(MATCH(H83,A83:A157,-1),"") -> 33 | M83: =IF(J83<>"",INDIRECT("a"&SUM(ROW(),J83),1),"") -> 171.68
A84: 173.81 | G84: =IF(D84>E84,D84,E84) -> 0 | H84: =IF(E84<D84,E84,D84) -> 0 | I84: =IFERROR(MATCH(G84,A84:A158,-1),"") -> 75 | J84: =IFERROR(MATCH(H84,A84:A158,-1),"") -> 75 | M84: =IF(J84<>"",INDIRECT("a"&SUM(ROW(),J84),1),"") -> 172.78
A85: 174.42 | G85: =IF(D85>E85,D85,E85) -> 0 | H85: =IF(E85<D85,E85,D85) -> 0 | I85: =IFERROR(MATCH(G85,A85:A159,-1),"") -> 75 | J85: =IFERROR(MATCH(H85,A85:A159,-1),"") -> 75 | M85: =IF(J85<>"",INDIRECT("a"&SUM(ROW(),J85),1),"") -> 173
A86: 174.23 | G86: =IF(D86>E86,D86,E86) -> 0 | H86: =IF(E86<D86,E86,D86) -> 0 | I86: =IFERROR(MATCH(G86,A86:A160,-1),"") -> 75 | J86: =IFERROR(MATCH(H86,A86:A160,-1),"") -> 75 | M86: =IF(J86<>"",INDIRECT("a"&SUM(ROW(),J86),1),"") -> 173.62
A87: 174.15 | G87: =IF(D87>E87,D87,E87) -> 0 | H87: =IF(E87<D87,E87,D87) -> 0 | I87: =IFERROR(MATCH(G87,A87:A161,-1),"") -> 75 | J87: =IFERROR(MATCH(H87,A87:A161,-1),"") -> 75 | M87: =IF(J87<>"",INDIRECT("a"&SUM(ROW(),J87),1),"") -> 174.62
A88: 173.45 | G88: =IF(D88>E88,D88,E88) -> 0 | H88: =IF(E88<D88,E88,D88) -> 0 | I88: =IFERROR(MATCH(G88,A88:A162,-1),"") -> 75 | J88: =IFERROR(MATCH(H88,A88:A162,-1),"") -> 75 | M88: =IF(J88<>"",INDIRECT("a"&SUM(ROW(),J88),1),"") -> 174.64
A89: 173.86 | D89: 174.40167 | E89: 173.42821 | G89: =IF(D89>E89,D89,E89) -> 174.40167 | H89: =IF(E89<D89,E89,D89) -> 173.42821 | I89: =IFERROR(MATCH(G89,A89:A163,-1),"") | J89: =IFERROR(MATCH(H89,A89:A163,-1),"") -> 1 | M89: =IF(J89<>"",INDIRECT("a"&SUM(ROW(),J89),1),"") -> 173.06
A90: 173.06 | D90: 174.40167 | E90: 172.44202 | G90: =IF(D90>E90,D90,E90) -> 174.40167 | H90: =IF(E90<D90,E90,D90) -> 172.44202 | I90: =IFERROR(MATCH(G90,A90:A164,-1),"") | J90: =IFERROR(MATCH(H90,A90:A164,-1),"") -> 26 | M90: =IF(J90<>"",INDIRECT("a"&SUM(ROW(),J90),1),"") -> 171.68
A91: 173.36 | G91: =IF(D91>E91,D91,E91) -> 0 | H91: =IF(E91<D91,E91,D91) -> 0 | I91: =IFERROR(MATCH(G91,A91:A165,-1),"") -> 75 | J91: =IFERROR(MATCH(H91,A91:A165,-1),"") -> 75 | M91: =IF(J91<>"",INDIRECT("a"&SUM(ROW(),J91),1),"") -> 176.44
A92: 172.72 | D92: 172.09625 | E92: 173.4925 | G92: =IF(D92>E92,D92,E92) -> 173.4925 | H92: =IF(E92<D92,E92,D92) -> 172.09625 | I92: =IFERROR(MATCH(G92,A92:A166,-1),"") | J92: =IFERROR(MATCH(H92,A92:A166,-1),"") -> 24 | M92: =IF(J92<>"",INDIRECT("a"&SUM(ROW(),J92),1),"") -> 171.68
A93: 172.75 | G93: =IF(D93>E93,D93,E93) -> 0 | H93: =IF(E93<D93,E93,D93) -> 0 | I93: =IFERROR(MATCH(G93,A93:A167,-1),"") -> 75 | J93: =IFERROR(MATCH(H93,A93:A167,-1),"") -> 75 | M93: =IF(J93<>"",INDIRECT("a"&SUM(ROW(),J93),1),"") -> 176.51
A94: 172.69 | D94: 171.96071 | E94: 173.17554 | G94: =IF(D94>E94,D94,E94) -> 173.17554 | H94: =IF(E94<D94,E94,D94) -> 171.96071 | I94: =IFERROR(MATCH(G94,A94:A168,-1),"") | J94: =IFERROR(MATCH(H94,A94:A168,-1),"") -> 22 | M94: =IF(J94<>"",INDIRECT("a"&SUM(ROW(),J94),1),"") -> 171.68
A95: 173.23 | G95: =IF(D95>E95,D95,E95) -> 0 | H95: =IF(E95<D95,E95,D95) -> 0 | I95: =IFERROR(MATCH(G95,A95:A169,-1),"") -> 75 | J95: =IFERROR(MATCH(H95,A95:A169,-1),"") -> 75 | M95: =IF(J95<>"",INDIRECT("a"&SUM(ROW(),J95),1),"") -> 175.54
A96: 173.29 | G96: =IF(D96>E96,D96,E96) -> 0 | H96: =IF(E96<D96,E96,D96) -> 0 | I96: =IFERROR(MATCH(G96,A96:A170,-1),"") -> 75 | J96: =IFERROR(MATCH(H96,A96:A170,-1),"") -> 75 | M96: =IF(J96<>"",INDIRECT("a"&SUM(ROW(),J96),1),"") -> 175.41
A97: 174.05 | D97: 174.88375 | E97: 173.18321 | G97: =IF(D97>E97,D97,E97) -> 174.88375 | H97: =IF(E97<D97,E97,D97) -> 173.18321 | I97: =IFERROR(MATCH(G97,A97:A171,-1),"") | J97: =IFERROR(MATCH(H97,A97:A171,-1),"") -> 15 | M97: =IF(J97<>"",INDIRECT("a"&SUM(ROW(),J97),1),"") -> 173.1
A98: 174.26 | G98: =IF(D98>E98,D98,E98) -> 0 | H98: =IF(E98<D98,E98,D98) -> 0 | I98: =IFERROR(MATCH(G98,A98:A172,-1),"") -> 75 | J98: =IFERROR(MATCH(H98,A98:A172,-1),"") -> 75 | M98: =IF(J98<>"",INDIRECT("a"&SUM(ROW(),J98),1),"") -> 176.1
A99: 174.49 | G99: =IF(D99>E99,D99,E99) -> 0 | H99: =IF(E99<D99,E99,D99) -> 0 | I99: =IFERROR(MATCH(G99,A99:A173,-1),"") -> 75 | J99: =IFERROR(MATCH(H99,A99:A173,-1),"") -> 75 | M99: =IF(J99<>"",INDIRECT("a"&SUM(ROW(),J99),1),"") -> 175.94
A100: 174.5 | G100: =IF(D100>E100,D100,E100) -> 0 | H100: =IF(E100<D100,E100,D100) -> 0 | I100: =IFERROR(MATCH(G100,A100:A174,-1),"") -> 75 | J100: =IFERROR(MATCH(H100,A100:A174,-1),"") -> 75 | M100: =IF(J100<>"",INDIRECT("a"&SUM(ROW(),J100),1),"") -> 175.81
A101: 174.25 | G101: =IF(D101>E101,D101,E101) -> 0 | H101: =IF(E101<D101,E101,D101) -> 0 | I101: =IFERROR(MATCH(G101,A101:A175,-1),"") -> 75 | J101: =IFERROR(MATCH(H101,A101:A175,-1),"") -> 75 | M101: =IF(J101<>"",INDIRECT("a"&SUM(ROW(),J101),1),"") -> 174.99
A102: 174.92 | D102: 176.10393 | E102: 173.90857 | G102: =IF(D102>E102,D102,E102) -> 176.10393 | H102: =IF(E102<D102,E102,D102) -> 173.90857 | I102: =IFERROR(MATCH(G102,A102:A176,-1),"") | J102: =IFERROR(MATCH(H102,A102:A176,-1),"") -> 41 | M102: =IF(J102<>"",INDIRECT("a"&SUM(ROW(),J102),1),"") -> 173.41
A103: 173.84 | G103: =IF(D103>E103,D103,E103) -> 0 | H103: =IF(E103<D103,E103,D103) -> 0 | I103: =IFERROR(MATCH(G103,A103:A177,-1),"") -> 75 | J103: =IFERROR(MATCH(H103,A103:A177,-1),"") -> 75 | M103: =IF(J103<>"",INDIRECT("a"&SUM(ROW(),J103),1),"") -> 174.7
A104: 174.55 | D104: 173.48548 | E104: 175.03881 | G104: =IF(D104>E104,D104,E104) -> 175.03881 | H104: =IF(E104<D104,E104,D104) -> 173.48548 | I104: =IFERROR(MATCH(G104,A104:A178,-1),"") | J104: =IFERROR(MATCH(H104,A104:A178,-1),"") -> 39 | M104: =IF(J104<>"",INDIRECT("a"&SUM(ROW(),J104),1),"") -> 173.41
A105: 174.33 | G105: =IF(D105>E105,D105,E105) -> 0 | H105: =IF(E105<D105,E105,D105) -> 0 | I105: =IFERROR(MATCH(G105,A105:A179,-1),"") -> 75 | J105: =IFERROR(MATCH(H105,A105:A179,-1),"") -> 75 | M105: =IF(J105<>"",INDIRECT("a"&SUM(ROW(),J105),1),"") -> 175.67
A106: 173.9 | D106: 174.69357 | E106: 173.57512 | G106: =IF(D106>E106,D106,E106) -> 174.69357 | H106: =IF(E106<D106,E106,D106) -> 173.57512 | I106: =IFERROR(MATCH(G106,A106:A180,-1),"") | J106: =IFERROR(MATCH(H106,A106:A180,-1),"") -> 4 | M106: =IF(J106<>"",INDIRECT("a"&SUM(ROW(),J106),1),"") -> 173.53
A107: 173.88 | G107: =IF(D107>E107,D107,E107) -> 0 | H107: =IF(E107<D107,E107,D107) -> 0 | I107: =IFERROR(MATCH(G107,A107:A181,-1),"") -> 75 | J107: =IFERROR(MATCH(H107,A107:A181,-1),"") -> 75 | M107: =IF(J107<>"",INDIRECT("a"&SUM(ROW(),J107),1),"") -> 175.51
A108: 174.22 | D108: 173.67006 | E108: 174.60274 | G108: =IF(D108>E108,D108,E108) -> 174.60274 | H108: =IF(E108<D108,E108,D108) -> 173.67006 | I108: =IFERROR(MATCH(G108,A108:A182,-1),"") | J108: =IFERROR(MATCH(H108,A108:A182,-1),"") -> 2 | M108: =IF(J108<>"",INDIRECT("a"&SUM(ROW(),J108),1),"") -> 173.53
A109: 173.93 | G109: =IF(D109>E109,D109,E109) -> 0 | H109: =IF(E109<D109,E109,D109) -> 0 | I109: =IFERROR(MATCH(G109,A109:A183,-1),"") -> 75 | J109: =IFERROR(MATCH(H109,A109:A183,-1),"") -> 75 | M109: =IF(J109<>"",INDIRECT("a"&SUM(ROW(),J109),1),"") -> 173.45
A110: 173.53 | D110: 173.1475 | E110: 174.01018 | G110: =IF(D110>E110,D110,E110) -> 174.01018 | H110: =IF(E110<D110,E110,D110) -> 173.1475 | I110: =IFERROR(MATCH(G110,A110:A184,-1),"") | J110: =IFERROR(MATCH(H110,A110:A184,-1),"") -> 2 | M110: =IF(J110<>"",INDIRECT("a"&SUM(ROW(),J110),1),"") -> 173.1
A111: 173.23 | G111: =IF(D111>E111,D111,E111) -> 0 | H111: =IF(E111<D111,E111,D111) -> 0 | I111: =IFERROR(MATCH(G111,A111:A185,-1),"") -> 75 | J111: =IFERROR(MATCH(H111,A111:A185,-1),"") -> 75 | M111: =IF(J111<>"",INDIRECT("a"&SUM(ROW(),J111),1),"") -> 173.44
A112: 173.1 | G112: =IF(D112>E112,D112,E112) -> 0 | H112: =IF(E112<D112,E112,D112) -> 0 | I112: =IFERROR(MATCH(G112,A112:A186,-1),"") -> 75 | J112: =IFERROR(MATCH(H112,A112:A186,-1),"") -> 75 | M112: =IF(J112<>"",INDIRECT("a"&SUM(ROW(),J112),1),"") -> 173.14
A113: 172.93 | G113: =IF(D113>E113,D113,E113) -> 0 | H113: =IF(E113<D113,E113,D113) -> 0 | I113: =IFERROR(MATCH(G113,A113:A187,-1),"") -> 75 | J113: =IFERROR(MATCH(H113,A113:A187,-1),"") -> 75 | M113: =IF(J113<>"",INDIRECT("a"&SUM(ROW(),J113),1),"") -> 172.8
A114: 173.01 | G114: =IF(D114>E114,D114,E114) -> 0 | H114: =IF(E114<D114,E114,D114) -> 0 | I114: =IFERROR(MATCH(G114,A114:A188,-1),"") -> 75 | J114: =IFERROR(MATCH(H114,A114:A188,-1),"") -> 75 | M114: =IF(J114<>"",INDIRECT("a"&SUM(ROW(),J114),1),"") -> 172.34
A115: 172.95 | G115: =IF(D115>E115,D115,E115) -> 0 | H115: =IF(E115<D115,E115,D115) -> 0 | I115: =IFERROR(MATCH(G115,A115:A189,-1),"") -> 75 | J115: =IFERROR(MATCH(H115,A115:A189,-1),"") -> 75 | M115: =IF(J115<>"",INDIRECT("a"&SUM(ROW(),J115),1),"") -> 172.52
A116: 171.68 | D116: 169.77714 | E116: 173.6275 | G116: =IF(D116>E116,D116,E116) -> 173.6275 | H116: =IF(E116<D116,E116,D116) -> 169.77714 | I116: =IFERROR(MATCH(G116,A116:A190,-1),"") | J116: =IFERROR(MATCH(H116,A116:A190,-1),"") -> 75 | M116: =IF(J116<>"",INDIRECT("a"&SUM(ROW(),J116),1),"") -> 172.72
A117: 172.36 | G117: =IF(D117>E117,D117,E117) -> 0 | H117: =IF(E117<D117,E117,D117) -> 0 | I117: =IFERROR(MATCH(G117,A117:A191,-1),"") -> 75 | J117: =IFERROR(MATCH(H117,A117:A191,-1),"") -> 75 | M117: =IF(J117<>"",INDIRECT("a"&SUM(ROW(),J117),1),"") -> 172.82
A118: 171.81 | G118: =IF(D118>E118,D118,E118) -> 0 | H118: =IF(E118<D118,E118,D118) -> 0 | I118: =IFERROR(MATCH(G118,A118:A192,-1),"") -> 75 | J118: =IFERROR(MATCH(H118,A118:A192,-1),"") -> 75 | M118: =IF(J118<>"",INDIRECT("a"&SUM(ROW(),J118),1),"") -> 172.85
A119: 171.62 | G119: =IF(D119>E119,D119,E119) -> 0 | H119: =IF(E119<D119,E119,D119) -> 0 | I119: =IFERROR(MATCH(G119,A119:A193,-1),"") -> 75 | J119: =IFERROR(MATCH(H119,A119:A193,-1),"") -> 75 | M119: =IF(J119<>"",INDIRECT("a"&SUM(ROW(),J119),1),"") -> 172.8
A120: 170.24 | G120: =IF(D120>E120,D120,E120) -> 0 | H120: =IF(E120<D120,E120,D120) -> 0 | I120: =IFERROR(MATCH(G120,A120:A194,-1),"") -> 75 | J120: =IFERROR(MATCH(H120,A120:A194,-1),"") -> 75 | M120: =IF(J120<>"",INDIRECT("a"&SUM(ROW(),J120),1),"") -> 173.24
A121: 171.29 | G121: =IF(D121>E121,D121,E121) -> 0 | H121: =IF(E121<D121,E121,D121) -> 0 | I121: =IFERROR(MATCH(G121,A121:A195,-1),"") -> 75 | J121: =IFERROR(MATCH(H121,A121:A195,-1),"") -> 75 | M121: =IF(J121<>"",INDIRECT("a"&SUM(ROW(),J121),1),"") -> 172.79
A122: 173.52 | D122: 170.16179 | E122: 175.17571 | G122: =IF(D122>E122,D122,E122) -> 175.17571 | H122: =IF(E122<D122,E122,D122) -> 170.16179 | I122: =IFERROR(MATCH(G122,A122:A196,-1),"") | J122: =IFERROR(MATCH(H122,A122:A196,-1),"") -> 75 | M122: =IF(J122<>"",INDIRECT("a"&SUM(ROW(),J122),1),"") -> 173.42
A123: 173.53 | G123: =IF(D123>E123,D123,E123) -> 0 | H123: =IF(E123<D123,E123,D123) -> 0 | I123: =IFERROR(MATCH(G123,A123:A197,-1),"") -> 75 | J123: =IFERROR(MATCH(H123,A123:A197,-1),"") -> 75 | M123: =IF(J123<>"",INDIRECT("a"&SUM(ROW(),J123),1),"") -> 174.04
A124: 173.56 | G124: =IF(D124>E124,D124,E124) -> 0 | H124: =IF(E124<D124,E124,D124) -> 0 | I124: =IFERROR(MATCH(G124,A124:A198,-1),"") -> 75 | J124: =IFERROR(MATCH(H124,A124:A198,-1),"") -> 75 | M124: =IF(J124<>"",INDIRECT("a"&SUM(ROW(),J124),1),"") -> 174.16
A125: 173.69 | G125: =IF(D125>E125,D125,E125) -> 0 | H125: =IF(E125<D125,E125,D125) -> 0 | I125: =IFERROR(MATCH(G125,A125:A199,-1),"") -> 75 | J125: =IFERROR(MATCH(H125,A125:A199,-1),"") -> 75 | M125: =IF(J125<>"",INDIRECT("a"&SUM(ROW(),J125),1),"") -> 174.46
A126: 173.16 | G126: =IF(D126>E126,D126,E126) -> 0 | H126: =IF(E126<D126,E126,D126) -> 0 | I126: =IFERROR(MATCH(G126,A126:A200,-1),"") -> 75 | J126: =IFERROR(MATCH(H126,A126:A200,-1),"") -> 75 | M126: =IF(J126<>"",INDIRECT("a"&SUM(ROW(),J126),1),"") -> 174.22
A127: 173.19 | G127: =IF(D127>E127,D127,E127) -> 0 | H127: =IF(E127<D127,E127,D127) -> 0 | I127: =IFERROR(MATCH(G127,A127:A201,-1),"") -> 75 | J127: =IFERROR(MATCH(H127,A127:A201,-1),"") -> 75 | M127: =IF(J127<>"",INDIRECT("a"&SUM(ROW(),J127),1),"") -> 174.46
A128: 173.01 | D128: 172.83881 | E128: 173.19536 | G128: =IF(D128>E128,D128,E128) -> 173.19536 | H128: =IF(E128<D128,E128,D128) -> 172.83881 | I128: =IFERROR(MATCH(G128,A128:A202,-1),"") | J128: =IFERROR(MATCH(H128,A128:A202,-1),"") -> 20 | M128: =IF(J128<>"",INDIRECT("a"&SUM(ROW(),J128),1),"") -> 171.87
A129: 173.54 | D129: 172.83881 | E129: 174.23012 | G129: =IF(D129>E129,D129,E129) -> 174.23012 | H129: =IF(E129<D129,E129,D129) -> 172.83881 | I129: =IFERROR(MATCH(G129,A129:A203,-1),"") | J129: =IFERROR(MATCH(H129,A129:A203,-1),"") -> 19 | M129: =IF(J129<>"",INDIRECT("a"&SUM(ROW(),J129),1),"") -> 171.87
A130: 173.5 | G130: =IF(D130>E130,D130,E130) -> 0 | H130: =IF(E130<D130,E130,D130) -> 0 | I130: =IFERROR(MATCH(G130,A130:A204,-1),"") -> 75 | J130: =IFERROR(MATCH(H130,A130:A204,-1),"") -> 75 | M130: =IF(J130<>"",INDIRECT("a"&SUM(ROW(),J130),1),"") -> 175.8
A131: 173.12 | G131: =IF(D131>E131,D131,E131) -> 0 | H131: =IF(E131<D131,E131,D131) -> 0 | I131: =IFERROR(MATCH(G131,A131:A205,-1),"") -> 75 | J131: =IFERROR(MATCH(H131,A131:A205,-1),"") -> 75 | M131: =IF(J131<>"",INDIRECT("a"&SUM(ROW(),J131),1),"") -> 176.85
...

Sheet F2
A1: =IFERROR(SMALL(Feuil1!A:A,ROW())*1,"") -> 170.24 | B1: =IF(A1="","",MATCH(A1,Feuil1!A:A,0)) -> 120 | D1: =IF(A1="","",IF(INDIRECT("Feuil1!D"&B1)="","",INDIRECT("Feuil1!D"&B1))) | E1: =IF(A1="","",IF(INDIRECT("Feuil1!E"&B1)="","",INDIRECT("Feuil1!E"&B1))) | F1: =IF(AND(D1="",E1=""),"",IF(D1="",E1,IF(E1="",D1,IF(MOD(D1,A1)>MOD(E1,A1),E1,D1)))) | G1: =IF(F1="","",IFERROR(IFERROR(MATCH(F1,A:A,0),MATCH(F1,A:A,-1)),MATCH(F1,A:A,1))) | H1: =IF(G1="","",INDIRECT("Feuil1!A"&G1,1))
A2: =IFERROR(SMALL(Feuil1!A:A,ROW())*1,"") -> 170.59 | B2: =IF(A2="","",MATCH(A2,Feuil1!A:A,0)) -> 154 | D2: =IF(A2="","",IF(INDIRECT("Feuil1!D"&B2)="","",INDIRECT("Feuil1!D"&B2))) | E2: =IF(A2="","",IF(INDIRECT("Feuil1!E"&B2)="","",INDIRECT("Feuil1!E"&B2))) | F2: =IF(AND(D2="",E2=""),"",IF(D2="",E2,IF(E2="",D2,IF(MOD(D2,A2)>MOD(E2,A2),E2,D2)))) | G2: =IF(F2="","",IFERROR(IFERROR(MATCH(F2,A:A,0),MATCH(F2,A:A,-1)),MATCH(F2,A:A,1))) | H2: =IF(G2="","",INDIRECT("Feuil1!A"&G2,1))
A3: =IFERROR(SMALL(Feuil1!A:A,ROW())*1,"") -> 170.63 | B3: =IF(A3="","",MATCH(A3,Feuil1!A:A,0)) -> 155 | D3: =IF(A3="","",IF(INDIRECT("Feuil1!D"&B3)="","",INDIRECT("Feuil1!D"&B3))) | E3: =IF(A3="","",IF(INDIRECT("Feuil1!E"&B3)="","",INDIRECT("Feuil1!E"&B3))) | F3: =IF(AND(D3="",E3=""),"",IF(D3="",E3,IF(E3="",D3,IF(MOD(D3,A3)>MOD(E3,A3),E3,D3)))) | G3: =IF(F3="","",IFERROR(IFERROR(MATCH(F3,A:A,0),MATCH(F3,A:A,-1)),MATCH(F3,A:A,1))) | H3: =IF(G3="","",INDIRECT("Feuil1!A"&G3,1))
A4: =IFERROR(SMALL(Feuil1!A:A,ROW())*1,"") -> 170.72 | B4: =IF(A4="","",MATCH(A4,Feuil1!A:A,0)) -> 34 | D4: =IF(A4="","",IF(INDIRECT("Feuil1!D"&B4)="","",INDIRECT("Feuil1!D"&B4))) -> 172.4231 | E4: =IF(A4="","",IF(INDIRECT("Feuil1!E"&B4)="","",INDIRECT("Feuil1!E"&B4))) -> 169.39625 | F4: =IF(AND(D4="",E4=""),"",IF(D4="",E4,IF(E4="",D4,IF(MOD(D4,A4)>MOD(E4,A4),E4,D4)))) -> 172.4231 | G4: =IF(F4="","",IFERROR(IFERROR(MATCH(F4,A:A,0),MATCH(F4,A:A,-1)),MATCH(F4,A:A,1))) -> 35 | H4: =IF(G4="","",INDIRECT("Feuil1!A"&G4,1)) -> 171.46
A5: =IFERROR(SMALL(Feuil1!A:A,ROW())*1,"") -> 170.75 | B5: =IF(A5="","",MATCH(A5,Feuil1!A:A,0)) -> 156 | D5: =IF(A5="","",IF(INDIRECT("Feuil1!D"&B5)="","",INDIRECT("Feuil1!D"&B5))) | E5: =IF(A5="","",IF(INDIRECT("Feuil1!E"&B5)="","",INDIRECT("Feuil1!E"&B5))) | F5: =IF(AND(D5="",E5=""),"",IF(D5="",E5,IF(E5="",D5,IF(MOD(D5,A5)>MOD(E5,A5),E5,D5)))) | G5: =IF(F5="","",IFERROR(IFERROR(MATCH(F5,A:A,0),MATCH(F5,A:A,-1)),MATCH(F5,A:A,1))) | H5: =IF(G5="","",INDIRECT("Feuil1!A"&G5,1))
A6: =IFERROR(SMALL(Feuil1!A:A,ROW())*1,"") -> 170.82 | B6: =IF(A6="","",MATCH(A6,Feuil1!A:A,0)) -> 151 | D6: =IF(A6="","",IF(INDIRECT("Feuil1!D"&B6)="","",INDIRECT("Feuil1!D"&B6))) | E6: =IF(A6="","",IF(INDIRECT("Feuil1!E"&B6)="","",INDIRECT("Feuil1!E"&B6))) | F6: =IF(AND(D6="",E6=""),"",IF(D6="",E6,IF(E6="",D6,IF(MOD(D6,A6)>MOD(E6,A6),E6,D6)))) | G6: =IF(F6="","",IFERROR(IFERROR(MATCH(F6,A:A,0),MATCH(F6,A:A,-1)),MATCH(F6,A:A,1))) | H6: =IF(G6="","",INDIRECT("Feuil1!A"&G6,1))
A7: =IFERROR(SMALL(Feuil1!A:A,ROW())*1,"") -> 171 | B7: =IF(A7="","",MATCH(A7,Feuil1!A:A,0)) -> 153 | D7: =IF(A7="","",IF(INDIRECT("Feuil1!D"&B7)="","",INDIRECT("Feuil1!D"&B7))) | E7: =IF(A7="","",IF(INDIRECT("Feuil1!E"&B7)="","",INDIRECT("Feuil1!E"&B7))) | F7: =IF(AND(D7="",E7=""),"",IF(D7="",E7,IF(E7="",D7,IF(MOD(D7,A7)>MOD(E7,A7),E7,D7)))) | G7: =IF(F7="","",IFERROR(IFERROR(MATCH(F7,A:A,0),MATCH(F7,A:A,-1)),MATCH(F7,A:A,1))) | H7: =IF(G7="","",INDIRECT("Feuil1!A"&G7,1))
A8: =IFERROR(SMALL(Feuil1!A:A,ROW())*1,"") -> 171.05 | B8: =IF(A8="","",MATCH(A8,Feuil1!A:A,0)) -> 67 | D8: =IF(A8="","",IF(INDIRECT("Feuil1!D"&B8)="","",INDIRECT("Feuil1!D"&B8))) | E8: =IF(A8="","",IF(INDIRECT("Feuil1!E"&B8)="","",INDIRECT("Feuil1!E"&B8))) | F8: =IF(AND(D8="",E8=""),"",IF(D8="",E8,IF(E8="",D8,IF(MOD(D8,A8)>MOD(E8,A8),E8,D8)))) | G8: =IF(F8="","",IFERROR(IFERROR(MATCH(F8,A:A,0),MATCH(F8,A:A,-1)),MATCH(F8,A:A,1))) | H8: =IF(G8="","",INDIRECT("Feuil1!A"&G8,1))
A9: =IFERROR(SMALL(Feuil1!A:A,ROW())*1,"") -> 171.13 | B9: =IF(A9="","",MATCH(A9,Feuil1!A:A,0)) -> 68 | D9: =IF(A9="","",IF(INDIRECT("Feuil1!D"&B9)="","",INDIRECT("Feuil1!D"&B9))) | E9: =IF(A9="","",IF(INDIRECT("Feuil1!E"&B9)="","",INDIRECT("Feuil1!E"&B9))) | F9: =IF(AND(D9="",E9=""),"",IF(D9="",E9,IF(E9="",D9,IF(MOD(D9,A9)>MOD(E9,A9),E9,D9)))) | G9: =IF(F9="","",IFERROR(IFERROR(MATCH(F9,A:A,0),MATCH(F9,A:A,-1)),MATCH(F9,A:A,1))) | H9: =IF(G9="","",INDIRECT("Feuil1!A"&G9,1))
A10: =IFERROR(SMALL(Feuil1!A:A,ROW())*1,"") -> 171.15 | B10: =IF(A10="","",MATCH(A10,Feuil1!A:A,0)) -> 66 | D10: =IF(A10="","",IF(INDIRECT("Feuil1!D"&B10)="","",INDIRECT("Feuil1!D"&B10))) | E10: =IF(A10="","",IF(INDIRECT("Feuil1!E"&B10)="","",INDIRECT("Feuil1!E"&B10))) | F10: =IF(AND(D10="",E10=""),"",IF(D10="",E10,IF(E10="",D10,IF(MOD(D10,A10)>MOD(E10,A10),E10,D10)))) | G10: =IF(F10="","",IFERROR(IFERROR(MATCH(F10,A:A,0),MATCH(F10,A:A,-1)),MATCH(F10,A:A,1))) | H10: =IF(G10="","",INDIRECT("Feuil1!A"&G10,1))
A11: =IFERROR(SMALL(Feuil1!A:A,ROW())*1,"") -> 171.27 | B11: =IF(A11="","",MATCH(A11,Feuil1!A:A,0)) -> 152 | D11: =IF(A11="","",IF(INDIRECT("Feuil1!D"&B11)="","",INDIRECT("Feuil1!D"&B11))) | E11: =IF(A11="","",IF(INDIRECT("Feuil1!E"&B11)="","",INDIRECT("Feuil1!E"&B11))) | F11: =IF(AND(D11="",E11=""),"",IF(D11="",E11,IF(E11="",D11,IF(MOD(D11,A11)>MOD(E11,A11),E11,D11)))) | G11: =IF(F11="","",IFERROR(IFERROR(MATCH(F11,A:A,0),MATCH(F11,A:A,-1)),MATCH(F11,A:A,1))) | H11: =IF(G11="","",INDIRECT("Feuil1!A"&G11,1))
A12: =IFERROR(SMALL(Feuil1!A:A,ROW())*1,"") -> 171.29 | B12: =IF(A12="","",MATCH(A12,Feuil1!A:A,0)) -> 121 | D12: =IF(A12="","",IF(INDIRECT("Feuil1!D"&B12)="","",INDIRECT("Feuil1!D"&B12))) | E12: =IF(A12="","",IF(INDIRECT("Feuil1!E"&B12)="","",INDIRECT("Feuil1!E"&B12))) | F12: =IF(AND(D12="",E12=""),"",IF(D12="",E12,IF(E12="",D12,IF(MOD(D12,A12)>MOD(E12,A12),E12,D12)))) | G12: =IF(F12="","",IFERROR(IFERROR(MATCH(F12,A:A,0),MATCH(F12,A:A,-1)),MATCH(F12,A:A,1))) | H12: =IF(G12="","",INDIRECT("Feuil1!A"&G12,1))
... A500: =IFERROR(SMALL(Feuil1!A:A,ROW())*1,"") | B500: =IF(A500="","",MATCH(A500,Feuil1!A:A,0)) | D500: =IF(A500="","",IF(INDIRECT("Feuil1!D"&B500)="","",INDIRECT("Feuil1!D"&B500))) | E500: =IF(A500="","",IF(INDIRECT("Feuil1!E"&B500)="","",INDIRECT("Feuil1!E"&B500))) | F500: =IF(AND(D500="",E500=""),"",IF(D500="",E500,IF(E500="",D500,IF(MOD(D500,A500)>MOD(E500,A500),E500,D500)))) | G500: =IF(F500="","",IFERROR(IFERROR(MATCH(F500,A:A,0),MATCH(F500,A:A,-1)),MATCH(F500,A:A,1))) | H500: =IF(G500="","",INDIRECT("Feuil1!A"&G500,1))
