Workbook

Sheet Feuil1
A32: 171.84 | D32: 172.88226 | E32: 171.44524 | G32: =IF(D32>E32,D32,E32) -> 172.88226 | H32: =IF(E32<D32,E32,D32) -> 171.44524 | I32: =IFERROR(MATCH(G32,A32:A106,-1),"") | J32: =IFERROR(MATCH(H32,A32:A106,-1),"") -> 2 | M32: =IF(J32<>"",INDIRECT("a"&SUM(ROW(),J32),1),"") -> 170.72 | P32: =INDEX(A32:E232,MATCH(D32,A32:A232),1) -> 172.36
A33: 172.06 | G33: =IF(D33>E33,D33,E33) -> 0 | H33: =IF(E33<D33,E33,D33) -> 0 | I33: =IFERROR(MATCH(G33,A33:A107,-1),"") -> 75 | J33: =IFERROR(MATCH(H33,A33:A107,-1),"") -> 75 | M33: =IF(J33<>"",INDIRECT("a"&SUM(ROW(),J33),1),"") -> 174.22 | P33: =INDEX(A33:E233,MATCH(D33,A33:A233),1) -> #N/A
A34: 170.72 | D34: 172.4231 | E34: 169.39625 | G34: =IF(D34>E34,D34,E34) -> 172.4231 | H34: =IF(E34<D34,E34,D34) -> 169.39625 | I34: =IFERROR(MATCH(G34,A34:A108,-1),"") | J34: =IFERROR(MATCH(H34,A34:A108,-1),"") -> 75 | M34: =IF(J34<>"",INDIRECT("a"&SUM(ROW(),J34),1),"") -> 173.93 | P34: =INDEX(A34:E234,MATCH(D34,A34:A234),1) -> 172.36
A35: 171.46 | G35: =IF(D35>E35,D35,E35) -> 0 | H35: =IF(E35<D35,E35,D35) -> 0 | I35: =IFERROR(MATCH(G35,A35:A109,-1),"") -> 75 | J35: =IFERROR(MATCH(H35,A35:A109,-1),"") -> 75 | M35: =IF(J35<>"",INDIRECT("a"&SUM(ROW(),J35),1),"") -> 173.53 | P35: =INDEX(A35:E235,MATCH(D35,A35:A235),1) -> #N/A
A36: 172.37 | D36: 171.36143 | E36: 173.16333 | G36: =IF(D36>E36,D36,E36) -> 173.16333 | H36: =IF(E36<D36,E36,D36) -> 171.36143 | I36: =IFERROR(MATCH(G36,A36:A110,-1),"") | J36: =IFERROR(MATCH(H36,A36:A110,-1),"") -> 30 | M36: =IF(J36<>"",INDIRECT("a"&SUM(ROW(),J36),1),"") -> 171.15 | P36: =INDEX(A36:E236,MATCH(D36,A36:A236),1) -> #N/A
A37: 172.24 | G37: =IF(D37>E37,D37,E37) -> 0 | H37: =IF(E37<D37,E37,D37) -> 0 | I37: =IFERROR(MATCH(G37,A37:A111,-1),"") -> 75 | J37: =IFERROR(MATCH(H37,A37:A111,-1),"") -> 75 | M37: =IF(J37<>"",INDIRECT("a"&SUM(ROW(),J37),1),"") -> 173.1 | P37: =INDEX(A37:E237,MATCH(D37,A37:A237),1) -> #N/A
A38: 172.42 | D38: 172.74161 | E38: 171.9775 | G38: =IF(D38>E38,D38,E38) -> 172.74161 | H38: =IF(E38<D38,E38,D38) -> 171.9775 | I38: =IFERROR(MATCH(G38,A38:A112,-1),"") | J38: =IFERROR(MATCH(H38,A38:A112,-1),"") -> 27 | M38: =IF(J38<>"",INDIRECT("a"&SUM(ROW(),J38),1),"") -> 171.77 | P38: =INDEX(A38:E238,MATCH(D38,A38:A238),1) -> 172.36
A39: 172.36 | G39: =IF(D39>E39,D39,E39) -> 0 | H39: =IF(E39<D39,E39,D39) -> 0 | I39: =IFERROR(MATCH(G39,A39:A113,-1),"") -> 75 | J39: =IFERROR(MATCH(H39,A39:A113,-1),"") -> 75 | M39: =IF(J39<>"",INDIRECT("a"&SUM(ROW(),J39),1),"") -> 173.01 | P39: =INDEX(A39:E239,MATCH(D39,A39:A239),1) -> #N/A
A40: 173.3 | D40: 174.18875 | E40: 172.05482 | G40: =IF(D40>E40,D40,E40) -> 174.18875 | H40: =IF(E40<D40,E40,D40) -> 172.05482 | I40: =IFERROR(MATCH(G40,A40:A114,-1),"") | J40: =IFERROR(MATCH(H40,A40:A114,-1),"") -> 25 | M40: =IF(J40<>"",INDIRECT("a"&SUM(ROW(),J40),1),"") -> 171.77 | P40: =INDEX(A40:A240,MATCH(D40,A40:A240),1) -> 173.3
A41: 174.42 | D41: 176.10357 | E41: 172.23875 | G41: =IF(D41>E41,D41,E41) -> 176.10357 | H41: =IF(E41<D41,E41,D41) -> 172.23875 | I41: =IFERROR(MATCH(G41,A41:A115,-1),"") | J41: =IFERROR(MATCH(H41,A41:A115,-1),"") -> 23 | M41: =IF(J41<>"",INDIRECT("a"&SUM(ROW(),J41),1),"") -> 172.18 | P41: =INDEX(A41:E241,MATCH(D41,A41:A241),1) -> 174.61
A42: 174.82 | G42: =IF(D42>E42,D42,E42) -> 0 | H42: =IF(E42<D42,E42,D42) -> 0 | I42: =IFERROR(MATCH(G42,A42:A116,-1),"") -> 75 | J42: =IFERROR(MATCH(H42,A42:A116,-1),"") -> 75 | M42: =IF(J42<>"",INDIRECT("a"&SUM(ROW(),J42),1),"") -> 172.36
A43: 174.74 | G43: =IF(D43>E43,D43,E43) -> 0 | H43: =IF(E43<D43,E43,D43) -> 0 | I43: =IFERROR(MATCH(G43,A43:A117,-1),"") -> 75 | J43: =IFERROR(MATCH(H43,A43:A117,-1),"") -> 75 | M43: =IF(J43<>"",INDIRECT("a"&SUM(ROW(),J43),1),"") -> 171.81
A44: 174.67 | G44: =IF(D44>E44,D44,E44) -> 0 | H44: =IF(E44<D44,E44,D44) -> 0 | I44: =IFERROR(MATCH(G44,A44:A118,-1),"") -> 75 | J44: =IFERROR(MATCH(H44,A44:A118,-1),"") -> 75 | M44: =IF(J44<>"",INDIRECT("a"&SUM(ROW(),J44),1),"") -> 171.62
A45: 174.45 | G45: =IF(D45>E45,D45,E45) -> 0 | H45: =IF(E45<D45,E45,D45) -> 0 | I45: =IFERROR(MATCH(G45,A45:A119,-1),"") -> 75 | J45: =IFERROR(MATCH(H45,A45:A119,-1),"") -> 75 | M45: =IF(J45<>"",INDIRECT("a"&SUM(ROW(),J45),1),"") -> 170.24
A46: 174.53 | G46: =IF(D46>E46,D46,E46) -> 0 | H46: =IF(E46<D46,E46,D46) -> 0 | I46: =IFERROR(MATCH(G46,A46:A120,-1),"") -> 75 | J46: =IFERROR(MATCH(H46,A46:A120,-1),"") -> 75 | M46: =IF(J46<>"",INDIRECT("a"&SUM(ROW(),J46),1),"") -> 171.29
A47: 174.49 | G47: =IF(D47>E47,D47,E47) -> 0 | H47: =IF(E47<D47,E47,D47) -> 0 | I47: =IFERROR(MATCH(G47,A47:A121,-1),"") -> 75 | J47: =IFERROR(MATCH(H47,A47:A121,-1),"") -> 75 | M47: =IF(J47<>"",INDIRECT("a"&SUM(ROW(),J47),1),"") -> 173.52
A48: 174.11 | G48: =IF(D48>E48,D48,E48) -> 0 | H48: =IF(E48<D48,E48,D48) -> 0 | I48: =IFERROR(MATCH(G48,A48:A122,-1),"") -> 75 | J48: =IFERROR(MATCH(H48,A48:A122,-1),"") -> 75 | M48: =IF(J48<>"",INDIRECT("a"&SUM(ROW(),J48),1),"") -> 173.53
A49: 174.48 | G49: =IF(D49>E49,D49,E49) -> 0 | H49: =IF(E49<D49,E49,D49) -> 0 | I49: =IFERROR(MATCH(G49,A49:A123,-1),"") -> 75 | J49: =IFERROR(MATCH(H49,A49:A123,-1),"") -> 75 | M49: =IF(J49<>"",INDIRECT("a"&SUM(ROW(),J49),1),"") -> 173.56
A50: 174.17 | G50: =IF(D50>E50,D50,E50) -> 0 | H50: =IF(E50<D50,E50,D50) -> 0 | I50: =IFERROR(MATCH(G50,A50:A124,-1),"") -> 75 | J50: =IFERROR(MATCH(H50,A50:A124,-1),"") -> 75 | M50: =IF(J50<>"",INDIRECT("a"&SUM(ROW(),J50),1),"") -> 173.69
A51: 173.91 | G51: =IF(D51>E51,D51,E51) -> 0 | H51: =IF(E51<D51,E51,D51) -> 0 | I51: =IFERROR(MATCH(G51,A51:A125,-1),"") -> 75 | J51: =IFERROR(MATCH(H51,A51:A125,-1),"") -> 75 | M51: =IF(J51<>"",INDIRECT("a"&SUM(ROW(),J51),1),"") -> 173.16
A52: 173.89 | G52: =IF(D52>E52,D52,E52) -> 0 | H52: =IF(E52<D52,E52,D52) -> 0 | I52: =IFERROR(MATCH(G52,A52:A126,-1),"") -> 75 | J52: =IFERROR(MATCH(H52,A52:A126,-1),"") -> 75 | M52: =IF(J52<>"",INDIRECT("a"&SUM(ROW(),J52),1),"") -> 173.19
A53: 174.04 | D53: 174.39619 | E53: 173.79518 | G53: =IF(D53>E53,D53,E53) -> 174.39619 | H53: =IF(E53<D53,E53,D53) -> 173.79518 | I53: =IFERROR(MATCH(G53,A53:A127,-1),"") | J53: =IFERROR(MATCH(H53,A53:A127,-1),"") -> 6 | M53: =IF(J53<>"",INDIRECT("a"&SUM(ROW(),J53),1),"") -> 173.69
A54: 174.91 | D54: 176.05607 | E54: 173.70214 | G54: =IF(D54>E54,D54,E54) -> 176.05607 | H54: =IF(E54<D54,E54,D54) -> 173.70214 | I54: =IFERROR(MATCH(G54,A54:A128,-1),"") | J54: =IFERROR(MATCH(H54,A54:A128,-1),"") -> 5 | M54: =IF(J54<>"",INDIRECT("a"&SUM(ROW(),J54),1),"") -> 173.69
A55: 174.71 | G55: =IF(D55>E55,D55,E55) -> 0 | H55: =IF(E55<D55,E55,D55) -> 0 | I55: =IFERROR(MATCH(G55,A55:A129,-1),"") -> 75 | J55: =IFERROR(MATCH(H55,A55:A129,-1),"") -> 75 | M55: =IF(J55<>"",INDIRECT("a"&SUM(ROW(),J55),1),"") -> 173.5
A56: 174.73 | G56: =IF(D56>E56,D56,E56) -> 0 | H56: =IF(E56<D56,E56,D56) -> 0 | I56: =IFERROR(MATCH(G56,A56:A130,-1),"") -> 75 | J56: =IFERROR(MATCH(H56,A56:A130,-1),"") -> 75 | M56: =IF(J56<>"",INDIRECT("a"&SUM(ROW(),J56),1),"") -> 173.12
A57: 174.58 | G57: =IF(D57>E57,D57,E57) -> 0 | H57: =IF(E57<D57,E57,D57) -> 0 | I57: =IFERROR(MATCH(G57,A57:A131,-1),"") -> 75 | J57: =IFERROR(MATCH(H57,A57:A131,-1),"") -> 75 | M57: =IF(J57<>"",INDIRECT("a"&SUM(ROW(),J57),1),"") -> 173.13
A58: 173.99 | D58: 174.85714 | E58: 173.49631 | G58: =IF(D58>E58,D58,E58) -> 174.85714 | H58: =IF(E58<D58,E58,D58) -> 173.49631 | I58: =IFERROR(MATCH(G58,A58:A132,-1),"") | J58: =IFERROR(MATCH(H58,A58:A132,-1),"") -> 2 | M58: =IF(J58<>"",INDIRECT("a"&SUM(ROW(),J58),1),"") -> 173.11
A59: 173.69 | G59: =IF(D59>E59,D59,E59) -> 0 | H59: =IF(E59<D59,E59,D59) -> 0 | I59: =IFERROR(MATCH(G59,A59:A133,-1),"") -> 75 | J59: =IFERROR(MATCH(H59,A59:A133,-1),"") -> 75 | M59: =IF(J59<>"",INDIRECT("a"&SUM(ROW(),J59),1),"") -> 173.98
A60: 173.11 | G60: =IF(D60>E60,D60,E60) -> 0 | H60: =IF(E60<D60,E60,D60) -> 0 | I60: =IFERROR(MATCH(G60,A60:A134,-1),"") -> 75 | J60: =IFERROR(MATCH(H60,A60:A134,-1),"") -> 75 | M60: =IF(J60<>"",INDIRECT("a"&SUM(ROW(),J60),1),"") -> 173.97
A61: 172.84 | G61: =IF(D61>E61,D61,E61) -> 0 | H61: =IF(E61<D61,E61,D61) -> 0 | I61: =IFERROR(MATCH(G61,A61:A135,-1),"") -> 75 | J61: =IFERROR(MATCH(H61,A61:A135,-1),"") -> 75 | M61: =IF(J61<>"",INDIRECT("a"&SUM(ROW(),J61),1),"") -> 174.11
A62: 172.71 | G62: =IF(D62>E62,D62,E62) -> 0 | H62: =IF(E62<D62,E62,D62) -> 0 | I62: =IFERROR(MATCH(G62,A62:A136,-1),"") -> 75 | J62: =IFERROR(MATCH(H62,A62:A136,-1),"") -> 75 | M62: =IF(J62<>"",INDIRECT("a"&SUM(ROW(),J62),1),"") -> 174.05
A63: 172.54 | G63: =IF(D63>E63,D63,E63) -> 0 | H63: =IF(E63<D63,E63,D63) -> 0 | I63: =IFERROR(MATCH(G63,A63:A137,-1),"") -> 75 | J63: =IFERROR(MATCH(H63,A63:A137,-1),"") -> 75 | M63: =IF(J63<>"",INDIRECT("a"&SUM(ROW(),J63),1),"") -> 175.26
A64: 172.18 | G64: =IF(D64>E64,D64,E64) -> 0 | H64: =IF(E64<D64,E64,D64) -> 0 | I64: =IFERROR(MATCH(G64,A64:A138,-1),"") -> 75 | J64: =IFERROR(MATCH(H64,A64:A138,-1),"") -> 75 | M64: =IF(J64<>"",INDIRECT("a"&SUM(ROW(),J64),1),"") -> 174.73
A65: 171.77 | G65: =IF(D65>E65,D65,E65) -> 0 | H65: =IF(E65<D65,E65,D65) -> 0 | I65: =IFERROR(MATCH(G65,A65:A139,-1),"") -> 75 | J65: =IFERROR(MATCH(H65,A65:A139,-1),"") -> 75 | M65: =IF(J65<>"",INDIRECT("a"&SUM(ROW(),J65),1),"") -> 174.38
A66: 171.15 | G66: =IF(D66>E66,D66,E66) -> 0 | H66: =IF(E66<D66,E66,D66) -> 0 | I66: =IFERROR(MATCH(G66,A66:A140,-1),"") -> 75 | J66: =IFERROR(MATCH(H66,A66:A140,-1),"") -> 75 | M66: =IF(J66<>"",INDIRECT("a"&SUM(ROW(),J66),1),"") -> 174.13
A67: 171.05 | G67: =IF(D67>E67,D67,E67) -> 0 | H67: =IF(E67<D67,E67,D67) -> 0 | I67: =IFERROR(MATCH(G67,A67:A141,-1),"") -> 75 | J67: =IFERROR(MATCH(H67,A67:A141,-1),"") -> 75 | M67: =IF(J67<>"",INDIRECT("a"&SUM(ROW(),J67),1),"") -> 174
A68: 171.13 | G68: =IF(D68>E68,D68,E68) -> 0 | H68: =IF(E68<D68,E68,D68) -> 0 | I68: =IFERROR(MATCH(G68,A68:A142,-1),"") -> 75 | J68: =IFERROR(MATCH(H68,A68:A142,-1),"") -> 75 | M68: =IF(J68<>"",INDIRECT("a"&SUM(ROW(),J68),1),"") -> 173.41
A69: 171.42 | G69: =IF(D69>E69,D69,E69) -> 0 | H69: =IF(E69<D69,E69,D69) -> 0 | I69: =IFERROR(MATCH(G69,A69:A143,-1),"") -> 75 | J69: =IFERROR(MATCH(H69,A69:A143,-1),"") -> 75 | M69: =IF(J69<>"",INDIRECT("a"&SUM(ROW(),J69),1),"") -> 174.03
A70: 171.42 | G70: =IF(D70>E70,D70,E70) -> 0 | H70: =IF(E70<D70,E70,D70) -> 0 | I70: =IFERROR(MATCH(G70,A70:A144,-1),"") -> 75 | J70: =IFERROR(MATCH(H70,A70:A144,-1),"") -> 75 | M70: =IF(J70<>"",INDIRECT("a"&SUM(ROW(),J70),1),"") -> 173.17
A71: 171.96 | G71: =IF(D71>E71,D71,E71) -> 0 | H71: =IF(E71<D71,E71,D71) -> 0 | I71: =IFERROR(MATCH(G71,A71:A145,-1),"") -> 75 | J71: =IFERROR(MATCH(H71,A71:A145,-1),"") -> 75 | M71: =IF(J71<>"",INDIRECT("a"&SUM(ROW(),J71),1),"") -> 173.91
...

Sheet F2
A1: =IFERROR(SMALL(Feuil1!A:A,ROW())*1,"") -> 170.24 | B1: =IF(A1="","",MATCH(A1,Feuil1!A:A,0)) -> 120 | D1: =IF(A1="","",IF(INDIRECT("Feuil1!D"&B1)="","",INDIRECT("Feuil1!D"&B1))) | E1: =IF(A1="","",IF(INDIRECT("Feuil1!E"&B1)="","",INDIRECT("Feuil1!E"&B1))) | F1: =IF(AND(D1="",E1=""),"",IF(D1="",E1,IF(E1="",D1,IF(MOD(D1,A1)>MOD(E1,A1),E1,D1)))) | G1: =IF(F1="","",IFERROR(IFERROR(MATCH(F1,A:A,0),MATCH(F1,A:A,-1)),MATCH(F1,A:A,1))) | H1: =IF(G1="","",INDIRECT("Feuil1!A"&G1,1))
A2: =IFERROR(SMALL(Feuil1!A:A,ROW())*1,"") -> 170.59 | B2: =IF(A2="","",MATCH(A2,Feuil1!A:A,0)) -> 154 | D2: =IF(A2="","",IF(INDIRECT("Feuil1!D"&B2)="","",INDIRECT("Feuil1!D"&B2))) | E2: =IF(A2="","",IF(INDIRECT("Feuil1!E"&B2)="","",INDIRECT("Feuil1!E"&B2))) | F2: =IF(AND(D2="",E2=""),"",IF(D2="",E2,IF(E2="",D2,IF(MOD(D2,A2)>MOD(E2,A2),E2,D2)))) | G2: =IF(F2="","",IFERROR(IFERROR(MATCH(F2,A:A,0),MATCH(F2,A:A,-1)),MATCH(F2,A:A,1))) | H2: =IF(G2="","",INDIRECT("Feuil1!A"&G2,1))
A3: =IFERROR(SMALL(Feuil1!A:A,ROW())*1,"") -> 170.63 | B3: =IF(A3="","",MATCH(A3,Feuil1!A:A,0)) -> 155 | D3: =IF(A3="","",IF(INDIRECT("Feuil1!D"&B3)="","",INDIRECT("Feuil1!D"&B3))) | E3: =IF(A3="","",IF(INDIRECT("Feuil1!E"&B3)="","",INDIRECT("Feuil1!E"&B3))) | F3: =IF(AND(D3="",E3=""),"",IF(D3="",E3,IF(E3="",D3,IF(MOD(D3,A3)>MOD(E3,A3),E3,D3)))) | G3: =IF(F3="","",IFERROR(IFERROR(MATCH(F3,A:A,0),MATCH(F3,A:A,-1)),MATCH(F3,A:A,1))) | H3: =IF(G3="","",INDIRECT("Feuil1!A"&G3,1))
A4: =IFERROR(SMALL(Feuil1!A:A,ROW())*1,"") -> 170.72 | B4: =IF(A4="","",MATCH(A4,Feuil1!A:A,0)) -> 34 | D4: =IF(A4="","",IF(INDIRECT("Feuil1!D"&B4)="","",INDIRECT("Feuil1!D"&B4))) -> 172.4231 | E4: =IF(A4="","",IF(INDIRECT("Feuil1!E"&B4)="","",INDIRECT("Feuil1!E"&B4))) -> 169.39625 | F4: =IF(AND(D4="",E4=""),"",IF(D4="",E4,IF(E4="",D4,IF(MOD(D4,A4)>MOD(E4,A4),E4,D4)))) -> 172.4231 | G4: =IF(F4="","",IFERROR(IFERROR(MATCH(F4,A:A,0),MATCH(F4,A:A,-1)),MATCH(F4,A:A,1))) -> 35 | H4: =IF(G4="","",INDIRECT("Feuil1!A"&G4,1)) -> 171.46
A5: =IFERROR(SMALL(Feuil1!A:A,ROW())*1,"") -> 170.75 | B5: =IF(A5="","",MATCH(A5,Feuil1!A:A,0)) -> 156 | D5: =IF(A5="","",IF(INDIRECT("Feuil1!D"&B5)="","",INDIRECT("Feuil1!D"&B5))) | E5: =IF(A5="","",IF(INDIRECT("Feuil1!E"&B5)="","",INDIRECT("Feuil1!E"&B5))) | F5: =IF(AND(D5="",E5=""),"",IF(D5="",E5,IF(E5="",D5,IF(MOD(D5,A5)>MOD(E5,A5),E5,D5)))) | G5: =IF(F5="","",IFERROR(IFERROR(MATCH(F5,A:A,0),MATCH(F5,A:A,-1)),MATCH(F5,A:A,1))) | H5: =IF(G5="","",INDIRECT("Feuil1!A"&G5,1))
A6: =IFERROR(SMALL(Feuil1!A:A,ROW())*1,"") -> 170.82 | B6: =IF(A6="","",MATCH(A6,Feuil1!A:A,0)) -> 151 | D6: =IF(A6="","",IF(INDIRECT("Feuil1!D"&B6)="","",INDIRECT("Feuil1!D"&B6))) | E6: =IF(A6="","",IF(INDIRECT("Feuil1!E"&B6)="","",INDIRECT("Feuil1!E"&B6))) | F6: =IF(AND(D6="",E6=""),"",IF(D6="",E6,IF(E6="",D6,IF(MOD(D6,A6)>MOD(E6,A6),E6,D6)))) | G6: =IF(F6="","",IFERROR(IFERROR(MATCH(F6,A:A,0),MATCH(F6,A:A,-1)),MATCH(F6,A:A,1))) | H6: =IF(G6="","",INDIRECT("Feuil1!A"&G6,1))
A7: =IFERROR(SMALL(Feuil1!A:A,ROW())*1,"") -> 171 | B7: =IF(A7="","",MATCH(A7,Feuil1!A:A,0)) -> 153 | D7: =IF(A7="","",IF(INDIRECT("Feuil1!D"&B7)="","",INDIRECT("Feuil1!D"&B7))) | E7: =IF(A7="","",IF(INDIRECT("Feuil1!E"&B7)="","",INDIRECT("Feuil1!E"&B7))) | F7: =IF(AND(D7="",E7=""),"",IF(D7="",E7,IF(E7="",D7,IF(MOD(D7,A7)>MOD(E7,A7),E7,D7)))) | G7: =IF(F7="","",IFERROR(IFERROR(MATCH(F7,A:A,0),MATCH(F7,A:A,-1)),MATCH(F7,A:A,1))) | H7: =IF(G7="","",INDIRECT("Feuil1!A"&G7,1))
A8: =IFERROR(SMALL(Feuil1!A:A,ROW())*1,"") -> 171.05 | B8: =IF(A8="","",MATCH(A8,Feuil1!A:A,0)) -> 67 | D8: =IF(A8="","",IF(INDIRECT("Feuil1!D"&B8)="","",INDIRECT("Feuil1!D"&B8))) | E8: =IF(A8="","",IF(INDIRECT("Feuil1!E"&B8)="","",INDIRECT("Feuil1!E"&B8))) | F8: =IF(AND(D8="",E8=""),"",IF(D8="",E8,IF(E8="",D8,IF(MOD(D8,A8)>MOD(E8,A8),E8,D8)))) | G8: =IF(F8="","",IFERROR(IFERROR(MATCH(F8,A:A,0),MATCH(F8,A:A,-1)),MATCH(F8,A:A,1))) | H8: =IF(G8="","",INDIRECT("Feuil1!A"&G8,1))
A9: =IFERROR(SMALL(Feuil1!A:A,ROW())*1,"") -> 171.13 | B9: =IF(A9="","",MATCH(A9,Feuil1!A:A,0)) -> 68 | D9: =IF(A9="","",IF(INDIRECT("Feuil1!D"&B9)="","",INDIRECT("Feuil1!D"&B9))) | E9: =IF(A9="","",IF(INDIRECT("Feuil1!E"&B9)="","",INDIRECT("Feuil1!E"&B9))) | F9: =IF(AND(D9="",E9=""),"",IF(D9="",E9,IF(E9="",D9,IF(MOD(D9,A9)>MOD(E9,A9),E9,D9)))) | G9: =IF(F9="","",IFERROR(IFERROR(MATCH(F9,A:A,0),MATCH(F9,A:A,-1)),MATCH(F9,A:A,1))) | H9: =IF(G9="","",INDIRECT("Feuil1!A"&G9,1))
A10: =IFERROR(SMALL(Feuil1!A:A,ROW())*1,"") -> 171.15 | B10: =IF(A10="","",MATCH(A10,Feuil1!A:A,0)) -> 66 | D10: =IF(A10="","",IF(INDIRECT("Feuil1!D"&B10)="","",INDIRECT("Feuil1!D"&B10))) | E10: =IF(A10="","",IF(INDIRECT("Feuil1!E"&B10)="","",INDIRECT("Feuil1!E"&B10))) | F10: =IF(AND(D10="",E10=""),"",IF(D10="",E10,IF(E10="",D10,IF(MOD(D10,A10)>MOD(E10,A10),E10,D10)))) | G10: =IF(F10="","",IFERROR(IFERROR(MATCH(F10,A:A,0),MATCH(F10,A:A,-1)),MATCH(F10,A:A,1))) | H10: =IF(G10="","",INDIRECT("Feuil1!A"&G10,1))
A11: =IFERROR(SMALL(Feuil1!A:A,ROW())*1,"") -> 171.27 | B11: =IF(A11="","",MATCH(A11,Feuil1!A:A,0)) -> 152 | D11: =IF(A11="","",IF(INDIRECT("Feuil1!D"&B11)="","",INDIRECT("Feuil1!D"&B11))) | E11: =IF(A11="","",IF(INDIRECT("Feuil1!E"&B11)="","",INDIRECT("Feuil1!E"&B11))) | F11: =IF(AND(D11="",E11=""),"",IF(D11="",E11,IF(E11="",D11,IF(MOD(D11,A11)>MOD(E11,A11),E11,D11)))) | G11: =IF(F11="","",IFERROR(IFERROR(MATCH(F11,A:A,0),MATCH(F11,A:A,-1)),MATCH(F11,A:A,1))) | H11: =IF(G11="","",INDIRECT("Feuil1!A"&G11,1))
A12: =IFERROR(SMALL(Feuil1!A:A,ROW())*1,"") -> 171.29 | B12: =IF(A12="","",MATCH(A12,Feuil1!A:A,0)) -> 121 | D12: =IF(A12="","",IF(INDIRECT("Feuil1!D"&B12)="","",INDIRECT("Feuil1!D"&B12))) | E12: =IF(A12="","",IF(INDIRECT("Feuil1!E"&B12)="","",INDIRECT("Feuil1!E"&B12))) | F12: =IF(AND(D12="",E12=""),"",IF(D12="",E12,IF(E12="",D12,IF(MOD(D12,A12)>MOD(E12,A12),E12,D12)))) | G12: =IF(F12="","",IFERROR(IFERROR(MATCH(F12,A:A,0),MATCH(F12,A:A,-1)),MATCH(F12,A:A,1))) | H12: =IF(G12="","",INDIRECT("Feuil1!A"&G12,1))
... A500: =IFERROR(SMALL(Feuil1!A:A,ROW())*1,"") | B500: =IF(A500="","",MATCH(A500,Feuil1!A:A,0)) | D500: =IF(A500="","",IF(INDIRECT("Feuil1!D"&B500)="","",INDIRECT("Feuil1!D"&B500))) | E500: =IF(A500="","",IF(INDIRECT("Feuil1!E"&B500)="","",INDIRECT("Feuil1!E"&B500))) | F500: =IF(AND(D500="",E500=""),"",IF(D500="",E500,IF(E500="",D500,IF(MOD(D500,A500)>MOD(E500,A500),E500,D500)))) | G500: =IF(F500="","",IFERROR(IFERROR(MATCH(F500,A:A,0),MATCH(F500,A:A,-1)),MATCH(F500,A:A,1))) | H500: =IF(G500="","",INDIRECT("Feuil1!A"&G500,1))
