Workbook

Sheet Planning
B1: 26
A3: CdR | B3: 43 | AB3: 44 | BB3: 45 | CB3: 46
A4: A
A5: A | B5: 0 | AB5: 0 | BB5: 0 | CB5: 0
A6: A | G6: Lundi | J6: Mardi | M6: Mercredi | P6: Jeudi | S6: Vendredi | V6: Samedi | Y6: Dimanche | AG6: Lundi | AJ6: Mardi | AM6: Mercredi | AP6: Jeudi | AS6: Vendredi | AV6: Samedi | AY6: Dimanche | BG6: Lundi | BJ6: Mardi | BM6: Mercredi | BP6: Jeudi | BS6: Vendredi | BV6: Samedi | BY6: Dimanche | CG6: Lundi | CJ6: Mardi | CM6: Mercredi | CP6: Jeudi | CS6: Vendredi | CV6: Samedi | CY6: Dimanche
A7: A | G7: 43759 | J7: 43760 | M7: 43761 | P7: 43762 | S7: 43763 | V7: 43764 | Y7: 43765 | AG7: 43766 | AJ7: 43767 | AM7: 43768 | AP7: 43769 | AS7: 43770 | AV7: 43771 | AY7: 43772 | BG7: 43773 | BJ7: 43774 | BM7: 43775 | BP7: 43776 | BS7: 43777 | BV7: 43778 | BY7: 43779 | CG7: 43780 | CJ7: 43781 | CM7: 43782 | CP7: 43783 | CS7: 43784 | CV7: 43785 | CY7: 43786
A8: A | G8: M | H8: AM | I8: N | J8: M | K8: AM | L8: N | M8: M | N8: AM | O8: N | P8: M | Q8: AM | R8: N | S8: M | T8: AM | U8: N | V8: M | W8: AM | X8: N | Y8: M | Z8: AM | AA8: N | AG8: M | AH8: AM | AI8: N | AJ8: M | AK8: AM | AL8: N | AM8: M | AN8: AM | AO8: N | AP8: M | AQ8: AM | AR8: N | AS8: M | AT8: AM | AU8: N | AV8: M | AW8: AM | AX8: N | AY8: M | AZ8: AM | BA8: N | BG8: M | BH8: AM | BI8: N | BJ8: M | BK8: AM | BL8: N | BM8: M | BN8: AM | BO8: N | BP8: M | BQ8: AM | BR8: N | BS8: M | BT8: AM | BU8: N | BV8: M | BW8: AM | BX8: N | BY8: M | BZ8: AM | CA8: N | CG8: M | CH8: AM | CI8: N | CJ8: M | CK8: AM | CL8: N | CM8: M | CN8: AM | CO8: N | CP8: M | CQ8: AM | CR8: N | CS8: M | CT8: AM | CU8: N | CV8: M | CW8: AM | CX8: N | CY8: M | CZ8: AM | DA8: N
A9: L1 | B9: CODE | C9: Rang | D9: Cd | E9: L1 | AB9: CODE | AC9: Rang | AD9: Cd | AE9: L1 | BB9: CODE | BC9: Rang | BD9: Cd | BE9: L1 | BF9: 13.5 | CB9: CODE | CC9: Rang | CD9: Cd | CE9: L1 | CF9: 15.4
A10: L1 | B10: HTRS02 | G10: CdR | M10: 9 | AB10: HTICJ22 | BB10: NNS82 | CB10: HTICJ23
A11: L1 | B11: PECS22 | M11: CdR | AB11: HTICS22 | AM11: CdR | AP11: 5 | BB11: HTICS23 | BJ11: B | BM11: 9 | CB11: PECS43 | CR11: CdR
A12: L1 | B12: HTICJ22 | N12: CdR | AB12: NNS62RC | AP12: CdR | BB12: HTICJ23 | BM12: CdR
A13: L1 | AB13: NNS82 | AQ13: CdR
A14: L1
A15: L1
A16: L1
A17: L1
A18: z
A19: z
A20: z
A21: z
A22: z
A23: z
A24: L5 | B24: CODE | C24: Rang | E24: L5 | AB24: CODE | AC24: Rang | AE24: L5 | BB24: CODE | BC24: Rang | BE24: L5 | CB24: CODE | CC24: Rang | CE24: L5 | CF24: 11.4
A25: L5 | B25: ADJ74CR | G25: B | AB25: ADJ84 | AH25: 13 | BB25: ADJ84EP | CB25: ADJ85EP
A26: L5 | B26: ADJ84 | U26: CdR | AB26: ADS74RC | AH26: CdR | AM26: 8 | BB26: ADJ85EP | BS26: CdR | CB26: ADJ85 | CP26: CdR
A27: L5 | AB27: ADJ84EP | AM27: CdR
A28: L5
A29: L5
A30: L5
A31: L5
A32: L5
A33: L5
A34: L5
A35: L5
A36: z
A37: Z
A38: Z
A39: Z
... A42: z
A43: L6 | B43: CODE | C43: RgCdS | E43: L6 | F43: 0 | AB43: CODE | AC43: RgCdS | AE43: L6 | AF43: 0 | BB43: CODE | BC43: RgCdS | BE43: L6 | BF43: 0 | CB43: CODE | CC43: RgCdS | CE43: L6 | CF43: 0
...

Sheet Extraction
A1: DATE | B1: CODE | C1: CODE | D1: CODE | E1: CODE
A2: 43759 | B2: =IF(ISERROR(SMALL(INDIRECT(CONCATENATE(ADDRESS(126,MATCH($A2,Planning!$A$7:$DA$7,0),4,1,"Planning"),":",ADDRESS(132,MATCH($A2,Planning!$A$7:$DA$7,0),4,1)),1),COLUMN()-1)),"",INDIRECT(ADDRESS(SMALL(INDIRECT(CONCATENATE(ADDRESS(126,MATCH($A2,Planning!$A$7:$DA$7,0),4,1,"Planning"),":",ADDRESS(132,MATCH($A2,Planning!$A$7:$DA$7,0),4,1)),1),COLUMN()-1),MATCH(WEEKNUM($A2,2),Planning!$A$3:$DA$3,0),4,1,"Planning"),1)) -> HTRS02 | C2: =IF(ISERROR(SMALL(INDIRECT(CONCATENATE(ADDRESS(126,MATCH($A2,Planning!$A$7:$DA$7,0),4,1,"Planning"),":",ADDRESS(132,MATCH($A2,Planning!$A$7:$DA$7,0),4,1)),1),COLUMN()-1)),"",INDIRECT(ADDRESS(SMALL(INDIRECT(CONCATENATE(ADDRESS(126,MATCH($A2,Planning!$A$7:$DA$7,0),4,1,"Planning"),":",ADDRESS(132,MATCH($A2,Planning!$A$7:$DA$7,0),4,1)),1),COLUMN()-1),MATCH(WEEKNUM($A2,2),Planning!$A$3:$DA$3,0),4,1,"Planning"),1)) -> ADJ74CR | D2: =IF(ISERROR(SMALL(INDIRECT(CONCATENATE(ADDRESS(126,MATCH($A2,Planning!$A$7:$DA$7,0),4,1,"Planning"),":",ADDRESS(132,MATCH($A2,Planning!$A$7:$DA$7,0),4,1)),1),COLUMN()-1)),"",INDIRECT(ADDRESS(SMALL(INDIRECT(CONCATENATE(ADDRESS(126,MATCH($A2,Planning!$A$7:$DA$7,0),4,1,"Planning"),":",ADDRESS(132,MATCH($A2,Planning!$A$7:$DA$7,0),4,1)),1),COLUMN()-1),MATCH(WEEKNUM($A2,2),Planning!$A$3:$DA$3,0),4,1,"Planning"),1)) -> HTICS26 | E2: =IF(ISERROR(SMALL(INDIRECT(CONCATENATE(ADDRESS(126,MATCH($A2,Planning!$A$7:$DA$7,0),4,1,"Planning"),":",ADDRESS(132,MATCH($A2,Planning!$A$7:$DA$7,0),4,1)),1),COLUMN()-1)),"",INDIRECT(ADDRESS(SMALL(INDIRECT(CONCATENATE(ADDRESS(126,MATCH($A2,Planning!$A$7:$DA$7,0),4,1,"Planning"),":",ADDRESS(132,MATCH($A2,Planning!$A$7:$DA$7,0),4,1)),1),COLUMN()-1),MATCH(WEEKNUM($A2,2),Planning!$A$3:$DA$3,0),4,1,"Planning"),1)) -> TSN32
A3: 43760 | B3: =IF(ISERROR(SMALL(INDIRECT(CONCATENATE(ADDRESS(126,MATCH($A3,Planning!$A$7:$DA$7,0),4,1,"Planning"),":",ADDRESS(132,MATCH($A3,Planning!$A$7:$DA$7,0),4,1)),1),COLUMN()-1)),"",INDIRECT(ADDRESS(SMALL(INDIRECT(CONCATENATE(ADDRESS(126,MATCH($A3,Planning!$A$7:$DA$7,0),4,1,"Planning"),":",ADDRESS(132,MATCH($A3,Planning!$A$7:$DA$7,0),4,1)),1),COLUMN()-1),MATCH(WEEKNUM($A3,2),Planning!$A$3:$DA$3,0),4,1,"Planning"),1)) -> LSUP12 | C3: =IF(ISERROR(SMALL(INDIRECT(CONCATENATE(ADDRESS(126,MATCH($A3,Planning!$A$7:$DA$7,0),4,1,"Planning"),":",ADDRESS(132,MATCH($A3,Planning!$A$7:$DA$7,0),4,1)),1),COLUMN()-1)),"",INDIRECT(ADDRESS(SMALL(INDIRECT(CONCATENATE(ADDRESS(126,MATCH($A3,Planning!$A$7:$DA$7,0),4,1,"Planning"),":",ADDRESS(132,MATCH($A3,Planning!$A$7:$DA$7,0),4,1)),1),COLUMN()-1),MATCH(WEEKNUM($A3,2),Planning!$A$3:$DA$3,0),4,1,"Planning"),1)) | D3: =IF(ISERROR(SMALL(INDIRECT(CONCATENATE(ADDRESS(126,MATCH($A3,Planning!$A$7:$DA$7,0),4,1,"Planning"),":",ADDRESS(132,MATCH($A3,Planning!$A$7:$DA$7,0),4,1)),1),COLUMN()-1)),"",INDIRECT(ADDRESS(SMALL(INDIRECT(CONCATENATE(ADDRESS(126,MATCH($A3,Planning!$A$7:$DA$7,0),4,1,"Planning"),":",ADDRESS(132,MATCH($A3,Planning!$A$7:$DA$7,0),4,1)),1),COLUMN()-1),MATCH(WEEKNUM($A3,2),Planning!$A$3:$DA$3,0),4,1,"Planning"),1)) | E3: =IF(ISERROR(SMALL(INDIRECT(CONCATENATE(ADDRESS(126,MATCH($A3,Planning!$A$7:$DA$7,0),4,1,"Planning"),":",ADDRESS(132,MATCH($A3,Planning!$A$7:$DA$7,0),4,1)),1),COLUMN()-1)),"",INDIRECT(ADDRESS(SMALL(INDIRECT(CONCATENATE(ADDRESS(126,MATCH($A3,Planning!$A$7:$DA$7,0),4,1,"Planning"),":",ADDRESS(132,MATCH($A3,Planning!$A$7:$DA$7,0),4,1)),1),COLUMN()-1),MATCH(WEEKNUM($A3,2),Planning!$A$3:$DA$3,0),4,1,"Planning"),1))
A4: 43761 | B4: =IF(ISERROR(SMALL(INDIRECT(CONCATENATE(ADDRESS(126,MATCH($A4,Planning!$A$7:$DA$7,0),4,1,"Planning"),":",ADDRESS(132,MATCH($A4,Planning!$A$7:$DA$7,0),4,1)),1),COLUMN()-1)),"",INDIRECT(ADDRESS(SMALL(INDIRECT(CONCATENATE(ADDRESS(126,MATCH($A4,Planning!$A$7:$DA$7,0),4,1,"Planning"),":",ADDRESS(132,MATCH($A4,Planning!$A$7:$DA$7,0),4,1)),1),COLUMN()-1),MATCH(WEEKNUM($A4,2),Planning!$A$3:$DA$3,0),4,1,"Planning"),1)) -> PECS22 | C4: =IF(ISERROR(SMALL(INDIRECT(CONCATENATE(ADDRESS(126,MATCH($A4,Planning!$A$7:$DA$7,0),4,1,"Planning"),":",ADDRESS(132,MATCH($A4,Planning!$A$7:$DA$7,0),4,1)),1),COLUMN()-1)),"",INDIRECT(ADDRESS(SMALL(INDIRECT(CONCATENATE(ADDRESS(126,MATCH($A4,Planning!$A$7:$DA$7,0),4,1,"Planning"),":",ADDRESS(132,MATCH($A4,Planning!$A$7:$DA$7,0),4,1)),1),COLUMN()-1),MATCH(WEEKNUM($A4,2),Planning!$A$3:$DA$3,0),4,1,"Planning"),1)) -> AUJ77 | D4: =IF(ISERROR(SMALL(INDIRECT(CONCATENATE(ADDRESS(126,MATCH($A4,Planning!$A$7:$DA$7,0),4,1,"Planning"),":",ADDRESS(132,MATCH($A4,Planning!$A$7:$DA$7,0),4,1)),1),COLUMN()-1)),"",INDIRECT(ADDRESS(SMALL(INDIRECT(CONCATENATE(ADDRESS(126,MATCH($A4,Planning!$A$7:$DA$7,0),4,1,"Planning"),":",ADDRESS(132,MATCH($A4,Planning!$A$7:$DA$7,0),4,1)),1),COLUMN()-1),MATCH(WEEKNUM($A4,2),Planning!$A$3:$DA$3,0),4,1,"Planning"),1)) -> HLSN22 | E4: =IF(ISERROR(SMALL(INDIRECT(CONCATENATE(ADDRESS(126,MATCH($A4,Planning!$A$7:$DA$7,0),4,1,"Planning"),":",ADDRESS(132,MATCH($A4,Planning!$A$7:$DA$7,0),4,1)),1),COLUMN()-1)),"",INDIRECT(ADDRESS(SMALL(INDIRECT(CONCATENATE(ADDRESS(126,MATCH($A4,Planning!$A$7:$DA$7,0),4,1,"Planning"),":",ADDRESS(132,MATCH($A4,Planning!$A$7:$DA$7,0),4,1)),1),COLUMN()-1),MATCH(WEEKNUM($A4,2),Planning!$A$3:$DA$3,0),4,1,"Planning"),1)) -> LJU72
A5: 43762 | B5: =IF(ISERROR(SMALL(INDIRECT(CONCATENATE(ADDRESS(126,MATCH($A5,Planning!$A$7:$DA$7,0),4,1,"Planning"),":",ADDRESS(132,MATCH($A5,Planning!$A$7:$DA$7,0),4,1)),1),COLUMN()-1)),"",INDIRECT(ADDRESS(SMALL(INDIRECT(CONCATENATE(ADDRESS(126,MATCH($A5,Planning!$A$7:$DA$7,0),4,1,"Planning"),":",ADDRESS(132,MATCH($A5,Planning!$A$7:$DA$7,0),4,1)),1),COLUMN()-1),MATCH(WEEKNUM($A5,2),Planning!$A$3:$DA$3,0),4,1,"Planning"),1)) -> PECS44 | C5: =IF(ISERROR(SMALL(INDIRECT(CONCATENATE(ADDRESS(126,MATCH($A5,Planning!$A$7:$DA$7,0),4,1,"Planning"),":",ADDRESS(132,MATCH($A5,Planning!$A$7:$DA$7,0),4,1)),1),COLUMN()-1)),"",INDIRECT(ADDRESS(SMALL(INDIRECT(CONCATENATE(ADDRESS(126,MATCH($A5,Planning!$A$7:$DA$7,0),4,1,"Planning"),":",ADDRESS(132,MATCH($A5,Planning!$A$7:$DA$7,0),4,1)),1),COLUMN()-1),MATCH(WEEKNUM($A5,2),Planning!$A$3:$DA$3,0),4,1,"Planning"),1)) -> LSU71 | D5: =IF(ISERROR(SMALL(INDIRECT(CONCATENATE(ADDRESS(126,MATCH($A5,Planning!$A$7:$DA$7,0),4,1,"Planning"),":",ADDRESS(132,MATCH($A5,Planning!$A$7:$DA$7,0),4,1)),1),COLUMN()-1)),"",INDIRECT(ADDRESS(SMALL(INDIRECT(CONCATENATE(ADDRESS(126,MATCH($A5,Planning!$A$7:$DA$7,0),4,1,"Planning"),":",ADDRESS(132,MATCH($A5,Planning!$A$7:$DA$7,0),4,1)),1),COLUMN()-1),MATCH(WEEKNUM($A5,2),Planning!$A$3:$DA$3,0),4,1,"Planning"),1)) | E5: =IF(ISERROR(SMALL(INDIRECT(CONCATENATE(ADDRESS(126,MATCH($A5,Planning!$A$7:$DA$7,0),4,1,"Planning"),":",ADDRESS(132,MATCH($A5,Planning!$A$7:$DA$7,0),4,1)),1),COLUMN()-1)),"",INDIRECT(ADDRESS(SMALL(INDIRECT(CONCATENATE(ADDRESS(126,MATCH($A5,Planning!$A$7:$DA$7,0),4,1,"Planning"),":",ADDRESS(132,MATCH($A5,Planning!$A$7:$DA$7,0),4,1)),1),COLUMN()-1),MATCH(WEEKNUM($A5,2),Planning!$A$3:$DA$3,0),4,1,"Planning"),1))
A6: 43763 | B6: =IF(ISERROR(SMALL(INDIRECT(CONCATENATE(ADDRESS(126,MATCH($A6,Planning!$A$7:$DA$7,0),4,1,"Planning"),":",ADDRESS(132,MATCH($A6,Planning!$A$7:$DA$7,0),4,1)),1),COLUMN()-1)),"",INDIRECT(ADDRESS(SMALL(INDIRECT(CONCATENATE(ADDRESS(126,MATCH($A6,Planning!$A$7:$DA$7,0),4,1,"Planning"),":",ADDRESS(132,MATCH($A6,Planning!$A$7:$DA$7,0),4,1)),1),COLUMN()-1),MATCH(WEEKNUM($A6,2),Planning!$A$3:$DA$3,0),4,1,"Planning"),1)) -> LSU71 | C6: =IF(ISERROR(SMALL(INDIRECT(CONCATENATE(ADDRESS(126,MATCH($A6,Planning!$A$7:$DA$7,0),4,1,"Planning"),":",ADDRESS(132,MATCH($A6,Planning!$A$7:$DA$7,0),4,1)),1),COLUMN()-1)),"",INDIRECT(ADDRESS(SMALL(INDIRECT(CONCATENATE(ADDRESS(126,MATCH($A6,Planning!$A$7:$DA$7,0),4,1,"Planning"),":",ADDRESS(132,MATCH($A6,Planning!$A$7:$DA$7,0),4,1)),1),COLUMN()-1),MATCH(WEEKNUM($A6,2),Planning!$A$3:$DA$3,0),4,1,"Planning"),1)) | D6: =IF(ISERROR(SMALL(INDIRECT(CONCATENATE(ADDRESS(126,MATCH($A6,Planning!$A$7:$DA$7,0),4,1,"Planning"),":",ADDRESS(132,MATCH($A6,Planning!$A$7:$DA$7,0),4,1)),1),COLUMN()-1)),"",INDIRECT(ADDRESS(SMALL(INDIRECT(CONCATENATE(ADDRESS(126,MATCH($A6,Planning!$A$7:$DA$7,0),4,1,"Planning"),":",ADDRESS(132,MATCH($A6,Planning!$A$7:$DA$7,0),4,1)),1),COLUMN()-1),MATCH(WEEKNUM($A6,2),Planning!$A$3:$DA$3,0),4,1,"Planning"),1)) | E6: =IF(ISERROR(SMALL(INDIRECT(CONCATENATE(ADDRESS(126,MATCH($A6,Planning!$A$7:$DA$7,0),4,1,"Planning"),":",ADDRESS(132,MATCH($A6,Planning!$A$7:$DA$7,0),4,1)),1),COLUMN()-1)),"",INDIRECT(ADDRESS(SMALL(INDIRECT(CONCATENATE(ADDRESS(126,MATCH($A6,Planning!$A$7:$DA$7,0),4,1,"Planning"),":",ADDRESS(132,MATCH($A6,Planning!$A$7:$DA$7,0),4,1)),1),COLUMN()-1),MATCH(WEEKNUM($A6,2),Planning!$A$3:$DA$3,0),4,1,"Planning"),1))
A7: 43764 | B7: =IF(ISERROR(SMALL(INDIRECT(CONCATENATE(ADDRESS(126,MATCH($A7,Planning!$A$7:$DA$7,0),4,1,"Planning"),":",ADDRESS(132,MATCH($A7,Planning!$A$7:$DA$7,0),4,1)),1),COLUMN()-1)),"",INDIRECT(ADDRESS(SMALL(INDIRECT(CONCATENATE(ADDRESS(126,MATCH($A7,Planning!$A$7:$DA$7,0),4,1,"Planning"),":",ADDRESS(132,MATCH($A7,Planning!$A$7:$DA$7,0),4,1)),1),COLUMN()-1),MATCH(WEEKNUM($A7,2),Planning!$A$3:$DA$3,0),4,1,"Planning"),1)) | C7: =IF(ISERROR(SMALL(INDIRECT(CONCATENATE(ADDRESS(126,MATCH($A7,Planning!$A$7:$DA$7,0),4,1,"Planning"),":",ADDRESS(132,MATCH($A7,Planning!$A$7:$DA$7,0),4,1)),1),COLUMN()-1)),"",INDIRECT(ADDRESS(SMALL(INDIRECT(CONCATENATE(ADDRESS(126,MATCH($A7,Planning!$A$7:$DA$7,0),4,1,"Planning"),":",ADDRESS(132,MATCH($A7,Planning!$A$7:$DA$7,0),4,1)),1),COLUMN()-1),MATCH(WEEKNUM($A7,2),Planning!$A$3:$DA$3,0),4,1,"Planning"),1)) | D7: =IF(ISERROR(SMALL(INDIRECT(CONCATENATE(ADDRESS(126,MATCH($A7,Planning!$A$7:$DA$7,0),4,1,"Planning"),":",ADDRESS(132,MATCH($A7,Planning!$A$7:$DA$7,0),4,1)),1),COLUMN()-1)),"",INDIRECT(ADDRESS(SMALL(INDIRECT(CONCATENATE(ADDRESS(126,MATCH($A7,Planning!$A$7:$DA$7,0),4,1,"Planning"),":",ADDRESS(132,MATCH($A7,Planning!$A$7:$DA$7,0),4,1)),1),COLUMN()-1),MATCH(WEEKNUM($A7,2),Planning!$A$3:$DA$3,0),4,1,"Planning"),1)) | E7: =IF(ISERROR(SMALL(INDIRECT(CONCATENATE(ADDRESS(126,MATCH($A7,Planning!$A$7:$DA$7,0),4,1,"Planning"),":",ADDRESS(132,MATCH($A7,Planning!$A$7:$DA$7,0),4,1)),1),COLUMN()-1)),"",INDIRECT(ADDRESS(SMALL(INDIRECT(CONCATENATE(ADDRESS(126,MATCH($A7,Planning!$A$7:$DA$7,0),4,1,"Planning"),":",ADDRESS(132,MATCH($A7,Planning!$A$7:$DA$7,0),4,1)),1),COLUMN()-1),MATCH(WEEKNUM($A7,2),Planning!$A$3:$DA$3,0),4,1,"Planning"),1))
A8: 43765 | B8: =IF(ISERROR(SMALL(INDIRECT(CONCATENATE(ADDRESS(126,MATCH($A8,Planning!$A$7:$DA$7,0),4,1,"Planning"),":",ADDRESS(132,MATCH($A8,Planning!$A$7:$DA$7,0),4,1)),1),COLUMN()-1)),"",INDIRECT(ADDRESS(SMALL(INDIRECT(CONCATENATE(ADDRESS(126,MATCH($A8,Planning!$A$7:$DA$7,0),4,1,"Planning"),":",ADDRESS(132,MATCH($A8,Planning!$A$7:$DA$7,0),4,1)),1),COLUMN()-1),MATCH(WEEKNUM($A8,2),Planning!$A$3:$DA$3,0),4,1,"Planning"),1)) -> HTICJ25 | C8: =IF(ISERROR(SMALL(INDIRECT(CONCATENATE(ADDRESS(126,MATCH($A8,Planning!$A$7:$DA$7,0),4,1,"Planning"),":",ADDRESS(132,MATCH($A8,Planning!$A$7:$DA$7,0),4,1)),1),COLUMN()-1)),"",INDIRECT(ADDRESS(SMALL(INDIRECT(CONCATENATE(ADDRESS(126,MATCH($A8,Planning!$A$7:$DA$7,0),4,1,"Planning"),":",ADDRESS(132,MATCH($A8,Planning!$A$7:$DA$7,0),4,1)),1),COLUMN()-1),MATCH(WEEKNUM($A8,2),Planning!$A$3:$DA$3,0),4,1,"Planning"),1)) | D8: =IF(ISERROR(SMALL(INDIRECT(CONCATENATE(ADDRESS(126,MATCH($A8,Planning!$A$7:$DA$7,0),4,1,"Planning"),":",ADDRESS(132,MATCH($A8,Planning!$A$7:$DA$7,0),4,1)),1),COLUMN()-1)),"",INDIRECT(ADDRESS(SMALL(INDIRECT(CONCATENATE(ADDRESS(126,MATCH($A8,Planning!$A$7:$DA$7,0),4,1,"Planning"),":",ADDRESS(132,MATCH($A8,Planning!$A$7:$DA$7,0),4,1)),1),COLUMN()-1),MATCH(WEEKNUM($A8,2),Planning!$A$3:$DA$3,0),4,1,"Planning"),1)) | E8: =IF(ISERROR(SMALL(INDIRECT(CONCATENATE(ADDRESS(126,MATCH($A8,Planning!$A$7:$DA$7,0),4,1,"Planning"),":",ADDRESS(132,MATCH($A8,Planning!$A$7:$DA$7,0),4,1)),1),COLUMN()-1)),"",INDIRECT(ADDRESS(SMALL(INDIRECT(CONCATENATE(ADDRESS(126,MATCH($A8,Planning!$A$7:$DA$7,0),4,1,"Planning"),":",ADDRESS(132,MATCH($A8,Planning!$A$7:$DA$7,0),4,1)),1),COLUMN()-1),MATCH(WEEKNUM($A8,2),Planning!$A$3:$DA$3,0),4,1,"Planning"),1))
A9: 43766 | B9: =IF(ISERROR(SMALL(INDIRECT(CONCATENATE(ADDRESS(126,MATCH($A9,Planning!$A$7:$DA$7,0),4,1,"Planning"),":",ADDRESS(132,MATCH($A9,Planning!$A$7:$DA$7,0),4,1)),1),COLUMN()-1)),"",INDIRECT(ADDRESS(SMALL(INDIRECT(CONCATENATE(ADDRESS(126,MATCH($A9,Planning!$A$7:$DA$7,0),4,1,"Planning"),":",ADDRESS(132,MATCH($A9,Planning!$A$7:$DA$7,0),4,1)),1),COLUMN()-1),MATCH(WEEKNUM($A9,2),Planning!$A$3:$DA$3,0),4,1,"Planning"),1)) -> AUS77 | C9: =IF(ISERROR(SMALL(INDIRECT(CONCATENATE(ADDRESS(126,MATCH($A9,Planning!$A$7:$DA$7,0),4,1,"Planning"),":",ADDRESS(132,MATCH($A9,Planning!$A$7:$DA$7,0),4,1)),1),COLUMN()-1)),"",INDIRECT(ADDRESS(SMALL(INDIRECT(CONCATENATE(ADDRESS(126,MATCH($A9,Planning!$A$7:$DA$7,0),4,1,"Planning"),":",ADDRESS(132,MATCH($A9,Planning!$A$7:$DA$7,0),4,1)),1),COLUMN()-1),MATCH(WEEKNUM($A9,2),Planning!$A$3:$DA$3,0),4,1,"Planning"),1)) | D9: =IF(ISERROR(SMALL(INDIRECT(CONCATENATE(ADDRESS(126,MATCH($A9,Planning!$A$7:$DA$7,0),4,1,"Planning"),":",ADDRESS(132,MATCH($A9,Planning!$A$7:$DA$7,0),4,1)),1),COLUMN()-1)),"",INDIRECT(ADDRESS(SMALL(INDIRECT(CONCATENATE(ADDRESS(126,MATCH($A9,Planning!$A$7:$DA$7,0),4,1,"Planning"),":",ADDRESS(132,MATCH($A9,Planning!$A$7:$DA$7,0),4,1)),1),COLUMN()-1),MATCH(WEEKNUM($A9,2),Planning!$A$3:$DA$3,0),4,1,"Planning"),1)) | E9: =IF(ISERROR(SMALL(INDIRECT(CONCATENATE(ADDRESS(126,MATCH($A9,Planning!$A$7:$DA$7,0),4,1,"Planning"),":",ADDRESS(132,MATCH($A9,Planning!$A$7:$DA$7,0),4,1)),1),COLUMN()-1)),"",INDIRECT(ADDRESS(SMALL(INDIRECT(CONCATENATE(ADDRESS(126,MATCH($A9,Planning!$A$7:$DA$7,0),4,1,"Planning"),":",ADDRESS(132,MATCH($A9,Planning!$A$7:$DA$7,0),4,1)),1),COLUMN()-1),MATCH(WEEKNUM($A9,2),Planning!$A$3:$DA$3,0),4,1,"Planning"),1))
A10: 43767 | B10: =IF(ISERROR(SMALL(INDIRECT(CONCATENATE(ADDRESS(126,MATCH($A10,Planning!$A$7:$DA$7,0),4,1,"Planning"),":",ADDRESS(132,MATCH($A10,Planning!$A$7:$DA$7,0),4,1)),1),COLUMN()-1)),"",INDIRECT(ADDRESS(SMALL(INDIRECT(CONCATENATE(ADDRESS(126,MATCH($A10,Planning!$A$7:$DA$7,0),4,1,"Planning"),":",ADDRESS(132,MATCH($A10,Planning!$A$7:$DA$7,0),4,1)),1),COLUMN()-1),MATCH(WEEKNUM($A10,2),Planning!$A$3:$DA$3,0),4,1,"Planning"),1)) | C10: =IF(ISERROR(SMALL(INDIRECT(CONCATENATE(ADDRESS(126,MATCH($A10,Planning!$A$7:$DA$7,0),4,1,"Planning"),":",ADDRESS(132,MATCH($A10,Planning!$A$7:$DA$7,0),4,1)),1),COLUMN()-1)),"",INDIRECT(ADDRESS(SMALL(INDIRECT(CONCATENATE(ADDRESS(126,MATCH($A10,Planning!$A$7:$DA$7,0),4,1,"Planning"),":",ADDRESS(132,MATCH($A10,Planning!$A$7:$DA$7,0),4,1)),1),COLUMN()-1),MATCH(WEEKNUM($A10,2),Planning!$A$3:$DA$3,0),4,1,"Planning"),1)) | D10: =IF(ISERROR(SMALL(INDIRECT(CONCATENATE(ADDRESS(126,MATCH($A10,Planning!$A$7:$DA$7,0),4,1,"Planning"),":",ADDRESS(132,MATCH($A10,Planning!$A$7:$DA$7,0),4,1)),1),COLUMN()-1)),"",INDIRECT(ADDRESS(SMALL(INDIRECT(CONCATENATE(ADDRESS(126,MATCH($A10,Planning!$A$7:$DA$7,0),4,1,"Planning"),":",ADDRESS(132,MATCH($A10,Planning!$A$7:$DA$7,0),4,1)),1),COLUMN()-1),MATCH(WEEKNUM($A10,2),Planning!$A$3:$DA$3,0),4,1,"Planning"),1)) | E10: =IF(ISERROR(SMALL(INDIRECT(CONCATENATE(ADDRESS(126,MATCH($A10,Planning!$A$7:$DA$7,0),4,1,"Planning"),":",ADDRESS(132,MATCH($A10,Planning!$A$7:$DA$7,0),4,1)),1),COLUMN()-1)),"",INDIRECT(ADDRESS(SMALL(INDIRECT(CONCATENATE(ADDRESS(126,MATCH($A10,Planning!$A$7:$DA$7,0),4,1,"Planning"),":",ADDRESS(132,MATCH($A10,Planning!$A$7:$DA$7,0),4,1)),1),COLUMN()-1),MATCH(WEEKNUM($A10,2),Planning!$A$3:$DA$3,0),4,1,"Planning"),1))
A11: 43768 | B11: =IF(ISERROR(SMALL(INDIRECT(CONCATENATE(ADDRESS(126,MATCH($A11,Planning!$A$7:$DA$7,0),4,1,"Planning"),":",ADDRESS(132,MATCH($A11,Planning!$A$7:$DA$7,0),4,1)),1),COLUMN()-1)),"",INDIRECT(ADDRESS(SMALL(INDIRECT(CONCATENATE(ADDRESS(126,MATCH($A11,Planning!$A$7:$DA$7,0),4,1,"Planning"),":",ADDRESS(132,MATCH($A11,Planning!$A$7:$DA$7,0),4,1)),1),COLUMN()-1),MATCH(WEEKNUM($A11,2),Planning!$A$3:$DA$3,0),4,1,"Planning"),1)) -> HTICS22 | C11: =IF(ISERROR(SMALL(INDIRECT(CONCATENATE(ADDRESS(126,MATCH($A11,Planning!$A$7:$DA$7,0),4,1,"Planning"),":",ADDRESS(132,MATCH($A11,Planning!$A$7:$DA$7,0),4,1)),1),COLUMN()-1)),"",INDIRECT(ADDRESS(SMALL(INDIRECT(CONCATENATE(ADDRESS(126,MATCH($A11,Planning!$A$7:$DA$7,0),4,1,"Planning"),":",ADDRESS(132,MATCH($A11,Planning!$A$7:$DA$7,0),4,1)),1),COLUMN()-1),MATCH(WEEKNUM($A11,2),Planning!$A$3:$DA$3,0),4,1,"Planning"),1)) -> ADJ84EP | D11: =IF(ISERROR(SMALL(INDIRECT(CONCATENATE(ADDRESS(126,MATCH($A11,Planning!$A$7:$DA$7,0),4,1,"Planning"),":",ADDRESS(132,MATCH($A11,Planning!$A$7:$DA$7,0),4,1)),1),COLUMN()-1)),"",INDIRECT(ADDRESS(SMALL(INDIRECT(CONCATENATE(ADDRESS(126,MATCH($A11,Planning!$A$7:$DA$7,0),4,1,"Planning"),":",ADDRESS(132,MATCH($A11,Planning!$A$7:$DA$7,0),4,1)),1),COLUMN()-1),MATCH(WEEKNUM($A11,2),Planning!$A$3:$DA$3,0),4,1,"Planning"),1)) -> HTICJ24 | E11: =IF(ISERROR(SMALL(INDIRECT(CONCATENATE(ADDRESS(126,MATCH($A11,Planning!$A$7:$DA$7,0),4,1,"Planning"),":",ADDRESS(132,MATCH($A11,Planning!$A$7:$DA$7,0),4,1)),1),COLUMN()-1)),"",INDIRECT(ADDRESS(SMALL(INDIRECT(CONCATENATE(ADDRESS(126,MATCH($A11,Planning!$A$7:$DA$7,0),4,1,"Planning"),":",ADDRESS(132,MATCH($A11,Planning!$A$7:$DA$7,0),4,1)),1),COLUMN()-1),MATCH(WEEKNUM($A11,2),Planning!$A$3:$DA$3,0),4,1,"Planning"),1)) -> NSA11
A12: 43769 | B12: =IF(ISERROR(SMALL(INDIRECT(CONCATENATE(ADDRESS(126,MATCH($A12,Planning!$A$7:$DA$7,0),4,1,"Planning"),":",ADDRESS(132,MATCH($A12,Planning!$A$7:$DA$7,0),4,1)),1),COLUMN()-1)),"",INDIRECT(ADDRESS(SMALL(INDIRECT(CONCATENATE(ADDRESS(126,MATCH($A12,Planning!$A$7:$DA$7,0),4,1,"Planning"),":",ADDRESS(132,MATCH($A12,Planning!$A$7:$DA$7,0),4,1)),1),COLUMN()-1),MATCH(WEEKNUM($A12,2),Planning!$A$3:$DA$3,0),4,1,"Planning"),1)) -> NNS62RC | C12: =IF(ISERROR(SMALL(INDIRECT(CONCATENATE(ADDRESS(126,MATCH($A12,Planning!$A$7:$DA$7,0),4,1,"Planning"),":",ADDRESS(132,MATCH($A12,Planning!$A$7:$DA$7,0),4,1)),1),COLUMN()-1)),"",INDIRECT(ADDRESS(SMALL(INDIRECT(CONCATENATE(ADDRESS(126,MATCH($A12,Planning!$A$7:$DA$7,0),4,1,"Planning"),":",ADDRESS(132,MATCH($A12,Planning!$A$7:$DA$7,0),4,1)),1),COLUMN()-1),MATCH(WEEKNUM($A12,2),Planning!$A$3:$DA$3,0),4,1,"Planning"),1)) | D12: =IF(ISERROR(SMALL(INDIRECT(CONCATENATE(ADDRESS(126,MATCH($A12,Planning!$A$7:$DA$7,0),4,1,"Planning"),":",ADDRESS(132,MATCH($A12,Planning!$A$7:$DA$7,0),4,1)),1),COLUMN()-1)),"",INDIRECT(ADDRESS(SMALL(INDIRECT(CONCATENATE(ADDRESS(126,MATCH($A12,Planning!$A$7:$DA$7,0),4,1,"Planning"),":",ADDRESS(132,MATCH($A12,Planning!$A$7:$DA$7,0),4,1)),1),COLUMN()-1),MATCH(WEEKNUM($A12,2),Planning!$A$3:$DA$3,0),4,1,"Planning"),1)) | E12: =IF(ISERROR(SMALL(INDIRECT(CONCATENATE(ADDRESS(126,MATCH($A12,Planning!$A$7:$DA$7,0),4,1,"Planning"),":",ADDRESS(132,MATCH($A12,Planning!$A$7:$DA$7,0),4,1)),1),COLUMN()-1)),"",INDIRECT(ADDRESS(SMALL(INDIRECT(CONCATENATE(ADDRESS(126,MATCH($A12,Planning!$A$7:$DA$7,0),4,1,"Planning"),":",ADDRESS(132,MATCH($A12,Planning!$A$7:$DA$7,0),4,1)),1),COLUMN()-1),MATCH(WEEKNUM($A12,2),Planning!$A$3:$DA$3,0),4,1,"Planning"),1))
A13: 43770 | B13: =IF(ISERROR(SMALL(INDIRECT(CONCATENATE(ADDRESS(126,MATCH($A13,Planning!$A$7:$DA$7,0),4,1,"Planning"),":",ADDRESS(132,MATCH($A13,Planning!$A$7:$DA$7,0),4,1)),1),COLUMN()-1)),"",INDIRECT(ADDRESS(SMALL(INDIRECT(CONCATENATE(ADDRESS(126,MATCH($A13,Planning!$A$7:$DA$7,0),4,1,"Planning"),":",ADDRESS(132,MATCH($A13,Planning!$A$7:$DA$7,0),4,1)),1),COLUMN()-1),MATCH(WEEKNUM($A13,2),Planning!$A$3:$DA$3,0),4,1,"Planning"),1)) | C13: =IF(ISERROR(SMALL(INDIRECT(CONCATENATE(ADDRESS(126,MATCH($A13,Planning!$A$7:$DA$7,0),4,1,"Planning"),":",ADDRESS(132,MATCH($A13,Planning!$A$7:$DA$7,0),4,1)),1),COLUMN()-1)),"",INDIRECT(ADDRESS(SMALL(INDIRECT(CONCATENATE(ADDRESS(126,MATCH($A13,Planning!$A$7:$DA$7,0),4,1,"Planning"),":",ADDRESS(132,MATCH($A13,Planning!$A$7:$DA$7,0),4,1)),1),COLUMN()-1),MATCH(WEEKNUM($A13,2),Planning!$A$3:$DA$3,0),4,1,"Planning"),1)) | D13: =IF(ISERROR(SMALL(INDIRECT(CONCATENATE(ADDRESS(126,MATCH($A13,Planning!$A$7:$DA$7,0),4,1,"Planning"),":",ADDRESS(132,MATCH($A13,Planning!$A$7:$DA$7,0),4,1)),1),COLUMN()-1)),"",INDIRECT(ADDRESS(SMALL(INDIRECT(CONCATENATE(ADDRESS(126,MATCH($A13,Planning!$A$7:$DA$7,0),4,1,"Planning"),":",ADDRESS(132,MATCH($A13,Planning!$A$7:$DA$7,0),4,1)),1),COLUMN()-1),MATCH(WEEKNUM($A13,2),Planning!$A$3:$DA$3,0),4,1,"Planning"),1)) | E13: =IF(ISERROR(SMALL(INDIRECT(CONCATENATE(ADDRESS(126,MATCH($A13,Planning!$A$7:$DA$7,0),4,1,"Planning"),":",ADDRESS(132,MATCH($A13,Planning!$A$7:$DA$7,0),4,1)),1),COLUMN()-1)),"",INDIRECT(ADDRESS(SMALL(INDIRECT(CONCATENATE(ADDRESS(126,MATCH($A13,Planning!$A$7:$DA$7,0),4,1,"Planning"),":",ADDRESS(132,MATCH($A13,Planning!$A$7:$DA$7,0),4,1)),1),COLUMN()-1),MATCH(WEEKNUM($A13,2),Planning!$A$3:$DA$3,0),4,1,"Planning"),1))
... A29: 43786 | B29: =IF(ISERROR(SMALL(INDIRECT(CONCATENATE(ADDRESS(126,MATCH($A29,Planning!$A$7:$DA$7,0),4,1,"Planning"),":",ADDRESS(132,MATCH($A29,Planning!$A$7:$DA$7,0),4,1)),1),COLUMN()-1)),"",INDIRECT(ADDRESS(SMALL(INDIRECT(CONCATENATE(ADDRESS(126,MATCH($A29,Planning!$A$7:$DA$7,0),4,1,"Planning"),":",ADDRESS(132,MATCH($A29,Planning!$A$7:$DA$7,0),4,1)),1),COLUMN()-1),MATCH(WEEKNUM($A29,2),Planning!$A$3:$DA$3,0),4,1,"Planning"),1)) | C29: =IF(ISERROR(SMALL(INDIRECT(CONCATENATE(ADDRESS(126,MATCH($A29,Planning!$A$7:$DA$7,0),4,1,"Planning"),":",ADDRESS(132,MATCH($A29,Planning!$A$7:$DA$7,0),4,1)),1),COLUMN()-1)),"",INDIRECT(ADDRESS(SMALL(INDIRECT(CONCATENATE(ADDRESS(126,MATCH($A29,Planning!$A$7:$DA$7,0),4,1,"Planning"),":",ADDRESS(132,MATCH($A29,Planning!$A$7:$DA$7,0),4,1)),1),COLUMN()-1),MATCH(WEEKNUM($A29,2),Planning!$A$3:$DA$3,0),4,1,"Planning"),1)) | D29: =IF(ISERROR(SMALL(INDIRECT(CONCATENATE(ADDRESS(126,MATCH($A29,Planning!$A$7:$DA$7,0),4,1,"Planning"),":",ADDRESS(132,MATCH($A29,Planning!$A$7:$DA$7,0),4,1)),1),COLUMN()-1)),"",INDIRECT(ADDRESS(SMALL(INDIRECT(CONCATENATE(ADDRESS(126,MATCH($A29,Planning!$A$7:$DA$7,0),4,1,"Planning"),":",ADDRESS(132,MATCH($A29,Planning!$A$7:$DA$7,0),4,1)),1),COLUMN()-1),MATCH(WEEKNUM($A29,2),Planning!$A$3:$DA$3,0),4,1,"Planning"),1)) | E29: =IF(ISERROR(SMALL(INDIRECT(CONCATENATE(ADDRESS(126,MATCH($A29,Planning!$A$7:$DA$7,0),4,1,"Planning"),":",ADDRESS(132,MATCH($A29,Planning!$A$7:$DA$7,0),4,1)),1),COLUMN()-1)),"",INDIRECT(ADDRESS(SMALL(INDIRECT(CONCATENATE(ADDRESS(126,MATCH($A29,Planning!$A$7:$DA$7,0),4,1,"Planning"),":",ADDRESS(132,MATCH($A29,Planning!$A$7:$DA$7,0),4,1)),1),COLUMN()-1),MATCH(WEEKNUM($A29,2),Planning!$A$3:$DA$3,0),4,1,"Planning"),1))
