Workbook
Name alerte: Tableau2[ALERTE CONTRÔLE TECHNIQUE]
Name datealerte: Tableau2[PROCHAIN CONTRÔLE TECHNIQUE]

Sheet PAGE D'ACCEUIL
E2: BASE DE DONNEES GENERALES | L2: ANALYSE GRAPHIQUE
B12: COUT REPARATIONS | E12: COUT CARBURANT | H12: COUT LAVAGE | K12: COUTE PEAGE/PARKING
B23: SUIVI DES DEPENSES REPARATIONS | E23: RELEVES KILOMETRAGE | H23: SUIVI DES CONTRAVENTION | K23: FORMULAIRE REPARATION/CT

Sheet PARC 2017
A6: N° voiture | B6: Formation comptable | C6: UF | D6: LIEU | E6: Désignation du bien (marque désignation commerciale) | F6: Equipements spéciaux | G6: Nb Places | H6: N° d'identification (série-chassis) | I6: N° IMMAT | J6: PROCHAIN CONTRÔLE TECHNIQUE | K6: ALERTE CONTRÔLE TECHNIQUE | L6: DERNIERE REVISION | M6: PROCHAINE REVISON | N6: ALERTE REVISION | O6: NUMERO CARTE TOTAL | P6: CODE CARBURANT | Q6: Année | R6: Date de 1ère mise en service | S6: AGE DU VHL | T6: Mois | U6: Jour | V6: Age Réel du VHL | W6: Colonne3 | X6: KILOMETRAGE EN COURS 2017 | Y6: COMPTEUR VOITURE | Z6: COUT MAINTENANCE 2017 (Réparation,contrôle technique) | AA6: COUT CARBURANT 2017 | AB6: COUT LAVAGE 2017 | AC6: COUT PEAGE | AD6: ASSURANCES
A7: 1 | B7: EMTED | C7: 9833 | D7: EXTERIEUR GONESSE | E7: CITROEN C2 | F7: X | G7: 5 | I7: AF 559 VP | J7: 42904 | K7: =IF(DATE(YEAR(J7),MONTH(J7)-1,DAY(J7))<=TODAY(),"ALERTE",IF(DATE(YEAR(J7),MONTH(J7)-3,DAY(J7))<=TODAY(),"ATTENTION",IF(DATE(YEAR(J7),MONTH(J7)-48,DAY(J7))<=TODAY(),"OK"))) -> ALERTE | L7: 42185 | M7: 42917 | N7: =IF(DATE(YEAR(M7),MONTH(M7)-1,DAY(M7))<=TODAY(),"ALERTE",IF(DATE(YEAR(M7),MONTH(M7)-3,DAY(M7))<=TODAY(),"ATTENTION",IF(DATE(YEAR(M7),MONTH(M7)-48,DAY(M7))<=TODAY(),"OK"))) -> ALERTE | O7: 123 | P7: 0 103 | Q7: 2003 | R7: =#REF! -> #REF! | S7: =IF(DATEDIF(R7,W7,"y")=0,"",IF(DATEDIF(R7,W7,"y")=1,DATEDIF(R7,W7,"y")&" an",DATEDIF(R7,W7,"y")&" ans")) -> #REF! | T7: =IF(DATEDIF(R7,W7,"ym")=0,"",DATEDIF(R7,W7,"ym")&" mois") -> #REF! | U7: =IF(DATEDIF(R7,W7,"md")=0,"",IF(DATEDIF(R7,W7,"md")=1,DATEDIF(R7,W7,"md")&" jour",DATEDIF(R7,W7,"md")&" jours")) -> #REF! | V7: =TRIM(S7&" "&T7&" "&U7) -> #REF! | W7: =TODAY() -> 42890 | X7: =SUM('RELEVE KILOMETRAGE '!AC7) -> 412 | Z7: =SUM('COUT MAINTENANCE'!P7) -> 0 | AA7: =SUM('COUT CARBURANT'!AB6) -> 81.89 | AB7: =SUM('COUTE LAVAGE'!P7) -> 25 | AC7: =SUM('COUT PEAGE'!P7) -> 0 | AD7: 0
A8: 2 | B8: SECURITE | D8: CH GONESSE (POSTE DE SECURITE) | E8: LOGANE DACIA | F8: X | G8: 5 | I8: CH 696 XR | J8: 43293 | K8: =IF(DATE(YEAR(J8),MONTH(J8)-1,DAY(J8))<=TODAY(),"ALERTE",IF(DATE(YEAR(J8),MONTH(J8)-3,DAY(J8))<=TODAY(),"ATTENTION",IF(DATE(YEAR(J8),MONTH(J8)-48,DAY(J8))<=TODAY(),"OK"))) -> OK | L8: 42643 | M8: 43374 | N8: =IF(DATE(YEAR(M8),MONTH(M8)-1,DAY(M8))<=TODAY(),"ALERTE",IF(DATE(YEAR(M8),MONTH(M8)-3,DAY(M8))<=TODAY(),"ATTENTION",IF(DATE(YEAR(M8),MONTH(M8)-48,DAY(M8))<=TODAY(),"OK"))) -> OK | O8: 124 | P8: 0 212 | Q8: 2012 | R8: 41109 | S8: =IF(DATEDIF(R8,W8,"y")=0,"",IF(DATEDIF(R8,W8,"y")=1,DATEDIF(R8,W8,"y")&" an",DATEDIF(R8,W8,"y")&" ans")) -> 4 ans | T8: =IF(DATEDIF(R8,W8,"ym")=0,"",DATEDIF(R8,W8,"ym")&" mois") -> 10 mois | U8: =IF(DATEDIF(R8,W8,"md")=0,"",IF(DATEDIF(R8,W8,"md")=1,DATEDIF(R8,W8,"md")&" jour",DATEDIF(R8,W8,"md")&" jours")) -> 16 jours | V8: =TRIM(S8&" "&T8&" "&U8) -> 4 ans 10 mois 16 jours | W8: =TODAY() -> 42890 | X8: =SUM('RELEVE KILOMETRAGE '!AC8) -> 5684 | Z8: =SUM('COUT MAINTENANCE'!P8) -> 614.31 | AA8: =SUM('COUT CARBURANT'!AB7) -> 1001.52 | AB8: =SUM('COUTE LAVAGE'!P8) -> 0 | AC8: =SUM('COUT PEAGE'!P8) -> 0 | AD8: 0
A9: 3 | D9: CH GONESSE (PSY ADULTE) | E9: RENAULT TWINGO | F9: X | G9: 5 | I9: 26 CZK 95 | J9: 42933 | K9: =IF(DATE(YEAR(J9),MONTH(J9)-1,DAY(J9))<=TODAY(),"ALERTE",IF(DATE(YEAR(J9),MONTH(J9)-3,DAY(J9))<=TODAY(),"ATTENTION",IF(DATE(YEAR(J9),MONTH(J9)-48,DAY(J9))<=TODAY(),"OK"))) -> ATTENTION | L9: 41669 | M9: 42400 | N9: =IF(DATE(YEAR(M9),MONTH(M9)-1,DAY(M9))<=TODAY(),"ALERTE",IF(DATE(YEAR(M9),MONTH(M9)-3,DAY(M9))<=TODAY(),"ATTENTION",IF(DATE(YEAR(M9),MONTH(M9)-48,DAY(M9))<=TODAY(),"OK"))) -> ALERTE | O9: 66 | P9: 0 301 | Q9: 2001 | R9: 37146 | S9: =IF(DATEDIF(R9,W9,"y")=0,"",IF(DATEDIF(R9,W9,"y")=1,DATEDIF(R9,W9,"y")&" an",DATEDIF(R9,W9,"y")&" ans")) -> 15 ans | T9: =IF(DATEDIF(R9,W9,"ym")=0,"",DATEDIF(R9,W9,"ym")&" mois") -> 8 mois | U9: =IF(DATEDIF(R9,W9,"md")=0,"",IF(DATEDIF(R9,W9,"md")=1,DATEDIF(R9,W9,"md")&" jour",DATEDIF(R9,W9,"md")&" jours")) -> 23 jours | V9: =TRIM(S9&" "&T9&" "&U9) -> 15 ans 8 mois 23 jours | W9: =TODAY() -> 42890 | X9: =SUM('RELEVE KILOMETRAGE '!AC9) -> 574 | Z9: =SUM('COUT MAINTENANCE'!P9) -> 0 | AA9: =SUM('COUT CARBURANT'!AB8) -> 55.06 | AB9: =SUM('COUTE LAVAGE'!P9) -> 0 | AC9: =SUM('COUT PEAGE'!P9) -> 0 | AD9: 0
A10: 4 | B10: PEDO PSYCHATRIE | C10: 8822 | D10: CH GONESSE (SERVICE TRANSPORT) | E10: CITROEN NEMO | F10: X | G10: 5 | I10: BV-109-QP | J10: 43006 | K10: =IF(DATE(YEAR(J10),MONTH(J10)-1,DAY(J10))<=TODAY(),"ALERTE",IF(DATE(YEAR(J10),MONTH(J10)-3,DAY(J10))<=TODAY(),"ATTENTION",IF(DATE(YEAR(J10),MONTH(J10)-48,DAY(J10))<=TODAY(),"OK"))) -> OK | L10: 42775 | M10: 43506 | N10: =IF(DATE(YEAR(M10),MONTH(M10)-1,DAY(M10))<=TODAY(),"ALERTE",IF(DATE(YEAR(M10),MONTH(M10)-3,DAY(M10))<=TODAY(),"ATTENTION",IF(DATE(YEAR(M10),MONTH(M10)-48,DAY(M10))<=TODAY(),"OK"))) -> OK | O10: 109 | P10: 0 411 | Q10: 2011 | R10: 40814 | S10: =IF(DATEDIF(R10,W10,"y")=0,"",IF(DATEDIF(R10,W10,"y")=1,DATEDIF(R10,W10,"y")&" an",DATEDIF(R10,W10,"y")&" ans")) -> 5 ans | T10: =IF(DATEDIF(R10,W10,"ym")=0,"",DATEDIF(R10,W10,"ym")&" mois") -> 8 mois | U10: =IF(DATEDIF(R10,W10,"md")=0,"",IF(DATEDIF(R10,W10,"md")=1,DATEDIF(R10,W10,"md")&" jour",DATEDIF(R10,W10,"md")&" jours")) -> 7 jours | V10: =TRIM(S10&" "&T10&" "&U10) -> 5 ans 8 mois 7 jours | W10: =TODAY() -> 42890 | X10: =SUM('RELEVE KILOMETRAGE '!AC10) -> 2205 | Z10: =SUM('COUT MAINTENANCE'!P10) -> 258.55 | AA10: =SUM('COUT CARBURANT'!AB9) -> 191.09 | AB10: =SUM('COUTE LAVAGE'!P10) -> 0 | AC10: =SUM('COUT PEAGE'!P10) -> 0 | AD10: 0
A11: 5 | B11: ESPACE ADOS | C11: 8822 | D11: CH GONESSE (ESPACE ADOS) | E11: CITROEN NEMO | F11: X | G11: 5 | I11: BV-863-QN | J11: 43006 | K11: =IF(DATE(YEAR(J11),MONTH(J11)-1,DAY(J11))<=TODAY(),"ALERTE",IF(DATE(YEAR(J11),MONTH(J11)-3,DAY(J11))<=TODAY(),"ATTENTION",IF(DATE(YEAR(J11),MONTH(J11)-48,DAY(J11))<=TODAY(),"OK"))) -> OK | L11: 42514 | M11: 43245 | N11: =IF(DATE(YEAR(M11),MONTH(M11)-1,DAY(M11))<=TODAY(),"ALERTE",IF(DATE(YEAR(M11),MONTH(M11)-3,DAY(M11))<=TODAY(),"ATTENTION",IF(DATE(YEAR(M11),MONTH(M11)-48,DAY(M11))<=TODAY(),"OK"))) -> OK | O11: 110 | P11: 0 511 | Q11: 2011 | R11: 40814 | S11: =IF(DATEDIF(R11,W11,"y")=0,"",IF(DATEDIF(R11,W11,"y")=1,DATEDIF(R11,W11,"y")&" an",DATEDIF(R11,W11,"y")&" ans")) -> 5 ans | T11: =IF(DATEDIF(R11,W11,"ym")=0,"",DATEDIF(R11,W11,"ym")&" mois") -> 8 mois | U11: =IF(DATEDIF(R11,W11,"md")=0,"",IF(DATEDIF(R11,W11,"md")=1,DATEDIF(R11,W11,"md")&" jour",DATEDIF(R11,W11,"md")&" jours")) -> 7 jours | V11: =TRIM(S11&" "&T11&" "&U11) -> 5 ans 8 mois 7 jours | W11: =TODAY() -> 42890 | X11: =SUM('RELEVE KILOMETRAGE '!AC11) -> 1653 | Z11: =SUM('COUT MAINTENANCE'!P11) -> 0 | AA11: =SUM('COUT CARBURANT'!AB10) -> 171.7 | AB11: =SUM('COUTE LAVAGE'!P11) -> 0 | AC11: =SUM('COUT PEAGE'!P11) -> 0 | AD11: 0
A12: 6 | B12: POOL PRÊT TRANSPORT | C12: 1130 | D12: CH GONESSE (SERVICE TRANSPORT) | E12: PEUGEOT 207 | F12: X | G12: 5 | I12: CX-219-PV | J12: 42953 | K12: =IF(DATE(YEAR(J12),MONTH(J12)-1,DAY(J12))<=TODAY(),"ALERTE",IF(DATE(YEAR(J12),MONTH(J12)-3,DAY(J12))<=TODAY(),"ATTENTION",IF(DATE(YEAR(J12),MONTH(J12)-48,DAY(J12))<=TODAY(),"OK"))) -> ATTENTION | L12: 42551 | M12: 43282 | N12: =IF(DATE(YEAR(M12),MONTH(M12)-1,DAY(M12))<=TODAY(),"ALERTE",IF(DATE(YEAR(M12),MONTH(M12)-3,DAY(M12))<=TODAY(),"ATTENTION",IF(DATE(YEAR(M12),MONTH(M12)-48,DAY(M12))<=TODAY(),"OK"))) -> OK | O12: 114 | P12: 1607 | Q12: 2013 | R12: 41492 | S12: =IF(DATEDIF(R12,W12,"y")=0,"",IF(DATEDIF(R12,W12,"y")=1,DATEDIF(R12,W12,"y")&" an",DATEDIF(R12,W12,"y")&" ans")) -> 3 ans | T12: =IF(DATEDIF(R12,W12,"ym")=0,"",DATEDIF(R12,W12,"ym")&" mois") -> 9 mois | U12: =IF(DATEDIF(R12,W12,"md")=0,"",IF(DATEDIF(R12,W12,"md")=1,DATEDIF(R12,W12,"md")&" jour",DATEDIF(R12,W12,"md")&" jours")) -> 29 jours | V12: =TRIM(S12&" "&T12&" "&U12) -> 3 ans 9 mois 29 jours | W12: =TODAY() -> 42890 | X12: =SUM('RELEVE KILOMETRAGE '!AC12) -> 3742 | Z12: =SUM('COUT MAINTENANCE'!P12) -> 0 | AA12: =SUM('COUT CARBURANT'!AB11) -> 291.48 | AB12: =SUM('COUTE LAVAGE'!P12) -> 0 | AC12: =SUM('COUT PEAGE'!P12) -> 30.7 | AD12: 0
A13: 7 | B13: POOL PRÊT TRANSPORT | C13: 1130 | D13: CH GONESSE (SERVICE TRANSPORT) | E13: RENAULT CLIO | F13: X | G13: 5 | I13: DZ-583-TB | J13: 43878 | K13: =IF(DATE(YEAR(J13),MONTH(J13)-1,DAY(J13))<=TODAY(),"ALERTE",IF(DATE(YEAR(J13),MONTH(J13)-3,DAY(J13))<=TODAY(),"ATTENTION",IF(DATE(YEAR(J13),MONTH(J13)-48,DAY(J13))<=TODAY(),"OK"))) -> OK | L13: 42794 | M13: 43524 | N13: =IF(DATE(YEAR(M13),MONTH(M13)-1,DAY(M13))<=TODAY(),"ALERTE",IF(DATE(YEAR(M13),MONTH(M13)-3,DAY(M13))<=TODAY(),"ATTENTION",IF(DATE(YEAR(M13),MONTH(M13)-48,DAY(M13))<=TODAY(),"OK"))) -> OK | O13: 126 | P13: 0 713 | Q13: 2016 | R13: 42417 | S13: =IF(DATEDIF(R13,W13,"y")=0,"",IF(DATEDIF(R13,W13,"y")=1,DATEDIF(R13,W13,"y")&" an",DATEDIF(R13,W13,"y")&" ans")) -> 1 an | T13: =IF(DATEDIF(R13,W13,"ym")=0,"",DATEDIF(R13,W13,"ym")&" mois") -> 3 mois | U13: =IF(DATEDIF(R13,W13,"md")=0,"",IF(DATEDIF(R13,W13,"md")=1,DATEDIF(R13,W13,"md")&" jour",DATEDIF(R13,W13,"md")&" jours")) -> 18 jours | V13: =TRIM(S13&" "&T13&" "&U13) -> 1 an 3 mois 18 jours | W13: =TODAY() -> 42890 | X13: =SUM('RELEVE KILOMETRAGE '!AC13) -> 1945 | Z13: =SUM('COUT MAINTENANCE'!P13) -> 237.72 | AA13: =SUM('COUT CARBURANT'!AB12) -> 401.74 | AB13: =SUM('COUTE LAVAGE'!P13) -> 0 | AC13: =SUM('COUT PEAGE'!P13) -> 0 | AD13: 0
A14: 8 | B14: PSY 80 | D14: CH GONESSE (PSYCHATRIE ADULTES) | E14: RENAULT CLIO | F14: X | G14: 5 | I14: 665 ERR 95 | J14: 43190 | K14: =IF(DATE(YEAR(J14),MONTH(J14)-1,DAY(J14))<=TODAY(),"ALERTE",IF(DATE(YEAR(J14),MONTH(J14)-3,DAY(J14))<=TODAY(),"ATTENTION",IF(DATE(YEAR(J14),MONTH(J14)-48,DAY(J14))<=TODAY(),"OK"))) -> OK | L14: 42572 | M14: 43302 | N14: =IF(DATE(YEAR(M14),MONTH(M14)-1,DAY(M14))<=TODAY(),"ALERTE",IF(DATE(YEAR(M14),MONTH(M14)-3,DAY(M14))<=TODAY(),"ATTENTION",IF(DATE(YEAR(M14),MONTH(M14)-48,DAY(M14))<=TODAY(),"OK"))) -> OK | O14: 92 | P14: 0 808 | Q14: 2008 | R14: 39591 | S14: =IF(DATEDIF(R14,W14,"y")=0,"",IF(DATEDIF(R14,W14,"y")=1,DATEDIF(R14,W14,"y")&" an",DATEDIF(R14,W14,"y")&" ans")) -> 9 ans | T14: =IF(DATEDIF(R14,W14,"ym")=0,"",DATEDIF(R14,W14,"ym")&" mois") | U14: =IF(DATEDIF(R14,W14,"md")=0,"",IF(DATEDIF(R14,W14,"md")=1,DATEDIF(R14,W14,"md")&" jour",DATEDIF(R14,W14,"md")&" jours")) -> 12 jours | V14: =TRIM(S14&" "&T14&" "&U14) -> 9 ans 12 jours | W14: =TODAY() -> 42890 | X14: =SUM('RELEVE KILOMETRAGE '!AC14) -> 725 | Z14: =SUM('COUT MAINTENANCE'!P14) -> 0 | AA14: =SUM('COUT CARBURANT'!AB13) -> 53.29 | AB14: =SUM('COUTE LAVAGE'!P14) -> 0 | AC14: =SUM('COUT PEAGE'!P14) -> 0 | AD14: 0
A15: 9 | B15: PSY 80 | D15: CH GONESSE (PSYCHATRIE ADULTES) | E15: RENAULT CLIO | F15: X | G15: 5 | I15: 668 ERR 95 | J15: 43330 | K15: =IF(DATE(YEAR(J15),MONTH(J15)-1,DAY(J15))<=TODAY(),"ALERTE",IF(DATE(YEAR(J15),MONTH(J15)-3,DAY(J15))<=TODAY(),"ATTENTION",IF(DATE(YEAR(J15),MONTH(J15)-48,DAY(J15))<=TODAY(),"OK"))) -> OK | L15: 42613 | M15: 43343 | N15: =IF(DATE(YEAR(M15),MONTH(M15)-1,DAY(M15))<=TODAY(),"ALERTE",IF(DATE(YEAR(M15),MONTH(M15)-3,DAY(M15))<=TODAY(),"ATTENTION",IF(DATE(YEAR(M15),MONTH(M15)-48,DAY(M15))<=TODAY(),"OK"))) -> OK | O15: 93 | P15: 0 908 | Q15: 2008 | R15: 39591 | S15: =IF(DATEDIF(R15,W15,"y")=0,"",IF(DATEDIF(R15,W15,"y")=1,DATEDIF(R15,W15,"y")&" an",DATEDIF(R15,W15,"y")&" ans")) -> 9 ans | T15: =IF(DATEDIF(R15,W15,"ym")=0,"",DATEDIF(R15,W15,"ym")&" mois") | U15: =IF(DATEDIF(R15,W15,"md")=0,"",IF(DATEDIF(R15,W15,"md")=1,DATEDIF(R15,W15,"md")&" jour",DATEDIF(R15,W15,"md")&" jours")) -> 12 jours | V15: =TRIM(S15&" "&T15&" "&U15) -> 9 ans 12 jours | W15: =TODAY() -> 42890 | X15: =SUM('RELEVE KILOMETRAGE '!AC15) -> 1112 | Z15: =SUM('COUT MAINTENANCE'!P15) -> 0 | AA15: =SUM('COUT CARBURANT'!AB14) -> 44.62 | AB15: =SUM('COUTE LAVAGE'!P15) -> 0 | AC15: =SUM('COUT PEAGE'!P15) -> 0 | AD15: 0
A16: 10 | B16: MME CHEVROTEE | D16: EXTERIEUR GONESSE | E16: PEUGEOT 307 | F16: X | G16: 5 | I16: 902 DWG 95 | J16: 43454 | K16: =IF(DATE(YEAR(J16),MONTH(J16)-1,DAY(J16))<=TODAY(),"ALERTE",IF(DATE(YEAR(J16),MONTH(J16)-3,DAY(J16))<=TODAY(),"ATTENTION",IF(DATE(YEAR(J16),MONTH(J16)-48,DAY(J16))<=TODAY(),"OK"))) -> OK | L16: 42452 | M16: 43183 | N16: =IF(DATE(YEAR(M16),MONTH(M16)-1,DAY(M16))<=TODAY(),"ALERTE",IF(DATE(YEAR(M16),MONTH(M16)-3,DAY(M16))<=TODAY(),"ATTENTION",IF(DATE(YEAR(M16),MONTH(M16)-48,DAY(M16))<=TODAY(),"OK"))) -> OK | O16: 79 | P16: 1005 | Q16: 2005 | R16: 38379 | S16: =IF(DATEDIF(R16,W16,"y")=0,"",IF(DATEDIF(R16,W16,"y")=1,DATEDIF(R16,W16,"y")&" an",DATEDIF(R16,W16,"y")&" ans")) -> 12 ans | T16: =IF(DATEDIF(R16,W16,"ym")=0,"",DATEDIF(R16,W16,"ym")&" mois") -> 4 mois | U16: =IF(DATEDIF(R16,W16,"md")=0,"",IF(DATEDIF(R16,W16,"md")=1,DATEDIF(R16,W16,"md")&" jour",DATEDIF(R16,W16,"md")&" jours")) -> 8 jours | V16: =TRIM(S16&" "&T16&" "&U16) -> 12 ans 4 mois 8 jours | W16: =TODAY() -> 42890 | X16: =SUM('RELEVE KILOMETRAGE '!AC16) -> 814 | Z16: =SUM('COUT MAINTENANCE'!P16) -> 320.9 | AA16: =SUM('COUT CARBURANT'!AB15) -> 131.41 | AB16: =SUM('COUTE LAVAGE'!P16) -> 0 | AC16: =SUM('COUT PEAGE'!P16) -> 0 | AD16: 0
A17: 11 | E17: RENAULT CLIO | F17: X | G17: 5 | I17: 519 DCS 95 | J17: 43134 | K17: =IF(DATE(YEAR(J17),MONTH(J17)-1,DAY(J17))<=TODAY(),"ALERTE",IF(DATE(YEAR(J17),MONTH(J17)-3,DAY(J17))<=TODAY(),"ATTENTION",IF(DATE(YEAR(J17),MONTH(J17)-48,DAY(J17))<=TODAY(),"OK"))) -> OK | L17: 41659 | M17: 42390 | N17: =IF(DATE(YEAR(M17),MONTH(M17)-1,DAY(M17))<=TODAY(),"ALERTE",IF(DATE(YEAR(M17),MONTH(M17)-3,DAY(M17))<=TODAY(),"ATTENTION",IF(DATE(YEAR(M17),MONTH(M17)-48,DAY(M17))<=TODAY(),"OK"))) -> ALERTE | O17: 71 | P17: 1102 | Q17: 2002 | R17: 37342 | S17: =IF(DATEDIF(R17,W17,"y")=0,"",IF(DATEDIF(R17,W17,"y")=1,DATEDIF(R17,W17,"y")&" an",DATEDIF(R17,W17,"y")&" ans")) -> 15 ans | T17: =IF(DATEDIF(R17,W17,"ym")=0,"",DATEDIF(R17,W17,"ym")&" mois") -> 2 mois | U17: =IF(DATEDIF(R17,W17,"md")=0,"",IF(DATEDIF(R17,W17,"md")=1,DATEDIF(R17,W17,"md")&" jour",DATEDIF(R17,W17,"md")&" jours")) -> 8 jours | V17: =TRIM(S17&" "&T17&" "&U17) -> 15 ans 2 mois 8 jours | W17: =TODAY() -> 42890 | X17: =SUM('RELEVE KILOMETRAGE '!AC17) -> 1771 | Z17: =SUM('COUT MAINTENANCE'!P17) -> 253.87 | AA17: =SUM('COUT CARBURANT'!AB16) -> 164.93 | AB17: =SUM('COUTE LAVAGE'!P17) -> 0 | AC17: =SUM('COUT PEAGE'!P17) -> 0 | AD17: 0
A18: 12 | B18: POOL PRÊT TRANSPORT | C18: 1130 | D18: CH GONESSE (SERVICE TRANSPORT) | E18: RENAULT CLIO | F18: X | G18: 5 | I18: EG 461 JS | J18: 43489 | K18: =IF(DATE(YEAR(J18),MONTH(J18)-1,DAY(J18))<=TODAY(),"ALERTE",IF(DATE(YEAR(J18),MONTH(J18)-3,DAY(J18))<=TODAY(),"ATTENTION",IF(DATE(YEAR(J18),MONTH(J18)-48,DAY(J18))<=TODAY(),"OK"))) -> OK | L18: 42734 | M18: 43464 | N18: =IF(DATE(YEAR(M18),MONTH(M18)-1,DAY(M18))<=TODAY(),"ALERTE",IF(DATE(YEAR(M18),MONTH(M18)-3,DAY(M18))<=TODAY(),"ATTENTION",IF(DATE(YEAR(M18),MONTH(M18)-48,DAY(M18))<=TODAY(),"OK"))) -> OK | O18: 80 | P18: 1205 | Q18: 2005 | R18: 38422 | S18: =IF(DATEDIF(R18,W18,"y")=0,"",IF(DATEDIF(R18,W18,"y")=1,DATEDIF(R18,W18,"y")&" an",DATEDIF(R18,W18,"y")&" ans")) -> 12 ans | T18: =IF(DATEDIF(R18,W18,"ym")=0,"",DATEDIF(R18,W18,"ym")&" mois") -> 2 mois | U18: =IF(DATEDIF(R18,W18,"md")=0,"",IF(DATEDIF(R18,W18,"md")=1,DATEDIF(R18,W18,"md")&" jour",DATEDIF(R18,W18,"md")&" jours")) -> 24 jours | V18: =TRIM(S18&" "&T18&" "&U18) -> 12 ans 2 mois 24 jours | W18: =TODAY() -> 42890 | X18: =SUM('RELEVE KILOMETRAGE '!AC18) -> 3874 | Z18: =SUM('COUT MAINTENANCE'!P18) -> 618.2 | AA18: =SUM('COUT CARBURANT'!AB17) -> 207.51 | AB18: =SUM('COUTE LAVAGE'!P18) -> 0 | AC18: =SUM('COUT PEAGE'!P18) -> 0 | AD18: 0
A19: 13 | B19: POOL PRÊT TRANSPORT | C19: 1130 | D19: CH GONESSE (SERVICE TRANSPORT) | E19: RENAULT CLIO | F19: AUTOMATIQUE | G19: 5 | I19: ED 039 KX | J19: 43538 | K19: =IF(DATE(YEAR(J19),MONTH(J19)-1,DAY(J19))<=TODAY(),"ALERTE",IF(DATE(YEAR(J19),MONTH(J19)-3,DAY(J19))<=TODAY(),"ATTENTION",IF(DATE(YEAR(J19),MONTH(J19)-48,DAY(J19))<=TODAY(),"OK"))) -> OK | N19: =IF(DATE(YEAR(M19),MONTH(M19)-1,DAY(M19))<=TODAY(),"ALERTE",IF(DATE(YEAR(M19),MONTH(M19)-3,DAY(M19))<=TODAY(),"ATTENTION",IF(DATE(YEAR(M19),MONTH(M19)-48,DAY(M19))<=TODAY(),"OK"))) -> #NUM! | O19: 127 | P19: 1316 | Q19: 2016 | R19: 42614 | S19: =IF(DATEDIF(R19,W19,"y")=0,"",IF(DATEDIF(R19,W19,"y")=1,DATEDIF(R19,W19,"y")&" an",DATEDIF(R19,W19,"y")&" ans")) | T19: =IF(DATEDIF(R19,W19,"ym")=0,"",DATEDIF(R19,W19,"ym")&" mois") -> 9 mois | U19: =IF(DATEDIF(R19,W19,"md")=0,"",IF(DATEDIF(R19,W19,"md")=1,DATEDIF(R19,W19,"md")&" jour",DATEDIF(R19,W19,"md")&" jours")) -> 3 jours | V19: =TRIM(S19&" "&T19&" "&U19) -> 9 mois 3 jours | W19: =TODAY() -> 42890 | X19: =SUM('RELEVE KILOMETRAGE '!AC19) -> 2317 | Z19: =SUM('COUT MAINTENANCE'!P19) -> 0 | AA19: =SUM('COUT CARBURANT'!AB18) -> 207.41 | AB19: =SUM('COUTE LAVAGE'!P19) -> 0 | AC19: =SUM('COUT PEAGE'!P19) -> 0 | AD19: 0
A20: 14 | B20: RADIO PROTECTION | C20: 9272 | D20: CH GONESSE | E20: RENAULT CLIO | F20: X | G20: 5 | I20: AC-951-DF | J20: 42932 | K20: =IF(DATE(YEAR(J20),MONTH(J20)-1,DAY(J20))<=TODAY(),"ALERTE",IF(DATE(YEAR(J20),MONTH(J20)-3,DAY(J20))<=TODAY(),"ATTENTION",IF(DATE(YEAR(J20),MONTH(J20)-48,DAY(J20))<=TODAY(),"OK"))) -> ATTENTION | L20: 42775 | M20: 43505 | N20: =IF(DATE(YEAR(M20),MONTH(M20)-1,DAY(M20))<=TODAY(),"ALERTE",IF(DATE(YEAR(M20),MONTH(M20)-3,DAY(M20))<=TODAY(),"ATTENTION",IF(DATE(YEAR(M20),MONTH(M20)-48,DAY(M20))<=TODAY(),"OK"))) -> OK | O20: 103 | P20: 1409 | Q20: 2009 | R20: 40021 | S20: =IF(DATEDIF(R20,W20,"y")=0,"",IF(DATEDIF(R20,W20,"y")=1,DATEDIF(R20,W20,"y")&" an",DATEDIF(R20,W20,"y")&" ans")) -> 7 ans | T20: =IF(DATEDIF(R20,W20,"ym")=0,"",DATEDIF(R20,W20,"ym")&" mois") -> 10 mois | U20: =IF(DATEDIF(R20,W20,"md")=0,"",IF(DATEDIF(R20,W20,"md")=1,DATEDIF(R20,W20,"md")&" jour",DATEDIF(R20,W20,"md")&" jours")) -> 8 jours | V20: =TRIM(S20&" "&T20&" "&U20) -> 7 ans 10 mois 8 jours | W20: =TODAY() -> 42890 | X20: =SUM('RELEVE KILOMETRAGE '!AC20) -> 1570 | Z20: =SUM('COUT MAINTENANCE'!P20) -> 539.2 | AA20: =SUM('COUT CARBURANT'!AB19) -> 148.67 | AB20: =SUM('COUTE LAVAGE'!P20) -> 0 | AC20: =SUM('COUT PEAGE'!P20) -> 0 | AD20: 0
A21: 15 | E21: RENAULT KANGOO | F21: X | G21: 5 | I21: 744 DKW 95 | J21: 43211 | K21: =IF(DATE(YEAR(J21),MONTH(J21)-1,DAY(J21))<=TODAY(),"ALERTE",IF(DATE(YEAR(J21),MONTH(J21)-3,DAY(J21))<=TODAY(),"ATTENTION",IF(DATE(YEAR(J21),MONTH(J21)-48,DAY(J21))<=TODAY(),"OK"))) -> OK | L21: 42418 | M21: 43150 | N21: =IF(DATE(YEAR(M21),MONTH(M21)-1,DAY(M21))<=TODAY(),"ALERTE",IF(DATE(YEAR(M21),MONTH(M21)-3,DAY(M21))<=TODAY(),"ATTENTION",IF(DATE(YEAR(M21),MONTH(M21)-48,DAY(M21))<=TODAY(),"OK"))) -> OK | O21: 76 | P21: 1503 | Q21: 2003 | R21: 37767 | S21: =IF(DATEDIF(R21,W21,"y")=0,"",IF(DATEDIF(R21,W21,"y")=1,DATEDIF(R21,W21,"y")&" an",DATEDIF(R21,W21,"y")&" ans")) -> 14 ans | T21: =IF(DATEDIF(R21,W21,"ym")=0,"",DATEDIF(R21,W21,"ym")&" mois") | U21: =IF(DATEDIF(R21,W21,"md")=0,"",IF(DATEDIF(R21,W21,"md")=1,DATEDIF(R21,W21,"md")&" jour",DATEDIF(R21,W21,"md")&" jours")) -> 9 jours | V21: =TRIM(S21&" "&T21&" "&U21) -> 14 ans 9 jours | W21: =TODAY() -> 42890 | X21: =SUM('RELEVE KILOMETRAGE '!AC21) -> 643 | Z21: =SUM('COUT MAINTENANCE'!P21) -> 400.94 | AA21: =SUM('COUT CARBURANT'!AB20) -> 89.4 | AB21: =SUM('COUTE LAVAGE'!P21) -> 0 | AC21: =SUM('COUT PEAGE'!P21) -> 0 | AD21: 0
A22: 16 | B22: POOL PRÊT TRANSPORT | C22: 1130 | D22: CH GONESSE (SERVICE TRANSPORT) | E22: RENAULT KANGOO | F22: X | G22: 5 | I22: 963 CZL 95 | J22: 42933 | K22: =IF(DATE(YEAR(J22),MONTH(J22)-1,DAY(J22))<=TODAY(),"ALERTE",IF(DATE(YEAR(J22),MONTH(J22)-3,DAY(J22))<=TODAY(),"ATTENTION",IF(DATE(YEAR(J22),MONTH(J22)-48,DAY(J22))<=TODAY(),"OK"))) -> ATTENTION | L22: 42696 | M22: 43426 | N22: =IF(DATE(YEAR(M22),MONTH(M22)-1,DAY(M22))<=TODAY(),"ALERTE",IF(DATE(YEAR(M22),MONTH(M22)-3,DAY(M22))<=TODAY(),"ATTENTION",IF(DATE(YEAR(M22),MONTH(M22)-48,DAY(M22))<=TODAY(),"OK"))) -> OK | O22: 69 | P22: 1601 | Q22: 2001 | R22: 37153 | S22: =IF(DATEDIF(R22,W22,"y")=0,"",IF(DATEDIF(R22,W22,"y")=1,DATEDIF(R22,W22,"y")&" an",DATEDIF(R22,W22,"y")&" ans")) -> 15 ans | T22: =IF(DATEDIF(R22,W22,"ym")=0,"",DATEDIF(R22,W22,"ym")&" mois") -> 8 mois | U22: =IF(DATEDIF(R22,W22,"md")=0,"",IF(DATEDIF(R22,W22,"md")=1,DATEDIF(R22,W22,"md")&" jour",DATEDIF(R22,W22,"md")&" jours")) -> 16 jours | V22: =TRIM(S22&" "&T22&" "&U22) -> 15 ans 8 mois 16 jours | W22: =TODAY() -> 42890 | X22: =SUM('RELEVE KILOMETRAGE '!AC22) -> 1825 | Z22: =SUM('COUT MAINTENANCE'!P22) -> 204.22 | AA22: =SUM('COUT CARBURANT'!AB21) -> 226.53 | AB22: =SUM('COUTE LAVAGE'!P22) -> 0 | AC22: =SUM('COUT PEAGE'!P22) -> 15 | AD22: 0
A23: 17 | B23: UMJ | D23: CH GONESSE | E23: PEUGEOT 207 | F23: FEU BLEU | G23: 5 | I23: CX-235-PV | J23: 42953 | K23: =IF(DATE(YEAR(J23),MONTH(J23)-1,DAY(J23))<=TODAY(),"ALERTE",IF(DATE(YEAR(J23),MONTH(J23)-3,DAY(J23))<=TODAY(),"ATTENTION",IF(DATE(YEAR(J23),MONTH(J23)-48,DAY(J23))<=TODAY(),"OK"))) -> ATTENTION | L23: 42657 | N23: =IF(DATE(YEAR(M23),MONTH(M23)-1,DAY(M23))<=TODAY(),"ALERTE",IF(DATE(YEAR(M23),MONTH(M23)-3,DAY(M23))<=TODAY(),"ATTENTION",IF(DATE(YEAR(M23),MONTH(M23)-48,DAY(M23))<=TODAY(),"OK"))) -> #NUM! | O23: 125 | P23: 1713 | Q23: 2013 | R23: 41492 | S23: =IF(DATEDIF(R23,W23,"y")=0,"",IF(DATEDIF(R23,W23,"y")=1,DATEDIF(R23,W23,"y")&" an",DATEDIF(R23,W23,"y")&" ans")) -> 3 ans | T23: =IF(DATEDIF(R23,W23,"ym")=0,"",DATEDIF(R23,W23,"ym")&" mois") -> 9 mois | U23: =IF(DATEDIF(R23,W23,"md")=0,"",IF(DATEDIF(R23,W23,"md")=1,DATEDIF(R23,W23,"md")&" jour",DATEDIF(R23,W23,"md")&" jours")) -> 29 jours | V23: =TRIM(S23&" "&T23&" "&U23) -> 3 ans 9 mois 29 jours | W23: =TODAY() -> 42890 | X23: =SUM('RELEVE KILOMETRAGE '!AC23) -> 5870 | Z23: =SUM('COUT MAINTENANCE'!P23) -> 220.01 | AA23: =SUM('COUT CARBURANT'!AB22) -> 468.89 | AB23: =SUM('COUTE LAVAGE'!P23) -> 65 | AC23: =SUM('COUT PEAGE'!P23) -> 0 | AD23: 0
A24: 18 | B24: POOL PRÊT TRANSPORT | C24: 1130 | D24: CH GONESSE (SERVICE TRANSPORT) | E24: RENAULT CLIO | F24: X | G24: 5 | I24: AP-554-DH | J24: 43177 | K24: =IF(DATE(YEAR(J24),MONTH(J24)-1,DAY(J24))<=TODAY(),"ALERTE",IF(DATE(YEAR(J24),MONTH(J24)-3,DAY(J24))<=TODAY(),"ATTENTION",IF(DATE(YEAR(J24),MONTH(J24)-48,DAY(J24))<=TODAY(),"OK"))) -> OK | L24: 42580 | M24: 43310 | N24: =IF(DATE(YEAR(M24),MONTH(M24)-1,DAY(M24))<=TODAY(),"ALERTE",IF(DATE(YEAR(M24),MONTH(M24)-3,DAY(M24))<=TODAY(),"ATTENTION",IF(DATE(YEAR(M24),MONTH(M24)-48,DAY(M24))<=TODAY(),"OK"))) -> OK | O24: 4 | P24: 1810 | Q24: 2010 | R24: 40262 | S24: =IF(DATEDIF(R24,W24,"y")=0,"",IF(DATEDIF(R24,W24,"y")=1,DATEDIF(R24,W24,"y")&" an",DATEDIF(R24,W24,"y")&" ans")) -> 7 ans | T24: =IF(DATEDIF(R24,W24,"ym")=0,"",DATEDIF(R24,W24,"ym")&" mois") -> 2 mois | U24: =IF(DATEDIF(R24,W24,"md")=0,"",IF(DATEDIF(R24,W24,"md")=1,DATEDIF(R24,W24,"md")&" jour",DATEDIF(R24,W24,"md")&" jours")) -> 10 jours | V24: =TRIM(S24&" "&T24&" "&U24) -> 7 ans 2 mois 10 jours | W24: =TODAY() -> 42890 | X24: =SUM('RELEVE KILOMETRAGE '!AC24) -> 2695 | Z24: =SUM('COUT MAINTENANCE'!P24) -> 137.1 | AA24: =SUM('COUT CARBURANT'!AB23) -> 318.01 | AB24: =SUM('COUTE LAVAGE'!P24) -> 0 | AC24: =SUM('COUT PEAGE'!P24) -> 8.1 | AD24: 0
A25: 19 | B25: RADIO PROTECTION | C25: 9272 | D25: CH GONESSE | E25: RENAULT CLIO | F25: X | G25: 5 | I25: 974 ELR 95 | J25: 42918 | K25: =IF(DATE(YEAR(J25),MONTH(J25)-1,DAY(J25))<=TODAY(),"ALERTE",IF(DATE(YEAR(J25),MONTH(J25)-3,DAY(J25))<=TODAY(),"ATTENTION",IF(DATE(YEAR(J25),MONTH(J25)-48,DAY(J25))<=TODAY(),"OK"))) -> ALERTE | L25: 42450 | M25: 43180 | N25: =IF(DATE(YEAR(M25),MONTH(M25)-1,DAY(M25))<=TODAY(),"ALERTE",IF(DATE(YEAR(M25),MONTH(M25)-3,DAY(M25))<=TODAY(),"ATTENTION",IF(DATE(YEAR(M25),MONTH(M25)-48,DAY(M25))<=TODAY(),"OK"))) -> OK | O25: 90 | P25: 1907 | Q25: 2007 | R25: 39274 | S25: =IF(DATEDIF(R25,W25,"y")=0,"",IF(DATEDIF(R25,W25,"y")=1,DATEDIF(R25,W25,"y")&" an",DATEDIF(R25,W25,"y")&" ans")) -> 9 ans | T25: =IF(DATEDIF(R25,W25,"ym")=0,"",DATEDIF(R25,W25,"ym")&" mois") -> 10 mois | U25: =IF(DATEDIF(R25,W25,"md")=0,"",IF(DATEDIF(R25,W25,"md")=1,DATEDIF(R25,W25,"md")&" jour",DATEDIF(R25,W25,"md")&" jours")) -> 24 jours | V25: =TRIM(S25&" "&T25&" "&U25) -> 9 ans 10 mois 24 jours | W25: =TODAY() -> 42890 | X25: =SUM('RELEVE KILOMETRAGE '!AC25) -> 5000 | Z25: =SUM('COUT MAINTENANCE'!P25) -> 206.58 | AA25: =SUM('COUT CARBURANT'!AB24) -> 372.85 | AB25: =SUM('COUTE LAVAGE'!P25) -> 0 | AC25: =SUM('COUT PEAGE'!P25) -> 66.6 | AD25: 0
A26: 20 | B26: PSY 85 | E26: RENAULT CLIO | F26: X | G26: 5 | I26: 506 EXB 95 | J26: 43538 | K26: =IF(DATE(YEAR(J26),MONTH(J26)-1,DAY(J26))<=TODAY(),"ALERTE",IF(DATE(YEAR(J26),MONTH(J26)-3,DAY(J26))<=TODAY(),"ATTENTION",IF(DATE(YEAR(J26),MONTH(J26)-48,DAY(J26))<=TODAY(),"OK"))) -> OK | L26: 42030 | M26: 42762 | N26: =IF(DATE(YEAR(M26),MONTH(M26)-1,DAY(M26))<=TODAY(),"ALERTE",IF(DATE(YEAR(M26),MONTH(M26)-3,DAY(M26))<=TODAY(),"ATTENTION",IF(DATE(YEAR(M26),MONTH(M26)-48,DAY(M26))<=TODAY(),"OK"))) -> ALERTE | O26: 99 | P26: 2009 | Q26: 2009 | R26: 39883 | S26: =IF(DATEDIF(R26,W26,"y")=0,"",IF(DATEDIF(R26,W26,"y")=1,DATEDIF(R26,W26,"y")&" an",DATEDIF(R26,W26,"y")&" ans")) -> 8 ans | T26: =IF(DATEDIF(R26,W26,"ym")=0,"",DATEDIF(R26,W26,"ym")&" mois") -> 2 mois | U26: =IF(DATEDIF(R26,W26,"md")=0,"",IF(DATEDIF(R26,W26,"md")=1,DATEDIF(R26,W26,"md")&" jour",DATEDIF(R26,W26,"md")&" jours")) -> 24 jours | V26: =TRIM(S26&" "&T26&" "&U26) -> 8 ans 2 mois 24 jours | W26: =TODAY() -> 42890 | X26: =SUM('RELEVE KILOMETRAGE '!AC26) -> 2066 | Z26: =SUM('COUT MAINTENANCE'!P26) -> 149 | AA26: =SUM('COUT CARBURANT'!AB25) -> 173.17 | AB26: =SUM('COUTE LAVAGE'!P26) -> 35 | AC26: =SUM('COUT PEAGE'!P26) -> 0 | AD26: 0
A27: 21 | B27: POOL PRÊT TRANSPORT | C27: 1130 | D27: CH GONESSE (SERVICE TRANSPORT) | E27: DACIA SANDEROS | F27: AUTOMATIQUE | G27: 5 | I27: EE 649 SB | J27: 44126 | K27: =IF(DATE(YEAR(J27),MONTH(J27)-1,DAY(J27))<=TODAY(),"ALERTE",IF(DATE(YEAR(J27),MONTH(J27)-3,DAY(J27))<=TODAY(),"ATTENTION",IF(DATE(YEAR(J27),MONTH(J27)-48,DAY(J27))<=TODAY(),"OK"))) -> OK | N27: =IF(DATE(YEAR(M27),MONTH(M27)-1,DAY(M27))<=TODAY(),"ALERTE",IF(DATE(YEAR(M27),MONTH(M27)-3,DAY(M27))<=TODAY(),"ATTENTION",IF(DATE(YEAR(M27),MONTH(M27)-48,DAY(M27))<=TODAY(),"OK"))) -> #NUM! | O27: 128 | P27: 2113 | Q27: 2016 | R27: 42665 | S27: =IF(DATEDIF(R27,W27,"y")=0,"",IF(DATEDIF(R27,W27,"y")=1,DATEDIF(R27,W27,"y")&" an",DATEDIF(R27,W27,"y")&" ans")) | T27: =IF(DATEDIF(R27,W27,"ym")=0,"",DATEDIF(R27,W27,"ym")&" mois") -> 7 mois | U27: =IF(DATEDIF(R27,W27,"md")=0,"",IF(DATEDIF(R27,W27,"md")=1,DATEDIF(R27,W27,"md")&" jour",DATEDIF(R27,W27,"md")&" jours")) -> 13 jours | V27: =TRIM(S27&" "&T27&" "&U27) -> 7 mois 13 jours | W27: =TODAY() -> 42890 | X27: =SUM('RELEVE KILOMETRAGE '!AC27) -> 4994 | Z27: =SUM('COUT MAINTENANCE'!P27) -> 0 | AA27: =SUM('COUT CARBURANT'!AB26) -> 262.18 | AB27: =SUM('COUTE LAVAGE'!P27) -> 0 | AC27: =SUM('COUT PEAGE'!P27) -> 0 | AD27: 0
A28: 23 | B28: POOL PRÊT TRANSPORT | C28: 1130 | D28: CH GONESSE (SERVICE TRANSPORT) | E28: RENAULT CLIO | F28: X | G28: 5 | I28: 669 DNS 95 | J28: 43041 | K28: =IF(DATE(YEAR(J28),MONTH(J28)-1,DAY(J28))<=TODAY(),"ALERTE",IF(DATE(YEAR(J28),MONTH(J28)-3,DAY(J28))<=TODAY(),"ATTENTION",IF(DATE(YEAR(J28),MONTH(J28)-48,DAY(J28))<=TODAY(),"OK"))) -> OK | L28: 42696 | M28: 43426 | N28: =IF(DATE(YEAR(M28),MONTH(M28)-1,DAY(M28))<=TODAY(),"ALERTE",IF(DATE(YEAR(M28),MONTH(M28)-3,DAY(M28))<=TODAY(),"ATTENTION",IF(DATE(YEAR(M28),MONTH(M28)-48,DAY(M28))<=TODAY(),"OK"))) -> OK | O28: 77 | P28: 2303 | Q28: 2003 | R28: 37951 | S28: =IF(DATEDIF(R28,W28,"y")=0,"",IF(DATEDIF(R28,W28,"y")=1,DATEDIF(R28,W28,"y")&" an",DATEDIF(R28,W28,"y")&" ans")) -> 13 ans | T28: =IF(DATEDIF(R28,W28,"ym")=0,"",DATEDIF(R28,W28,"ym")&" mois") -> 6 mois | U28: =IF(DATEDIF(R28,W28,"md")=0,"",IF(DATEDIF(R28,W28,"md")=1,DATEDIF(R28,W28,"md")&" jour",DATEDIF(R28,W28,"md")&" jours")) -> 9 jours | V28: =TRIM(S28&" "&T28&" "&U28) -> 13 ans 6 mois 9 jours | W28: =TODAY() -> 42890 | X28: =SUM('RELEVE KILOMETRAGE '!AC28) -> 646 | Z28: =SUM('COUT MAINTENANCE'!P28) -> 0 | AA28: =SUM('COUT CARBURANT'!AB27) -> 82.71 | AB28: =SUM('COUTE LAVAGE'!P28) -> 25 | AC28: =SUM('COUT PEAGE'!P28) -> 0 | AD28: 0
A29: 24 | B29: POOL PRÊT TRANSPORT | C29: 1130 | D29: CH GONESSE (SERVICE TRANSPORT) | E29: RENAULT CLIO | F29: X | G29: 5 | I29: AP-592-DH | J29: 43176 | K29: =IF(DATE(YEAR(J29),MONTH(J29)-1,DAY(J29))<=TODAY(),"ALERTE",IF(DATE(YEAR(J29),MONTH(J29)-3,DAY(J29))<=TODAY(),"ATTENTION",IF(DATE(YEAR(J29),MONTH(J29)-48,DAY(J29))<=TODAY(),"OK"))) -> OK | L29: 42514 | M29: 43244 | N29: =IF(DATE(YEAR(M29),MONTH(M29)-1,DAY(M29))<=TODAY(),"ALERTE",IF(DATE(YEAR(M29),MONTH(M29)-3,DAY(M29))<=TODAY(),"ATTENTION",IF(DATE(YEAR(M29),MONTH(M29)-48,DAY(M29))<=TODAY(),"OK"))) -> OK | O29: 5 | P29: 2410 | Q29: 2010 | R29: 40262 | S29: =IF(DATEDIF(R29,W29,"y")=0,"",IF(DATEDIF(R29,W29,"y")=1,DATEDIF(R29,W29,"y")&" an",DATEDIF(R29,W29,"y")&" ans")) -> 7 ans | T29: =IF(DATEDIF(R29,W29,"ym")=0,"",DATEDIF(R29,W29,"ym")&" mois") -> 2 mois | U29: =IF(DATEDIF(R29,W29,"md")=0,"",IF(DATEDIF(R29,W29,"md")=1,DATEDIF(R29,W29,"md")&" jour",DATEDIF(R29,W29,"md")&" jours")) -> 10 jours | V29: =TRIM(S29&" "&T29&" "&U29) -> 7 ans 2 mois 10 jours | W29: =TODAY() -> 42890 | X29: =SUM('RELEVE KILOMETRAGE '!AC29) -> 4290 | Z29: =SUM('COUT MAINTENANCE'!P29) -> 0 | AA29: =SUM('COUT CARBURANT'!AB28) -> 286.66 | AB29: =SUM('COUTE LAVAGE'!P29) -> 0 | AC29: =SUM('COUT PEAGE'!P29) -> 7.2 | AD29: 0
A30: 25 | B30: MEDECIN GARDE NEURO | D30: CH GONESSE | E30: RENAULT CLIO | F30: FEU BLEU | G30: 5 | I30: CH-570-JB | J30: 43285 | K30: =IF(DATE(YEAR(J30),MONTH(J30)-1,DAY(J30))<=TODAY(),"ALERTE",IF(DATE(YEAR(J30),MONTH(J30)-3,DAY(J30))<=TODAY(),"ATTENTION",IF(DATE(YEAR(J30),MONTH(J30)-48,DAY(J30))<=TODAY(),"OK"))) -> OK | L30: 42815 | M30: 43545 | N30: =IF(DATE(YEAR(M30),MONTH(M30)-1,DAY(M30))<=TODAY(),"ALERTE",IF(DATE(YEAR(M30),MONTH(M30)-3,DAY(M30))<=TODAY(),"ATTENTION",IF(DATE(YEAR(M30),MONTH(M30)-48,DAY(M30))<=TODAY(),"OK"))) -> OK | O30: 111 | P30: 2512 | Q30: 2012 | R30: 41095 | S30: =IF(DATEDIF(R30,W30,"y")=0,"",IF(DATEDIF(R30,W30,"y")=1,DATEDIF(R30,W30,"y")&" an",DATEDIF(R30,W30,"y")&" ans")) -> 4 ans | T30: =IF(DATEDIF(R30,W30,"ym")=0,"",DATEDIF(R30,W30,"ym")&" mois") -> 10 mois | U30: =IF(DATEDIF(R30,W30,"md")=0,"",IF(DATEDIF(R30,W30,"md")=1,DATEDIF(R30,W30,"md")&" jour",DATEDIF(R30,W30,"md")&" jours")) -> 30 jours | V30: =TRIM(S30&" "&T30&" "&U30) -> 4 ans 10 mois 30 jours | W30: =TODAY() -> 42890 | X30: =SUM('RELEVE KILOMETRAGE '!AC30) -> 2581 | Z30: =SUM('COUT MAINTENANCE'!P30) -> 723.47 | AA30: =SUM('COUT CARBURANT'!AB29) -> 197.15 | AB30: =SUM('COUTE LAVAGE'!P30) -> 0 | AC30: =SUM('COUT PEAGE'!P30) -> 0 | AD30: 0
A31: 26 | B31: EMTED | C31: 9833 | E31: RENAULT CLIO | F31: X | G31: 5 | I31: 93 DWZ 95 | J31: 43491 | K31: =IF(DATE(YEAR(J31),MONTH(J31)-1,DAY(J31))<=TODAY(),"ALERTE",IF(DATE(YEAR(J31),MONTH(J31)-3,DAY(J31))<=TODAY(),"ATTENTION",IF(DATE(YEAR(J31),MONTH(J31)-48,DAY(J31))<=TODAY(),"OK"))) -> OK | L31: 42824 | M31: 43554 | N31: =IF(DATE(YEAR(M31),MONTH(M31)-1,DAY(M31))<=TODAY(),"ALERTE",IF(DATE(YEAR(M31),MONTH(M31)-3,DAY(M31))<=TODAY(),"ATTENTION",IF(DATE(YEAR(M31),MONTH(M31)-48,DAY(M31))<=TODAY(),"OK"))) -> OK | O31: 82 | P31: 2605 | Q31: 2005 | R31: 38422 | S31: =IF(DATEDIF(R31,W31,"y")=0,"",IF(DATEDIF(R31,W31,"y")=1,DATEDIF(R31,W31,"y")&" an",DATEDIF(R31,W31,"y")&" ans")) -> 12 ans | T31: =IF(DATEDIF(R31,W31,"ym")=0,"",DATEDIF(R31,W31,"ym")&" mois") -> 2 mois | U31: =IF(DATEDIF(R31,W31,"md")=0,"",IF(DATEDIF(R31,W31,"md")=1,DATEDIF(R31,W31,"md")&" jour",DATEDIF(R31,W31,"md")&" jours")) -> 24 jours | V31: =TRIM(S31&" "&T31&" "&U31) -> 12 ans 2 mois 24 jours | W31: =TODAY() -> 42890 | X31: =SUM('RELEVE KILOMETRAGE '!AC31) -> 832 | Z31: =SUM('COUT MAINTENANCE'!P31) -> 504.02 | AA31: =SUM('COUT CARBURANT'!AB30) -> 53.53 | AB31: =SUM('COUTE LAVAGE'!P31) -> 25 | AC31: =SUM('COUT PEAGE'!P31) -> 0 | AD31: 0
A32: 27 | B32: POOL PRÊT TRANSPORT | C32: 1130 | D32: CH GONESSE (SERVICE TRANSPORT) | E32: DACIA LOGANE | F32: 7 PLACES | G32: 7 | I32: 658 ENP 95 | J32: 43020 | K32: =IF(DATE(YEAR(J32),MONTH(J32)-1,DAY(J32))<=TODAY(),"ALERTE",IF(DATE(YEAR(J32),MONTH(J32)-3,DAY(J32))<=TODAY(),"ATTENTION",IF(DATE(YEAR(J32),MONTH(J32)-48,DAY(J32))<=TODAY(),"OK"))) -> OK | L32: 42613 | N32: =IF(DATE(YEAR(M32),MONTH(M32)-1,DAY(M32))<=TODAY(),"ALERTE",IF(DATE(YEAR(M32),MONTH(M32)-3,DAY(M32))<=TODAY(),"ATTENTION",IF(DATE(YEAR(M32),MONTH(M32)-48,DAY(M32))<=TODAY(),"OK"))) -> #NUM! | O32: 91 | P32: 2707 | Q32: 2007 | R32: 39401 | S32: =IF(DATEDIF(R32,W32,"y")=0,"",IF(DATEDIF(R32,W32,"y")=1,DATEDIF(R32,W32,"y")&" an",DATEDIF(R32,W32,"y")&" ans")) -> 9 ans | T32: =IF(DATEDIF(R32,W32,"ym")=0,"",DATEDIF(R32,W32,"ym")&" mois") -> 6 mois | U32: =IF(DATEDIF(R32,W32,"md")=0,"",IF(DATEDIF(R32,W32,"md")=1,DATEDIF(R32,W32,"md")&" jour",DATEDIF(R32,W32,"md")&" jours")) -> 20 jours | V32: =TRIM(S32&" "&T32&" "&U32) -> 9 ans 6 mois 20 jours | W32: =TODAY() -> 42890 | X32: =SUM('RELEVE KILOMETRAGE '!AC32) -> 2497 | Z32: =SUM('COUT MAINTENANCE'!P32) -> 0 | AA32: =SUM('COUT CARBURANT'!AB31) -> 229.49 | AB32: =SUM('COUTE LAVAGE'!P32) -> 0 | AC32: =SUM('COUT PEAGE'!P32) -> 50.2 | AD32: 0
A33: 28 | B33: POOL PRÊT TRANSPORT | C33: 1130 | D33: CH GONESSE (SERVICE TRANSPORT) | E33: RENAULT CLIO | F33: X | G33: 5 | I33: AP-637-DH | J33: 43175 | K33: =IF(DATE(YEAR(J33),MONTH(J33)-1,DAY(J33))<=TODAY(),"ALERTE",IF(DATE(YEAR(J33),MONTH(J33)-3,DAY(J33))<=TODAY(),"ATTENTION",IF(DATE(YEAR(J33),MONTH(J33)-48,DAY(J33))<=TODAY(),"OK"))) -> OK | L33: 42782 | M33: 43512 | N33: =IF(DATE(YEAR(M33),MONTH(M33)-1,DAY(M33))<=TODAY(),"ALERTE",IF(DATE(YEAR(M33),MONTH(M33)-3,DAY(M33))<=TODAY(),"ATTENTION",IF(DATE(YEAR(M33),MONTH(M33)-48,DAY(M33))<=TODAY(),"OK"))) -> OK | O33: 3 | P33: 2810 | Q33: 2010 | R33: 40262 | S33: =IF(DATEDIF(R33,W33,"y")=0,"",IF(DATEDIF(R33,W33,"y")=1,DATEDIF(R33,W33,"y")&" an",DATEDIF(R33,W33,"y")&" ans")) -> 7 ans | T33: =IF(DATEDIF(R33,W33,"ym")=0,"",DATEDIF(R33,W33,"ym")&" mois") -> 2 mois | U33: =IF(DATEDIF(R33,W33,"md")=0,"",IF(DATEDIF(R33,W33,"md")=1,DATEDIF(R33,W33,"md")&" jour",DATEDIF(R33,W33,"md")&" jours")) -> 10 jours | V33: =TRIM(S33&" "&T33&" "&U33) -> 7 ans 2 mois 10 jours | W33: =TODAY() -> 42890 | X33: =SUM('RELEVE KILOMETRAGE '!AC33) -> 4357 | Z33: =SUM('COUT MAINTENANCE'!P33) -> 1304.85 | AA33: =SUM('COUT CARBURANT'!AB32) -> 256.31 | AB33: =SUM('COUTE LAVAGE'!P33) -> 0 | AC33: =SUM('COUT PEAGE'!P33) -> 0 | AD33: 0
A34: 29 | B34: POOL PRÊT TRANSPORT | C34: 1130 | D34: CH GONESSE (SERVICE TRANSPORT) | E34: PEUGEOT 308 | F34: X | G34: 5 | I34: AP-678-DH | J34: 43177 | K34: =IF(DATE(YEAR(J34),MONTH(J34)-1,DAY(J34))<=TODAY(),"ALERTE",IF(DATE(YEAR(J34),MONTH(J34)-3,DAY(J34))<=TODAY(),"ATTENTION",IF(DATE(YEAR(J34),MONTH(J34)-48,DAY(J34))<=TODAY(),"OK"))) -> OK | L34: 42815 | N34: =IF(DATE(YEAR(M34),MONTH(M34)-1,DAY(M34))<=TODAY(),"ALERTE",IF(DATE(YEAR(M34),MONTH(M34)-3,DAY(M34))<=TODAY(),"ATTENTION",IF(DATE(YEAR(M34),MONTH(M34)-48,DAY(M34))<=TODAY(),"OK"))) -> #NUM! | O34: 2 | P34: 2910 | Q34: 2010 | R34: 40262 | S34: =IF(DATEDIF(R34,W34,"y")=0,"",IF(DATEDIF(R34,W34,"y")=1,DATEDIF(R34,W34,"y")&" an",DATEDIF(R34,W34,"y")&" ans")) -> 7 ans | T34: =IF(DATEDIF(R34,W34,"ym")=0,"",DATEDIF(R34,W34,"ym")&" mois") -> 2 mois | U34: =IF(DATEDIF(R34,W34,"md")=0,"",IF(DATEDIF(R34,W34,"md")=1,DATEDIF(R34,W34,"md")&" jour",DATEDIF(R34,W34,"md")&" jours")) -> 10 jours | V34: =TRIM(S34&" "&T34&" "&U34) -> 7 ans 2 mois 10 jours | W34: =TODAY() -> 42890 | X34: =SUM('RELEVE KILOMETRAGE '!AC34) -> 2087 | Z34: =SUM('COUT MAINTENANCE'!P34) -> 243.56 | AA34: =SUM('COUT CARBURANT'!AB33) -> 218.14 | AB34: =SUM('COUTE LAVAGE'!P34) -> 25 | AC34: =SUM('COUT PEAGE'!P34) -> 0 | AD34: 0
A35: 30 | B35: Equipe Mobile de Psy | C35: 3863 | E35: RENAULT CLIO | F35: X | G35: 5 | I35: AP-547-LB | J35: 43177 | K35: =IF(DATE(YEAR(J35),MONTH(J35)-1,DAY(J35))<=TODAY(),"ALERTE",IF(DATE(YEAR(J35),MONTH(J35)-3,DAY(J35))<=TODAY(),"ATTENTION",IF(DATE(YEAR(J35),MONTH(J35)-48,DAY(J35))<=TODAY(),"OK"))) -> OK | L35: 42598 | M35: 43328 | N35: =IF(DATE(YEAR(M35),MONTH(M35)-1,DAY(M35))<=TODAY(),"ALERTE",IF(DATE(YEAR(M35),MONTH(M35)-3,DAY(M35))<=TODAY(),"ATTENTION",IF(DATE(YEAR(M35),MONTH(M35)-48,DAY(M35))<=TODAY(),"OK"))) -> OK | O35: 117 | P35: 3010 | Q35: 2010 | R35: 40267 | S35: =IF(DATEDIF(R35,W35,"y")=0,"",IF(DATEDIF(R35,W35,"y")=1,DATEDIF(R35,W35,"y")&" an",DATEDIF(R35,W35,"y")&" ans")) -> 7 ans | T35: =IF(DATEDIF(R35,W35,"ym")=0,"",DATEDIF(R35,W35,"ym")&" mois") -> 2 mois | U35: =IF(DATEDIF(R35,W35,"md")=0,"",IF(DATEDIF(R35,W35,"md")=1,DATEDIF(R35,W35,"md")&" jour",DATEDIF(R35,W35,"md")&" jours")) -> 5 jours | V35: =TRIM(S35&" "&T35&" "&U35) -> 7 ans 2 mois 5 jours | W35: =TODAY() -> 42890 | X35: =SUM('RELEVE KILOMETRAGE '!AC35) -> 2240 | Z35: =SUM('COUT MAINTENANCE'!P35) -> 0 | AA35: =SUM('COUT CARBURANT'!AB34) -> 189.13 | AB35: =SUM('COUTE LAVAGE'!P35) -> 7.3 | AC35: =SUM('COUT PEAGE'!P35) -> 0 | AD35: 0
A36: 31 | B36: SERVICE TRANSPORT | C36: 1131 | D36: CH GONESSE (TRANSPORT SANITAIRE) | E36: RENAULT MASTER | F36: AMBULANCE | I36: 174 EFF 95 | J36: 43169 | K36: =IF(DATE(YEAR(J36),MONTH(J36)-1,DAY(J36))<=TODAY(),"ALERTE",IF(DATE(YEAR(J36),MONTH(J36)-3,DAY(J36))<=TODAY(),"ATTENTION",IF(DATE(YEAR(J36),MONTH(J36)-48,DAY(J36))<=TODAY(),"OK"))) -> OK | L36: 42643 | M36: 43374 | N36: =IF(DATE(YEAR(M36),MONTH(M36)-1,DAY(M36))<=TODAY(),"ALERTE",IF(DATE(YEAR(M36),MONTH(M36)-3,DAY(M36))<=TODAY(),"ATTENTION",IF(DATE(YEAR(M36),MONTH(M36)-48,DAY(M36))<=TODAY(),"OK"))) -> OK | O36: 86 | P36: 3106 | Q36: 2006 | R36: 38911 | S36: =IF(DATEDIF(R36,W36,"y")=0,"",IF(DATEDIF(R36,W36,"y")=1,DATEDIF(R36,W36,"y")&" an",DATEDIF(R36,W36,"y")&" ans")) -> 10 ans | T36: =IF(DATEDIF(R36,W36,"ym")=0,"",DATEDIF(R36,W36,"ym")&" mois") -> 10 mois | U36: =IF(DATEDIF(R36,W36,"md")=0,"",IF(DATEDIF(R36,W36,"md")=1,DATEDIF(R36,W36,"md")&" jour",DATEDIF(R36,W36,"md")&" jours")) -> 22 jours | V36: =TRIM(S36&" "&T36&" "&U36) -> 10 ans 10 mois 22 jours | W36: =TODAY() -> 42890 | X36: =SUM('RELEVE KILOMETRAGE '!AC36) -> 4888 | Z36: =SUM('COUT MAINTENANCE'!P36) -> 0 | AA36: =SUM('COUT CARBURANT'!AB35) -> 568.87 | AB36: =SUM('COUTE LAVAGE'!P36) -> 0 | AC36: =SUM('COUT PEAGE'!P36) -> 0 | AD36: 0
A37: 32 | B37: SERVICE TRANSPORT | C37: 1131 | D37: CH GONESSE (TRANSPORT SANITAIRE) | E37: TOYOTA Auris | F37: VSL | G37: 5 | I37: BR-966-DP | J37: 42907 | K37: =IF(DATE(YEAR(J37),MONTH(J37)-1,DAY(J37))<=TODAY(),"ALERTE",IF(DATE(YEAR(J37),MONTH(J37)-3,DAY(J37))<=TODAY(),"ATTENTION",IF(DATE(YEAR(J37),MONTH(J37)-48,DAY(J37))<=TODAY(),"OK"))) -> ALERTE | L37: 42789 | M37: 43519 | N37: =IF(DATE(YEAR(M37),MONTH(M37)-1,DAY(M37))<=TODAY(),"ALERTE",IF(DATE(YEAR(M37),MONTH(M37)-3,DAY(M37))<=TODAY(),"ATTENTION",IF(DATE(YEAR(M37),MONTH(M37)-48,DAY(M37))<=TODAY(),"OK"))) -> OK | O37: 106 | P37: 3211 | Q37: 2011 | R37: 40731 | S37: =IF(DATEDIF(R37,W37,"y")=0,"",IF(DATEDIF(R37,W37,"y")=1,DATEDIF(R37,W37,"y")&" an",DATEDIF(R37,W37,"y")&" ans")) -> 5 ans | T37: =IF(DATEDIF(R37,W37,"ym")=0,"",DATEDIF(R37,W37,"ym")&" mois") -> 10 mois | U37: =IF(DATEDIF(R37,W37,"md")=0,"",IF(DATEDIF(R37,W37,"md")=1,DATEDIF(R37,W37,"md")&" jour",DATEDIF(R37,W37,"md")&" jours")) -> 28 jours | V37: =TRIM(S37&" "&T37&" "&U37) -> 5 ans 10 mois 28 jours | W37: =TODAY() -> 42890 | X37: =SUM('RELEVE KILOMETRAGE '!AC37) -> 929 | Z37: =SUM('COUT MAINTENANCE'!P37) -> 911.34 | AA37: =SUM('COUT CARBURANT'!AB36) -> 54.71 | AB37: =SUM('COUTE LAVAGE'!P37) -> 0 | AC37: =SUM('COUT PEAGE'!P37) -> 0 | AD37: 0
A38: 33 | B38: SERVICE TRANSPORT | C38: 1131 | D38: CH GONESSE (TRANSPORT SANITAIRE) | E38: RENAULT MASTER | F38: AMBULANCE | I38: 824CNV95 | J38: 43075 | K38: =IF(DATE(YEAR(J38),MONTH(J38)-1,DAY(J38))<=TODAY(),"ALERTE",IF(DATE(YEAR(J38),MONTH(J38)-3,DAY(J38))<=TODAY(),"ATTENTION",IF(DATE(YEAR(J38),MONTH(J38)-48,DAY(J38))<=TODAY(),"OK"))) -> OK | L38: 42412 | M38: 43143 | N38: =IF(DATE(YEAR(M38),MONTH(M38)-1,DAY(M38))<=TODAY(),"ALERTE",IF(DATE(YEAR(M38),MONTH(M38)-3,DAY(M38))<=TODAY(),"ATTENTION",IF(DATE(YEAR(M38),MONTH(M38)-48,DAY(M38))<=TODAY(),"OK"))) -> OK | O38: 118 | P38: 3300 | Q38: 2000 | R38: 36612 | S38: =IF(DATEDIF(R38,W38,"y")=0,"",IF(DATEDIF(R38,W38,"y")=1,DATEDIF(R38,W38,"y")&" an",DATEDIF(R38,W38,"y")&" ans")) -> 17 ans | T38: =IF(DATEDIF(R38,W38,"ym")=0,"",DATEDIF(R38,W38,"ym")&" mois") -> 2 mois | U38: =IF(DATEDIF(R38,W38,"md")=0,"",IF(DATEDIF(R38,W38,"md")=1,DATEDIF(R38,W38,"md")&" jour",DATEDIF(R38,W38,"md")&" jours")) -> 8 jours | V38: =TRIM(S38&" "&T38&" "&U38) -> 17 ans 2 mois 8 jours | W38: =TODAY() -> 42890 | X38: =SUM('RELEVE KILOMETRAGE '!AC38) -> 325 | Z38: =SUM('COUT MAINTENANCE'!P38) -> 0 | AA38: =SUM('COUT CARBURANT'!AB37) -> 91.31 | AB38: =SUM('COUTE LAVAGE'!P38) -> 0 | AC38: =SUM('COUT PEAGE'!P38) -> 0 | AD38: 0
A39: 34 | B39: SERVICE TRANSPORT | C39: 1131 | D39: CH GONESSE (TRANSPORT SANITAIRE) | E39: OPEL MOVANO | F39: AMBULANCE | I39: 541 DDN 95 | J39: 43076 | K39: =IF(DATE(YEAR(J39),MONTH(J39)-1,DAY(J39))<=TODAY(),"ALERTE",IF(DATE(YEAR(J39),MONTH(J39)-3,DAY(J39))<=TODAY(),"ATTENTION",IF(DATE(YEAR(J39),MONTH(J39)-48,DAY(J39))<=TODAY(),"OK"))) -> OK | L39: 42766 | M39: 43496 | N39: =IF(DATE(YEAR(M39),MONTH(M39)-1,DAY(M39))<=TODAY(),"ALERTE",IF(DATE(YEAR(M39),MONTH(M39)-3,DAY(M39))<=TODAY(),"ATTENTION",IF(DATE(YEAR(M39),MONTH(M39)-48,DAY(M39))<=TODAY(),"OK"))) -> OK | O39: 72 | P39: 3402 | Q39: 2002 | R39: 37375 | S39: =IF(DATEDIF(R39,W39,"y")=0,"",IF(DATEDIF(R39,W39,"y")=1,DATEDIF(R39,W39,"y")&" an",DATEDIF(R39,W39,"y")&" ans")) -> 15 ans | T39: =IF(DATEDIF(R39,W39,"ym")=0,"",DATEDIF(R39,W39,"ym")&" mois") -> 1 mois | U39: =IF(DATEDIF(R39,W39,"md")=0,"",IF(DATEDIF(R39,W39,"md")=1,DATEDIF(R39,W39,"md")&" jour",DATEDIF(R39,W39,"md")&" jours")) -> 6 jours | V39: =TRIM(S39&" "&T39&" "&U39) -> 15 ans 1 mois 6 jours | W39: =TODAY() -> 42890 | X39: =SUM('RELEVE KILOMETRAGE '!AC39) -> 1138 | Z39: =SUM('COUT MAINTENANCE'!P39) -> 1079.74 | AA39: =SUM('COUT CARBURANT'!AB38) -> 179.28 | AB39: =SUM('COUTE LAVAGE'!P39) -> 0 | AC39: =SUM('COUT PEAGE'!P39) -> 0 | AD39: 0
A40: 35 | B40: SERVICE TRANSPORT | C40: 1131 | D40: CH GONESSE (TRANSPORT SANITAIRE) | E40: TOYOTA Auris | F40: VSL | G40: 5 | I40: BR 935 DP | J40: 42907 | K40: =IF(DATE(YEAR(J40),MONTH(J40)-1,DAY(J40))<=TODAY(),"ALERTE",IF(DATE(YEAR(J40),MONTH(J40)-3,DAY(J40))<=TODAY(),"ATTENTION",IF(DATE(YEAR(J40),MONTH(J40)-48,DAY(J40))<=TODAY(),"OK"))) -> ALERTE | L40: 42783 | M40: 43513 | N40: =IF(DATE(YEAR(M40),MONTH(M40)-1,DAY(M40))<=TODAY(),"ALERTE",IF(DATE(YEAR(M40),MONTH(M40)-3,DAY(M40))<=TODAY(),"ATTENTION",IF(DATE(YEAR(M40),MONTH(M40)-48,DAY(M40))<=TODAY(),"OK"))) -> OK | O40: 107 | P40: 3511 | Q40: 2011 | R40: 40731 | S40: =IF(DATEDIF(R40,W40,"y")=0,"",IF(DATEDIF(R40,W40,"y")=1,DATEDIF(R40,W40,"y")&" an",DATEDIF(R40,W40,"y")&" ans")) -> 5 ans | T40: =IF(DATEDIF(R40,W40,"ym")=0,"",DATEDIF(R40,W40,"ym")&" mois") -> 10 mois | U40: =IF(DATEDIF(R40,W40,"md")=0,"",IF(DATEDIF(R40,W40,"md")=1,DATEDIF(R40,W40,"md")&" jour",DATEDIF(R40,W40,"md")&" jours")) -> 28 jours | V40: =TRIM(S40&" "&T40&" "&U40) -> 5 ans 10 mois 28 jours | W40: =TODAY() -> 42890 | X40: =SUM('RELEVE KILOMETRAGE '!AC40) -> 1262 | Z40: =SUM('COUT MAINTENANCE'!P40) -> 188.82 | AA40: =SUM('COUT CARBURANT'!AB39) -> 104.48 | AB40: =SUM('COUTE LAVAGE'!P40) -> 0 | AC40: =SUM('COUT PEAGE'!P40) -> 6.8 | AD40: 0
A41: 36 | B41: SERVICE TRANSPORT | C41: 1131 | D41: CH GONESSE (TRANSPORT SANITAIRE) | E41: CITROEN XSARA | F41: VSL | G41: 5 | I41: 400 DKZ 95 | J41: 42907 | K41: =IF(DATE(YEAR(J41),MONTH(J41)-1,DAY(J41))<=TODAY(),"ALERTE",IF(DATE(YEAR(J41),MONTH(J41)-3,DAY(J41))<=TODAY(),"ATTENTION",IF(DATE(YEAR(J41),MONTH(J41)-48,DAY(J41))<=TODAY(),"OK"))) -> ALERTE | L41: 42247 | M41: 42979 | N41: =IF(DATE(YEAR(M41),MONTH(M41)-1,DAY(M41))<=TODAY(),"ALERTE",IF(DATE(YEAR(M41),MONTH(M41)-3,DAY(M41))<=TODAY(),"ATTENTION",IF(DATE(YEAR(M41),MONTH(M41)-48,DAY(M41))<=TODAY(),"OK"))) -> ATTENTION | O41: 120 | P41: 3603 | Q41: 2003 | R41: 37775 | S41: =IF(DATEDIF(R41,W41,"y")=0,"",IF(DATEDIF(R41,W41,"y")=1,DATEDIF(R41,W41,"y")&" an",DATEDIF(R41,W41,"y")&" ans")) -> 14 ans | T41: =IF(DATEDIF(R41,W41,"ym")=0,"",DATEDIF(R41,W41,"ym")&" mois") | U41: =IF(DATEDIF(R41,W41,"md")=0,"",IF(DATEDIF(R41,W41,"md")=1,DATEDIF(R41,W41,"md")&" jour",DATEDIF(R41,W41,"md")&" jours")) -> 1 jour | V41: =TRIM(S41&" "&T41&" "&U41) -> 14 ans 1 jour | W41: =TODAY() -> 42890 | X41: =SUM('RELEVE KILOMETRAGE '!AC41) -> 319 | Z41: =SUM('COUT MAINTENANCE'!P41) -> 23.88 | AA41: =SUM('COUT CARBURANT'!AB40) -> 41.26 | AB41: =SUM('COUTE LAVAGE'!P41) -> 0 | AC41: =SUM('COUT PEAGE'!P41) -> 0 | AD41: 0
A42: 37 | B42: SERVICE TRANSPORT | C42: 1131 | D42: CH GONESSE (TRANSPORT SANITAIRE) | E42: RENAULT KANGOO | F42: TPMR | I42: CK 657 WV | J42: 43399 | K42: =IF(DATE(YEAR(J42),MONTH(J42)-1,DAY(J42))<=TODAY(),"ALERTE",IF(DATE(YEAR(J42),MONTH(J42)-3,DAY(J42))<=TODAY(),"ATTENTION",IF(DATE(YEAR(J42),MONTH(J42)-48,DAY(J42))<=TODAY(),"OK"))) -> OK | L42: 42551 | M42: 43282 | N42: =IF(DATE(YEAR(M42),MONTH(M42)-1,DAY(M42))<=TODAY(),"ALERTE",IF(DATE(YEAR(M42),MONTH(M42)-3,DAY(M42))<=TODAY(),"ATTENTION",IF(DATE(YEAR(M42),MONTH(M42)-48,DAY(M42))<=TODAY(),"OK"))) -> OK | O42: 113 | P42: 3712 | Q42: 2012 | R42: 41171 | S42: =IF(DATEDIF(R42,W42,"y")=0,"",IF(DATEDIF(R42,W42,"y")=1,DATEDIF(R42,W42,"y")&" an",DATEDIF(R42,W42,"y")&" ans")) -> 4 ans | T42: =IF(DATEDIF(R42,W42,"ym")=0,"",DATEDIF(R42,W42,"ym")&" mois") -> 8 mois | U42: =IF(DATEDIF(R42,W42,"md")=0,"",IF(DATEDIF(R42,W42,"md")=1,DATEDIF(R42,W42,"md")&" jour",DATEDIF(R42,W42,"md")&" jours")) -> 16 jours | V42: =TRIM(S42&" "&T42&" "&U42) -> 4 ans 8 mois 16 jours | W42: =TODAY() -> 42890 | X42: =SUM('RELEVE KILOMETRAGE '!AC42) -> 677 | Z42: =SUM('COUT MAINTENANCE'!P42) -> 0 | AA42: =SUM('COUT CARBURANT'!AB41) -> 127.29 | AB42: =SUM('COUTE LAVAGE'!P42) -> 0 | AC42: =SUM('COUT PEAGE'!P42) -> 0 | AD42: 0
A43: 38 | B43: ECONOMAT | C43: 170 | D43: CH GONESSE (VAGUEMESTRE) | E43: RENAULT ZOE | F43: ELECTRIQUE | G43: 5 | I43: CY 576 ZX | J43: 43005 | K43: =IF(DATE(YEAR(J43),MONTH(J43)-1,DAY(J43))<=TODAY(),"ALERTE",IF(DATE(YEAR(J43),MONTH(J43)-3,DAY(J43))<=TODAY(),"ATTENTION",IF(DATE(YEAR(J43),MONTH(J43)-48,DAY(J43))<=TODAY(),"OK"))) -> OK | L43: 41943 | N43: =IF(DATE(YEAR(M43),MONTH(M43)-1,DAY(M43))<=TODAY(),"ALERTE",IF(DATE(YEAR(M43),MONTH(M43)-3,DAY(M43))<=TODAY(),"ATTENTION",IF(DATE(YEAR(M43),MONTH(M43)-48,DAY(M43))<=TODAY(),"OK"))) -> #NUM! | O43: VHL ELECTRIQUE | P43: VHL ELECTRIQUE | Q43: 2013 | R43: 41544 | S43: =IF(DATEDIF(R43,W43,"y")=0,"",IF(DATEDIF(R43,W43,"y")=1,DATEDIF(R43,W43,"y")&" an",DATEDIF(R43,W43,"y")&" ans")) -> 3 ans | T43: =IF(DATEDIF(R43,W43,"ym")=0,"",DATEDIF(R43,W43,"ym")&" mois") -> 8 mois | U43: =IF(DATEDIF(R43,W43,"md")=0,"",IF(DATEDIF(R43,W43,"md")=1,DATEDIF(R43,W43,"md")&" jour",DATEDIF(R43,W43,"md")&" jours")) -> 8 jours | V43: =TRIM(S43&" "&T43&" "&U43) -> 3 ans 8 mois 8 jours | W43: =TODAY() -> 42890 | X43: =SUM('RELEVE KILOMETRAGE '!AC43) -> 2213 | Z43: =SUM('COUT MAINTENANCE'!P43) -> 250 | AA43: =SUM('COUT CARBURANT'!AB42) -> 0 | AB43: =SUM('COUTE LAVAGE'!P43) -> 0 | AC43: =SUM('COUT PEAGE'!P43) -> 0 | AD43: 0
A44: 39 | B44: POOL PRÊT TRANSPORT | C44: 1130 | D44: CH GONESSE (SERVICE TRANSPORT) | E44: RENAULT ZOE | F44: ELECTRIQUE | G44: 5 | I44: DA 025 BN | J44: 43039 | K44: =IF(DATE(YEAR(J44),MONTH(J44)-1,DAY(J44))<=TODAY(),"ALERTE",IF(DATE(YEAR(J44),MONTH(J44)-3,DAY(J44))<=TODAY(),"ATTENTION",IF(DATE(YEAR(J44),MONTH(J44)-48,DAY(J44))<=TODAY(),"OK"))) -> OK | L44: 42514 | N44: =IF(DATE(YEAR(M44),MONTH(M44)-1,DAY(M44))<=TODAY(),"ALERTE",IF(DATE(YEAR(M44),MONTH(M44)-3,DAY(M44))<=TODAY(),"ATTENTION",IF(DATE(YEAR(M44),MONTH(M44)-48,DAY(M44))<=TODAY(),"OK"))) -> #NUM! | O44: VHL ELECTRIQUE | P44: VHL ELECTRIQUE | Q44: 2013 | R44: 41578 | S44: =IF(DATEDIF(R44,W44,"y")=0,"",IF(DATEDIF(R44,W44,"y")=1,DATEDIF(R44,W44,"y")&" an",DATEDIF(R44,W44,"y")&" ans")) -> 3 ans | T44: =IF(DATEDIF(R44,W44,"ym")=0,"",DATEDIF(R44,W44,"ym")&" mois") -> 7 mois | U44: =IF(DATEDIF(R44,W44,"md")=0,"",IF(DATEDIF(R44,W44,"md")=1,DATEDIF(R44,W44,"md")&" jour",DATEDIF(R44,W44,"md")&" jours")) -> 4 jours | V44: =TRIM(S44&" "&T44&" "&U44) -> 3 ans 7 mois 4 jours | W44: =TODAY() -> 42890 | X44: =SUM('RELEVE KILOMETRAGE '!AC44) -> 768 | Z44: =SUM('COUT MAINTENANCE'!P44) -> 0 | AA44: =SUM('COUT CARBURANT'!AB43) -> 0 | AB44: =SUM('COUTE LAVAGE'!P44) -> 0 | AC44: =SUM('COUT PEAGE'!P44) -> 0 | AD44: 0
A45: 40 | B45: SERVICE TRANSPORT | C45: 1131 | E45: RENAULT MASTER | F45: TPMR | I45: 903 DRP 95 | J45: 43190 | K45: =IF(DATE(YEAR(J45),MONTH(J45)-1,DAY(J45))<=TODAY(),"ALERTE",IF(DATE(YEAR(J45),MONTH(J45)-3,DAY(J45))<=TODAY(),"ATTENTION",IF(DATE(YEAR(J45),MONTH(J45)-48,DAY(J45))<=TODAY(),"OK"))) -> OK | L45: 42453 | N45: =IF(DATE(YEAR(M45),MONTH(M45)-1,DAY(M45))<=TODAY(),"ALERTE",IF(DATE(YEAR(M45),MONTH(M45)-3,DAY(M45))<=TODAY(),"ATTENTION",IF(DATE(YEAR(M45),MONTH(M45)-48,DAY(M45))<=TODAY(),"OK"))) -> #NUM! | O45: 119 | P45: 4004 | Q45: 2004 | R45: 38129 | S45: =IF(DATEDIF(R45,W45,"y")=0,"",IF(DATEDIF(R45,W45,"y")=1,DATEDIF(R45,W45,"y")&" an",DATEDIF(R45,W45,"y")&" ans")) -> 13 ans | T45: =IF(DATEDIF(R45,W45,"ym")=0,"",DATEDIF(R45,W45,"ym")&" mois") | U45: =IF(DATEDIF(R45,W45,"md")=0,"",IF(DATEDIF(R45,W45,"md")=1,DATEDIF(R45,W45,"md")&" jour",DATEDIF(R45,W45,"md")&" jours")) -> 13 jours | V45: =TRIM(S45&" "&T45&" "&U45) -> 13 ans 13 jours | W45: =TODAY() -> 42890 | X45: =SUM('RELEVE KILOMETRAGE '!AC45) -> 67 | Z45: =SUM('COUT MAINTENANCE'!P45) -> 14.32 | AA45: =SUM('COUT CARBURANT'!AB44) -> 0 | AB45: =SUM('COUTE LAVAGE'!P45) -> 0 | AC45: =SUM('COUT PEAGE'!P45) -> 0 | AD45: 0
...

Sheet ANALYSE

Sheet REFORME
A5: N° voiture | B5: Formation comptable | C5: UF | D5: LIEU | E5: Désignation du bien (marque désignation commerciale) | F5: Equipements spéciaux | G5: Nb places assises y compris le conducteur | H5: N° d'identification (série-chassis) | I5: Immatriculation | J5: DERNIER CONTRÔLE TECHNIQUE | K5: PROCHAIN CONTRÔLE TECHNIQUE | L5: DERNIERE REVISION | M5: PROCHAINE REVISON | N5: NUMERO CARTE TOTAL | O5: CODE CARBURANT | P5: Année | Q5: Date de 1ère mise en service | R5: Année | S5: Mois | T5: Jour | U5: Age Réel du VHL | W5: KILOMETRAGE EN COURS 2017 | X5: COMPTEUR VOITURE | Y5: COUT MAINTENANCE 2017 (Réparation,contrôle technique) | Z5: COUT CARBURANT 2017 | AA5: COUT LAVAGE 2017 | AB5: COUT PEAGE | AC5: ASSURANCES
A6: 48 | B6: SERVICE TRANSPORT | C6: 1130 | D6: CH GONESSE (TRANSPORT LOGISTIQUE) | E6: RENAULT MASTER | F6: HAYON | G6: 2 | I6: 167 EFF 95 | J6: VENDU LE 21 MAI 2017 A SIMONE DEMENAGEMENT | N6: 87 | O6: 4806 | P6: 2006 | Q6: 38931 | R6: =IF(DATEDIF(Q6,V6,"y")=0,"",IF(DATEDIF(Q6,V6,"y")=1,DATEDIF(Q6,V6,"y")&" an",DATEDIF(Q6,V6,"y")&" ans")) -> 10 ans | S6: =IF(DATEDIF(Q6,V6,"ym")=0,"",DATEDIF(Q6,V6,"ym")&" mois") -> 11 mois | T6: =IF(DATEDIF(Q6,V6,"md")=0,"",IF(DATEDIF(Q6,V6,"md")=1,DATEDIF(Q6,V6,"md")&" jour",DATEDIF(Q6,V6,"md")&" jours")) -> 14 jours | U6: =TRIM(R6&" "&S6&" "&T6) -> 10 ans 11 mois 14 jours | V6: 42932 | W6: =SUM('RELEVE KILOMETRAGE '!AC6) -> 0 | Y6: =SUM('COUT MAINTENANCE'!P6) -> 0 | Z6: =SUM('COUT CARBURANT'!AB5) -> 0 | AA6: =SUM('COUTE LAVAGE'!P6) -> 0 | AB6: =SUM('COUT PEAGE'!P6) -> 0 | AC6: 0

Sheet COUT MAINTENANCE
A5: N° VOITURE | B5: MARQUE | C5: IMMATRICULATION | D5: JANVIER | E5: FEVRIER | F5: MARS | G5: AVRIL | H5: MAI | I5: JUIN | J5: JUILLET | K5: AOUT | L5: SEPTEMBRE | M5: OCTOBRE | N5: NOVEMBRE | O5: DECEMBRE | P5: TOTAL
A6: N° VOITURE | B6: MARQUE | C6: IMMATRICULATION
A7: 1 | B7: CITROEN C2 | C7: AF 559 VP | D7: 0 | E7: 0 | F7: 0 | G7: 0 | H7: 0 | I7: 0 | J7: 0 | K7: 0 | L7: 0 | M7: 0 | N7: 0 | O7: 0 | P7: =SUM(D7:O7) -> 0
A8: 2 | B8: LOGANE DACIA | C8: CH 696 XR | D8: 0 | E8: 0 | F8: 0 | G8: 614.31 | H8: 0 | I8: 0 | J8: 0 | K8: 0 | L8: 0 | M8: 0 | N8: 0 | O8: 0 | P8: =SUM(D8:O8) -> 614.31
A9: 3 | B9: RENAULT TWINGO | C9: 26 CZK 95 | D9: 0 | E9: 0 | F9: 0 | G9: 0 | H9: 0 | I9: 0 | J9: 0 | K9: 0 | L9: 0 | M9: 0 | N9: 0 | O9: 0 | P9: =SUM(D9:O9) -> 0
A10: 4 | B10: CITROEN NEMO | C10: BV-109-QP | D10: 258.55 | E10: 0 | F10: 0 | G10: 0 | H10: 0 | I10: 0 | J10: 0 | K10: 0 | L10: 0 | M10: 0 | N10: 0 | O10: 0 | P10: =SUM(D10:O10) -> 258.55
A11: 5 | B11: CITROEN NEMO | C11: BV-863-QN | D11: 0 | E11: 0 | F11: 0 | G11: 0 | H11: 0 | I11: 0 | J11: 0 | K11: 0 | L11: 0 | M11: 0 | N11: 0 | O11: 0 | P11: =SUM(D11:O11) -> 0
A12: 6 | B12: PEUGEOT 207 | C12: CX-219-PV | D12: 0 | E12: 0 | F12: 0 | G12: 0 | H12: 0 | I12: 0 | J12: 0 | K12: 0 | L12: 0 | M12: 0 | N12: 0 | O12: 0 | P12: =SUM(D12:O12) -> 0
A13: 7 | B13: RENAULT CLIO | C13: DZ-583-TB | D13: 0 | E13: 237.72 | F13: 0 | G13: 0 | H13: 0 | I13: 0 | J13: 0 | K13: 0 | L13: 0 | M13: 0 | N13: 0 | O13: 0 | P13: =SUM(D13:O13) -> 237.72
A14: 8 | B14: RENAULT CLIO | C14: 665 ERR 95 | D14: 0 | E14: 0 | F14: 0 | G14: 0 | H14: 0 | I14: 0 | J14: 0 | K14: 0 | L14: 0 | M14: 0 | N14: 0 | O14: 0 | P14: =SUM(D14:O14) -> 0
A15: 9 | B15: RENAULT CLIO | C15: 668 ERR 95 | D15: 0 | E15: 0 | F15: 0 | G15: 0 | H15: 0 | I15: 0 | J15: 0 | K15: 0 | L15: 0 | M15: 0 | N15: 0 | O15: 0 | P15: =SUM(D15:O15) -> 0
A16: 10 | B16: PEUGEOT 307 | C16: 902 DWG 95 | D16: 320.9 | E16: 0 | F16: 0 | G16: 0 | H16: 0 | I16: 0 | J16: 0 | K16: 0 | L16: 0 | M16: 0 | N16: 0 | O16: 0 | P16: =SUM(D16:O16) -> 320.9
A17: 11 | B17: RENAULT CLIO | C17: 519 DCS 95 | D17: 253.87 | E17: 0 | F17: 0 | G17: 0 | H17: 0 | I17: 0 | J17: 0 | K17: 0 | L17: 0 | M17: 0 | N17: 0 | O17: 0 | P17: =SUM(D17:O17) -> 253.87
A18: 12 | B18: RENAULT CLIO | C18: EG 461 JS | D18: 152.3 | E18: 0 | F18: 465.9 | G18: 0 | H18: 0 | I18: 0 | J18: 0 | K18: 0 | L18: 0 | M18: 0 | N18: 0 | O18: 0 | P18: =SUM(D18:O18) -> 618.2
... A21: 15 | B21: RENAULT KANGOO | C21: 744 DKW 95 | D21: 0 | E21: 0 | F21: 400.94 | G21: 0 | H21: 0 | I21: 0 | J21: 0 | K21: 0 | L21: 0 | M21: 0 | N21: 0 | O21: 0 | P21: =SUM(D21:O21) -> 400.94
A22: 16 | B22: RENAULT KANGOO | C22: 963 CZL 95 | D22: 0 | E22: 45.6 | F22: 158.62 | H22: 0 | I22: 0 | J22: 0 | K22: 0 | L22: 0 | M22: 0 | N22: 0 | O22: 0 | P22: =SUM(D22:O22) -> 204.22
A23: 17 | B23: PEUGEOT 207 | C23: CX-235-PV | D23: 0 | E23: 0 | F23: 220.01 | G23: 0 | H23: 0 | I23: 0 | J23: 0 | K23: 0 | L23: 0 | M23: 0 | N23: 0 | O23: 0 | P23: =SUM(D23:O23) -> 220.01
A24: 18 | B24: RENAULT CLIO | C24: AP-554-DH | D24: 137.1 | E24: 0 | F24: 0 | G24: 0 | H24: 0 | I24: 0 | J24: 0 | K24: 0 | L24: 0 | M24: 0 | N24: 0 | O24: 0 | P24: =SUM(D24:O24) -> 137.1
A25: 19 | B25: RENAULT CLIO | C25: 974 ELR 95 | D25: 0 | E25: 0 | F25: 0 | G25: 206.58 | H25: 0 | I25: 0 | J25: 0 | K25: 0 | L25: 0 | M25: 0 | N25: 0 | O25: 0 | P25: =SUM(D25:O25) -> 206.58
A26: 20 | B26: RENAULT CLIO | C26: 506 EXB 95 | D26: 0 | E26: 0 | F26: 41.52 | G26: 107.48 | I26: 0 | J26: 0 | K26: 0 | L26: 0 | M26: 0 | N26: 0 | O26: 0 | P26: =SUM(D26:O26) -> 149
A27: 21 | B27: DACIA SANDEROS | C27: EE 649 SB | D27: 0 | E27: 0 | F27: 0 | G27: 0 | H27: 0 | I27: 0 | J27: 0 | K27: 0 | L27: 0 | M27: 0 | N27: 0 | O27: 0 | P27: =SUM(D27:O27) -> 0
A28: 23 | B28: RENAULT CLIO | C28: 669 DNS 95 | D28: 0 | E28: 0 | F28: 0 | G28: 0 | H28: 0 | I28: 0 | J28: 0 | K28: 0 | L28: 0 | M28: 0 | N28: 0 | O28: 0 | P28: =SUM(D28:O28) -> 0
A29: 24 | B29: RENAULT CLIO | C29: AP-592-DH | D29: 0 | E29: 0 | F29: 0 | G29: 0 | H29: 0 | I29: 0 | J29: 0 | K29: 0 | L29: 0 | M29: 0 | N29: 0 | O29: 0 | P29: =SUM(D29:O29) -> 0
A30: 25 | B30: RENAULT CLIO | C30: CH-570-JB | D30: 0 | E30: 0 | F30: 723.47 | G30: 0 | H30: 0 | I30: 0 | J30: 0 | K30: 0 | L30: 0 | M30: 0 | N30: 0 | O30: 0 | P30: =SUM(D30:O30) -> 723.47
A31: 26 | B31: RENAULT CLIO | C31: 93 DWZ 95 | D31: 61.7 | E31: 0 | F31: 442.32 | G31: 0 | H31: 0 | I31: 0 | J31: 0 | K31: 0 | L31: 0 | M31: 0 | N31: 0 | O31: 0 | P31: =SUM(D31:O31) -> 504.02
A32: 27 | B32: DACIA LOGANE | C32: 658 ENP 95 | D32: 0 | E32: 0 | F32: 0 | G32: 0 | H32: 0 | I32: 0 | J32: 0 | K32: 0 | L32: 0 | M32: 0 | N32: 0 | O32: 0 | P32: =SUM(D32:O32) -> 0
A33: 28 | B33: RENAULT CLIO | C33: AP-637-DH | D33: 216.95 | E33: 521.45 | F33: 566.45 | G33: 0 | H33: 0 | I33: 0 | J33: 0 | K33: 0 | L33: 0 | M33: 0 | N33: 0 | O33: 0 | P33: =SUM(D33:O33) -> 1304.85
A34: 29 | B34: PEUGEOT 308 | C34: AP-678-DH | D34: 0 | E34: 0 | F34: 243.56 | G34: 0 | H34: 0 | I34: 0 | J34: 0 | K34: 0 | L34: 0 | M34: 0 | N34: 0 | O34: 0 | P34: =SUM(D34:O34) -> 243.56
A35: 30 | B35: RENAULT CLIO | C35: AP-547-LB | D35: 0 | E35: 0 | F35: 0 | G35: 0 | H35: 0 | I35: 0 | J35: 0 | K35: 0 | L35: 0 | M35: 0 | N35: 0 | O35: 0 | P35: =SUM(D35:O35) -> 0
A36: 31 | B36: RENAULT MASTER | C36: 174 EFF 95 | D36: 0 | E36: 0 | F36: 0 | G36: 0 | H36: 0 | I36: 0 | J36: 0 | K36: 0 | L36: 0 | M36: 0 | N36: 0 | O36: 0 | P36: =SUM(D36:O36) -> 0
A37: 32 | B37: TOYOTA Auris | C37: BR-966-DP | D37: 0 | E37: 185.53 | F37: 0 | G37: 0 | H37: 725.81 | I37: 0 | J37: 0 | K37: 0 | L37: 0 | M37: 0 | N37: 0 | O37: 0 | P37: =SUM(D37:O37) -> 911.34
A38: 33 | B38: RENAULT MASTER | C38: 824CNV95 | D38: 0 | E38: 0 | F38: 0 | G38: 0 | H38: 0 | I38: 0 | J38: 0 | K38: 0 | L38: 0 | M38: 0 | N38: 0 | O38: 0 | P38: =SUM(D38:O38) -> 0
... A65: 67 | B65: IVECO | C65: Dj-901-LF | D65: 0 | E65: 0 | F65: 0 | G65: 0 | H65: 0 | I65: 0 | J65: 0 | K65: 0 | L65: 0 | M65: 0 | N65: 0 | O65: 0 | P65: =SUM(D65:O65) -> 0
D67: JANVIER | E67: FEVRIER | F67: MARS | G67: AVRIL | H67: MAI | I67: JUIN | J67: JUILLET | K67: AOUT | L67: SEPTEMBRE | M67: OCTOBRE | N67: NOVEMBRE | O67: DECEMBRE | P67: TOTAL
C69: TOTAL MOIS | D69: =SUM(D7:D65) -> 2505.02 | E69: =SUM(E7:E65) -> 4315.95 | F69: =SUM(F7:F65) -> 4873.34 | G69: =SUM(G7:G65) -> 3238.13 | H69: =SUM(H7:H65) -> 725.81 | I69: =SUM(I7:I65) -> 0 | J69: =SUM(J7:J65) -> 0 | K69: =SUM(K7:K65) -> 0 | ... P69: =SUM(P7:P65) -> 15658.25

Sheet COUT CARBURANT
D4: COUT | E4: LITRE | F4: COUT | G4: LITRE | H4: COUT | I4: LITRE | J4: COUT | K4: LITRE | L4: COUT | M4: LITRE | N4: COUT | O4: LITRE | P4: COUT | Q4: LITRE | R4: COUT | S4: LITRE | T4: COUT | U4: LITRE | V4: COUT | W4: LITRE | X4: COUT | Y4: LITRE | Z4: COUT | AA4: LITRE | AB4: TOTAL | AC4: TOTAL
A5: N° VOITURE | B5: MARQUE | C5: IMMATRICULATION | D5: JANVIER | E5: JANVIER | F5: FÉVRIER | G5: FEVRIER | H5: MARS | I5: MARS | J5: AVRIL | K5: AVRIL | L5: MAI | M5: MAI | N5: JUIN | O5: JUIN | P5: JUILLET | Q5: JUILLET | R5: AOUT | S5: AOUT | T5: SEPTEMBRE | U5: SEPTEMBRE | V5: OCTOBRE | W5: OCTOBRE | X5: NOVEMBRE | Y5: NOVEMBRE | Z5: DECEMBRE | AA5: DECEMBRE | AB5: COUT | AC5: LITRE CARB
A6: 1 | B6: CITROEN C2 | C6: AF 559 VP | D6: 41.51 | E6: 30.54 | F6: 0 | G6: 0 | H6: 40.38 | I6: 28.31 | J6: 0 | K6: 0 | L6: 0 | N6: 0 | P6: 0 | R6: 0 | T6: 0 | V6: 0 | X6: 0 | Z6: 0 | AB6: =SUM(D6,F6,H6,J6,L6,N6,P6,R6,T6,V6,X6,Z6) -> 81.89 | AC6: =SUM(E6,G6,I6,K6,M6,O6,Q6,U6,W6,Y6,AA6) -> 58.85
A7: 2 | B7: LOGANE DACIA | C7: CH 696 XR | D7: 234.1 | E7: 165.81 | F7: 264 | G7: 180.14 | H7: 272.84 | I7: 201.65 | J7: 230.58 | K7: 168.87 | L7: 0 | N7: 0 | P7: 0 | R7: 0 | T7: 0 | V7: 0 | X7: 0 | Z7: 0 | AB7: =SUM(D7,F7,H7,J7,L7,N7,P7,R7,T7,V7,X7,Z7) -> 1001.52 | AC7: =SUM(E7,G7,I7,K7,M7,O7,Q7,U7,W7,Y7,AA7) -> 716.47
A8: 3 | B8: RENAULT TWINGO | C8: 26 CZK 95 | D8: 0 | E8: 0 | F8: 0 | G8: 0 | H8: 0 | I8: 0 | J8: 55.06 | K8: 37.58 | L8: 0 | N8: 0 | P8: 0 | R8: 0 | T8: 0 | V8: 0 | X8: 0 | Z8: 0 | AB8: =SUM(D8,F8,H8,J8,L8,N8,P8,R8,T8,V8,X8,Z8) -> 55.06 | AC8: =SUM(E8,G8,I8,K8,M8,O8,Q8,U8,W8,Y8,AA8) -> 37.58
A9: 4 | B9: CITROEN NEMO | C9: BV-109-QP | D9: 44.57 | E9: 35.04 | F9: 39.04 | G9: 28.39 | H9: 40.09 | I9: 30 | J9: 67.39 | K9: 51.31 | L9: 0 | N9: 0 | P9: 0 | R9: 0 | T9: 0 | V9: 0 | X9: 0 | Z9: 0 | AB9: =SUM(D9,F9,H9,J9,L9,N9,P9,R9,T9,V9,X9,Z9) -> 191.09 | AC9: =SUM(E9,G9,I9,K9,M9,O9,Q9,U9,W9,Y9,AA9) -> 144.74
A10: 5 | B10: CITROEN NEMO | C10: BV-863-QN | D10: 0 | E10: 0 | F10: 41.76 | G10: 33.09 | H10: 89.46 | I10: 66.6 | J10: 40.48 | K10: 30.16 | L10: 0 | N10: 0 | P10: 0 | R10: 0 | T10: 0 | V10: 0 | X10: 0 | Z10: 0 | AB10: =SUM(D10,F10,H10,J10,L10,N10,P10,R10,T10,V10,X10,Z10) -> 171.7 | AC10: =SUM(E10,G10,I10,K10,M10,O10,Q10,U10,W10,Y10,AA10) -> 129.85
