Workbook

Sheet BD ARTICLES
A1: CLUB PARADISE
A5: BASE DE DONNEES
B6: Famille | C6: Sous-Famille | D6: Désignation | E6: U | F6: Délai
A7: COCL-0001 | B7: Conditionnement d'air | C7: Climatisation | D7: Baguette Brasure 2D | E7: UNITE
A8: COCL-0002 | B8: Conditionnement d'air | C8: Climatisation | D8: Baguette d'argent | E8: UNITE
A9: COCL-0003 | B9: Conditionnement d'air | C9: Climatisation | D9: Compresseur 3/4 HP Danfoss R404A | E9: UNITE
A10: COCL-0004 | B10: Conditionnement d'air | C10: Climatisation | D10: Filtre G4 | E10: METRE
A11: COCL-0005 | B11: Conditionnement d'air | C11: Climatisation | D11: Fréon 134 A FORAN 13,5KG | E11: UNITE
A12: COCL-0006 | B12: Conditionnement d'air | C12: Climatisation | D12: Fréon 404 A Foran 11 Kg | E12: UNITE
A13: COCL-0007 | B13: Conditionnement d'air | C13: Climatisation | D13: Fréon 410 Foran 11 Kg | E13: UNITE
A14: COCL-0008 | B14: Conditionnement d'air | C14: Climatisation | D14: Fréon R22 FORAN | E14: UNITE
A15: COCL-0009 | B15: Conditionnement d'air | C15: Climatisation | D15: Manchette souple | E15: UNITE
A16: COCL-0010 | B16: Conditionnement d'air | C16: Climatisation | D16: Poudre de baguette bronze | E16: UNITE
A17: COCL-0011 | B17: Conditionnement d'air | C17: Climatisation | D17: Recharge chalumeau boutane 190g | E17: UNITE
A18: COCL-0012 | B18: Conditionnement d'air | C18: Climatisation | D18: Rouleau cuivre 1/2 | E18: UNITE
... A89: ELAC-00066 | B89: Electricité | C89: Accessoire | D89: Starter switch de sécurité 4-65w | E89: UNITE
B90: Electricité | C90: Appareillage | D90: Bouton poussoir M/A | E90: UNITE
B91: Electricité | C91: Appareillage | D91: Cache trou électrique | E91: UNITE
B92: Electricité | C92: Appareillage | D92: Interrupteur à carte SIMON | E92: UNITE
B93: Electricité | C93: Appareillage | D93: Interrupteur à fil noir | E93: UNITE
B94: Electricité | C94: Appareillage | D94: Interrupteur a fil souple noir 2A | E94: UNITE
B95: Electricité | C95: Appareillage | D95: Interrupteur etanche | E95: UNITE
B96: Electricité | C96: Appareillage | D96: Interrupteur étanche apparent IP55 10A VA ET VIENT | E96: UNITE
B97: Electricité | C97: Appareillage | D97: Interrupteur étanche Ingelec | E97: UNITE
B98: Electricité | C98: Appareillage | D98: Interrupteur va et vien | E98: UNITE
B99: Electricité | C99: Appareillage | D99: Prise de courant 2P+T Simon 22 | E99: UNITE
B100: Electricité | C100: Appareillage | D100: PRISE étanche apparant 2p+terre gris | E100: UNITE
B101: Electricité | C101: Appareillage | D101: Prise etanche encastré 2p+t Ingelec marron | E101: UNITE
... B979: Soudure | C979: Fourniture | D979: Rouleau fil galvanisé | E979: UNITE

Sheet JOURNAL STOCKS
A1: CLUB PRADISE
A6: Journal de stock
A7: Référence | B7: Désignation | C7: Date du mouvement | D7: N° BL | E7: Fournisseur/Déppartement | F7: Entrées | G7: Sorties | H7: P.U | I7: Valeur Entrées | J7: Valeur sortie
A8: COCL-00001 | B8: =+VLOOKUP(A8:$A$2000,'BD ARTICLES'!A7:$F$1846,4) -> #N/A | C8: 42807 | D8: 0 | E8: CACED | F8: 5 | H8: 200 | I8: =+H8*F8 -> 1000 | J8: =+H8*G8 -> 0
A9: COCL-00002 | B9: =+VLOOKUP(A9:$A$2000,'BD ARTICLES'!A8:$F$1846,4) -> #N/A | C9: 42814 | D9: 1 | E9: TECHNIQUE | G9: 4 | H9: 420 | I9: =+H9*F9 -> 0 | J9: =+H9*G9 -> 1680
A10: COCL-00003 | B10: =+VLOOKUP(A10:$A$2000,'BD ARTICLES'!A9:$F$1846,4) -> #N/A | C10: 42824 | E10: SUD TRANSMISSION | F10: 2 | H10: 350 | I10: =+H10*F10 -> 700 | J10: =+H10*G10 -> 0
A11: COCL-00002 | B11: =+VLOOKUP(A11:$A$2000,'BD ARTICLES'!A10:$F$1846,4) -> #N/A | E11: =IF(ISERROR(VLOOKUP(C11,'BD ARTICLES'!$A$7:$B$155,2,0)),"",VLOOKUP(C11,'BD ARTICLES'!$A$7:$B$155,2,0)) | G11: 6 | H11: 420 | I11: =+H11*F11 -> 0 | J11: =+H11*G11 -> 2520
B12: =+VLOOKUP(A12:$A$2000,'BD ARTICLES'!A11:$F$1846,4) -> #N/A | E12: =IF(ISERROR(VLOOKUP(C12,'BD ARTICLES'!$A$7:$B$155,2,0)),"",VLOOKUP(C12,'BD ARTICLES'!$A$7:$B$155,2,0)) | F12: 1 | H12: 300 | I12: =+H12*F12 -> 300 | J12: =+H12*G12 -> 0
B13: =+VLOOKUP(A13:$A$2000,'BD ARTICLES'!A12:$F$1846,4) -> #N/A | E13: =IF(ISERROR(VLOOKUP(C13,'BD ARTICLES'!$A$7:$B$155,2,0)),"",VLOOKUP(C13,'BD ARTICLES'!$A$7:$B$155,2,0)) | I13: =+H13*F13 -> 0 | J13: =+H13*G13 -> 0
A14: COCL-00007 | B14: =+VLOOKUP(A14:$A$2000,'BD ARTICLES'!A13:$F$1846,4) -> #N/A | E14: =IF(ISERROR(VLOOKUP(C14,'BD ARTICLES'!$A$7:$B$155,2,0)),"",VLOOKUP(C14,'BD ARTICLES'!$A$7:$B$155,2,0)) | I14: =+H14*F14 -> 0 | J14: =+H14*G14 -> 0
B15: =+VLOOKUP(A15:$A$2000,'BD ARTICLES'!A14:$F$1846,4) -> #N/A | E15: =IF(ISERROR(VLOOKUP(C15,'BD ARTICLES'!$A$7:$B$155,2,0)),"",VLOOKUP(C15,'BD ARTICLES'!$A$7:$B$155,2,0)) | I15: =+H15*F15 -> 0 | J15: =+H15*G15 -> 0
B16: =+VLOOKUP(A16:$A$2000,'BD ARTICLES'!A15:$F$1846,4) -> #N/A | E16: =IF(ISERROR(VLOOKUP(C16,'BD ARTICLES'!$A$7:$B$155,2,0)),"",VLOOKUP(C16,'BD ARTICLES'!$A$7:$B$155,2,0)) | I16: =+H16*F16 -> 0 | J16: =+H16*G16 -> 0
B17: =+VLOOKUP(A17:$A$2000,'BD ARTICLES'!A16:$F$1846,4) -> #N/A | E17: =IF(ISERROR(VLOOKUP(C17,'BD ARTICLES'!$A$7:$B$155,2,0)),"",VLOOKUP(C17,'BD ARTICLES'!$A$7:$B$155,2,0)) | I17: =+H17*F17 -> 0 | J17: =+H17*G17 -> 0
B18: =+VLOOKUP(A18:$A$2000,'BD ARTICLES'!A17:$F$1846,4) -> #N/A | E18: =IF(ISERROR(VLOOKUP(C18,'BD ARTICLES'!$A$7:$B$155,2,0)),"",VLOOKUP(C18,'BD ARTICLES'!$A$7:$B$155,2,0)) | I18: =+H18*F18 -> 0 | J18: =+H18*G18 -> 0
B19: =+VLOOKUP(A19:$A$2000,'BD ARTICLES'!A18:$F$1846,4) -> #N/A | E19: =IF(ISERROR(VLOOKUP(C19,'BD ARTICLES'!$A$7:$B$155,2,0)),"",VLOOKUP(C19,'BD ARTICLES'!$A$7:$B$155,2,0)) | I19: =+H19*F19 -> 0 | J19: =+H19*G19 -> 0
B20: =+VLOOKUP(A20:$A$2000,'BD ARTICLES'!A19:$F$1846,4) -> #N/A | E20: =IF(ISERROR(VLOOKUP(C20,'BD ARTICLES'!$A$7:$B$155,2,0)),"",VLOOKUP(C20,'BD ARTICLES'!$A$7:$B$155,2,0)) | I20: =+H20*F20 -> 0 | J20: =+H20*G20 -> 0
B21: =+VLOOKUP(A21:$A$2000,'BD ARTICLES'!A20:$F$1846,4) -> #N/A | E21: =IF(ISERROR(VLOOKUP(C21,'BD ARTICLES'!$A$7:$B$155,2,0)),"",VLOOKUP(C21,'BD ARTICLES'!$A$7:$B$155,2,0)) | I21: =+H21*F21 -> 0 | J21: =+H21*G21 -> 0
B22: =+VLOOKUP(A22:$A$2000,'BD ARTICLES'!A21:$F$1846,4) -> #N/A | E22: =IF(ISERROR(VLOOKUP(C22,'BD ARTICLES'!$A$7:$B$155,2,0)),"",VLOOKUP(C22,'BD ARTICLES'!$A$7:$B$155,2,0)) | I22: =+H22*F22 -> 0 | J22: =+H22*G22 -> 0
B23: =+VLOOKUP(A23:$A$2000,'BD ARTICLES'!A22:$F$1846,4) -> #N/A | E23: =IF(ISERROR(VLOOKUP(C23,'BD ARTICLES'!$A$7:$B$155,2,0)),"",VLOOKUP(C23,'BD ARTICLES'!$A$7:$B$155,2,0)) | I23: =+H23*F23 -> 0 | J23: =+H23*G23 -> 0
B24: =+VLOOKUP(A24:$A$2000,'BD ARTICLES'!A23:$F$1846,4) -> #N/A | E24: =IF(ISERROR(VLOOKUP(C24,'BD ARTICLES'!$A$7:$B$155,2,0)),"",VLOOKUP(C24,'BD ARTICLES'!$A$7:$B$155,2,0)) | I24: =+H24*F24 -> 0 | J24: =+H24*G24 -> 0
B25: =+VLOOKUP(A25:$A$2000,'BD ARTICLES'!A24:$F$1846,4) -> #N/A | E25: =IF(ISERROR(VLOOKUP(C25,'BD ARTICLES'!$A$7:$B$155,2,0)),"",VLOOKUP(C25,'BD ARTICLES'!$A$7:$B$155,2,0)) | I25: =+H25*F25 -> 0 | J25: =+H25*G25 -> 0
B26: =+VLOOKUP(A26:$A$2000,'BD ARTICLES'!A25:$F$1846,4) -> #N/A | E26: =IF(ISERROR(VLOOKUP(C26,'BD ARTICLES'!$A$7:$B$155,2,0)),"",VLOOKUP(C26,'BD ARTICLES'!$A$7:$B$155,2,0)) | I26: =+H26*F26 -> 0 | J26: =+H26*G26 -> 0
... B50: =+VLOOKUP(A50:$A$2000,'BD ARTICLES'!A49:$F$1846,4) -> #N/A | E50: =IF(ISERROR(VLOOKUP(C50,'BD ARTICLES'!$A$7:$B$155,2,0)),"",VLOOKUP(C50,'BD ARTICLES'!$A$7:$B$155,2,0)) | I50: =+H50*F50 -> 0 | J50: =+H50*G50 -> 0
B51: =+VLOOKUP(A51:$A$2000,'BD ARTICLES'!A50:$F$1846,4) -> #N/A | I51: =+H51*F51 -> 0 | J51: =+H51*G51 -> 0
B52: =+VLOOKUP(A52:$A$2000,'BD ARTICLES'!A51:$F$1846,4) -> #N/A | I52: =+H52*F52 -> 0 | J52: =+H52*G52 -> 0
B53: =+VLOOKUP(A53:$A$2000,'BD ARTICLES'!A52:$F$1846,4) -> #N/A | I53: =+H53*F53 -> 0 | J53: =+H53*G53 -> 0
B54: =+VLOOKUP(A54:$A$2000,'BD ARTICLES'!A53:$F$1846,4) -> #N/A | I54: =+H54*F54 -> 0 | J54: =+H54*G54 -> 0
B55: =+VLOOKUP(A55:$A$2000,'BD ARTICLES'!A54:$F$1846,4) -> #N/A | I55: =+H55*F55 -> 0 | J55: =+H55*G55 -> 0
B56: =+VLOOKUP(A56:$A$2000,'BD ARTICLES'!A55:$F$1846,4) -> #N/A | I56: =+H56*F56 -> 0 | J56: =+H56*G56 -> 0
B57: =+VLOOKUP(A57:$A$2000,'BD ARTICLES'!A56:$F$1846,4) -> #N/A | I57: =+H57*F57 -> 0 | J57: =+H57*G57 -> 0
B58: =+VLOOKUP(A58:$A$2000,'BD ARTICLES'!A57:$F$1846,4) -> #N/A | I58: =+H58*F58 -> 0 | J58: =+H58*G58 -> 0
B59: =+VLOOKUP(A59:$A$2000,'BD ARTICLES'!A58:$F$1846,4) -> #N/A | I59: =+H59*F59 -> 0 | J59: =+H59*G59 -> 0
B60: =+VLOOKUP(A60:$A$2000,'BD ARTICLES'!A59:$F$1846,4) -> #N/A | I60: =+H60*F60 -> 0 | J60: =+H60*G60 -> 0
B61: =+VLOOKUP(A61:$A$2000,'BD ARTICLES'!A60:$F$1846,4) -> #N/A | I61: =+H61*F61 -> 0 | J61: =+H61*G61 -> 0
B62: =+VLOOKUP(A62:$A$2000,'BD ARTICLES'!A61:$F$1846,4) -> #N/A | I62: =+H62*F62 -> 0 | J62: =+H62*G62 -> 0
... B150: =+VLOOKUP(A150:$A$2000,'BD ARTICLES'!A149:$F$1846,4) -> #N/A | I150: =+H150*F150 -> 0 | J150: =+H150*G150 -> 0
B151: =+VLOOKUP(A151:$A$2000,'BD ARTICLES'!A150:$F$1846,4) -> #N/A | E151: =IF(ISERROR(VLOOKUP(C151,'BD ARTICLES'!$A$7:$B$155,2,0)),"",VLOOKUP(C151,'BD ARTICLES'!$A$7:$B$155,2,0)) | I151: =+H151*F151 -> 0 | J151: =+H151*G151 -> 0
B152: =+VLOOKUP(A152:$A$2000,'BD ARTICLES'!A151:$F$1846,4) -> #N/A | E152: =IF(ISERROR(VLOOKUP(C152,'BD ARTICLES'!$A$7:$B$155,2,0)),"",VLOOKUP(C152,'BD ARTICLES'!$A$7:$B$155,2,0)) | I152: =+H152*F152 -> 0 | J152: =+H152*G152 -> 0
B153: =+VLOOKUP(A153:$A$2000,'BD ARTICLES'!A152:$F$1846,4) -> #N/A | E153: =IF(ISERROR(VLOOKUP(C153,'BD ARTICLES'!$A$7:$B$155,2,0)),"",VLOOKUP(C153,'BD ARTICLES'!$A$7:$B$155,2,0)) | I153: =+H153*F153 -> 0 | J153: =+H153*G153 -> 0
B154: =+VLOOKUP(A154:$A$2000,'BD ARTICLES'!A153:$F$1846,4) -> #N/A | E154: =IF(ISERROR(VLOOKUP(C154,'BD ARTICLES'!$A$7:$B$155,2,0)),"",VLOOKUP(C154,'BD ARTICLES'!$A$7:$B$155,2,0)) | I154: =+H154*F154 -> 0 | J154: =+H154*G154 -> 0
...

Sheet ETAT DES STOCKS 
A5: Etat des stocks à jour au : | P5: =TODAY() -> 43163
B6: Désignation | C6: PMP | D6: Stock initial | E6: Valeur stock initial | F6: Somme des entrées | G6: Valeur stock des entrées | H6: Somme des sorties | I6: Valeur stock des sorties | J6: Stock Théorique | K6: Stock Sécurité | L6: QTE économique | M6: Valeur Stock Théorique | N6: Stock Inventorié | O6: Valeur Stock Inventorié | P6: Ecart | Q6: Valeur Ecart
A7: CoCl-0001 | B7: Conditionnement d'air | C7: =IF((D7+F7)<=0,0,(E7+G7)/(D7+F7)) -> 4.96 | D7: 100 | E7: 496 | F7: =SUMIF('JOURNAL STOCKS'!$A$8:$G$200,'ETAT DES STOCKS '!A7,'JOURNAL STOCKS'!$F$8:$F$200) -> 0 | G7: =+SUMIF('JOURNAL STOCKS'!A8:$J$200,A7,'JOURNAL STOCKS'!I8:I200) -> 0 | H7: =SUMIF('JOURNAL STOCKS'!$A$8:$G$200,'ETAT DES STOCKS '!A7,'JOURNAL STOCKS'!$G$8:$G$200) -> 0 | I7: =+SUMIF('JOURNAL STOCKS'!$A$8:$J$200,A7,'JOURNAL STOCKS'!$J$8:$J$200) -> 0 | J7: =+D7+F7-H7 -> 100 | K7: =+H7*'BD ARTICLES'!F7 -> 0 | M7: =+C7*J7 -> 496 | O7: =+C7*N7 -> 0 | P7: =+N7-J7 -> -100 | Q7: =+C7*P7 -> -496
A8: CoCl-0002 | B8: Conditionnement d'air | C8: =IF((D8+F8)<=0,0,(E8+G8)/(D8+F8)) -> 4 | D8: 21 | E8: 84 | F8: =SUMIF('JOURNAL STOCKS'!$A$8:$G$200,'ETAT DES STOCKS '!A8,'JOURNAL STOCKS'!$F$8:$F$200) -> 0 | G8: =+SUMIF('JOURNAL STOCKS'!A9:$J$200,A8,'JOURNAL STOCKS'!I9:I201) -> 0 | H8: =SUMIF('JOURNAL STOCKS'!$A$8:$G$200,'ETAT DES STOCKS '!A8,'JOURNAL STOCKS'!$G$8:$G$200) -> 0 | I8: =+SUMIF('JOURNAL STOCKS'!$A$8:$J$200,A8,'JOURNAL STOCKS'!$J$8:$J$200) -> 0 | J8: =+D8+F8-H8 -> 21 | K8: =+H8*'BD ARTICLES'!F8 -> 0 | M8: =+C8*J8 -> 84 | O8: =+C8*N8 -> 0 | P8: =+N8-J8 -> -21 | Q8: =+C8*P8 -> -84
A9: CoCl-0003 | B9: Conditionnement d'air | C9: =IF((D9+F9)<=0,0,(E9+G9)/(D9+F9)) -> 0 | D9: 0 | E9: 0 | F9: =SUMIF('JOURNAL STOCKS'!$A$8:$G$200,'ETAT DES STOCKS '!A9,'JOURNAL STOCKS'!$F$8:$F$200) -> 0 | G9: =+SUMIF('JOURNAL STOCKS'!A10:$J$200,A9,'JOURNAL STOCKS'!I10:I202) -> 0 | H9: =SUMIF('JOURNAL STOCKS'!$A$8:$G$200,'ETAT DES STOCKS '!A9,'JOURNAL STOCKS'!$G$8:$G$200) -> 0 | I9: =+SUMIF('JOURNAL STOCKS'!$A$8:$J$200,A9,'JOURNAL STOCKS'!$J$8:$J$200) -> 0 | J9: =+D9+F9-H9 -> 0 | K9: =+H9*'BD ARTICLES'!F9 -> 0 | M9: =+C9*J9 -> 0 | O9: =+C9*N9 -> 0 | P9: =+N9-J9 -> 0 | Q9: =+C9*P9 -> 0
A10: CoCl-0004 | B10: Conditionnement d'air | C10: =IF((D10+F10)<=0,0,(E10+G10)/(D10+F10)) -> 130 | D10: 30 | E10: 3900 | F10: =SUMIF('JOURNAL STOCKS'!$A$8:$G$200,'ETAT DES STOCKS '!A10,'JOURNAL STOCKS'!$F$8:$F$200) -> 0 | G10: =+SUMIF('JOURNAL STOCKS'!A11:$J$200,A10,'JOURNAL STOCKS'!I11:I203) -> 0 | H10: =SUMIF('JOURNAL STOCKS'!$A$8:$G$200,'ETAT DES STOCKS '!A10,'JOURNAL STOCKS'!$G$8:$G$200) -> 0 | I10: =+SUMIF('JOURNAL STOCKS'!$A$8:$J$200,A10,'JOURNAL STOCKS'!$J$8:$J$200) -> 0 | J10: =+D10+F10-H10 -> 30 | K10: =+H10*'BD ARTICLES'!F10 -> 0 | M10: =+C10*J10 -> 3900 | O10: =+C10*N10 -> 0 | P10: =+N10-J10 -> -30 | Q10: =+C10*P10 -> -3900
A11: CoCl-0005 | B11: Conditionnement d'air | C11: =IF((D11+F11)<=0,0,(E11+G11)/(D11+F11)) -> 1050 | D11: 1 | E11: 1050 | F11: =SUMIF('JOURNAL STOCKS'!$A$8:$G$200,'ETAT DES STOCKS '!A11,'JOURNAL STOCKS'!$F$8:$F$200) -> 0 | G11: =+SUMIF('JOURNAL STOCKS'!A12:$J$200,A11,'JOURNAL STOCKS'!I12:I204) -> 0 | H11: =SUMIF('JOURNAL STOCKS'!$A$8:$G$200,'ETAT DES STOCKS '!A11,'JOURNAL STOCKS'!$G$8:$G$200) -> 0 | I11: =+SUMIF('JOURNAL STOCKS'!$A$8:$J$200,A11,'JOURNAL STOCKS'!$J$8:$J$200) -> 0 | J11: =+D11+F11-H11 -> 1 | K11: =+H11*'BD ARTICLES'!F11 -> 0 | M11: =+C11*J11 -> 1050 | O11: =+C11*N11 -> 0 | P11: =+N11-J11 -> -1 | Q11: =+C11*P11 -> -1050
A12: CoCl-0006 | B12: Conditionnement d'air | C12: =IF((D12+F12)<=0,0,(E12+G12)/(D12+F12)) -> 1220 | D12: 4 | E12: 4880 | F12: =SUMIF('JOURNAL STOCKS'!$A$8:$G$200,'ETAT DES STOCKS '!A12,'JOURNAL STOCKS'!$F$8:$F$200) -> 0 | G12: =+SUMIF('JOURNAL STOCKS'!A13:$J$200,A12,'JOURNAL STOCKS'!I13:I205) -> 0 | H12: =SUMIF('JOURNAL STOCKS'!$A$8:$G$200,'ETAT DES STOCKS '!A12,'JOURNAL STOCKS'!$G$8:$G$200) -> 0 | I12: =+SUMIF('JOURNAL STOCKS'!$A$8:$J$200,A12,'JOURNAL STOCKS'!$J$8:$J$200) -> 0 | J12: =+D12+F12-H12 -> 4 | K12: =+H12*'BD ARTICLES'!F12 -> 0 | M12: =+C12*J12 -> 4880 | O12: =+C12*N12 -> 0 | P12: =+N12-J12 -> -4 | Q12: =+C12*P12 -> -4880
A13: CoCl-0007 | B13: Conditionnement d'air | C13: =IF((D13+F13)<=0,0,(E13+G13)/(D13+F13)) -> 1296 | D13: 2 | E13: 2592 | F13: =SUMIF('JOURNAL STOCKS'!$A$8:$G$200,'ETAT DES STOCKS '!A13,'JOURNAL STOCKS'!$F$8:$F$200) -> 0 | G13: =+SUMIF('JOURNAL STOCKS'!A14:$J$200,A13,'JOURNAL STOCKS'!I14:I206) -> 0 | H13: =SUMIF('JOURNAL STOCKS'!$A$8:$G$200,'ETAT DES STOCKS '!A13,'JOURNAL STOCKS'!$G$8:$G$200) -> 0 | I13: =+SUMIF('JOURNAL STOCKS'!$A$8:$J$200,A13,'JOURNAL STOCKS'!$J$8:$J$200) -> 0 | J13: =+D13+F13-H13 -> 2 | K13: =+H13*'BD ARTICLES'!F13 -> 0 | M13: =+C13*J13 -> 2592 | O13: =+C13*N13 -> 0 | P13: =+N13-J13 -> -2 | Q13: =+C13*P13 -> -2592
A14: CoCl-0008 | B14: Conditionnement d'air | C14: =IF((D14+F14)<=0,0,(E14+G14)/(D14+F14)) -> 780 | D14: 1 | E14: 780 | F14: =SUMIF('JOURNAL STOCKS'!$A$8:$G$200,'ETAT DES STOCKS '!A14,'JOURNAL STOCKS'!$F$8:$F$200) -> 0 | G14: =+SUMIF('JOURNAL STOCKS'!A15:$J$200,A14,'JOURNAL STOCKS'!I15:I207) -> 0 | H14: =SUMIF('JOURNAL STOCKS'!$A$8:$G$200,'ETAT DES STOCKS '!A14,'JOURNAL STOCKS'!$G$8:$G$200) -> 0 | I14: =+SUMIF('JOURNAL STOCKS'!$A$8:$J$200,A14,'JOURNAL STOCKS'!$J$8:$J$200) -> 0 | J14: =+D14+F14-H14 -> 1 | K14: =+H14*'BD ARTICLES'!F14 -> 0 | M14: =+C14*J14 -> 780 | O14: =+C14*N14 -> 0 | P14: =+N14-J14 -> -1 | Q14: =+C14*P14 -> -780
A15: CoCl-0009 | B15: Conditionnement d'air | C15: =IF((D15+F15)<=0,0,(E15+G15)/(D15+F15)) -> 45 | D15: 8 | E15: 360 | F15: =SUMIF('JOURNAL STOCKS'!$A$8:$G$200,'ETAT DES STOCKS '!A15,'JOURNAL STOCKS'!$F$8:$F$200) -> 0 | G15: =+SUMIF('JOURNAL STOCKS'!A16:$J$200,A15,'JOURNAL STOCKS'!I16:I208) -> 0 | H15: =SUMIF('JOURNAL STOCKS'!$A$8:$G$200,'ETAT DES STOCKS '!A15,'JOURNAL STOCKS'!$G$8:$G$200) -> 0 | I15: =+SUMIF('JOURNAL STOCKS'!$A$8:$J$200,A15,'JOURNAL STOCKS'!$J$8:$J$200) -> 0 | J15: =+D15+F15-H15 -> 8 | K15: =+H15*'BD ARTICLES'!F15 -> 0 | M15: =+C15*J15 -> 360 | O15: =+C15*N15 -> 0 | P15: =+N15-J15 -> -8 | Q15: =+C15*P15 -> -360
A16: CoCl-00010 | B16: Conditionnement d'air | C16: =IF((D16+F16)<=0,0,(E16+G16)/(D16+F16)) -> 11 | D16: 10 | E16: 110 | F16: =SUMIF('JOURNAL STOCKS'!$A$8:$G$200,'ETAT DES STOCKS '!A16,'JOURNAL STOCKS'!$F$8:$F$200) -> 0 | G16: =+SUMIF('JOURNAL STOCKS'!A17:$J$200,A16,'JOURNAL STOCKS'!I17:I209) -> 0 | H16: =SUMIF('JOURNAL STOCKS'!$A$8:$G$200,'ETAT DES STOCKS '!A16,'JOURNAL STOCKS'!$G$8:$G$200) -> 0 | I16: =+SUMIF('JOURNAL STOCKS'!$A$8:$J$200,A16,'JOURNAL STOCKS'!$J$8:$J$200) -> 0 | J16: =+D16+F16-H16 -> 10 | K16: =+H16*'BD ARTICLES'!F16 -> 0 | M16: =+C16*J16 -> 110 | O16: =+C16*N16 -> 0 | P16: =+N16-J16 -> -10 | Q16: =+C16*P16 -> -110
A17: CoCl-00011 | B17: Conditionnement d'air | C17: =IF((D17+F17)<=0,0,(E17+G17)/(D17+F17)) -> 11 | D17: 14 | E17: 154 | F17: =SUMIF('JOURNAL STOCKS'!$A$8:$G$200,'ETAT DES STOCKS '!A17,'JOURNAL STOCKS'!$F$8:$F$200) -> 0 | G17: =+SUMIF('JOURNAL STOCKS'!A18:$J$200,A17,'JOURNAL STOCKS'!I18:I210) -> 0 | H17: =SUMIF('JOURNAL STOCKS'!$A$8:$G$200,'ETAT DES STOCKS '!A17,'JOURNAL STOCKS'!$G$8:$G$200) -> 0 | I17: =+SUMIF('JOURNAL STOCKS'!$A$8:$J$200,A17,'JOURNAL STOCKS'!$J$8:$J$200) -> 0 | J17: =+D17+F17-H17 -> 14 | K17: =+H17*'BD ARTICLES'!F17 -> 0 | M17: =+C17*J17 -> 154 | O17: =+C17*N17 -> 0 | P17: =+N17-J17 -> -14 | Q17: =+C17*P17 -> -154
A18: CoCl-00012 | B18: Conditionnement d'air | C18: =IF((D18+F18)<=0,0,(E18+G18)/(D18+F18)) -> 380 | D18: 1 | E18: 380 | F18: =SUMIF('JOURNAL STOCKS'!$A$8:$G$200,'ETAT DES STOCKS '!A18,'JOURNAL STOCKS'!$F$8:$F$200) -> 0 | G18: =+SUMIF('JOURNAL STOCKS'!A19:$J$200,A18,'JOURNAL STOCKS'!I19:I211) -> 0 | H18: =SUMIF('JOURNAL STOCKS'!$A$8:$G$200,'ETAT DES STOCKS '!A18,'JOURNAL STOCKS'!$G$8:$G$200) -> 0 | I18: =+SUMIF('JOURNAL STOCKS'!$A$8:$J$200,A18,'JOURNAL STOCKS'!$J$8:$J$200) -> 0 | J18: =+D18+F18-H18 -> 1 | K18: =+H18*'BD ARTICLES'!F18 -> 0 | M18: =+C18*J18 -> 380 | O18: =+C18*N18 -> 0 | P18: =+N18-J18 -> -1 | Q18: =+C18*P18 -> -380
... A54: ElAc-00048 | B54: Electricité | C54: =IF((D54+F54)<=0,0,(E54+G54)/(D54+F54)) -> 3.3 | D54: 90 | E54: 297 | F54: =SUMIF('JOURNAL STOCKS'!$A$8:$G$200,'ETAT DES STOCKS '!A54,'JOURNAL STOCKS'!$F$8:$F$200) -> 0 | G54: =+SUMIF('JOURNAL STOCKS'!A55:$J$200,A54,'JOURNAL STOCKS'!I55:I247) -> 0 | H54: =SUMIF('JOURNAL STOCKS'!$A$8:$G$200,'ETAT DES STOCKS '!A54,'JOURNAL STOCKS'!$G$8:$G$200) -> 0 | I54: =+SUMIF('JOURNAL STOCKS'!$A$8:$J$200,A54,'JOURNAL STOCKS'!$J$8:$J$200) -> 0 | J54: =+D54+F54-H54 -> 90 | K54: =+H54*'BD ARTICLES'!F54 -> 0 | M54: =+C54*J54 -> 297 | O54: =+C54*N54 -> 0 | P54: =+N54-J54 -> -90 | Q54: =+C54*P54 -> -297
A55: ElAc-00049 | B55: Electricité | C55: =IF((D55+F55)<=0,0,(E55+G55)/(D55+F55)) -> 5.2 | D55: =10+27 -> 37 | E55: 192.4 | F55: =SUMIF('JOURNAL STOCKS'!$A$8:$G$200,'ETAT DES STOCKS '!A55,'JOURNAL STOCKS'!$F$8:$F$200) -> 0 | G55: =+SUMIF('JOURNAL STOCKS'!A56:$J$200,A55,'JOURNAL STOCKS'!I56:I248) -> 0 | H55: =SUMIF('JOURNAL STOCKS'!$A$8:$G$200,'ETAT DES STOCKS '!A55,'JOURNAL STOCKS'!$G$8:$G$200) -> 0 | I55: =+SUMIF('JOURNAL STOCKS'!$A$8:$J$200,A55,'JOURNAL STOCKS'!$J$8:$J$200) -> 0 | J55: =+D55+F55-H55 -> 37 | K55: =+H55*'BD ARTICLES'!F55 -> 0 | M55: =+C55*J55 -> 192.4 | O55: =+C55*N55 -> 0 | P55: =+N55-J55 -> -37 | Q55: =+C55*P55 -> -192.4
A56: ElAc-00050 | B56: Electricité | C56: =IF((D56+F56)<=0,0,(E56+G56)/(D56+F56)) -> 5.5 | D56: 45 | E56: 247.5 | F56: =SUMIF('JOURNAL STOCKS'!$A$8:$G$200,'ETAT DES STOCKS '!A56,'JOURNAL STOCKS'!$F$8:$F$200) -> 0 | G56: =+SUMIF('JOURNAL STOCKS'!A57:$J$200,A56,'JOURNAL STOCKS'!I57:I249) -> 0 | H56: =SUMIF('JOURNAL STOCKS'!$A$8:$G$200,'ETAT DES STOCKS '!A56,'JOURNAL STOCKS'!$G$8:$G$200) -> 0 | I56: =+SUMIF('JOURNAL STOCKS'!$A$8:$J$200,A56,'JOURNAL STOCKS'!$J$8:$J$200) -> 0 | J56: =+D56+F56-H56 -> 45 | K56: =+H56*'BD ARTICLES'!F56 -> 0 | M56: =+C56*J56 -> 247.5 | O56: =+C56*N56 -> 0 | P56: =+N56-J56 -> -45 | Q56: =+C56*P56 -> -247.5
A57: ElAc-00051 | B57: Electricité | C57: =IF((D57+F57)<=0,0,(E57+G57)/(D57+F57)) -> 26 | D57: 6 | E57: 156 | F57: =SUMIF('JOURNAL STOCKS'!$A$8:$G$200,'ETAT DES STOCKS '!A57,'JOURNAL STOCKS'!$F$8:$F$200) -> 0 | G57: =+SUMIF('JOURNAL STOCKS'!A58:$J$200,A57,'JOURNAL STOCKS'!I58:I250) -> 0 | H57: =SUMIF('JOURNAL STOCKS'!$A$8:$G$200,'ETAT DES STOCKS '!A57,'JOURNAL STOCKS'!$G$8:$G$200) -> 0 | I57: =+SUMIF('JOURNAL STOCKS'!$A$8:$J$200,A57,'JOURNAL STOCKS'!$J$8:$J$200) -> 0 | J57: =+D57+F57-H57 -> 6 | K57: =+H57*'BD ARTICLES'!F57 -> 0 | M57: =+C57*J57 -> 156 | O57: =+C57*N57 -> 0 | P57: =+N57-J57 -> -6 | Q57: =+C57*P57 -> -156
A58: ElAc-00052 | B58: Electricité | C58: =IF((D58+F58)<=0,0,(E58+G58)/(D58+F58)) -> 2.5 | D58: 9 | E58: 22.5 | F58: =SUMIF('JOURNAL STOCKS'!$A$8:$G$200,'ETAT DES STOCKS '!A58,'JOURNAL STOCKS'!$F$8:$F$200) -> 0 | G58: =+SUMIF('JOURNAL STOCKS'!A59:$J$200,A58,'JOURNAL STOCKS'!I59:I251) -> 0 | H58: =SUMIF('JOURNAL STOCKS'!$A$8:$G$200,'ETAT DES STOCKS '!A58,'JOURNAL STOCKS'!$G$8:$G$200) -> 0 | I58: =+SUMIF('JOURNAL STOCKS'!$A$8:$J$200,A58,'JOURNAL STOCKS'!$J$8:$J$200) -> 0 | J58: =+D58+F58-H58 -> 9 | K58: =+H58*'BD ARTICLES'!F58 -> 0 | M58: =+C58*J58 -> 22.5 | O58: =+C58*N58 -> 0 | P58: =+N58-J58 -> -9 | Q58: =+C58*P58 -> -22.5
A59: ElAc-00053 | B59: Electricité | C59: =IF((D59+F59)<=0,0,(E59+G59)/(D59+F59)) -> 2.85 | D59: 92 | E59: 262.2 | F59: =SUMIF('JOURNAL STOCKS'!$A$8:$G$200,'ETAT DES STOCKS '!A59,'JOURNAL STOCKS'!$F$8:$F$200) -> 0 | G59: =+SUMIF('JOURNAL STOCKS'!A60:$J$200,A59,'JOURNAL STOCKS'!I60:I252) -> 0 | H59: =SUMIF('JOURNAL STOCKS'!$A$8:$G$200,'ETAT DES STOCKS '!A59,'JOURNAL STOCKS'!$G$8:$G$200) -> 0 | I59: =+SUMIF('JOURNAL STOCKS'!$A$8:$J$200,A59,'JOURNAL STOCKS'!$J$8:$J$200) -> 0 | J59: =+D59+F59-H59 -> 92 | K59: =+H59*'BD ARTICLES'!F59 -> 0 | M59: =+C59*J59 -> 262.2 | O59: =+C59*N59 -> 0 | P59: =+N59-J59 -> -92 | Q59: =+C59*P59 -> -262.2
A60: ElAc-00054 | B60: Electricité | C60: =IF((D60+F60)<=0,0,(E60+G60)/(D60+F60)) -> 36 | D60: 6 | E60: 216 | F60: =SUMIF('JOURNAL STOCKS'!$A$8:$G$200,'ETAT DES STOCKS '!A60,'JOURNAL STOCKS'!$F$8:$F$200) -> 0 | G60: =+SUMIF('JOURNAL STOCKS'!A61:$J$200,A60,'JOURNAL STOCKS'!I61:I253) -> 0 | H60: =SUMIF('JOURNAL STOCKS'!$A$8:$G$200,'ETAT DES STOCKS '!A60,'JOURNAL STOCKS'!$G$8:$G$200) -> 0 | I60: =+SUMIF('JOURNAL STOCKS'!$A$8:$J$200,A60,'JOURNAL STOCKS'!$J$8:$J$200) -> 0 | J60: =+D60+F60-H60 -> 6 | K60: =+H60*'BD ARTICLES'!F60 -> 0 | M60: =+C60*J60 -> 216 | O60: =+C60*N60 -> 0 | P60: =+N60-J60 -> -6 | Q60: =+C60*P60 -> -216
A61: ElAc-00055 | B61: Electricité | C61: =IF((D61+F61)<=0,0,(E61+G61)/(D61+F61)) -> 1.8 | D61: 300 | E61: 540 | F61: =SUMIF('JOURNAL STOCKS'!$A$8:$G$200,'ETAT DES STOCKS '!A61,'JOURNAL STOCKS'!$F$8:$F$200) -> 0 | G61: =+SUMIF('JOURNAL STOCKS'!A62:$J$200,A61,'JOURNAL STOCKS'!I62:I254) -> 0 | H61: =SUMIF('JOURNAL STOCKS'!$A$8:$G$200,'ETAT DES STOCKS '!A61,'JOURNAL STOCKS'!$G$8:$G$200) -> 0 | I61: =+SUMIF('JOURNAL STOCKS'!$A$8:$J$200,A61,'JOURNAL STOCKS'!$J$8:$J$200) -> 0 | J61: =+D61+F61-H61 -> 300 | K61: =+H61*'BD ARTICLES'!F61 -> 0 | M61: =+C61*J61 -> 540 | O61: =+C61*N61 -> 0 | P61: =+N61-J61 -> -300 | Q61: =+C61*P61 -> -540
A62: ElAc-00056 | B62: Electricité | C62: =IF((D62+F62)<=0,0,(E62+G62)/(D62+F62)) -> 13.5 | D62: 8 | E62: 108 | F62: =SUMIF('JOURNAL STOCKS'!$A$8:$G$200,'ETAT DES STOCKS '!A62,'JOURNAL STOCKS'!$F$8:$F$200) -> 0 | G62: =+SUMIF('JOURNAL STOCKS'!A63:$J$200,A62,'JOURNAL STOCKS'!I63:I255) -> 0 | H62: =SUMIF('JOURNAL STOCKS'!$A$8:$G$200,'ETAT DES STOCKS '!A62,'JOURNAL STOCKS'!$G$8:$G$200) -> 0 | I62: =+SUMIF('JOURNAL STOCKS'!$A$8:$J$200,A62,'JOURNAL STOCKS'!$J$8:$J$200) -> 0 | J62: =+D62+F62-H62 -> 8 | K62: =+H62*'BD ARTICLES'!F62 -> 0 | M62: =+C62*J62 -> 108 | O62: =+C62*N62 -> 0 | P62: =+N62-J62 -> -8 | Q62: =+C62*P62 -> -108
A63: ElAc-00057 | B63: Electricité | C63: =IF((D63+F63)<=0,0,(E63+G63)/(D63+F63)) -> 36.5 | D63: 20 | E63: 730 | F63: =SUMIF('JOURNAL STOCKS'!$A$8:$G$200,'ETAT DES STOCKS '!A63,'JOURNAL STOCKS'!$F$8:$F$200) -> 0 | G63: =+SUMIF('JOURNAL STOCKS'!A64:$J$200,A63,'JOURNAL STOCKS'!I64:I256) -> 0 | H63: =SUMIF('JOURNAL STOCKS'!$A$8:$G$200,'ETAT DES STOCKS '!A63,'JOURNAL STOCKS'!$G$8:$G$200) -> 0 | I63: =+SUMIF('JOURNAL STOCKS'!$A$8:$J$200,A63,'JOURNAL STOCKS'!$J$8:$J$200) -> 0 | J63: =+D63+F63-H63 -> 20 | K63: =+H63*'BD ARTICLES'!F63 -> 0 | M63: =+C63*J63 -> 730 | O63: =+C63*N63 -> 0 | P63: =+N63-J63 -> -20 | Q63: =+C63*P63 -> -730
A64: ElAc-00058 | B64: Electricité | C64: =IF((D64+F64)<=0,0,(E64+G64)/(D64+F64)) -> 0.26 | D64: 53 | E64: 13.78 | F64: =SUMIF('JOURNAL STOCKS'!$A$8:$G$200,'ETAT DES STOCKS '!A64,'JOURNAL STOCKS'!$F$8:$F$200) -> 0 | G64: =+SUMIF('JOURNAL STOCKS'!A65:$J$200,A64,'JOURNAL STOCKS'!I65:I257) -> 0 | H64: =SUMIF('JOURNAL STOCKS'!$A$8:$G$200,'ETAT DES STOCKS '!A64,'JOURNAL STOCKS'!$G$8:$G$200) -> 0 | I64: =+SUMIF('JOURNAL STOCKS'!$A$8:$J$200,A64,'JOURNAL STOCKS'!$J$8:$J$200) -> 0 | J64: =+D64+F64-H64 -> 53 | K64: =+H64*'BD ARTICLES'!F64 -> 0 | M64: =+C64*J64 -> 13.78 | O64: =+C64*N64 -> 0 | P64: =+N64-J64 -> -53 | Q64: =+C64*P64 -> -13.78
A65: ElAc-00059 | B65: Electricité | C65: =IF((D65+F65)<=0,0,(E65+G65)/(D65+F65)) -> 0 | D65: 0 | E65: 0 | F65: =SUMIF('JOURNAL STOCKS'!$A$8:$G$200,'ETAT DES STOCKS '!A65,'JOURNAL STOCKS'!$F$8:$F$200) -> 0 | G65: =+SUMIF('JOURNAL STOCKS'!A66:$J$200,A65,'JOURNAL STOCKS'!I66:I258) -> 0 | H65: =SUMIF('JOURNAL STOCKS'!$A$8:$G$200,'ETAT DES STOCKS '!A65,'JOURNAL STOCKS'!$G$8:$G$200) -> 0 | I65: =+SUMIF('JOURNAL STOCKS'!$A$8:$J$200,A65,'JOURNAL STOCKS'!$J$8:$J$200) -> 0 | J65: =+D65+F65-H65 -> 0 | K65: =+H65*'BD ARTICLES'!F65 -> 0 | M65: =+C65*J65 -> 0 | O65: =+C65*N65 -> 0 | P65: =+N65-J65 -> 0 | Q65: =+C65*P65 -> 0
A66: ElAc-00060 | B66: Electricité | C66: =IF((D66+F66)<=0,0,(E66+G66)/(D66+F66)) -> 0.26 | D66: 57 | E66: 14.82 | F66: =SUMIF('JOURNAL STOCKS'!$A$8:$G$200,'ETAT DES STOCKS '!A66,'JOURNAL STOCKS'!$F$8:$F$200) -> 0 | G66: =+SUMIF('JOURNAL STOCKS'!A67:$J$200,A66,'JOURNAL STOCKS'!I67:I259) -> 0 | H66: =SUMIF('JOURNAL STOCKS'!$A$8:$G$200,'ETAT DES STOCKS '!A66,'JOURNAL STOCKS'!$G$8:$G$200) -> 0 | I66: =+SUMIF('JOURNAL STOCKS'!$A$8:$J$200,A66,'JOURNAL STOCKS'!$J$8:$J$200) -> 0 | J66: =+D66+F66-H66 -> 57 | K66: =+H66*'BD ARTICLES'!F66 -> 0 | M66: =+C66*J66 -> 14.82 | O66: =+C66*N66 -> 0 | P66: =+N66-J66 -> -57 | Q66: =+C66*P66 -> -14.82
A67: ElAc-00061 | B67: Electricité | C67: =IF((D67+F67)<=0,0,(E67+G67)/(D67+F67)) -> 0.26 | D67: 68 | E67: 17.68 | F67: =SUMIF('JOURNAL STOCKS'!$A$8:$G$200,'ETAT DES STOCKS '!A67,'JOURNAL STOCKS'!$F$8:$F$200) -> 0 | G67: =+SUMIF('JOURNAL STOCKS'!A68:$J$200,A67,'JOURNAL STOCKS'!I68:I260) -> 0 | H67: =SUMIF('JOURNAL STOCKS'!$A$8:$G$200,'ETAT DES STOCKS '!A67,'JOURNAL STOCKS'!$G$8:$G$200) -> 0 | I67: =+SUMIF('JOURNAL STOCKS'!$A$8:$J$200,A67,'JOURNAL STOCKS'!$J$8:$J$200) -> 0 | J67: =+D67+F67-H67 -> 68 | K67: =+H67*'BD ARTICLES'!F67 -> 0 | M67: =+C67*J67 -> 17.68 | O67: =+C67*N67 -> 0 | P67: =+N67-J67 -> -68 | Q67: =+C67*P67 -> -17.68
... A97: ElAp-00091 | B97: Electricité | C97: =IF((D97+F97)<=0,0,(E97+G97)/(D97+F97)) -> 18 | D97: 10 | E97: 180 | F97: =SUMIF('JOURNAL STOCKS'!$A$8:$G$200,'ETAT DES STOCKS '!A97,'JOURNAL STOCKS'!$F$8:$F$200) -> 0 | G97: =+SUMIF('JOURNAL STOCKS'!A98:$J$200,A97,'JOURNAL STOCKS'!I98:I290) -> 0 | H97: =SUMIF('JOURNAL STOCKS'!$A$8:$G$200,'ETAT DES STOCKS '!A97,'JOURNAL STOCKS'!$G$8:$G$200) -> 0 | I97: =+SUMIF('JOURNAL STOCKS'!$A$8:$J$200,A97,'JOURNAL STOCKS'!$J$8:$J$200) -> 0 | J97: =+D97+F97-H97 -> 10 | K97: =+H97*'BD ARTICLES'!F97 -> 0 | M97: =+C97*J97 -> 180 | O97: =+C97*N97 -> 0 | P97: =+N97-J97 -> -10 | Q97: =+C97*P97 -> -180
A98: ElAp-00092 | B98: Electricité | C98: =IF((D98+F98)<=0,0,(E98+G98)/(D98+F98)) -> 30 | D98: =9+9 -> 18 | E98: 540 | F98: =SUMIF('JOURNAL STOCKS'!$A$8:$G$200,'ETAT DES STOCKS '!A98,'JOURNAL STOCKS'!$F$8:$F$200) -> 0 | G98: =+SUMIF('JOURNAL STOCKS'!A99:$J$200,A98,'JOURNAL STOCKS'!I99:I291) -> 0 | H98: =SUMIF('JOURNAL STOCKS'!$A$8:$G$200,'ETAT DES STOCKS '!A98,'JOURNAL STOCKS'!$G$8:$G$200) -> 0 | I98: =+SUMIF('JOURNAL STOCKS'!$A$8:$J$200,A98,'JOURNAL STOCKS'!$J$8:$J$200) -> 0 | J98: =+D98+F98-H98 -> 18 | K98: =+H98*'BD ARTICLES'!F98 -> 0 | M98: =+C98*J98 -> 540 | O98: =+C98*N98 -> 0 | P98: =+N98-J98 -> -18 | Q98: =+C98*P98 -> -540
A99: ElAp-00093 | B99: Electricité | C99: =IF((D99+F99)<=0,0,(E99+G99)/(D99+F99)) -> 25 | D99: 9 | E99: 225 | F99: =SUMIF('JOURNAL STOCKS'!$A$8:$G$200,'ETAT DES STOCKS '!A99,'JOURNAL STOCKS'!$F$8:$F$200) -> 0 | G99: =+SUMIF('JOURNAL STOCKS'!A100:$J$200,A99,'JOURNAL STOCKS'!I100:I292) -> 0 | H99: =SUMIF('JOURNAL STOCKS'!$A$8:$G$200,'ETAT DES STOCKS '!A99,'JOURNAL STOCKS'!$G$8:$G$200) -> 0 | I99: =+SUMIF('JOURNAL STOCKS'!$A$8:$J$200,A99,'JOURNAL STOCKS'!$J$8:$J$200) -> 0 | J99: =+D99+F99-H99 -> 9 | K99: =+H99*'BD ARTICLES'!F99 -> 0 | M99: =+C99*J99 -> 225 | O99: =+C99*N99 -> 0 | P99: =+N99-J99 -> -9 | Q99: =+C99*P99 -> -225
A100: ElAp-00094 | B100: Electricité | C100: =IF((D100+F100)<=0,0,(E100+G100)/(D100+F100)) -> 25 | D100: 5 | E100: 125 | F100: =SUMIF('JOURNAL STOCKS'!$A$8:$G$200,'ETAT DES STOCKS '!A100,'JOURNAL STOCKS'!$F$8:$F$200) -> 0 | G100: =+SUMIF('JOURNAL STOCKS'!A101:$J$200,A100,'JOURNAL STOCKS'!I101:I293) -> 0 | H100: =SUMIF('JOURNAL STOCKS'!$A$8:$G$200,'ETAT DES STOCKS '!A100,'JOURNAL STOCKS'!$G$8:$G$200) -> 0 | I100: =+SUMIF('JOURNAL STOCKS'!$A$8:$J$200,A100,'JOURNAL STOCKS'!$J$8:$J$200) -> 0 | J100: =+D100+F100-H100 -> 5 | K100: =+H100*'BD ARTICLES'!F100 -> 0 | M100: =+C100*J100 -> 125 | O100: =+C100*N100 -> 0 | P100: =+N100-J100 -> -5 | Q100: =+C100*P100 -> -125
A101: ElAp-00095 | B101: Electricité | C101: =IF((D101+F101)<=0,0,(E101+G101)/(D101+F101)) -> 13.75 | D101: 5 | E101: 68.75 | F101: =SUMIF('JOURNAL STOCKS'!$A$8:$G$200,'ETAT DES STOCKS '!A101,'JOURNAL STOCKS'!$F$8:$F$200) -> 0 | G101: =+SUMIF('JOURNAL STOCKS'!A102:$J$200,A101,'JOURNAL STOCKS'!I102:I294) -> 0 | H101: =SUMIF('JOURNAL STOCKS'!$A$8:$G$200,'ETAT DES STOCKS '!A101,'JOURNAL STOCKS'!$G$8:$G$200) -> 0 | I101: =+SUMIF('JOURNAL STOCKS'!$A$8:$J$200,A101,'JOURNAL STOCKS'!$J$8:$J$200) -> 0 | J101: =+D101+F101-H101 -> 5 | K101: =+H101*'BD ARTICLES'!F101 -> 0 | M101: =+C101*J101 -> 68.75 | O101: =+C101*N101 -> 0 | P101: =+N101-J101 -> -5 | Q101: =+C101*P101 -> -68.75
A102: ElAp-00096 | B102: Electricité | C102: =IF((D102+F102)<=0,0,(E102+G102)/(D102+F102)) -> 22.92 | D102: 9 | E102: 206.28 | F102: =SUMIF('JOURNAL STOCKS'!$A$8:$G$200,'ETAT DES STOCKS '!A102,'JOURNAL STOCKS'!$F$8:$F$200) -> 0 | G102: =+SUMIF('JOURNAL STOCKS'!A103:$J$200,A102,'JOURNAL STOCKS'!I103:I295) -> 0 | H102: =SUMIF('JOURNAL STOCKS'!$A$8:$G$200,'ETAT DES STOCKS '!A102,'JOURNAL STOCKS'!$G$8:$G$200) -> 0 | I102: =+SUMIF('JOURNAL STOCKS'!$A$8:$J$200,A102,'JOURNAL STOCKS'!$J$8:$J$200) -> 0 | J102: =+D102+F102-H102 -> 9 | K102: =+H102*'BD ARTICLES'!F102 -> 0 | M102: =+C102*J102 -> 206.28 | O102: =+C102*N102 -> 0 | P102: =+N102-J102 -> -9 | Q102: =+C102*P102 -> -206.28
A103: ElAp-00097 | B103: Electricité | C103: =IF((D103+F103)<=0,0,(E103+G103)/(D103+F103)) -> 40 | D103: 14 | E103: 560 | F103: =SUMIF('JOURNAL STOCKS'!$A$8:$G$200,'ETAT DES STOCKS '!A103,'JOURNAL STOCKS'!$F$8:$F$200) -> 0 | G103: =+SUMIF('JOURNAL STOCKS'!A104:$J$200,A103,'JOURNAL STOCKS'!I104:I296) -> 0 | H103: =SUMIF('JOURNAL STOCKS'!$A$8:$G$200,'ETAT DES STOCKS '!A103,'JOURNAL STOCKS'!$G$8:$G$200) -> 0 | I103: =+SUMIF('JOURNAL STOCKS'!$A$8:$J$200,A103,'JOURNAL STOCKS'!$J$8:$J$200) -> 0 | J103: =+D103+F103-H103 -> 14 | K103: =+H103*'BD ARTICLES'!F103 -> 0 | M103: =+C103*J103 -> 560 | O103: =+C103*N103 -> 0 | P103: =+N103-J103 -> -14 | Q103: =+C103*P103 -> -560
A104: ElAp-00098 | B104: Electricité | C104: =IF((D104+F104)<=0,0,(E104+G104)/(D104+F104)) -> 50 | D104: 4 | E104: 200 | F104: =SUMIF('JOURNAL STOCKS'!$A$8:$G$200,'ETAT DES STOCKS '!A104,'JOURNAL STOCKS'!$F$8:$F$200) -> 0 | G104: =+SUMIF('JOURNAL STOCKS'!A105:$J$200,A104,'JOURNAL STOCKS'!I105:I297) -> 0 | H104: =SUMIF('JOURNAL STOCKS'!$A$8:$G$200,'ETAT DES STOCKS '!A104,'JOURNAL STOCKS'!$G$8:$G$200) -> 0 | I104: =+SUMIF('JOURNAL STOCKS'!$A$8:$J$200,A104,'JOURNAL STOCKS'!$J$8:$J$200) -> 0 | J104: =+D104+F104-H104 -> 4 | K104: =+H104*'BD ARTICLES'!F104 -> 0 | M104: =+C104*J104 -> 200 | O104: =+C104*N104 -> 0 | P104: =+N104-J104 -> -4 | Q104: =+C104*P104 -> -200
A105: ElAp-00099 | B105: Electricité | C105: =IF((D105+F105)<=0,0,(E105+G105)/(D105+F105)) -> 20 | D105: 3 | E105: 60 | F105: =SUMIF('JOURNAL STOCKS'!$A$8:$G$200,'ETAT DES STOCKS '!A105,'JOURNAL STOCKS'!$F$8:$F$200) -> 0 | G105: =+SUMIF('JOURNAL STOCKS'!A106:$J$200,A105,'JOURNAL STOCKS'!I106:I298) -> 0 | H105: =SUMIF('JOURNAL STOCKS'!$A$8:$G$200,'ETAT DES STOCKS '!A105,'JOURNAL STOCKS'!$G$8:$G$200) -> 0 | I105: =+SUMIF('JOURNAL STOCKS'!$A$8:$J$200,A105,'JOURNAL STOCKS'!$J$8:$J$200) -> 0 | J105: =+D105+F105-H105 -> 3 | K105: =+H105*'BD ARTICLES'!F105 -> 0 | M105: =+C105*J105 -> 60 | O105: =+C105*N105 -> 0 | P105: =+N105-J105 -> -3 | Q105: =+C105*P105 -> -60
A106: ElCâ-000100 | B106: Electricité | C106: =IF((D106+F106)<=0,0,(E106+G106)/(D106+F106)) -> 0 | D106: 0 | E106: 0 | F106: =SUMIF('JOURNAL STOCKS'!$A$8:$G$200,'ETAT DES STOCKS '!A106,'JOURNAL STOCKS'!$F$8:$F$200) -> 0 | G106: =+SUMIF('JOURNAL STOCKS'!A107:$J$200,A106,'JOURNAL STOCKS'!I107:I299) -> 0 | H106: =SUMIF('JOURNAL STOCKS'!$A$8:$G$200,'ETAT DES STOCKS '!A106,'JOURNAL STOCKS'!$G$8:$G$200) -> 0 | I106: =+SUMIF('JOURNAL STOCKS'!$A$8:$J$200,A106,'JOURNAL STOCKS'!$J$8:$J$200) -> 0 | J106: =+D106+F106-H106 -> 0 | K106: =+H106*'BD ARTICLES'!F106 -> 0 | M106: =+C106*J106 -> 0 | O106: =+C106*N106 -> 0 | P106: =+N106-J106 -> 0 | Q106: =+C106*P106 -> 0
A107: ElCâ-000101 | B107: Electricité | C107: =IF((D107+F107)<=0,0,(E107+G107)/(D107+F107)) -> 1.25 | D107: 100 | E107: 125 | F107: =SUMIF('JOURNAL STOCKS'!$A$8:$G$200,'ETAT DES STOCKS '!A107,'JOURNAL STOCKS'!$F$8:$F$200) -> 0 | G107: =+SUMIF('JOURNAL STOCKS'!A108:$J$200,A107,'JOURNAL STOCKS'!I108:I300) -> 0 | H107: =SUMIF('JOURNAL STOCKS'!$A$8:$G$200,'ETAT DES STOCKS '!A107,'JOURNAL STOCKS'!$G$8:$G$200) -> 0 | I107: =+SUMIF('JOURNAL STOCKS'!$A$8:$J$200,A107,'JOURNAL STOCKS'!$J$8:$J$200) -> 0 | J107: =+D107+F107-H107 -> 100 | K107: =+H107*'BD ARTICLES'!F107 -> 0 | M107: =+C107*J107 -> 125 | O107: =+C107*N107 -> 0 | P107: =+N107-J107 -> -100 | Q107: =+C107*P107 -> -125
A108: ElCâ-000102 | B108: Electricité | C108: =IF((D108+F108)<=0,0,(E108+G108)/(D108+F108)) -> 0 | D108: 0 | E108: 0 | F108: =SUMIF('JOURNAL STOCKS'!$A$8:$G$200,'ETAT DES STOCKS '!A108,'JOURNAL STOCKS'!$F$8:$F$200) -> 0 | G108: =+SUMIF('JOURNAL STOCKS'!A109:$J$200,A108,'JOURNAL STOCKS'!I109:I301) -> 0 | H108: =SUMIF('JOURNAL STOCKS'!$A$8:$G$200,'ETAT DES STOCKS '!A108,'JOURNAL STOCKS'!$G$8:$G$200) -> 0 | I108: =+SUMIF('JOURNAL STOCKS'!$A$8:$J$200,A108,'JOURNAL STOCKS'!$J$8:$J$200) -> 0 | J108: =+D108+F108-H108 -> 0 | K108: =+H108*'BD ARTICLES'!F108 -> 0 | M108: =+C108*J108 -> 0 | O108: =+C108*N108 -> 0 | P108: =+N108-J108 -> 0 | Q108: =+C108*P108 -> 0
...
