Workbook

Sheet Sheet1
O5: Résultat désiré
C6: En continu
C8: =IF(INDIRECT("Aux!$B"&7+INT((ROW()-1)/4))="",""," "&INDIRECT("Aux!$B"&7+INT((ROW()-1)/4))) -> test1 | G8: =IF(Aux!$B9="",""," "&Aux!$B9) -> test2 | L8: test1 | P8: test2
C10: =IF(C8="",""," "&"Assignée à"&": ") -> Assignée à: | D10: =IF(C8="",""," "& Aux!C8) -> Olivia 2 | G10: =IF(G8="",""," "&"Assignée à"&": ") -> Assignée à: | H10: =IF(G8="",""," "& Aux!C9) -> Olivia 2
C11: =IF(C8="",""," "&"Date Due"&": ") -> Date Due: | D11: =IF(C8="","",Aux!D8) -> 44055 | G11: =IF(G8="",""," "&"Date Due"&": ") -> Date Due: | H11: =IF(G8="","",Aux!D9) -> 44420
C13: =IF(INDIRECT("Aux!$B"&7+INT((ROW()-1)/4))="",""," "&INDIRECT("Aux!$B"&7+INT((ROW()-1)/4))) -> test3 | G13: =IF(Aux!$B14="",""," "&Aux!$B14) -> test7 | L13: test3 | P13: test4
C15: =IF(C13="",""," "&"Assignée à"&": ") -> Assignée à: | D15: =IF(C13="",""," "& Aux!C13) -> Olivia 2 | G15: =IF(G13="",""," "&"Assignée à"&": ") -> Assignée à: | H15: =IF(G13="",""," "& Aux!C14) -> Olivia 2
C16: =IF(C13="",""," "&"Date Due"&": ") -> Date Due: | D16: =IF(C13="","",Aux!D13) -> 45881 | G16: =IF(G13="",""," "&"Date Due"&": ") -> Date Due: | H16: =IF(G13="","",Aux!D14) -> 46246
C18: =IF(INDIRECT("Aux!$B"&7+INT((ROW()-1)/4))="",""," "&INDIRECT("Aux!$B"&7+INT((ROW()-1)/4))) -> test4 | G18: =IF(Aux!$B19="",""," "&Aux!$B19) | L18: test5 | P18: test6
C20: =IF(C18="",""," "&"Assignée à"&": ") -> Assignée à: | D20: =IF(C18="",""," "& Aux!C18) | G20: =IF(G18="",""," "&"Assignée à"&": ") | H20: =IF(G18="",""," "& Aux!C19)
C21: =IF(C18="",""," "&"Date Due"&": ") -> Date Due: | D21: =IF(C18="","",Aux!D18) -> 0 | G21: =IF(G18="",""," "&"Date Due"&": ") | H21: =IF(G18="","",Aux!D19)
C23: =IF(INDIRECT("Aux!$B"&7+INT((ROW()-1)/4))="",""," "&INDIRECT("Aux!$B"&7+INT((ROW()-1)/4))) -> test5 | G23: =IF(Aux!$B24="",""," "&Aux!$B24) | L23: test7 | P23: test8
C25: =IF(C23="",""," "&"Assignée à"&": ") -> Assignée à: | D25: =IF(C23="",""," "& Aux!C23) | G25: =IF(G23="",""," "&"Assignée à"&": ") | H25: =IF(G23="",""," "& Aux!C24)
C26: =IF(C23="",""," "&"Date Due"&": ") -> Date Due: | D26: =IF(C23="","",Aux!D23) -> 0 | G26: =IF(G23="",""," "&"Date Due"&": ") | H26: =IF(G23="","",Aux!D24)
C28: =IF(INDIRECT("Aux!$B"&7+INT((ROW()-1)/4))="",""," "&INDIRECT("Aux!$B"&7+INT((ROW()-1)/4))) -> test6 | G28: =IF(Aux!$B29="",""," "&Aux!$B29) | L28: test9 | P28: test10
C30: =IF(C28="",""," "&"Assignée à"&": ") -> Assignée à: | D30: =IF(C28="",""," "& Aux!C28) | G30: =IF(G28="",""," "&"Assignée à"&": ") | H30: =IF(G28="",""," "& Aux!C29)
C31: =IF(C28="",""," "&"Date Due"&": ") -> Date Due: | D31: =IF(C28="","",Aux!D28) -> 0 | G31: =IF(G28="",""," "&"Date Due"&": ") | H31: =IF(G28="","",Aux!D29)
C33: =IF(INDIRECT("Aux!$B"&7+INT((ROW()-1)/4))="",""," "&INDIRECT("Aux!$B"&7+INT((ROW()-1)/4))) -> test8 | G33: =IF(Aux!$B34="",""," "&Aux!$B34)
C35: =IF(C33="",""," "&"Assignée à"&": ") -> Assignée à: | D35: =IF(C33="",""," "& Aux!C33) | G35: =IF(G33="",""," "&"Assignée à"&": ") | H35: =IF(G33="",""," "& Aux!C34)
C36: =IF(C33="",""," "&"Date Due"&": ") -> Date Due: | D36: =IF(C33="","",Aux!D33) -> 0 | G36: =IF(G33="",""," "&"Date Due"&": ") | H36: =IF(G33="","",Aux!D34)
C38: =IF(INDIRECT("Aux!$B"&7+INT((ROW()-1)/4))="",""," "&INDIRECT("Aux!$B"&7+INT((ROW()-1)/4))) -> test9 | G38: =IF(Aux!$B39="",""," "&Aux!$B39)
C40: =IF(C38="",""," "&"Assignée à"&": ") -> Assignée à: | D40: =IF(C38="",""," "& Aux!C38) | G40: =IF(G38="",""," "&"Assignée à"&": ") | H40: =IF(G38="",""," "& Aux!C39)
C41: =IF(C38="",""," "&"Date Due"&": ") -> Date Due: | D41: =IF(C38="","",Aux!D38) -> 0 | G41: =IF(G38="",""," "&"Date Due"&": ") | H41: =IF(G38="","",Aux!D39)
C43: =IF(INDIRECT("Aux!$B"&7+INT((ROW()-1)/4))="",""," "&INDIRECT("Aux!$B"&7+INT((ROW()-1)/4))) -> test10 | G43: =IF(Aux!$B44="",""," "&Aux!$B44)
C45: =IF(C43="",""," "&"Assignée à"&": ") -> Assignée à: | D45: =IF(C43="",""," "& Aux!C43) | G45: =IF(G43="",""," "&"Assignée à"&": ") | H45: =IF(G43="",""," "& Aux!C44)
C46: =IF(C43="",""," "&"Date Due"&": ") -> Date Due: | D46: =IF(C43="","",Aux!D43) -> 0 | G46: =IF(G43="",""," "&"Date Due"&": ") | H46: =IF(G43="","",Aux!D44)

Sheet Aux
B5: Statut | C5: En continu
B7: Tâches | C7: Assignée à | D7: Date d'échéance | E7: Count of Tâches
B8: test1 | C8: Olivia 2 | D8: 44055 | E8: 1
B9: test2 | C9: Olivia 2 | D9: 44420 | E9: 1
B10: test3 | C10: Olivia 2 | D10: 44785 | E10: 1
B11: test4 | C11: Olivia 2 | D11: 45150 | E11: 1
B12: test5 | C12: Olivia 2 | D12: 45516 | E12: 1
B13: test6 | C13: Olivia 2 | D13: 45881 | E13: 1
B14: test7 | C14: Olivia 2 | D14: 46246 | E14: 1
B15: test8 | C15: Olivia 2 | D15: 46611 | E15: 1
B16: test9 | C16: Olivia 2 | D16: 46977 | E16: 1
B17: test10 | C17: Olivia 2 | D17: 47342 | E17: 1
