Workbook

Sheet Source
A1: 1210104 | B1: 14.24
A2: 1210358 | B2: 12.77
A3: 1200518 | B3: 0
A4: 1210232 | B4: 13.89
A5: 1190568 | B5: 11.92
A6: 1210730 | B6: 8.5
A7: 1210441 | B7: 14.46
A8: 1210454 | B8: 13.59
A9: 1180559 | B9: 0
A10: 1210040 | B10: 10.13
A11: 1210386 | B11: 12.72
A12: 1210213 | B12: 12.15
... A521: 1160439 | B521: 0

Sheet Cible
A1: 1210596 | B1: 2T BCA | C1: =VLOOKUP(A1,Source!$A$1:$B$521,2,FALSE) -> #N/A
A2: 1210691 | B2: 1T BCA | C2: =VLOOKUP(A2,Source!$A$1:$B$521,2,FALSE) -> #N/A
A3: 1210010 | B3: 2T BCA | C3: =VLOOKUP(A3,Source!$A$1:$B$521,2,FALSE) -> #N/A
A4: 1210159 | B4: 2T BCA | C4: =VLOOKUP(A4,Source!$A$1:$B$521,2,FALSE) -> #N/A
A5: 1210383 | B5: 2T BCA | C5: =VLOOKUP(A5,Source!$A$1:$B$521,2,FALSE) -> #N/A
A6: 1210104 | B6: 2T BCA | C6: =VLOOKUP(A6,Source!$A$1:$B$521,2,FALSE) -> #N/A
A7: 1210275 | B7: 2T BCA | C7: =VLOOKUP(A7,Source!$A$1:$B$521,2,FALSE) -> #N/A
A8: 1210090 | B8: 2T BCA | C8: =VLOOKUP(A8,Source!$A$1:$B$521,2,FALSE) -> #N/A
A9: 1200764 | B9: 2T BCA | C9: =VLOOKUP(A9,Source!$A$1:$B$521,2,FALSE) -> #N/A
A10: 1210204 | B10: 2T BCA | C10: =VLOOKUP(A10,Source!$A$1:$B$521,2,FALSE) -> #N/A
A11: 1200010 | B11: 2T BCA | C11: =VLOOKUP(A11,Source!$A$1:$B$521,2,FALSE) -> #N/A
A12: 1210433 | B12: 2T BCA | C12: =VLOOKUP(A12,Source!$A$1:$B$521,2,FALSE) -> #N/A
... A447: 1210456 | B447: 2T BCA | C447: =VLOOKUP(A447,Source!$A$1:$B$521,2,FALSE) -> #N/A
C448: =VLOOKUP(A448,Source!$A$1:$B$521,2,FALSE) -> #N/A
C449: =VLOOKUP(A449,Source!$A$1:$B$521,2,FALSE) -> #N/A
C450: =VLOOKUP(A450,Source!$A$1:$B$521,2,FALSE) -> #N/A
C451: =VLOOKUP(A451,Source!$A$1:$B$521,2,FALSE) -> #N/A
C452: =VLOOKUP(A452,Source!$A$1:$B$521,2,FALSE) -> #N/A
C453: =VLOOKUP(A453,Source!$A$1:$B$521,2,FALSE) -> #N/A
C454: =VLOOKUP(A454,Source!$A$1:$B$521,2,FALSE) -> #N/A
C455: =VLOOKUP(A455,Source!$A$1:$B$521,2,FALSE) -> #N/A
C456: =VLOOKUP(A456,Source!$A$1:$B$521,2,FALSE) -> #N/A
C457: =VLOOKUP(A457,Source!$A$1:$B$521,2,FALSE) -> #N/A
C458: =VLOOKUP(A458,Source!$A$1:$B$521,2,FALSE) -> #N/A
C459: =VLOOKUP(A459,Source!$A$1:$B$521,2,FALSE) -> #N/A
... C487: =VLOOKUP(A487,Source!$A$1:$B$521,2,FALSE) -> #N/A
