Workbook

Sheet Serv1
A1: Titre
A2: Date | B2: serv | C2: Retabilité | D2: Pseudo | E2: Mods | F2: Engine | G2: Lieu | H2: Tamming
A3: 42949 | B3: Serv1 | C3: 1M€ | D3: Karim | E3: Thermal | F3: RF/Tick | G3: Ocean | H3: 4H
A4: 42950 | B4: Serv2 | C4: 1 | D4: KaRif | E4: Endaria | F4: J/Tick | G4: Jungle | H4: 9H

Sheet Serv2
A1: =Serv1!A1 -> Titre
A2: Heure Lancement | B2: Temps de départ

Sheet Serv3
A1: =Serv1!A1 -> Titre
A2: commentaires : | B2: YesNo
A3: Coucou | B3: Yes
A4: Pas Coucou | B4: No

Sheet ServTotal
A1: =Serv1!A1 -> Titre
A2: =Serv1!A2 -> Date | B2: =Serv1!B2 -> serv | C2: =Serv1!C2 -> Retabilité | D2: =Serv1!D2 -> Pseudo | E2: =Serv1!E2 -> Mods | F2: =Serv3!A2 -> commentaires : | G2: =Serv3!B2 -> YesNo | H2: =Serv1!F2 -> Engine | I2: =Serv1!G2 -> Lieu | J2: =Serv1!H2 -> Tamming | K2: Heure Reboot | L2: Heure au départ avant tam
A3: =Serv1!A3 -> 42949 | B3: =Serv1!B3 -> Serv1 | C3: =Serv1!C3 -> 1M€ | D3: =Serv1!D3 -> Karim | E3: =Serv1!E3 -> Thermal | F3: =Serv3!A3 -> Coucou | G3: =Serv3!B3 -> Yes | H3: =Serv1!F3 -> RF/Tick | I3: =Serv1!G3 -> Ocean | J3: =Serv1!H3 -> 4H
A4: =Serv1!A4 -> 42950 | B4: =Serv1!B4 -> Serv2 | C4: =Serv1!C4 -> 1 | D4: =Serv1!D4 -> KaRif | E4: =Serv1!E4 -> Endaria | F4: =Serv3!A4 -> Pas Coucou | G4: =Serv3!B4 -> No | H4: =Serv1!F4 -> J/Tick | I4: =Serv1!G4 -> Jungle | J4: =Serv1!H4 -> 9H
A5: =Serv1!A5 -> 0 | B5: =Serv1!B5 -> 0 | C5: =Serv1!C5 -> 0 | D5: =Serv1!D5 -> 0 | E5: =Serv1!E5 -> 0 | F5: =Serv3!A5 -> 0 | G5: =Serv3!B5 -> 0 | H5: =Serv1!F5 -> 0 | I5: =Serv1!G5 -> 0 | J5: =Serv1!H5 -> 0
A6: =Serv1!A6 -> 0 | B6: =Serv1!B6 -> 0 | C6: =Serv1!C6 -> 0 | D6: =Serv1!D6 -> 0 | E6: =Serv1!E6 -> 0 | F6: =Serv3!A6 -> 0 | G6: =Serv3!B6 -> 0 | H6: =Serv1!F6 -> 0 | I6: =Serv1!G6 -> 0 | J6: =Serv1!H6 -> 0
A7: =Serv1!A7 -> 0 | B7: =Serv1!B7 -> 0 | C7: =Serv1!C7 -> 0 | D7: =Serv1!D7 -> 0 | E7: =Serv1!E7 -> 0 | F7: =Serv3!A7 -> 0 | G7: =Serv3!B7 -> 0 | H7: =Serv1!F7 -> 0 | I7: =Serv1!G7 -> 0 | J7: =Serv1!H7 -> 0
A8: =Serv1!A8 -> 0 | B8: =Serv1!B8 -> 0 | C8: =Serv1!C8 -> 0 | D8: =Serv1!D8 -> 0 | E8: =Serv1!E8 -> 0 | F8: =Serv3!A8 -> 0 | G8: =Serv3!B8 -> 0 | H8: =Serv1!F8 -> 0 | I8: =Serv1!G8 -> 0 | J8: =Serv1!H8 -> 0
A9: =Serv1!A9 -> 0 | B9: =Serv1!B9 -> 0 | C9: =Serv1!C9 -> 0 | D9: =Serv1!D9 -> 0 | E9: =Serv1!E9 -> 0 | F9: =Serv3!A9 -> 0 | G9: =Serv3!B9 -> 0 | H9: =Serv1!F9 -> 0 | I9: =Serv1!G9 -> 0 | J9: =Serv1!H9 -> 0
A10: =Serv1!A10 -> 0 | B10: =Serv1!B10 -> 0 | C10: =Serv1!C10 -> 0 | D10: =Serv1!D10 -> 0 | E10: =Serv1!E10 -> 0 | F10: =Serv3!A10 -> 0 | G10: =Serv3!B10 -> 0 | H10: =Serv1!F10 -> 0 | I10: =Serv1!G10 -> 0 | J10: =Serv1!H10 -> 0
A11: =Serv1!A11 -> 0 | B11: =Serv1!B11 -> 0 | C11: =Serv1!C11 -> 0 | D11: =Serv1!D11 -> 0 | E11: =Serv1!E11 -> 0 | F11: =Serv3!A11 -> 0 | G11: =Serv3!B11 -> 0 | H11: =Serv1!F11 -> 0 | I11: =Serv1!G11 -> 0 | J11: =Serv1!H11 -> 0
A12: =Serv1!A12 -> 0 | B12: =Serv1!B12 -> 0 | C12: =Serv1!C12 -> 0 | D12: =Serv1!D12 -> 0 | E12: =Serv1!E12 -> 0 | F12: =Serv3!A12 -> 0 | G12: =Serv3!B12 -> 0 | H12: =Serv1!F12 -> 0 | I12: =Serv1!G12 -> 0 | J12: =Serv1!H12 -> 0
A13: =Serv1!A13 -> 0 | B13: =Serv1!B13 -> 0 | C13: =Serv1!C13 -> 0 | D13: =Serv1!D13 -> 0 | E13: =Serv1!E13 -> 0 | F13: =Serv3!A13 -> 0 | G13: =Serv3!B13 -> 0 | H13: =Serv1!F13 -> 0 | I13: =Serv1!G13 -> 0 | J13: =Serv1!H13 -> 0
A14: =Serv1!A14 -> 0 | B14: =Serv1!B14 -> 0 | C14: =Serv1!C14 -> 0 | D14: =Serv1!D14 -> 0 | E14: =Serv1!E14 -> 0 | F14: =Serv3!A14 -> 0 | G14: =Serv3!B14 -> 0 | H14: =Serv1!F14 -> 0 | I14: =Serv1!G14 -> 0 | J14: =Serv1!H14 -> 0
... A36: =Serv1!A36 -> 0 | B36: =Serv1!B36 -> 0 | C36: =Serv1!C36 -> 0 | D36: =Serv1!D36 -> 0 | E36: =Serv1!E36 -> 0 | F36: =Serv3!A36 -> 0 | G36: =Serv3!B36 -> 0 | H36: =Serv1!F36 -> 0 | I36: =Serv1!G36 -> 0 | J36: =Serv1!H36 -> 0
