Workbook

Sheet 1
A2: N° identification | B2: LIEU | D2: NOTE | G2: Remarques | H2: Actions correctives | K2: Visa
D3: C | E3: NC min | F3: NC maj
A4: 1
A5: 2
A6: 3
A7: 4
A8: 5
A9: 6
A10: 7
A11: 8
A12: 9
A13: 10
A14: 11
A15: 12
... A25: 22
A27: Nombre de points contrôlés | D27: % Conforme | G27: % NC mineure | I27: % NC majeure
A28: =SUM(D4:F11,D14:F14,D19:F21) -> 0 | D28: =SUM(D4:D11,D14,D19:D21)*100/A28 -> #DIV/0! | G28: =SUM(E4:E11,E14,E19:E21)*100/A28 -> #DIV/0! | I28: =SUM(F4:F11,F14,F19:F21)*100/A28 -> #DIV/0!
A29: =SUM(D12:F13,D15:F18,D22:F25) -> 0 | D29: =SUM(D12:D13,D15:D18,D22:D25)*100/A29 -> #DIV/0! | G29: =SUM(E12:E13,E15:E18,E22:E25)*100/A29 -> #DIV/0! | I29: =SUM(F12:F13,F15:F18,F22:F25)*100/A29 -> #DIV/0!
D32: Nbre Conforme | G32: Nbre NC mineure | I32: Nbre NC majeure
D33: =SUM(D4:D11,D14,D19:D21) -> 0 | G33: =SUM(E4:E11,E14,E19:E21) -> 0 | I33: =SUM(F4:F11,F14,F19:F21) -> 0
D34: =SUM(D12:D13,D15:D18,D22:D25) -> 0 | G34: =SUM(E12:E13,E15:E18,E22:E25) -> 0 | I34: =SUM(F12:F13,F15:F18,F22:F25) -> 0

Sheet 1 (2)
A1: N° identification | B1: LIEU | D1: NOTE | G1: Remarques | H1: Actions correctives | K1: Visa
D2: C | E2: NC min | F2: NC maj
A3: 1
A4: 2
A5: 3
A6: 4
A7: 5
A8: 6
A9: 7
A10: 8
A11: 9
A12: 10
A13: 11
A14: 12
... A24: 22
A26: Nombre de points contrôlés | D26: % Conforme | G26: % NC mineure | I26: % NC majeure
A27: =SUM(D3:F10,D13:F13,D18:F20) -> 0 | D27: =SUM(D3:D10,D13,D18:D20)*100/A27 -> #DIV/0! | G27: =SUM(E3:E10,E13,E18:E20)*100/A27 -> #DIV/0! | I27: =SUM(F3:F10,F13,F18:F20)*100/A27 -> #DIV/0!
A28: =SUM(D11:F12,D14:F17,D21:F24) -> 0 | D28: =SUM(D11:D12,D14:D17,D21:D24)*100/A28 -> #DIV/0! | G28: =SUM(E11:E12,E14:E17,E21:E24)*100/A28 -> #DIV/0! | I28: =SUM(F11:F12,F14:F17,F21:F24)*100/A28 -> #DIV/0!
D31: Nbre Conforme | G31: Nbre NC mineure | I31: Nbre NC majeure
D32: =SUM(D3:D10,D13,D18:D20) -> 0 | G32: =SUM(E3:E10,E13,E18:E20) -> 0 | I32: =SUM(F3:F10,F13,F18:F20) -> 0
D33: =SUM(D11:D12,D14:D17,D21:D24) -> 0 | G33: =SUM(E11:E12,E14:E17,E21:E24) -> 0 | I33: =SUM(F11:F12,F14:F17,F21:F24) -> 0

Sheet 1 (3)
A4: N° identification | B4: LIEU | D4: NOTE | G4: Remarques | H4: Actions correctives | K4: Visa
D5: C | E5: NC min | F5: NC maj
A6: 1
A7: 2
A8: 3
A9: 4
A10: 5
A11: 6
A12: 7
A13: 8
A14: 9
A15: 10
A16: 11
A17: 12
... A27: 22
A29: Nombre de points contrôlés | D29: % Conforme | G29: % NC mineure | I29: % NC majeure
A30: =SUM(D6:F13,D16:F16,D21:F23) -> 0 | D30: =SUM(D6:D13,D16,D21:D23)*100/A30 -> #DIV/0! | G30: =SUM(E6:E13,E16,E21:E23)*100/A30 -> #DIV/0! | I30: =SUM(F6:F13,F16,F21:F23)*100/A30 -> #DIV/0!
A31: =SUM(D14:F15,D17:F20,D24:F27) -> 0 | D31: =SUM(D14:D15,D17:D20,D24:D27)*100/A31 -> #DIV/0! | G31: =SUM(E14:E15,E17:E20,E24:E27)*100/A31 -> #DIV/0! | I31: =SUM(F14:F15,F17:F20,F24:F27)*100/A31 -> #DIV/0!
D34: Nbre Conforme | G34: Nbre NC mineure | I34: Nbre NC majeure
D35: =SUM(D6:D13,D16,D21:D23) -> 0 | G35: =SUM(E6:E13,E16,E21:E23) -> 0 | I35: =SUM(F6:F13,F16,F21:F23) -> 0
D36: =SUM(D14:D15,D17:D20,D24:D27) -> 0 | G36: =SUM(E14:E15,E17:E20,E24:E27) -> 0 | I36: =SUM(F14:F15,F17:F20,F24:F27) -> 0

Sheet Résultats
A4: Définition | G4: Nombre | I4: %
A5: Conforme | D5: Zone non sensible | G5: =SUM([1]Palettisation!D39,[1]MasterpackD!D44,[1]MasterpackB!D44:F46,[1]MasterpackA!D44:F46,[1]Primchant!D40,[1]EmballageCD!O49,[1]EmballageAB!O41,[1]condipatte!D35,'[1]Chambre positive'!D23:F23,[1]SortieSpinchillersCD!D46,'[1]Sortie SpinchillersAB'!D45:F45,[1]EviscérationCD!D175,[1]EviscérationAB!D179,'[1]Congélateur à plaque'!D39:F39,'[1]Abattage B'!D56:F56,'[1]Abattage A'!D55:F55,[1]Accroche!D38) -> 1
D6: Zone sensible | G6: =SUM([1]MasterpackD!D43,[1]MasterpackB!D43,[1]MasterpackA!D43,[1]Primchant!D39,[1]Détecteurmétal!D25,[1]EmballageCD!O48,[1]EmballageAB!O40,[1]condipatte!D34,[1]SortieSpinchillersCD!D45,'[1]Sortie SpinchillersAB'!D44:F44,[1]EviscérationCD!D174,[1]EviscérationAB!D178,'[1]Salle des cous'!D24:F24) -> 0
A7: Non Conformité mineure | D7: Zone non sensible | G7: =SUM([1]Palettisation!G39,[1]MasterpackD!G44,[1]MasterpackB!G44,[1]MasterpackA!G44,[1]Primchant!G40,[1]EmballageCD!R49,[1]EmballageAB!R41,[1]condipatte!G35,'[1]Chambre positive'!G23,[1]SortieSpinchillersCD!G46,'[1]Sortie SpinchillersAB'!G45,[1]EviscérationCD!G175,[1]EviscérationAB!G179,'[1]Congélateur à plaque'!G39,'[1]Abattage B'!G56,'[1]Abattage A'!G55,[1]Accroche!G38) -> 1
D8: Zone sensible | G8: =SUM([1]MasterpackD!$G$43,[1]MasterpackB!G43,[1]MasterpackA!G43,[1]Primchant!G39,[1]Détecteurmétal!G25,[1]EmballageCD!R48,[1]EmballageAB!R40,[1]condipatte!G34,[1]SortieSpinchillersCD!G45,'[1]Sortie SpinchillersAB'!G44:H44,[1]EviscérationCD!G174,[1]EviscérationAB!G178,'[1]Salle des cous'!G24:H24) -> 0
A9: Non Conformité majeure | D9: Zone non sensible | G9: =SUM([1]Palettisation!I39,[1]MasterpackD!$I$44,[1]MasterpackB!I44,[1]MasterpackA!I44,[1]Primchant!I40,[1]EmballageCD!T49,[1]EmballageAB!T41,[1]condipatte!I35,'[1]Chambre positive'!I23:K23,[1]SortieSpinchillersCD!I46,'[1]Sortie SpinchillersAB'!I45:K45,[1]EviscérationCD!I175,[1]EviscérationAB!I179,'[1]Congélateur à plaque'!I39:K39,'[1]Abattage B'!I56:K56,'[1]Abattage A'!I55:K55,[1]Accroche!I38) -> 1
D10: Zone sensible | G10: =SUM([1]MasterpackD!$I$43,[1]MasterpackB!I43,[1]MasterpackA!I43,[1]Primchant!I39,[1]Détecteurmétal!I25,[1]EmballageCD!T48,[1]EmballageAB!T40,[1]condipatte!I34,[1]SortieSpinchillersCD!I45,'[1]Sortie SpinchillersAB'!I44:K44,[1]EviscérationCD!I174,[1]EviscérationAB!I178,'[1]Salle des cous'!I24:K24) -> 0
