Workbook

Sheet exported_analysis_history
A1: site web | C1: Domaine | E1: Date et heure | H1: Détails
D2: 1568227191861.704 | E2: 43719.611 | F2: 861 | G2: typed | H2: Microsoft Official Support
D3: 1568227192363.103 | E3: 43719.611 | F3: 363 | G3: typed | H3: Microsoft Official Support
D4: 1568227192861.0781 | E4: 43719.611 | F4: 861 | G4: typed | H4: Microsoft Official Support
D5: 1568227193361.6199 | E5: 43719.611 | F5: 361 | G5: typed | H5: Microsoft Official Support
D6: 1568227193863.648 | E6: 43719.611 | F6: 863 | G6: typed | H6: Microsoft Official Support
D7: 1568227194361.352 | E7: 43719.611 | F7: 361 | G7: typed | H7: Microsoft Official Support
D8: 1568227194860.829 | E8: 43719.611 | F8: 860 | G8: typed | H8: Microsoft Official Support
D9: 1568227195362.122 | E9: 43719.611 | F9: 362 | G9: typed | H9: Microsoft Official Support
D10: 1568227201226.9958 | E10: 43719.611 | F10: 226 | G10: typed | H10: Microsoft Official Support
C11: petalmd.com | D11: 1568750153700.8591 | E11: 43725.664 | F11: 700 | G11: link | H11: PetalMD
C12: petalmd.com | D12: 1568750212524.187 | E12: 43725.664 | F12: 524 | G12: link | H12: PetalMD
C13: petalmd.com | D13: 1568750249456.76 | E13: 43725.665 | F13: 456 | G13: link | H13: PetalMD
C14: petalmd.com | D14: 1568774594391.9639 | E14: 43725.947 | F14: 391 | G14: link | H14: PetalMD
C15: petalmd.com | D15: 1568775327834.166 | E15: 43725.955 | F15: 834 | G15: link | H15: PetalMD
C16: petalmd.com | D16: 1568775370413.25 | E16: 43725.956 | F16: 413 | G16: typed | H16: PetalMD
C17: 211quebecregions.ca | D17: 1568916273305.5251 | E17: 43727.586 | F17: 305 | G17: typed | H17: Recherche : Organismes ou programmes
C18: petalmd.com | D18: 1568996710054.486 | E18: 43728.517 | F18: 54 | G18: link | H18: PetalMD
C19: petalmd.com | D19: 1568996766003.268 | E19: 43728.518 | F19: 3 | G19: link | H19: PetalMD
C20: petalmd.com | D20: 1569003516667.15 | E20: 43728.596 | F20: 667 | G20: typed | H20: PetalMD
C21: petalmd.com | D21: 1569004091077.942 | E21: 43728.603 | F21: 77 | G21: link | H21: PetalMD
C22: petalmd.com | D22: 1569004107746.375 | E22: 43728.603 | F22: 746 | G22: typed | H22: PetalMD
... C45: medfarsolutions.com | D45: 1569937597682.5781 | E45: 43739.407 | F45: 682 | G45: link | H45: MYLE - MEDFAR Solutions
D46: 1569937715128.0068 | E46: 43739.409 | F46: 128 | G46: link | H46: History Trends Unlimited
C47: google.com | D47: 1569937781254.863 | E47: 43739.41 | F47: 254 | G47: link | H47: ChromeÂ WebÂ Store - Extensions
C48: google.com | D48: 1569937800083.2168 | E48: 43739.41 | F48: 83 | G48: link | H48: ChromeÂ WebÂ Store - text blaze
C49: google.com | D49: 1569937962584.414 | E49: 43739.412 | F49: 584 | G49: link | H49: ChromeÂ WebÂ Store - blaze
C50: google.com | D50: 1569937995632.301 | E50: 43739.412 | F50: 632 | G50: link | H50: ChromeÂ WebÂ Store - snippets
C51: google.com | D51: 1569938020180.0972 | E51: 43739.412 | F51: 180 | G51: link | H51: ChromeÂ WebÂ Store - Extensions
C52: google.ca | D52: 1569938029867.07 | E52: 43739.412 | F52: 867 | G52: generated | H52: teshh. - Recherche Google
D53: 1569938045228.604 | E53: 43739.413 | F53: 228 | G53: link | H53: ProKeys | Options
D54: 1569938045617.882 | E54: 43739.413 | F54: 617 | G54: link | H54: ProKeys | Options
C55: google.com | D55: 1569938062358.792 | E55: 43739.413 | F55: 358 | G55: link | H55: ChromeÂ WebÂ Store - Extensions
C56: google.com | D56: 1569938068177.298 | E56: 43739.413 | F56: 177 | G56: link | H56: ChromeÂ WebÂ Store - blaze
C57: google.com | D57: 1569938082535.422 | E57: 43739.413 | F57: 535 | G57: link | H57: ChromeÂ WebÂ Store - text blaze
C58: google.com | D58: 1569938091799.4822 | E58: 43739.413 | F58: 799 | G58: link | H58: ChromeÂ WebÂ Store - blaze
C59: google.com | D59: 1569938103039.109 | E59: 43739.413 | F59: 39 | G59: link | H59: ChromeÂ WebÂ Store - snippets
C60: google.com | D60: 1569938137006.174 | E60: 43739.414 | F60: 6 | G60: link
C61: medfarsolutions.com | D61: 1569943614464.3098 | E61: 43739.477 | F61: 464 | G61: auto_toplevel | H61: MYLE - MEDFAR Solutions
C62: medfarsolutions.com | D62: 1569943619020.157 | E62: 43739.477 | F62: 20 | G62: link | H62: MYLE - MEDFAR Solutions
C63: medfarsolutions.com | D63: 1569943619020.157 | E63: 43739.477 | F63: 20 | G63: link | H63: MYLE - MEDFAR Solutions
C64: live.com | D64: 1569943631039.154 | E64: 43739.477 | F64: 39 | G64: auto_bookmark | H64: Compte Microsoft
C65: live.com | D65: 1569943633384.2112 | E65: 43739.477 | F65: 384 | G65: link | H65: Compte Microsoft
C66: live.com | D66: 1569943633392.387 | E66: 43739.477 | F66: 392 | G66: link | H66: Compte Microsoft
C67: google.ca | D67: 1569943640153.82 | E67: 43739.477 | F67: 153 | G67: auto_bookmark | H67: Google
C68: medfarsolutions.com | D68: 1569943641579.8262 | E68: 43739.477 | F68: 579 | G68: link | H68: MYLE - MEDFAR Solutions
C69: google.ca | D69: 1569943645002.685 | E69: 43739.477 | F69: 2 | G69: form_submit | H69: ramq - Recherche Google
C70: google.ca | D70: 1569943649122.618 | E70: 43739.477 | F70: 122 | G70: link | H70: ramq - Recherche Google
C71: google.ca | D71: 1569943652563.641 | E71: 43739.477 | F71: 563 | G71: link | H71: ramq - Recherche Google
C72: google.ca | D72: 1569943652563.641 | E72: 43739.477 | F72: 563 | G72: link
C73: fpnotebook.com | D73: 1569943658201.223 | E73: 43739.478 | F73: 201 | G73: auto_bookmark
C74: medfarsolutions.com | D74: 1569943695443.441 | E74: 43739.478 | F74: 443 | G74: link | H74: MYLE - MEDFAR Solutions
C75: medfarsolutions.com | D75: 1569945527240.206 | E75: 43739.499 | F75: 240 | G75: link | H75: MYLE - MEDFAR Solutions
C76: medfarsolutions.com | D76: 1569952957526.747 | E76: 43739.585 | F76: 526 | G76: auto_toplevel | H76: MYLE - MEDFAR Solutions
C77: medfarsolutions.com | D77: 1569952958662.982 | E77: 43739.585 | F77: 662 | G77: link | H77: MYLE - MEDFAR Solutions
C78: medfarsolutions.com | D78: 1569952958662.982 | E78: 43739.585 | F78: 662 | G78: link | H78: MYLE - MEDFAR Solutions
C79: medfarsolutions.com | D79: 1569952969608.0781 | E79: 43739.585 | F79: 608 | G79: link | H79: MYLE - MEDFAR Solutions
C80: medfarsolutions.com | D80: 1569952970504.719 | E80: 43739.585 | F80: 504 | G80: link | H80: MYLE - MEDFAR Solutions
C81: medfarsolutions.com | D81: 1569953003334.0671 | E81: 43739.586 | F81: 334 | G81: link | H81: MYLE - MEDFAR Solutions
C82: medfarsolutions.com | D82: 1569953034024.3071 | E82: 43739.586 | F82: 24 | G82: link | H82: MYLE - MEDFAR Solutions
C83: medfarsolutions.com | D83: 1569953047086.916 | E83: 43739.586 | F83: 86 | G83: link | H83: MYLE - MEDFAR Solutions
C84: medfarsolutions.com | D84: 1569953671263.25 | E84: 43739.593 | F84: 263 | G84: link | H84: M.Y.L.E Forms
C85: medfarsolutions.com | D85: 1569957233625.9092 | E85: 43739.635 | F85: 625 | G85: link | H85: C:\Users\Simon\AppData\Local\Temp\Temp1_ABCDAIRE SPECIALE
... C87: medfarsolutions.com | D87: 1569957562237.453 | E87: 43739.638 | F87: 237 | G87: link | H87: M.Y.L.E Forms
C88: medfarsolutions.com | D88: 1569957583190.042 | E88: 43739.639 | F88: 190 | G88: link | H88: 5017914
C89: medfarsolutions.com | D89: 1569957662930.5388 | E89: 43739.64 | F89: 930 | G89: link | H89: MYLE - MEDFAR Solutions
C90: medfarsolutions.com | D90: 1569957696416.534 | E90: 43739.64 | F90: 416 | G90: link | H90: MYLE - MEDFAR Solutions
C91: medfarsolutions.com | D91: 1569957741166.631 | E91: 43739.641 | F91: 166 | G91: link | H91: MYLE - MEDFAR Solutions
C92: google.ca | D92: 1569958641586.838 | E92: 43739.651 | F92: 586 | G92: generated | H92: libÃ©rer espace sur disque dur. - Recherche Google
C93: netixel.fr | D93: 1569958659105.0789 | E93: 43739.651 | F93: 105 | G93: link
C94: microsoft.com | D94: 1569958665047.599 | E94: 43739.651 | F94: 47 | G94: link | H94: LibÃ©rer de lâ€™espace disque dans WindowsÂ 10 - Windows Help
C95: medfarsolutions.com | D95: 1569959272392.8188 | E95: 43739.658 | F95: 392 | G95: link | H95: MYLE - MEDFAR Solutions
C96: medfarsolutions.com | D96: 1569962274105.309 | E96: 43739.693 | F96: 105 | G96: link | H96: MYLE - MEDFAR Solutions
C97: google.ca | D97: 1569962409170.8281 | E97: 43739.695 | F97: 170 | G97: auto_toplevel | H97: Google
C98: blaze.today | D98: 1569967272857.458 | E98: 43739.751 | F98: 857 | G98: link | H98: Text Blaze Dashboard
C99: blaze.today | D99: 1569967303565.9128 | E99: 43739.751 | F99: 565 | G99: link | H99: Text Blaze Dashboard
C100: blaze.today | D100: 1569967305902.098 | E100: 43739.751 | F100: 902 | G100: link | H100: Text Blaze Dashboard
C101: medfarsolutions.com | D101: 1570020889629.8872 | E101: 43740.371 | F101: 629 | G101: link | H101: MYLE - MEDFAR Solutions
C102: google.ca | D102: 1570020901489.49 | E102: 43740.372 | F102: 489 | G102: auto_bookmark | H102: Google
C103: google.ca | D103: 1570020912699.306 | E103: 43740.372 | F103: 699 | G103: form_submit | H103: certificat de bonne santÃ© avant voyage - Recherche Google
C104: medfarsolutions.com | D104: 1570020934731.8398 | E104: 43740.372 | F104: 731 | G104: link | H104: MYLE - MEDFAR Solutions
C105: medfarsolutions.com | D105: 1570020942534.7742 | E105: 43740.372 | F105: 534 | G105: link | H105: MYLE - MEDFAR Solutions
... C113: medfarsolutions.com | D113: 1570021346881.5889 | E113: 43740.377 | F113: 881 | G113: link | H113: 20190820102503 (13).PDF
C114: medfarsolutions.com | D114: 1570021668639.448 | E114: 43740.38 | F114: 639 | G114: link
C115: medfarsolutions.com | D115: 1570021822988.2341 | E115: 43740.382 | F115: 988 | G115: link | H115: PROD1 - SuccÃ¨s - SAFIR
C116: medfarsolutions.com | D116: 1570022134769.868 | E116: 43740.386 | F116: 769 | G116: link | H116: 20190508111742.PDF
C117: medfarsolutions.com | D117: 1570022142175.946 | E117: 43740.386 | F117: 175 | G117: link | H117: 20190508111742.PDF
C118: medfarsolutions.com | D118: 1570022148207.7488 | E118: 43740.386 | F118: 207 | G118: link | H118: 20190201075157 (6).PDF
C119: medfarsolutions.com | D119: 1570022236327.751 | E119: 43740.387 | F119: 327 | G119: link | H119: 20180830111520 (2).PDF
C120: medfarsolutions.com | D120: 1570022422960.4138 | E120: 43740.389 | F120: 960 | G120: link
C121: medfarsolutions.com | D121: 1570022641222.423 | E121: 43740.392 | F121: 222 | G121: link | H121: MYLE - MEDFAR Solutions
C122: medfarsolutions.com | D122: 1570022656126.7441 | E122: 43740.392 | F122: 126 | G122: link | H122: MYLE - MEDFAR Solutions
C123: medfarsolutions.com | D123: 1570022665750.0342 | E123: 43740.392 | F123: 750 | G123: link | H123: MYLE - MEDFAR Solutions
C124: medfarsolutions.com | D124: 1570023155394.01 | E124: 43740.398 | F124: 394 | G124: link | H124: MYLE - MEDFAR Solutions
C125: medfarsolutions.com | D125: 1570023363863.761 | E125: 43740.4 | F125: 863 | G125: link | H125: PROD1 - SuccÃ¨s - SAFIR
C126: medfarsolutions.com | D126: 1570023369169.328 | E126: 43740.4 | F126: 169 | G126: link | H126: MYLE - MEDFAR Solutions
C127: medfarsolutions.com | D127: 1570023370191.425 | E127: 43740.4 | F127: 191 | G127: link | H127: MYLE - MEDFAR Solutions
C128: medfarsolutions.com | D128: 1570023511887.032 | E128: 43740.402 | F128: 887 | G128: link | H128: MYLE - MEDFAR Solutions
C129: medfarsolutions.com | D129: 1570023522461.7 | E129: 43740.402 | F129: 461 | G129: link | H129: MYLE - MEDFAR Solutions
C130: medfarsolutions.com | D130: 1570023613873.832 | E130: 43740.403 | F130: 873 | G130: link | H130: MYLE - MEDFAR Solutions
...

Sheet Historique épuré
A1: Domaine | B1: Secteur | C1: h début | D1: h fin (dernière entrée + 1 min)
A2: petalmd.com | B2: Admin | C2: 43725.947 | D2: 43725.955
A3: petalmd.com | B3: Admin | C3: 43728.596 | D3: 43728.603
A4: medfarsolutions.com | B4: Clinique | C4: 43739.374 | D4: 43739.408
A5: medfarsolutions.com | B5: Clinique | C5: 43739.585 | D5: 43739.641
A6: medfarsolutions.com | B6: Clinique | C6: 43740.371 | D6: 43740.426
A7: medfarsolutions.com | B7: Clinique | C7: 43740.435 | D7: 43740.443
A8: Live.com | B8: Admin | C8: 43740.463 | D8: 43740.474
A9: medfarsolutions.com | B9: Clinique | C9: 43740.509 | D9: 43740.512
A10: medfarsolutions.com | B10: Clinique | C10: 43741.374 | D10: 43740.412
A11: medfarsolutions.com | B11: Clinique | C11: 43741.42 | D11: 43741.423
A12: medfarsolutions.com | B12: Clinique | C12: 43741.442 | D12: 43741.446
A13: medfarsolutions.com | B13: Clinique | C13: 43741.476 | D13: 43741.485
... A22: medfarsolutions.com | B22: Clinique | C22: 43745.635 | D22: 43745.665
A24: Ne retenir que certains domaines et les inscrire si passé 5 minutes et plus sur ces sites.
A25: Ne pas tenir compte des interruptions de 15 minutes et moins.

Sheet Vers patron
A1: Tâche | B1: h arrivée | C1: h départ | D1: HT Durée | E1: Comment | F1: Jour | G1: 0 | H1: 0.33333333 | I1: 0.5 | J1: 0.75 | K1: 0.83333333 | L1: 0.91666667 | M1: 1 | N1: Durée Tot | O1: No sem
A2: ='Historique épuré'!B2 -> Admin | B2: ='Historique épuré'!C2 -> 43725.947 | C2: ='Historique épuré'!D2 -> 43725.955 | F2: =B2 -> 43725.947 | G2: =MAX(0,MIN(H$1,MOD($C2,1)+(INT($C2)>INT($B2)))-MAX(G$1,MOD($B2,1)))*24 -> 0 | H2: =MAX(0,MIN(I$1,MOD($C2,1)+(INT($C2)>INT($B2)))-MAX(H$1,MOD($B2,1)))*24 -> 0 | I2: =MAX(0,MIN(J$1,MOD($C2,1)+(INT($C2)>INT($B2)))-MAX(I$1,MOD($B2,1)))*24 -> 0 | J2: =MAX(0,MIN(K$1,MOD($C2,1)+(INT($C2)>INT($B2)))-MAX(J$1,MOD($B2,1)))*24 -> 0 | K2: =MAX(0,MIN(L$1,MOD($C2,1)+(INT($C2)>INT($B2)))-MAX(K$1,MOD($B2,1)))*24 -> 0 | L2: =MAX(0,MIN(M$1,MOD($C2,1)+(INT($C2)>INT($B2)))-MAX(L$1,MOD($B2,1)))*24 -> 0.2 | M2: =MAX(0,MIN(N$1,MOD($C2,1)+(INT($C2)>INT($B2)))-MAX(M$1,MOD($B2,1)))*24 -> 0 | N2: =SUM(G2:M2) -> 0.2 | O2: =IF(B2<>"",WEEKNUM(B2,1),"") -> 38
A3: ='Historique épuré'!B3 -> Admin | B3: ='Historique épuré'!C3 -> 43728.596 | C3: ='Historique épuré'!D3 -> 43728.603 | F3: =B3 -> 43728.596 | G3: =MAX(0,MIN(H$1,MOD($C3,1)+(INT($C3)>INT($B3)))-MAX(G$1,MOD($B3,1)))*24 -> 0 | H3: =MAX(0,MIN(I$1,MOD($C3,1)+(INT($C3)>INT($B3)))-MAX(H$1,MOD($B3,1)))*24 -> 0 | I3: =MAX(0,MIN(J$1,MOD($C3,1)+(INT($C3)>INT($B3)))-MAX(I$1,MOD($B3,1)))*24 -> 0.18333333 | J3: =MAX(0,MIN(K$1,MOD($C3,1)+(INT($C3)>INT($B3)))-MAX(J$1,MOD($B3,1)))*24 -> 0 | K3: =MAX(0,MIN(L$1,MOD($C3,1)+(INT($C3)>INT($B3)))-MAX(K$1,MOD($B3,1)))*24 -> 0 | L3: =MAX(0,MIN(M$1,MOD($C3,1)+(INT($C3)>INT($B3)))-MAX(L$1,MOD($B3,1)))*24 -> 0 | M3: =MAX(0,MIN(N$1,MOD($C3,1)+(INT($C3)>INT($B3)))-MAX(M$1,MOD($B3,1)))*24 -> 0 | N3: =SUM(G3:M3) -> 0.18333333 | O3: =IF(B3<>"",WEEKNUM(B3,1),"") -> 38
A4: ='Historique épuré'!B4 -> Clinique | B4: ='Historique épuré'!C4 -> 43739.374 | C4: ='Historique épuré'!D4 -> 43739.408 | F4: =B4 -> 43739.374 | G4: =MAX(0,MIN(H$1,MOD($C4,1)+(INT($C4)>INT($B4)))-MAX(G$1,MOD($B4,1)))*24 -> 0 | H4: =MAX(0,MIN(I$1,MOD($C4,1)+(INT($C4)>INT($B4)))-MAX(H$1,MOD($B4,1)))*24 -> 0.81666667 | I4: =MAX(0,MIN(J$1,MOD($C4,1)+(INT($C4)>INT($B4)))-MAX(I$1,MOD($B4,1)))*24 -> 0 | J4: =MAX(0,MIN(K$1,MOD($C4,1)+(INT($C4)>INT($B4)))-MAX(J$1,MOD($B4,1)))*24 -> 0 | K4: =MAX(0,MIN(L$1,MOD($C4,1)+(INT($C4)>INT($B4)))-MAX(K$1,MOD($B4,1)))*24 -> 0 | L4: =MAX(0,MIN(M$1,MOD($C4,1)+(INT($C4)>INT($B4)))-MAX(L$1,MOD($B4,1)))*24 -> 0 | M4: =MAX(0,MIN(N$1,MOD($C4,1)+(INT($C4)>INT($B4)))-MAX(M$1,MOD($B4,1)))*24 -> 0 | N4: =SUM(G4:M4) -> 0.81666667 | O4: =IF(B4<>"",WEEKNUM(B4,1),"") -> 40
A5: ='Historique épuré'!B5 -> Clinique | B5: ='Historique épuré'!C5 -> 43739.585 | C5: ='Historique épuré'!D5 -> 43739.641 | F5: =B5 -> 43739.585 | G5: =MAX(0,MIN(H$1,MOD($C5,1)+(INT($C5)>INT($B5)))-MAX(G$1,MOD($B5,1)))*24 -> 0 | H5: =MAX(0,MIN(I$1,MOD($C5,1)+(INT($C5)>INT($B5)))-MAX(H$1,MOD($B5,1)))*24 -> 0 | I5: =MAX(0,MIN(J$1,MOD($C5,1)+(INT($C5)>INT($B5)))-MAX(I$1,MOD($B5,1)))*24 -> 1.35 | J5: =MAX(0,MIN(K$1,MOD($C5,1)+(INT($C5)>INT($B5)))-MAX(J$1,MOD($B5,1)))*24 -> 0 | K5: =MAX(0,MIN(L$1,MOD($C5,1)+(INT($C5)>INT($B5)))-MAX(K$1,MOD($B5,1)))*24 -> 0 | L5: =MAX(0,MIN(M$1,MOD($C5,1)+(INT($C5)>INT($B5)))-MAX(L$1,MOD($B5,1)))*24 -> 0 | M5: =MAX(0,MIN(N$1,MOD($C5,1)+(INT($C5)>INT($B5)))-MAX(M$1,MOD($B5,1)))*24 -> 0 | N5: =SUM(G5:M5) -> 1.35 | O5: =IF(B5<>"",WEEKNUM(B5,1),"") -> 40
A6: ='Historique épuré'!B6 -> Clinique | B6: ='Historique épuré'!C6 -> 43740.371 | C6: ='Historique épuré'!D6 -> 43740.426 | F6: =B6 -> 43740.371 | G6: =MAX(0,MIN(H$1,MOD($C6,1)+(INT($C6)>INT($B6)))-MAX(G$1,MOD($B6,1)))*24 -> 0 | H6: =MAX(0,MIN(I$1,MOD($C6,1)+(INT($C6)>INT($B6)))-MAX(H$1,MOD($B6,1)))*24 -> 1.3166667 | I6: =MAX(0,MIN(J$1,MOD($C6,1)+(INT($C6)>INT($B6)))-MAX(I$1,MOD($B6,1)))*24 -> 0 | J6: =MAX(0,MIN(K$1,MOD($C6,1)+(INT($C6)>INT($B6)))-MAX(J$1,MOD($B6,1)))*24 -> 0 | K6: =MAX(0,MIN(L$1,MOD($C6,1)+(INT($C6)>INT($B6)))-MAX(K$1,MOD($B6,1)))*24 -> 0 | L6: =MAX(0,MIN(M$1,MOD($C6,1)+(INT($C6)>INT($B6)))-MAX(L$1,MOD($B6,1)))*24 -> 0 | M6: =MAX(0,MIN(N$1,MOD($C6,1)+(INT($C6)>INT($B6)))-MAX(M$1,MOD($B6,1)))*24 -> 0 | N6: =SUM(G6:M6) -> 1.3166667 | O6: =IF(B6<>"",WEEKNUM(B6,1),"") -> 40
A7: ='Historique épuré'!B7 -> Clinique | B7: ='Historique épuré'!C7 -> 43740.435 | C7: ='Historique épuré'!D7 -> 43740.443 | F7: =B7 -> 43740.435 | G7: =MAX(0,MIN(H$1,MOD($C7,1)+(INT($C7)>INT($B7)))-MAX(G$1,MOD($B7,1)))*24 -> 0 | H7: =MAX(0,MIN(I$1,MOD($C7,1)+(INT($C7)>INT($B7)))-MAX(H$1,MOD($B7,1)))*24 -> 0.2 | I7: =MAX(0,MIN(J$1,MOD($C7,1)+(INT($C7)>INT($B7)))-MAX(I$1,MOD($B7,1)))*24 -> 0 | J7: =MAX(0,MIN(K$1,MOD($C7,1)+(INT($C7)>INT($B7)))-MAX(J$1,MOD($B7,1)))*24 -> 0 | K7: =MAX(0,MIN(L$1,MOD($C7,1)+(INT($C7)>INT($B7)))-MAX(K$1,MOD($B7,1)))*24 -> 0 | L7: =MAX(0,MIN(M$1,MOD($C7,1)+(INT($C7)>INT($B7)))-MAX(L$1,MOD($B7,1)))*24 -> 0 | M7: =MAX(0,MIN(N$1,MOD($C7,1)+(INT($C7)>INT($B7)))-MAX(M$1,MOD($B7,1)))*24 -> 0 | N7: =SUM(G7:M7) -> 0.2 | O7: =IF(B7<>"",WEEKNUM(B7,1),"") -> 40
A8: ='Historique épuré'!B8 -> Admin | B8: ='Historique épuré'!C8 -> 43740.463 | C8: ='Historique épuré'!D8 -> 43740.474 | F8: =B8 -> 43740.463 | G8: =MAX(0,MIN(H$1,MOD($C8,1)+(INT($C8)>INT($B8)))-MAX(G$1,MOD($B8,1)))*24 -> 0 | H8: =MAX(0,MIN(I$1,MOD($C8,1)+(INT($C8)>INT($B8)))-MAX(H$1,MOD($B8,1)))*24 -> 0.26666667 | I8: =MAX(0,MIN(J$1,MOD($C8,1)+(INT($C8)>INT($B8)))-MAX(I$1,MOD($B8,1)))*24 -> 0 | J8: =MAX(0,MIN(K$1,MOD($C8,1)+(INT($C8)>INT($B8)))-MAX(J$1,MOD($B8,1)))*24 -> 0 | K8: =MAX(0,MIN(L$1,MOD($C8,1)+(INT($C8)>INT($B8)))-MAX(K$1,MOD($B8,1)))*24 -> 0 | L8: =MAX(0,MIN(M$1,MOD($C8,1)+(INT($C8)>INT($B8)))-MAX(L$1,MOD($B8,1)))*24 -> 0 | M8: =MAX(0,MIN(N$1,MOD($C8,1)+(INT($C8)>INT($B8)))-MAX(M$1,MOD($B8,1)))*24 -> 0 | N8: =SUM(G8:M8) -> 0.26666667 | O8: =IF(B8<>"",WEEKNUM(B8,1),"") -> 40
A9: ='Historique épuré'!B9 -> Clinique | B9: ='Historique épuré'!C9 -> 43740.509 | C9: ='Historique épuré'!D9 -> 43740.512 | F9: =B9 -> 43740.509 | G9: =MAX(0,MIN(H$1,MOD($C9,1)+(INT($C9)>INT($B9)))-MAX(G$1,MOD($B9,1)))*24 -> 0 | H9: =MAX(0,MIN(I$1,MOD($C9,1)+(INT($C9)>INT($B9)))-MAX(H$1,MOD($B9,1)))*24 -> 0 | I9: =MAX(0,MIN(J$1,MOD($C9,1)+(INT($C9)>INT($B9)))-MAX(I$1,MOD($B9,1)))*24 -> 0.083333333 | J9: =MAX(0,MIN(K$1,MOD($C9,1)+(INT($C9)>INT($B9)))-MAX(J$1,MOD($B9,1)))*24 -> 0 | K9: =MAX(0,MIN(L$1,MOD($C9,1)+(INT($C9)>INT($B9)))-MAX(K$1,MOD($B9,1)))*24 -> 0 | L9: =MAX(0,MIN(M$1,MOD($C9,1)+(INT($C9)>INT($B9)))-MAX(L$1,MOD($B9,1)))*24 -> 0 | M9: =MAX(0,MIN(N$1,MOD($C9,1)+(INT($C9)>INT($B9)))-MAX(M$1,MOD($B9,1)))*24 -> 0 | N9: =SUM(G9:M9) -> 0.083333333 | O9: =IF(B9<>"",WEEKNUM(B9,1),"") -> 40
A10: ='Historique épuré'!B10 -> Clinique | B10: ='Historique épuré'!C10 -> 43741.374 | C10: ='Historique épuré'!D10 -> 43740.412 | F10: =B10 -> 43741.374 | G10: =MAX(0,MIN(H$1,MOD($C10,1)+(INT($C10)>INT($B10)))-MAX(G$1,MOD($B10,1)))*24 -> 0 | H10: =MAX(0,MIN(I$1,MOD($C10,1)+(INT($C10)>INT($B10)))-MAX(H$1,MOD($B10,1)))*24 -> 0.93333333 | I10: =MAX(0,MIN(J$1,MOD($C10,1)+(INT($C10)>INT($B10)))-MAX(I$1,MOD($B10,1)))*24 -> 0 | J10: =MAX(0,MIN(K$1,MOD($C10,1)+(INT($C10)>INT($B10)))-MAX(J$1,MOD($B10,1)))*24 -> 0 | K10: =MAX(0,MIN(L$1,MOD($C10,1)+(INT($C10)>INT($B10)))-MAX(K$1,MOD($B10,1)))*24 -> 0 | L10: =MAX(0,MIN(M$1,MOD($C10,1)+(INT($C10)>INT($B10)))-MAX(L$1,MOD($B10,1)))*24 -> 0 | M10: =MAX(0,MIN(N$1,MOD($C10,1)+(INT($C10)>INT($B10)))-MAX(M$1,MOD($B10,1)))*24 -> 0 | N10: =SUM(G10:M10) -> 0.93333333 | O10: =IF(B10<>"",WEEKNUM(B10,1),"") -> 40
A11: ='Historique épuré'!B11 -> Clinique | B11: ='Historique épuré'!C11 -> 43741.42 | C11: ='Historique épuré'!D11 -> 43741.423 | F11: =B11 -> 43741.42 | G11: =MAX(0,MIN(H$1,MOD($C11,1)+(INT($C11)>INT($B11)))-MAX(G$1,MOD($B11,1)))*24 -> 0 | H11: =MAX(0,MIN(I$1,MOD($C11,1)+(INT($C11)>INT($B11)))-MAX(H$1,MOD($B11,1)))*24 -> 0.066666667 | I11: =MAX(0,MIN(J$1,MOD($C11,1)+(INT($C11)>INT($B11)))-MAX(I$1,MOD($B11,1)))*24 -> 0 | J11: =MAX(0,MIN(K$1,MOD($C11,1)+(INT($C11)>INT($B11)))-MAX(J$1,MOD($B11,1)))*24 -> 0 | K11: =MAX(0,MIN(L$1,MOD($C11,1)+(INT($C11)>INT($B11)))-MAX(K$1,MOD($B11,1)))*24 -> 0 | L11: =MAX(0,MIN(M$1,MOD($C11,1)+(INT($C11)>INT($B11)))-MAX(L$1,MOD($B11,1)))*24 -> 0 | M11: =MAX(0,MIN(N$1,MOD($C11,1)+(INT($C11)>INT($B11)))-MAX(M$1,MOD($B11,1)))*24 -> 0 | N11: =SUM(G11:M11) -> 0.066666667 | O11: =IF(B11<>"",WEEKNUM(B11,1),"") -> 40
A12: ='Historique épuré'!B12 -> Clinique | B12: ='Historique épuré'!C12 -> 43741.442 | C12: ='Historique épuré'!D12 -> 43741.446 | F12: =B12 -> 43741.442 | G12: =MAX(0,MIN(H$1,MOD($C12,1)+(INT($C12)>INT($B12)))-MAX(G$1,MOD($B12,1)))*24 -> 0 | H12: =MAX(0,MIN(I$1,MOD($C12,1)+(INT($C12)>INT($B12)))-MAX(H$1,MOD($B12,1)))*24 -> 0.1 | I12: =MAX(0,MIN(J$1,MOD($C12,1)+(INT($C12)>INT($B12)))-MAX(I$1,MOD($B12,1)))*24 -> 0 | J12: =MAX(0,MIN(K$1,MOD($C12,1)+(INT($C12)>INT($B12)))-MAX(J$1,MOD($B12,1)))*24 -> 0 | K12: =MAX(0,MIN(L$1,MOD($C12,1)+(INT($C12)>INT($B12)))-MAX(K$1,MOD($B12,1)))*24 -> 0 | L12: =MAX(0,MIN(M$1,MOD($C12,1)+(INT($C12)>INT($B12)))-MAX(L$1,MOD($B12,1)))*24 -> 0 | M12: =MAX(0,MIN(N$1,MOD($C12,1)+(INT($C12)>INT($B12)))-MAX(M$1,MOD($B12,1)))*24 -> 0 | N12: =SUM(G12:M12) -> 0.1 | O12: =IF(B12<>"",WEEKNUM(B12,1),"") -> 40
A13: ='Historique épuré'!B13 -> Clinique | B13: ='Historique épuré'!C13 -> 43741.476 | C13: ='Historique épuré'!D13 -> 43741.485 | F13: =B13 -> 43741.476 | G13: =MAX(0,MIN(H$1,MOD($C13,1)+(INT($C13)>INT($B13)))-MAX(G$1,MOD($B13,1)))*24 -> 0 | H13: =MAX(0,MIN(I$1,MOD($C13,1)+(INT($C13)>INT($B13)))-MAX(H$1,MOD($B13,1)))*24 -> 0.23333333 | I13: =MAX(0,MIN(J$1,MOD($C13,1)+(INT($C13)>INT($B13)))-MAX(I$1,MOD($B13,1)))*24 -> 0 | J13: =MAX(0,MIN(K$1,MOD($C13,1)+(INT($C13)>INT($B13)))-MAX(J$1,MOD($B13,1)))*24 -> 0 | K13: =MAX(0,MIN(L$1,MOD($C13,1)+(INT($C13)>INT($B13)))-MAX(K$1,MOD($B13,1)))*24 -> 0 | L13: =MAX(0,MIN(M$1,MOD($C13,1)+(INT($C13)>INT($B13)))-MAX(L$1,MOD($B13,1)))*24 -> 0 | M13: =MAX(0,MIN(N$1,MOD($C13,1)+(INT($C13)>INT($B13)))-MAX(M$1,MOD($B13,1)))*24 -> 0 | N13: =SUM(G13:M13) -> 0.23333333 | O13: =IF(B13<>"",WEEKNUM(B13,1),"") -> 40
... A22: ='Historique épuré'!B22 -> Clinique | B22: ='Historique épuré'!C22 -> 43745.635 | C22: ='Historique épuré'!D22 -> 43745.665 | F22: =B22 -> 43745.635 | G22: =MAX(0,MIN(H$1,MOD($C22,1)+(INT($C22)>INT($B22)))-MAX(G$1,MOD($B22,1)))*24 -> 0 | H22: =MAX(0,MIN(I$1,MOD($C22,1)+(INT($C22)>INT($B22)))-MAX(H$1,MOD($B22,1)))*24 -> 0 | I22: =MAX(0,MIN(J$1,MOD($C22,1)+(INT($C22)>INT($B22)))-MAX(I$1,MOD($B22,1)))*24 -> 0.73333333 | J22: =MAX(0,MIN(K$1,MOD($C22,1)+(INT($C22)>INT($B22)))-MAX(J$1,MOD($B22,1)))*24 -> 0 | K22: =MAX(0,MIN(L$1,MOD($C22,1)+(INT($C22)>INT($B22)))-MAX(K$1,MOD($B22,1)))*24 -> 0 | L22: =MAX(0,MIN(M$1,MOD($C22,1)+(INT($C22)>INT($B22)))-MAX(L$1,MOD($B22,1)))*24 -> 0 | M22: =MAX(0,MIN(N$1,MOD($C22,1)+(INT($C22)>INT($B22)))-MAX(M$1,MOD($B22,1)))*24 -> 0 | N22: =SUM(G22:M22) -> 0.73333333 | O22: =IF(B22<>"",WEEKNUM(B22,1),"") -> 41
F23: =B23 -> 0 | G23: =MAX(0,MIN(H$1,MOD($C23,1)+(INT($C23)>INT($B23)))-MAX(G$1,MOD($B23,1)))*24 -> 0 | H23: =MAX(0,MIN(I$1,MOD($C23,1)+(INT($C23)>INT($B23)))-MAX(H$1,MOD($B23,1)))*24 -> 0 | I23: =MAX(0,MIN(J$1,MOD($C23,1)+(INT($C23)>INT($B23)))-MAX(I$1,MOD($B23,1)))*24 -> 0 | J23: =MAX(0,MIN(K$1,MOD($C23,1)+(INT($C23)>INT($B23)))-MAX(J$1,MOD($B23,1)))*24 -> 0 | K23: =MAX(0,MIN(L$1,MOD($C23,1)+(INT($C23)>INT($B23)))-MAX(K$1,MOD($B23,1)))*24 -> 0 | L23: =MAX(0,MIN(M$1,MOD($C23,1)+(INT($C23)>INT($B23)))-MAX(L$1,MOD($B23,1)))*24 -> 0 | M23: =MAX(0,MIN(N$1,MOD($C23,1)+(INT($C23)>INT($B23)))-MAX(M$1,MOD($B23,1)))*24 -> 0 | N23: =SUM(G23:M23) -> 0 | O23: =IF(B23<>"",WEEKNUM(B23,1),"")
F24: =B24 -> 0 | G24: =MAX(0,MIN(H$1,MOD($C24,1)+(INT($C24)>INT($B24)))-MAX(G$1,MOD($B24,1)))*24 -> 0 | H24: =MAX(0,MIN(I$1,MOD($C24,1)+(INT($C24)>INT($B24)))-MAX(H$1,MOD($B24,1)))*24 -> 0 | I24: =MAX(0,MIN(J$1,MOD($C24,1)+(INT($C24)>INT($B24)))-MAX(I$1,MOD($B24,1)))*24 -> 0 | J24: =MAX(0,MIN(K$1,MOD($C24,1)+(INT($C24)>INT($B24)))-MAX(J$1,MOD($B24,1)))*24 -> 0 | K24: =MAX(0,MIN(L$1,MOD($C24,1)+(INT($C24)>INT($B24)))-MAX(K$1,MOD($B24,1)))*24 -> 0 | L24: =MAX(0,MIN(M$1,MOD($C24,1)+(INT($C24)>INT($B24)))-MAX(L$1,MOD($B24,1)))*24 -> 0 | M24: =MAX(0,MIN(N$1,MOD($C24,1)+(INT($C24)>INT($B24)))-MAX(M$1,MOD($B24,1)))*24 -> 0 | N24: =SUM(G24:M24) -> 0 | O24: =IF(B24<>"",WEEKNUM(B24,1),"")
F25: =B25 -> 0 | G25: =MAX(0,MIN(H$1,MOD($C25,1)+(INT($C25)>INT($B25)))-MAX(G$1,MOD($B25,1)))*24 -> 0 | H25: =MAX(0,MIN(I$1,MOD($C25,1)+(INT($C25)>INT($B25)))-MAX(H$1,MOD($B25,1)))*24 -> 0 | I25: =MAX(0,MIN(J$1,MOD($C25,1)+(INT($C25)>INT($B25)))-MAX(I$1,MOD($B25,1)))*24 -> 0 | J25: =MAX(0,MIN(K$1,MOD($C25,1)+(INT($C25)>INT($B25)))-MAX(J$1,MOD($B25,1)))*24 -> 0 | K25: =MAX(0,MIN(L$1,MOD($C25,1)+(INT($C25)>INT($B25)))-MAX(K$1,MOD($B25,1)))*24 -> 0 | L25: =MAX(0,MIN(M$1,MOD($C25,1)+(INT($C25)>INT($B25)))-MAX(L$1,MOD($B25,1)))*24 -> 0 | M25: =MAX(0,MIN(N$1,MOD($C25,1)+(INT($C25)>INT($B25)))-MAX(M$1,MOD($B25,1)))*24 -> 0 | N25: =SUM(G25:M25) -> 0 | O25: =IF(B25<>"",WEEKNUM(B25,1),"")
F26: =B26 -> 0 | G26: =MAX(0,MIN(H$1,MOD($C26,1)+(INT($C26)>INT($B26)))-MAX(G$1,MOD($B26,1)))*24 -> 0 | H26: =MAX(0,MIN(I$1,MOD($C26,1)+(INT($C26)>INT($B26)))-MAX(H$1,MOD($B26,1)))*24 -> 0 | I26: =MAX(0,MIN(J$1,MOD($C26,1)+(INT($C26)>INT($B26)))-MAX(I$1,MOD($B26,1)))*24 -> 0 | J26: =MAX(0,MIN(K$1,MOD($C26,1)+(INT($C26)>INT($B26)))-MAX(J$1,MOD($B26,1)))*24 -> 0 | K26: =MAX(0,MIN(L$1,MOD($C26,1)+(INT($C26)>INT($B26)))-MAX(K$1,MOD($B26,1)))*24 -> 0 | L26: =MAX(0,MIN(M$1,MOD($C26,1)+(INT($C26)>INT($B26)))-MAX(L$1,MOD($B26,1)))*24 -> 0 | M26: =MAX(0,MIN(N$1,MOD($C26,1)+(INT($C26)>INT($B26)))-MAX(M$1,MOD($B26,1)))*24 -> 0 | N26: =SUM(G26:M26) -> 0 | O26: =IF(B26<>"",WEEKNUM(B26,1),"")
F27: =B27 -> 0 | G27: =MAX(0,MIN(H$1,MOD($C27,1)+(INT($C27)>INT($B27)))-MAX(G$1,MOD($B27,1)))*24 -> 0 | H27: =MAX(0,MIN(I$1,MOD($C27,1)+(INT($C27)>INT($B27)))-MAX(H$1,MOD($B27,1)))*24 -> 0 | I27: =MAX(0,MIN(J$1,MOD($C27,1)+(INT($C27)>INT($B27)))-MAX(I$1,MOD($B27,1)))*24 -> 0 | J27: =MAX(0,MIN(K$1,MOD($C27,1)+(INT($C27)>INT($B27)))-MAX(J$1,MOD($B27,1)))*24 -> 0 | K27: =MAX(0,MIN(L$1,MOD($C27,1)+(INT($C27)>INT($B27)))-MAX(K$1,MOD($B27,1)))*24 -> 0 | L27: =MAX(0,MIN(M$1,MOD($C27,1)+(INT($C27)>INT($B27)))-MAX(L$1,MOD($B27,1)))*24 -> 0 | M27: =MAX(0,MIN(N$1,MOD($C27,1)+(INT($C27)>INT($B27)))-MAX(M$1,MOD($B27,1)))*24 -> 0 | N27: =SUM(G27:M27) -> 0 | O27: =IF(B27<>"",WEEKNUM(B27,1),"")
F28: =B28 -> 0 | G28: =MAX(0,MIN(H$1,MOD($C28,1)+(INT($C28)>INT($B28)))-MAX(G$1,MOD($B28,1)))*24 -> 0 | H28: =MAX(0,MIN(I$1,MOD($C28,1)+(INT($C28)>INT($B28)))-MAX(H$1,MOD($B28,1)))*24 -> 0 | I28: =MAX(0,MIN(J$1,MOD($C28,1)+(INT($C28)>INT($B28)))-MAX(I$1,MOD($B28,1)))*24 -> 0 | J28: =MAX(0,MIN(K$1,MOD($C28,1)+(INT($C28)>INT($B28)))-MAX(J$1,MOD($B28,1)))*24 -> 0 | K28: =MAX(0,MIN(L$1,MOD($C28,1)+(INT($C28)>INT($B28)))-MAX(K$1,MOD($B28,1)))*24 -> 0 | L28: =MAX(0,MIN(M$1,MOD($C28,1)+(INT($C28)>INT($B28)))-MAX(L$1,MOD($B28,1)))*24 -> 0 | M28: =MAX(0,MIN(N$1,MOD($C28,1)+(INT($C28)>INT($B28)))-MAX(M$1,MOD($B28,1)))*24 -> 0 | N28: =SUM(G28:M28) -> 0 | O28: =IF(B28<>"",WEEKNUM(B28,1),"")
F29: =B29 -> 0 | G29: =MAX(0,MIN(H$1,MOD($C29,1)+(INT($C29)>INT($B29)))-MAX(G$1,MOD($B29,1)))*24 -> 0 | H29: =MAX(0,MIN(I$1,MOD($C29,1)+(INT($C29)>INT($B29)))-MAX(H$1,MOD($B29,1)))*24 -> 0 | I29: =MAX(0,MIN(J$1,MOD($C29,1)+(INT($C29)>INT($B29)))-MAX(I$1,MOD($B29,1)))*24 -> 0 | J29: =MAX(0,MIN(K$1,MOD($C29,1)+(INT($C29)>INT($B29)))-MAX(J$1,MOD($B29,1)))*24 -> 0 | K29: =MAX(0,MIN(L$1,MOD($C29,1)+(INT($C29)>INT($B29)))-MAX(K$1,MOD($B29,1)))*24 -> 0 | L29: =MAX(0,MIN(M$1,MOD($C29,1)+(INT($C29)>INT($B29)))-MAX(L$1,MOD($B29,1)))*24 -> 0 | M29: =MAX(0,MIN(N$1,MOD($C29,1)+(INT($C29)>INT($B29)))-MAX(M$1,MOD($B29,1)))*24 -> 0 | N29: =SUM(G29:M29) -> 0 | O29: =IF(B29<>"",WEEKNUM(B29,1),"")
F30: =B30 -> 0 | G30: =MAX(0,MIN(H$1,MOD($C30,1)+(INT($C30)>INT($B30)))-MAX(G$1,MOD($B30,1)))*24 -> 0 | H30: =MAX(0,MIN(I$1,MOD($C30,1)+(INT($C30)>INT($B30)))-MAX(H$1,MOD($B30,1)))*24 -> 0 | I30: =MAX(0,MIN(J$1,MOD($C30,1)+(INT($C30)>INT($B30)))-MAX(I$1,MOD($B30,1)))*24 -> 0 | J30: =MAX(0,MIN(K$1,MOD($C30,1)+(INT($C30)>INT($B30)))-MAX(J$1,MOD($B30,1)))*24 -> 0 | K30: =MAX(0,MIN(L$1,MOD($C30,1)+(INT($C30)>INT($B30)))-MAX(K$1,MOD($B30,1)))*24 -> 0 | L30: =MAX(0,MIN(M$1,MOD($C30,1)+(INT($C30)>INT($B30)))-MAX(L$1,MOD($B30,1)))*24 -> 0 | M30: =MAX(0,MIN(N$1,MOD($C30,1)+(INT($C30)>INT($B30)))-MAX(M$1,MOD($B30,1)))*24 -> 0 | N30: =SUM(G30:M30) -> 0 | O30: =IF(B30<>"",WEEKNUM(B30,1),"")
F31: =B31 -> 0 | G31: =MAX(0,MIN(H$1,MOD($C31,1)+(INT($C31)>INT($B31)))-MAX(G$1,MOD($B31,1)))*24 -> 0 | H31: =MAX(0,MIN(I$1,MOD($C31,1)+(INT($C31)>INT($B31)))-MAX(H$1,MOD($B31,1)))*24 -> 0 | I31: =MAX(0,MIN(J$1,MOD($C31,1)+(INT($C31)>INT($B31)))-MAX(I$1,MOD($B31,1)))*24 -> 0 | J31: =MAX(0,MIN(K$1,MOD($C31,1)+(INT($C31)>INT($B31)))-MAX(J$1,MOD($B31,1)))*24 -> 0 | K31: =MAX(0,MIN(L$1,MOD($C31,1)+(INT($C31)>INT($B31)))-MAX(K$1,MOD($B31,1)))*24 -> 0 | L31: =MAX(0,MIN(M$1,MOD($C31,1)+(INT($C31)>INT($B31)))-MAX(L$1,MOD($B31,1)))*24 -> 0 | M31: =MAX(0,MIN(N$1,MOD($C31,1)+(INT($C31)>INT($B31)))-MAX(M$1,MOD($B31,1)))*24 -> 0 | N31: =SUM(G31:M31) -> 0 | O31: =IF(B31<>"",WEEKNUM(B31,1),"")
F32: =B32 -> 0 | G32: =MAX(0,MIN(H$1,MOD($C32,1)+(INT($C32)>INT($B32)))-MAX(G$1,MOD($B32,1)))*24 -> 0 | H32: =MAX(0,MIN(I$1,MOD($C32,1)+(INT($C32)>INT($B32)))-MAX(H$1,MOD($B32,1)))*24 -> 0 | I32: =MAX(0,MIN(J$1,MOD($C32,1)+(INT($C32)>INT($B32)))-MAX(I$1,MOD($B32,1)))*24 -> 0 | J32: =MAX(0,MIN(K$1,MOD($C32,1)+(INT($C32)>INT($B32)))-MAX(J$1,MOD($B32,1)))*24 -> 0 | K32: =MAX(0,MIN(L$1,MOD($C32,1)+(INT($C32)>INT($B32)))-MAX(K$1,MOD($B32,1)))*24 -> 0 | L32: =MAX(0,MIN(M$1,MOD($C32,1)+(INT($C32)>INT($B32)))-MAX(L$1,MOD($B32,1)))*24 -> 0 | M32: =MAX(0,MIN(N$1,MOD($C32,1)+(INT($C32)>INT($B32)))-MAX(M$1,MOD($B32,1)))*24 -> 0 | N32: =SUM(G32:M32) -> 0 | O32: =IF(B32<>"",WEEKNUM(B32,1),"")
F33: =B33 -> 0 | G33: =MAX(0,MIN(H$1,MOD($C33,1)+(INT($C33)>INT($B33)))-MAX(G$1,MOD($B33,1)))*24 -> 0 | H33: =MAX(0,MIN(I$1,MOD($C33,1)+(INT($C33)>INT($B33)))-MAX(H$1,MOD($B33,1)))*24 -> 0 | I33: =MAX(0,MIN(J$1,MOD($C33,1)+(INT($C33)>INT($B33)))-MAX(I$1,MOD($B33,1)))*24 -> 0 | J33: =MAX(0,MIN(K$1,MOD($C33,1)+(INT($C33)>INT($B33)))-MAX(J$1,MOD($B33,1)))*24 -> 0 | K33: =MAX(0,MIN(L$1,MOD($C33,1)+(INT($C33)>INT($B33)))-MAX(K$1,MOD($B33,1)))*24 -> 0 | L33: =MAX(0,MIN(M$1,MOD($C33,1)+(INT($C33)>INT($B33)))-MAX(L$1,MOD($B33,1)))*24 -> 0 | M33: =MAX(0,MIN(N$1,MOD($C33,1)+(INT($C33)>INT($B33)))-MAX(M$1,MOD($B33,1)))*24 -> 0 | N33: =SUM(G33:M33) -> 0 | O33: =IF(B33<>"",WEEKNUM(B33,1),"")
F34: =B34 -> 0 | G34: =MAX(0,MIN(H$1,MOD($C34,1)+(INT($C34)>INT($B34)))-MAX(G$1,MOD($B34,1)))*24 -> 0 | H34: =MAX(0,MIN(I$1,MOD($C34,1)+(INT($C34)>INT($B34)))-MAX(H$1,MOD($B34,1)))*24 -> 0 | I34: =MAX(0,MIN(J$1,MOD($C34,1)+(INT($C34)>INT($B34)))-MAX(I$1,MOD($B34,1)))*24 -> 0 | J34: =MAX(0,MIN(K$1,MOD($C34,1)+(INT($C34)>INT($B34)))-MAX(J$1,MOD($B34,1)))*24 -> 0 | K34: =MAX(0,MIN(L$1,MOD($C34,1)+(INT($C34)>INT($B34)))-MAX(K$1,MOD($B34,1)))*24 -> 0 | L34: =MAX(0,MIN(M$1,MOD($C34,1)+(INT($C34)>INT($B34)))-MAX(L$1,MOD($B34,1)))*24 -> 0 | M34: =MAX(0,MIN(N$1,MOD($C34,1)+(INT($C34)>INT($B34)))-MAX(M$1,MOD($B34,1)))*24 -> 0 | N34: =SUM(G34:M34) -> 0 | O34: =IF(B34<>"",WEEKNUM(B34,1),"")
