Workbook

Sheet Table
A2: Table
A4: CT | B4: CODE | C4: TYPE | D4: CODE AFFAIRE | E4: NOM AFFAIRE | F4: MONTANT MARCHÉ | G4: DÉBUT | H4: FIN
A5: TRA | B5: A3520 | C5: GO | D5: 14006LAGU | E5: LA GUERCHE DE BRETAGNE - Hôpital saint Jean | F5: 2916291 | G5: 40316 | H5: 31/10/2017
A6: MN | B6: A4016 | C6: GO | D6: 15003RENN | E6: RENNES - CARA 28 logements | F6: 1482149 | G6: 42086 | H6: 42813
A7: FM | B7: A2532 | C7: GO | D7: 15004LIEU | E7: LIEUSAINT - CARRE SENART | F7: 55689560 | G7: 42135 | H7: 43025 | I7: FM | J7: A2532/2533 | K7: EG | L7: 15004LIEU | M7: LIEUSAINT - CARRE SENART | N7: 80000000 | O7: 42128 | P7: 43025
A8: RP | B8: A2533 | C8: EG | D8: 15004LIEU | E8: LIEUSAINT - CARRE SENART | F8: 24310440 | G8: 42135 | H8: 43025
A9: MGU | B9: A7750 | C9: GO | D9: 15005RENN | E9: RENNES - METRO LOT 11 | F9: 2585000 | G9: 42767 | H9: 43174 | I9: MGU/LB | J9: A7750/7751 | K9: EG | L9: 15005RENN | M9: RENNES - METRO LOT 11 | N9: 8500000 | O9: 42767 | P9: 43446
A10: LB | B10: A7751 | C10: EG | D10: 15005RENN | E10: RENNES - METRO LOT 11 | F10: 5915000 | G10: 42767 | H10: 43449
A11: MC | B11: A6014 | C11: GO | D11: 15007CESS | E11: NANTES - EHPAD MA MAISON | F11: 2915000 | G11: 42205 | H11: 42946
A12: YL | B12: A6060 | C12: GO | D12: 15009RENN | E12: RENNES - EUROSQUARE | F12: 3700000 | G12: 42212 | H12: 42735
A13: OI | B13: A2004 | C13: GO | D13: 15010NANT | E13: NANTES - BUREAUX UNIK | F13: 2640000 | G13: 42212 | H13: 42724
A14: BC | B14: A1053 | C14: GO | D14: 15011FONT | E14: FONTAINEBLEAU - EHPAD | F14: 1987586 | G14: 42509 | H14: 42700 | I14: BC/LB | J14: A1053/1054 | K14: EG | L14: 15011FONT | M14: FONTAINEBLEAU - EHPAD | N14: 7992826 | O14: 42509 | P14: 42949
A15: LB | B15: A1052/1054 | C15: EG | D15: 15011FONT | E15: FONTAINEBLEAU - EHPAD | F15: 7214105 | G15: 42509 | H15: 42949
A16: YD | B16: A6003 | C16: GO | D16: 15012BOUG | E16: BOUGUENAIS - 206 Logements | F16: 5562461 | G16: 42212 | H16: 42946
A17: JBH | B17: A7557 | C17: GO | D17: 15013RENN | E17: RENNES - SO ART | F17: 1262253 | G17: 42244 | H17: 42724
A18: MN | B18: A4015 | C18: GO | D18: 15014CHAN | E18: CHANTEPIE - PIACANTA | F18: 814570 | G18: 42268 | H18: 42639
A19: MGU | B19: A8532 | C19: GO | D19: 15015LACO | E19: LA COURNEUVE - Groupe scolaire | F19: 2810488 | G19: 42675 | H19: 42961 | I19: MGU/LB | J19: A8532/8525 | K19: EG | L19: 15015LACO | M19: LA COURNEUVE - Groupe scolaire | N19: 10457562 | O19: 42675 | P19: 43157
A20: LB | B20: A8525 | C20: EG | D20: 15015LACO | E20: LA COURNEUVE - Groupe scolaire | F20: 8960145 | G20: 42679 | H20: 43139
A21: MC | B21: A7400 | C21: GO | D21: 15016NANT | E21: NANTES - 1854 RUSSEIL | F21: 1666916 | G21: 42268 | H21: 42734
A22: TF | B22: A/1002/6016 | C22: GO | D22: 15018RENN | E22: RENNES - CHU OTI | F22: 4125781 | G22: 42491 | H22: 42855 | I22: TF/LB | J22: A1001/1002/1003/6015/6016 /6017 | K22: EG | L22: 15018RENN | M22: RENNES - CHU OTI | N22: 16536827 | O22: 42430 | P22: 43100
A23: LB | B23: A1001/1003 /6015/6017 | C23: EG | D23: 15018RENN | E23: RENNES - CHU OTI | F23: 14181162 | G23: 42430 | H23: 43220
A24: CL | B24: A0640 | C24: GO | D24: 15020AURA | E24: AURAY - PATIO RIVA | F24: 1505000 | G24: 42373 | H24: 42724
A25: MN | B25: A7901 | C25: GO | D25: 15021RENN | E25: RENNES - METROPOLIS | F25: 1201090 | G25: 42380 | H25: 42734
A26: CL | B26: A1463 | C26: GO | D26: 15022ELVE | E26: ELVEN - COLLEGE | F26: 2688090 | G26: 42430 | H26: 42946
A27: YD | B27: A0180 | C27: GO | D27: 16001CESS | E27: CESSON - ERNERGIES A | F27: 840000 | G27: 42614 | H27: 43151
A28: OI | B28: A1161 | C28: GO | D28: 16002GUER | E28: GUER - INTERNAT | F28: 1139615 | G28: 42644 | H28: 42791 | I28: OI/LB | J28: A1161/1162 | K28: EG | L28: 16002GUER | M28: GUER - INTERNAT | N28: 2423443 | O28: 42644 | P28: 43093
A29: LB | B29: A1162 | C29: EG | D29: 16002GUER | E29: GUER - INTERNAT | F29: 1280535 | G29: 42644 | H29: 43093
A30: JBH | B30: A4502 | C30: GO | D30: 16003STGRE | E30: ST GREGOIRE - EDONIA X | F30: 1180000 | G30: 42614 | H30: 42765
A31: MC | B31: A1022 | C31: GO | D31: 16004RENN | E31: RENNES - COCHARDIERE | F31: 8799866 | G31: 42675 | H31: 43458
A32: LB | B32: A1086 | C32: GO | D32: 16006RENN | E32: RENNES - BAUD F3 | F32: 2786150 | I32: LB | J32: A1086/0030 | K32: EG | L32: 16006RENN | M32: RENNES - BAUD F3 | N32: 7069645
A33: LB | B33: A0030 | C33: EG | D33: 16006RENN | E33: RENNES - BAUD F3 | F33: 4193495
A34: JBH | B34: A6064 | C34: GO | D34: 16007RENN | E34: RENNES - LAYGO | F34: 1645000
A35: OI | B35: A1155 | C35: GO | D35: 16008GA | E35: LA GACILLY espace culturel | F35: 686256

Sheet synthèse essai
A4: =INDEX(Table!$A$5:$A$176,MATCH(Table!A5,Table!A5:A176,0),1) -> TRA | B4: =INDEX(Table!$B$5:$B$176,1,1) -> A3520 | C4: =INDEX(Table!$C$5:$C$176,1,1) -> GO | D4: =INDEX(Table!$D$5:$D$176,1,1) -> 14006LAGU | E4: =INDEX(Table!$E$5:$E$176,1,1) -> LA GUERCHE DE BRETAGNE - Hôpital saint Jean | F4: =INDEX(Table!$F$5:$F$176,1,1) -> 2916291 | G4: =INDEX(Table!$G$5:$G$176,1,1) -> 40316 | H4: =INDEX(Table!$H$5:$H$176,1,1) -> 31/10/2017
A5: =A4 -> TRA | B5: =B4 -> A3520 | C5: =C4 -> GO | D5: =D4 -> 14006LAGU | E5: CA prévu
A6: =A5 -> TRA | B6: =B5 -> A3520 | C6: =C5 -> GO | D6: =D5 -> 14006LAGU | E6: CA prévu replanifié
A7: =A6 -> TRA | B7: =B6 -> A3520 | C7: =C6 -> GO | D7: =D6 -> 14006LAGU | E7: CA réalisé
A8: =A7 -> TRA | B8: =B7 -> A3520 | C8: =C7 -> GO | D8: =D7 -> 14006LAGU | E8: Écart sur CA
B9: =INDEX(Table!B10:B181,1,1) -> A7751 | C9: =INDEX(Table!C10:C181,1,1) -> EG | D9: =INDEX(Table!D10:D181,1,1) -> 15005RENN | E9: =INDEX(Table!E10:E181,1,1) -> RENNES - METRO LOT 11 | F9: =INDEX(Table!F10:F181,1,1) -> 5915000 | G9: =INDEX(Table!G10:G181,1,1) -> 42767 | H9: =INDEX(Table!H10:H181,1,1) -> 43449
A10: =A9 -> 0 | B10: =B9 -> A7751 | C10: =C9 -> EG | D10: =D9 -> 15005RENN | E10: CA prévu
A11: =A10 -> 0 | B11: =B10 -> A7751 | C11: =C10 -> EG | D11: =D10 -> 15005RENN | E11: CA prévu replanifié
A12: =A11 -> 0 | B12: =B11 -> A7751 | C12: =C11 -> EG | D12: =D11 -> 15005RENN | E12: CA réalisé
A13: =A12 -> 0 | B13: =B12 -> A7751 | C13: =C12 -> EG | D13: =D12 -> 15005RENN | E13: Écart sur CA
