Workbook

Sheet RECAP GENERALE
B1: RECAPITULATIF GENERAL
B4: PLANNING | C4: Récapitulatif annuel : Cyril | AH4: Heures | AI4: Montant | AJ4: KM
B5: 2017 | C5: 1 | D5: 2 | E5: 3 | F5: 4 | G5: 5 | H5: 6 | I5: 7 | J5: 8 | K5: 9 | L5: 10 | M5: 11 | N5: 12 | O5: 13 | P5: 14 | Q5: 15 | R5: 16 | S5: 17 | T5: 18 | U5: 19 | V5: 20 | W5: 21 | X5: 22 | Y5: 23 | Z5: 24 | AA5: 25 | AB5: 26 | AC5: 27 | AD5: 28 | AE5: 29 | AF5: 30 | AG5: 31 | AH5: dues | AI5: Recu | AJ5: Parcouru
B6: Janvier | C6: =IF(MANPOWER!B6="x","x",IF(PROMAN!B6="x","x",IF(ADECCO!B6="x","x",IF(AVS!B6="x","x","")))) | D6: =IF(MANPOWER!C6="x","x",IF(PROMAN!C6="x","x",IF(ADECCO!C6="x","x",IF(AVS!C6="x","x","")))) | E6: =IF(MANPOWER!D6="x","x",IF(PROMAN!D6="x","x",IF(ADECCO!D6="x","x",IF(AVS!D6="x","x","")))) | F6: =IF(MANPOWER!E6="x","x",IF(PROMAN!E6="x","x",IF(ADECCO!E6="x","x",IF(AVS!E6="x","x","")))) | G6: =IF(MANPOWER!F6="x","x",IF(PROMAN!F6="x","x",IF(ADECCO!F6="x","x",IF(AVS!F6="x","x","")))) | H6: =IF(MANPOWER!G6="x","x",IF(PROMAN!G6="x","x",IF(ADECCO!G6="x","x",IF(AVS!G6="x","x","")))) | I6: =IF(MANPOWER!H6="x","x",IF(PROMAN!H6="x","x",IF(ADECCO!H6="x","x",IF(AVS!H6="x","x","")))) | J6: =IF(MANPOWER!I6="x","x",IF(PROMAN!I6="x","x",IF(ADECCO!I6="x","x",IF(AVS!I6="x","x","")))) | ... AG6: =IF(MANPOWER!AF6="x","x",IF(PROMAN!AF6="x","x",IF(ADECCO!AF6="x","x",IF(AVS!AF6="x","x","")))) | AH6: =IF(MANPOWER!AG6+PROMAN!AG6+ADECCO!AG6+AVS!AG6=0,"",MANPOWER!AG6+PROMAN!AG6+ADECCO!AG6+AVS!AG6) | AI6: =MANPOWER!AI6+PROMAN!AI6+ADECCO!AI6+AVS!AI6 -> 0 | AJ6: =MANPOWER!AJ6+PROMAN!AJ6+ADECCO!AJ6+AVS!AJ6 -> 0
B7: Février | C7: =IF(MANPOWER!B7="x","x",IF(PROMAN!B7="x","x",IF(ADECCO!B7="x","x",IF(AVS!B7="x","x","")))) | D7: =IF(MANPOWER!C7="x","x",IF(PROMAN!C7="x","x",IF(ADECCO!C7="x","x",IF(AVS!C7="x","x","")))) | E7: =IF(MANPOWER!D7="x","x",IF(PROMAN!D7="x","x",IF(ADECCO!D7="x","x",IF(AVS!D7="x","x","")))) | F7: =IF(MANPOWER!E7="x","x",IF(PROMAN!E7="x","x",IF(ADECCO!E7="x","x",IF(AVS!E7="x","x","")))) | G7: =IF(MANPOWER!F7="x","x",IF(PROMAN!F7="x","x",IF(ADECCO!F7="x","x",IF(AVS!F7="x","x","")))) | H7: =IF(MANPOWER!G7="x","x",IF(PROMAN!G7="x","x",IF(ADECCO!G7="x","x",IF(AVS!G7="x","x","")))) | I7: =IF(MANPOWER!H7="x","x",IF(PROMAN!H7="x","x",IF(ADECCO!H7="x","x",IF(AVS!H7="x","x","")))) | J7: =IF(MANPOWER!I7="x","x",IF(PROMAN!I7="x","x",IF(ADECCO!I7="x","x",IF(AVS!I7="x","x","")))) | ... AG7: =IF(MANPOWER!AF7="x","x",IF(PROMAN!AF7="x","x",IF(ADECCO!AF7="x","x",IF(AVS!AF7="x","x","")))) | AH7: =IF(MANPOWER!AG7+PROMAN!AG7+ADECCO!AG7+AVS!AG7=0,"",MANPOWER!AG7+PROMAN!AG7+ADECCO!AG7+AVS!AG7) | AI7: =MANPOWER!AI7+PROMAN!AI7+ADECCO!AI7+AVS!AI7 -> 0 | AJ7: =MANPOWER!AJ7+PROMAN!AJ7+ADECCO!AJ7+AVS!AJ7 -> 0
B8: Mars | C8: =IF(MANPOWER!B8="x","x",IF(PROMAN!B8="x","x",IF(ADECCO!B8="x","x",IF(AVS!B8="x","x","")))) | D8: =IF(MANPOWER!C8="x","x",IF(PROMAN!C8="x","x",IF(ADECCO!C8="x","x",IF(AVS!C8="x","x","")))) | E8: =IF(MANPOWER!D8="x","x",IF(PROMAN!D8="x","x",IF(ADECCO!D8="x","x",IF(AVS!D8="x","x","")))) | F8: =IF(MANPOWER!E8="x","x",IF(PROMAN!E8="x","x",IF(ADECCO!E8="x","x",IF(AVS!E8="x","x","")))) | G8: =IF(MANPOWER!F8="x","x",IF(PROMAN!F8="x","x",IF(ADECCO!F8="x","x",IF(AVS!F8="x","x","")))) | H8: =IF(MANPOWER!G8="x","x",IF(PROMAN!G8="x","x",IF(ADECCO!G8="x","x",IF(AVS!G8="x","x","")))) | I8: =IF(MANPOWER!H8="x","x",IF(PROMAN!H8="x","x",IF(ADECCO!H8="x","x",IF(AVS!H8="x","x","")))) | J8: =IF(MANPOWER!I8="x","x",IF(PROMAN!I8="x","x",IF(ADECCO!I8="x","x",IF(AVS!I8="x","x","")))) | ... AG8: =IF(MANPOWER!AF8="x","x",IF(PROMAN!AF8="x","x",IF(ADECCO!AF8="x","x",IF(AVS!AF8="x","x","")))) | AH8: =IF(MANPOWER!AG8+PROMAN!AG8+ADECCO!AG8+AVS!AG8=0,"",MANPOWER!AG8+PROMAN!AG8+ADECCO!AG8+AVS!AG8) | AI8: =MANPOWER!AI8+PROMAN!AI8+ADECCO!AI8+AVS!AI8 -> 0 | AJ8: =MANPOWER!AJ8+PROMAN!AJ8+ADECCO!AJ8+AVS!AJ8 -> 0
B9: Avril | C9: =IF(MANPOWER!B9="x","x",IF(PROMAN!B9="x","x",IF(ADECCO!B9="x","x",IF(AVS!B9="x","x","")))) | D9: =IF(MANPOWER!C9="x","x",IF(PROMAN!C9="x","x",IF(ADECCO!C9="x","x",IF(AVS!C9="x","x","")))) | E9: =IF(MANPOWER!D9="x","x",IF(PROMAN!D9="x","x",IF(ADECCO!D9="x","x",IF(AVS!D9="x","x","")))) | F9: =IF(MANPOWER!E9="x","x",IF(PROMAN!E9="x","x",IF(ADECCO!E9="x","x",IF(AVS!E9="x","x","")))) | G9: =IF(MANPOWER!F9="x","x",IF(PROMAN!F9="x","x",IF(ADECCO!F9="x","x",IF(AVS!F9="x","x","")))) | H9: =IF(MANPOWER!G9="x","x",IF(PROMAN!G9="x","x",IF(ADECCO!G9="x","x",IF(AVS!G9="x","x","")))) | I9: =IF(MANPOWER!H9="x","x",IF(PROMAN!H9="x","x",IF(ADECCO!H9="x","x",IF(AVS!H9="x","x","")))) | J9: =IF(MANPOWER!I9="x","x",IF(PROMAN!I9="x","x",IF(ADECCO!I9="x","x",IF(AVS!I9="x","x","")))) | ... AG9: =IF(MANPOWER!AF9="x","x",IF(PROMAN!AF9="x","x",IF(ADECCO!AF9="x","x",IF(AVS!AF9="x","x","")))) | AH9: =IF(MANPOWER!AG9+PROMAN!AG9+ADECCO!AG9+AVS!AG9=0,"",MANPOWER!AG9+PROMAN!AG9+ADECCO!AG9+AVS!AG9) -> 0.3125 | AI9: =MANPOWER!AI9+PROMAN!AI9+ADECCO!AI9+AVS!AI9 -> 33.74 | AJ9: =MANPOWER!AJ9+PROMAN!AJ9+ADECCO!AJ9+AVS!AJ9 -> 44
B10: Mai | C10: =IF(MANPOWER!B10="x","x",IF(PROMAN!B10="x","x",IF(ADECCO!B10="x","x",IF(AVS!B10="x","x","")))) | D10: =IF(MANPOWER!C10="x","x",IF(PROMAN!C10="x","x",IF(ADECCO!C10="x","x",IF(AVS!C10="x","x","")))) -> x | E10: =IF(MANPOWER!D10="x","x",IF(PROMAN!D10="x","x",IF(ADECCO!D10="x","x",IF(AVS!D10="x","x","")))) | F10: =IF(MANPOWER!E10="x","x",IF(PROMAN!E10="x","x",IF(ADECCO!E10="x","x",IF(AVS!E10="x","x","")))) -> x | G10: =IF(MANPOWER!F10="x","x",IF(PROMAN!F10="x","x",IF(ADECCO!F10="x","x",IF(AVS!F10="x","x","")))) | H10: =IF(MANPOWER!G10="x","x",IF(PROMAN!G10="x","x",IF(ADECCO!G10="x","x",IF(AVS!G10="x","x","")))) | I10: =IF(MANPOWER!H10="x","x",IF(PROMAN!H10="x","x",IF(ADECCO!H10="x","x",IF(AVS!H10="x","x","")))) | J10: =IF(MANPOWER!I10="x","x",IF(PROMAN!I10="x","x",IF(ADECCO!I10="x","x",IF(AVS!I10="x","x","")))) | ... AG10: =IF(MANPOWER!AF10="x","x",IF(PROMAN!AF10="x","x",IF(ADECCO!AF10="x","x",IF(AVS!AF10="x","x","")))) | AH10: =IF(MANPOWER!AG10+PROMAN!AG10+ADECCO!AG10+AVS!AG10=0,"",MANPOWER!AG10+PROMAN!AG10+ADECCO!AG10+AVS!AG10) -> 1.2708333 | AI10: =MANPOWER!AI10+PROMAN!AI10+ADECCO!AI10+AVS!AI10 -> 0 | AJ10: =MANPOWER!AJ10+PROMAN!AJ10+ADECCO!AJ10+AVS!AJ10 -> 774
B11: Juin | C11: =IF(MANPOWER!B11="x","x",IF(PROMAN!B11="x","x",IF(ADECCO!B11="x","x",IF(AVS!B11="x","x","")))) | D11: =IF(MANPOWER!C11="x","x",IF(PROMAN!C11="x","x",IF(ADECCO!C11="x","x",IF(AVS!C11="x","x","")))) | E11: =IF(MANPOWER!D11="x","x",IF(PROMAN!D11="x","x",IF(ADECCO!D11="x","x",IF(AVS!D11="x","x","")))) | F11: =IF(MANPOWER!E11="x","x",IF(PROMAN!E11="x","x",IF(ADECCO!E11="x","x",IF(AVS!E11="x","x","")))) | G11: =IF(MANPOWER!F11="x","x",IF(PROMAN!F11="x","x",IF(ADECCO!F11="x","x",IF(AVS!F11="x","x","")))) | H11: =IF(MANPOWER!G11="x","x",IF(PROMAN!G11="x","x",IF(ADECCO!G11="x","x",IF(AVS!G11="x","x","")))) | I11: =IF(MANPOWER!H11="x","x",IF(PROMAN!H11="x","x",IF(ADECCO!H11="x","x",IF(AVS!H11="x","x","")))) | J11: =IF(MANPOWER!I11="x","x",IF(PROMAN!I11="x","x",IF(ADECCO!I11="x","x",IF(AVS!I11="x","x","")))) | ... AG11: =IF(MANPOWER!AF11="x","x",IF(PROMAN!AF11="x","x",IF(ADECCO!AF11="x","x",IF(AVS!AF11="x","x","")))) | AH11: =IF(MANPOWER!AG11+PROMAN!AG11+ADECCO!AG11+AVS!AG11=0,"",MANPOWER!AG11+PROMAN!AG11+ADECCO!AG11+AVS!AG11) | AI11: =MANPOWER!AI11+PROMAN!AI11+ADECCO!AI11+AVS!AI11 -> 0 | AJ11: =MANPOWER!AJ11+PROMAN!AJ11+ADECCO!AJ11+AVS!AJ11 -> 0
B12: Juillet | C12: =IF(MANPOWER!B12="x","x",IF(PROMAN!B12="x","x",IF(ADECCO!B12="x","x",IF(AVS!B12="x","x","")))) | D12: =IF(MANPOWER!C12="x","x",IF(PROMAN!C12="x","x",IF(ADECCO!C12="x","x",IF(AVS!C12="x","x","")))) | E12: =IF(MANPOWER!D12="x","x",IF(PROMAN!D12="x","x",IF(ADECCO!D12="x","x",IF(AVS!D12="x","x","")))) | F12: =IF(MANPOWER!E12="x","x",IF(PROMAN!E12="x","x",IF(ADECCO!E12="x","x",IF(AVS!E12="x","x","")))) -> x | G12: =IF(MANPOWER!F12="x","x",IF(PROMAN!F12="x","x",IF(ADECCO!F12="x","x",IF(AVS!F12="x","x","")))) | H12: =IF(MANPOWER!G12="x","x",IF(PROMAN!G12="x","x",IF(ADECCO!G12="x","x",IF(AVS!G12="x","x","")))) | I12: =IF(MANPOWER!H12="x","x",IF(PROMAN!H12="x","x",IF(ADECCO!H12="x","x",IF(AVS!H12="x","x","")))) | J12: =IF(MANPOWER!I12="x","x",IF(PROMAN!I12="x","x",IF(ADECCO!I12="x","x",IF(AVS!I12="x","x","")))) | ... AG12: =IF(MANPOWER!AF12="x","x",IF(PROMAN!AF12="x","x",IF(ADECCO!AF12="x","x",IF(AVS!AF12="x","x","")))) | AH12: =IF(MANPOWER!AG12+PROMAN!AG12+ADECCO!AG12+AVS!AG12=0,"",MANPOWER!AG12+PROMAN!AG12+ADECCO!AG12+AVS!AG12) | AI12: =MANPOWER!AI12+PROMAN!AI12+ADECCO!AI12+AVS!AI12 -> 0 | AJ12: =MANPOWER!AJ12+PROMAN!AJ12+ADECCO!AJ12+AVS!AJ12 -> 0
B13: Août | C13: =IF(MANPOWER!B13="x","x",IF(PROMAN!B13="x","x",IF(ADECCO!B13="x","x",IF(AVS!B13="x","x","")))) | D13: =IF(MANPOWER!C13="x","x",IF(PROMAN!C13="x","x",IF(ADECCO!C13="x","x",IF(AVS!C13="x","x","")))) | E13: =IF(MANPOWER!D13="x","x",IF(PROMAN!D13="x","x",IF(ADECCO!D13="x","x",IF(AVS!D13="x","x","")))) | F13: =IF(MANPOWER!E13="x","x",IF(PROMAN!E13="x","x",IF(ADECCO!E13="x","x",IF(AVS!E13="x","x","")))) | G13: =IF(MANPOWER!F13="x","x",IF(PROMAN!F13="x","x",IF(ADECCO!F13="x","x",IF(AVS!F13="x","x","")))) | H13: =IF(MANPOWER!G13="x","x",IF(PROMAN!G13="x","x",IF(ADECCO!G13="x","x",IF(AVS!G13="x","x","")))) | I13: =IF(MANPOWER!H13="x","x",IF(PROMAN!H13="x","x",IF(ADECCO!H13="x","x",IF(AVS!H13="x","x","")))) | J13: =IF(MANPOWER!I13="x","x",IF(PROMAN!I13="x","x",IF(ADECCO!I13="x","x",IF(AVS!I13="x","x","")))) | ... AG13: =IF(MANPOWER!AF13="x","x",IF(PROMAN!AF13="x","x",IF(ADECCO!AF13="x","x",IF(AVS!AF13="x","x","")))) | AH13: =IF(MANPOWER!AG13+PROMAN!AG13+ADECCO!AG13+AVS!AG13=0,"",MANPOWER!AG13+PROMAN!AG13+ADECCO!AG13+AVS!AG13) | AI13: =MANPOWER!AI13+PROMAN!AI13+ADECCO!AI13+AVS!AI13 -> 0 | AJ13: =MANPOWER!AJ13+PROMAN!AJ13+ADECCO!AJ13+AVS!AJ13 -> 0
B14: Septembre | C14: =IF(MANPOWER!B14="x","x",IF(PROMAN!B14="x","x",IF(ADECCO!B14="x","x",IF(AVS!B14="x","x","")))) | D14: =IF(MANPOWER!C14="x","x",IF(PROMAN!C14="x","x",IF(ADECCO!C14="x","x",IF(AVS!C14="x","x","")))) | E14: =IF(MANPOWER!D14="x","x",IF(PROMAN!D14="x","x",IF(ADECCO!D14="x","x",IF(AVS!D14="x","x","")))) | F14: =IF(MANPOWER!E14="x","x",IF(PROMAN!E14="x","x",IF(ADECCO!E14="x","x",IF(AVS!E14="x","x","")))) | G14: =IF(MANPOWER!F14="x","x",IF(PROMAN!F14="x","x",IF(ADECCO!F14="x","x",IF(AVS!F14="x","x","")))) | H14: =IF(MANPOWER!G14="x","x",IF(PROMAN!G14="x","x",IF(ADECCO!G14="x","x",IF(AVS!G14="x","x","")))) | I14: =IF(MANPOWER!H14="x","x",IF(PROMAN!H14="x","x",IF(ADECCO!H14="x","x",IF(AVS!H14="x","x","")))) | J14: =IF(MANPOWER!I14="x","x",IF(PROMAN!I14="x","x",IF(ADECCO!I14="x","x",IF(AVS!I14="x","x","")))) | ... AG14: =IF(MANPOWER!AF14="x","x",IF(PROMAN!AF14="x","x",IF(ADECCO!AF14="x","x",IF(AVS!AF14="x","x","")))) | AH14: =IF(MANPOWER!AG14+PROMAN!AG14+ADECCO!AG14+AVS!AG14=0,"",MANPOWER!AG14+PROMAN!AG14+ADECCO!AG14+AVS!AG14) | AI14: =MANPOWER!AI14+PROMAN!AI14+ADECCO!AI14+AVS!AI14 -> 0 | AJ14: =MANPOWER!AJ14+PROMAN!AJ14+ADECCO!AJ14+AVS!AJ14 -> 0
B15: Octobre | C15: =IF(MANPOWER!B15="x","x",IF(PROMAN!B15="x","x",IF(ADECCO!B15="x","x",IF(AVS!B15="x","x","")))) | D15: =IF(MANPOWER!C15="x","x",IF(PROMAN!C15="x","x",IF(ADECCO!C15="x","x",IF(AVS!C15="x","x","")))) | E15: =IF(MANPOWER!D15="x","x",IF(PROMAN!D15="x","x",IF(ADECCO!D15="x","x",IF(AVS!D15="x","x","")))) | F15: =IF(MANPOWER!E15="x","x",IF(PROMAN!E15="x","x",IF(ADECCO!E15="x","x",IF(AVS!E15="x","x","")))) | G15: =IF(MANPOWER!F15="x","x",IF(PROMAN!F15="x","x",IF(ADECCO!F15="x","x",IF(AVS!F15="x","x","")))) | H15: =IF(MANPOWER!G15="x","x",IF(PROMAN!G15="x","x",IF(ADECCO!G15="x","x",IF(AVS!G15="x","x","")))) | I15: =IF(MANPOWER!H15="x","x",IF(PROMAN!H15="x","x",IF(ADECCO!H15="x","x",IF(AVS!H15="x","x","")))) | J15: =IF(MANPOWER!I15="x","x",IF(PROMAN!I15="x","x",IF(ADECCO!I15="x","x",IF(AVS!I15="x","x","")))) | ... AG15: =IF(MANPOWER!AF15="x","x",IF(PROMAN!AF15="x","x",IF(ADECCO!AF15="x","x",IF(AVS!AF15="x","x","")))) | AH15: =IF(MANPOWER!AG15+PROMAN!AG15+ADECCO!AG15+AVS!AG15=0,"",MANPOWER!AG15+PROMAN!AG15+ADECCO!AG15+AVS!AG15) | AI15: =MANPOWER!AI15+PROMAN!AI15+ADECCO!AI15+AVS!AI15 -> 0 | AJ15: =MANPOWER!AJ15+PROMAN!AJ15+ADECCO!AJ15+AVS!AJ15 -> 0
B16: Novembre | C16: =IF(MANPOWER!B16="x","x",IF(PROMAN!B16="x","x",IF(ADECCO!B16="x","x",IF(AVS!B16="x","x","")))) | D16: =IF(MANPOWER!C16="x","x",IF(PROMAN!C16="x","x",IF(ADECCO!C16="x","x",IF(AVS!C16="x","x","")))) | E16: =IF(MANPOWER!D16="x","x",IF(PROMAN!D16="x","x",IF(ADECCO!D16="x","x",IF(AVS!D16="x","x","")))) | F16: =IF(MANPOWER!E16="x","x",IF(PROMAN!E16="x","x",IF(ADECCO!E16="x","x",IF(AVS!E16="x","x","")))) | G16: =IF(MANPOWER!F16="x","x",IF(PROMAN!F16="x","x",IF(ADECCO!F16="x","x",IF(AVS!F16="x","x","")))) | H16: =IF(MANPOWER!G16="x","x",IF(PROMAN!G16="x","x",IF(ADECCO!G16="x","x",IF(AVS!G16="x","x","")))) | I16: =IF(MANPOWER!H16="x","x",IF(PROMAN!H16="x","x",IF(ADECCO!H16="x","x",IF(AVS!H16="x","x","")))) | J16: =IF(MANPOWER!I16="x","x",IF(PROMAN!I16="x","x",IF(ADECCO!I16="x","x",IF(AVS!I16="x","x","")))) | ... AG16: =IF(MANPOWER!AF16="x","x",IF(PROMAN!AF16="x","x",IF(ADECCO!AF16="x","x",IF(AVS!AF16="x","x","")))) | AH16: =IF(MANPOWER!AG16+PROMAN!AG16+ADECCO!AG16+AVS!AG16=0,"",MANPOWER!AG16+PROMAN!AG16+ADECCO!AG16+AVS!AG16) | AI16: =MANPOWER!AI16+PROMAN!AI16+ADECCO!AI16+AVS!AI16 -> 0 | AJ16: =MANPOWER!AJ16+PROMAN!AJ16+ADECCO!AJ16+AVS!AJ16 -> 0
B17: Décembre | C17: =IF(MANPOWER!B17="x","x",IF(PROMAN!B17="x","x",IF(ADECCO!B17="x","x",IF(AVS!B17="x","x","")))) | D17: =IF(MANPOWER!C17="x","x",IF(PROMAN!C17="x","x",IF(ADECCO!C17="x","x",IF(AVS!C17="x","x","")))) | E17: =IF(MANPOWER!D17="x","x",IF(PROMAN!D17="x","x",IF(ADECCO!D17="x","x",IF(AVS!D17="x","x","")))) | F17: =IF(MANPOWER!E17="x","x",IF(PROMAN!E17="x","x",IF(ADECCO!E17="x","x",IF(AVS!E17="x","x","")))) | G17: =IF(MANPOWER!F17="x","x",IF(PROMAN!F17="x","x",IF(ADECCO!F17="x","x",IF(AVS!F17="x","x","")))) | H17: =IF(MANPOWER!G17="x","x",IF(PROMAN!G17="x","x",IF(ADECCO!G17="x","x",IF(AVS!G17="x","x","")))) | I17: =IF(MANPOWER!H17="x","x",IF(PROMAN!H17="x","x",IF(ADECCO!H17="x","x",IF(AVS!H17="x","x","")))) | J17: =IF(MANPOWER!I17="x","x",IF(PROMAN!I17="x","x",IF(ADECCO!I17="x","x",IF(AVS!I17="x","x","")))) | ... AG17: =IF(MANPOWER!AF17="x","x",IF(PROMAN!AF17="x","x",IF(ADECCO!AF17="x","x",IF(AVS!AF17="x","x","")))) | AH17: =IF(MANPOWER!AG17+PROMAN!AG17+ADECCO!AG17+AVS!AG17=0,"",MANPOWER!AG17+PROMAN!AG17+ADECCO!AG17+AVS!AG17) | AI17: =MANPOWER!AI17+PROMAN!AI17+ADECCO!AI17+AVS!AI17 -> 0 | AJ17: =MANPOWER!AJ17+PROMAN!AJ17+ADECCO!AJ17+AVS!AJ17 -> 0
B19: Légende :
F20: WEEK-END
F22: Jours de semaine

Sheet GRAPHIQUE
C5: PLANNING 2017 | D5: MANPOWER | F5: PROMAN | H5: ADECCO | J5: AVS
D6: Heures dues | E6: Montant reçu | F6: Heures dues | G6: Montant reçu | H6: Heures dues | I6: Montant reçu | J6: Heures dues | K6: Montant reçu
C8: Janvier | D8: =MANPOWER!AG6 -> 0 | E8: =MANPOWER!AI6 -> 0 | F8: =PROMAN!AG6 -> 0 | G8: =PROMAN!AI6 -> 0 | H8: =ADECCO!AG6 -> 0 | I8: =ADECCO!AI6 -> 0 | J8: =AVS!AG6 -> 0 | K8: =AVS!AI6 -> 0
C9: Février | D9: =MANPOWER!AG7 -> 0 | E9: =MANPOWER!AI7 -> 0 | F9: =PROMAN!AG7 -> 0 | G9: =PROMAN!AI7 -> 0 | H9: =ADECCO!AG7 -> 0 | I9: =ADECCO!AI7 -> 0 | J9: =AVS!AG7 -> 0 | K9: =AVS!AI7 -> 0
C10: Mars | D10: =MANPOWER!AG8 -> 0 | E10: =MANPOWER!AI8 -> 0 | F10: =PROMAN!AG8 -> 0 | G10: =PROMAN!AI8 -> 0 | H10: =ADECCO!AG8 -> 0 | I10: =ADECCO!AI8 -> 0 | J10: =AVS!AG8 -> 0 | K10: =AVS!AI8 -> 0
C11: Avril | D11: =MANPOWER!AG9 -> 0.3125 | E11: =MANPOWER!AI9 -> 33.74 | F11: =PROMAN!AG9 -> 0 | G11: =PROMAN!AI9 -> 0 | H11: =ADECCO!AG9 -> 0 | I11: =ADECCO!AI9 -> 0 | J11: =AVS!AG9 -> 0 | K11: =AVS!AI9 -> 0
C12: Mai | D12: =MANPOWER!AG10 -> 0.77083333 | E12: =MANPOWER!AI10 -> 0 | F12: =PROMAN!AG10 -> 0 | G12: =PROMAN!AI10 -> 0 | H12: =ADECCO!AG10 -> 0.33333333 | I12: =ADECCO!AI10 -> 0 | J12: =AVS!AG10 -> 0.16666667 | K12: =AVS!AI10 -> 0
C13: Juin | D13: =MANPOWER!AG11 -> 0 | E13: =MANPOWER!AI11 -> 0 | F13: =PROMAN!AG11 -> 0 | G13: =PROMAN!AI11 -> 0 | H13: =ADECCO!AG11 -> 0 | I13: =ADECCO!AI11 -> 0 | J13: =AVS!AG11 -> 0 | K13: =AVS!AI11 -> 0
C14: Juillet | D14: =MANPOWER!AG12 -> 0 | E14: =MANPOWER!AI12 -> 0 | F14: =PROMAN!AG12 -> 0 | G14: =PROMAN!AI12 -> 0 | H14: =ADECCO!AG12 -> 0 | I14: =ADECCO!AI12 -> 0 | J14: =AVS!AG12 -> 0 | K14: =AVS!AI12 -> 0
C15: Août | D15: =MANPOWER!AG13 -> 0 | E15: =MANPOWER!AI13 -> 0 | F15: =PROMAN!AG13 -> 0 | G15: =PROMAN!AI13 -> 0 | H15: =ADECCO!AG13 -> 0 | I15: =ADECCO!AI13 -> 0 | J15: =AVS!AG13 -> 0 | K15: =AVS!AI13 -> 0
C16: Septembre | D16: =MANPOWER!AG14 -> 0 | E16: =MANPOWER!AI14 -> 0 | F16: =PROMAN!AG14 -> 0 | G16: =PROMAN!AI14 -> 0 | H16: =ADECCO!AG14 -> 0 | I16: =ADECCO!AI14 -> 0 | J16: =AVS!AG14 -> 0 | K16: =AVS!AI14 -> 0
C17: Octobre | D17: =MANPOWER!AG15 -> 0 | E17: =MANPOWER!AI15 -> 0 | F17: =PROMAN!AG15 -> 0 | G17: =PROMAN!AI15 -> 0 | H17: =ADECCO!AG15 -> 0 | I17: =ADECCO!AI15 -> 0 | J17: =AVS!AG15 -> 0 | K17: =AVS!AI15 -> 0
C18: Novembre | D18: =MANPOWER!AG16 -> 0 | E18: =MANPOWER!AI16 -> 0 | F18: =PROMAN!AG16 -> 0 | G18: =PROMAN!AI16 -> 0 | H18: =ADECCO!AG16 -> 0 | I18: =ADECCO!AI16 -> 0 | J18: =AVS!AG16 -> 0 | K18: =AVS!AI16 -> 0
C19: Décembre | D19: =MANPOWER!AG17 -> 0 | E19: =MANPOWER!AI17 -> 0 | F19: =PROMAN!AG17 -> 0 | G19: =PROMAN!AI17 -> 0 | H19: =ADECCO!AG17 -> 0 | I19: =ADECCO!AI17 -> 0 | J19: =AVS!AG17 -> 0 | K19: =AVS!AI17 -> 0
C20: Total | D20: =SUM(D8:D19) -> 1.0833333 | E20: =SUM(E8:E19) -> 33.74 | F20: =SUM(F8:F19) -> 0 | G20: =SUM(G8:G19) -> 0 | H20: =SUM(H8:H19) -> 0.33333333 | I20: =SUM(I8:I19) -> 0 | J20: =SUM(J8:J19) -> 0.16666667 | K20: =SUM(K8:K19) -> 0

Sheet MANPOWER
A1: MANPOWER | G1: NE REMPLIR LES CASES QU AVEC DES X MAJUSCULES
A4: PLANNING | B4: Récapitulatif annuel : Cyril | AG4: Heures | AH4: Heures | AI4: Montant | AJ4: KM
A5: 2017 | B5: 1 | C5: 2 | D5: 3 | E5: 4 | F5: 5 | G5: 6 | H5: 7 | I5: 8 | J5: 9 | K5: 10 | L5: 11 | M5: 12 | N5: 13 | O5: 14 | P5: 15 | Q5: 16 | R5: 17 | S5: 18 | T5: 19 | U5: 20 | V5: 21 | W5: 22 | X5: 23 | Y5: 24 | Z5: 25 | AA5: 26 | AB5: 27 | AC5: 28 | AD5: 29 | AE5: 30 | AF5: 31 | AG5: jour | AH5: nuit | AI5: Recu | AJ5: Parcouru
A6: Janvier
A7: Février
A8: Mars
A9: Avril | M9: X | AA9: X | AG9: 0.3125 | AH9: 0.0625 | AI9: 33.74 | AJ9: 44
A10: Mai | C10: X | E10: X | K10: X | P10: X | AG10: 0.77083333 | AH10: 0.22916667 | AJ10: 620
A11: Juin
A12: Juillet
A13: Août
A14: Septembre
A15: Octobre
A16: Novembre
A17: Décembre
A19: Légende :
E20: WEEK-END | AI20: [hh]"h"mm | AJ20: 2
E22: Jours de semaine | T22: pour ajouter des heures dans une cellule :
T24: =4:00+5:25

Sheet PROMAN
A1: PROMAN | G1: NE REMPLIR LES CASES QU AVEC DES X MAJUSCULES
A4: PLANNING | B4: Récapitulatif annuel : Cyril | AG4: Heures | AH4: Heures | AI4: Montant | AJ4: KM
A5: 2017 | B5: 1 | C5: 2 | D5: 3 | E5: 4 | F5: 5 | G5: 6 | H5: 7 | I5: 8 | J5: 9 | K5: 10 | L5: 11 | M5: 12 | N5: 13 | O5: 14 | P5: 15 | Q5: 16 | R5: 17 | S5: 18 | T5: 19 | U5: 20 | V5: 21 | W5: 22 | X5: 23 | Y5: 24 | Z5: 25 | AA5: 26 | AB5: 27 | AC5: 28 | AD5: 29 | AE5: 30 | AF5: 31 | AG5: dues | AH5: nuit | AI5: Recu | AJ5: Parcouru
A6: Janvier | U6: X
A7: Février
A8: Mars
A9: Avril
A10: Mai
A11: Juin
A12: Juillet
A13: Août
A14: Septembre
A15: Octobre
A16: Novembre
A17: Décembre
A19: Légende :
E20: WEEK-END
E22: Jours de semaine

Sheet ADECCO
A1: ADECCO | G1: NE REMPLIR LES CASES QU AVEC DES X MAJUSCULES
A4: PLANNING | B4: Récapitulatif annuel : Cyril | AG4: Heures | AH4: Heures | AI4: Montant | AJ4: KM
A5: 2017 | B5: 1 | C5: 2 | D5: 3 | E5: 4 | F5: 5 | G5: 6 | H5: 7 | I5: 8 | J5: 9 | K5: 10 | L5: 11 | M5: 12 | N5: 13 | O5: 14 | P5: 15 | Q5: 16 | R5: 17 | S5: 18 | T5: 19 | U5: 20 | V5: 21 | W5: 22 | X5: 23 | Y5: 24 | Z5: 25 | AA5: 26 | AB5: 27 | AC5: 28 | AD5: 29 | AE5: 30 | AF5: 31 | AG5: dues | AH5: nuit | AI5: Recu | AJ5: Parcouru
A6: Janvier
A7: Février
A8: Mars
A9: Avril
A10: Mai | L10: X | AG10: 0.33333333 | AJ10: 84
A11: Juin
A12: Juillet
A13: Août
A14: Septembre
A15: Octobre
A16: Novembre
A17: Décembre
A19: Légende :
E20: WEEK-END
E22: Jours de semaine

Sheet AVS
A1: AVS | G1: NE REMPLIR LES CASES QU AVEC DES X MAJUSCULES
A4: PLANNING | B4: Récapitulatif annuel : Cyril | AG4: Heures | AH4: Heures | AI4: Montant | AJ4: KM
A5: 2017 | B5: 1 | C5: 2 | D5: 3 | E5: 4 | F5: 5 | G5: 6 | H5: 7 | I5: 8 | J5: 9 | K5: 10 | L5: 11 | M5: 12 | N5: 13 | O5: 14 | P5: 15 | Q5: 16 | R5: 17 | S5: 18 | T5: 19 | U5: 20 | V5: 21 | W5: 22 | X5: 23 | Y5: 24 | Z5: 25 | AA5: 26 | AB5: 27 | AC5: 28 | AD5: 29 | AE5: 30 | AF5: 31 | AG5: dues | AH5: nuit | AI5: Recu | AJ5: Parcouru
A6: Janvier
A7: Février
A8: Mars
A9: Avril
A10: Mai | L10: X | AG10: 0.16666667 | AJ10: 70
A11: Juin | U11: X
A12: Juillet | E12: X | S12: X
A13: Août
A14: Septembre
A15: Octobre
A16: Novembre
A17: Décembre
A19: Légende :
E20: WEEK-END
E22: Jours de semaine
