Workbook
Name LF: #REF!
Name NbR: 3
Name NbT: 9
Name Profils: [1]Ressources!$A$2:$A$4
Name RRate: [1]Ressources!$A:$B
Name Tasks: [1]Taches!$A$2:$A$10
Name TPERT: #REF!

Sheet Planning
E1: Time | F1: d1 | G1: d2 | H1: d3 | I1: d4 | J1: d5 | K1: d6 | L1: d7 | M1: d8 | N1: d9 | O1: d10 | P1: d11 | Q1: d12 | R1: d13 | S1: d14 | T1: d15 | U1: d16 | V1: d17 | W1: d18 | X1: d19 | Y1: d20 | Z1: d21 | AA1: d22 | AB1: d23 | AC1: d24 | AD1: d25 | AE1: d26 | AF1: d27 | AG1: d28 | AH1: d29 | AI1: d30 | AJ1: d31 | AK1: d32 | AL1: d33 | AM1: d34 | AN1: d35 | AO1: d36 | AP1: d37 | AQ1: d38 | AR1: d39 | AS1: d40
A2: Task | B2: WL | C2: Plan. | D2: Start | E2: End
A3: =[1]Taches!A2 -> T1 | B3: =VLOOKUP(Planning!A3,[1]Taches!$A$2:$B$10,2,0) -> 4 | C3: =COUNTA(F3:AS3) -> 4 | F3: R1 | G3: R1 | H3: R1 | I3: R1
A4: =[1]Taches!A3 -> T2 | B4: =VLOOKUP(Planning!A4,[1]Taches!$A$2:$B$10,2,0) -> 3 | C4: =COUNTA(F4:AS4) -> 3 | J4: R2 | K4: R2 | L4: R2
A5: =[1]Taches!A4 -> T3 | B5: =VLOOKUP(Planning!A5,[1]Taches!$A$2:$B$10,2,0) -> 5 | C5: =COUNTA(F5:AS5) -> 5 | M5: R3 | N5: R3 | O5: R3 | P5: R3 | Q5: R3
A6: =[1]Taches!A5 -> T4 | B6: =VLOOKUP(Planning!A6,[1]Taches!$A$2:$B$10,2,0) -> 7 | C6: =COUNTA(F6:AS6) -> 7 | M6: R2 | N6: R2 | O6: R2 | P6: R2 | Q6: R2 | R6: R2 | S6: R2
A7: =[1]Taches!A6 -> T5 | B7: =VLOOKUP(Planning!A7,[1]Taches!$A$2:$B$10,2,0) -> 4 | C7: =COUNTA(F7:AS7) -> 4 | T7: R1 | U7: R1 | V7: R1 | W7: R1
A8: =[1]Taches!A7 -> T6 | B8: =VLOOKUP(Planning!A8,[1]Taches!$A$2:$B$10,2,0) -> 9 | C8: =COUNTA(F8:AS8) -> 9 | R8: R3 | S8: R3 | T8: R3 | U8: R3 | V8: R3 | W8: R3 | X8: R3 | Y8: R3 | Z8: R3
A9: =[1]Taches!A8 -> T7 | B9: =VLOOKUP(Planning!A9,[1]Taches!$A$2:$B$10,2,0) -> 6 | C9: =COUNTA(F9:AS9) -> 6 | AA9: R2 | AB9: R2 | AC9: R2 | AD9: R2 | AE9: R2 | AF9: R2
A10: =[1]Taches!A9 -> T8 | B10: =VLOOKUP(Planning!A10,[1]Taches!$A$2:$B$10,2,0) -> 6 | C10: =COUNTA(F10:AS10) -> 6 | AG10: R1 | AH10: R1 | AI10: R1 | AJ10: R1 | AK10: R1 | AL10: R1
A11: =[1]Taches!A10 -> T9 | B11: =VLOOKUP(Planning!A11,[1]Taches!$A$2:$B$10,2,0) -> 2 | C11: =COUNTA(F11:AS11) -> 2 | AM11: R3 | AN11: R3
