Workbook

Sheet export
A1: Compte | B1: Libellé Fr | C1: Code Fr | D1: Projet | E1: Janvier | F1: Février | G1: Mars | H1: Avril | I1: Mai | J1: Juin | K1: Juillet | L1: Août | M1: Septembre | N1: Total
A2: 604000 | B2: SOFTEAM | C2: 1000289 | D2: 999999 | M2: 7220
A3: 604000 | B3: SOFTEAM | C3: 1000289 | D3: 620029 | M3: 20700
A4: 604000 | B4: SOFTEAM | C4: 1000289 | D4: 620035 | K4: 5291.25 | L4: 4980 | M4: 7885
A5: 604000 | B5: SOFTEAM | C5: 1000289 | D5: 999999 | M5: 1800
A6: 611200 | B6: E PAYE | C6: 1000821 | D6: 999999 | E6: 1337 | F6: 699 | G6: 716 | H6: 733 | I6: 1163 | J6: 800 | K6: 800 | L6: 810 | M6: 1004
A7: 613200 | B7: STENA BUREAUX | C7: 1002379 | D7: 999999 | E7: 9487 | F7: 15626 | G7: 18300 | H7: 16998 | I7: 16975 | J7: 16975 | K7: 16975 | L7: 16975 | M7: 16975
A8: 613511 | B8: E PAYE | C8: 1000821 | D8: 999999 | E8: 122 | F8: 122 | G8: 122 | H8: 2222 | I8: 122 | J8: 122 | K8: 122 | L8: 122 | M8: 122
A9: 613511 | B9: E PAYE | C9: 1000821 | D9: 620030 | E9: 205
A10: 614000 | B10: STENA BUREAUX | C10: 1002379 | D10: 999999 | E10: 2982 | F10: 4911 | G10: 13687 | H10: 9231 | I10: 8085 | J10: 8085 | K10: 8085 | L10: 8085 | M10: 6954
A11: 622800 | B11: E PAYE | C11: 1000821 | D11: 999999 | E11: 400 | L11: 550

Sheet suivi ma
A1: N° Pièce Harmonie | B1: FOURNISSEURS | D1: NATURE PROJET/TRAVAIL | E1: REF.CONTRAT | F1: Période (Début-Fin contrat) | G1: PERIODICITE | H1: NB ECHEANCE CONTRAT/AN | I1: MENSUALITE/TRIM HT EN € | J1: MENSUALITE HT EN DEV. | K1: INCIDENCE CUT OF | L1: Charges 2017 s/Janvier | M1: Charges 2017 s/Fév. | N1: Charges 2017 s/Mars | O1: Charges 2017 s/Avril | P1: Charges 2017 s/Mai | Q1: Charges 2017 s/Juin | R1: Charges 2017 s/Juillet | S1: Charges 2017 s/Août | T1: Charges 2017 s/Sept. | U1: Charges 2017 s/Oct. | V1: Charges 2017 s/Nov. | W1: Charges 2017 s/Déc. | X1: FNP & AAR | Y1: TOTAL | Z1: TIERS | AA1: CPTE GENERAL | AB1: CPTE DE CHARGE | AC1: SECTION P4 | AD1: CODE PROJ. | AE1: MODE DE REGLT | AF1: CONDITIONS DE PAIEMENTS | AK1: Code Article | AL1: Code article "Item" | AM1: Centre d'analyse "Cost unit _ Code" | AN1: Centre d'analyse "Cost unit _ Description" | AO1: PCG Exact | AP1: PCG Exact _ Libellé | AQ1: Section = Location | AR1: Section = Departement (= Cost centre ?) | AS1: Code projet
A2: LOCAUX | AH2: 1
A3: Loyer annuel 203700 euros Franchise de Loyer à titre exceptionnel du 15 au 31/01/17 Début facturation loyer 01/02/2017 FA Pce 145 2016-11 FA Pce 118 2017-02 = 2017-04/05/06 (CCA) FA Pce 173 2017-03 = régul. 1T2017 franchise de loyer appliquée (990,90HT) FA Pce 163 2017-04 = régul. 1T2017 loyer (23,25HT) FA Pce 080 2017-05 = 2017-07/08/09 (CCA) FA Pce 057 2017-09 = 2017-10/11/12 (CCA) | B3: STENA BUREAUX | C3: LOCAUX | L3: 9487.4 | M3: 15626.3 | N3: =17300.55+990.9 -> 18291.45 | O3: =16975+23.25 -> 16998.25 | P3: 16975 | Q3: =16975 -> 16975 | R3: 16975 | S3: 16975 | T3: 16975 | U3: 16975 | V3: 16975 | W3: 16975 | Y3: =SUM(K3:X3) -> 196203.4 | Z3: 1002379 | AA3: 401111 | AB3: 613200 | AC3: 6160 | AD3: 121360 | AH3: 2
A4: Provision trimestrielle 16005 euros HT FA Pce 145 2016-11 FA Pce 001 2017-01 FA Pce 118 2017-02 = 2017-04/05/06 (CCA) FA Pce 060 2017-04 = signaletique exapub FA Pce 080 2017-05 = 2017-07/08/09 (CCA) FA Pce 057 2017-09 = 2017-10/11/12 (CCA) | B4: STENA BUREAUX | C4: LOCAUX | L4: =1336.77+1644.76 -> 2981.53 | M4: 4910.75 | N4: =5436.91 -> 5436.91 | O4: =5335+1146 -> 6481 | P4: 5335 | Q4: 5335 | R4: 5335 | S4: 5335 | T4: 5335 | U4: 5335 | V4: 5335 | W4: 5335 | Y4: =SUM(K4:X4) -> 62490.19 | Z4: 1002379 | AA4: 401111 | AB4: 614000 | AC4: 6160 | AD4: 121360 | AH4: 3
A5: FNP 028 2017-03 = 1T2017 FNP 038 2017-04 = 2017-04 FNP 007 2017-05 = 2017-05 FNP 013 2017-06 = 2017-06 FNP 021 2017-07 = 2017-07 FNP 012 2017-08 = 2017-08 FNP 05 2017-09 = 2017-09 EXT FNP 016 2017 FA Pce 113 2017-09 = 2017 (cca) | B5: STENA BUREAUX | C5: LOCAUX | N5: =2750+2750+2750 -> 8250 | O5: 2750 | P5: 2750 | Q5: 2750 | R5: 2750 | S5: 2750 | T5: =23619.36+2750-24750 -> 1619.36 | U5: 2624.38 | V5: 2624.38 | W5: 2624.38 | X5: -24750 | Y5: =SUM(L5:X5) -> 6742.5 | Z5: 1002379 | AA5: 401111 | AB5: 614000 | AC5: 6160 | AD5: 121360 | AH5: 4
AH6: incrementation auto si une ligne est insérée
A7: FA Pce 141 2016-12 = 2017 (cca) | B7: E-PAYE | C7: RH | L7: =593.11/12 -> 49.425833 | M7: =593.11/12 -> 49.425833 | N7: =593.11/12 -> 49.425833 | O7: =593.11/12 -> 49.425833 | P7: =593.11/12 -> 49.425833 | Q7: =593.11/12 -> 49.425833 | R7: =593.11/12 -> 49.425833 | S7: =593.11/12 -> 49.425833 | ... W7: =593.11/12 -> 49.425833 | Y7: =SUM(K7:X7) -> 593.11 | Z7: 1000821 | AA7: 401111 | AB7: 613511 | AC7: 6153 | AF7: 999999 | AH7: 5
A8: FA Pce 146 2017-01 = 2017-01 (+service DADS abonnés) FA Pce 144 2017-02 = 2017-02 FA Pce 147 2017-03 = 2017-03 FA Pce 159 2017-04 = 2017-04 FA Pce 145 2017-05 = 2017-05 FA Pce 188 2017-06 = 2017-06 FA Pce 167 2017-07 = 2017-07 FA Pce 155 2017-08 = 2017-08 FA Pce 157 2017-09 = 2017-09 | B8: E-PAYE | C8: RH | L8: 241.08 | M8: 238.21 | N8: 243.95 | O8: =57.4+175.07+17.22 -> 249.69 | P8: =57.4+192.29+17.22 -> 266.91 | Q8: 272.65 | R8: 272.65 | S8: 276.21 | T8: =62.37+196.02+14.85 -> 273.24 | Y8: =SUM(K8:X8) -> 2334.59 | Z8: 1000821 | AA8: 401111 | AB8: 611200 | AC8: 6153 | AF8: 999999 | AH8: 6
A9: FA Pce 142 2016-12 = 2017 (cca) | B9: E-PAYE | C9: RH | L9: =(869.52/12) -> 72.46 | M9: =869.52/12 -> 72.46 | N9: =869.52/12 -> 72.46 | O9: =869.52/12 -> 72.46 | P9: =869.52/12 -> 72.46 | Q9: =869.52/12 -> 72.46 | R9: =869.52/12 -> 72.46 | S9: =869.52/12 -> 72.46 | T9: =869.52/12 -> 72.46 | ... W9: =869.52/12 -> 72.46 | Y9: =SUM(K9:X9) -> 869.52 | Z9: 1000821 | AA9: 401111 | AB9: 613511 | AC9: 6153 | AF9: 999999 | AH9: 7
A10: FA Pce 082 2016-05 = 2016 FA Pce 143 2016-12 = 2017 (cca) Lattes | B10: E-PAYE | L10: 205 | Y10: =SUM(K10:X10) -> 205 | Z10: 1000821 | AA10: 401111 | AB10: 613511 | AC10: 6153 | AF10: 620030 | AH10: 8
A11: FA Pce 158 2016-11 = Lot mise en place : 38,7KE FA Pce 148 2016-12 = Lot FRFULL & Lot GBFUL FA Pce 186 2017-06 = Lot THFULL & Lot TWFULL & ESFULL FA Pce 157 2017-07 = SCANFULL & BEFULL FA Pce 137 2017-08 = Lot EPAPAT & EPBPAT & KRFULL FA Pce 148 2017-09 = USPAT | B11: SOFTEAM Cadextan | T11: 20700 | Y11: =SUM(M11:X11) -> 20700 | Z11: 1000289 | AA11: 401111 | AB11: 604000 | AC11: 6134 | AD11: 101140 | AF11: 101241 | AH11: 9
A12: FA Pce 165 2017-07 = 2017-07 12,75 jours FA Pce 144 2017-08 = 2017-08 12 jours FNP Pce 056 2017-09 = 2017-09 19 jours | B12: SOFTEAM Cadextan | R12: 5291.25 | S12: 4980 | X12: 7885 | Y12: =SUM(M12:X12) -> 18156.25 | Z12: 1000289 | AA12: 401111 | AB12: 604000 | AC12: 6134 | AD12: 101140 | AF12: 101850 | AH12: 10
A13: FNP Pce 024 2017-08 = 2017-08 14,75 jours FNP pce 044 2017-09 = 2017-09 19 jours | B13: SOFTEAM Cadextan | X13: =5605+7220 -> 12825 | Y13: =SUM(M13:X13) -> 12825 | Z13: 1000289 | AA13: 401111 | AB13: 604000 | AC13: 6134 | AF13: 620017 | AH13: 11
A14: FA Pce 169 2017-05 = 2017-04 1,5 jours FA Pce 170 2017-05 = 2017-05 16 jours FA Pce 176 2017-06 = 2017-06 12 jours FA Pce 159 2017-07 = 2017-07 8 jours FA Pce 139 2017-08 = 2017-08 8,5 jours FNP Pce 058 2017-09 = 2017-09 4 jours | B14: SOFTEAM Cadextan | O14: 675 | P14: 7200 | Q14: 5400 | R14: 3600 | S14: 3825 | X14: =4*450 -> 1800 | Y14: =SUM(M14:X14) -> 22500 | Z14: 1000289 | AA14: 401111 | AB14: 604000 | AC14: 6134 | AF14: 620017 | AH14: 12

Sheet compare
D1: Charges 2017 s/Sept.
A4: A2 asc | B4: B2 asc | C4: C2 asc | D4: suivi ma | E4: mnt export | F4: variation
A5: =export!A2 -> 604000 | B5: SOFTEAM Cadextan | C5: =export!C2 -> 1000289 | D5: =IF('suivi ma'!T:T<>0,INDEX('suivi ma'!$A$1:$AD$30,MATCH(B5,'suivi ma'!B:B,0),MATCH($D$1,'suivi ma'!$1:$1,0),VLOOKUP(E5,'suivi ma'!$A$1:$AD$30,20,TRUE))) -> #N/A | E5: =export!M2 -> 7220 | F5: =IF(D5<>0,E5-D5,"") -> #N/A
A6: =export!A3 -> 604000 | B6: =export!B3 -> SOFTEAM | C6: =export!C3 -> 1000289 | D6: =IF('suivi ma'!T:T<>0,INDEX('suivi ma'!$A$1:$AD$30,MATCH(B6,'suivi ma'!B:B,0),MATCH($D$1,'suivi ma'!$1:$1,0),VLOOKUP(E6,'suivi ma'!$A$1:$AD$30,20,TRUE))) -> FALSE | E6: =export!M3 -> 20700 | F6: =IF(D6<>0,E6-D6,"") -> 20700
A7: =export!A4 -> 604000 | B7: =export!B4 -> SOFTEAM | C7: =export!C4 -> 1000289 | D7: =IF('suivi ma'!T:T<>0,INDEX('suivi ma'!$A$1:$AD$30,MATCH(B7,'suivi ma'!B:B,0),MATCH($D$1,'suivi ma'!$1:$1,0),VLOOKUP(E7,'suivi ma'!$A$1:$AD$30,20,TRUE))) -> #N/A | E7: =export!M4 -> 7885 | F7: =IF(D7<>0,E7-D7,"") -> #N/A
A8: =export!A5 -> 604000 | B8: =export!B5 -> SOFTEAM | C8: =export!C5 -> 1000289 | D8: =IF('suivi ma'!T:T<>0,INDEX('suivi ma'!$A$1:$AD$30,MATCH(B8,'suivi ma'!B:B,0),MATCH($D$1,'suivi ma'!$1:$1,0),VLOOKUP(E8,'suivi ma'!$A$1:$AD$30,20,TRUE))) -> #N/A | E8: =export!M5 -> 1800 | F8: =IF(D8<>0,E8-D8,"") -> #N/A
A9: =export!A6 -> 611200 | B9: =export!B6 -> E PAYE | C9: =export!C6 -> 1000821 | D9: =IF('suivi ma'!T:T<>0,INDEX('suivi ma'!$A$1:$AD$30,MATCH(B9,'suivi ma'!B:B,0),MATCH($D$1,'suivi ma'!$1:$1,0),VLOOKUP(E9,'suivi ma'!$A$1:$AD$30,20,TRUE))) -> #N/A | E9: =export!M6 -> 1004 | F9: =IF(D9<>0,E9-D9,"") -> #N/A
A10: =export!A7 -> 613200 | B10: =export!B7 -> STENA BUREAUX | C10: =export!C7 -> 1002379 | D10: =IF('suivi ma'!T:T<>0,INDEX('suivi ma'!$A$1:$AD$30,MATCH(B10,'suivi ma'!B:B,0),MATCH($D$1,'suivi ma'!$1:$1,0),VLOOKUP(E10,'suivi ma'!$A$1:$AD$30,20,TRUE))) -> FALSE | E10: =export!M7 -> 16975 | F10: =IF(D10<>0,E10-D10,"") -> 16975
A11: =export!A8 -> 613511 | B11: =export!B8 -> E PAYE | C11: =export!C8 -> 1000821 | D11: =IF('suivi ma'!T:T<>0,INDEX('suivi ma'!$A$1:$AD$30,MATCH(B11,'suivi ma'!B:B,0),MATCH($D$1,'suivi ma'!$1:$1,0),VLOOKUP(E11,'suivi ma'!$A$1:$AD$30,20,TRUE))) -> #N/A | E11: =export!M8 -> 122 | F11: =IF(D11<>0,E11-D11,"") -> #N/A
A12: =export!A9 -> 613511 | B12: =export!B9 -> E PAYE | C12: =export!C9 -> 1000821 | D12: =IF('suivi ma'!T:T<>0,INDEX('suivi ma'!$A$1:$AD$30,MATCH(B12,'suivi ma'!B:B,0),MATCH($D$1,'suivi ma'!$1:$1,0),VLOOKUP(E12,'suivi ma'!$A$1:$AD$30,20,TRUE))) -> FALSE | E12: =export!M9 -> 0 | F12: =IF(D12<>0,E12-D12,"") -> 0
A13: =export!A10 -> 614000 | B13: =export!B10 -> STENA BUREAUX | C13: =export!C10 -> 1002379 | D13: =IF('suivi ma'!T:T<>0,INDEX('suivi ma'!$A$1:$AD$30,MATCH(B13,'suivi ma'!B:B,0),MATCH($D$1,'suivi ma'!$1:$1,0),VLOOKUP(E13,'suivi ma'!$A$1:$AD$30,20,TRUE))) -> FALSE | E13: =export!M10 -> 6954 | F13: =IF(D13<>0,E13-D13,"") -> 6954 | I13: ETAPE
A14: =export!A11 -> 622800 | B14: =export!B11 -> E PAYE | C14: =export!C11 -> 1000821 | D14: =IF('suivi ma'!T:T<>0,INDEX('suivi ma'!$A$1:$AD$30,MATCH(B14,'suivi ma'!B:B,0),MATCH($D$1,'suivi ma'!$1:$1,0),VLOOKUP(E14,'suivi ma'!$A$1:$AD$30,20,TRUE))) -> FALSE | E14: =export!M11 -> 0 | F14: =IF(D14<>0,E14-D14,"") -> 0 | I14: 1 ) je souhaite qu'il retrouve la bonne cellule | O14: > | P14: j'ai rajouté une recherche V afin que la formule me permette de retrouver la valeur la plus proche du montant exporté ( au vu du fait que les lignes de l'export ne sont pas différenciés), mais cela ne fonctionne pas :
A15: =export!A12 -> 0 | B15: =export!B12 -> 0 | C15: =export!C12 -> 0 | D15: =IF('suivi ma'!T:T<>0,INDEX('suivi ma'!$A$1:$AD$30,MATCH(B15,'suivi ma'!B:B,0),MATCH($D$1,'suivi ma'!$1:$1,0),VLOOKUP(E15,'suivi ma'!$A$1:$AD$30,20,TRUE))) -> FALSE | E15: =export!M12 -> 0 | F15: =IF(D15<>0,E15-D15,"") -> 0 | I15: 2) que si il n'y rien il me l'indique OU au meilleur qu'il aille chercher ailleurs | O15: > | P15: j'ai rajouté un SI
A16: =export!A13 -> 0 | B16: =export!B13 -> 0 | C16: =export!C13 -> 0 | D16: =IF('suivi ma'!T:T<>0,INDEX('suivi ma'!$A$1:$AD$30,MATCH(B16,'suivi ma'!B:B,0),MATCH($D$1,'suivi ma'!$1:$1,0),VLOOKUP(E16,'suivi ma'!$A$1:$AD$30,20,TRUE))) -> FALSE | E16: =export!M13 -> 0 | F16: =IF(D16<>0,E16-D16,"") -> 0
A17: =export!A14 -> 0 | B17: =export!B14 -> 0 | C17: =export!C14 -> 0 | D17: =IF('suivi ma'!T:T<>0,INDEX('suivi ma'!$A$1:$AD$30,MATCH(B17,'suivi ma'!B:B,0),MATCH($D$1,'suivi ma'!$1:$1,0),VLOOKUP(E17,'suivi ma'!$A$1:$AD$30,20,TRUE))) -> FALSE | E17: =export!M14 -> 0 | F17: =IF(D17<>0,E17-D17,"") -> 0
A18: =export!A15 -> 0 | B18: =export!B15 -> 0 | C18: =export!C15 -> 0 | D18: =IF('suivi ma'!T:T<>0,INDEX('suivi ma'!$A$1:$AD$30,MATCH(B18,'suivi ma'!B:B,0),MATCH($D$1,'suivi ma'!$1:$1,0),VLOOKUP(E18,'suivi ma'!$A$1:$AD$30,20,TRUE))) -> FALSE | E18: =export!M15 -> 0 | F18: =IF(D18<>0,E18-D18,"") -> 0
D19: =IF('suivi ma'!T:T<>0,INDEX('suivi ma'!$A$1:$AD$30,MATCH(B19,'suivi ma'!B:B,0),MATCH($D$1,'suivi ma'!$1:$1,0),VLOOKUP(E19,'suivi ma'!$A$1:$AD$30,20,TRUE))) -> FALSE | E19: =export!M16 -> 0
D20: =IF('suivi ma'!T:T<>0,INDEX('suivi ma'!$A$1:$AD$30,MATCH(B20,'suivi ma'!B:B,0),MATCH($D$1,'suivi ma'!$1:$1,0),VLOOKUP(E20,'suivi ma'!$A$1:$AD$30,20,TRUE))) -> FALSE | E20: =export!M17 -> 0
D21: =IF('suivi ma'!T:T<>0,INDEX('suivi ma'!$A$1:$AD$30,MATCH(B21,'suivi ma'!B:B,0),MATCH($D$1,'suivi ma'!$1:$1,0),VLOOKUP(E21,'suivi ma'!$A$1:$AD$30,20,TRUE))) -> FALSE | E21: =export!M18 -> 0
E22: =export!M19 -> 0
E23: =export!M20 -> 0
E24: =export!M21 -> 0
E25: =export!M22 -> 0
E26: =export!M23 -> 0
E27: =export!M24 -> 0
E28: =export!M25 -> 0
E29: =export!M26 -> 0
E30: =export!M27 -> 0
E31: =export!M28 -> 0
E32: =export!M29 -> 0
E33: =export!M30 -> 0
... E35: =export!M32 -> 0
