Workbook
Name AfficherNom: #REF!
Name An: calendriers!$C$1
Name An: #REF!
Name ChampQui: [1]!tblDonnées[QUI]
Name DAbut: #REF!
Name DAfin: #REF!
Name date: Événements!#REF!
Name Datedebut: Tableau1[[#Headers],[date debut]]
Name Datefin: évènements!$B:$B
Name Dbut: Tableau1[date debut]
Name dCL: [2]Data!#REF!
Name Ddebut: Tableau1[[#All],[date debut]]
Name début: Événements!$B$2:$B$11
Name débutm: Événements!$F$2:$F$11
Name dferm: [2]Data!#REF!
Name Dfin: Tableau1[date fin]
Name Dform: [2]Calendrier!#REF!
Name Dform: [2]Calendrier!#REF!
Name DVac: BD_CAL!$E$5:$E$38
Name F: Événements!$A$3:$G$3
Name Fériés: BD_CAL!$J$6:$J$58
Name fin: Événements!$C$2:$C$11
Name finm: Événements!$G$2:$G$11
Name FVac: BD_CAL!$G$5:$G$38
Name onglets: BD_CAL!$I$5:$I$16
Name RechercherQui: OFFSET('[1]Recherche de nom'!$A$3,,,COUNT('[1]Recherche de nom'!$B:$B),1)
Name SemaineDu: #REF!

Sheet BD_CAL
B2: Année scolaire | E2: Date Début vacances | G2: Date Fin vacances | K2: http://www.education.gouv.fr/pid25058/le-calendrier-scolaire.html?annee=108&zone=0&search_input=%A0D%E9partement%2C+Code+postal+ou+ville
E3: Académie de dijon | G3: Académie de dijon
E4: DVac | G4: FVac
B5: 2013/2014 | C5: Noël | E5: 41265 | G5: 41280 | I5: Janvier | J5: Fériés
C6: Hiver | E6: 41328 | G6: 41343 | I6: Février | J6: =DATE(calendriers!An-1,1,1) -> 42370
C7: Printemps | E7: 41384 | G7: 41399 | I7: Mars | J7: =ROUND(DATE(calendriers!An-1,4,MOD(234-11*MOD(calendriers!An-1,19),30))/7,0)*7-6+1 -> 42457
C8: Eté | E8: 41461 | G8: 41518 | I8: Avril | J8: =DATE(calendriers!An-1,5,1) -> 42491
C9: Toussaint | E9: 41566 | G9: 41581 | I9: Mai | J9: =DATE(calendriers!An-1,5,8) -> 42498
C10: Noël | E10: 41629 | G10: 41644 | I10: Juin | J10: =J7+38 -> 42495
I11: Juillet | J11: =J7+49 -> 42506
B12: =IF(E12="","",YEAR(E12)&"/"&YEAR(G16)) -> 2014/2015 | C12: Hiver | E12: 41699 | G12: 41714 | I12: Août | J12: =DATE(calendriers!An-1,7,14) -> 42565
C13: Printemps | E13: 41755 | G13: 41770 | I13: Septembre | J13: =DATE(calendriers!An-1,8,15) -> 42597
C14: Eté | E14: 41825 | G14: 41882 | I14: Octobre | J14: =DATE(calendriers!An-1,11,1) -> 42675
C15: Toussaint | E15: 41930 | G15: 41945 | I15: Novembre | J15: =DATE(calendriers!An-1,11,11) -> 42685
C16: Noël | E16: 41993 | G16: 42008 | I16: Décembre | J16: =DATE(calendriers!An-1,12,25) -> 42729
J17: =DATE(calendriers!An,1,1) -> 42736
B18: =IF(E18="","",YEAR(E18)&"/"&YEAR(G22)) -> 2015/2016 | C18: Hiver | E18: 42042 | G18: 42057 | J18: =ROUND(DATE(calendriers!An,4,MOD(234-11*MOD(calendriers!An,19),30))/7,0)*7-6+1 -> 42842
C19: Printemps | E19: 42105 | G19: 42120 | J19: =DATE(calendriers!An,5,1) -> 42856
C20: Eté | E20: 42189 | G20: 42246 | J20: =DATE(calendriers!An,5,8) -> 42863
C21: Toussaint | E21: 42294 | G21: 42309 | J21: =J18+38 -> 42880
C22: Noël | E22: 42357 | G22: 42372 | J22: =J18+49 -> 42891
J23: =DATE(calendriers!An,7,14) -> 42930
B24: =IF(E24="","",YEAR(E24)&"/"&YEAR(G28)) -> 2016/2017 | C24: Hiver | E24: 42418 | G24: 42435 | J24: =DATE(calendriers!An,8,15) -> 42962
C25: Printemps | E25: 42475 | G25: 42492 | J25: =DATE(calendriers!An,11,1) -> 43040
C26: Eté | E26: 42559 | G26: 42614 | J26: =DATE(calendriers!An,11,11) -> 43050
C27: Toussaint | E27: 42662 | G27: 42677 | J27: =DATE(calendriers!An,12,25) -> 43094
C28: Noël | E28: 42721 | G28: 42738 | J28: =DATE(calendriers!An+1,1,1) -> 43101
J29: =ROUND(DATE(calendriers!An+1,4,MOD(234-11*MOD(calendriers!An+1,19),30))/7,0)*7-6+1 -> 43192
B30: =IF(E30="","",YEAR(E30)&"/"&YEAR(G34)) -> 2017/2018 | C30: Hiver | E30: 42776 | G30: 42792 | J30: =DATE(calendriers!An+1,5,1) -> 43221
C31: Printemps | E31: 42832 | G31: 42848 | J31: =DATE(calendriers!An+1,5,8) -> 43228
C32: Eté | E32: 42923 | G32: 42979 | J32: =J29+38 -> 43230
C33: Toussaint | E33: 43029 | G33: 43044 | J33: =J29+49 -> 43241
C34: Noël | E34: 43092 | G34: 43108 | J34: =DATE(calendriers!An+1,7,14) -> 43295
J35: =DATE(calendriers!An+1,8,15) -> 43327
B36: =IF(E36="","",YEAR(E36)&"/"&YEAR(G40)) -> 2018/2013 | C36: Hiver | E36: 43141 | G36: 43157 | J36: =DATE(calendriers!An+1,11,1) -> 43405
C37: Printemps | E37: 43197 | G37: 43213 | J37: =DATE(calendriers!An+1,11,11) -> 43415
C38: Eté | E38: 43288 | G38: 43345 | J38: =DATE(calendriers!An+1,12,25) -> 43459
C39: Toussaint | G39: 41280
C40: Noël | G40: 41343

Sheet calendriers
C1: 2017 | L1: =IF(MONTH(1&M2)=1,An+1,"") | U1: =IF(MONTH(1&V2)=1,An+1,"") | AD1: =IF(MONTH(1&AE2)=1,An+1,"") | AM1: =IF(MONTH(1&AN2)=1,An+1,"") | AV1: =IF(MONTH(1&AW2)=1,An+1,"") | BE1: =IF(MONTH(1&BF2)=1,An+1,"") | BN1: =IF(MONTH(1&BO2)=1,An+1,"") | BW1: =IF(MONTH(1&BX2)=1,An+1,"") | CF1: =IF(MONTH(1&CG2)=1,An+1,"") | CO1: =IF(MONTH(1&CP2)=1,An+1,"") | CX1: =IF(MONTH(1&CY2)=1,An+1,"") | DG1: =IF(MONTH(1&DH2)=1,An+1,"") -> 2018
C2: =MONTH(1&D2) -> 1 | D2: Janvier | L2: =MONTH(1&M2) -> 2 | M2: =CHOOSE(IF(MONTH(1&D2)=12,1,MONTH(1&D2)+1),"Janvier","Février","Mars","Avril","Mai","Juin","Juillet","Août","Septembre","Octobre","Novembre","Décembre") -> Février | U2: =MONTH(1&V2) -> 3 | V2: =CHOOSE(IF(MONTH(1&M2)=12,1,MONTH(1&M2)+1),"Janvier","Février","Mars","Avril","Mai","Juin","Juillet","Août","Septembre","Octobre","Novembre","Décembre") -> Mars | AD2: =MONTH(1&AE2) -> 4 | AE2: =CHOOSE(IF(MONTH(1&V2)=12,1,MONTH(1&V2)+1),"Janvier","Février","Mars","Avril","Mai","Juin","Juillet","Août","Septembre","Octobre","Novembre","Décembre") -> Avril | AM2: =MONTH(1&AN2) -> 5 | AN2: =CHOOSE(IF(MONTH(1&AE2)=12,1,MONTH(1&AE2)+1),"Janvier","Février","Mars","Avril","Mai","Juin","Juillet","Août","Septembre","Octobre","Novembre","Décembre") -> Mai | AV2: =MONTH(1&AW2) -> 6 | AW2: =CHOOSE(IF(MONTH(1&AN2)=12,1,MONTH(1&AN2)+1),"Janvier","Février","Mars","Avril","Mai","Juin","Juillet","Août","Septembre","Octobre","Novembre","Décembre") -> Juin | BE2: =MONTH(1&BF2) -> 7 | BF2: =CHOOSE(IF(MONTH(1&AW2)=12,1,MONTH(1&AW2)+1),"Janvier","Février","Mars","Avril","Mai","Juin","Juillet","Août","Septembre","Octobre","Novembre","Décembre") -> Juillet | BN2: =MONTH(1&BO2) -> 8 | BO2: =CHOOSE(IF(MONTH(1&BF2)=12,1,MONTH(1&BF2)+1),"Janvier","Février","Mars","Avril","Mai","Juin","Juillet","Août","Septembre","Octobre","Novembre","Décembre") -> Août | BW2: =MONTH(1&BX2) -> 9 | BX2: =CHOOSE(IF(MONTH(1&BO2)=12,1,MONTH(1&BO2)+1),"Janvier","Février","Mars","Avril","Mai","Juin","Juillet","Août","Septembre","Octobre","Novembre","Décembre") -> Septembre | CF2: =MONTH(1&CG2) -> 10 | CG2: =CHOOSE(IF(MONTH(1&BX2)=12,1,MONTH(1&BX2)+1),"Janvier","Février","Mars","Avril","Mai","Juin","Juillet","Août","Septembre","Octobre","Novembre","Décembre") -> Octobre | CO2: =MONTH(1&CP2) -> 11 | CP2: =CHOOSE(IF(MONTH(1&CG2)=12,1,MONTH(1&CG2)+1),"Janvier","Février","Mars","Avril","Mai","Juin","Juillet","Août","Septembre","Octobre","Novembre","Décembre") -> Novembre | CX2: =MONTH(1&CY2) -> 12 | CY2: =CHOOSE(IF(MONTH(1&CP2)=12,1,MONTH(1&CP2)+1),"Janvier","Février","Mars","Avril","Mai","Juin","Juillet","Août","Septembre","Octobre","Novembre","Décembre") -> Décembre | DG2: =MONTH(1&DH2) -> 1 | DH2: =CHOOSE(IF(MONTH(1&CY2)=12,1,MONTH(1&CY2)+1),"Janvier","Février","Mars","Avril","Mai","Juin","Juillet","Août","Septembre","Octobre","Novembre","Décembre") -> Janvier
C3: =D3 -> 42736 | D3: =DATE(An,MONTH(1&D$2),1) -> 42736 | E3: =IF(D3="","",IF(ISERROR(MATCH(D3,Lune!$A$1:$A$1000,0)),IF(WEEKDAY(D3)=5,INT((D3-DATE(YEAR(D3),1,1))/7+1),IF(AND(WEEKDAY(D3)=4,NOT( ISERROR(MATCH(D3+1,Lune!$A$1:$A$1000,0)))),INT((D3+1-DATE(YEAR(D3+1),1,1))/7+1),"")),INDEX(Lune!$B$1:$B$1000,MATCH(D3,Lune!$A$1:$A$1000,0),1))) | F3: =IF(G3="",""," '") | G3: =IF(ISERROR(VLOOKUP(D3,anniversaire!$X$2:$Z$100,2,0)),"",VLOOKUP(D3,anniversaire!$X$2:$Z$100,2,0)) | H3: =IF(ISERROR(VLOOKUP(D3,fête!$B$2:$C$367,2,0)),"",VLOOKUP(D3,fête!$B$2:$C$367,2,0)) -> Jour de l'an | I3: =IF(ISERROR(VLOOKUP(D3,évènements!$A$3:$D$200,3,0)),"",VLOOKUP(D3,évènements!$A$3:$D$200,3,0)) | J3: =IF(ISERROR(VLOOKUP(D3,évènements!$B$3:$D$200,2,0)),"",VLOOKUP(D3,évènements!$B$3:$D$200,2,0)) | K3: =CONCATENATE(I3," ",J3) | L3: =M3 -> 42767 | M3: =DATE(IF(MONTH(1&M$2)=1,An+1,An),MONTH(1&M$2),1) -> 42767 | N3: =IF(M3="","",IF(ISERROR(MATCH(M3,Lune!$A$1:$A$1000,0)),IF(WEEKDAY(M3)=5,INT((M3-DATE(YEAR(M3),1,1))/7+1),IF(AND(WEEKDAY(M3)=4,NOT( ISERROR(MATCH(M3+1,Lune!$A$1:$A$1000,0)))),INT((M3+1-DATE(YEAR(M3+1),1,1))/7+1),"")),INDEX(Lune!$B$1:$B$1000,MATCH(M3,Lune!$A$1:$A$1000,0),1))) | O3: =IF(P3="",""," '") | P3: =IF(ISERROR(VLOOKUP(M3,anniversaire!$X$2:$Z$100,2,0)),"",VLOOKUP(M3,anniversaire!$X$2:$Z$100,2,0)) | Q3: =IF(ISERROR(VLOOKUP(M3,fête!$B$2:$C$367,2,0)),"",VLOOKUP(M3,fête!$B$2:$C$367,2,0)) -> Ella | R3: =IF(ISERROR(VLOOKUP(M3,évènements!$A$3:$D$200,3,0)),"",VLOOKUP(M3,évènements!$A$3:$D$200,3,0)) | S3: =IF(ISERROR(VLOOKUP(M3,évènements!$B$3:$D$200,2,0)),"",VLOOKUP(M3,évènements!$B$3:$D$200,2,0)) | T3: =CONCATENATE(R3," ",S3) | U3: =V3 -> 42795 | V3: =DATE(IF(MONTH(1&M$2)<MONTH(1&V$2),YEAR(M3),An+1),MONTH(1&V$2),1) -> 42795 | W3: =IF(V3="","",IF(ISERROR(MATCH(V3,Lune!$A$1:$A$1000,0)),IF(WEEKDAY(V3)=5,INT((V3-DATE(YEAR(V3),1,1))/7+1),IF(AND(WEEKDAY(V3)=4,NOT( ISERROR(MATCH(V3+1,Lune!$A$1:$A$1000,0)))),INT((V3+1-DATE(YEAR(V3+1),1,1))/7+1),"")),INDEX(Lune!$B$1:$B$1000,MATCH(V3,Lune!$A$1:$A$1000,0),1))) | X3: =IF(Y3="",""," '") | Y3: =IF(ISERROR(VLOOKUP(V3,anniversaire!$X$2:$Z$100,2,0)),"",VLOOKUP(V3,anniversaire!$X$2:$Z$100,2,0)) | Z3: =IF(ISERROR(VLOOKUP(V3,fête!$B$2:$C$367,2,0)),"",VLOOKUP(V3,fête!$B$2:$C$367,2,0)) -> Auguste | AA3: =IF(ISERROR(VLOOKUP(V3,évènements!$A$3:$D$200,3,0)),"",VLOOKUP(V3,évènements!$A$3:$D$200,3,0)) | AB3: =IF(ISERROR(VLOOKUP(V3,évènements!$B$3:$D$200,2,0)),"",VLOOKUP(V3,évènements!$B$3:$D$200,2,0)) | AC3: =CONCATENATE(AA3," ",AB3) | AD3: =AE3 -> 42826 | AE3: =DATE(IF(MONTH(1&V$2)<MONTH(1&AE$2),YEAR(V3),An+1),MONTH(1&AE$2),1) -> 42826 | AF3: =IF(AE3="","",IF(ISERROR(MATCH(AE3,Lune!$A$1:$A$1000,0)),IF(WEEKDAY(AE3)=5,INT((AE3-DATE(YEAR(AE3),1,1))/7+1),IF(AND(WEEKDAY(AE3)=4,NOT( ISERROR(MATCH(AE3+1,Lune!$A$1:$A$1000,0)))),INT((AE3+1-DATE(YEAR(AE3+1),1,1))/7+1),"")),INDEX(Lune!$B$1:$B$1000,MATCH(AE3,Lune!$A$1:$A$1000,0),1))) | AG3: =IF(AH3="",""," '") | AH3: =IF(ISERROR(VLOOKUP(AE3,anniversaire!$X$2:$Z$100,2,0)),"",VLOOKUP(AE3,anniversaire!$X$2:$Z$100,2,0)) | AI3: =IF(ISERROR(VLOOKUP(AE3,fête!$B$2:$C$367,2,0)),"",VLOOKUP(AE3,fête!$B$2:$C$367,2,0)) -> Hugues | AJ3: =IF(ISERROR(VLOOKUP(AE3,évènements!$A$3:$D$200,3,0)),"",VLOOKUP(AE3,évènements!$A$3:$D$200,3,0)) | AK3: =IF(ISERROR(VLOOKUP(AE3,évènements!$B$3:$D$200,2,0)),"",VLOOKUP(AE3,évènements!$B$3:$D$200,2,0)) | AL3: =CONCATENATE(AJ3," ",AK3) | AM3: =AN3 -> 42856 | AN3: =DATE(IF(MONTH(1&AE$2)<MONTH(1&AN$2),YEAR(AE3),An+1),MONTH(1&AN$2),1) -> 42856 | AO3: =IF(AN3="","",IF(ISERROR(MATCH(AN3,Lune!$A$1:$A$1000,0)),IF(WEEKDAY(AN3)=5,INT((AN3-DATE(YEAR(AN3),1,1))/7+1),IF(AND(WEEKDAY(AN3)=4,NOT( ISERROR(MATCH(AN3+1,Lune!$A$1:$A$1000,0)))),INT((AN3+1-DATE(YEAR(AN3+1),1,1))/7+1),"")),INDEX(Lune!$B$1:$B$1000,MATCH(AN3,Lune!$A$1:$A$1000,0),1))) | AP3: =IF(AQ3="","","'") | AQ3: =IF(ISERROR(VLOOKUP(AN3,anniversaire!$X$2:$Z$100,2,0)),"",VLOOKUP(AN3,anniversaire!$X$2:$Z$100,2,0)) | AR3: =IF(ISERROR(VLOOKUP(AN3,fête!$B$2:$C$367,2,0)),"",VLOOKUP(AN3,fête!$B$2:$C$367,2,0)) -> Fête du travail | AS3: =IF(ISERROR(VLOOKUP(AN3,évènements!$A$3:$D$200,3,0)),"",VLOOKUP(AN3,évènements!$A$3:$D$200,3,0)) | AT3: =IF(ISERROR(VLOOKUP(AN3,évènements!$B$3:$D$200,2,0)),"",VLOOKUP(AN3,évènements!$B$3:$D$200,2,0)) | AU3: =CONCATENATE(AS3," ",AT3) | AV3: =AW3 -> 42887 | AW3: =DATE(IF(MONTH(1&AN$2)<MONTH(1&AW$2),YEAR(AN3),An+1),MONTH(1&AW$2),1) -> 42887 | AX3: =IF(AW3="","",IF(ISERROR(MATCH(AW3,Lune!$A$1:$A$1000,0)),IF(WEEKDAY(AW3)=5,INT((AW3-DATE(YEAR(AW3),1,1))/7+1),IF(AND(WEEKDAY(AW3)=4,NOT( ISERROR(MATCH(AW3+1,Lune!$A$1:$A$1000,0)))),INT((AW3+1-DATE(YEAR(AW3+1),1,1))/7+1),"")),INDEX(Lune!$B$1:$B$1000,MATCH(AW3,Lune!$A$1:$A$1000,0),1))) -> ◐ | AY3: =IF(AZ3="",""," '") | AZ3: =IF(ISERROR(VLOOKUP(AW3,anniversaire!$X$2:$Z$100,2,0)),"",VLOOKUP(AW3,anniversaire!$X$2:$Z$100,2,0)) | BA3: =IF(ISERROR(VLOOKUP(AW3,fête!$B$2:$C$367,2,0)),"",VLOOKUP(AW3,fête!$B$2:$C$367,2,0)) -> Justin | BB3: =IF(ISERROR(VLOOKUP(AW3,évènements!$A$3:$D$200,3,0)),"",VLOOKUP(AW3,évènements!$A$3:$D$200,3,0)) | BC3: =IF(ISERROR(VLOOKUP(AW3,évènements!$B$3:$D$200,2,0)),"",VLOOKUP(AW3,évènements!$B$3:$D$200,2,0)) | BD3: =CONCATENATE(BB3," ",BC3) | BE3: =BF3 -> 42917 | BF3: =DATE(IF(MONTH(1&AW$2)<MONTH(1&BF$2),YEAR(AW3),An+1),MONTH(1&BF$2),1) -> 42917 | BG3: =IF(BF3="","",IF(ISERROR(MATCH(BF3,Lune!$A$1:$A$1000,0)),IF(WEEKDAY(BF3)=5,INT((BF3-DATE(YEAR(BF3),1,1))/7+1),IF(AND(WEEKDAY(BF3)=4,NOT( ISERROR(MATCH(BF3+1,Lune!$A$1:$A$1000,0)))),INT((BF3+1-DATE(YEAR(BF3+1),1,1))/7+1),"")),INDEX(Lune!$B$1:$B$1000,MATCH(BF3,Lune!$A$1:$A$1000,0),1))) -> ◐ | BH3: =IF(BI3="",""," '") | BI3: =IF(ISERROR(VLOOKUP(BF3,anniversaire!$X$2:$Z$100,2,0)),"",VLOOKUP(BF3,anniversaire!$X$2:$Z$100,2,0)) | BJ3: =IF(ISERROR(VLOOKUP(BF3,fête!$B$2:$C$367,2,0)),"",VLOOKUP(BF3,fête!$B$2:$C$367,2,0)) -> Thierry | BK3: =IF(ISERROR(VLOOKUP(BF3,évènements!$A$3:$D$200,3,0)),"",VLOOKUP(BF3,évènements!$A$3:$D$200,3,0)) | BL3: =IF(ISERROR(VLOOKUP(BF3,évènements!$B$3:$D$200,2,0)),"",VLOOKUP(BF3,évènements!$B$3:$D$200,2,0)) | BM3: =CONCATENATE(BK3," ",BL3) | BN3: =BO3 -> 42948 | BO3: =DATE(IF(MONTH(1&BF$2)<MONTH(1&BO$2),YEAR(BF3),An+1),MONTH(1&BO$2),1) -> 42948 | BP3: =IF(BO3="","",IF(ISERROR(MATCH(BO3,Lune!$A$1:$A$1000,0)),IF(WEEKDAY(BO3)=5,INT((BO3-DATE(YEAR(BO3),1,1))/7+1),IF(AND(WEEKDAY(BO3)=4,NOT( ISERROR(MATCH(BO3+1,Lune!$A$1:$A$1000,0)))),INT((BO3+1-DATE(YEAR(BO3+1),1,1))/7+1),"")),INDEX(Lune!$B$1:$B$1000,MATCH(BO3,Lune!$A$1:$A$1000,0),1))) | BQ3: =IF(BR3="",""," '") | BR3: =IF(ISERROR(VLOOKUP(BO3,anniversaire!$X$2:$Z$100,2,0)),"",VLOOKUP(BO3,anniversaire!$X$2:$Z$100,2,0)) | BS3: =IF(ISERROR(VLOOKUP(BO3,fête!$B$2:$C$367,2,0)),"",VLOOKUP(BO3,fête!$B$2:$C$367,2,0)) -> Alphonse | BT3: =IF(ISERROR(VLOOKUP(BO3,évènements!$A$3:$D$200,3,0)),"",VLOOKUP(BO3,évènements!$A$3:$D$200,3,0)) | BU3: =IF(ISERROR(VLOOKUP(BO3,évènements!$B$3:$D$200,2,0)),"",VLOOKUP(BO3,évènements!$B$3:$D$200,2,0)) | BV3: =CONCATENATE(BT3," ",BU3) | BW3: =BX3 -> 42979 | BX3: =DATE(IF(MONTH(1&BO$2)<MONTH(1&BX$2),YEAR(BO3),An+1),MONTH(1&BX$2),1) -> 42979 | BY3: =IF(BX3="","",IF(ISERROR(MATCH(BX3,Lune!$A$1:$A$1000,0)),IF(WEEKDAY(BX3)=5,INT((BX3-DATE(YEAR(BX3),1,1))/7+1),IF(AND(WEEKDAY(BX3)=4,NOT( ISERROR(MATCH(BX3+1,Lune!$A$1:$A$1000,0)))),INT((BX3+1-DATE(YEAR(BX3+1),1,1))/7+1),"")),INDEX(Lune!$B$1:$B$1000,MATCH(BX3,Lune!$A$1:$A$1000,0),1))) | BZ3: =IF(CA3="",""," '") | CA3: =IF(ISERROR(VLOOKUP(BX3,anniversaire!$X$2:$Z$100,2,0)),"",VLOOKUP(BX3,anniversaire!$X$2:$Z$100,2,0)) | CB3: =IF(ISERROR(VLOOKUP(BX3,fête!$B$2:$C$367,2,0)),"",VLOOKUP(BX3,fête!$B$2:$C$367,2,0)) -> Gilles | CC3: =IF(ISERROR(VLOOKUP(BX3,évènements!$A$3:$D$200,3,0)),"",VLOOKUP(BX3,évènements!$A$3:$D$200,3,0)) | CD3: =IF(ISERROR(VLOOKUP(BX3,évènements!$B$3:$D$200,2,0)),"",VLOOKUP(BX3,évènements!$B$3:$D$200,2,0)) | CE3: =CONCATENATE(CC3," ",CD3) | CF3: =CG3 -> 43009 | CG3: =DATE(IF(MONTH(1&BX$2)<MONTH(1&CG$2),YEAR(BX3),An+1),MONTH(1&CG$2),1) -> 43009 | CH3: =IF(CG3="","",IF(ISERROR(MATCH(CG3,Lune!$A$1:$A$1000,0)),IF(WEEKDAY(CG3)=5,INT((CG3-DATE(YEAR(CG3),1,1))/7+1),IF(AND(WEEKDAY(CG3)=4,NOT( ISERROR(MATCH(CG3+1,Lune!$A$1:$A$1000,0)))),INT((CG3+1-DATE(YEAR(CG3+1),1,1))/7+1),"")),INDEX(Lune!$B$1:$B$1000,MATCH(CG3,Lune!$A$1:$A$1000,0),1))) | CI3: =IF(CJ3="",""," '") | CJ3: =IF(ISERROR(VLOOKUP(CG3,anniversaire!$X$2:$Z$100,2,0)),"",VLOOKUP(CG3,anniversaire!$X$2:$Z$100,2,0)) | CK3: =IF(ISERROR(VLOOKUP(CG3,fête!$B$2:$C$367,2,0)),"",VLOOKUP(CG3,fête!$B$2:$C$367,2,0)) -> Thérèse de l'Enfant Jésus | CL3: =IF(ISERROR(VLOOKUP(CG3,évènements!$A$3:$D$200,3,0)),"",VLOOKUP(CG3,évènements!$A$3:$D$200,3,0)) | CM3: =IF(ISERROR(VLOOKUP(CG3,évènements!$B$3:$D$200,2,0)),"",VLOOKUP(CG3,évènements!$B$3:$D$200,2,0)) | CN3: =CONCATENATE(CL3," ",CM3) | CO3: =CP3 -> 43040 | CP3: =DATE(IF(MONTH(1&CG$2)<MONTH(1&CP$2),YEAR(CG3),An+1),MONTH(1&CP$2),1) -> 43040 | CQ3: =IF(CP3="","",IF(ISERROR(MATCH(CP3,Lune!$A$1:$A$1000,0)),IF(WEEKDAY(CP3)=5,INT((CP3-DATE(YEAR(CP3),1,1))/7+1),IF(AND(WEEKDAY(CP3)=4,NOT( ISERROR(MATCH(CP3+1,Lune!$A$1:$A$1000,0)))),INT((CP3+1-DATE(YEAR(CP3+1),1,1))/7+1),"")),INDEX(Lune!$B$1:$B$1000,MATCH(CP3,Lune!$A$1:$A$1000,0),1))) | CR3: =IF(CS3="",""," '") | CS3: =IF(ISERROR(VLOOKUP(CP3,anniversaire!$X$2:$Z$100,2,0)),"",VLOOKUP(CP3,anniversaire!$X$2:$Z$100,2,0)) | CT3: =IF(ISERROR(VLOOKUP(CP3,fête!$B$2:$C$367,2,0)),"",VLOOKUP(CP3,fête!$B$2:$C$367,2,0)) -> Toussaint | CU3: =IF(ISERROR(VLOOKUP(CP3,évènements!$A$3:$D$200,3,0)),"",VLOOKUP(CP3,évènements!$A$3:$D$200,3,0)) | CV3: =IF(ISERROR(VLOOKUP(CP3,évènements!$B$3:$D$200,2,0)),"",VLOOKUP(CP3,évènements!$B$3:$D$200,2,0)) | CW3: =CONCATENATE(CU3," ",CV3) | CX3: =CY3 -> 43070 | CY3: =DATE(IF(MONTH(1&CP$2)<MONTH(1&CY$2),YEAR(CP3),An+1),MONTH(1&CY$2),1) -> 43070 | CZ3: =IF(CY3="","",IF(ISERROR(MATCH(CY3,Lune!$A$1:$A$1000,0)),IF(WEEKDAY(CY3)=5,INT((CY3-DATE(YEAR(CY3),1,1))/7+1),IF(AND(WEEKDAY(CY3)=4,NOT( ISERROR(MATCH(CY3+1,Lune!$A$1:$A$1000,0)))),INT((CY3+1-DATE(YEAR(CY3+1),1,1))/7+1),"")),INDEX(Lune!$B$1:$B$1000,MATCH(CY3,Lune!$A$1:$A$1000,0),1))) | DA3: =IF(DB3="",""," '") | DB3: =IF(ISERROR(VLOOKUP(CY3,anniversaire!$X$2:$Z$100,2,0)),"",VLOOKUP(CY3,anniversaire!$X$2:$Z$100,2,0)) | DC3: =IF(ISERROR(VLOOKUP(CY3,fête!$B$2:$C$367,2,0)),"",VLOOKUP(CY3,fête!$B$2:$C$367,2,0)) -> Florence | DD3: =IF(ISERROR(VLOOKUP(CY3,évènements!$A$3:$D$200,3,0)),"",VLOOKUP(CY3,évènements!$A$3:$D$200,3,0)) | DE3: =IF(ISERROR(VLOOKUP(CY3,évènements!$B$3:$D$200,2,0)),"",VLOOKUP(CY3,évènements!$B$3:$D$200,2,0)) | DF3: =CONCATENATE(DD3," ",DE3) | DG3: =DH3 -> 43101 | DH3: =DATE(IF(MONTH(1&CY$2)<MONTH(1&DH$2),YEAR(CY3),YEAR(CY3)+1),MONTH(1&DH$2),1) -> 43101 | DI3: =IF(DH3="","",IF(ISERROR(MATCH(DH3,Lune!$A$1:$A$1000,0)),IF(WEEKDAY(DH3)=5,INT((DH3-DATE(YEAR(DH3),1,1))/7+1),IF(AND(WEEKDAY(DH3)=4,NOT( ISERROR(MATCH(DH3+1,Lune!$A$1:$A$1000,0)))),INT((DH3+1-DATE(YEAR(DH3+1),1,1))/7+1),"")),INDEX(Lune!$B$1:$B$1000,MATCH(DH3,Lune!$A$1:$A$1000,0),1))) | DJ3: =F3 | DK3: =G3 | DL3: =H3 -> Jour de l'an | DM3: =IF(ISERROR(VLOOKUP(DH3,évènements!$A$3:$D$200,3,0)),"",VLOOKUP(DH3,évènements!$A$3:$D$200,3,0)) | DN3: =IF(ISERROR(VLOOKUP(DH3,évènements!$B$3:$D$200,2,0)),"",VLOOKUP(DH3,évènements!$B$3:$D$200,2,0)) | DO3: =CONCATENATE(DM3," ",DN3)
C4: =D4 -> 42737 | D4: =D3+1 -> 42737 | E4: =IF(D4="","",IF(ISERROR(MATCH(D4,Lune!$A$1:$A$1000,0)),IF(WEEKDAY(D4)=5,INT((D4-DATE(YEAR(D4),1,1))/7+1),IF(AND(WEEKDAY(D4)=4,NOT( ISERROR(MATCH(D4+1,Lune!$A$1:$A$1000,0)))),INT((D4+1-DATE(YEAR(D4+1),1,1))/7+1),"")),INDEX(Lune!$B$1:$B$1000,MATCH(D4,Lune!$A$1:$A$1000,0),1))) | F4: =IF(G4="",""," '") -> ' | G4: =IF(ISERROR(VLOOKUP(D4,anniversaire!$X$2:$Z$100,2,0)),"",VLOOKUP(D4,anniversaire!$X$2:$Z$100,2,0)) -> boireau louane 1 | H4: =IF(ISERROR(VLOOKUP(D4,fête!$B$2:$C$367,2,0)),"",VLOOKUP(D4,fête!$B$2:$C$367,2,0)) -> Basile | I4: =IF(ISERROR(VLOOKUP(D4,évènements!$A$3:$D$200,3,0)),"",VLOOKUP(D4,évènements!$A$3:$D$200,3,0)) | J4: =IF(ISERROR(VLOOKUP(D4,évènements!$B$3:$D$200,2,0)),"",VLOOKUP(D4,évènements!$B$3:$D$200,2,0)) | K4: =CONCATENATE(I4," ",J4) | L4: =M4 -> 42768 | M4: =M3+1 -> 42768 | N4: =IF(M4="","",IF(ISERROR(MATCH(M4,Lune!$A$1:$A$1000,0)),IF(WEEKDAY(M4)=5,INT((M4-DATE(YEAR(M4),1,1))/7+1),IF(AND(WEEKDAY(M4)=4,NOT( ISERROR(MATCH(M4+1,Lune!$A$1:$A$1000,0)))),INT((M4+1-DATE(YEAR(M4+1),1,1))/7+1),"")),INDEX(Lune!$B$1:$B$1000,MATCH(M4,Lune!$A$1:$A$1000,0),1))) -> 5 | O4: =IF(P4="",""," '") | P4: =IF(ISERROR(VLOOKUP(M4,anniversaire!$X$2:$Z$100,2,0)),"",VLOOKUP(M4,anniversaire!$X$2:$Z$100,2,0)) | Q4: =IF(ISERROR(VLOOKUP(M4,fête!$B$2:$C$367,2,0)),"",VLOOKUP(M4,fête!$B$2:$C$367,2,0)) -> Présentation | R4: =IF(ISERROR(VLOOKUP(M4,évènements!$A$3:$D$200,3,0)),"",VLOOKUP(M4,évènements!$A$3:$D$200,3,0)) | S4: =IF(ISERROR(VLOOKUP(M4,évènements!$B$3:$D$200,2,0)),"",VLOOKUP(M4,évènements!$B$3:$D$200,2,0)) | T4: =CONCATENATE(R4," ",S4) | U4: =V4 -> 42796 | V4: =V3+1 -> 42796 | W4: =IF(V4="","",IF(ISERROR(MATCH(V4,Lune!$A$1:$A$1000,0)),IF(WEEKDAY(V4)=5,INT((V4-DATE(YEAR(V4),1,1))/7+1),IF(AND(WEEKDAY(V4)=4,NOT( ISERROR(MATCH(V4+1,Lune!$A$1:$A$1000,0)))),INT((V4+1-DATE(YEAR(V4+1),1,1))/7+1),"")),INDEX(Lune!$B$1:$B$1000,MATCH(V4,Lune!$A$1:$A$1000,0),1))) -> 9 | X4: =IF(Y4="",""," '") | Y4: =IF(ISERROR(VLOOKUP(V4,anniversaire!$X$2:$Z$100,2,0)),"",VLOOKUP(V4,anniversaire!$X$2:$Z$100,2,0)) | Z4: =IF(ISERROR(VLOOKUP(V4,fête!$B$2:$C$367,2,0)),"",VLOOKUP(V4,fête!$B$2:$C$367,2,0)) -> Charles le Bon | AA4: =IF(ISERROR(VLOOKUP(V4,évènements!$A$3:$D$200,3,0)),"",VLOOKUP(V4,évènements!$A$3:$D$200,3,0)) | AB4: =IF(ISERROR(VLOOKUP(V4,évènements!$B$3:$D$200,2,0)),"",VLOOKUP(V4,évènements!$B$3:$D$200,2,0)) | AC4: =CONCATENATE(AA4," ",AB4) | AD4: =AE4 -> 42827 | AE4: =AE3+1 -> 42827 | AF4: =IF(AE4="","",IF(ISERROR(MATCH(AE4,Lune!$A$1:$A$1000,0)),IF(WEEKDAY(AE4)=5,INT((AE4-DATE(YEAR(AE4),1,1))/7+1),IF(AND(WEEKDAY(AE4)=4,NOT( ISERROR(MATCH(AE4+1,Lune!$A$1:$A$1000,0)))),INT((AE4+1-DATE(YEAR(AE4+1),1,1))/7+1),"")),INDEX(Lune!$B$1:$B$1000,MATCH(AE4,Lune!$A$1:$A$1000,0),1))) | AG4: =IF(AH4="",""," '") | AH4: =IF(ISERROR(VLOOKUP(AE4,anniversaire!$X$2:$Z$100,2,0)),"",VLOOKUP(AE4,anniversaire!$X$2:$Z$100,2,0)) | AI4: =IF(ISERROR(VLOOKUP(AE4,fête!$B$2:$C$367,2,0)),"",VLOOKUP(AE4,fête!$B$2:$C$367,2,0)) -> Sandrine | AJ4: =IF(ISERROR(VLOOKUP(AE4,évènements!$A$3:$D$200,3,0)),"",VLOOKUP(AE4,évènements!$A$3:$D$200,3,0)) | AK4: =IF(ISERROR(VLOOKUP(AE4,évènements!$B$3:$D$200,2,0)),"",VLOOKUP(AE4,évènements!$B$3:$D$200,2,0)) | AL4: =CONCATENATE(AJ4," ",AK4) | AM4: =AN4 -> 42857 | AN4: =AN3+1 -> 42857 | AO4: =IF(AN4="","",IF(ISERROR(MATCH(AN4,Lune!$A$1:$A$1000,0)),IF(WEEKDAY(AN4)=5,INT((AN4-DATE(YEAR(AN4),1,1))/7+1),IF(AND(WEEKDAY(AN4)=4,NOT( ISERROR(MATCH(AN4+1,Lune!$A$1:$A$1000,0)))),INT((AN4+1-DATE(YEAR(AN4+1),1,1))/7+1),"")),INDEX(Lune!$B$1:$B$1000,MATCH(AN4,Lune!$A$1:$A$1000,0),1))) | AP4: =IF(AQ4="","","'") | AQ4: =IF(ISERROR(VLOOKUP(AN4,anniversaire!$X$2:$Z$100,2,0)),"",VLOOKUP(AN4,anniversaire!$X$2:$Z$100,2,0)) | AR4: =IF(ISERROR(VLOOKUP(AN4,fête!$B$2:$C$367,2,0)),"",VLOOKUP(AN4,fête!$B$2:$C$367,2,0)) -> Boris | AS4: =IF(ISERROR(VLOOKUP(AN4,évènements!$A$3:$D$200,3,0)),"",VLOOKUP(AN4,évènements!$A$3:$D$200,3,0)) | AT4: =IF(ISERROR(VLOOKUP(AN4,évènements!$B$3:$D$200,2,0)),"",VLOOKUP(AN4,évènements!$B$3:$D$200,2,0)) | AU4: =CONCATENATE(AS4," ",AT4) | AV4: =AW4 -> 42888 | AW4: =AW3+1 -> 42888 | AX4: =IF(AW4="","",IF(ISERROR(MATCH(AW4,Lune!$A$1:$A$1000,0)),IF(WEEKDAY(AW4)=5,INT((AW4-DATE(YEAR(AW4),1,1))/7+1),IF(AND(WEEKDAY(AW4)=4,NOT( ISERROR(MATCH(AW4+1,Lune!$A$1:$A$1000,0)))),INT((AW4+1-DATE(YEAR(AW4+1),1,1))/7+1),"")),INDEX(Lune!$B$1:$B$1000,MATCH(AW4,Lune!$A$1:$A$1000,0),1))) | AY4: =IF(AZ4="",""," '") | AZ4: =IF(ISERROR(VLOOKUP(AW4,anniversaire!$X$2:$Z$100,2,0)),"",VLOOKUP(AW4,anniversaire!$X$2:$Z$100,2,0)) | BA4: =IF(ISERROR(VLOOKUP(AW4,fête!$B$2:$C$367,2,0)),"",VLOOKUP(AW4,fête!$B$2:$C$367,2,0)) -> Blandine | BB4: =IF(ISERROR(VLOOKUP(AW4,évènements!$A$3:$D$200,3,0)),"",VLOOKUP(AW4,évènements!$A$3:$D$200,3,0)) | BC4: =IF(ISERROR(VLOOKUP(AW4,évènements!$B$3:$D$200,2,0)),"",VLOOKUP(AW4,évènements!$B$3:$D$200,2,0)) | BD4: =CONCATENATE(BB4," ",BC4) | BE4: =BF4 -> 42918 | BF4: =BF3+1 -> 42918 | BG4: =IF(BF4="","",IF(ISERROR(MATCH(BF4,Lune!$A$1:$A$1000,0)),IF(WEEKDAY(BF4)=5,INT((BF4-DATE(YEAR(BF4),1,1))/7+1),IF(AND(WEEKDAY(BF4)=4,NOT( ISERROR(MATCH(BF4+1,Lune!$A$1:$A$1000,0)))),INT((BF4+1-DATE(YEAR(BF4+1),1,1))/7+1),"")),INDEX(Lune!$B$1:$B$1000,MATCH(BF4,Lune!$A$1:$A$1000,0),1))) | BH4: =IF(BI4="",""," '") | BI4: =IF(ISERROR(VLOOKUP(BF4,anniversaire!$X$2:$Z$100,2,0)),"",VLOOKUP(BF4,anniversaire!$X$2:$Z$100,2,0)) | BJ4: =IF(ISERROR(VLOOKUP(BF4,fête!$B$2:$C$367,2,0)),"",VLOOKUP(BF4,fête!$B$2:$C$367,2,0)) -> Martinien | BK4: =IF(ISERROR(VLOOKUP(BF4,évènements!$A$3:$D$200,3,0)),"",VLOOKUP(BF4,évènements!$A$3:$D$200,3,0)) | BL4: =IF(ISERROR(VLOOKUP(BF4,évènements!$B$3:$D$200,2,0)),"",VLOOKUP(BF4,évènements!$B$3:$D$200,2,0)) | BM4: =CONCATENATE(BK4," ",BL4) | BN4: =BO4 -> 42949 | BO4: =BO3+1 -> 42949 | BP4: =IF(BO4="","",IF(ISERROR(MATCH(BO4,Lune!$A$1:$A$1000,0)),IF(WEEKDAY(BO4)=5,INT((BO4-DATE(YEAR(BO4),1,1))/7+1),IF(AND(WEEKDAY(BO4)=4,NOT( ISERROR(MATCH(BO4+1,Lune!$A$1:$A$1000,0)))),INT((BO4+1-DATE(YEAR(BO4+1),1,1))/7+1),"")),INDEX(Lune!$B$1:$B$1000,MATCH(BO4,Lune!$A$1:$A$1000,0),1))) | BQ4: =IF(BR4="",""," '") | BR4: =IF(ISERROR(VLOOKUP(BO4,anniversaire!$X$2:$Z$100,2,0)),"",VLOOKUP(BO4,anniversaire!$X$2:$Z$100,2,0)) | BS4: =IF(ISERROR(VLOOKUP(BO4,fête!$B$2:$C$367,2,0)),"",VLOOKUP(BO4,fête!$B$2:$C$367,2,0)) -> Julien Eymard | BT4: =IF(ISERROR(VLOOKUP(BO4,évènements!$A$3:$D$200,3,0)),"",VLOOKUP(BO4,évènements!$A$3:$D$200,3,0)) | BU4: =IF(ISERROR(VLOOKUP(BO4,évènements!$B$3:$D$200,2,0)),"",VLOOKUP(BO4,évènements!$B$3:$D$200,2,0)) | BV4: =CONCATENATE(BT4," ",BU4) | BW4: =BX4 -> 42980 | BX4: =BX3+1 -> 42980 | BY4: =IF(BX4="","",IF(ISERROR(MATCH(BX4,Lune!$A$1:$A$1000,0)),IF(WEEKDAY(BX4)=5,INT((BX4-DATE(YEAR(BX4),1,1))/7+1),IF(AND(WEEKDAY(BX4)=4,NOT( ISERROR(MATCH(BX4+1,Lune!$A$1:$A$1000,0)))),INT((BX4+1-DATE(YEAR(BX4+1),1,1))/7+1),"")),INDEX(Lune!$B$1:$B$1000,MATCH(BX4,Lune!$A$1:$A$1000,0),1))) | BZ4: =IF(CA4="",""," '") | CA4: =IF(ISERROR(VLOOKUP(BX4,anniversaire!$X$2:$Z$100,2,0)),"",VLOOKUP(BX4,anniversaire!$X$2:$Z$100,2,0)) | CB4: =IF(ISERROR(VLOOKUP(BX4,fête!$B$2:$C$367,2,0)),"",VLOOKUP(BX4,fête!$B$2:$C$367,2,0)) -> Ingrid | CC4: =IF(ISERROR(VLOOKUP(BX4,évènements!$A$3:$D$200,3,0)),"",VLOOKUP(BX4,évènements!$A$3:$D$200,3,0)) | CD4: =IF(ISERROR(VLOOKUP(BX4,évènements!$B$3:$D$200,2,0)),"",VLOOKUP(BX4,évènements!$B$3:$D$200,2,0)) | CE4: =CONCATENATE(CC4," ",CD4) | CF4: =CG4 -> 43010 | CG4: =CG3+1 -> 43010 | CH4: =IF(CG4="","",IF(ISERROR(MATCH(CG4,Lune!$A$1:$A$1000,0)),IF(WEEKDAY(CG4)=5,INT((CG4-DATE(YEAR(CG4),1,1))/7+1),IF(AND(WEEKDAY(CG4)=4,NOT( ISERROR(MATCH(CG4+1,Lune!$A$1:$A$1000,0)))),INT((CG4+1-DATE(YEAR(CG4+1),1,1))/7+1),"")),INDEX(Lune!$B$1:$B$1000,MATCH(CG4,Lune!$A$1:$A$1000,0),1))) | CI4: =IF(CJ4="",""," '") | CJ4: =IF(ISERROR(VLOOKUP(CG4,anniversaire!$X$2:$Z$100,2,0)),"",VLOOKUP(CG4,anniversaire!$X$2:$Z$100,2,0)) | CK4: =IF(ISERROR(VLOOKUP(CG4,fête!$B$2:$C$367,2,0)),"",VLOOKUP(CG4,fête!$B$2:$C$367,2,0)) -> Léger | CL4: =IF(ISERROR(VLOOKUP(CG4,évènements!$A$3:$D$200,3,0)),"",VLOOKUP(CG4,évènements!$A$3:$D$200,3,0)) | CM4: =IF(ISERROR(VLOOKUP(CG4,évènements!$B$3:$D$200,2,0)),"",VLOOKUP(CG4,évènements!$B$3:$D$200,2,0)) | CN4: =CONCATENATE(CL4," ",CM4) | CO4: =CP4 -> 43041 | CP4: =CP3+1 -> 43041 | CQ4: =IF(CP4="","",IF(ISERROR(MATCH(CP4,Lune!$A$1:$A$1000,0)),IF(WEEKDAY(CP4)=5,INT((CP4-DATE(YEAR(CP4),1,1))/7+1),IF(AND(WEEKDAY(CP4)=4,NOT( ISERROR(MATCH(CP4+1,Lune!$A$1:$A$1000,0)))),INT((CP4+1-DATE(YEAR(CP4+1),1,1))/7+1),"")),INDEX(Lune!$B$1:$B$1000,MATCH(CP4,Lune!$A$1:$A$1000,0),1))) -> 44 | CR4: =IF(CS4="",""," '") | CS4: =IF(ISERROR(VLOOKUP(CP4,anniversaire!$X$2:$Z$100,2,0)),"",VLOOKUP(CP4,anniversaire!$X$2:$Z$100,2,0)) | CT4: =IF(ISERROR(VLOOKUP(CP4,fête!$B$2:$C$367,2,0)),"",VLOOKUP(CP4,fête!$B$2:$C$367,2,0)) -> Défunts | CU4: =IF(ISERROR(VLOOKUP(CP4,évènements!$A$3:$D$200,3,0)),"",VLOOKUP(CP4,évènements!$A$3:$D$200,3,0)) | CV4: =IF(ISERROR(VLOOKUP(CP4,évènements!$B$3:$D$200,2,0)),"",VLOOKUP(CP4,évènements!$B$3:$D$200,2,0)) | CW4: =CONCATENATE(CU4," ",CV4) | CX4: =CY4 -> 43071 | CY4: =CY3+1 -> 43071 | CZ4: =IF(CY4="","",IF(ISERROR(MATCH(CY4,Lune!$A$1:$A$1000,0)),IF(WEEKDAY(CY4)=5,INT((CY4-DATE(YEAR(CY4),1,1))/7+1),IF(AND(WEEKDAY(CY4)=4,NOT( ISERROR(MATCH(CY4+1,Lune!$A$1:$A$1000,0)))),INT((CY4+1-DATE(YEAR(CY4+1),1,1))/7+1),"")),INDEX(Lune!$B$1:$B$1000,MATCH(CY4,Lune!$A$1:$A$1000,0),1))) | DA4: =IF(DB4="",""," '") | DB4: =IF(ISERROR(VLOOKUP(CY4,anniversaire!$X$2:$Z$100,2,0)),"",VLOOKUP(CY4,anniversaire!$X$2:$Z$100,2,0)) | DC4: =IF(ISERROR(VLOOKUP(CY4,fête!$B$2:$C$367,2,0)),"",VLOOKUP(CY4,fête!$B$2:$C$367,2,0)) -> Viviane | DD4: =IF(ISERROR(VLOOKUP(CY4,évènements!$A$3:$D$200,3,0)),"",VLOOKUP(CY4,évènements!$A$3:$D$200,3,0)) | DE4: =IF(ISERROR(VLOOKUP(CY4,évènements!$B$3:$D$200,2,0)),"",VLOOKUP(CY4,évènements!$B$3:$D$200,2,0)) | DF4: =CONCATENATE(DD4," ",DE4) | DG4: =DH4 -> 43102 | DH4: =DH3+1 -> 43102 | DI4: =IF(DH4="","",IF(ISERROR(MATCH(DH4,Lune!$A$1:$A$1000,0)),IF(WEEKDAY(DH4)=5,INT((DH4-DATE(YEAR(DH4),1,1))/7+1),IF(AND(WEEKDAY(DH4)=4,NOT( ISERROR(MATCH(DH4+1,Lune!$A$1:$A$1000,0)))),INT((DH4+1-DATE(YEAR(DH4+1),1,1))/7+1),"")),INDEX(Lune!$B$1:$B$1000,MATCH(DH4,Lune!$A$1:$A$1000,0),1))) -> ○ | DJ4: =F4 -> ' | DK4: =G4 -> boireau louane 1 | DL4: =H4 -> Basile | DM4: =IF(ISERROR(VLOOKUP(DH4,évènements!$A$3:$D$200,3,0)),"",VLOOKUP(DH4,évènements!$A$3:$D$200,3,0)) | DN4: =IF(ISERROR(VLOOKUP(DH4,évènements!$B$3:$D$200,2,0)),"",VLOOKUP(DH4,évènements!$B$3:$D$200,2,0)) | DO4: =CONCATENATE(DM4," ",DN4)
C5: =D5 -> 42738 | D5: =D4+1 -> 42738 | E5: =IF(D5="","",IF(ISERROR(MATCH(D5,Lune!$A$1:$A$1000,0)),IF(WEEKDAY(D5)=5,INT((D5-DATE(YEAR(D5),1,1))/7+1),IF(AND(WEEKDAY(D5)=4,NOT( ISERROR(MATCH(D5+1,Lune!$A$1:$A$1000,0)))),INT((D5+1-DATE(YEAR(D5+1),1,1))/7+1),"")),INDEX(Lune!$B$1:$B$1000,MATCH(D5,Lune!$A$1:$A$1000,0),1))) | F5: =IF(G5="",""," '") | G5: =IF(ISERROR(VLOOKUP(D5,anniversaire!$X$2:$Z$100,2,0)),"",VLOOKUP(D5,anniversaire!$X$2:$Z$100,2,0)) | H5: =IF(ISERROR(VLOOKUP(D5,fête!$B$2:$C$367,2,0)),"",VLOOKUP(D5,fête!$B$2:$C$367,2,0)) -> Geneviève | I5: =IF(ISERROR(VLOOKUP(D5,évènements!$A$3:$D$200,3,0)),"",VLOOKUP(D5,évènements!$A$3:$D$200,3,0)) | J5: =IF(ISERROR(VLOOKUP(D5,évènements!$B$3:$D$200,2,0)),"",VLOOKUP(D5,évènements!$B$3:$D$200,2,0)) | K5: =CONCATENATE(I5," ",J5) | L5: =M5 -> 42769 | M5: =M4+1 -> 42769 | N5: =IF(M5="","",IF(ISERROR(MATCH(M5,Lune!$A$1:$A$1000,0)),IF(WEEKDAY(M5)=5,INT((M5-DATE(YEAR(M5),1,1))/7+1),IF(AND(WEEKDAY(M5)=4,NOT( ISERROR(MATCH(M5+1,Lune!$A$1:$A$1000,0)))),INT((M5+1-DATE(YEAR(M5+1),1,1))/7+1),"")),INDEX(Lune!$B$1:$B$1000,MATCH(M5,Lune!$A$1:$A$1000,0),1))) | O5: =IF(P5="",""," '") | P5: =IF(ISERROR(VLOOKUP(M5,anniversaire!$X$2:$Z$100,2,0)),"",VLOOKUP(M5,anniversaire!$X$2:$Z$100,2,0)) | Q5: =IF(ISERROR(VLOOKUP(M5,fête!$B$2:$C$367,2,0)),"",VLOOKUP(M5,fête!$B$2:$C$367,2,0)) -> Blaise | R5: =IF(ISERROR(VLOOKUP(M5,évènements!$A$3:$D$200,3,0)),"",VLOOKUP(M5,évènements!$A$3:$D$200,3,0)) | S5: =IF(ISERROR(VLOOKUP(M5,évènements!$B$3:$D$200,2,0)),"",VLOOKUP(M5,évènements!$B$3:$D$200,2,0)) | T5: =CONCATENATE(R5," ",S5) | U5: =V5 -> 42797 | V5: =V4+1 -> 42797 | W5: =IF(V5="","",IF(ISERROR(MATCH(V5,Lune!$A$1:$A$1000,0)),IF(WEEKDAY(V5)=5,INT((V5-DATE(YEAR(V5),1,1))/7+1),IF(AND(WEEKDAY(V5)=4,NOT( ISERROR(MATCH(V5+1,Lune!$A$1:$A$1000,0)))),INT((V5+1-DATE(YEAR(V5+1),1,1))/7+1),"")),INDEX(Lune!$B$1:$B$1000,MATCH(V5,Lune!$A$1:$A$1000,0),1))) | X5: =IF(Y5="",""," '") -> ' | Y5: =IF(ISERROR(VLOOKUP(V5,anniversaire!$X$2:$Z$100,2,0)),"",VLOOKUP(V5,anniversaire!$X$2:$Z$100,2,0)) -> Taraud stéphanie 38 | Z5: =IF(ISERROR(VLOOKUP(V5,fête!$B$2:$C$367,2,0)),"",VLOOKUP(V5,fête!$B$2:$C$367,2,0)) -> Guénolé | AA5: =IF(ISERROR(VLOOKUP(V5,évènements!$A$3:$D$200,3,0)),"",VLOOKUP(V5,évènements!$A$3:$D$200,3,0)) | AB5: =IF(ISERROR(VLOOKUP(V5,évènements!$B$3:$D$200,2,0)),"",VLOOKUP(V5,évènements!$B$3:$D$200,2,0)) | AC5: =CONCATENATE(AA5," ",AB5) | AD5: =AE5 -> 42828 | AE5: =AE4+1 -> 42828 | AF5: =IF(AE5="","",IF(ISERROR(MATCH(AE5,Lune!$A$1:$A$1000,0)),IF(WEEKDAY(AE5)=5,INT((AE5-DATE(YEAR(AE5),1,1))/7+1),IF(AND(WEEKDAY(AE5)=4,NOT( ISERROR(MATCH(AE5+1,Lune!$A$1:$A$1000,0)))),INT((AE5+1-DATE(YEAR(AE5+1),1,1))/7+1),"")),INDEX(Lune!$B$1:$B$1000,MATCH(AE5,Lune!$A$1:$A$1000,0),1))) -> ◐ | AG5: =IF(AH5="",""," '") | AH5: =IF(ISERROR(VLOOKUP(AE5,anniversaire!$X$2:$Z$100,2,0)),"",VLOOKUP(AE5,anniversaire!$X$2:$Z$100,2,0)) | AI5: =IF(ISERROR(VLOOKUP(AE5,fête!$B$2:$C$367,2,0)),"",VLOOKUP(AE5,fête!$B$2:$C$367,2,0)) -> Richard | AJ5: =IF(ISERROR(VLOOKUP(AE5,évènements!$A$3:$D$200,3,0)),"",VLOOKUP(AE5,évènements!$A$3:$D$200,3,0)) | AK5: =IF(ISERROR(VLOOKUP(AE5,évènements!$B$3:$D$200,2,0)),"",VLOOKUP(AE5,évènements!$B$3:$D$200,2,0)) | AL5: =CONCATENATE(AJ5," ",AK5) | AM5: =AN5 -> 42858 | AN5: =AN4+1 -> 42858 | AO5: =IF(AN5="","",IF(ISERROR(MATCH(AN5,Lune!$A$1:$A$1000,0)),IF(WEEKDAY(AN5)=5,INT((AN5-DATE(YEAR(AN5),1,1))/7+1),IF(AND(WEEKDAY(AN5)=4,NOT( ISERROR(MATCH(AN5+1,Lune!$A$1:$A$1000,0)))),INT((AN5+1-DATE(YEAR(AN5+1),1,1))/7+1),"")),INDEX(Lune!$B$1:$B$1000,MATCH(AN5,Lune!$A$1:$A$1000,0),1))) -> ◐ | AP5: =IF(AQ5="","","'") | AQ5: =IF(ISERROR(VLOOKUP(AN5,anniversaire!$X$2:$Z$100,2,0)),"",VLOOKUP(AN5,anniversaire!$X$2:$Z$100,2,0)) | AR5: =IF(ISERROR(VLOOKUP(AN5,fête!$B$2:$C$367,2,0)),"",VLOOKUP(AN5,fête!$B$2:$C$367,2,0)) -> Philippe, Jacques | AS5: =IF(ISERROR(VLOOKUP(AN5,évènements!$A$3:$D$200,3,0)),"",VLOOKUP(AN5,évènements!$A$3:$D$200,3,0)) | AT5: =IF(ISERROR(VLOOKUP(AN5,évènements!$B$3:$D$200,2,0)),"",VLOOKUP(AN5,évènements!$B$3:$D$200,2,0)) | AU5: =CONCATENATE(AS5," ",AT5) | AV5: =AW5 -> 42889 | AW5: =AW4+1 -> 42889 | AX5: =IF(AW5="","",IF(ISERROR(MATCH(AW5,Lune!$A$1:$A$1000,0)),IF(WEEKDAY(AW5)=5,INT((AW5-DATE(YEAR(AW5),1,1))/7+1),IF(AND(WEEKDAY(AW5)=4,NOT( ISERROR(MATCH(AW5+1,Lune!$A$1:$A$1000,0)))),INT((AW5+1-DATE(YEAR(AW5+1),1,1))/7+1),"")),INDEX(Lune!$B$1:$B$1000,MATCH(AW5,Lune!$A$1:$A$1000,0),1))) | AY5: =IF(AZ5="",""," '") | AZ5: =IF(ISERROR(VLOOKUP(AW5,anniversaire!$X$2:$Z$100,2,0)),"",VLOOKUP(AW5,anniversaire!$X$2:$Z$100,2,0)) | BA5: =IF(ISERROR(VLOOKUP(AW5,fête!$B$2:$C$367,2,0)),"",VLOOKUP(AW5,fête!$B$2:$C$367,2,0)) -> Kévin | BB5: =IF(ISERROR(VLOOKUP(AW5,évènements!$A$3:$D$200,3,0)),"",VLOOKUP(AW5,évènements!$A$3:$D$200,3,0)) | BC5: =IF(ISERROR(VLOOKUP(AW5,évènements!$B$3:$D$200,2,0)),"",VLOOKUP(AW5,évènements!$B$3:$D$200,2,0)) | BD5: =CONCATENATE(BB5," ",BC5) | BE5: =BF5 -> 42919 | BF5: =BF4+1 -> 42919 | BG5: =IF(BF5="","",IF(ISERROR(MATCH(BF5,Lune!$A$1:$A$1000,0)),IF(WEEKDAY(BF5)=5,INT((BF5-DATE(YEAR(BF5),1,1))/7+1),IF(AND(WEEKDAY(BF5)=4,NOT( ISERROR(MATCH(BF5+1,Lune!$A$1:$A$1000,0)))),INT((BF5+1-DATE(YEAR(BF5+1),1,1))/7+1),"")),INDEX(Lune!$B$1:$B$1000,MATCH(BF5,Lune!$A$1:$A$1000,0),1))) | BH5: =IF(BI5="",""," '") | BI5: =IF(ISERROR(VLOOKUP(BF5,anniversaire!$X$2:$Z$100,2,0)),"",VLOOKUP(BF5,anniversaire!$X$2:$Z$100,2,0)) | BJ5: =IF(ISERROR(VLOOKUP(BF5,fête!$B$2:$C$367,2,0)),"",VLOOKUP(BF5,fête!$B$2:$C$367,2,0)) -> Thomas | BK5: =IF(ISERROR(VLOOKUP(BF5,évènements!$A$3:$D$200,3,0)),"",VLOOKUP(BF5,évènements!$A$3:$D$200,3,0)) | BL5: =IF(ISERROR(VLOOKUP(BF5,évènements!$B$3:$D$200,2,0)),"",VLOOKUP(BF5,évènements!$B$3:$D$200,2,0)) | BM5: =CONCATENATE(BK5," ",BL5) | BN5: =BO5 -> 42950 | BO5: =BO4+1 -> 42950 | BP5: =IF(BO5="","",IF(ISERROR(MATCH(BO5,Lune!$A$1:$A$1000,0)),IF(WEEKDAY(BO5)=5,INT((BO5-DATE(YEAR(BO5),1,1))/7+1),IF(AND(WEEKDAY(BO5)=4,NOT( ISERROR(MATCH(BO5+1,Lune!$A$1:$A$1000,0)))),INT((BO5+1-DATE(YEAR(BO5+1),1,1))/7+1),"")),INDEX(Lune!$B$1:$B$1000,MATCH(BO5,Lune!$A$1:$A$1000,0),1))) -> 31 | BQ5: =IF(BR5="",""," '") | BR5: =IF(ISERROR(VLOOKUP(BO5,anniversaire!$X$2:$Z$100,2,0)),"",VLOOKUP(BO5,anniversaire!$X$2:$Z$100,2,0)) | BS5: =IF(ISERROR(VLOOKUP(BO5,fête!$B$2:$C$367,2,0)),"",VLOOKUP(BO5,fête!$B$2:$C$367,2,0)) -> Lydie | BT5: =IF(ISERROR(VLOOKUP(BO5,évènements!$A$3:$D$200,3,0)),"",VLOOKUP(BO5,évènements!$A$3:$D$200,3,0)) | BU5: =IF(ISERROR(VLOOKUP(BO5,évènements!$B$3:$D$200,2,0)),"",VLOOKUP(BO5,évènements!$B$3:$D$200,2,0)) | BV5: =CONCATENATE(BT5," ",BU5) | BW5: =BX5 -> 42981 | BX5: =BX4+1 -> 42981 | BY5: =IF(BX5="","",IF(ISERROR(MATCH(BX5,Lune!$A$1:$A$1000,0)),IF(WEEKDAY(BX5)=5,INT((BX5-DATE(YEAR(BX5),1,1))/7+1),IF(AND(WEEKDAY(BX5)=4,NOT( ISERROR(MATCH(BX5+1,Lune!$A$1:$A$1000,0)))),INT((BX5+1-DATE(YEAR(BX5+1),1,1))/7+1),"")),INDEX(Lune!$B$1:$B$1000,MATCH(BX5,Lune!$A$1:$A$1000,0),1))) | BZ5: =IF(CA5="",""," '") | CA5: =IF(ISERROR(VLOOKUP(BX5,anniversaire!$X$2:$Z$100,2,0)),"",VLOOKUP(BX5,anniversaire!$X$2:$Z$100,2,0)) | CB5: =IF(ISERROR(VLOOKUP(BX5,fête!$B$2:$C$367,2,0)),"",VLOOKUP(BX5,fête!$B$2:$C$367,2,0)) -> Grégoire | CC5: =IF(ISERROR(VLOOKUP(BX5,évènements!$A$3:$D$200,3,0)),"",VLOOKUP(BX5,évènements!$A$3:$D$200,3,0)) | CD5: =IF(ISERROR(VLOOKUP(BX5,évènements!$B$3:$D$200,2,0)),"",VLOOKUP(BX5,évènements!$B$3:$D$200,2,0)) | CE5: =CONCATENATE(CC5," ",CD5) | CF5: =CG5 -> 43011 | CG5: =CG4+1 -> 43011 | CH5: =IF(CG5="","",IF(ISERROR(MATCH(CG5,Lune!$A$1:$A$1000,0)),IF(WEEKDAY(CG5)=5,INT((CG5-DATE(YEAR(CG5),1,1))/7+1),IF(AND(WEEKDAY(CG5)=4,NOT( ISERROR(MATCH(CG5+1,Lune!$A$1:$A$1000,0)))),INT((CG5+1-DATE(YEAR(CG5+1),1,1))/7+1),"")),INDEX(Lune!$B$1:$B$1000,MATCH(CG5,Lune!$A$1:$A$1000,0),1))) | CI5: =IF(CJ5="",""," '") | CJ5: =IF(ISERROR(VLOOKUP(CG5,anniversaire!$X$2:$Z$100,2,0)),"",VLOOKUP(CG5,anniversaire!$X$2:$Z$100,2,0)) | CK5: =IF(ISERROR(VLOOKUP(CG5,fête!$B$2:$C$367,2,0)),"",VLOOKUP(CG5,fête!$B$2:$C$367,2,0)) -> Gérard | CL5: =IF(ISERROR(VLOOKUP(CG5,évènements!$A$3:$D$200,3,0)),"",VLOOKUP(CG5,évènements!$A$3:$D$200,3,0)) | CM5: =IF(ISERROR(VLOOKUP(CG5,évènements!$B$3:$D$200,2,0)),"",VLOOKUP(CG5,évènements!$B$3:$D$200,2,0)) | CN5: =CONCATENATE(CL5," ",CM5) | CO5: =CP5 -> 43042 | CP5: =CP4+1 -> 43042 | CQ5: =IF(CP5="","",IF(ISERROR(MATCH(CP5,Lune!$A$1:$A$1000,0)),IF(WEEKDAY(CP5)=5,INT((CP5-DATE(YEAR(CP5),1,1))/7+1),IF(AND(WEEKDAY(CP5)=4,NOT( ISERROR(MATCH(CP5+1,Lune!$A$1:$A$1000,0)))),INT((CP5+1-DATE(YEAR(CP5+1),1,1))/7+1),"")),INDEX(Lune!$B$1:$B$1000,MATCH(CP5,Lune!$A$1:$A$1000,0),1))) | CR5: =IF(CS5="",""," '") -> ' | CS5: =IF(ISERROR(VLOOKUP(CP5,anniversaire!$X$2:$Z$100,2,0)),"",VLOOKUP(CP5,anniversaire!$X$2:$Z$100,2,0)) -> Taraud audrey 36 | CT5: =IF(ISERROR(VLOOKUP(CP5,fête!$B$2:$C$367,2,0)),"",VLOOKUP(CP5,fête!$B$2:$C$367,2,0)) -> Hubert | CU5: =IF(ISERROR(VLOOKUP(CP5,évènements!$A$3:$D$200,3,0)),"",VLOOKUP(CP5,évènements!$A$3:$D$200,3,0)) | CV5: =IF(ISERROR(VLOOKUP(CP5,évènements!$B$3:$D$200,2,0)),"",VLOOKUP(CP5,évènements!$B$3:$D$200,2,0)) | CW5: =CONCATENATE(CU5," ",CV5) | CX5: =CY5 -> 43072 | CY5: =CY4+1 -> 43072 | CZ5: =IF(CY5="","",IF(ISERROR(MATCH(CY5,Lune!$A$1:$A$1000,0)),IF(WEEKDAY(CY5)=5,INT((CY5-DATE(YEAR(CY5),1,1))/7+1),IF(AND(WEEKDAY(CY5)=4,NOT( ISERROR(MATCH(CY5+1,Lune!$A$1:$A$1000,0)))),INT((CY5+1-DATE(YEAR(CY5+1),1,1))/7+1),"")),INDEX(Lune!$B$1:$B$1000,MATCH(CY5,Lune!$A$1:$A$1000,0),1))) -> ○ | DA5: =IF(DB5="",""," '") | DB5: =IF(ISERROR(VLOOKUP(CY5,anniversaire!$X$2:$Z$100,2,0)),"",VLOOKUP(CY5,anniversaire!$X$2:$Z$100,2,0)) | DC5: =IF(ISERROR(VLOOKUP(CY5,fête!$B$2:$C$367,2,0)),"",VLOOKUP(CY5,fête!$B$2:$C$367,2,0)) -> François-Xavier | DD5: =IF(ISERROR(VLOOKUP(CY5,évènements!$A$3:$D$200,3,0)),"",VLOOKUP(CY5,évènements!$A$3:$D$200,3,0)) | DE5: =IF(ISERROR(VLOOKUP(CY5,évènements!$B$3:$D$200,2,0)),"",VLOOKUP(CY5,évènements!$B$3:$D$200,2,0)) | DF5: =CONCATENATE(DD5," ",DE5) | DG5: =DH5 -> 43103 | DH5: =DH4+1 -> 43103 | DI5: =IF(DH5="","",IF(ISERROR(MATCH(DH5,Lune!$A$1:$A$1000,0)),IF(WEEKDAY(DH5)=5,INT((DH5-DATE(YEAR(DH5),1,1))/7+1),IF(AND(WEEKDAY(DH5)=4,NOT( ISERROR(MATCH(DH5+1,Lune!$A$1:$A$1000,0)))),INT((DH5+1-DATE(YEAR(DH5+1),1,1))/7+1),"")),INDEX(Lune!$B$1:$B$1000,MATCH(DH5,Lune!$A$1:$A$1000,0),1))) | DJ5: =F5 | DK5: =G5 | DL5: =H5 -> Geneviève | DM5: =IF(ISERROR(VLOOKUP(DH5,évènements!$A$3:$D$200,3,0)),"",VLOOKUP(DH5,évènements!$A$3:$D$200,3,0)) | DN5: =IF(ISERROR(VLOOKUP(DH5,évènements!$B$3:$D$200,2,0)),"",VLOOKUP(DH5,évènements!$B$3:$D$200,2,0)) | DO5: =CONCATENATE(DM5," ",DN5)
C6: =D6 -> 42739 | D6: =D5+1 -> 42739 | E6: =IF(D6="","",IF(ISERROR(MATCH(D6,Lune!$A$1:$A$1000,0)),IF(WEEKDAY(D6)=5,INT((D6-DATE(YEAR(D6),1,1))/7+1),IF(AND(WEEKDAY(D6)=4,NOT( ISERROR(MATCH(D6+1,Lune!$A$1:$A$1000,0)))),INT((D6+1-DATE(YEAR(D6+1),1,1))/7+1),"")),INDEX(Lune!$B$1:$B$1000,MATCH(D6,Lune!$A$1:$A$1000,0),1))) -> 1 | F6: =IF(G6="",""," '") | G6: =IF(ISERROR(VLOOKUP(D6,anniversaire!$X$2:$Z$100,2,0)),"",VLOOKUP(D6,anniversaire!$X$2:$Z$100,2,0)) | H6: =IF(ISERROR(VLOOKUP(D6,fête!$B$2:$C$367,2,0)),"",VLOOKUP(D6,fête!$B$2:$C$367,2,0)) -> Odilon | I6: =IF(ISERROR(VLOOKUP(D6,évènements!$A$3:$D$200,3,0)),"",VLOOKUP(D6,évènements!$A$3:$D$200,3,0)) | J6: =IF(ISERROR(VLOOKUP(D6,évènements!$B$3:$D$200,2,0)),"",VLOOKUP(D6,évènements!$B$3:$D$200,2,0)) | K6: =CONCATENATE(I6," ",J6) | L6: =M6 -> 42770 | M6: =M5+1 -> 42770 | N6: =IF(M6="","",IF(ISERROR(MATCH(M6,Lune!$A$1:$A$1000,0)),IF(WEEKDAY(M6)=5,INT((M6-DATE(YEAR(M6),1,1))/7+1),IF(AND(WEEKDAY(M6)=4,NOT( ISERROR(MATCH(M6+1,Lune!$A$1:$A$1000,0)))),INT((M6+1-DATE(YEAR(M6+1),1,1))/7+1),"")),INDEX(Lune!$B$1:$B$1000,MATCH(M6,Lune!$A$1:$A$1000,0),1))) -> ◐ | O6: =IF(P6="",""," '") | P6: =IF(ISERROR(VLOOKUP(M6,anniversaire!$X$2:$Z$100,2,0)),"",VLOOKUP(M6,anniversaire!$X$2:$Z$100,2,0)) | Q6: =IF(ISERROR(VLOOKUP(M6,fête!$B$2:$C$367,2,0)),"",VLOOKUP(M6,fête!$B$2:$C$367,2,0)) -> Véronique | R6: =IF(ISERROR(VLOOKUP(M6,évènements!$A$3:$D$200,3,0)),"",VLOOKUP(M6,évènements!$A$3:$D$200,3,0)) | S6: =IF(ISERROR(VLOOKUP(M6,évènements!$B$3:$D$200,2,0)),"",VLOOKUP(M6,évènements!$B$3:$D$200,2,0)) | T6: =CONCATENATE(R6," ",S6) | U6: =V6 -> 42798 | V6: =V5+1 -> 42798 | W6: =IF(V6="","",IF(ISERROR(MATCH(V6,Lune!$A$1:$A$1000,0)),IF(WEEKDAY(V6)=5,INT((V6-DATE(YEAR(V6),1,1))/7+1),IF(AND(WEEKDAY(V6)=4,NOT( ISERROR(MATCH(V6+1,Lune!$A$1:$A$1000,0)))),INT((V6+1-DATE(YEAR(V6+1),1,1))/7+1),"")),INDEX(Lune!$B$1:$B$1000,MATCH(V6,Lune!$A$1:$A$1000,0),1))) | X6: =IF(Y6="",""," '") -> ' | Y6: =IF(ISERROR(VLOOKUP(V6,anniversaire!$X$2:$Z$100,2,0)),"",VLOOKUP(V6,anniversaire!$X$2:$Z$100,2,0)) -> boireau andrée 82 | Z6: =IF(ISERROR(VLOOKUP(V6,fête!$B$2:$C$367,2,0)),"",VLOOKUP(V6,fête!$B$2:$C$367,2,0)) -> Casimir | AA6: =IF(ISERROR(VLOOKUP(V6,évènements!$A$3:$D$200,3,0)),"",VLOOKUP(V6,évènements!$A$3:$D$200,3,0)) | AB6: =IF(ISERROR(VLOOKUP(V6,évènements!$B$3:$D$200,2,0)),"",VLOOKUP(V6,évènements!$B$3:$D$200,2,0)) | AC6: =CONCATENATE(AA6," ",AB6) | AD6: =AE6 -> 42829 | AE6: =AE5+1 -> 42829 | AF6: =IF(AE6="","",IF(ISERROR(MATCH(AE6,Lune!$A$1:$A$1000,0)),IF(WEEKDAY(AE6)=5,INT((AE6-DATE(YEAR(AE6),1,1))/7+1),IF(AND(WEEKDAY(AE6)=4,NOT( ISERROR(MATCH(AE6+1,Lune!$A$1:$A$1000,0)))),INT((AE6+1-DATE(YEAR(AE6+1),1,1))/7+1),"")),INDEX(Lune!$B$1:$B$1000,MATCH(AE6,Lune!$A$1:$A$1000,0),1))) | AG6: =IF(AH6="",""," '") | AH6: =IF(ISERROR(VLOOKUP(AE6,anniversaire!$X$2:$Z$100,2,0)),"",VLOOKUP(AE6,anniversaire!$X$2:$Z$100,2,0)) | AI6: =IF(ISERROR(VLOOKUP(AE6,fête!$B$2:$C$367,2,0)),"",VLOOKUP(AE6,fête!$B$2:$C$367,2,0)) -> Isidore | AJ6: =IF(ISERROR(VLOOKUP(AE6,évènements!$A$3:$D$200,3,0)),"",VLOOKUP(AE6,évènements!$A$3:$D$200,3,0)) | AK6: =IF(ISERROR(VLOOKUP(AE6,évènements!$B$3:$D$200,2,0)),"",VLOOKUP(AE6,évènements!$B$3:$D$200,2,0)) | AL6: =CONCATENATE(AJ6," ",AK6) | AM6: =AN6 -> 42859 | AN6: =AN5+1 -> 42859 | AO6: =IF(AN6="","",IF(ISERROR(MATCH(AN6,Lune!$A$1:$A$1000,0)),IF(WEEKDAY(AN6)=5,INT((AN6-DATE(YEAR(AN6),1,1))/7+1),IF(AND(WEEKDAY(AN6)=4,NOT( ISERROR(MATCH(AN6+1,Lune!$A$1:$A$1000,0)))),INT((AN6+1-DATE(YEAR(AN6+1),1,1))/7+1),"")),INDEX(Lune!$B$1:$B$1000,MATCH(AN6,Lune!$A$1:$A$1000,0),1))) -> 18 | AP6: =IF(AQ6="","","'") | AQ6: =IF(ISERROR(VLOOKUP(AN6,anniversaire!$X$2:$Z$100,2,0)),"",VLOOKUP(AN6,anniversaire!$X$2:$Z$100,2,0)) | AR6: =IF(ISERROR(VLOOKUP(AN6,fête!$B$2:$C$367,2,0)),"",VLOOKUP(AN6,fête!$B$2:$C$367,2,0)) -> Sylvain | AS6: =IF(ISERROR(VLOOKUP(AN6,évènements!$A$3:$D$200,3,0)),"",VLOOKUP(AN6,évènements!$A$3:$D$200,3,0)) | AT6: =IF(ISERROR(VLOOKUP(AN6,évènements!$B$3:$D$200,2,0)),"",VLOOKUP(AN6,évènements!$B$3:$D$200,2,0)) | AU6: =CONCATENATE(AS6," ",AT6) | AV6: =AW6 -> 42890 | AW6: =AW5+1 -> 42890 | AX6: =IF(AW6="","",IF(ISERROR(MATCH(AW6,Lune!$A$1:$A$1000,0)),IF(WEEKDAY(AW6)=5,INT((AW6-DATE(YEAR(AW6),1,1))/7+1),IF(AND(WEEKDAY(AW6)=4,NOT( ISERROR(MATCH(AW6+1,Lune!$A$1:$A$1000,0)))),INT((AW6+1-DATE(YEAR(AW6+1),1,1))/7+1),"")),INDEX(Lune!$B$1:$B$1000,MATCH(AW6,Lune!$A$1:$A$1000,0),1))) | AY6: =IF(AZ6="",""," '") | AZ6: =IF(ISERROR(VLOOKUP(AW6,anniversaire!$X$2:$Z$100,2,0)),"",VLOOKUP(AW6,anniversaire!$X$2:$Z$100,2,0)) | BA6: =IF(ISERROR(VLOOKUP(AW6,fête!$B$2:$C$367,2,0)),"",VLOOKUP(AW6,fête!$B$2:$C$367,2,0)) -> Clotilde | BB6: =IF(ISERROR(VLOOKUP(AW6,évènements!$A$3:$D$200,3,0)),"",VLOOKUP(AW6,évènements!$A$3:$D$200,3,0)) | BC6: =IF(ISERROR(VLOOKUP(AW6,évènements!$B$3:$D$200,2,0)),"",VLOOKUP(AW6,évènements!$B$3:$D$200,2,0)) | BD6: =CONCATENATE(BB6," ",BC6) | BE6: =BF6 -> 42920 | BF6: =BF5+1 -> 42920 | BG6: =IF(BF6="","",IF(ISERROR(MATCH(BF6,Lune!$A$1:$A$1000,0)),IF(WEEKDAY(BF6)=5,INT((BF6-DATE(YEAR(BF6),1,1))/7+1),IF(AND(WEEKDAY(BF6)=4,NOT( ISERROR(MATCH(BF6+1,Lune!$A$1:$A$1000,0)))),INT((BF6+1-DATE(YEAR(BF6+1),1,1))/7+1),"")),INDEX(Lune!$B$1:$B$1000,MATCH(BF6,Lune!$A$1:$A$1000,0),1))) | BH6: =IF(BI6="",""," '") | BI6: =IF(ISERROR(VLOOKUP(BF6,anniversaire!$X$2:$Z$100,2,0)),"",VLOOKUP(BF6,anniversaire!$X$2:$Z$100,2,0)) | BJ6: =IF(ISERROR(VLOOKUP(BF6,fête!$B$2:$C$367,2,0)),"",VLOOKUP(BF6,fête!$B$2:$C$367,2,0)) -> Florent | BK6: =IF(ISERROR(VLOOKUP(BF6,évènements!$A$3:$D$200,3,0)),"",VLOOKUP(BF6,évènements!$A$3:$D$200,3,0)) | BL6: =IF(ISERROR(VLOOKUP(BF6,évènements!$B$3:$D$200,2,0)),"",VLOOKUP(BF6,évènements!$B$3:$D$200,2,0)) | BM6: =CONCATENATE(BK6," ",BL6) | BN6: =BO6 -> 42951 | BO6: =BO5+1 -> 42951 | BP6: =IF(BO6="","",IF(ISERROR(MATCH(BO6,Lune!$A$1:$A$1000,0)),IF(WEEKDAY(BO6)=5,INT((BO6-DATE(YEAR(BO6),1,1))/7+1),IF(AND(WEEKDAY(BO6)=4,NOT( ISERROR(MATCH(BO6+1,Lune!$A$1:$A$1000,0)))),INT((BO6+1-DATE(YEAR(BO6+1),1,1))/7+1),"")),INDEX(Lune!$B$1:$B$1000,MATCH(BO6,Lune!$A$1:$A$1000,0),1))) | BQ6: =IF(BR6="",""," '") | BR6: =IF(ISERROR(VLOOKUP(BO6,anniversaire!$X$2:$Z$100,2,0)),"",VLOOKUP(BO6,anniversaire!$X$2:$Z$100,2,0)) | BS6: =IF(ISERROR(VLOOKUP(BO6,fête!$B$2:$C$367,2,0)),"",VLOOKUP(BO6,fête!$B$2:$C$367,2,0)) -> Jean-Marie Vianney | BT6: =IF(ISERROR(VLOOKUP(BO6,évènements!$A$3:$D$200,3,0)),"",VLOOKUP(BO6,évènements!$A$3:$D$200,3,0)) | BU6: =IF(ISERROR(VLOOKUP(BO6,évènements!$B$3:$D$200,2,0)),"",VLOOKUP(BO6,évènements!$B$3:$D$200,2,0)) | BV6: =CONCATENATE(BT6," ",BU6) | BW6: =BX6 -> 42982 | BX6: =BX5+1 -> 42982 | BY6: =IF(BX6="","",IF(ISERROR(MATCH(BX6,Lune!$A$1:$A$1000,0)),IF(WEEKDAY(BX6)=5,INT((BX6-DATE(YEAR(BX6),1,1))/7+1),IF(AND(WEEKDAY(BX6)=4,NOT( ISERROR(MATCH(BX6+1,Lune!$A$1:$A$1000,0)))),INT((BX6+1-DATE(YEAR(BX6+1),1,1))/7+1),"")),INDEX(Lune!$B$1:$B$1000,MATCH(BX6,Lune!$A$1:$A$1000,0),1))) | BZ6: =IF(CA6="",""," '") | CA6: =IF(ISERROR(VLOOKUP(BX6,anniversaire!$X$2:$Z$100,2,0)),"",VLOOKUP(BX6,anniversaire!$X$2:$Z$100,2,0)) | CB6: =IF(ISERROR(VLOOKUP(BX6,fête!$B$2:$C$367,2,0)),"",VLOOKUP(BX6,fête!$B$2:$C$367,2,0)) -> Rosalie | CC6: =IF(ISERROR(VLOOKUP(BX6,évènements!$A$3:$D$200,3,0)),"",VLOOKUP(BX6,évènements!$A$3:$D$200,3,0)) | CD6: =IF(ISERROR(VLOOKUP(BX6,évènements!$B$3:$D$200,2,0)),"",VLOOKUP(BX6,évènements!$B$3:$D$200,2,0)) | CE6: =CONCATENATE(CC6," ",CD6) | CF6: =CG6 -> 43012 | CG6: =CG5+1 -> 43012 | CH6: =IF(CG6="","",IF(ISERROR(MATCH(CG6,Lune!$A$1:$A$1000,0)),IF(WEEKDAY(CG6)=5,INT((CG6-DATE(YEAR(CG6),1,1))/7+1),IF(AND(WEEKDAY(CG6)=4,NOT( ISERROR(MATCH(CG6+1,Lune!$A$1:$A$1000,0)))),INT((CG6+1-DATE(YEAR(CG6+1),1,1))/7+1),"")),INDEX(Lune!$B$1:$B$1000,MATCH(CG6,Lune!$A$1:$A$1000,0),1))) -> 40 | CI6: =IF(CJ6="",""," '") | CJ6: =IF(ISERROR(VLOOKUP(CG6,anniversaire!$X$2:$Z$100,2,0)),"",VLOOKUP(CG6,anniversaire!$X$2:$Z$100,2,0)) | CK6: =IF(ISERROR(VLOOKUP(CG6,fête!$B$2:$C$367,2,0)),"",VLOOKUP(CG6,fête!$B$2:$C$367,2,0)) -> François d'Assise | CL6: =IF(ISERROR(VLOOKUP(CG6,évènements!$A$3:$D$200,3,0)),"",VLOOKUP(CG6,évènements!$A$3:$D$200,3,0)) | CM6: =IF(ISERROR(VLOOKUP(CG6,évènements!$B$3:$D$200,2,0)),"",VLOOKUP(CG6,évènements!$B$3:$D$200,2,0)) | CN6: =CONCATENATE(CL6," ",CM6) | CO6: =CP6 -> 43043 | CP6: =CP5+1 -> 43043 | CQ6: =IF(CP6="","",IF(ISERROR(MATCH(CP6,Lune!$A$1:$A$1000,0)),IF(WEEKDAY(CP6)=5,INT((CP6-DATE(YEAR(CP6),1,1))/7+1),IF(AND(WEEKDAY(CP6)=4,NOT( ISERROR(MATCH(CP6+1,Lune!$A$1:$A$1000,0)))),INT((CP6+1-DATE(YEAR(CP6+1),1,1))/7+1),"")),INDEX(Lune!$B$1:$B$1000,MATCH(CP6,Lune!$A$1:$A$1000,0),1))) -> ○ | CR6: =IF(CS6="",""," '") | CS6: =IF(ISERROR(VLOOKUP(CP6,anniversaire!$X$2:$Z$100,2,0)),"",VLOOKUP(CP6,anniversaire!$X$2:$Z$100,2,0)) | CT6: =IF(ISERROR(VLOOKUP(CP6,fête!$B$2:$C$367,2,0)),"",VLOOKUP(CP6,fête!$B$2:$C$367,2,0)) -> Charles | CU6: =IF(ISERROR(VLOOKUP(CP6,évènements!$A$3:$D$200,3,0)),"",VLOOKUP(CP6,évènements!$A$3:$D$200,3,0)) | CV6: =IF(ISERROR(VLOOKUP(CP6,évènements!$B$3:$D$200,2,0)),"",VLOOKUP(CP6,évènements!$B$3:$D$200,2,0)) | CW6: =CONCATENATE(CU6," ",CV6) | CX6: =CY6 -> 43073 | CY6: =CY5+1 -> 43073 | CZ6: =IF(CY6="","",IF(ISERROR(MATCH(CY6,Lune!$A$1:$A$1000,0)),IF(WEEKDAY(CY6)=5,INT((CY6-DATE(YEAR(CY6),1,1))/7+1),IF(AND(WEEKDAY(CY6)=4,NOT( ISERROR(MATCH(CY6+1,Lune!$A$1:$A$1000,0)))),INT((CY6+1-DATE(YEAR(CY6+1),1,1))/7+1),"")),INDEX(Lune!$B$1:$B$1000,MATCH(CY6,Lune!$A$1:$A$1000,0),1))) | DA6: =IF(DB6="",""," '") | DB6: =IF(ISERROR(VLOOKUP(CY6,anniversaire!$X$2:$Z$100,2,0)),"",VLOOKUP(CY6,anniversaire!$X$2:$Z$100,2,0)) | DC6: =IF(ISERROR(VLOOKUP(CY6,fête!$B$2:$C$367,2,0)),"",VLOOKUP(CY6,fête!$B$2:$C$367,2,0)) -> Barbara | DD6: =IF(ISERROR(VLOOKUP(CY6,évènements!$A$3:$D$200,3,0)),"",VLOOKUP(CY6,évènements!$A$3:$D$200,3,0)) | DE6: =IF(ISERROR(VLOOKUP(CY6,évènements!$B$3:$D$200,2,0)),"",VLOOKUP(CY6,évènements!$B$3:$D$200,2,0)) | DF6: =CONCATENATE(DD6," ",DE6) | DG6: =DH6 -> 43104 | DH6: =DH5+1 -> 43104 | DI6: =IF(DH6="","",IF(ISERROR(MATCH(DH6,Lune!$A$1:$A$1000,0)),IF(WEEKDAY(DH6)=5,INT((DH6-DATE(YEAR(DH6),1,1))/7+1),IF(AND(WEEKDAY(DH6)=4,NOT( ISERROR(MATCH(DH6+1,Lune!$A$1:$A$1000,0)))),INT((DH6+1-DATE(YEAR(DH6+1),1,1))/7+1),"")),INDEX(Lune!$B$1:$B$1000,MATCH(DH6,Lune!$A$1:$A$1000,0),1))) -> 1 | DJ6: =F6 | DK6: =G6 | DL6: =H6 -> Odilon | DM6: =IF(ISERROR(VLOOKUP(DH6,évènements!$A$3:$D$200,3,0)),"",VLOOKUP(DH6,évènements!$A$3:$D$200,3,0)) | DN6: =IF(ISERROR(VLOOKUP(DH6,évènements!$B$3:$D$200,2,0)),"",VLOOKUP(DH6,évènements!$B$3:$D$200,2,0)) | DO6: =CONCATENATE(DM6," ",DN6)
C7: =D7 -> 42740 | D7: =D6+1 -> 42740 | E7: =IF(D7="","",IF(ISERROR(MATCH(D7,Lune!$A$1:$A$1000,0)),IF(WEEKDAY(D7)=5,INT((D7-DATE(YEAR(D7),1,1))/7+1),IF(AND(WEEKDAY(D7)=4,NOT( ISERROR(MATCH(D7+1,Lune!$A$1:$A$1000,0)))),INT((D7+1-DATE(YEAR(D7+1),1,1))/7+1),"")),INDEX(Lune!$B$1:$B$1000,MATCH(D7,Lune!$A$1:$A$1000,0),1))) -> ◐ | F7: =IF(G7="",""," '") | G7: =IF(ISERROR(VLOOKUP(D7,anniversaire!$X$2:$Z$100,2,0)),"",VLOOKUP(D7,anniversaire!$X$2:$Z$100,2,0)) | H7: =IF(ISERROR(VLOOKUP(D7,fête!$B$2:$C$367,2,0)),"",VLOOKUP(D7,fête!$B$2:$C$367,2,0)) -> Edouard | I7: =IF(ISERROR(VLOOKUP(D7,évènements!$A$3:$D$200,3,0)),"",VLOOKUP(D7,évènements!$A$3:$D$200,3,0)) | J7: =IF(ISERROR(VLOOKUP(D7,évènements!$B$3:$D$200,2,0)),"",VLOOKUP(D7,évènements!$B$3:$D$200,2,0)) | K7: =CONCATENATE(I7," ",J7) | L7: =M7 -> 42771 | M7: =M6+1 -> 42771 | N7: =IF(M7="","",IF(ISERROR(MATCH(M7,Lune!$A$1:$A$1000,0)),IF(WEEKDAY(M7)=5,INT((M7-DATE(YEAR(M7),1,1))/7+1),IF(AND(WEEKDAY(M7)=4,NOT( ISERROR(MATCH(M7+1,Lune!$A$1:$A$1000,0)))),INT((M7+1-DATE(YEAR(M7+1),1,1))/7+1),"")),INDEX(Lune!$B$1:$B$1000,MATCH(M7,Lune!$A$1:$A$1000,0),1))) | O7: =IF(P7="",""," '") | P7: =IF(ISERROR(VLOOKUP(M7,anniversaire!$X$2:$Z$100,2,0)),"",VLOOKUP(M7,anniversaire!$X$2:$Z$100,2,0)) | Q7: =IF(ISERROR(VLOOKUP(M7,fête!$B$2:$C$367,2,0)),"",VLOOKUP(M7,fête!$B$2:$C$367,2,0)) -> Agathe | R7: =IF(ISERROR(VLOOKUP(M7,évènements!$A$3:$D$200,3,0)),"",VLOOKUP(M7,évènements!$A$3:$D$200,3,0)) | S7: =IF(ISERROR(VLOOKUP(M7,évènements!$B$3:$D$200,2,0)),"",VLOOKUP(M7,évènements!$B$3:$D$200,2,0)) | T7: =CONCATENATE(R7," ",S7) | U7: =V7 -> 42799 | V7: =V6+1 -> 42799 | W7: =IF(V7="","",IF(ISERROR(MATCH(V7,Lune!$A$1:$A$1000,0)),IF(WEEKDAY(V7)=5,INT((V7-DATE(YEAR(V7),1,1))/7+1),IF(AND(WEEKDAY(V7)=4,NOT( ISERROR(MATCH(V7+1,Lune!$A$1:$A$1000,0)))),INT((V7+1-DATE(YEAR(V7+1),1,1))/7+1),"")),INDEX(Lune!$B$1:$B$1000,MATCH(V7,Lune!$A$1:$A$1000,0),1))) -> ◐ | X7: =IF(Y7="",""," '") | Y7: =IF(ISERROR(VLOOKUP(V7,anniversaire!$X$2:$Z$100,2,0)),"",VLOOKUP(V7,anniversaire!$X$2:$Z$100,2,0)) | Z7: =IF(ISERROR(VLOOKUP(V7,fête!$B$2:$C$367,2,0)),"",VLOOKUP(V7,fête!$B$2:$C$367,2,0)) -> Olive | AA7: =IF(ISERROR(VLOOKUP(V7,évènements!$A$3:$D$200,3,0)),"",VLOOKUP(V7,évènements!$A$3:$D$200,3,0)) | AB7: =IF(ISERROR(VLOOKUP(V7,évènements!$B$3:$D$200,2,0)),"",VLOOKUP(V7,évènements!$B$3:$D$200,2,0)) | AC7: =CONCATENATE(AA7," ",AB7) | AD7: =AE7 -> 42830 | AE7: =AE6+1 -> 42830 | AF7: =IF(AE7="","",IF(ISERROR(MATCH(AE7,Lune!$A$1:$A$1000,0)),IF(WEEKDAY(AE7)=5,INT((AE7-DATE(YEAR(AE7),1,1))/7+1),IF(AND(WEEKDAY(AE7)=4,NOT( ISERROR(MATCH(AE7+1,Lune!$A$1:$A$1000,0)))),INT((AE7+1-DATE(YEAR(AE7+1),1,1))/7+1),"")),INDEX(Lune!$B$1:$B$1000,MATCH(AE7,Lune!$A$1:$A$1000,0),1))) | AG7: =IF(AH7="",""," '") | AH7: =IF(ISERROR(VLOOKUP(AE7,anniversaire!$X$2:$Z$100,2,0)),"",VLOOKUP(AE7,anniversaire!$X$2:$Z$100,2,0)) | AI7: =IF(ISERROR(VLOOKUP(AE7,fête!$B$2:$C$367,2,0)),"",VLOOKUP(AE7,fête!$B$2:$C$367,2,0)) -> Irène | AJ7: =IF(ISERROR(VLOOKUP(AE7,évènements!$A$3:$D$200,3,0)),"",VLOOKUP(AE7,évènements!$A$3:$D$200,3,0)) | AK7: =IF(ISERROR(VLOOKUP(AE7,évènements!$B$3:$D$200,2,0)),"",VLOOKUP(AE7,évènements!$B$3:$D$200,2,0)) | AL7: =CONCATENATE(AJ7," ",AK7) | AM7: =AN7 -> 42860 | AN7: =AN6+1 -> 42860 | AO7: =IF(AN7="","",IF(ISERROR(MATCH(AN7,Lune!$A$1:$A$1000,0)),IF(WEEKDAY(AN7)=5,INT((AN7-DATE(YEAR(AN7),1,1))/7+1),IF(AND(WEEKDAY(AN7)=4,NOT( ISERROR(MATCH(AN7+1,Lune!$A$1:$A$1000,0)))),INT((AN7+1-DATE(YEAR(AN7+1),1,1))/7+1),"")),INDEX(Lune!$B$1:$B$1000,MATCH(AN7,Lune!$A$1:$A$1000,0),1))) | AP7: =IF(AQ7="","","'") | AQ7: =IF(ISERROR(VLOOKUP(AN7,anniversaire!$X$2:$Z$100,2,0)),"",VLOOKUP(AN7,anniversaire!$X$2:$Z$100,2,0)) | AR7: =IF(ISERROR(VLOOKUP(AN7,fête!$B$2:$C$367,2,0)),"",VLOOKUP(AN7,fête!$B$2:$C$367,2,0)) -> Judith | AS7: =IF(ISERROR(VLOOKUP(AN7,évènements!$A$3:$D$200,3,0)),"",VLOOKUP(AN7,évènements!$A$3:$D$200,3,0)) -> rdv essai médical prothése | AT7: =IF(ISERROR(VLOOKUP(AN7,évènements!$B$3:$D$200,2,0)),"",VLOOKUP(AN7,évènements!$B$3:$D$200,2,0)) | AU7: =CONCATENATE(AS7," ",AT7) -> rdv essai médical prothése | AV7: =AW7 -> 42891 | AW7: =AW6+1 -> 42891 | AX7: =IF(AW7="","",IF(ISERROR(MATCH(AW7,Lune!$A$1:$A$1000,0)),IF(WEEKDAY(AW7)=5,INT((AW7-DATE(YEAR(AW7),1,1))/7+1),IF(AND(WEEKDAY(AW7)=4,NOT( ISERROR(MATCH(AW7+1,Lune!$A$1:$A$1000,0)))),INT((AW7+1-DATE(YEAR(AW7+1),1,1))/7+1),"")),INDEX(Lune!$B$1:$B$1000,MATCH(AW7,Lune!$A$1:$A$1000,0),1))) | AY7: =IF(AZ7="",""," '") | AZ7: =IF(ISERROR(VLOOKUP(AW7,anniversaire!$X$2:$Z$100,2,0)),"",VLOOKUP(AW7,anniversaire!$X$2:$Z$100,2,0)) | BA7: =IF(ISERROR(VLOOKUP(AW7,fête!$B$2:$C$367,2,0)),"",VLOOKUP(AW7,fête!$B$2:$C$367,2,0)) -> Igor | BB7: =IF(ISERROR(VLOOKUP(AW7,évènements!$A$3:$D$200,3,0)),"",VLOOKUP(AW7,évènements!$A$3:$D$200,3,0)) | BC7: =IF(ISERROR(VLOOKUP(AW7,évènements!$B$3:$D$200,2,0)),"",VLOOKUP(AW7,évènements!$B$3:$D$200,2,0)) | BD7: =CONCATENATE(BB7," ",BC7) | BE7: =BF7 -> 42921 | BF7: =BF6+1 -> 42921 | BG7: =IF(BF7="","",IF(ISERROR(MATCH(BF7,Lune!$A$1:$A$1000,0)),IF(WEEKDAY(BF7)=5,INT((BF7-DATE(YEAR(BF7),1,1))/7+1),IF(AND(WEEKDAY(BF7)=4,NOT( ISERROR(MATCH(BF7+1,Lune!$A$1:$A$1000,0)))),INT((BF7+1-DATE(YEAR(BF7+1),1,1))/7+1),"")),INDEX(Lune!$B$1:$B$1000,MATCH(BF7,Lune!$A$1:$A$1000,0),1))) | BH7: =IF(BI7="",""," '") | BI7: =IF(ISERROR(VLOOKUP(BF7,anniversaire!$X$2:$Z$100,2,0)),"",VLOOKUP(BF7,anniversaire!$X$2:$Z$100,2,0)) | BJ7: =IF(ISERROR(VLOOKUP(BF7,fête!$B$2:$C$367,2,0)),"",VLOOKUP(BF7,fête!$B$2:$C$367,2,0)) -> Antoine | BK7: =IF(ISERROR(VLOOKUP(BF7,évènements!$A$3:$D$200,3,0)),"",VLOOKUP(BF7,évènements!$A$3:$D$200,3,0)) | BL7: =IF(ISERROR(VLOOKUP(BF7,évènements!$B$3:$D$200,2,0)),"",VLOOKUP(BF7,évènements!$B$3:$D$200,2,0)) | BM7: =CONCATENATE(BK7," ",BL7) | BN7: =BO7 -> 42952 | BO7: =BO6+1 -> 42952 | BP7: =IF(BO7="","",IF(ISERROR(MATCH(BO7,Lune!$A$1:$A$1000,0)),IF(WEEKDAY(BO7)=5,INT((BO7-DATE(YEAR(BO7),1,1))/7+1),IF(AND(WEEKDAY(BO7)=4,NOT( ISERROR(MATCH(BO7+1,Lune!$A$1:$A$1000,0)))),INT((BO7+1-DATE(YEAR(BO7+1),1,1))/7+1),"")),INDEX(Lune!$B$1:$B$1000,MATCH(BO7,Lune!$A$1:$A$1000,0),1))) | BQ7: =IF(BR7="",""," '") | BR7: =IF(ISERROR(VLOOKUP(BO7,anniversaire!$X$2:$Z$100,2,0)),"",VLOOKUP(BO7,anniversaire!$X$2:$Z$100,2,0)) | BS7: =IF(ISERROR(VLOOKUP(BO7,fête!$B$2:$C$367,2,0)),"",VLOOKUP(BO7,fête!$B$2:$C$367,2,0)) -> Abel | BT7: =IF(ISERROR(VLOOKUP(BO7,évènements!$A$3:$D$200,3,0)),"",VLOOKUP(BO7,évènements!$A$3:$D$200,3,0)) | BU7: =IF(ISERROR(VLOOKUP(BO7,évènements!$B$3:$D$200,2,0)),"",VLOOKUP(BO7,évènements!$B$3:$D$200,2,0)) | BV7: =CONCATENATE(BT7," ",BU7) | BW7: =BX7 -> 42983 | BX7: =BX6+1 -> 42983 | BY7: =IF(BX7="","",IF(ISERROR(MATCH(BX7,Lune!$A$1:$A$1000,0)),IF(WEEKDAY(BX7)=5,INT((BX7-DATE(YEAR(BX7),1,1))/7+1),IF(AND(WEEKDAY(BX7)=4,NOT( ISERROR(MATCH(BX7+1,Lune!$A$1:$A$1000,0)))),INT((BX7+1-DATE(YEAR(BX7+1),1,1))/7+1),"")),INDEX(Lune!$B$1:$B$1000,MATCH(BX7,Lune!$A$1:$A$1000,0),1))) | BZ7: =IF(CA7="",""," '") | CA7: =IF(ISERROR(VLOOKUP(BX7,anniversaire!$X$2:$Z$100,2,0)),"",VLOOKUP(BX7,anniversaire!$X$2:$Z$100,2,0)) | CB7: =IF(ISERROR(VLOOKUP(BX7,fête!$B$2:$C$367,2,0)),"",VLOOKUP(BX7,fête!$B$2:$C$367,2,0)) -> Raïssa | CC7: =IF(ISERROR(VLOOKUP(BX7,évènements!$A$3:$D$200,3,0)),"",VLOOKUP(BX7,évènements!$A$3:$D$200,3,0)) | CD7: =IF(ISERROR(VLOOKUP(BX7,évènements!$B$3:$D$200,2,0)),"",VLOOKUP(BX7,évènements!$B$3:$D$200,2,0)) | CE7: =CONCATENATE(CC7," ",CD7) | CF7: =CG7 -> 43013 | CG7: =CG6+1 -> 43013 | CH7: =IF(CG7="","",IF(ISERROR(MATCH(CG7,Lune!$A$1:$A$1000,0)),IF(WEEKDAY(CG7)=5,INT((CG7-DATE(YEAR(CG7),1,1))/7+1),IF(AND(WEEKDAY(CG7)=4,NOT( ISERROR(MATCH(CG7+1,Lune!$A$1:$A$1000,0)))),INT((CG7+1-DATE(YEAR(CG7+1),1,1))/7+1),"")),INDEX(Lune!$B$1:$B$1000,MATCH(CG7,Lune!$A$1:$A$1000,0),1))) -> ○ | CI7: =IF(CJ7="",""," '") -> ' | CJ7: =IF(ISERROR(VLOOKUP(CG7,anniversaire!$X$2:$Z$100,2,0)),"",VLOOKUP(CG7,anniversaire!$X$2:$Z$100,2,0)) -> Virely Maël 3 | CK7: =IF(ISERROR(VLOOKUP(CG7,fête!$B$2:$C$367,2,0)),"",VLOOKUP(CG7,fête!$B$2:$C$367,2,0)) -> Fleur | CL7: =IF(ISERROR(VLOOKUP(CG7,évènements!$A$3:$D$200,3,0)),"",VLOOKUP(CG7,évènements!$A$3:$D$200,3,0)) | CM7: =IF(ISERROR(VLOOKUP(CG7,évènements!$B$3:$D$200,2,0)),"",VLOOKUP(CG7,évènements!$B$3:$D$200,2,0)) | CN7: =CONCATENATE(CL7," ",CM7) | CO7: =CP7 -> 43044 | CP7: =CP6+1 -> 43044 | CQ7: =IF(CP7="","",IF(ISERROR(MATCH(CP7,Lune!$A$1:$A$1000,0)),IF(WEEKDAY(CP7)=5,INT((CP7-DATE(YEAR(CP7),1,1))/7+1),IF(AND(WEEKDAY(CP7)=4,NOT( ISERROR(MATCH(CP7+1,Lune!$A$1:$A$1000,0)))),INT((CP7+1-DATE(YEAR(CP7+1),1,1))/7+1),"")),INDEX(Lune!$B$1:$B$1000,MATCH(CP7,Lune!$A$1:$A$1000,0),1))) | CR7: =IF(CS7="",""," '") | CS7: =IF(ISERROR(VLOOKUP(CP7,anniversaire!$X$2:$Z$100,2,0)),"",VLOOKUP(CP7,anniversaire!$X$2:$Z$100,2,0)) | CT7: =IF(ISERROR(VLOOKUP(CP7,fête!$B$2:$C$367,2,0)),"",VLOOKUP(CP7,fête!$B$2:$C$367,2,0)) -> Sylvie | CU7: =IF(ISERROR(VLOOKUP(CP7,évènements!$A$3:$D$200,3,0)),"",VLOOKUP(CP7,évènements!$A$3:$D$200,3,0)) | CV7: =IF(ISERROR(VLOOKUP(CP7,évènements!$B$3:$D$200,2,0)),"",VLOOKUP(CP7,évènements!$B$3:$D$200,2,0)) | CW7: =CONCATENATE(CU7," ",CV7) | CX7: =CY7 -> 43074 | CY7: =CY6+1 -> 43074 | CZ7: =IF(CY7="","",IF(ISERROR(MATCH(CY7,Lune!$A$1:$A$1000,0)),IF(WEEKDAY(CY7)=5,INT((CY7-DATE(YEAR(CY7),1,1))/7+1),IF(AND(WEEKDAY(CY7)=4,NOT( ISERROR(MATCH(CY7+1,Lune!$A$1:$A$1000,0)))),INT((CY7+1-DATE(YEAR(CY7+1),1,1))/7+1),"")),INDEX(Lune!$B$1:$B$1000,MATCH(CY7,Lune!$A$1:$A$1000,0),1))) | DA7: =IF(DB7="",""," '") | DB7: =IF(ISERROR(VLOOKUP(CY7,anniversaire!$X$2:$Z$100,2,0)),"",VLOOKUP(CY7,anniversaire!$X$2:$Z$100,2,0)) | DC7: =IF(ISERROR(VLOOKUP(CY7,fête!$B$2:$C$367,2,0)),"",VLOOKUP(CY7,fête!$B$2:$C$367,2,0)) -> Gérald | DD7: =IF(ISERROR(VLOOKUP(CY7,évènements!$A$3:$D$200,3,0)),"",VLOOKUP(CY7,évènements!$A$3:$D$200,3,0)) | DE7: =IF(ISERROR(VLOOKUP(CY7,évènements!$B$3:$D$200,2,0)),"",VLOOKUP(CY7,évènements!$B$3:$D$200,2,0)) | DF7: =CONCATENATE(DD7," ",DE7) | DG7: =DH7 -> 43105 | DH7: =DH6+1 -> 43105 | DI7: =IF(DH7="","",IF(ISERROR(MATCH(DH7,Lune!$A$1:$A$1000,0)),IF(WEEKDAY(DH7)=5,INT((DH7-DATE(YEAR(DH7),1,1))/7+1),IF(AND(WEEKDAY(DH7)=4,NOT( ISERROR(MATCH(DH7+1,Lune!$A$1:$A$1000,0)))),INT((DH7+1-DATE(YEAR(DH7+1),1,1))/7+1),"")),INDEX(Lune!$B$1:$B$1000,MATCH(DH7,Lune!$A$1:$A$1000,0),1))) | DJ7: =F7 | DK7: =G7 | DL7: =H7 -> Edouard | DM7: =IF(ISERROR(VLOOKUP(DH7,évènements!$A$3:$D$200,3,0)),"",VLOOKUP(DH7,évènements!$A$3:$D$200,3,0)) | DN7: =IF(ISERROR(VLOOKUP(DH7,évènements!$B$3:$D$200,2,0)),"",VLOOKUP(DH7,évènements!$B$3:$D$200,2,0)) | DO7: =CONCATENATE(DM7," ",DN7)
