Workbook
Name AfficherNom: #REF!
Name An: calendriers!$C$1
Name An: #REF!
Name ChampQui: [1]!tblDonnées[QUI]
Name DAbut: #REF!
Name DAfin: #REF!
Name date: Événements!#REF!
Name Datedebut: Tableau1[[#Headers],[date debut]]
Name Datefin: évènements!$B:$B
Name Dbut: Tableau1[date debut]
Name dCL: [2]Data!#REF!
Name Ddebut: Tableau1[[#All],[date debut]]
Name début: Événements!$B$2:$B$11
Name débutm: Événements!$F$2:$F$11
Name dferm: [2]Data!#REF!
Name Dfin: Tableau1[date fin]
Name Dform: [2]Calendrier!#REF!
Name Dform: [2]Calendrier!#REF!
Name DVac: BD_CAL!$E$5:$E$38
Name F: Événements!$A$3:$G$3
Name Fériés: BD_CAL!$J$6:$J$58
Name fin: Événements!$C$2:$C$11
Name finm: Événements!$G$2:$G$11
Name FVac: BD_CAL!$G$5:$G$38
Name onglets: BD_CAL!$I$5:$I$16
Name RechercherQui: OFFSET('[1]Recherche de nom'!$A$3,,,COUNT('[1]Recherche de nom'!$B:$B),1)
Name SemaineDu: #REF!

Sheet BD_CAL
B2: Année scolaire | E2: Date Début vacances | G2: Date Fin vacances | K2: http://www.education.gouv.fr/pid25058/le-calendrier-scolaire.html?annee=108&zone=0&search_input=%A0D%E9partement%2C+Code+postal+ou+ville
E3: Académie de dijon | G3: Académie de dijon
E4: DVac | G4: FVac
B5: 2013/2014 | C5: Noël | E5: 41265 | G5: 41280 | I5: Janvier | J5: Fériés
C6: Hiver | E6: 41328 | G6: 41343 | I6: Février | J6: =DATE(calendriers!An-1,1,1) -> 42370
C7: Printemps | E7: 41384 | G7: 41399 | I7: Mars | J7: =ROUND(DATE(calendriers!An-1,4,MOD(234-11*MOD(calendriers!An-1,19),30))/7,0)*7-6+1 -> 42457
C8: Eté | E8: 41461 | G8: 41518 | I8: Avril | J8: =DATE(calendriers!An-1,5,1) -> 42491
C9: Toussaint | E9: 41566 | G9: 41581 | I9: Mai | J9: =DATE(calendriers!An-1,5,8) -> 42498
C10: Noël | E10: 41629 | G10: 41644 | I10: Juin | J10: =J7+38 -> 42495
I11: Juillet | J11: =J7+49 -> 42506
B12: =IF(E12="","",YEAR(E12)&"/"&YEAR(G16)) -> 2014/2015 | C12: Hiver | E12: 41699 | G12: 41714 | I12: Août | J12: =DATE(calendriers!An-1,7,14) -> 42565
C13: Printemps | E13: 41755 | G13: 41770 | I13: Septembre | J13: =DATE(calendriers!An-1,8,15) -> 42597
C14: Eté | E14: 41825 | G14: 41882 | I14: Octobre | J14: =DATE(calendriers!An-1,11,1) -> 42675
C15: Toussaint | E15: 41930 | G15: 41945 | I15: Novembre | J15: =DATE(calendriers!An-1,11,11) -> 42685
C16: Noël | E16: 41993 | G16: 42008 | I16: Décembre | J16: =DATE(calendriers!An-1,12,25) -> 42729
J17: =DATE(calendriers!An,1,1) -> 42736
B18: =IF(E18="","",YEAR(E18)&"/"&YEAR(G22)) -> 2015/2016 | C18: Hiver | E18: 42042 | G18: 42057 | J18: =ROUND(DATE(calendriers!An,4,MOD(234-11*MOD(calendriers!An,19),30))/7,0)*7-6+1 -> 42842
C19: Printemps | E19: 42105 | G19: 42120 | J19: =DATE(calendriers!An,5,1) -> 42856
C20: Eté | E20: 42189 | G20: 42246 | J20: =DATE(calendriers!An,5,8) -> 42863
C21: Toussaint | E21: 42294 | G21: 42309 | J21: =J18+38 -> 42880
C22: Noël | E22: 42357 | G22: 42372 | J22: =J18+49 -> 42891
J23: =DATE(calendriers!An,7,14) -> 42930
B24: =IF(E24="","",YEAR(E24)&"/"&YEAR(G28)) -> 2016/2017 | C24: Hiver | E24: 42418 | G24: 42435 | J24: =DATE(calendriers!An,8,15) -> 42962
C25: Printemps | E25: 42475 | G25: 42492 | J25: =DATE(calendriers!An,11,1) -> 43040
C26: Eté | E26: 42559 | G26: 42614 | J26: =DATE(calendriers!An,11,11) -> 43050
C27: Toussaint | E27: 42662 | G27: 42677 | J27: =DATE(calendriers!An,12,25) -> 43094
C28: Noël | E28: 42721 | G28: 42738 | J28: =DATE(calendriers!An+1,1,1) -> 43101
J29: =ROUND(DATE(calendriers!An+1,4,MOD(234-11*MOD(calendriers!An+1,19),30))/7,0)*7-6+1 -> 43192
B30: =IF(E30="","",YEAR(E30)&"/"&YEAR(G34)) -> 2017/2018 | C30: Hiver | E30: 42776 | G30: 42792 | J30: =DATE(calendriers!An+1,5,1) -> 43221
C31: Printemps | E31: 42832 | G31: 42848 | J31: =DATE(calendriers!An+1,5,8) -> 43228
C32: Eté | E32: 42923 | G32: 42979 | J32: =J29+38 -> 43230
C33: Toussaint | E33: 43029 | G33: 43044 | J33: =J29+49 -> 43241
C34: Noël | E34: 43092 | G34: 43108 | J34: =DATE(calendriers!An+1,7,14) -> 43295
J35: =DATE(calendriers!An+1,8,15) -> 43327
B36: =IF(E36="","",YEAR(E36)&"/"&YEAR(G40)) -> 2018/2013 | C36: Hiver | E36: 43141 | G36: 43157 | J36: =DATE(calendriers!An+1,11,1) -> 43405
C37: Printemps | E37: 43197 | G37: 43213 | J37: =DATE(calendriers!An+1,11,11) -> 43415
C38: Eté | E38: 43288 | G38: 43345 | J38: =DATE(calendriers!An+1,12,25) -> 43459
C39: Toussaint | G39: 41280
C40: Noël | G40: 41343

Sheet calendriers
C1: 2017 | L1: =IF(MONTH(1&M2)=1,An+1,"") | U1: =IF(MONTH(1&V2)=1,An+1,"") | AD1: =IF(MONTH(1&AE2)=1,An+1,"") | AM1: =IF(MONTH(1&AN2)=1,An+1,"") | AV1: =IF(MONTH(1&AW2)=1,An+1,"") | BE1: =IF(MONTH(1&BF2)=1,An+1,"") | BN1: =IF(MONTH(1&BO2)=1,An+1,"") | BW1: =IF(MONTH(1&BX2)=1,An+1,"") | CF1: =IF(MONTH(1&CG2)=1,An+1,"") | CO1: =IF(MONTH(1&CP2)=1,An+1,"") | CX1: =IF(MONTH(1&CY2)=1,An+1,"") | DG1: =IF(MONTH(1&DH2)=1,An+1,"") -> 2018
C2: =MONTH(1&D2) -> 1 | D2: Janvier | L2: =MONTH(1&M2) -> 2 | M2: =CHOOSE(IF(MONTH(1&D2)=12,1,MONTH(1&D2)+1),"Janvier","Février","Mars","Avril","Mai","Juin","Juillet","Août","Septembre","Octobre","Novembre","Décembre") -> Février | U2: =MONTH(1&V2) -> 3 | V2: =CHOOSE(IF(MONTH(1&M2)=12,1,MONTH(1&M2)+1),"Janvier","Février","Mars","Avril","Mai","Juin","Juillet","Août","Septembre","Octobre","Novembre","Décembre") -> Mars | AD2: =MONTH(1&AE2) -> 4 | AE2: =CHOOSE(IF(MONTH(1&V2)=12,1,MONTH(1&V2)+1),"Janvier","Février","Mars","Avril","Mai","Juin","Juillet","Août","Septembre","Octobre","Novembre","Décembre") -> Avril | AM2: =MONTH(1&AN2) -> 5 | AN2: =CHOOSE(IF(MONTH(1&AE2)=12,1,MONTH(1&AE2)+1),"Janvier","Février","Mars","Avril","Mai","Juin","Juillet","Août","Septembre","Octobre","Novembre","Décembre") -> Mai | AV2: =MONTH(1&AW2) -> 6 | AW2: =CHOOSE(IF(MONTH(1&AN2)=12,1,MONTH(1&AN2)+1),"Janvier","Février","Mars","Avril","Mai","Juin","Juillet","Août","Septembre","Octobre","Novembre","Décembre") -> Juin | BE2: =MONTH(1&BF2) -> 7 | BF2: =CHOOSE(IF(MONTH(1&AW2)=12,1,MONTH(1&AW2)+1),"Janvier","Février","Mars","Avril","Mai","Juin","Juillet","Août","Septembre","Octobre","Novembre","Décembre") -> Juillet | BN2: =MONTH(1&BO2) -> 8 | BO2: =CHOOSE(IF(MONTH(1&BF2)=12,1,MONTH(1&BF2)+1),"Janvier","Février","Mars","Avril","Mai","Juin","Juillet","Août","Septembre","Octobre","Novembre","Décembre") -> Août | BW2: =MONTH(1&BX2) -> 9 | BX2: =CHOOSE(IF(MONTH(1&BO2)=12,1,MONTH(1&BO2)+1),"Janvier","Février","Mars","Avril","Mai","Juin","Juillet","Août","Septembre","Octobre","Novembre","Décembre") -> Septembre | CF2: =MONTH(1&CG2) -> 10 | CG2: =CHOOSE(IF(MONTH(1&BX2)=12,1,MONTH(1&BX2)+1),"Janvier","Février","Mars","Avril","Mai","Juin","Juillet","Août","Septembre","Octobre","Novembre","Décembre") -> Octobre | CO2: =MONTH(1&CP2) -> 11 | CP2: =CHOOSE(IF(MONTH(1&CG2)=12,1,MONTH(1&CG2)+1),"Janvier","Février","Mars","Avril","Mai","Juin","Juillet","Août","Septembre","Octobre","Novembre","Décembre") -> Novembre | CX2: =MONTH(1&CY2) -> 12 | CY2: =CHOOSE(IF(MONTH(1&CP2)=12,1,MONTH(1&CP2)+1),"Janvier","Février","Mars","Avril","Mai","Juin","Juillet","Août","Septembre","Octobre","Novembre","Décembre") -> Décembre | DG2: =MONTH(1&DH2) -> 1 | DH2: =CHOOSE(IF(MONTH(1&CY2)=12,1,MONTH(1&CY2)+1),"Janvier","Février","Mars","Avril","Mai","Juin","Juillet","Août","Septembre","Octobre","Novembre","Décembre") -> Janvier
C3: =D3 -> 42736 | D3: =DATE(An,MONTH(1&D$2),1) -> 42736 | E3: =IF(D3="","",IF(ISERROR(MATCH(D3,Lune!$A$1:$A$1000,0)),IF(WEEKDAY(D3)=5,INT((D3-DATE(YEAR(D3),1,1))/7+1),IF(AND(WEEKDAY(D3)=4,NOT( ISERROR(MATCH(D3+1,Lune!$A$1:$A$1000,0)))),INT((D3+1-DATE(YEAR(D3+1),1,1))/7+1),"")),INDEX(Lune!$B$1:$B$1000,MATCH(D3,Lune!$A$1:$A$1000,0),1))) | F3: =IF(G3="",""," '") | G3: =IF(ISERROR(VLOOKUP(D3,anniversaire!$X$2:$Z$100,2,0)),"",VLOOKUP(D3,anniversaire!$X$2:$Z$100,2,0)) | H3: =IF(ISERROR(VLOOKUP(D3,fête!$B$2:$C$367,2,0)),"",VLOOKUP(D3,fête!$B$2:$C$367,2,0)) -> Jour de l'an | I3: =IF(ISERROR(VLOOKUP(D3,évènements!$A$3:$D$200,3,0)),"",VLOOKUP(D3,évènements!$A$3:$D$200,3,0)) | J3: =IF(ISERROR(VLOOKUP(D3,évènements!$B$3:$D$200,2,0)),"",VLOOKUP(D3,évènements!$B$3:$D$200,2,0)) | K3: =CONCATENATE(I3," ",J3) | L3: =M3 -> 42767 | M3: =DATE(IF(MONTH(1&M$2)=1,An+1,An),MONTH(1&M$2),1) -> 42767 | N3: =IF(M3="","",IF(ISERROR(MATCH(M3,Lune!$A$1:$A$1000,0)),IF(WEEKDAY(M3)=5,INT((M3-DATE(YEAR(M3),1,1))/7+1),IF(AND(WEEKDAY(M3)=4,NOT( ISERROR(MATCH(M3+1,Lune!$A$1:$A$1000,0)))),INT((M3+1-DATE(YEAR(M3+1),1,1))/7+1),"")),INDEX(Lune!$B$1:$B$1000,MATCH(M3,Lune!$A$1:$A$1000,0),1))) | O3: =IF(P3="",""," '") | P3: =IF(ISERROR(VLOOKUP(M3,anniversaire!$X$2:$Z$100,2,0)),"",VLOOKUP(M3,anniversaire!$X$2:$Z$100,2,0)) | Q3: =IF(ISERROR(VLOOKUP(M3,fête!$B$2:$C$367,2,0)),"",VLOOKUP(M3,fête!$B$2:$C$367,2,0)) -> Ella | R3: =IF(ISERROR(VLOOKUP(M3,évènements!$A$3:$D$200,3,0)),"",VLOOKUP(M3,évènements!$A$3:$D$200,3,0)) | S3: =IF(ISERROR(VLOOKUP(M3,évènements!$B$3:$D$200,2,0)),"",VLOOKUP(M3,évènements!$B$3:$D$200,2,0)) | T3: =CONCATENATE(R3," ",S3) | U3: =V3 -> 42795 | V3: =DATE(IF(MONTH(1&M$2)<MONTH(1&V$2),YEAR(M3),An+1),MONTH(1&V$2),1) -> 42795 | W3: =IF(V3="","",IF(ISERROR(MATCH(V3,Lune!$A$1:$A$1000,0)),IF(WEEKDAY(V3)=5,INT((V3-DATE(YEAR(V3),1,1))/7+1),IF(AND(WEEKDAY(V3)=4,NOT( ISERROR(MATCH(V3+1,Lune!$A$1:$A$1000,0)))),INT((V3+1-DATE(YEAR(V3+1),1,1))/7+1),"")),INDEX(Lune!$B$1:$B$1000,MATCH(V3,Lune!$A$1:$A$1000,0),1))) | X3: =IF(Y3="",""," '") | Y3: =IF(ISERROR(VLOOKUP(V3,anniversaire!$X$2:$Z$100,2,0)),"",VLOOKUP(V3,anniversaire!$X$2:$Z$100,2,0)) | Z3: =IF(ISERROR(VLOOKUP(V3,fête!$B$2:$C$367,2,0)),"",VLOOKUP(V3,fête!$B$2:$C$367,2,0)) -> Auguste | AA3: =IF(ISERROR(VLOOKUP(V3,évènements!$A$3:$D$200,3,0)),"",VLOOKUP(V3,évènements!$A$3:$D$200,3,0)) | AB3: =IF(ISERROR(VLOOKUP(V3,évènements!$B$3:$D$200,2,0)),"",VLOOKUP(V3,évènements!$B$3:$D$200,2,0)) | AC3: =CONCATENATE(AA3," ",AB3) | AD3: =AE3 -> 42826 | AE3: =DATE(IF(MONTH(1&V$2)<MONTH(1&AE$2),YEAR(V3),An+1),MONTH(1&AE$2),1) -> 42826 | AF3: =IF(AE3="","",IF(ISERROR(MATCH(AE3,Lune!$A$1:$A$1000,0)),IF(WEEKDAY(AE3)=5,INT((AE3-DATE(YEAR(AE3),1,1))/7+1),IF(AND(WEEKDAY(AE3)=4,NOT( ISERROR(MATCH(AE3+1,Lune!$A$1:$A$1000,0)))),INT((AE3+1-DATE(YEAR(AE3+1),1,1))/7+1),"")),INDEX(Lune!$B$1:$B$1000,MATCH(AE3,Lune!$A$1:$A$1000,0),1))) | AG3: =IF(AH3="",""," '") | AH3: =IF(ISERROR(VLOOKUP(AE3,anniversaire!$X$2:$Z$100,2,0)),"",VLOOKUP(AE3,anniversaire!$X$2:$Z$100,2,0)) | AI3: =IF(ISERROR(VLOOKUP(AE3,fête!$B$2:$C$367,2,0)),"",VLOOKUP(AE3,fête!$B$2:$C$367,2,0)) -> Hugues | AJ3: =IF(ISERROR(VLOOKUP(AE3,évènements!$A$3:$D$200,3,0)),"",VLOOKUP(AE3,évènements!$A$3:$D$200,3,0)) | AK3: =IF(ISERROR(VLOOKUP(AE3,évènements!$B$3:$D$200,2,0)),"",VLOOKUP(AE3,évènements!$B$3:$D$200,2,0)) | AL3: =CONCATENATE(AJ3," ",AK3) | AM3: =AN3 -> 42856 | AN3: =DATE(IF(MONTH(1&AE$2)<MONTH(1&AN$2),YEAR(AE3),An+1),MONTH(1&AN$2),1) -> 42856 | AO3: =IF(AN3="","",IF(ISERROR(MATCH(AN3,Lune!$A$1:$A$1000,0)),IF(WEEKDAY(AN3)=5,INT((AN3-DATE(YEAR(AN3),1,1))/7+1),IF(AND(WEEKDAY(AN3)=4,NOT( ISERROR(MATCH(AN3+1,Lune!$A$1:$A$1000,0)))),INT((AN3+1-DATE(YEAR(AN3+1),1,1))/7+1),"")),INDEX(Lune!$B$1:$B$1000,MATCH(AN3,Lune!$A$1:$A$1000,0),1))) | AP3: =IF(AQ3="","","'") | AQ3: =IF(ISERROR(VLOOKUP(AN3,anniversaire!$X$2:$Z$100,2,0)),"",VLOOKUP(AN3,anniversaire!$X$2:$Z$100,2,0)) | AR3: =IF(ISERROR(VLOOKUP(AN3,fête!$B$2:$C$367,2,0)),"",VLOOKUP(AN3,fête!$B$2:$C$367,2,0)) -> Fête du travail | AS3: =IF(ISERROR(VLOOKUP(AN3,évènements!$A$3:$D$200,3,0)),"",VLOOKUP(AN3,évènements!$A$3:$D$200,3,0)) | AT3: =IF(ISERROR(VLOOKUP(AN3,évènements!$B$3:$D$200,2,0)),"",VLOOKUP(AN3,évènements!$B$3:$D$200,2,0)) | AU3: =CONCATENATE(AS3," ",AT3) | AV3: =AW3 -> 42887 | AW3: =DATE(IF(MONTH(1&AN$2)<MONTH(1&AW$2),YEAR(AN3),An+1),MONTH(1&AW$2),1) -> 42887 | AX3: =IF(AW3="","",IF(ISERROR(MATCH(AW3,Lune!$A$1:$A$1000,0)),IF(WEEKDAY(AW3)=5,INT((AW3-DATE(YEAR(AW3),1,1))/7+1),IF(AND(WEEKDAY(AW3)=4,NOT( ISERROR(MATCH(AW3+1,Lune!$A$1:$A$1000,0)))),INT((AW3+1-DATE(YEAR(AW3+1),1,1))/7+1),"")),INDEX(Lune!$B$1:$B$1000,MATCH(AW3,Lune!$A$1:$A$1000,0),1))) -> ◐ | AY3: =IF(AZ3="",""," '") | AZ3: =IF(ISERROR(VLOOKUP(AW3,anniversaire!$X$2:$Z$100,2,0)),"",VLOOKUP(AW3,anniversaire!$X$2:$Z$100,2,0)) | BA3: =IF(ISERROR(VLOOKUP(AW3,fête!$B$2:$C$367,2,0)),"",VLOOKUP(AW3,fête!$B$2:$C$367,2,0)) -> Justin | BB3: =IF(ISERROR(VLOOKUP(AW3,évènements!$A$3:$D$200,3,0)),"",VLOOKUP(AW3,évènements!$A$3:$D$200,3,0)) | BC3: =IF(ISERROR(VLOOKUP(AW3,évènements!$B$3:$D$200,2,0)),"",VLOOKUP(AW3,évènements!$B$3:$D$200,2,0)) | BD3: =CONCATENATE(BB3," ",BC3) | BE3: =BF3 -> 42917 | BF3: =DATE(IF(MONTH(1&AW$2)<MONTH(1&BF$2),YEAR(AW3),An+1),MONTH(1&BF$2),1) -> 42917 | BG3: =IF(BF3="","",IF(ISERROR(MATCH(BF3,Lune!$A$1:$A$1000,0)),IF(WEEKDAY(BF3)=5,INT((BF3-DATE(YEAR(BF3),1,1))/7+1),IF(AND(WEEKDAY(BF3)=4,NOT( ISERROR(MATCH(BF3+1,Lune!$A$1:$A$1000,0)))),INT((BF3+1-DATE(YEAR(BF3+1),1,1))/7+1),"")),INDEX(Lune!$B$1:$B$1000,MATCH(BF3,Lune!$A$1:$A$1000,0),1))) -> ◐ | BH3: =IF(BI3="",""," '") | BI3: =IF(ISERROR(VLOOKUP(BF3,anniversaire!$X$2:$Z$100,2,0)),"",VLOOKUP(BF3,anniversaire!$X$2:$Z$100,2,0)) | BJ3: =IF(ISERROR(VLOOKUP(BF3,fête!$B$2:$C$367,2,0)),"",VLOOKUP(BF3,fête!$B$2:$C$367,2,0)) -> Thierry | BK3: =IF(ISERROR(VLOOKUP(BF3,évènements!$A$3:$D$200,3,0)),"",VLOOKUP(BF3,évènements!$A$3:$D$200,3,0)) | BL3: =IF(ISERROR(VLOOKUP(BF3,évènements!$B$3:$D$200,2,0)),"",VLOOKUP(BF3,évènements!$B$3:$D$200,2,0)) | BM3: =CONCATENATE(BK3," ",BL3) | BN3: =BO3 -> 42948 | BO3: =DATE(IF(MONTH(1&BF$2)<MONTH(1&BO$2),YEAR(BF3),An+1),MONTH(1&BO$2),1) -> 42948 | BP3: =IF(BO3="","",IF(ISERROR(MATCH(BO3,Lune!$A$1:$A$1000,0)),IF(WEEKDAY(BO3)=5,INT((BO3-DATE(YEAR(BO3),1,1))/7+1),IF(AND(WEEKDAY(BO3)=4,NOT( ISERROR(MATCH(BO3+1,Lune!$A$1:$A$1000,0)))),INT((BO3+1-DATE(YEAR(BO3+1),1,1))/7+1),"")),INDEX(Lune!$B$1:$B$1000,MATCH(BO3,Lune!$A$1:$A$1000,0),1))) | BQ3: =IF(BR3="",""," '") | BR3: =IF(ISERROR(VLOOKUP(BO3,anniversaire!$X$2:$Z$100,2,0)),"",VLOOKUP(BO3,anniversaire!$X$2:$Z$100,2,0)) | BS3: =IF(ISERROR(VLOOKUP(BO3,fête!$B$2:$C$367,2,0)),"",VLOOKUP(BO3,fête!$B$2:$C$367,2,0)) -> Alphonse | BT3: =IF(ISERROR(VLOOKUP(BO3,évènements!$A$3:$D$200,3,0)),"",VLOOKUP(BO3,évènements!$A$3:$D$200,3,0)) | BU3: =IF(ISERROR(VLOOKUP(BO3,évènements!$B$3:$D$200,2,0)),"",VLOOKUP(BO3,évènements!$B$3:$D$200,2,0)) | BV3: =CONCATENATE(BT3," ",BU3) | BW3: =BX3 -> 42979 | BX3: =DATE(IF(MONTH(1&BO$2)<MONTH(1&BX$2),YEAR(BO3),An+1),MONTH(1&BX$2),1) -> 42979 | BY3: =IF(BX3="","",IF(ISERROR(MATCH(BX3,Lune!$A$1:$A$1000,0)),IF(WEEKDAY(BX3)=5,INT((BX3-DATE(YEAR(BX3),1,1))/7+1),IF(AND(WEEKDAY(BX3)=4,NOT( ISERROR(MATCH(BX3+1,Lune!$A$1:$A$1000,0)))),INT((BX3+1-DATE(YEAR(BX3+1),1,1))/7+1),"")),INDEX(Lune!$B$1:$B$1000,MATCH(BX3,Lune!$A$1:$A$1000,0),1))) | BZ3: =IF(CA3="",""," '") | CA3: =IF(ISERROR(VLOOKUP(BX3,anniversaire!$X$2:$Z$100,2,0)),"",VLOOKUP(BX3,anniversaire!$X$2:$Z$100,2,0)) | CB3: =IF(ISERROR(VLOOKUP(BX3,fête!$B$2:$C$367,2,0)),"",VLOOKUP(BX3,fête!$B$2:$C$367,2,0)) -> Gilles | CC3: =IF(ISERROR(VLOOKUP(BX3,évènements!$A$3:$D$200,3,0)),"",VLOOKUP(BX3,évènements!$A$3:$D$200,3,0)) | CD3: =IF(ISERROR(VLOOKUP(BX3,évènements!$B$3:$D$200,2,0)),"",VLOOKUP(BX3,évènements!$B$3:$D$200,2,0)) | CE3: =CONCATENATE(CC3," ",CD3) | CF3: =CG3 -> 43009 | CG3: =DATE(IF(MONTH(1&BX$2)<MONTH(1&CG$2),YEAR(BX3),An+1),MONTH(1&CG$2),1) -> 43009 | CH3: =IF(CG3="","",IF(ISERROR(MATCH(CG3,Lune!$A$1:$A$1000,0)),IF(WEEKDAY(CG3)=5,INT((CG3-DATE(YEAR(CG3),1,1))/7+1),IF(AND(WEEKDAY(CG3)=4,NOT( ISERROR(MATCH(CG3+1,Lune!$A$1:$A$1000,0)))),INT((CG3+1-DATE(YEAR(CG3+1),1,1))/7+1),"")),INDEX(Lune!$B$1:$B$1000,MATCH(CG3,Lune!$A$1:$A$1000,0),1))) | CI3: =IF(CJ3="",""," '") | CJ3: =IF(ISERROR(VLOOKUP(CG3,anniversaire!$X$2:$Z$100,2,0)),"",VLOOKUP(CG3,anniversaire!$X$2:$Z$100,2,0)) | CK3: =IF(ISERROR(VLOOKUP(CG3,fête!$B$2:$C$367,2,0)),"",VLOOKUP(CG3,fête!$B$2:$C$367,2,0)) -> Thérèse de l'Enfant Jésus | CL3: =IF(ISERROR(VLOOKUP(CG3,évènements!$A$3:$D$200,3,0)),"",VLOOKUP(CG3,évènements!$A$3:$D$200,3,0)) | CM3: =IF(ISERROR(VLOOKUP(CG3,évènements!$B$3:$D$200,2,0)),"",VLOOKUP(CG3,évènements!$B$3:$D$200,2,0)) | CN3: =CONCATENATE(CL3," ",CM3) | CO3: =CP3 -> 43040 | CP3: =DATE(IF(MONTH(1&CG$2)<MONTH(1&CP$2),YEAR(CG3),An+1),MONTH(1&CP$2),1) -> 43040 | CQ3: =IF(CP3="","",IF(ISERROR(MATCH(CP3,Lune!$A$1:$A$1000,0)),IF(WEEKDAY(CP3)=5,INT((CP3-DATE(YEAR(CP3),1,1))/7+1),IF(AND(WEEKDAY(CP3)=4,NOT( ISERROR(MATCH(CP3+1,Lune!$A$1:$A$1000,0)))),INT((CP3+1-DATE(YEAR(CP3+1),1,1))/7+1),"")),INDEX(Lune!$B$1:$B$1000,MATCH(CP3,Lune!$A$1:$A$1000,0),1))) | CR3: =IF(CS3="",""," '") | CS3: =IF(ISERROR(VLOOKUP(CP3,anniversaire!$X$2:$Z$100,2,0)),"",VLOOKUP(CP3,anniversaire!$X$2:$Z$100,2,0)) | CT3: =IF(ISERROR(VLOOKUP(CP3,fête!$B$2:$C$367,2,0)),"",VLOOKUP(CP3,fête!$B$2:$C$367,2,0)) -> Toussaint | CU3: =IF(ISERROR(VLOOKUP(CP3,évènements!$A$3:$D$200,3,0)),"",VLOOKUP(CP3,évènements!$A$3:$D$200,3,0)) | CV3: =IF(ISERROR(VLOOKUP(CP3,évènements!$B$3:$D$200,2,0)),"",VLOOKUP(CP3,évènements!$B$3:$D$200,2,0)) | CW3: =CONCATENATE(CU3," ",CV3) | CX3: =CY3 -> 43070 | CY3: =DATE(IF(MONTH(1&CP$2)<MONTH(1&CY$2),YEAR(CP3),An+1),MONTH(1&CY$2),1) -> 43070 | CZ3: =IF(CY3="","",IF(ISERROR(MATCH(CY3,Lune!$A$1:$A$1000,0)),IF(WEEKDAY(CY3)=5,INT((CY3-DATE(YEAR(CY3),1,1))/7+1),IF(AND(WEEKDAY(CY3)=4,NOT( ISERROR(MATCH(CY3+1,Lune!$A$1:$A$1000,0)))),INT((CY3+1-DATE(YEAR(CY3+1),1,1))/7+1),"")),INDEX(Lune!$B$1:$B$1000,MATCH(CY3,Lune!$A$1:$A$1000,0),1))) | DA3: =IF(DB3="",""," '") | DB3: =IF(ISERROR(VLOOKUP(CY3,anniversaire!$X$2:$Z$100,2,0)),"",VLOOKUP(CY3,anniversaire!$X$2:$Z$100,2,0)) | DC3: =IF(ISERROR(VLOOKUP(CY3,fête!$B$2:$C$367,2,0)),"",VLOOKUP(CY3,fête!$B$2:$C$367,2,0)) -> Florence | DD3: =IF(ISERROR(VLOOKUP(CY3,évènements!$A$3:$D$200,3,0)),"",VLOOKUP(CY3,évènements!$A$3:$D$200,3,0)) | DE3: =IF(ISERROR(VLOOKUP(CY3,évènements!$B$3:$D$200,2,0)),"",VLOOKUP(CY3,évènements!$B$3:$D$200,2,0)) | DF3: =CONCATENATE(DD3," ",DE3) | DG3: =DH3 -> 43101 | DH3: =DATE(IF(MONTH(1&CY$2)<MONTH(1&DH$2),YEAR(CY3),YEAR(CY3)+1),MONTH(1&DH$2),1) -> 43101 | DI3: =IF(DH3="","",IF(ISERROR(MATCH(DH3,Lune!$A$1:$A$1000,0)),IF(WEEKDAY(DH3)=5,INT((DH3-DATE(YEAR(DH3),1,1))/7+1),IF(AND(WEEKDAY(DH3)=4,NOT( ISERROR(MATCH(DH3+1,Lune!$A$1:$A$1000,0)))),INT((DH3+1-DATE(YEAR(DH3+1),1,1))/7+1),"")),INDEX(Lune!$B$1:$B$1000,MATCH(DH3,Lune!$A$1:$A$1000,0),1))) | DJ3: =F3 | DK3: =G3 | DL3: =H3 -> Jour de l'an | DM3: =IF(ISERROR(VLOOKUP(DH3,évènements!$A$3:$D$200,3,0)),"",VLOOKUP(DH3,évènements!$A$3:$D$200,3,0)) | DN3: =IF(ISERROR(VLOOKUP(DH3,évènements!$B$3:$D$200,2,0)),"",VLOOKUP(DH3,évènements!$B$3:$D$200,2,0)) | DO3: =CONCATENATE(DM3," ",DN3)
C4: =D4 -> 42737 | D4: =D3+1 -> 42737 | E4: =IF(D4="","",IF(ISERROR(MATCH(D4,Lune!$A$1:$A$1000,0)),IF(WEEKDAY(D4)=5,INT((D4-DATE(YEAR(D4),1,1))/7+1),IF(AND(WEEKDAY(D4)=4,NOT( ISERROR(MATCH(D4+1,Lune!$A$1:$A$1000,0)))),INT((D4+1-DATE(YEAR(D4+1),1,1))/7+1),"")),INDEX(Lune!$B$1:$B$1000,MATCH(D4,Lune!$A$1:$A$1000,0),1))) | F4: =IF(G4="",""," '") -> ' | G4: =IF(ISERROR(VLOOKUP(D4,anniversaire!$X$2:$Z$100,2,0)),"",VLOOKUP(D4,anniversaire!$X$2:$Z$100,2,0)) -> boireau louane 1 | H4: =IF(ISERROR(VLOOKUP(D4,fête!$B$2:$C$367,2,0)),"",VLOOKUP(D4,fête!$B$2:$C$367,2,0)) -> Basile | I4: =IF(ISERROR(VLOOKUP(D4,évènements!$A$3:$D$200,3,0)),"",VLOOKUP(D4,évènements!$A$3:$D$200,3,0)) | J4: =IF(ISERROR(VLOOKUP(D4,évènements!$B$3:$D$200,2,0)),"",VLOOKUP(D4,évènements!$B$3:$D$200,2,0)) | K4: =CONCATENATE(I4," ",J4) | L4: =M4 -> 42768 | M4: =M3+1 -> 42768 | N4: =IF(M4="","",IF(ISERROR(MATCH(M4,Lune!$A$1:$A$1000,0)),IF(WEEKDAY(M4)=5,INT((M4-DATE(YEAR(M4),1,1))/7+1),IF(AND(WEEKDAY(M4)=4,NOT( ISERROR(MATCH(M4+1,Lune!$A$1:$A$1000,0)))),INT((M4+1-DATE(YEAR(M4+1),1,1))/7+1),"")),INDEX(Lune!$B$1:$B$1000,MATCH(M4,Lune!$A$1:$A$1000,0),1))) -> 5 | O4: =IF(P4="",""," '") | P4: =IF(ISERROR(VLOOKUP(M4,anniversaire!$X$2:$Z$100,2,0)),"",VLOOKUP(M4,anniversaire!$X$2:$Z$100,2,0)) | Q4: =IF(ISERROR(VLOOKUP(M4,fête!$B$2:$C$367,2,0)),"",VLOOKUP(M4,fête!$B$2:$C$367,2,0)) -> Présentation | R4: =IF(ISERROR(VLOOKUP(M4,évènements!$A$3:$D$200,3,0)),"",VLOOKUP(M4,évènements!$A$3:$D$200,3,0)) | S4: =IF(ISERROR(VLOOKUP(M4,évènements!$B$3:$D$200,2,0)),"",VLOOKUP(M4,évènements!$B$3:$D$200,2,0)) | T4: =CONCATENATE(R4," ",S4) | U4: =V4 -> 42796 | V4: =V3+1 -> 42796 | W4: =IF(V4="","",IF(ISERROR(MATCH(V4,Lune!$A$1:$A$1000,0)),IF(WEEKDAY(V4)=5,INT((V4-DATE(YEAR(V4),1,1))/7+1),IF(AND(WEEKDAY(V4)=4,NOT( ISERROR(MATCH(V4+1,Lune!$A$1:$A$1000,0)))),INT((V4+1-DATE(YEAR(V4+1),1,1))/7+1),"")),INDEX(Lune!$B$1:$B$1000,MATCH(V4,Lune!$A$1:$A$1000,0),1))) -> 9 | X4: =IF(Y4="",""," '") | Y4: =IF(ISERROR(VLOOKUP(V4,anniversaire!$X$2:$Z$100,2,0)),"",VLOOKUP(V4,anniversaire!$X$2:$Z$100,2,0)) | Z4: =IF(ISERROR(VLOOKUP(V4,fête!$B$2:$C$367,2,0)),"",VLOOKUP(V4,fête!$B$2:$C$367,2,0)) -> Charles le Bon | AA4: =IF(ISERROR(VLOOKUP(V4,évènements!$A$3:$D$200,3,0)),"",VLOOKUP(V4,évènements!$A$3:$D$200,3,0)) | AB4: =IF(ISERROR(VLOOKUP(V4,évènements!$B$3:$D$200,2,0)),"",VLOOKUP(V4,évènements!$B$3:$D$200,2,0)) | AC4: =CONCATENATE(AA4," ",AB4) | AD4: =AE4 -> 42827 | AE4: =AE3+1 -> 42827 | AF4: =IF(AE4="","",IF(ISERROR(MATCH(AE4,Lune!$A$1:$A$1000,0)),IF(WEEKDAY(AE4)=5,INT((AE4-DATE(YEAR(AE4),1,1))/7+1),IF(AND(WEEKDAY(AE4)=4,NOT( ISERROR(MATCH(AE4+1,Lune!$A$1:$A$1000,0)))),INT((AE4+1-DATE(YEAR(AE4+1),1,1))/7+1),"")),INDEX(Lune!$B$1:$B$1000,MATCH(AE4,Lune!$A$1:$A$1000,0),1))) | AG4: =IF(AH4="",""," '") | AH4: =IF(ISERROR(VLOOKUP(AE4,anniversaire!$X$2:$Z$100,2,0)),"",VLOOKUP(AE4,anniversaire!$X$2:$Z$100,2,0)) | AI4: =IF(ISERROR(VLOOKUP(AE4,fête!$B$2:$C$367,2,0)),"",VLOOKUP(AE4,fête!$B$2:$C$367,2,0)) -> Sandrine | AJ4: =IF(ISERROR(VLOOKUP(AE4,évènements!$A$3:$D$200,3,0)),"",VLOOKUP(AE4,évènements!$A$3:$D$200,3,0)) | AK4: =IF(ISERROR(VLOOKUP(AE4,évènements!$B$3:$D$200,2,0)),"",VLOOKUP(AE4,évènements!$B$3:$D$200,2,0)) | AL4: =CONCATENATE(AJ4," ",AK4) | AM4: =AN4 -> 42857 | AN4: =AN3+1 -> 42857 | AO4: =IF(AN4="","",IF(ISERROR(MATCH(AN4,Lune!$A$1:$A$1000,0)),IF(WEEKDAY(AN4)=5,INT((AN4-DATE(YEAR(AN4),1,1))/7+1),IF(AND(WEEKDAY(AN4)=4,NOT( ISERROR(MATCH(AN4+1,Lune!$A$1:$A$1000,0)))),INT((AN4+1-DATE(YEAR(AN4+1),1,1))/7+1),"")),INDEX(Lune!$B$1:$B$1000,MATCH(AN4,Lune!$A$1:$A$1000,0),1))) | AP4: =IF(AQ4="","","'") | AQ4: =IF(ISERROR(VLOOKUP(AN4,anniversaire!$X$2:$Z$100,2,0)),"",VLOOKUP(AN4,anniversaire!$X$2:$Z$100,2,0)) | AR4: =IF(ISERROR(VLOOKUP(AN4,fête!$B$2:$C$367,2,0)),"",VLOOKUP(AN4,fête!$B$2:$C$367,2,0)) -> Boris | AS4: =IF(ISERROR(VLOOKUP(AN4,évènements!$A$3:$D$200,3,0)),"",VLOOKUP(AN4,évènements!$A$3:$D$200,3,0)) | AT4: =IF(ISERROR(VLOOKUP(AN4,évènements!$B$3:$D$200,2,0)),"",VLOOKUP(AN4,évènements!$B$3:$D$200,2,0)) | AU4: =CONCATENATE(AS4," ",AT4) | AV4: =AW4 -> 42888 | AW4: =AW3+1 -> 42888 | AX4: =IF(AW4="","",IF(ISERROR(MATCH(AW4,Lune!$A$1:$A$1000,0)),IF(WEEKDAY(AW4)=5,INT((AW4-DATE(YEAR(AW4),1,1))/7+1),IF(AND(WEEKDAY(AW4)=4,NOT( ISERROR(MATCH(AW4+1,Lune!$A$1:$A$1000,0)))),INT((AW4+1-DATE(YEAR(AW4+1),1,1))/7+1),"")),INDEX(Lune!$B$1:$B$1000,MATCH(AW4,Lune!$A$1:$A$1000,0),1))) | AY4: =IF(AZ4="",""," '") | AZ4: =IF(ISERROR(VLOOKUP(AW4,anniversaire!$X$2:$Z$100,2,0)),"",VLOOKUP(AW4,anniversaire!$X$2:$Z$100,2,0)) | BA4: =IF(ISERROR(VLOOKUP(AW4,fête!$B$2:$C$367,2,0)),"",VLOOKUP(AW4,fête!$B$2:$C$367,2,0)) -> Blandine | BB4: =IF(ISERROR(VLOOKUP(AW4,évènements!$A$3:$D$200,3,0)),"",VLOOKUP(AW4,évènements!$A$3:$D$200,3,0)) | BC4: =IF(ISERROR(VLOOKUP(AW4,évènements!$B$3:$D$200,2,0)),"",VLOOKUP(AW4,évènements!$B$3:$D$200,2,0)) | BD4: =CONCATENATE(BB4," ",BC4) | BE4: =BF4 -> 42918 | BF4: =BF3+1 -> 42918 | BG4: =IF(BF4="","",IF(ISERROR(MATCH(BF4,Lune!$A$1:$A$1000,0)),IF(WEEKDAY(BF4)=5,INT((BF4-DATE(YEAR(BF4),1,1))/7+1),IF(AND(WEEKDAY(BF4)=4,NOT( ISERROR(MATCH(BF4+1,Lune!$A$1:$A$1000,0)))),INT((BF4+1-DATE(YEAR(BF4+1),1,1))/7+1),"")),INDEX(Lune!$B$1:$B$1000,MATCH(BF4,Lune!$A$1:$A$1000,0),1))) | BH4: =IF(BI4="",""," '") | BI4: =IF(ISERROR(VLOOKUP(BF4,anniversaire!$X$2:$Z$100,2,0)),"",VLOOKUP(BF4,anniversaire!$X$2:$Z$100,2,0)) | BJ4: =IF(ISERROR(VLOOKUP(BF4,fête!$B$2:$C$367,2,0)),"",VLOOKUP(BF4,fête!$B$2:$C$367,2,0)) -> Martinien | BK4: =IF(ISERROR(VLOOKUP(BF4,évènements!$A$3:$D$200,3,0)),"",VLOOKUP(BF4,évènements!$A$3:$D$200,3,0)) | BL4: =IF(ISERROR(VLOOKUP(BF4,évènements!$B$3:$D$200,2,0)),"",VLOOKUP(BF4,évènements!$B$3:$D$200,2,0)) | BM4: =CONCATENATE(BK4," ",BL4) | BN4: =BO4 -> 42949 | BO4: =BO3+1 -> 42949 | BP4: =IF(BO4="","",IF(ISERROR(MATCH(BO4,Lune!$A$1:$A$1000,0)),IF(WEEKDAY(BO4)=5,INT((BO4-DATE(YEAR(BO4),1,1))/7+1),IF(AND(WEEKDAY(BO4)=4,NOT( ISERROR(MATCH(BO4+1,Lune!$A$1:$A$1000,0)))),INT((BO4+1-DATE(YEAR(BO4+1),1,1))/7+1),"")),INDEX(Lune!$B$1:$B$1000,MATCH(BO4,Lune!$A$1:$A$1000,0),1))) | BQ4: =IF(BR4="",""," '") | BR4: =IF(ISERROR(VLOOKUP(BO4,anniversaire!$X$2:$Z$100,2,0)),"",VLOOKUP(BO4,anniversaire!$X$2:$Z$100,2,0)) | BS4: =IF(ISERROR(VLOOKUP(BO4,fête!$B$2:$C$367,2,0)),"",VLOOKUP(BO4,fête!$B$2:$C$367,2,0)) -> Julien Eymard | BT4: =IF(ISERROR(VLOOKUP(BO4,évènements!$A$3:$D$200,3,0)),"",VLOOKUP(BO4,évènements!$A$3:$D$200,3,0)) | BU4: =IF(ISERROR(VLOOKUP(BO4,évènements!$B$3:$D$200,2,0)),"",VLOOKUP(BO4,évènements!$B$3:$D$200,2,0)) | BV4: =CONCATENATE(BT4," ",BU4) | BW4: =BX4 -> 42980 | BX4: =BX3+1 -> 42980 | BY4: =IF(BX4="","",IF(ISERROR(MATCH(BX4,Lune!$A$1:$A$1000,0)),IF(WEEKDAY(BX4)=5,INT((BX4-DATE(YEAR(BX4),1,1))/7+1),IF(AND(WEEKDAY(BX4)=4,NOT( ISERROR(MATCH(BX4+1,Lune!$A$1:$A$1000,0)))),INT((BX4+1-DATE(YEAR(BX4+1),1,1))/7+1),"")),INDEX(Lune!$B$1:$B$1000,MATCH(BX4,Lune!$A$1:$A$1000,0),1))) | BZ4: =IF(CA4="",""," '") | CA4: =IF(ISERROR(VLOOKUP(BX4,anniversaire!$X$2:$Z$100,2,0)),"",VLOOKUP(BX4,anniversaire!$X$2:$Z$100,2,0)) | CB4: =IF(ISERROR(VLOOKUP(BX4,fête!$B$2:$C$367,2,0)),"",VLOOKUP(BX4,fête!$B$2:$C$367,2,0)) -> Ingrid | CC4: =IF(ISERROR(VLOOKUP(BX4,évènements!$A$3:$D$200,3,0)),"",VLOOKUP(BX4,évènements!$A$3:$D$200,3,0)) | CD4: =IF(ISERROR(VLOOKUP(BX4,évènements!$B$3:$D$200,2,0)),"",VLOOKUP(BX4,évènements!$B$3:$D$200,2,0)) | CE4: =CONCATENATE(CC4," ",CD4) | CF4: =CG4 -> 43010 | CG4: =CG3+1 -> 43010 | CH4: =IF(CG4="","",IF(ISERROR(MATCH(CG4,Lune!$A$1:$A$1000,0)),IF(WEEKDAY(CG4)=5,INT((CG4-DATE(YEAR(CG4),1,1))/7+1),IF(AND(WEEKDAY(CG4)=4,NOT( ISERROR(MATCH(CG4+1,Lune!$A$1:$A$1000,0)))),INT((CG4+1-DATE(YEAR(CG4+1),1,1))/7+1),"")),INDEX(Lune!$B$1:$B$1000,MATCH(CG4,Lune!$A$1:$A$1000,0),1))) | CI4: =IF(CJ4="",""," '") | CJ4: =IF(ISERROR(VLOOKUP(CG4,anniversaire!$X$2:$Z$100,2,0)),"",VLOOKUP(CG4,anniversaire!$X$2:$Z$100,2,0)) | CK4: =IF(ISERROR(VLOOKUP(CG4,fête!$B$2:$C$367,2,0)),"",VLOOKUP(CG4,fête!$B$2:$C$367,2,0)) -> Léger | CL4: =IF(ISERROR(VLOOKUP(CG4,évènements!$A$3:$D$200,3,0)),"",VLOOKUP(CG4,évènements!$A$3:$D$200,3,0)) | CM4: =IF(ISERROR(VLOOKUP(CG4,évènements!$B$3:$D$200,2,0)),"",VLOOKUP(CG4,évènements!$B$3:$D$200,2,0)) | CN4: =CONCATENATE(CL4," ",CM4) | CO4: =CP4 -> 43041 | CP4: =CP3+1 -> 43041 | CQ4: =IF(CP4="","",IF(ISERROR(MATCH(CP4,Lune!$A$1:$A$1000,0)),IF(WEEKDAY(CP4)=5,INT((CP4-DATE(YEAR(CP4),1,1))/7+1),IF(AND(WEEKDAY(CP4)=4,NOT( ISERROR(MATCH(CP4+1,Lune!$A$1:$A$1000,0)))),INT((CP4+1-DATE(YEAR(CP4+1),1,1))/7+1),"")),INDEX(Lune!$B$1:$B$1000,MATCH(CP4,Lune!$A$1:$A$1000,0),1))) -> 44 | CR4: =IF(CS4="",""," '") | CS4: =IF(ISERROR(VLOOKUP(CP4,anniversaire!$X$2:$Z$100,2,0)),"",VLOOKUP(CP4,anniversaire!$X$2:$Z$100,2,0)) | CT4: =IF(ISERROR(VLOOKUP(CP4,fête!$B$2:$C$367,2,0)),"",VLOOKUP(CP4,fête!$B$2:$C$367,2,0)) -> Défunts | CU4: =IF(ISERROR(VLOOKUP(CP4,évènements!$A$3:$D$200,3,0)),"",VLOOKUP(CP4,évènements!$A$3:$D$200,3,0)) | CV4: =IF(ISERROR(VLOOKUP(CP4,évènements!$B$3:$D$200,2,0)),"",VLOOKUP(CP4,évènements!$B$3:$D$200,2,0)) | CW4: =CONCATENATE(CU4," ",CV4) | CX4: =CY4 -> 43071 | CY4: =CY3+1 -> 43071 | CZ4: =IF(CY4="","",IF(ISERROR(MATCH(CY4,Lune!$A$1:$A$1000,0)),IF(WEEKDAY(CY4)=5,INT((CY4-DATE(YEAR(CY4),1,1))/7+1),IF(AND(WEEKDAY(CY4)=4,NOT( ISERROR(MATCH(CY4+1,Lune!$A$1:$A$1000,0)))),INT((CY4+1-DATE(YEAR(CY4+1),1,1))/7+1),"")),INDEX(Lune!$B$1:$B$1000,MATCH(CY4,Lune!$A$1:$A$1000,0),1))) | DA4: =IF(DB4="",""," '") | DB4: =IF(ISERROR(VLOOKUP(CY4,anniversaire!$X$2:$Z$100,2,0)),"",VLOOKUP(CY4,anniversaire!$X$2:$Z$100,2,0)) | DC4: =IF(ISERROR(VLOOKUP(CY4,fête!$B$2:$C$367,2,0)),"",VLOOKUP(CY4,fête!$B$2:$C$367,2,0)) -> Viviane | DD4: =IF(ISERROR(VLOOKUP(CY4,évènements!$A$3:$D$200,3,0)),"",VLOOKUP(CY4,évènements!$A$3:$D$200,3,0)) | DE4: =IF(ISERROR(VLOOKUP(CY4,évènements!$B$3:$D$200,2,0)),"",VLOOKUP(CY4,évènements!$B$3:$D$200,2,0)) | DF4: =CONCATENATE(DD4," ",DE4) | DG4: =DH4 -> 43102 | DH4: =DH3+1 -> 43102 | DI4: =IF(DH4="","",IF(ISERROR(MATCH(DH4,Lune!$A$1:$A$1000,0)),IF(WEEKDAY(DH4)=5,INT((DH4-DATE(YEAR(DH4),1,1))/7+1),IF(AND(WEEKDAY(DH4)=4,NOT( ISERROR(MATCH(DH4+1,Lune!$A$1:$A$1000,0)))),INT((DH4+1-DATE(YEAR(DH4+1),1,1))/7+1),"")),INDEX(Lune!$B$1:$B$1000,MATCH(DH4,Lune!$A$1:$A$1000,0),1))) -> ○ | DJ4: =F4 -> ' | DK4: =G4 -> boireau louane 1 | DL4: =H4 -> Basile | DM4: =IF(ISERROR(VLOOKUP(DH4,évènements!$A$3:$D$200,3,0)),"",VLOOKUP(DH4,évènements!$A$3:$D$200,3,0)) | DN4: =IF(ISERROR(VLOOKUP(DH4,évènements!$B$3:$D$200,2,0)),"",VLOOKUP(DH4,évènements!$B$3:$D$200,2,0)) | DO4: =CONCATENATE(DM4," ",DN4)
C5: =D5 -> 42738 | D5: =D4+1 -> 42738 | E5: =IF(D5="","",IF(ISERROR(MATCH(D5,Lune!$A$1:$A$1000,0)),IF(WEEKDAY(D5)=5,INT((D5-DATE(YEAR(D5),1,1))/7+1),IF(AND(WEEKDAY(D5)=4,NOT( ISERROR(MATCH(D5+1,Lune!$A$1:$A$1000,0)))),INT((D5+1-DATE(YEAR(D5+1),1,1))/7+1),"")),INDEX(Lune!$B$1:$B$1000,MATCH(D5,Lune!$A$1:$A$1000,0),1))) | F5: =IF(G5="",""," '") | G5: =IF(ISERROR(VLOOKUP(D5,anniversaire!$X$2:$Z$100,2,0)),"",VLOOKUP(D5,anniversaire!$X$2:$Z$100,2,0)) | H5: =IF(ISERROR(VLOOKUP(D5,fête!$B$2:$C$367,2,0)),"",VLOOKUP(D5,fête!$B$2:$C$367,2,0)) -> Geneviève | I5: =IF(ISERROR(VLOOKUP(D5,évènements!$A$3:$D$200,3,0)),"",VLOOKUP(D5,évènements!$A$3:$D$200,3,0)) | J5: =IF(ISERROR(VLOOKUP(D5,évènements!$B$3:$D$200,2,0)),"",VLOOKUP(D5,évènements!$B$3:$D$200,2,0)) | K5: =CONCATENATE(I5," ",J5) | L5: =M5 -> 42769 | M5: =M4+1 -> 42769 | N5: =IF(M5="","",IF(ISERROR(MATCH(M5,Lune!$A$1:$A$1000,0)),IF(WEEKDAY(M5)=5,INT((M5-DATE(YEAR(M5),1,1))/7+1),IF(AND(WEEKDAY(M5)=4,NOT( ISERROR(MATCH(M5+1,Lune!$A$1:$A$1000,0)))),INT((M5+1-DATE(YEAR(M5+1),1,1))/7+1),"")),INDEX(Lune!$B$1:$B$1000,MATCH(M5,Lune!$A$1:$A$1000,0),1))) | O5: =IF(P5="",""," '") | P5: =IF(ISERROR(VLOOKUP(M5,anniversaire!$X$2:$Z$100,2,0)),"",VLOOKUP(M5,anniversaire!$X$2:$Z$100,2,0)) | Q5: =IF(ISERROR(VLOOKUP(M5,fête!$B$2:$C$367,2,0)),"",VLOOKUP(M5,fête!$B$2:$C$367,2,0)) -> Blaise | R5: =IF(ISERROR(VLOOKUP(M5,évènements!$A$3:$D$200,3,0)),"",VLOOKUP(M5,évènements!$A$3:$D$200,3,0)) | S5: =IF(ISERROR(VLOOKUP(M5,évènements!$B$3:$D$200,2,0)),"",VLOOKUP(M5,évènements!$B$3:$D$200,2,0)) | T5: =CONCATENATE(R5," ",S5) | U5: =V5 -> 42797 | V5: =V4+1 -> 42797 | W5: =IF(V5="","",IF(ISERROR(MATCH(V5,Lune!$A$1:$A$1000,0)),IF(WEEKDAY(V5)=5,INT((V5-DATE(YEAR(V5),1,1))/7+1),IF(AND(WEEKDAY(V5)=4,NOT( ISERROR(MATCH(V5+1,Lune!$A$1:$A$1000,0)))),INT((V5+1-DATE(YEAR(V5+1),1,1))/7+1),"")),INDEX(Lune!$B$1:$B$1000,MATCH(V5,Lune!$A$1:$A$1000,0),1))) | X5: =IF(Y5="",""," '") -> ' | Y5: =IF(ISERROR(VLOOKUP(V5,anniversaire!$X$2:$Z$100,2,0)),"",VLOOKUP(V5,anniversaire!$X$2:$Z$100,2,0)) -> Taraud stéphanie 38 | Z5: =IF(ISERROR(VLOOKUP(V5,fête!$B$2:$C$367,2,0)),"",VLOOKUP(V5,fête!$B$2:$C$367,2,0)) -> Guénolé | AA5: =IF(ISERROR(VLOOKUP(V5,évènements!$A$3:$D$200,3,0)),"",VLOOKUP(V5,évènements!$A$3:$D$200,3,0)) | AB5: =IF(ISERROR(VLOOKUP(V5,évènements!$B$3:$D$200,2,0)),"",VLOOKUP(V5,évènements!$B$3:$D$200,2,0)) | AC5: =CONCATENATE(AA5," ",AB5) | AD5: =AE5 -> 42828 | AE5: =AE4+1 -> 42828 | AF5: =IF(AE5="","",IF(ISERROR(MATCH(AE5,Lune!$A$1:$A$1000,0)),IF(WEEKDAY(AE5)=5,INT((AE5-DATE(YEAR(AE5),1,1))/7+1),IF(AND(WEEKDAY(AE5)=4,NOT( ISERROR(MATCH(AE5+1,Lune!$A$1:$A$1000,0)))),INT((AE5+1-DATE(YEAR(AE5+1),1,1))/7+1),"")),INDEX(Lune!$B$1:$B$1000,MATCH(AE5,Lune!$A$1:$A$1000,0),1))) -> ◐ | AG5: =IF(AH5="",""," '") | AH5: =IF(ISERROR(VLOOKUP(AE5,anniversaire!$X$2:$Z$100,2,0)),"",VLOOKUP(AE5,anniversaire!$X$2:$Z$100,2,0)) | AI5: =IF(ISERROR(VLOOKUP(AE5,fête!$B$2:$C$367,2,0)),"",VLOOKUP(AE5,fête!$B$2:$C$367,2,0)) -> Richard | AJ5: =IF(ISERROR(VLOOKUP(AE5,évènements!$A$3:$D$200,3,0)),"",VLOOKUP(AE5,évènements!$A$3:$D$200,3,0)) | AK5: =IF(ISERROR(VLOOKUP(AE5,évènements!$B$3:$D$200,2,0)),"",VLOOKUP(AE5,évènements!$B$3:$D$200,2,0)) | AL5: =CONCATENATE(AJ5," ",AK5) | AM5: =AN5 -> 42858 | AN5: =AN4+1 -> 42858 | AO5: =IF(AN5="","",IF(ISERROR(MATCH(AN5,Lune!$A$1:$A$1000,0)),IF(WEEKDAY(AN5)=5,INT((AN5-DATE(YEAR(AN5),1,1))/7+1),IF(AND(WEEKDAY(AN5)=4,NOT( ISERROR(MATCH(AN5+1,Lune!$A$1:$A$1000,0)))),INT((AN5+1-DATE(YEAR(AN5+1),1,1))/7+1),"")),INDEX(Lune!$B$1:$B$1000,MATCH(AN5,Lune!$A$1:$A$1000,0),1))) -> ◐ | AP5: =IF(AQ5="","","'") | AQ5: =IF(ISERROR(VLOOKUP(AN5,anniversaire!$X$2:$Z$100,2,0)),"",VLOOKUP(AN5,anniversaire!$X$2:$Z$100,2,0)) | AR5: =IF(ISERROR(VLOOKUP(AN5,fête!$B$2:$C$367,2,0)),"",VLOOKUP(AN5,fête!$B$2:$C$367,2,0)) -> Philippe, Jacques | AS5: =IF(ISERROR(VLOOKUP(AN5,évènements!$A$3:$D$200,3,0)),"",VLOOKUP(AN5,évènements!$A$3:$D$200,3,0)) | AT5: =IF(ISERROR(VLOOKUP(AN5,évènements!$B$3:$D$200,2,0)),"",VLOOKUP(AN5,évènements!$B$3:$D$200,2,0)) | AU5: =CONCATENATE(AS5," ",AT5) | AV5: =AW5 -> 42889 | AW5: =AW4+1 -> 42889 | AX5: =IF(AW5="","",IF(ISERROR(MATCH(AW5,Lune!$A$1:$A$1000,0)),IF(WEEKDAY(AW5)=5,INT((AW5-DATE(YEAR(AW5),1,1))/7+1),IF(AND(WEEKDAY(AW5)=4,NOT( ISERROR(MATCH(AW5+1,Lune!$A$1:$A$1000,0)))),INT((AW5+1-DATE(YEAR(AW5+1),1,1))/7+1),"")),INDEX(Lune!$B$1:$B$1000,MATCH(AW5,Lune!$A$1:$A$1000,0),1))) | AY5: =IF(AZ5="",""," '") | AZ5: =IF(ISERROR(VLOOKUP(AW5,anniversaire!$X$2:$Z$100,2,0)),"",VLOOKUP(AW5,anniversaire!$X$2:$Z$100,2,0)) | BA5: =IF(ISERROR(VLOOKUP(AW5,fête!$B$2:$C$367,2,0)),"",VLOOKUP(AW5,fête!$B$2:$C$367,2,0)) -> Kévin | BB5: =IF(ISERROR(VLOOKUP(AW5,évènements!$A$3:$D$200,3,0)),"",VLOOKUP(AW5,évènements!$A$3:$D$200,3,0)) | BC5: =IF(ISERROR(VLOOKUP(AW5,évènements!$B$3:$D$200,2,0)),"",VLOOKUP(AW5,évènements!$B$3:$D$200,2,0)) | BD5: =CONCATENATE(BB5," ",BC5) | BE5: =BF5 -> 42919 | BF5: =BF4+1 -> 42919 | BG5: =IF(BF5="","",IF(ISERROR(MATCH(BF5,Lune!$A$1:$A$1000,0)),IF(WEEKDAY(BF5)=5,INT((BF5-DATE(YEAR(BF5),1,1))/7+1),IF(AND(WEEKDAY(BF5)=4,NOT( ISERROR(MATCH(BF5+1,Lune!$A$1:$A$1000,0)))),INT((BF5+1-DATE(YEAR(BF5+1),1,1))/7+1),"")),INDEX(Lune!$B$1:$B$1000,MATCH(BF5,Lune!$A$1:$A$1000,0),1))) | BH5: =IF(BI5="",""," '") | BI5: =IF(ISERROR(VLOOKUP(BF5,anniversaire!$X$2:$Z$100,2,0)),"",VLOOKUP(BF5,anniversaire!$X$2:$Z$100,2,0)) | BJ5: =IF(ISERROR(VLOOKUP(BF5,fête!$B$2:$C$367,2,0)),"",VLOOKUP(BF5,fête!$B$2:$C$367,2,0)) -> Thomas | BK5: =IF(ISERROR(VLOOKUP(BF5,évènements!$A$3:$D$200,3,0)),"",VLOOKUP(BF5,évènements!$A$3:$D$200,3,0)) | BL5: =IF(ISERROR(VLOOKUP(BF5,évènements!$B$3:$D$200,2,0)),"",VLOOKUP(BF5,évènements!$B$3:$D$200,2,0)) | BM5: =CONCATENATE(BK5," ",BL5) | BN5: =BO5 -> 42950 | BO5: =BO4+1 -> 42950 | BP5: =IF(BO5="","",IF(ISERROR(MATCH(BO5,Lune!$A$1:$A$1000,0)),IF(WEEKDAY(BO5)=5,INT((BO5-DATE(YEAR(BO5),1,1))/7+1),IF(AND(WEEKDAY(BO5)=4,NOT( ISERROR(MATCH(BO5+1,Lune!$A$1:$A$1000,0)))),INT((BO5+1-DATE(YEAR(BO5+1),1,1))/7+1),"")),INDEX(Lune!$B$1:$B$1000,MATCH(BO5,Lune!$A$1:$A$1000,0),1))) -> 31 | BQ5: =IF(BR5="",""," '") | BR5: =IF(ISERROR(VLOOKUP(BO5,anniversaire!$X$2:$Z$100,2,0)),"",VLOOKUP(BO5,anniversaire!$X$2:$Z$100,2,0)) | BS5: =IF(ISERROR(VLOOKUP(BO5,fête!$B$2:$C$367,2,0)),"",VLOOKUP(BO5,fête!$B$2:$C$367,2,0)) -> Lydie | BT5: =IF(ISERROR(VLOOKUP(BO5,évènements!$A$3:$D$200,3,0)),"",VLOOKUP(BO5,évènements!$A$3:$D$200,3,0)) | BU5: =IF(ISERROR(VLOOKUP(BO5,évènements!$B$3:$D$200,2,0)),"",VLOOKUP(BO5,évènements!$B$3:$D$200,2,0)) | BV5: =CONCATENATE(BT5," ",BU5) | BW5: =BX5 -> 42981 | BX5: =BX4+1 -> 42981 | BY5: =IF(BX5="","",IF(ISERROR(MATCH(BX5,Lune!$A$1:$A$1000,0)),IF(WEEKDAY(BX5)=5,INT((BX5-DATE(YEAR(BX5),1,1))/7+1),IF(AND(WEEKDAY(BX5)=4,NOT( ISERROR(MATCH(BX5+1,Lune!$A$1:$A$1000,0)))),INT((BX5+1-DATE(YEAR(BX5+1),1,1))/7+1),"")),INDEX(Lune!$B$1:$B$1000,MATCH(BX5,Lune!$A$1:$A$1000,0),1))) | BZ5: =IF(CA5="",""," '") | CA5: =IF(ISERROR(VLOOKUP(BX5,anniversaire!$X$2:$Z$100,2,0)),"",VLOOKUP(BX5,anniversaire!$X$2:$Z$100,2,0)) | CB5: =IF(ISERROR(VLOOKUP(BX5,fête!$B$2:$C$367,2,0)),"",VLOOKUP(BX5,fête!$B$2:$C$367,2,0)) -> Grégoire | CC5: =IF(ISERROR(VLOOKUP(BX5,évènements!$A$3:$D$200,3,0)),"",VLOOKUP(BX5,évènements!$A$3:$D$200,3,0)) | CD5: =IF(ISERROR(VLOOKUP(BX5,évènements!$B$3:$D$200,2,0)),"",VLOOKUP(BX5,évènements!$B$3:$D$200,2,0)) | CE5: =CONCATENATE(CC5," ",CD5) | CF5: =CG5 -> 43011 | CG5: =CG4+1 -> 43011 | CH5: =IF(CG5="","",IF(ISERROR(MATCH(CG5,Lune!$A$1:$A$1000,0)),IF(WEEKDAY(CG5)=5,INT((CG5-DATE(YEAR(CG5),1,1))/7+1),IF(AND(WEEKDAY(CG5)=4,NOT( ISERROR(MATCH(CG5+1,Lune!$A$1:$A$1000,0)))),INT((CG5+1-DATE(YEAR(CG5+1),1,1))/7+1),"")),INDEX(Lune!$B$1:$B$1000,MATCH(CG5,Lune!$A$1:$A$1000,0),1))) | CI5: =IF(CJ5="",""," '") | CJ5: =IF(ISERROR(VLOOKUP(CG5,anniversaire!$X$2:$Z$100,2,0)),"",VLOOKUP(CG5,anniversaire!$X$2:$Z$100,2,0)) | CK5: =IF(ISERROR(VLOOKUP(CG5,fête!$B$2:$C$367,2,0)),"",VLOOKUP(CG5,fête!$B$2:$C$367,2,0)) -> Gérard | CL5: =IF(ISERROR(VLOOKUP(CG5,évènements!$A$3:$D$200,3,0)),"",VLOOKUP(CG5,évènements!$A$3:$D$200,3,0)) | CM5: =IF(ISERROR(VLOOKUP(CG5,évènements!$B$3:$D$200,2,0)),"",VLOOKUP(CG5,évènements!$B$3:$D$200,2,0)) | CN5: =CONCATENATE(CL5," ",CM5) | CO5: =CP5 -> 43042 | CP5: =CP4+1 -> 43042 | CQ5: =IF(CP5="","",IF(ISERROR(MATCH(CP5,Lune!$A$1:$A$1000,0)),IF(WEEKDAY(CP5)=5,INT((CP5-DATE(YEAR(CP5),1,1))/7+1),IF(AND(WEEKDAY(CP5)=4,NOT( ISERROR(MATCH(CP5+1,Lune!$A$1:$A$1000,0)))),INT((CP5+1-DATE(YEAR(CP5+1),1,1))/7+1),"")),INDEX(Lune!$B$1:$B$1000,MATCH(CP5,Lune!$A$1:$A$1000,0),1))) | CR5: =IF(CS5="",""," '") -> ' | CS5: =IF(ISERROR(VLOOKUP(CP5,anniversaire!$X$2:$Z$100,2,0)),"",VLOOKUP(CP5,anniversaire!$X$2:$Z$100,2,0)) -> Taraud audrey 36 | CT5: =IF(ISERROR(VLOOKUP(CP5,fête!$B$2:$C$367,2,0)),"",VLOOKUP(CP5,fête!$B$2:$C$367,2,0)) -> Hubert | CU5: =IF(ISERROR(VLOOKUP(CP5,évènements!$A$3:$D$200,3,0)),"",VLOOKUP(CP5,évènements!$A$3:$D$200,3,0)) | CV5: =IF(ISERROR(VLOOKUP(CP5,évènements!$B$3:$D$200,2,0)),"",VLOOKUP(CP5,évènements!$B$3:$D$200,2,0)) | CW5: =CONCATENATE(CU5," ",CV5) | CX5: =CY5 -> 43072 | CY5: =CY4+1 -> 43072 | CZ5: =IF(CY5="","",IF(ISERROR(MATCH(CY5,Lune!$A$1:$A$1000,0)),IF(WEEKDAY(CY5)=5,INT((CY5-DATE(YEAR(CY5),1,1))/7+1),IF(AND(WEEKDAY(CY5)=4,NOT( ISERROR(MATCH(CY5+1,Lune!$A$1:$A$1000,0)))),INT((CY5+1-DATE(YEAR(CY5+1),1,1))/7+1),"")),INDEX(Lune!$B$1:$B$1000,MATCH(CY5,Lune!$A$1:$A$1000,0),1))) -> ○ | DA5: =IF(DB5="",""," '") | DB5: =IF(ISERROR(VLOOKUP(CY5,anniversaire!$X$2:$Z$100,2,0)),"",VLOOKUP(CY5,anniversaire!$X$2:$Z$100,2,0)) | DC5: =IF(ISERROR(VLOOKUP(CY5,fête!$B$2:$C$367,2,0)),"",VLOOKUP(CY5,fête!$B$2:$C$367,2,0)) -> François-Xavier | DD5: =IF(ISERROR(VLOOKUP(CY5,évènements!$A$3:$D$200,3,0)),"",VLOOKUP(CY5,évènements!$A$3:$D$200,3,0)) | DE5: =IF(ISERROR(VLOOKUP(CY5,évènements!$B$3:$D$200,2,0)),"",VLOOKUP(CY5,évènements!$B$3:$D$200,2,0)) | DF5: =CONCATENATE(DD5," ",DE5) | DG5: =DH5 -> 43103 | DH5: =DH4+1 -> 43103 | DI5: =IF(DH5="","",IF(ISERROR(MATCH(DH5,Lune!$A$1:$A$1000,0)),IF(WEEKDAY(DH5)=5,INT((DH5-DATE(YEAR(DH5),1,1))/7+1),IF(AND(WEEKDAY(DH5)=4,NOT( ISERROR(MATCH(DH5+1,Lune!$A$1:$A$1000,0)))),INT((DH5+1-DATE(YEAR(DH5+1),1,1))/7+1),"")),INDEX(Lune!$B$1:$B$1000,MATCH(DH5,Lune!$A$1:$A$1000,0),1))) | DJ5: =F5 | DK5: =G5 | DL5: =H5 -> Geneviève | DM5: =IF(ISERROR(VLOOKUP(DH5,évènements!$A$3:$D$200,3,0)),"",VLOOKUP(DH5,évènements!$A$3:$D$200,3,0)) | DN5: =IF(ISERROR(VLOOKUP(DH5,évènements!$B$3:$D$200,2,0)),"",VLOOKUP(DH5,évènements!$B$3:$D$200,2,0)) | DO5: =CONCATENATE(DM5," ",DN5)
C6: =D6 -> 42739 | D6: =D5+1 -> 42739 | E6: =IF(D6="","",IF(ISERROR(MATCH(D6,Lune!$A$1:$A$1000,0)),IF(WEEKDAY(D6)=5,INT((D6-DATE(YEAR(D6),1,1))/7+1),IF(AND(WEEKDAY(D6)=4,NOT( ISERROR(MATCH(D6+1,Lune!$A$1:$A$1000,0)))),INT((D6+1-DATE(YEAR(D6+1),1,1))/7+1),"")),INDEX(Lune!$B$1:$B$1000,MATCH(D6,Lune!$A$1:$A$1000,0),1))) -> 1 | F6: =IF(G6="",""," '") | G6: =IF(ISERROR(VLOOKUP(D6,anniversaire!$X$2:$Z$100,2,0)),"",VLOOKUP(D6,anniversaire!$X$2:$Z$100,2,0)) | H6: =IF(ISERROR(VLOOKUP(D6,fête!$B$2:$C$367,2,0)),"",VLOOKUP(D6,fête!$B$2:$C$367,2,0)) -> Odilon | I6: =IF(ISERROR(VLOOKUP(D6,évènements!$A$3:$D$200,3,0)),"",VLOOKUP(D6,évènements!$A$3:$D$200,3,0)) | J6: =IF(ISERROR(VLOOKUP(D6,évènements!$B$3:$D$200,2,0)),"",VLOOKUP(D6,évènements!$B$3:$D$200,2,0)) | K6: =CONCATENATE(I6," ",J6) | L6: =M6 -> 42770 | M6: =M5+1 -> 42770 | N6: =IF(M6="","",IF(ISERROR(MATCH(M6,Lune!$A$1:$A$1000,0)),IF(WEEKDAY(M6)=5,INT((M6-DATE(YEAR(M6),1,1))/7+1),IF(AND(WEEKDAY(M6)=4,NOT( ISERROR(MATCH(M6+1,Lune!$A$1:$A$1000,0)))),INT((M6+1-DATE(YEAR(M6+1),1,1))/7+1),"")),INDEX(Lune!$B$1:$B$1000,MATCH(M6,Lune!$A$1:$A$1000,0),1))) -> ◐ | O6: =IF(P6="",""," '") | P6: =IF(ISERROR(VLOOKUP(M6,anniversaire!$X$2:$Z$100,2,0)),"",VLOOKUP(M6,anniversaire!$X$2:$Z$100,2,0)) | Q6: =IF(ISERROR(VLOOKUP(M6,fête!$B$2:$C$367,2,0)),"",VLOOKUP(M6,fête!$B$2:$C$367,2,0)) -> Véronique | R6: =IF(ISERROR(VLOOKUP(M6,évènements!$A$3:$D$200,3,0)),"",VLOOKUP(M6,évènements!$A$3:$D$200,3,0)) | S6: =IF(ISERROR(VLOOKUP(M6,évènements!$B$3:$D$200,2,0)),"",VLOOKUP(M6,évènements!$B$3:$D$200,2,0)) | T6: =CONCATENATE(R6," ",S6) | U6: =V6 -> 42798 | V6: =V5+1 -> 42798 | W6: =IF(V6="","",IF(ISERROR(MATCH(V6,Lune!$A$1:$A$1000,0)),IF(WEEKDAY(V6)=5,INT((V6-DATE(YEAR(V6),1,1))/7+1),IF(AND(WEEKDAY(V6)=4,NOT( ISERROR(MATCH(V6+1,Lune!$A$1:$A$1000,0)))),INT((V6+1-DATE(YEAR(V6+1),1,1))/7+1),"")),INDEX(Lune!$B$1:$B$1000,MATCH(V6,Lune!$A$1:$A$1000,0),1))) | X6: =IF(Y6="",""," '") -> ' | Y6: =IF(ISERROR(VLOOKUP(V6,anniversaire!$X$2:$Z$100,2,0)),"",VLOOKUP(V6,anniversaire!$X$2:$Z$100,2,0)) -> boireau andrée 82 | Z6: =IF(ISERROR(VLOOKUP(V6,fête!$B$2:$C$367,2,0)),"",VLOOKUP(V6,fête!$B$2:$C$367,2,0)) -> Casimir | AA6: =IF(ISERROR(VLOOKUP(V6,évènements!$A$3:$D$200,3,0)),"",VLOOKUP(V6,évènements!$A$3:$D$200,3,0)) | AB6: =IF(ISERROR(VLOOKUP(V6,évènements!$B$3:$D$200,2,0)),"",VLOOKUP(V6,évènements!$B$3:$D$200,2,0)) | AC6: =CONCATENATE(AA6," ",AB6) | AD6: =AE6 -> 42829 | AE6: =AE5+1 -> 42829 | AF6: =IF(AE6="","",IF(ISERROR(MATCH(AE6,Lune!$A$1:$A$1000,0)),IF(WEEKDAY(AE6)=5,INT((AE6-DATE(YEAR(AE6),1,1))/7+1),IF(AND(WEEKDAY(AE6)=4,NOT( ISERROR(MATCH(AE6+1,Lune!$A$1:$A$1000,0)))),INT((AE6+1-DATE(YEAR(AE6+1),1,1))/7+1),"")),INDEX(Lune!$B$1:$B$1000,MATCH(AE6,Lune!$A$1:$A$1000,0),1))) | AG6: =IF(AH6="",""," '") | AH6: =IF(ISERROR(VLOOKUP(AE6,anniversaire!$X$2:$Z$100,2,0)),"",VLOOKUP(AE6,anniversaire!$X$2:$Z$100,2,0)) | AI6: =IF(ISERROR(VLOOKUP(AE6,fête!$B$2:$C$367,2,0)),"",VLOOKUP(AE6,fête!$B$2:$C$367,2,0)) -> Isidore | AJ6: =IF(ISERROR(VLOOKUP(AE6,évènements!$A$3:$D$200,3,0)),"",VLOOKUP(AE6,évènements!$A$3:$D$200,3,0)) | AK6: =IF(ISERROR(VLOOKUP(AE6,évènements!$B$3:$D$200,2,0)),"",VLOOKUP(AE6,évènements!$B$3:$D$200,2,0)) | AL6: =CONCATENATE(AJ6," ",AK6) | AM6: =AN6 -> 42859 | AN6: =AN5+1 -> 42859 | AO6: =IF(AN6="","",IF(ISERROR(MATCH(AN6,Lune!$A$1:$A$1000,0)),IF(WEEKDAY(AN6)=5,INT((AN6-DATE(YEAR(AN6),1,1))/7+1),IF(AND(WEEKDAY(AN6)=4,NOT( ISERROR(MATCH(AN6+1,Lune!$A$1:$A$1000,0)))),INT((AN6+1-DATE(YEAR(AN6+1),1,1))/7+1),"")),INDEX(Lune!$B$1:$B$1000,MATCH(AN6,Lune!$A$1:$A$1000,0),1))) -> 18 | AP6: =IF(AQ6="","","'") | AQ6: =IF(ISERROR(VLOOKUP(AN6,anniversaire!$X$2:$Z$100,2,0)),"",VLOOKUP(AN6,anniversaire!$X$2:$Z$100,2,0)) | AR6: =IF(ISERROR(VLOOKUP(AN6,fête!$B$2:$C$367,2,0)),"",VLOOKUP(AN6,fête!$B$2:$C$367,2,0)) -> Sylvain | AS6: =IF(ISERROR(VLOOKUP(AN6,évènements!$A$3:$D$200,3,0)),"",VLOOKUP(AN6,évènements!$A$3:$D$200,3,0)) | AT6: =IF(ISERROR(VLOOKUP(AN6,évènements!$B$3:$D$200,2,0)),"",VLOOKUP(AN6,évènements!$B$3:$D$200,2,0)) | AU6: =CONCATENATE(AS6," ",AT6) | AV6: =AW6 -> 42890 | AW6: =AW5+1 -> 42890 | AX6: =IF(AW6="","",IF(ISERROR(MATCH(AW6,Lune!$A$1:$A$1000,0)),IF(WEEKDAY(AW6)=5,INT((AW6-DATE(YEAR(AW6),1,1))/7+1),IF(AND(WEEKDAY(AW6)=4,NOT( ISERROR(MATCH(AW6+1,Lune!$A$1:$A$1000,0)))),INT((AW6+1-DATE(YEAR(AW6+1),1,1))/7+1),"")),INDEX(Lune!$B$1:$B$1000,MATCH(AW6,Lune!$A$1:$A$1000,0),1))) | AY6: =IF(AZ6="",""," '") | AZ6: =IF(ISERROR(VLOOKUP(AW6,anniversaire!$X$2:$Z$100,2,0)),"",VLOOKUP(AW6,anniversaire!$X$2:$Z$100,2,0)) | BA6: =IF(ISERROR(VLOOKUP(AW6,fête!$B$2:$C$367,2,0)),"",VLOOKUP(AW6,fête!$B$2:$C$367,2,0)) -> Clotilde | BB6: =IF(ISERROR(VLOOKUP(AW6,évènements!$A$3:$D$200,3,0)),"",VLOOKUP(AW6,évènements!$A$3:$D$200,3,0)) | BC6: =IF(ISERROR(VLOOKUP(AW6,évènements!$B$3:$D$200,2,0)),"",VLOOKUP(AW6,évènements!$B$3:$D$200,2,0)) | BD6: =CONCATENATE(BB6," ",BC6) | BE6: =BF6 -> 42920 | BF6: =BF5+1 -> 42920 | BG6: =IF(BF6="","",IF(ISERROR(MATCH(BF6,Lune!$A$1:$A$1000,0)),IF(WEEKDAY(BF6)=5,INT((BF6-DATE(YEAR(BF6),1,1))/7+1),IF(AND(WEEKDAY(BF6)=4,NOT( ISERROR(MATCH(BF6+1,Lune!$A$1:$A$1000,0)))),INT((BF6+1-DATE(YEAR(BF6+1),1,1))/7+1),"")),INDEX(Lune!$B$1:$B$1000,MATCH(BF6,Lune!$A$1:$A$1000,0),1))) | BH6: =IF(BI6="",""," '") | BI6: =IF(ISERROR(VLOOKUP(BF6,anniversaire!$X$2:$Z$100,2,0)),"",VLOOKUP(BF6,anniversaire!$X$2:$Z$100,2,0)) | BJ6: =IF(ISERROR(VLOOKUP(BF6,fête!$B$2:$C$367,2,0)),"",VLOOKUP(BF6,fête!$B$2:$C$367,2,0)) -> Florent | BK6: =IF(ISERROR(VLOOKUP(BF6,évènements!$A$3:$D$200,3,0)),"",VLOOKUP(BF6,évènements!$A$3:$D$200,3,0)) | BL6: =IF(ISERROR(VLOOKUP(BF6,évènements!$B$3:$D$200,2,0)),"",VLOOKUP(BF6,évènements!$B$3:$D$200,2,0)) | BM6: =CONCATENATE(BK6," ",BL6) | BN6: =BO6 -> 42951 | BO6: =BO5+1 -> 42951 | BP6: =IF(BO6="","",IF(ISERROR(MATCH(BO6,Lune!$A$1:$A$1000,0)),IF(WEEKDAY(BO6)=5,INT((BO6-DATE(YEAR(BO6),1,1))/7+1),IF(AND(WEEKDAY(BO6)=4,NOT( ISERROR(MATCH(BO6+1,Lune!$A$1:$A$1000,0)))),INT((BO6+1-DATE(YEAR(BO6+1),1,1))/7+1),"")),INDEX(Lune!$B$1:$B$1000,MATCH(BO6,Lune!$A$1:$A$1000,0),1))) | BQ6: =IF(BR6="",""," '") | BR6: =IF(ISERROR(VLOOKUP(BO6,anniversaire!$X$2:$Z$100,2,0)),"",VLOOKUP(BO6,anniversaire!$X$2:$Z$100,2,0)) | BS6: =IF(ISERROR(VLOOKUP(BO6,fête!$B$2:$C$367,2,0)),"",VLOOKUP(BO6,fête!$B$2:$C$367,2,0)) -> Jean-Marie Vianney | BT6: =IF(ISERROR(VLOOKUP(BO6,évènements!$A$3:$D$200,3,0)),"",VLOOKUP(BO6,évènements!$A$3:$D$200,3,0)) | BU6: =IF(ISERROR(VLOOKUP(BO6,évènements!$B$3:$D$200,2,0)),"",VLOOKUP(BO6,évènements!$B$3:$D$200,2,0)) | BV6: =CONCATENATE(BT6," ",BU6) | BW6: =BX6 -> 42982 | BX6: =BX5+1 -> 42982 | BY6: =IF(BX6="","",IF(ISERROR(MATCH(BX6,Lune!$A$1:$A$1000,0)),IF(WEEKDAY(BX6)=5,INT((BX6-DATE(YEAR(BX6),1,1))/7+1),IF(AND(WEEKDAY(BX6)=4,NOT( ISERROR(MATCH(BX6+1,Lune!$A$1:$A$1000,0)))),INT((BX6+1-DATE(YEAR(BX6+1),1,1))/7+1),"")),INDEX(Lune!$B$1:$B$1000,MATCH(BX6,Lune!$A$1:$A$1000,0),1))) | BZ6: =IF(CA6="",""," '") | CA6: =IF(ISERROR(VLOOKUP(BX6,anniversaire!$X$2:$Z$100,2,0)),"",VLOOKUP(BX6,anniversaire!$X$2:$Z$100,2,0)) | CB6: =IF(ISERROR(VLOOKUP(BX6,fête!$B$2:$C$367,2,0)),"",VLOOKUP(BX6,fête!$B$2:$C$367,2,0)) -> Rosalie | CC6: =IF(ISERROR(VLOOKUP(BX6,évènements!$A$3:$D$200,3,0)),"",VLOOKUP(BX6,évènements!$A$3:$D$200,3,0)) | CD6: =IF(ISERROR(VLOOKUP(BX6,évènements!$B$3:$D$200,2,0)),"",VLOOKUP(BX6,évènements!$B$3:$D$200,2,0)) | CE6: =CONCATENATE(CC6," ",CD6) | CF6: =CG6 -> 43012 | CG6: =CG5+1 -> 43012 | CH6: =IF(CG6="","",IF(ISERROR(MATCH(CG6,Lune!$A$1:$A$1000,0)),IF(WEEKDAY(CG6)=5,INT((CG6-DATE(YEAR(CG6),1,1))/7+1),IF(AND(WEEKDAY(CG6)=4,NOT( ISERROR(MATCH(CG6+1,Lune!$A$1:$A$1000,0)))),INT((CG6+1-DATE(YEAR(CG6+1),1,1))/7+1),"")),INDEX(Lune!$B$1:$B$1000,MATCH(CG6,Lune!$A$1:$A$1000,0),1))) -> 40 | CI6: =IF(CJ6="",""," '") | CJ6: =IF(ISERROR(VLOOKUP(CG6,anniversaire!$X$2:$Z$100,2,0)),"",VLOOKUP(CG6,anniversaire!$X$2:$Z$100,2,0)) | CK6: =IF(ISERROR(VLOOKUP(CG6,fête!$B$2:$C$367,2,0)),"",VLOOKUP(CG6,fête!$B$2:$C$367,2,0)) -> François d'Assise | CL6: =IF(ISERROR(VLOOKUP(CG6,évènements!$A$3:$D$200,3,0)),"",VLOOKUP(CG6,évènements!$A$3:$D$200,3,0)) | CM6: =IF(ISERROR(VLOOKUP(CG6,évènements!$B$3:$D$200,2,0)),"",VLOOKUP(CG6,évènements!$B$3:$D$200,2,0)) | CN6: =CONCATENATE(CL6," ",CM6) | CO6: =CP6 -> 43043 | CP6: =CP5+1 -> 43043 | CQ6: =IF(CP6="","",IF(ISERROR(MATCH(CP6,Lune!$A$1:$A$1000,0)),IF(WEEKDAY(CP6)=5,INT((CP6-DATE(YEAR(CP6),1,1))/7+1),IF(AND(WEEKDAY(CP6)=4,NOT( ISERROR(MATCH(CP6+1,Lune!$A$1:$A$1000,0)))),INT((CP6+1-DATE(YEAR(CP6+1),1,1))/7+1),"")),INDEX(Lune!$B$1:$B$1000,MATCH(CP6,Lune!$A$1:$A$1000,0),1))) -> ○ | CR6: =IF(CS6="",""," '") | CS6: =IF(ISERROR(VLOOKUP(CP6,anniversaire!$X$2:$Z$100,2,0)),"",VLOOKUP(CP6,anniversaire!$X$2:$Z$100,2,0)) | CT6: =IF(ISERROR(VLOOKUP(CP6,fête!$B$2:$C$367,2,0)),"",VLOOKUP(CP6,fête!$B$2:$C$367,2,0)) -> Charles | CU6: =IF(ISERROR(VLOOKUP(CP6,évènements!$A$3:$D$200,3,0)),"",VLOOKUP(CP6,évènements!$A$3:$D$200,3,0)) | CV6: =IF(ISERROR(VLOOKUP(CP6,évènements!$B$3:$D$200,2,0)),"",VLOOKUP(CP6,évènements!$B$3:$D$200,2,0)) | CW6: =CONCATENATE(CU6," ",CV6) | CX6: =CY6 -> 43073 | CY6: =CY5+1 -> 43073 | CZ6: =IF(CY6="","",IF(ISERROR(MATCH(CY6,Lune!$A$1:$A$1000,0)),IF(WEEKDAY(CY6)=5,INT((CY6-DATE(YEAR(CY6),1,1))/7+1),IF(AND(WEEKDAY(CY6)=4,NOT( ISERROR(MATCH(CY6+1,Lune!$A$1:$A$1000,0)))),INT((CY6+1-DATE(YEAR(CY6+1),1,1))/7+1),"")),INDEX(Lune!$B$1:$B$1000,MATCH(CY6,Lune!$A$1:$A$1000,0),1))) | DA6: =IF(DB6="",""," '") | DB6: =IF(ISERROR(VLOOKUP(CY6,anniversaire!$X$2:$Z$100,2,0)),"",VLOOKUP(CY6,anniversaire!$X$2:$Z$100,2,0)) | DC6: =IF(ISERROR(VLOOKUP(CY6,fête!$B$2:$C$367,2,0)),"",VLOOKUP(CY6,fête!$B$2:$C$367,2,0)) -> Barbara | DD6: =IF(ISERROR(VLOOKUP(CY6,évènements!$A$3:$D$200,3,0)),"",VLOOKUP(CY6,évènements!$A$3:$D$200,3,0)) | DE6: =IF(ISERROR(VLOOKUP(CY6,évènements!$B$3:$D$200,2,0)),"",VLOOKUP(CY6,évènements!$B$3:$D$200,2,0)) | DF6: =CONCATENATE(DD6," ",DE6) | DG6: =DH6 -> 43104 | DH6: =DH5+1 -> 43104 | DI6: =IF(DH6="","",IF(ISERROR(MATCH(DH6,Lune!$A$1:$A$1000,0)),IF(WEEKDAY(DH6)=5,INT((DH6-DATE(YEAR(DH6),1,1))/7+1),IF(AND(WEEKDAY(DH6)=4,NOT( ISERROR(MATCH(DH6+1,Lune!$A$1:$A$1000,0)))),INT((DH6+1-DATE(YEAR(DH6+1),1,1))/7+1),"")),INDEX(Lune!$B$1:$B$1000,MATCH(DH6,Lune!$A$1:$A$1000,0),1))) -> 1 | DJ6: =F6 | DK6: =G6 | DL6: =H6 -> Odilon | DM6: =IF(ISERROR(VLOOKUP(DH6,évènements!$A$3:$D$200,3,0)),"",VLOOKUP(DH6,évènements!$A$3:$D$200,3,0)) | DN6: =IF(ISERROR(VLOOKUP(DH6,évènements!$B$3:$D$200,2,0)),"",VLOOKUP(DH6,évènements!$B$3:$D$200,2,0)) | DO6: =CONCATENATE(DM6," ",DN6)
C7: =D7 -> 42740 | D7: =D6+1 -> 42740 | E7: =IF(D7="","",IF(ISERROR(MATCH(D7,Lune!$A$1:$A$1000,0)),IF(WEEKDAY(D7)=5,INT((D7-DATE(YEAR(D7),1,1))/7+1),IF(AND(WEEKDAY(D7)=4,NOT( ISERROR(MATCH(D7+1,Lune!$A$1:$A$1000,0)))),INT((D7+1-DATE(YEAR(D7+1),1,1))/7+1),"")),INDEX(Lune!$B$1:$B$1000,MATCH(D7,Lune!$A$1:$A$1000,0),1))) -> ◐ | F7: =IF(G7="",""," '") | G7: =IF(ISERROR(VLOOKUP(D7,anniversaire!$X$2:$Z$100,2,0)),"",VLOOKUP(D7,anniversaire!$X$2:$Z$100,2,0)) | H7: =IF(ISERROR(VLOOKUP(D7,fête!$B$2:$C$367,2,0)),"",VLOOKUP(D7,fête!$B$2:$C$367,2,0)) -> Edouard | I7: =IF(ISERROR(VLOOKUP(D7,évènements!$A$3:$D$200,3,0)),"",VLOOKUP(D7,évènements!$A$3:$D$200,3,0)) | J7: =IF(ISERROR(VLOOKUP(D7,évènements!$B$3:$D$200,2,0)),"",VLOOKUP(D7,évènements!$B$3:$D$200,2,0)) | K7: =CONCATENATE(I7," ",J7) | L7: =M7 -> 42771 | M7: =M6+1 -> 42771 | N7: =IF(M7="","",IF(ISERROR(MATCH(M7,Lune!$A$1:$A$1000,0)),IF(WEEKDAY(M7)=5,INT((M7-DATE(YEAR(M7),1,1))/7+1),IF(AND(WEEKDAY(M7)=4,NOT( ISERROR(MATCH(M7+1,Lune!$A$1:$A$1000,0)))),INT((M7+1-DATE(YEAR(M7+1),1,1))/7+1),"")),INDEX(Lune!$B$1:$B$1000,MATCH(M7,Lune!$A$1:$A$1000,0),1))) | O7: =IF(P7="",""," '") | P7: =IF(ISERROR(VLOOKUP(M7,anniversaire!$X$2:$Z$100,2,0)),"",VLOOKUP(M7,anniversaire!$X$2:$Z$100,2,0)) | Q7: =IF(ISERROR(VLOOKUP(M7,fête!$B$2:$C$367,2,0)),"",VLOOKUP(M7,fête!$B$2:$C$367,2,0)) -> Agathe | R7: =IF(ISERROR(VLOOKUP(M7,évènements!$A$3:$D$200,3,0)),"",VLOOKUP(M7,évènements!$A$3:$D$200,3,0)) | S7: =IF(ISERROR(VLOOKUP(M7,évènements!$B$3:$D$200,2,0)),"",VLOOKUP(M7,évènements!$B$3:$D$200,2,0)) | T7: =CONCATENATE(R7," ",S7) | U7: =V7 -> 42799 | V7: =V6+1 -> 42799 | W7: =IF(V7="","",IF(ISERROR(MATCH(V7,Lune!$A$1:$A$1000,0)),IF(WEEKDAY(V7)=5,INT((V7-DATE(YEAR(V7),1,1))/7+1),IF(AND(WEEKDAY(V7)=4,NOT( ISERROR(MATCH(V7+1,Lune!$A$1:$A$1000,0)))),INT((V7+1-DATE(YEAR(V7+1),1,1))/7+1),"")),INDEX(Lune!$B$1:$B$1000,MATCH(V7,Lune!$A$1:$A$1000,0),1))) -> ◐ | X7: =IF(Y7="",""," '") | Y7: =IF(ISERROR(VLOOKUP(V7,anniversaire!$X$2:$Z$100,2,0)),"",VLOOKUP(V7,anniversaire!$X$2:$Z$100,2,0)) | Z7: =IF(ISERROR(VLOOKUP(V7,fête!$B$2:$C$367,2,0)),"",VLOOKUP(V7,fête!$B$2:$C$367,2,0)) -> Olive | AA7: =IF(ISERROR(VLOOKUP(V7,évènements!$A$3:$D$200,3,0)),"",VLOOKUP(V7,évènements!$A$3:$D$200,3,0)) | AB7: =IF(ISERROR(VLOOKUP(V7,évènements!$B$3:$D$200,2,0)),"",VLOOKUP(V7,évènements!$B$3:$D$200,2,0)) | AC7: =CONCATENATE(AA7," ",AB7) | AD7: =AE7 -> 42830 | AE7: =AE6+1 -> 42830 | AF7: =IF(AE7="","",IF(ISERROR(MATCH(AE7,Lune!$A$1:$A$1000,0)),IF(WEEKDAY(AE7)=5,INT((AE7-DATE(YEAR(AE7),1,1))/7+1),IF(AND(WEEKDAY(AE7)=4,NOT( ISERROR(MATCH(AE7+1,Lune!$A$1:$A$1000,0)))),INT((AE7+1-DATE(YEAR(AE7+1),1,1))/7+1),"")),INDEX(Lune!$B$1:$B$1000,MATCH(AE7,Lune!$A$1:$A$1000,0),1))) | AG7: =IF(AH7="",""," '") | AH7: =IF(ISERROR(VLOOKUP(AE7,anniversaire!$X$2:$Z$100,2,0)),"",VLOOKUP(AE7,anniversaire!$X$2:$Z$100,2,0)) | AI7: =IF(ISERROR(VLOOKUP(AE7,fête!$B$2:$C$367,2,0)),"",VLOOKUP(AE7,fête!$B$2:$C$367,2,0)) -> Irène | AJ7: =IF(ISERROR(VLOOKUP(AE7,évènements!$A$3:$D$200,3,0)),"",VLOOKUP(AE7,évènements!$A$3:$D$200,3,0)) | AK7: =IF(ISERROR(VLOOKUP(AE7,évènements!$B$3:$D$200,2,0)),"",VLOOKUP(AE7,évènements!$B$3:$D$200,2,0)) | AL7: =CONCATENATE(AJ7," ",AK7) | AM7: =AN7 -> 42860 | AN7: =AN6+1 -> 42860 | AO7: =IF(AN7="","",IF(ISERROR(MATCH(AN7,Lune!$A$1:$A$1000,0)),IF(WEEKDAY(AN7)=5,INT((AN7-DATE(YEAR(AN7),1,1))/7+1),IF(AND(WEEKDAY(AN7)=4,NOT( ISERROR(MATCH(AN7+1,Lune!$A$1:$A$1000,0)))),INT((AN7+1-DATE(YEAR(AN7+1),1,1))/7+1),"")),INDEX(Lune!$B$1:$B$1000,MATCH(AN7,Lune!$A$1:$A$1000,0),1))) | AP7: =IF(AQ7="","","'") | AQ7: =IF(ISERROR(VLOOKUP(AN7,anniversaire!$X$2:$Z$100,2,0)),"",VLOOKUP(AN7,anniversaire!$X$2:$Z$100,2,0)) | AR7: =IF(ISERROR(VLOOKUP(AN7,fête!$B$2:$C$367,2,0)),"",VLOOKUP(AN7,fête!$B$2:$C$367,2,0)) -> Judith | AS7: =IF(ISERROR(VLOOKUP(AN7,évènements!$A$3:$D$200,3,0)),"",VLOOKUP(AN7,évènements!$A$3:$D$200,3,0)) -> rdv essai médical prothése | AT7: =IF(ISERROR(VLOOKUP(AN7,évènements!$B$3:$D$200,2,0)),"",VLOOKUP(AN7,évènements!$B$3:$D$200,2,0)) | AU7: =CONCATENATE(AS7," ",AT7) -> rdv essai médical prothése | AV7: =AW7 -> 42891 | AW7: =AW6+1 -> 42891 | AX7: =IF(AW7="","",IF(ISERROR(MATCH(AW7,Lune!$A$1:$A$1000,0)),IF(WEEKDAY(AW7)=5,INT((AW7-DATE(YEAR(AW7),1,1))/7+1),IF(AND(WEEKDAY(AW7)=4,NOT( ISERROR(MATCH(AW7+1,Lune!$A$1:$A$1000,0)))),INT((AW7+1-DATE(YEAR(AW7+1),1,1))/7+1),"")),INDEX(Lune!$B$1:$B$1000,MATCH(AW7,Lune!$A$1:$A$1000,0),1))) | AY7: =IF(AZ7="",""," '") | AZ7: =IF(ISERROR(VLOOKUP(AW7,anniversaire!$X$2:$Z$100,2,0)),"",VLOOKUP(AW7,anniversaire!$X$2:$Z$100,2,0)) | BA7: =IF(ISERROR(VLOOKUP(AW7,fête!$B$2:$C$367,2,0)),"",VLOOKUP(AW7,fête!$B$2:$C$367,2,0)) -> Igor | BB7: =IF(ISERROR(VLOOKUP(AW7,évènements!$A$3:$D$200,3,0)),"",VLOOKUP(AW7,évènements!$A$3:$D$200,3,0)) | BC7: =IF(ISERROR(VLOOKUP(AW7,évènements!$B$3:$D$200,2,0)),"",VLOOKUP(AW7,évènements!$B$3:$D$200,2,0)) | BD7: =CONCATENATE(BB7," ",BC7) | BE7: =BF7 -> 42921 | BF7: =BF6+1 -> 42921 | BG7: =IF(BF7="","",IF(ISERROR(MATCH(BF7,Lune!$A$1:$A$1000,0)),IF(WEEKDAY(BF7)=5,INT((BF7-DATE(YEAR(BF7),1,1))/7+1),IF(AND(WEEKDAY(BF7)=4,NOT( ISERROR(MATCH(BF7+1,Lune!$A$1:$A$1000,0)))),INT((BF7+1-DATE(YEAR(BF7+1),1,1))/7+1),"")),INDEX(Lune!$B$1:$B$1000,MATCH(BF7,Lune!$A$1:$A$1000,0),1))) | BH7: =IF(BI7="",""," '") | BI7: =IF(ISERROR(VLOOKUP(BF7,anniversaire!$X$2:$Z$100,2,0)),"",VLOOKUP(BF7,anniversaire!$X$2:$Z$100,2,0)) | BJ7: =IF(ISERROR(VLOOKUP(BF7,fête!$B$2:$C$367,2,0)),"",VLOOKUP(BF7,fête!$B$2:$C$367,2,0)) -> Antoine | BK7: =IF(ISERROR(VLOOKUP(BF7,évènements!$A$3:$D$200,3,0)),"",VLOOKUP(BF7,évènements!$A$3:$D$200,3,0)) | BL7: =IF(ISERROR(VLOOKUP(BF7,évènements!$B$3:$D$200,2,0)),"",VLOOKUP(BF7,évènements!$B$3:$D$200,2,0)) | BM7: =CONCATENATE(BK7," ",BL7) | BN7: =BO7 -> 42952 | BO7: =BO6+1 -> 42952 | BP7: =IF(BO7="","",IF(ISERROR(MATCH(BO7,Lune!$A$1:$A$1000,0)),IF(WEEKDAY(BO7)=5,INT((BO7-DATE(YEAR(BO7),1,1))/7+1),IF(AND(WEEKDAY(BO7)=4,NOT( ISERROR(MATCH(BO7+1,Lune!$A$1:$A$1000,0)))),INT((BO7+1-DATE(YEAR(BO7+1),1,1))/7+1),"")),INDEX(Lune!$B$1:$B$1000,MATCH(BO7,Lune!$A$1:$A$1000,0),1))) | BQ7: =IF(BR7="",""," '") | BR7: =IF(ISERROR(VLOOKUP(BO7,anniversaire!$X$2:$Z$100,2,0)),"",VLOOKUP(BO7,anniversaire!$X$2:$Z$100,2,0)) | BS7: =IF(ISERROR(VLOOKUP(BO7,fête!$B$2:$C$367,2,0)),"",VLOOKUP(BO7,fête!$B$2:$C$367,2,0)) -> Abel | BT7: =IF(ISERROR(VLOOKUP(BO7,évènements!$A$3:$D$200,3,0)),"",VLOOKUP(BO7,évènements!$A$3:$D$200,3,0)) | BU7: =IF(ISERROR(VLOOKUP(BO7,évènements!$B$3:$D$200,2,0)),"",VLOOKUP(BO7,évènements!$B$3:$D$200,2,0)) | BV7: =CONCATENATE(BT7," ",BU7) | BW7: =BX7 -> 42983 | BX7: =BX6+1 -> 42983 | BY7: =IF(BX7="","",IF(ISERROR(MATCH(BX7,Lune!$A$1:$A$1000,0)),IF(WEEKDAY(BX7)=5,INT((BX7-DATE(YEAR(BX7),1,1))/7+1),IF(AND(WEEKDAY(BX7)=4,NOT( ISERROR(MATCH(BX7+1,Lune!$A$1:$A$1000,0)))),INT((BX7+1-DATE(YEAR(BX7+1),1,1))/7+1),"")),INDEX(Lune!$B$1:$B$1000,MATCH(BX7,Lune!$A$1:$A$1000,0),1))) | BZ7: =IF(CA7="",""," '") | CA7: =IF(ISERROR(VLOOKUP(BX7,anniversaire!$X$2:$Z$100,2,0)),"",VLOOKUP(BX7,anniversaire!$X$2:$Z$100,2,0)) | CB7: =IF(ISERROR(VLOOKUP(BX7,fête!$B$2:$C$367,2,0)),"",VLOOKUP(BX7,fête!$B$2:$C$367,2,0)) -> Raïssa | CC7: =IF(ISERROR(VLOOKUP(BX7,évènements!$A$3:$D$200,3,0)),"",VLOOKUP(BX7,évènements!$A$3:$D$200,3,0)) | CD7: =IF(ISERROR(VLOOKUP(BX7,évènements!$B$3:$D$200,2,0)),"",VLOOKUP(BX7,évènements!$B$3:$D$200,2,0)) | CE7: =CONCATENATE(CC7," ",CD7) | CF7: =CG7 -> 43013 | CG7: =CG6+1 -> 43013 | CH7: =IF(CG7="","",IF(ISERROR(MATCH(CG7,Lune!$A$1:$A$1000,0)),IF(WEEKDAY(CG7)=5,INT((CG7-DATE(YEAR(CG7),1,1))/7+1),IF(AND(WEEKDAY(CG7)=4,NOT( ISERROR(MATCH(CG7+1,Lune!$A$1:$A$1000,0)))),INT((CG7+1-DATE(YEAR(CG7+1),1,1))/7+1),"")),INDEX(Lune!$B$1:$B$1000,MATCH(CG7,Lune!$A$1:$A$1000,0),1))) -> ○ | CI7: =IF(CJ7="",""," '") -> ' | CJ7: =IF(ISERROR(VLOOKUP(CG7,anniversaire!$X$2:$Z$100,2,0)),"",VLOOKUP(CG7,anniversaire!$X$2:$Z$100,2,0)) -> Virely Maël 3 | CK7: =IF(ISERROR(VLOOKUP(CG7,fête!$B$2:$C$367,2,0)),"",VLOOKUP(CG7,fête!$B$2:$C$367,2,0)) -> Fleur | CL7: =IF(ISERROR(VLOOKUP(CG7,évènements!$A$3:$D$200,3,0)),"",VLOOKUP(CG7,évènements!$A$3:$D$200,3,0)) | CM7: =IF(ISERROR(VLOOKUP(CG7,évènements!$B$3:$D$200,2,0)),"",VLOOKUP(CG7,évènements!$B$3:$D$200,2,0)) | CN7: =CONCATENATE(CL7," ",CM7) | CO7: =CP7 -> 43044 | CP7: =CP6+1 -> 43044 | CQ7: =IF(CP7="","",IF(ISERROR(MATCH(CP7,Lune!$A$1:$A$1000,0)),IF(WEEKDAY(CP7)=5,INT((CP7-DATE(YEAR(CP7),1,1))/7+1),IF(AND(WEEKDAY(CP7)=4,NOT( ISERROR(MATCH(CP7+1,Lune!$A$1:$A$1000,0)))),INT((CP7+1-DATE(YEAR(CP7+1),1,1))/7+1),"")),INDEX(Lune!$B$1:$B$1000,MATCH(CP7,Lune!$A$1:$A$1000,0),1))) | CR7: =IF(CS7="",""," '") | CS7: =IF(ISERROR(VLOOKUP(CP7,anniversaire!$X$2:$Z$100,2,0)),"",VLOOKUP(CP7,anniversaire!$X$2:$Z$100,2,0)) | CT7: =IF(ISERROR(VLOOKUP(CP7,fête!$B$2:$C$367,2,0)),"",VLOOKUP(CP7,fête!$B$2:$C$367,2,0)) -> Sylvie | CU7: =IF(ISERROR(VLOOKUP(CP7,évènements!$A$3:$D$200,3,0)),"",VLOOKUP(CP7,évènements!$A$3:$D$200,3,0)) | CV7: =IF(ISERROR(VLOOKUP(CP7,évènements!$B$3:$D$200,2,0)),"",VLOOKUP(CP7,évènements!$B$3:$D$200,2,0)) | CW7: =CONCATENATE(CU7," ",CV7) | CX7: =CY7 -> 43074 | CY7: =CY6+1 -> 43074 | CZ7: =IF(CY7="","",IF(ISERROR(MATCH(CY7,Lune!$A$1:$A$1000,0)),IF(WEEKDAY(CY7)=5,INT((CY7-DATE(YEAR(CY7),1,1))/7+1),IF(AND(WEEKDAY(CY7)=4,NOT( ISERROR(MATCH(CY7+1,Lune!$A$1:$A$1000,0)))),INT((CY7+1-DATE(YEAR(CY7+1),1,1))/7+1),"")),INDEX(Lune!$B$1:$B$1000,MATCH(CY7,Lune!$A$1:$A$1000,0),1))) | DA7: =IF(DB7="",""," '") | DB7: =IF(ISERROR(VLOOKUP(CY7,anniversaire!$X$2:$Z$100,2,0)),"",VLOOKUP(CY7,anniversaire!$X$2:$Z$100,2,0)) | DC7: =IF(ISERROR(VLOOKUP(CY7,fête!$B$2:$C$367,2,0)),"",VLOOKUP(CY7,fête!$B$2:$C$367,2,0)) -> Gérald | DD7: =IF(ISERROR(VLOOKUP(CY7,évènements!$A$3:$D$200,3,0)),"",VLOOKUP(CY7,évènements!$A$3:$D$200,3,0)) | DE7: =IF(ISERROR(VLOOKUP(CY7,évènements!$B$3:$D$200,2,0)),"",VLOOKUP(CY7,évènements!$B$3:$D$200,2,0)) | DF7: =CONCATENATE(DD7," ",DE7) | DG7: =DH7 -> 43105 | DH7: =DH6+1 -> 43105 | DI7: =IF(DH7="","",IF(ISERROR(MATCH(DH7,Lune!$A$1:$A$1000,0)),IF(WEEKDAY(DH7)=5,INT((DH7-DATE(YEAR(DH7),1,1))/7+1),IF(AND(WEEKDAY(DH7)=4,NOT( ISERROR(MATCH(DH7+1,Lune!$A$1:$A$1000,0)))),INT((DH7+1-DATE(YEAR(DH7+1),1,1))/7+1),"")),INDEX(Lune!$B$1:$B$1000,MATCH(DH7,Lune!$A$1:$A$1000,0),1))) | DJ7: =F7 | DK7: =G7 | DL7: =H7 -> Edouard | DM7: =IF(ISERROR(VLOOKUP(DH7,évènements!$A$3:$D$200,3,0)),"",VLOOKUP(DH7,évènements!$A$3:$D$200,3,0)) | DN7: =IF(ISERROR(VLOOKUP(DH7,évènements!$B$3:$D$200,2,0)),"",VLOOKUP(DH7,évènements!$B$3:$D$200,2,0)) | DO7: =CONCATENATE(DM7," ",DN7)
C8: =D8 -> 42741 | D8: =D7+1 -> 42741 | E8: =IF(D8="","",IF(ISERROR(MATCH(D8,Lune!$A$1:$A$1000,0)),IF(WEEKDAY(D8)=5,INT((D8-DATE(YEAR(D8),1,1))/7+1),IF(AND(WEEKDAY(D8)=4,NOT( ISERROR(MATCH(D8+1,Lune!$A$1:$A$1000,0)))),INT((D8+1-DATE(YEAR(D8+1),1,1))/7+1),"")),INDEX(Lune!$B$1:$B$1000,MATCH(D8,Lune!$A$1:$A$1000,0),1))) | F8: =IF(G8="",""," '") | G8: =IF(ISERROR(VLOOKUP(D8,anniversaire!$X$2:$Z$100,2,0)),"",VLOOKUP(D8,anniversaire!$X$2:$Z$100,2,0)) | H8: =IF(ISERROR(VLOOKUP(D8,fête!$B$2:$C$367,2,0)),"",VLOOKUP(D8,fête!$B$2:$C$367,2,0)) -> Mélaine | I8: =IF(ISERROR(VLOOKUP(D8,évènements!$A$3:$D$200,3,0)),"",VLOOKUP(D8,évènements!$A$3:$D$200,3,0)) | J8: =IF(ISERROR(VLOOKUP(D8,évènements!$B$3:$D$200,2,0)),"",VLOOKUP(D8,évènements!$B$3:$D$200,2,0)) | K8: =CONCATENATE(I8," ",J8) | L8: =M8 -> 42772 | M8: =M7+1 -> 42772 | N8: =IF(M8="","",IF(ISERROR(MATCH(M8,Lune!$A$1:$A$1000,0)),IF(WEEKDAY(M8)=5,INT((M8-DATE(YEAR(M8),1,1))/7+1),IF(AND(WEEKDAY(M8)=4,NOT( ISERROR(MATCH(M8+1,Lune!$A$1:$A$1000,0)))),INT((M8+1-DATE(YEAR(M8+1),1,1))/7+1),"")),INDEX(Lune!$B$1:$B$1000,MATCH(M8,Lune!$A$1:$A$1000,0),1))) | O8: =IF(P8="",""," '") | P8: =IF(ISERROR(VLOOKUP(M8,anniversaire!$X$2:$Z$100,2,0)),"",VLOOKUP(M8,anniversaire!$X$2:$Z$100,2,0)) | Q8: =IF(ISERROR(VLOOKUP(M8,fête!$B$2:$C$367,2,0)),"",VLOOKUP(M8,fête!$B$2:$C$367,2,0)) -> Gaston | R8: =IF(ISERROR(VLOOKUP(M8,évènements!$A$3:$D$200,3,0)),"",VLOOKUP(M8,évènements!$A$3:$D$200,3,0)) | S8: =IF(ISERROR(VLOOKUP(M8,évènements!$B$3:$D$200,2,0)),"",VLOOKUP(M8,évènements!$B$3:$D$200,2,0)) | T8: =CONCATENATE(R8," ",S8) | U8: =V8 -> 42800 | V8: =V7+1 -> 42800 | W8: =IF(V8="","",IF(ISERROR(MATCH(V8,Lune!$A$1:$A$1000,0)),IF(WEEKDAY(V8)=5,INT((V8-DATE(YEAR(V8),1,1))/7+1),IF(AND(WEEKDAY(V8)=4,NOT( ISERROR(MATCH(V8+1,Lune!$A$1:$A$1000,0)))),INT((V8+1-DATE(YEAR(V8+1),1,1))/7+1),"")),INDEX(Lune!$B$1:$B$1000,MATCH(V8,Lune!$A$1:$A$1000,0),1))) | X8: =IF(Y8="",""," '") | Y8: =IF(ISERROR(VLOOKUP(V8,anniversaire!$X$2:$Z$100,2,0)),"",VLOOKUP(V8,anniversaire!$X$2:$Z$100,2,0)) | Z8: =IF(ISERROR(VLOOKUP(V8,fête!$B$2:$C$367,2,0)),"",VLOOKUP(V8,fête!$B$2:$C$367,2,0)) -> Colette | AA8: =IF(ISERROR(VLOOKUP(V8,évènements!$A$3:$D$200,3,0)),"",VLOOKUP(V8,évènements!$A$3:$D$200,3,0)) | AB8: =IF(ISERROR(VLOOKUP(V8,évènements!$B$3:$D$200,2,0)),"",VLOOKUP(V8,évènements!$B$3:$D$200,2,0)) | AC8: =CONCATENATE(AA8," ",AB8) | AD8: =AE8 -> 42831 | AE8: =AE7+1 -> 42831 | AF8: =IF(AE8="","",IF(ISERROR(MATCH(AE8,Lune!$A$1:$A$1000,0)),IF(WEEKDAY(AE8)=5,INT((AE8-DATE(YEAR(AE8),1,1))/7+1),IF(AND(WEEKDAY(AE8)=4,NOT( ISERROR(MATCH(AE8+1,Lune!$A$1:$A$1000,0)))),INT((AE8+1-DATE(YEAR(AE8+1),1,1))/7+1),"")),INDEX(Lune!$B$1:$B$1000,MATCH(AE8,Lune!$A$1:$A$1000,0),1))) -> 14 | AG8: =IF(AH8="",""," '") | AH8: =IF(ISERROR(VLOOKUP(AE8,anniversaire!$X$2:$Z$100,2,0)),"",VLOOKUP(AE8,anniversaire!$X$2:$Z$100,2,0)) | AI8: =IF(ISERROR(VLOOKUP(AE8,fête!$B$2:$C$367,2,0)),"",VLOOKUP(AE8,fête!$B$2:$C$367,2,0)) -> Marcellin | AJ8: =IF(ISERROR(VLOOKUP(AE8,évènements!$A$3:$D$200,3,0)),"",VLOOKUP(AE8,évènements!$A$3:$D$200,3,0)) | AK8: =IF(ISERROR(VLOOKUP(AE8,évènements!$B$3:$D$200,2,0)),"",VLOOKUP(AE8,évènements!$B$3:$D$200,2,0)) | AL8: =CONCATENATE(AJ8," ",AK8) | AM8: =AN8 -> 42861 | AN8: =AN7+1 -> 42861 | AO8: =IF(AN8="","",IF(ISERROR(MATCH(AN8,Lune!$A$1:$A$1000,0)),IF(WEEKDAY(AN8)=5,INT((AN8-DATE(YEAR(AN8),1,1))/7+1),IF(AND(WEEKDAY(AN8)=4,NOT( ISERROR(MATCH(AN8+1,Lune!$A$1:$A$1000,0)))),INT((AN8+1-DATE(YEAR(AN8+1),1,1))/7+1),"")),INDEX(Lune!$B$1:$B$1000,MATCH(AN8,Lune!$A$1:$A$1000,0),1))) | AP8: =IF(AQ8="","","'") | AQ8: =IF(ISERROR(VLOOKUP(AN8,anniversaire!$X$2:$Z$100,2,0)),"",VLOOKUP(AN8,anniversaire!$X$2:$Z$100,2,0)) | AR8: =IF(ISERROR(VLOOKUP(AN8,fête!$B$2:$C$367,2,0)),"",VLOOKUP(AN8,fête!$B$2:$C$367,2,0)) -> Prudence | AS8: =IF(ISERROR(VLOOKUP(AN8,évènements!$A$3:$D$200,3,0)),"",VLOOKUP(AN8,évènements!$A$3:$D$200,3,0)) | AT8: =IF(ISERROR(VLOOKUP(AN8,évènements!$B$3:$D$200,2,0)),"",VLOOKUP(AN8,évènements!$B$3:$D$200,2,0)) | AU8: =CONCATENATE(AS8," ",AT8) | AV8: =AW8 -> 42892 | AW8: =AW7+1 -> 42892 | AX8: =IF(AW8="","",IF(ISERROR(MATCH(AW8,Lune!$A$1:$A$1000,0)),IF(WEEKDAY(AW8)=5,INT((AW8-DATE(YEAR(AW8),1,1))/7+1),IF(AND(WEEKDAY(AW8)=4,NOT( ISERROR(MATCH(AW8+1,Lune!$A$1:$A$1000,0)))),INT((AW8+1-DATE(YEAR(AW8+1),1,1))/7+1),"")),INDEX(Lune!$B$1:$B$1000,MATCH(AW8,Lune!$A$1:$A$1000,0),1))) | AY8: =IF(AZ8="",""," '") | AZ8: =IF(ISERROR(VLOOKUP(AW8,anniversaire!$X$2:$Z$100,2,0)),"",VLOOKUP(AW8,anniversaire!$X$2:$Z$100,2,0)) | BA8: =IF(ISERROR(VLOOKUP(AW8,fête!$B$2:$C$367,2,0)),"",VLOOKUP(AW8,fête!$B$2:$C$367,2,0)) -> Norbert | BB8: =IF(ISERROR(VLOOKUP(AW8,évènements!$A$3:$D$200,3,0)),"",VLOOKUP(AW8,évènements!$A$3:$D$200,3,0)) | BC8: =IF(ISERROR(VLOOKUP(AW8,évènements!$B$3:$D$200,2,0)),"",VLOOKUP(AW8,évènements!$B$3:$D$200,2,0)) | BD8: =CONCATENATE(BB8," ",BC8) | BE8: =BF8 -> 42922 | BF8: =BF7+1 -> 42922 | BG8: =IF(BF8="","",IF(ISERROR(MATCH(BF8,Lune!$A$1:$A$1000,0)),IF(WEEKDAY(BF8)=5,INT((BF8-DATE(YEAR(BF8),1,1))/7+1),IF(AND(WEEKDAY(BF8)=4,NOT( ISERROR(MATCH(BF8+1,Lune!$A$1:$A$1000,0)))),INT((BF8+1-DATE(YEAR(BF8+1),1,1))/7+1),"")),INDEX(Lune!$B$1:$B$1000,MATCH(BF8,Lune!$A$1:$A$1000,0),1))) -> 27 | BH8: =IF(BI8="",""," '") | BI8: =IF(ISERROR(VLOOKUP(BF8,anniversaire!$X$2:$Z$100,2,0)),"",VLOOKUP(BF8,anniversaire!$X$2:$Z$100,2,0)) | BJ8: =IF(ISERROR(VLOOKUP(BF8,fête!$B$2:$C$367,2,0)),"",VLOOKUP(BF8,fête!$B$2:$C$367,2,0)) -> Mariette | BK8: =IF(ISERROR(VLOOKUP(BF8,évènements!$A$3:$D$200,3,0)),"",VLOOKUP(BF8,évènements!$A$3:$D$200,3,0)) | BL8: =IF(ISERROR(VLOOKUP(BF8,évènements!$B$3:$D$200,2,0)),"",VLOOKUP(BF8,évènements!$B$3:$D$200,2,0)) | BM8: =CONCATENATE(BK8," ",BL8) | BN8: =BO8 -> 42953 | BO8: =BO7+1 -> 42953 | BP8: =IF(BO8="","",IF(ISERROR(MATCH(BO8,Lune!$A$1:$A$1000,0)),IF(WEEKDAY(BO8)=5,INT((BO8-DATE(YEAR(BO8),1,1))/7+1),IF(AND(WEEKDAY(BO8)=4,NOT( ISERROR(MATCH(BO8+1,Lune!$A$1:$A$1000,0)))),INT((BO8+1-DATE(YEAR(BO8+1),1,1))/7+1),"")),INDEX(Lune!$B$1:$B$1000,MATCH(BO8,Lune!$A$1:$A$1000,0),1))) | BQ8: =IF(BR8="",""," '") | BR8: =IF(ISERROR(VLOOKUP(BO8,anniversaire!$X$2:$Z$100,2,0)),"",VLOOKUP(BO8,anniversaire!$X$2:$Z$100,2,0)) | BS8: =IF(ISERROR(VLOOKUP(BO8,fête!$B$2:$C$367,2,0)),"",VLOOKUP(BO8,fête!$B$2:$C$367,2,0)) -> Transfiguration | BT8: =IF(ISERROR(VLOOKUP(BO8,évènements!$A$3:$D$200,3,0)),"",VLOOKUP(BO8,évènements!$A$3:$D$200,3,0)) | BU8: =IF(ISERROR(VLOOKUP(BO8,évènements!$B$3:$D$200,2,0)),"",VLOOKUP(BO8,évènements!$B$3:$D$200,2,0)) | BV8: =CONCATENATE(BT8," ",BU8) | BW8: =BX8 -> 42984 | BX8: =BX7+1 -> 42984 | BY8: =IF(BX8="","",IF(ISERROR(MATCH(BX8,Lune!$A$1:$A$1000,0)),IF(WEEKDAY(BX8)=5,INT((BX8-DATE(YEAR(BX8),1,1))/7+1),IF(AND(WEEKDAY(BX8)=4,NOT( ISERROR(MATCH(BX8+1,Lune!$A$1:$A$1000,0)))),INT((BX8+1-DATE(YEAR(BX8+1),1,1))/7+1),"")),INDEX(Lune!$B$1:$B$1000,MATCH(BX8,Lune!$A$1:$A$1000,0),1))) -> ○ | BZ8: =IF(CA8="",""," '") | CA8: =IF(ISERROR(VLOOKUP(BX8,anniversaire!$X$2:$Z$100,2,0)),"",VLOOKUP(BX8,anniversaire!$X$2:$Z$100,2,0)) | CB8: =IF(ISERROR(VLOOKUP(BX8,fête!$B$2:$C$367,2,0)),"",VLOOKUP(BX8,fête!$B$2:$C$367,2,0)) -> Bertrand | CC8: =IF(ISERROR(VLOOKUP(BX8,évènements!$A$3:$D$200,3,0)),"",VLOOKUP(BX8,évènements!$A$3:$D$200,3,0)) | CD8: =IF(ISERROR(VLOOKUP(BX8,évènements!$B$3:$D$200,2,0)),"",VLOOKUP(BX8,évènements!$B$3:$D$200,2,0)) | CE8: =CONCATENATE(CC8," ",CD8) | CF8: =CG8 -> 43014 | CG8: =CG7+1 -> 43014 | CH8: =IF(CG8="","",IF(ISERROR(MATCH(CG8,Lune!$A$1:$A$1000,0)),IF(WEEKDAY(CG8)=5,INT((CG8-DATE(YEAR(CG8),1,1))/7+1),IF(AND(WEEKDAY(CG8)=4,NOT( ISERROR(MATCH(CG8+1,Lune!$A$1:$A$1000,0)))),INT((CG8+1-DATE(YEAR(CG8+1),1,1))/7+1),"")),INDEX(Lune!$B$1:$B$1000,MATCH(CG8,Lune!$A$1:$A$1000,0),1))) | CI8: =IF(CJ8="",""," '") | CJ8: =IF(ISERROR(VLOOKUP(CG8,anniversaire!$X$2:$Z$100,2,0)),"",VLOOKUP(CG8,anniversaire!$X$2:$Z$100,2,0)) | CK8: =IF(ISERROR(VLOOKUP(CG8,fête!$B$2:$C$367,2,0)),"",VLOOKUP(CG8,fête!$B$2:$C$367,2,0)) -> Bruno | CL8: =IF(ISERROR(VLOOKUP(CG8,évènements!$A$3:$D$200,3,0)),"",VLOOKUP(CG8,évènements!$A$3:$D$200,3,0)) | CM8: =IF(ISERROR(VLOOKUP(CG8,évènements!$B$3:$D$200,2,0)),"",VLOOKUP(CG8,évènements!$B$3:$D$200,2,0)) | CN8: =CONCATENATE(CL8," ",CM8) | CO8: =CP8 -> 43045 | CP8: =CP7+1 -> 43045 | CQ8: =IF(CP8="","",IF(ISERROR(MATCH(CP8,Lune!$A$1:$A$1000,0)),IF(WEEKDAY(CP8)=5,INT((CP8-DATE(YEAR(CP8),1,1))/7+1),IF(AND(WEEKDAY(CP8)=4,NOT( ISERROR(MATCH(CP8+1,Lune!$A$1:$A$1000,0)))),INT((CP8+1-DATE(YEAR(CP8+1),1,1))/7+1),"")),INDEX(Lune!$B$1:$B$1000,MATCH(CP8,Lune!$A$1:$A$1000,0),1))) | CR8: =IF(CS8="",""," '") | CS8: =IF(ISERROR(VLOOKUP(CP8,anniversaire!$X$2:$Z$100,2,0)),"",VLOOKUP(CP8,anniversaire!$X$2:$Z$100,2,0)) | CT8: =IF(ISERROR(VLOOKUP(CP8,fête!$B$2:$C$367,2,0)),"",VLOOKUP(CP8,fête!$B$2:$C$367,2,0)) -> Bertille | CU8: =IF(ISERROR(VLOOKUP(CP8,évènements!$A$3:$D$200,3,0)),"",VLOOKUP(CP8,évènements!$A$3:$D$200,3,0)) | CV8: =IF(ISERROR(VLOOKUP(CP8,évènements!$B$3:$D$200,2,0)),"",VLOOKUP(CP8,évènements!$B$3:$D$200,2,0)) | CW8: =CONCATENATE(CU8," ",CV8) | CX8: =CY8 -> 43075 | CY8: =CY7+1 -> 43075 | CZ8: =IF(CY8="","",IF(ISERROR(MATCH(CY8,Lune!$A$1:$A$1000,0)),IF(WEEKDAY(CY8)=5,INT((CY8-DATE(YEAR(CY8),1,1))/7+1),IF(AND(WEEKDAY(CY8)=4,NOT( ISERROR(MATCH(CY8+1,Lune!$A$1:$A$1000,0)))),INT((CY8+1-DATE(YEAR(CY8+1),1,1))/7+1),"")),INDEX(Lune!$B$1:$B$1000,MATCH(CY8,Lune!$A$1:$A$1000,0),1))) | DA8: =IF(DB8="",""," '") | DB8: =IF(ISERROR(VLOOKUP(CY8,anniversaire!$X$2:$Z$100,2,0)),"",VLOOKUP(CY8,anniversaire!$X$2:$Z$100,2,0)) | DC8: =IF(ISERROR(VLOOKUP(CY8,fête!$B$2:$C$367,2,0)),"",VLOOKUP(CY8,fête!$B$2:$C$367,2,0)) -> Nicolas | DD8: =IF(ISERROR(VLOOKUP(CY8,évènements!$A$3:$D$200,3,0)),"",VLOOKUP(CY8,évènements!$A$3:$D$200,3,0)) | DE8: =IF(ISERROR(VLOOKUP(CY8,évènements!$B$3:$D$200,2,0)),"",VLOOKUP(CY8,évènements!$B$3:$D$200,2,0)) | DF8: =CONCATENATE(DD8," ",DE8) | DG8: =DH8 -> 43106 | DH8: =DH7+1 -> 43106 | DI8: =IF(DH8="","",IF(ISERROR(MATCH(DH8,Lune!$A$1:$A$1000,0)),IF(WEEKDAY(DH8)=5,INT((DH8-DATE(YEAR(DH8),1,1))/7+1),IF(AND(WEEKDAY(DH8)=4,NOT( ISERROR(MATCH(DH8+1,Lune!$A$1:$A$1000,0)))),INT((DH8+1-DATE(YEAR(DH8+1),1,1))/7+1),"")),INDEX(Lune!$B$1:$B$1000,MATCH(DH8,Lune!$A$1:$A$1000,0),1))) | DJ8: =F8 | DK8: =G8 | DL8: =H8 -> Mélaine | DM8: =IF(ISERROR(VLOOKUP(DH8,évènements!$A$3:$D$200,3,0)),"",VLOOKUP(DH8,évènements!$A$3:$D$200,3,0)) | DN8: =IF(ISERROR(VLOOKUP(DH8,évènements!$B$3:$D$200,2,0)),"",VLOOKUP(DH8,évènements!$B$3:$D$200,2,0)) | DO8: =CONCATENATE(DM8," ",DN8)
C9: =D9 -> 42742 | D9: =D8+1 -> 42742 | E9: =IF(D9="","",IF(ISERROR(MATCH(D9,Lune!$A$1:$A$1000,0)),IF(WEEKDAY(D9)=5,INT((D9-DATE(YEAR(D9),1,1))/7+1),IF(AND(WEEKDAY(D9)=4,NOT( ISERROR(MATCH(D9+1,Lune!$A$1:$A$1000,0)))),INT((D9+1-DATE(YEAR(D9+1),1,1))/7+1),"")),INDEX(Lune!$B$1:$B$1000,MATCH(D9,Lune!$A$1:$A$1000,0),1))) | F9: =IF(G9="",""," '") | G9: =IF(ISERROR(VLOOKUP(D9,anniversaire!$X$2:$Z$100,2,0)),"",VLOOKUP(D9,anniversaire!$X$2:$Z$100,2,0)) | H9: =IF(ISERROR(VLOOKUP(D9,fête!$B$2:$C$367,2,0)),"",VLOOKUP(D9,fête!$B$2:$C$367,2,0)) -> Raymond | I9: =IF(ISERROR(VLOOKUP(D9,évènements!$A$3:$D$200,3,0)),"",VLOOKUP(D9,évènements!$A$3:$D$200,3,0)) | J9: =IF(ISERROR(VLOOKUP(D9,évènements!$B$3:$D$200,2,0)),"",VLOOKUP(D9,évènements!$B$3:$D$200,2,0)) | K9: =CONCATENATE(I9," ",J9) | L9: =M9 -> 42773 | M9: =M8+1 -> 42773 | N9: =IF(M9="","",IF(ISERROR(MATCH(M9,Lune!$A$1:$A$1000,0)),IF(WEEKDAY(M9)=5,INT((M9-DATE(YEAR(M9),1,1))/7+1),IF(AND(WEEKDAY(M9)=4,NOT( ISERROR(MATCH(M9+1,Lune!$A$1:$A$1000,0)))),INT((M9+1-DATE(YEAR(M9+1),1,1))/7+1),"")),INDEX(Lune!$B$1:$B$1000,MATCH(M9,Lune!$A$1:$A$1000,0),1))) | O9: =IF(P9="",""," '") | P9: =IF(ISERROR(VLOOKUP(M9,anniversaire!$X$2:$Z$100,2,0)),"",VLOOKUP(M9,anniversaire!$X$2:$Z$100,2,0)) | Q9: =IF(ISERROR(VLOOKUP(M9,fête!$B$2:$C$367,2,0)),"",VLOOKUP(M9,fête!$B$2:$C$367,2,0)) -> Eugènie | R9: =IF(ISERROR(VLOOKUP(M9,évènements!$A$3:$D$200,3,0)),"",VLOOKUP(M9,évènements!$A$3:$D$200,3,0)) | S9: =IF(ISERROR(VLOOKUP(M9,évènements!$B$3:$D$200,2,0)),"",VLOOKUP(M9,évènements!$B$3:$D$200,2,0)) | T9: =CONCATENATE(R9," ",S9) | U9: =V9 -> 42801 | V9: =V8+1 -> 42801 | W9: =IF(V9="","",IF(ISERROR(MATCH(V9,Lune!$A$1:$A$1000,0)),IF(WEEKDAY(V9)=5,INT((V9-DATE(YEAR(V9),1,1))/7+1),IF(AND(WEEKDAY(V9)=4,NOT( ISERROR(MATCH(V9+1,Lune!$A$1:$A$1000,0)))),INT((V9+1-DATE(YEAR(V9+1),1,1))/7+1),"")),INDEX(Lune!$B$1:$B$1000,MATCH(V9,Lune!$A$1:$A$1000,0),1))) | X9: =IF(Y9="",""," '") | Y9: =IF(ISERROR(VLOOKUP(V9,anniversaire!$X$2:$Z$100,2,0)),"",VLOOKUP(V9,anniversaire!$X$2:$Z$100,2,0)) | Z9: =IF(ISERROR(VLOOKUP(V9,fête!$B$2:$C$367,2,0)),"",VLOOKUP(V9,fête!$B$2:$C$367,2,0)) -> Félicité | AA9: =IF(ISERROR(VLOOKUP(V9,évènements!$A$3:$D$200,3,0)),"",VLOOKUP(V9,évènements!$A$3:$D$200,3,0)) | AB9: =IF(ISERROR(VLOOKUP(V9,évènements!$B$3:$D$200,2,0)),"",VLOOKUP(V9,évènements!$B$3:$D$200,2,0)) | AC9: =CONCATENATE(AA9," ",AB9) | AD9: =AE9 -> 42832 | AE9: =AE8+1 -> 42832 | AF9: =IF(AE9="","",IF(ISERROR(MATCH(AE9,Lune!$A$1:$A$1000,0)),IF(WEEKDAY(AE9)=5,INT((AE9-DATE(YEAR(AE9),1,1))/7+1),IF(AND(WEEKDAY(AE9)=4,NOT( ISERROR(MATCH(AE9+1,Lune!$A$1:$A$1000,0)))),INT((AE9+1-DATE(YEAR(AE9+1),1,1))/7+1),"")),INDEX(Lune!$B$1:$B$1000,MATCH(AE9,Lune!$A$1:$A$1000,0),1))) | AG9: =IF(AH9="",""," '") | AH9: =IF(ISERROR(VLOOKUP(AE9,anniversaire!$X$2:$Z$100,2,0)),"",VLOOKUP(AE9,anniversaire!$X$2:$Z$100,2,0)) | AI9: =IF(ISERROR(VLOOKUP(AE9,fête!$B$2:$C$367,2,0)),"",VLOOKUP(AE9,fête!$B$2:$C$367,2,0)) -> Jean-Baptiste de la Salle | AJ9: =IF(ISERROR(VLOOKUP(AE9,évènements!$A$3:$D$200,3,0)),"",VLOOKUP(AE9,évènements!$A$3:$D$200,3,0)) | AK9: =IF(ISERROR(VLOOKUP(AE9,évènements!$B$3:$D$200,2,0)),"",VLOOKUP(AE9,évènements!$B$3:$D$200,2,0)) | AL9: =CONCATENATE(AJ9," ",AK9) | AM9: =AN9 -> 42862 | AN9: =AN8+1 -> 42862 | AO9: =IF(AN9="","",IF(ISERROR(MATCH(AN9,Lune!$A$1:$A$1000,0)),IF(WEEKDAY(AN9)=5,INT((AN9-DATE(YEAR(AN9),1,1))/7+1),IF(AND(WEEKDAY(AN9)=4,NOT( ISERROR(MATCH(AN9+1,Lune!$A$1:$A$1000,0)))),INT((AN9+1-DATE(YEAR(AN9+1),1,1))/7+1),"")),INDEX(Lune!$B$1:$B$1000,MATCH(AN9,Lune!$A$1:$A$1000,0),1))) | AP9: =IF(AQ9="","","'") -> ' | AQ9: =IF(ISERROR(VLOOKUP(AN9,anniversaire!$X$2:$Z$100,2,0)),"",VLOOKUP(AN9,anniversaire!$X$2:$Z$100,2,0)) -> chedeville phillipe 33 | AR9: =IF(ISERROR(VLOOKUP(AN9,fête!$B$2:$C$367,2,0)),"",VLOOKUP(AN9,fête!$B$2:$C$367,2,0)) -> Gisèle | AS9: =IF(ISERROR(VLOOKUP(AN9,évènements!$A$3:$D$200,3,0)),"",VLOOKUP(AN9,évènements!$A$3:$D$200,3,0)) | AT9: =IF(ISERROR(VLOOKUP(AN9,évènements!$B$3:$D$200,2,0)),"",VLOOKUP(AN9,évènements!$B$3:$D$200,2,0)) | AU9: =CONCATENATE(AS9," ",AT9) | AV9: =AW9 -> 42893 | AW9: =AW8+1 -> 42893 | AX9: =IF(AW9="","",IF(ISERROR(MATCH(AW9,Lune!$A$1:$A$1000,0)),IF(WEEKDAY(AW9)=5,INT((AW9-DATE(YEAR(AW9),1,1))/7+1),IF(AND(WEEKDAY(AW9)=4,NOT( ISERROR(MATCH(AW9+1,Lune!$A$1:$A$1000,0)))),INT((AW9+1-DATE(YEAR(AW9+1),1,1))/7+1),"")),INDEX(Lune!$B$1:$B$1000,MATCH(AW9,Lune!$A$1:$A$1000,0),1))) | AY9: =IF(AZ9="",""," '") | AZ9: =IF(ISERROR(VLOOKUP(AW9,anniversaire!$X$2:$Z$100,2,0)),"",VLOOKUP(AW9,anniversaire!$X$2:$Z$100,2,0)) | BA9: =IF(ISERROR(VLOOKUP(AW9,fête!$B$2:$C$367,2,0)),"",VLOOKUP(AW9,fête!$B$2:$C$367,2,0)) -> Gilbert | BB9: =IF(ISERROR(VLOOKUP(AW9,évènements!$A$3:$D$200,3,0)),"",VLOOKUP(AW9,évènements!$A$3:$D$200,3,0)) | BC9: =IF(ISERROR(VLOOKUP(AW9,évènements!$B$3:$D$200,2,0)),"",VLOOKUP(AW9,évènements!$B$3:$D$200,2,0)) | BD9: =CONCATENATE(BB9," ",BC9) | BE9: =BF9 -> 42923 | BF9: =BF8+1 -> 42923 | BG9: =IF(BF9="","",IF(ISERROR(MATCH(BF9,Lune!$A$1:$A$1000,0)),IF(WEEKDAY(BF9)=5,INT((BF9-DATE(YEAR(BF9),1,1))/7+1),IF(AND(WEEKDAY(BF9)=4,NOT( ISERROR(MATCH(BF9+1,Lune!$A$1:$A$1000,0)))),INT((BF9+1-DATE(YEAR(BF9+1),1,1))/7+1),"")),INDEX(Lune!$B$1:$B$1000,MATCH(BF9,Lune!$A$1:$A$1000,0),1))) | BH9: =IF(BI9="",""," '") -> ' | BI9: =IF(ISERROR(VLOOKUP(BF9,anniversaire!$X$2:$Z$100,2,0)),"",VLOOKUP(BF9,anniversaire!$X$2:$Z$100,2,0)) -> Boireau estelle 28 | BJ9: =IF(ISERROR(VLOOKUP(BF9,fête!$B$2:$C$367,2,0)),"",VLOOKUP(BF9,fête!$B$2:$C$367,2,0)) -> Raoul | BK9: =IF(ISERROR(VLOOKUP(BF9,évènements!$A$3:$D$200,3,0)),"",VLOOKUP(BF9,évènements!$A$3:$D$200,3,0)) | BL9: =IF(ISERROR(VLOOKUP(BF9,évènements!$B$3:$D$200,2,0)),"",VLOOKUP(BF9,évènements!$B$3:$D$200,2,0)) | BM9: =CONCATENATE(BK9," ",BL9) | BN9: =BO9 -> 42954 | BO9: =BO8+1 -> 42954 | BP9: =IF(BO9="","",IF(ISERROR(MATCH(BO9,Lune!$A$1:$A$1000,0)),IF(WEEKDAY(BO9)=5,INT((BO9-DATE(YEAR(BO9),1,1))/7+1),IF(AND(WEEKDAY(BO9)=4,NOT( ISERROR(MATCH(BO9+1,Lune!$A$1:$A$1000,0)))),INT((BO9+1-DATE(YEAR(BO9+1),1,1))/7+1),"")),INDEX(Lune!$B$1:$B$1000,MATCH(BO9,Lune!$A$1:$A$1000,0),1))) -> ○ | BQ9: =IF(BR9="",""," '") | BR9: =IF(ISERROR(VLOOKUP(BO9,anniversaire!$X$2:$Z$100,2,0)),"",VLOOKUP(BO9,anniversaire!$X$2:$Z$100,2,0)) | BS9: =IF(ISERROR(VLOOKUP(BO9,fête!$B$2:$C$367,2,0)),"",VLOOKUP(BO9,fête!$B$2:$C$367,2,0)) -> Gaétan | BT9: =IF(ISERROR(VLOOKUP(BO9,évènements!$A$3:$D$200,3,0)),"",VLOOKUP(BO9,évènements!$A$3:$D$200,3,0)) | BU9: =IF(ISERROR(VLOOKUP(BO9,évènements!$B$3:$D$200,2,0)),"",VLOOKUP(BO9,évènements!$B$3:$D$200,2,0)) | BV9: =CONCATENATE(BT9," ",BU9) | BW9: =BX9 -> 42985 | BX9: =BX8+1 -> 42985 | BY9: =IF(BX9="","",IF(ISERROR(MATCH(BX9,Lune!$A$1:$A$1000,0)),IF(WEEKDAY(BX9)=5,INT((BX9-DATE(YEAR(BX9),1,1))/7+1),IF(AND(WEEKDAY(BX9)=4,NOT( ISERROR(MATCH(BX9+1,Lune!$A$1:$A$1000,0)))),INT((BX9+1-DATE(YEAR(BX9+1),1,1))/7+1),"")),INDEX(Lune!$B$1:$B$1000,MATCH(BX9,Lune!$A$1:$A$1000,0),1))) -> 36 | BZ9: =IF(CA9="",""," '") | CA9: =IF(ISERROR(VLOOKUP(BX9,anniversaire!$X$2:$Z$100,2,0)),"",VLOOKUP(BX9,anniversaire!$X$2:$Z$100,2,0)) | CB9: =IF(ISERROR(VLOOKUP(BX9,fête!$B$2:$C$367,2,0)),"",VLOOKUP(BX9,fête!$B$2:$C$367,2,0)) -> Reine | CC9: =IF(ISERROR(VLOOKUP(BX9,évènements!$A$3:$D$200,3,0)),"",VLOOKUP(BX9,évènements!$A$3:$D$200,3,0)) | CD9: =IF(ISERROR(VLOOKUP(BX9,évènements!$B$3:$D$200,2,0)),"",VLOOKUP(BX9,évènements!$B$3:$D$200,2,0)) | CE9: =CONCATENATE(CC9," ",CD9) | CF9: =CG9 -> 43015 | CG9: =CG8+1 -> 43015 | CH9: =IF(CG9="","",IF(ISERROR(MATCH(CG9,Lune!$A$1:$A$1000,0)),IF(WEEKDAY(CG9)=5,INT((CG9-DATE(YEAR(CG9),1,1))/7+1),IF(AND(WEEKDAY(CG9)=4,NOT( ISERROR(MATCH(CG9+1,Lune!$A$1:$A$1000,0)))),INT((CG9+1-DATE(YEAR(CG9+1),1,1))/7+1),"")),INDEX(Lune!$B$1:$B$1000,MATCH(CG9,Lune!$A$1:$A$1000,0),1))) | CI9: =IF(CJ9="",""," '") | CJ9: =IF(ISERROR(VLOOKUP(CG9,anniversaire!$X$2:$Z$100,2,0)),"",VLOOKUP(CG9,anniversaire!$X$2:$Z$100,2,0)) | CK9: =IF(ISERROR(VLOOKUP(CG9,fête!$B$2:$C$367,2,0)),"",VLOOKUP(CG9,fête!$B$2:$C$367,2,0)) -> Serge | CL9: =IF(ISERROR(VLOOKUP(CG9,évènements!$A$3:$D$200,3,0)),"",VLOOKUP(CG9,évènements!$A$3:$D$200,3,0)) | CM9: =IF(ISERROR(VLOOKUP(CG9,évènements!$B$3:$D$200,2,0)),"",VLOOKUP(CG9,évènements!$B$3:$D$200,2,0)) | CN9: =CONCATENATE(CL9," ",CM9) | CO9: =CP9 -> 43046 | CP9: =CP8+1 -> 43046 | CQ9: =IF(CP9="","",IF(ISERROR(MATCH(CP9,Lune!$A$1:$A$1000,0)),IF(WEEKDAY(CP9)=5,INT((CP9-DATE(YEAR(CP9),1,1))/7+1),IF(AND(WEEKDAY(CP9)=4,NOT( ISERROR(MATCH(CP9+1,Lune!$A$1:$A$1000,0)))),INT((CP9+1-DATE(YEAR(CP9+1),1,1))/7+1),"")),INDEX(Lune!$B$1:$B$1000,MATCH(CP9,Lune!$A$1:$A$1000,0),1))) | CR9: =IF(CS9="",""," '") | CS9: =IF(ISERROR(VLOOKUP(CP9,anniversaire!$X$2:$Z$100,2,0)),"",VLOOKUP(CP9,anniversaire!$X$2:$Z$100,2,0)) | CT9: =IF(ISERROR(VLOOKUP(CP9,fête!$B$2:$C$367,2,0)),"",VLOOKUP(CP9,fête!$B$2:$C$367,2,0)) -> Carine | CU9: =IF(ISERROR(VLOOKUP(CP9,évènements!$A$3:$D$200,3,0)),"",VLOOKUP(CP9,évènements!$A$3:$D$200,3,0)) | CV9: =IF(ISERROR(VLOOKUP(CP9,évènements!$B$3:$D$200,2,0)),"",VLOOKUP(CP9,évènements!$B$3:$D$200,2,0)) | CW9: =CONCATENATE(CU9," ",CV9) | CX9: =CY9 -> 43076 | CY9: =CY8+1 -> 43076 | CZ9: =IF(CY9="","",IF(ISERROR(MATCH(CY9,Lune!$A$1:$A$1000,0)),IF(WEEKDAY(CY9)=5,INT((CY9-DATE(YEAR(CY9),1,1))/7+1),IF(AND(WEEKDAY(CY9)=4,NOT( ISERROR(MATCH(CY9+1,Lune!$A$1:$A$1000,0)))),INT((CY9+1-DATE(YEAR(CY9+1),1,1))/7+1),"")),INDEX(Lune!$B$1:$B$1000,MATCH(CY9,Lune!$A$1:$A$1000,0),1))) -> 49 | DA9: =IF(DB9="",""," '") | DB9: =IF(ISERROR(VLOOKUP(CY9,anniversaire!$X$2:$Z$100,2,0)),"",VLOOKUP(CY9,anniversaire!$X$2:$Z$100,2,0)) | DC9: =IF(ISERROR(VLOOKUP(CY9,fête!$B$2:$C$367,2,0)),"",VLOOKUP(CY9,fête!$B$2:$C$367,2,0)) -> Ambroise | DD9: =IF(ISERROR(VLOOKUP(CY9,évènements!$A$3:$D$200,3,0)),"",VLOOKUP(CY9,évènements!$A$3:$D$200,3,0)) | DE9: =IF(ISERROR(VLOOKUP(CY9,évènements!$B$3:$D$200,2,0)),"",VLOOKUP(CY9,évènements!$B$3:$D$200,2,0)) | DF9: =CONCATENATE(DD9," ",DE9) | DG9: =DH9 -> 43107 | DH9: =DH8+1 -> 43107 | DI9: =IF(DH9="","",IF(ISERROR(MATCH(DH9,Lune!$A$1:$A$1000,0)),IF(WEEKDAY(DH9)=5,INT((DH9-DATE(YEAR(DH9),1,1))/7+1),IF(AND(WEEKDAY(DH9)=4,NOT( ISERROR(MATCH(DH9+1,Lune!$A$1:$A$1000,0)))),INT((DH9+1-DATE(YEAR(DH9+1),1,1))/7+1),"")),INDEX(Lune!$B$1:$B$1000,MATCH(DH9,Lune!$A$1:$A$1000,0),1))) | DJ9: =F9 | DK9: =G9 | DL9: =H9 -> Raymond | DM9: =IF(ISERROR(VLOOKUP(DH9,évènements!$A$3:$D$200,3,0)),"",VLOOKUP(DH9,évènements!$A$3:$D$200,3,0)) | DN9: =IF(ISERROR(VLOOKUP(DH9,évènements!$B$3:$D$200,2,0)),"",VLOOKUP(DH9,évènements!$B$3:$D$200,2,0)) | DO9: =CONCATENATE(DM9," ",DN9)
C10: =D10 -> 42743 | D10: =D9+1 -> 42743 | E10: =IF(D10="","",IF(ISERROR(MATCH(D10,Lune!$A$1:$A$1000,0)),IF(WEEKDAY(D10)=5,INT((D10-DATE(YEAR(D10),1,1))/7+1),IF(AND(WEEKDAY(D10)=4,NOT( ISERROR(MATCH(D10+1,Lune!$A$1:$A$1000,0)))),INT((D10+1-DATE(YEAR(D10+1),1,1))/7+1),"")),INDEX(Lune!$B$1:$B$1000,MATCH(D10,Lune!$A$1:$A$1000,0),1))) | F10: =IF(G10="",""," '") | G10: =IF(ISERROR(VLOOKUP(D10,anniversaire!$X$2:$Z$100,2,0)),"",VLOOKUP(D10,anniversaire!$X$2:$Z$100,2,0)) | H10: =IF(ISERROR(VLOOKUP(D10,fête!$B$2:$C$367,2,0)),"",VLOOKUP(D10,fête!$B$2:$C$367,2,0)) -> Lucien | I10: =IF(ISERROR(VLOOKUP(D10,évènements!$A$3:$D$200,3,0)),"",VLOOKUP(D10,évènements!$A$3:$D$200,3,0)) | J10: =IF(ISERROR(VLOOKUP(D10,évènements!$B$3:$D$200,2,0)),"",VLOOKUP(D10,évènements!$B$3:$D$200,2,0)) | K10: =CONCATENATE(I10," ",J10) | L10: =M10 -> 42774 | M10: =M9+1 -> 42774 | N10: =IF(M10="","",IF(ISERROR(MATCH(M10,Lune!$A$1:$A$1000,0)),IF(WEEKDAY(M10)=5,INT((M10-DATE(YEAR(M10),1,1))/7+1),IF(AND(WEEKDAY(M10)=4,NOT( ISERROR(MATCH(M10+1,Lune!$A$1:$A$1000,0)))),INT((M10+1-DATE(YEAR(M10+1),1,1))/7+1),"")),INDEX(Lune!$B$1:$B$1000,MATCH(M10,Lune!$A$1:$A$1000,0),1))) | O10: =IF(P10="",""," '") | P10: =IF(ISERROR(VLOOKUP(M10,anniversaire!$X$2:$Z$100,2,0)),"",VLOOKUP(M10,anniversaire!$X$2:$Z$100,2,0)) | Q10: =IF(ISERROR(VLOOKUP(M10,fête!$B$2:$C$367,2,0)),"",VLOOKUP(M10,fête!$B$2:$C$367,2,0)) -> Jacqueline | R10: =IF(ISERROR(VLOOKUP(M10,évènements!$A$3:$D$200,3,0)),"",VLOOKUP(M10,évènements!$A$3:$D$200,3,0)) | S10: =IF(ISERROR(VLOOKUP(M10,évènements!$B$3:$D$200,2,0)),"",VLOOKUP(M10,évènements!$B$3:$D$200,2,0)) | T10: =CONCATENATE(R10," ",S10) | U10: =V10 -> 42802 | V10: =V9+1 -> 42802 | W10: =IF(V10="","",IF(ISERROR(MATCH(V10,Lune!$A$1:$A$1000,0)),IF(WEEKDAY(V10)=5,INT((V10-DATE(YEAR(V10),1,1))/7+1),IF(AND(WEEKDAY(V10)=4,NOT( ISERROR(MATCH(V10+1,Lune!$A$1:$A$1000,0)))),INT((V10+1-DATE(YEAR(V10+1),1,1))/7+1),"")),INDEX(Lune!$B$1:$B$1000,MATCH(V10,Lune!$A$1:$A$1000,0),1))) | X10: =IF(Y10="",""," '") -> ' | Y10: =IF(ISERROR(VLOOKUP(V10,anniversaire!$X$2:$Z$100,2,0)),"",VLOOKUP(V10,anniversaire!$X$2:$Z$100,2,0)) -> Taraud jerôme 41 | Z10: =IF(ISERROR(VLOOKUP(V10,fête!$B$2:$C$367,2,0)),"",VLOOKUP(V10,fête!$B$2:$C$367,2,0)) -> Jean de Dieu | AA10: =IF(ISERROR(VLOOKUP(V10,évènements!$A$3:$D$200,3,0)),"",VLOOKUP(V10,évènements!$A$3:$D$200,3,0)) | AB10: =IF(ISERROR(VLOOKUP(V10,évènements!$B$3:$D$200,2,0)),"",VLOOKUP(V10,évènements!$B$3:$D$200,2,0)) | AC10: =CONCATENATE(AA10," ",AB10) | AD10: =AE10 -> 42833 | AE10: =AE9+1 -> 42833 | AF10: =IF(AE10="","",IF(ISERROR(MATCH(AE10,Lune!$A$1:$A$1000,0)),IF(WEEKDAY(AE10)=5,INT((AE10-DATE(YEAR(AE10),1,1))/7+1),IF(AND(WEEKDAY(AE10)=4,NOT( ISERROR(MATCH(AE10+1,Lune!$A$1:$A$1000,0)))),INT((AE10+1-DATE(YEAR(AE10+1),1,1))/7+1),"")),INDEX(Lune!$B$1:$B$1000,MATCH(AE10,Lune!$A$1:$A$1000,0),1))) | AG10: =IF(AH10="",""," '") | AH10: =IF(ISERROR(VLOOKUP(AE10,anniversaire!$X$2:$Z$100,2,0)),"",VLOOKUP(AE10,anniversaire!$X$2:$Z$100,2,0)) | AI10: =IF(ISERROR(VLOOKUP(AE10,fête!$B$2:$C$367,2,0)),"",VLOOKUP(AE10,fête!$B$2:$C$367,2,0)) -> Julie | AJ10: =IF(ISERROR(VLOOKUP(AE10,évènements!$A$3:$D$200,3,0)),"",VLOOKUP(AE10,évènements!$A$3:$D$200,3,0)) | AK10: =IF(ISERROR(VLOOKUP(AE10,évènements!$B$3:$D$200,2,0)),"",VLOOKUP(AE10,évènements!$B$3:$D$200,2,0)) | AL10: =CONCATENATE(AJ10," ",AK10) | AM10: =AN10 -> 42863 | AN10: =AN9+1 -> 42863 | AO10: =IF(AN10="","",IF(ISERROR(MATCH(AN10,Lune!$A$1:$A$1000,0)),IF(WEEKDAY(AN10)=5,INT((AN10-DATE(YEAR(AN10),1,1))/7+1),IF(AND(WEEKDAY(AN10)=4,NOT( ISERROR(MATCH(AN10+1,Lune!$A$1:$A$1000,0)))),INT((AN10+1-DATE(YEAR(AN10+1),1,1))/7+1),"")),INDEX(Lune!$B$1:$B$1000,MATCH(AN10,Lune!$A$1:$A$1000,0),1))) | AP10: =IF(AQ10="","","'") | AQ10: =IF(ISERROR(VLOOKUP(AN10,anniversaire!$X$2:$Z$100,2,0)),"",VLOOKUP(AN10,anniversaire!$X$2:$Z$100,2,0)) | AR10: =IF(ISERROR(VLOOKUP(AN10,fête!$B$2:$C$367,2,0)),"",VLOOKUP(AN10,fête!$B$2:$C$367,2,0)) -> Armistice 1945 | AS10: =IF(ISERROR(VLOOKUP(AN10,évènements!$A$3:$D$200,3,0)),"",VLOOKUP(AN10,évènements!$A$3:$D$200,3,0)) | AT10: =IF(ISERROR(VLOOKUP(AN10,évènements!$B$3:$D$200,2,0)),"",VLOOKUP(AN10,évènements!$B$3:$D$200,2,0)) | AU10: =CONCATENATE(AS10," ",AT10) | AV10: =AW10 -> 42894 | AW10: =AW9+1 -> 42894 | AX10: =IF(AW10="","",IF(ISERROR(MATCH(AW10,Lune!$A$1:$A$1000,0)),IF(WEEKDAY(AW10)=5,INT((AW10-DATE(YEAR(AW10),1,1))/7+1),IF(AND(WEEKDAY(AW10)=4,NOT( ISERROR(MATCH(AW10+1,Lune!$A$1:$A$1000,0)))),INT((AW10+1-DATE(YEAR(AW10+1),1,1))/7+1),"")),INDEX(Lune!$B$1:$B$1000,MATCH(AW10,Lune!$A$1:$A$1000,0),1))) -> 23 | AY10: =IF(AZ10="",""," '") | AZ10: =IF(ISERROR(VLOOKUP(AW10,anniversaire!$X$2:$Z$100,2,0)),"",VLOOKUP(AW10,anniversaire!$X$2:$Z$100,2,0)) | BA10: =IF(ISERROR(VLOOKUP(AW10,fête!$B$2:$C$367,2,0)),"",VLOOKUP(AW10,fête!$B$2:$C$367,2,0)) -> Médard | BB10: =IF(ISERROR(VLOOKUP(AW10,évènements!$A$3:$D$200,3,0)),"",VLOOKUP(AW10,évènements!$A$3:$D$200,3,0)) | BC10: =IF(ISERROR(VLOOKUP(AW10,évènements!$B$3:$D$200,2,0)),"",VLOOKUP(AW10,évènements!$B$3:$D$200,2,0)) | BD10: =CONCATENATE(BB10," ",BC10) | BE10: =BF10 -> 42924 | BF10: =BF9+1 -> 42924 | BG10: =IF(BF10="","",IF(ISERROR(MATCH(BF10,Lune!$A$1:$A$1000,0)),IF(WEEKDAY(BF10)=5,INT((BF10-DATE(YEAR(BF10),1,1))/7+1),IF(AND(WEEKDAY(BF10)=4,NOT( ISERROR(MATCH(BF10+1,Lune!$A$1:$A$1000,0)))),INT((BF10+1-DATE(YEAR(BF10+1),1,1))/7+1),"")),INDEX(Lune!$B$1:$B$1000,MATCH(BF10,Lune!$A$1:$A$1000,0),1))) | BH10: =IF(BI10="",""," '") -> ' | BI10: =IF(ISERROR(VLOOKUP(BF10,anniversaire!$X$2:$Z$100,2,0)),"",VLOOKUP(BF10,anniversaire!$X$2:$Z$100,2,0)) -> Taraud gisèle 62 | BJ10: =IF(ISERROR(VLOOKUP(BF10,fête!$B$2:$C$367,2,0)),"",VLOOKUP(BF10,fête!$B$2:$C$367,2,0)) -> Thibault | BK10: =IF(ISERROR(VLOOKUP(BF10,évènements!$A$3:$D$200,3,0)),"",VLOOKUP(BF10,évènements!$A$3:$D$200,3,0)) | BL10: =IF(ISERROR(VLOOKUP(BF10,évènements!$B$3:$D$200,2,0)),"",VLOOKUP(BF10,évènements!$B$3:$D$200,2,0)) | BM10: =CONCATENATE(BK10," ",BL10) | BN10: =BO10 -> 42955 | BO10: =BO9+1 -> 42955 | BP10: =IF(BO10="","",IF(ISERROR(MATCH(BO10,Lune!$A$1:$A$1000,0)),IF(WEEKDAY(BO10)=5,INT((BO10-DATE(YEAR(BO10),1,1))/7+1),IF(AND(WEEKDAY(BO10)=4,NOT( ISERROR(MATCH(BO10+1,Lune!$A$1:$A$1000,0)))),INT((BO10+1-DATE(YEAR(BO10+1),1,1))/7+1),"")),INDEX(Lune!$B$1:$B$1000,MATCH(BO10,Lune!$A$1:$A$1000,0),1))) | BQ10: =IF(BR10="",""," '") | BR10: =IF(ISERROR(VLOOKUP(BO10,anniversaire!$X$2:$Z$100,2,0)),"",VLOOKUP(BO10,anniversaire!$X$2:$Z$100,2,0)) | BS10: =IF(ISERROR(VLOOKUP(BO10,fête!$B$2:$C$367,2,0)),"",VLOOKUP(BO10,fête!$B$2:$C$367,2,0)) -> Dominique | BT10: =IF(ISERROR(VLOOKUP(BO10,évènements!$A$3:$D$200,3,0)),"",VLOOKUP(BO10,évènements!$A$3:$D$200,3,0)) | BU10: =IF(ISERROR(VLOOKUP(BO10,évènements!$B$3:$D$200,2,0)),"",VLOOKUP(BO10,évènements!$B$3:$D$200,2,0)) | BV10: =CONCATENATE(BT10," ",BU10) | BW10: =BX10 -> 42986 | BX10: =BX9+1 -> 42986 | BY10: =IF(BX10="","",IF(ISERROR(MATCH(BX10,Lune!$A$1:$A$1000,0)),IF(WEEKDAY(BX10)=5,INT((BX10-DATE(YEAR(BX10),1,1))/7+1),IF(AND(WEEKDAY(BX10)=4,NOT( ISERROR(MATCH(BX10+1,Lune!$A$1:$A$1000,0)))),INT((BX10+1-DATE(YEAR(BX10+1),1,1))/7+1),"")),INDEX(Lune!$B$1:$B$1000,MATCH(BX10,Lune!$A$1:$A$1000,0),1))) | BZ10: =IF(CA10="",""," '") | CA10: =IF(ISERROR(VLOOKUP(BX10,anniversaire!$X$2:$Z$100,2,0)),"",VLOOKUP(BX10,anniversaire!$X$2:$Z$100,2,0)) | CB10: =IF(ISERROR(VLOOKUP(BX10,fête!$B$2:$C$367,2,0)),"",VLOOKUP(BX10,fête!$B$2:$C$367,2,0)) -> Nativité | CC10: =IF(ISERROR(VLOOKUP(BX10,évènements!$A$3:$D$200,3,0)),"",VLOOKUP(BX10,évènements!$A$3:$D$200,3,0)) | CD10: =IF(ISERROR(VLOOKUP(BX10,évènements!$B$3:$D$200,2,0)),"",VLOOKUP(BX10,évènements!$B$3:$D$200,2,0)) | CE10: =CONCATENATE(CC10," ",CD10) | CF10: =CG10 -> 43016 | CG10: =CG9+1 -> 43016 | CH10: =IF(CG10="","",IF(ISERROR(MATCH(CG10,Lune!$A$1:$A$1000,0)),IF(WEEKDAY(CG10)=5,INT((CG10-DATE(YEAR(CG10),1,1))/7+1),IF(AND(WEEKDAY(CG10)=4,NOT( ISERROR(MATCH(CG10+1,Lune!$A$1:$A$1000,0)))),INT((CG10+1-DATE(YEAR(CG10+1),1,1))/7+1),"")),INDEX(Lune!$B$1:$B$1000,MATCH(CG10,Lune!$A$1:$A$1000,0),1))) | CI10: =IF(CJ10="",""," '") | CJ10: =IF(ISERROR(VLOOKUP(CG10,anniversaire!$X$2:$Z$100,2,0)),"",VLOOKUP(CG10,anniversaire!$X$2:$Z$100,2,0)) | CK10: =IF(ISERROR(VLOOKUP(CG10,fête!$B$2:$C$367,2,0)),"",VLOOKUP(CG10,fête!$B$2:$C$367,2,0)) -> Pélagie | CL10: =IF(ISERROR(VLOOKUP(CG10,évènements!$A$3:$D$200,3,0)),"",VLOOKUP(CG10,évènements!$A$3:$D$200,3,0)) | CM10: =IF(ISERROR(VLOOKUP(CG10,évènements!$B$3:$D$200,2,0)),"",VLOOKUP(CG10,évènements!$B$3:$D$200,2,0)) | CN10: =CONCATENATE(CL10," ",CM10) | CO10: =CP10 -> 43047 | CP10: =CP9+1 -> 43047 | CQ10: =IF(CP10="","",IF(ISERROR(MATCH(CP10,Lune!$A$1:$A$1000,0)),IF(WEEKDAY(CP10)=5,INT((CP10-DATE(YEAR(CP10),1,1))/7+1),IF(AND(WEEKDAY(CP10)=4,NOT( ISERROR(MATCH(CP10+1,Lune!$A$1:$A$1000,0)))),INT((CP10+1-DATE(YEAR(CP10+1),1,1))/7+1),"")),INDEX(Lune!$B$1:$B$1000,MATCH(CP10,Lune!$A$1:$A$1000,0),1))) | CR10: =IF(CS10="",""," '") | CS10: =IF(ISERROR(VLOOKUP(CP10,anniversaire!$X$2:$Z$100,2,0)),"",VLOOKUP(CP10,anniversaire!$X$2:$Z$100,2,0)) | CT10: =IF(ISERROR(VLOOKUP(CP10,fête!$B$2:$C$367,2,0)),"",VLOOKUP(CP10,fête!$B$2:$C$367,2,0)) -> Geoffroy | CU10: =IF(ISERROR(VLOOKUP(CP10,évènements!$A$3:$D$200,3,0)),"",VLOOKUP(CP10,évènements!$A$3:$D$200,3,0)) | CV10: =IF(ISERROR(VLOOKUP(CP10,évènements!$B$3:$D$200,2,0)),"",VLOOKUP(CP10,évènements!$B$3:$D$200,2,0)) | CW10: =CONCATENATE(CU10," ",CV10) | CX10: =CY10 -> 43077 | CY10: =CY9+1 -> 43077 | CZ10: =IF(CY10="","",IF(ISERROR(MATCH(CY10,Lune!$A$1:$A$1000,0)),IF(WEEKDAY(CY10)=5,INT((CY10-DATE(YEAR(CY10),1,1))/7+1),IF(AND(WEEKDAY(CY10)=4,NOT( ISERROR(MATCH(CY10+1,Lune!$A$1:$A$1000,0)))),INT((CY10+1-DATE(YEAR(CY10+1),1,1))/7+1),"")),INDEX(Lune!$B$1:$B$1000,MATCH(CY10,Lune!$A$1:$A$1000,0),1))) | DA10: =IF(DB10="",""," '") | DB10: =IF(ISERROR(VLOOKUP(CY10,anniversaire!$X$2:$Z$100,2,0)),"",VLOOKUP(CY10,anniversaire!$X$2:$Z$100,2,0)) | DC10: =IF(ISERROR(VLOOKUP(CY10,fête!$B$2:$C$367,2,0)),"",VLOOKUP(CY10,fête!$B$2:$C$367,2,0)) -> Immaculée Conception | DD10: =IF(ISERROR(VLOOKUP(CY10,évènements!$A$3:$D$200,3,0)),"",VLOOKUP(CY10,évènements!$A$3:$D$200,3,0)) | DE10: =IF(ISERROR(VLOOKUP(CY10,évènements!$B$3:$D$200,2,0)),"",VLOOKUP(CY10,évènements!$B$3:$D$200,2,0)) | DF10: =CONCATENATE(DD10," ",DE10) | DG10: =DH10 -> 43108 | DH10: =DH9+1 -> 43108 | DI10: =IF(DH10="","",IF(ISERROR(MATCH(DH10,Lune!$A$1:$A$1000,0)),IF(WEEKDAY(DH10)=5,INT((DH10-DATE(YEAR(DH10),1,1))/7+1),IF(AND(WEEKDAY(DH10)=4,NOT( ISERROR(MATCH(DH10+1,Lune!$A$1:$A$1000,0)))),INT((DH10+1-DATE(YEAR(DH10+1),1,1))/7+1),"")),INDEX(Lune!$B$1:$B$1000,MATCH(DH10,Lune!$A$1:$A$1000,0),1))) -> ◑ | DJ10: =F10 | DK10: =G10 | DL10: =H10 -> Lucien | DM10: =IF(ISERROR(VLOOKUP(DH10,évènements!$A$3:$D$200,3,0)),"",VLOOKUP(DH10,évènements!$A$3:$D$200,3,0)) | DN10: =IF(ISERROR(VLOOKUP(DH10,évènements!$B$3:$D$200,2,0)),"",VLOOKUP(DH10,évènements!$B$3:$D$200,2,0)) | DO10: =CONCATENATE(DM10," ",DN10)
C11: =D11 -> 42744 | D11: =D10+1 -> 42744 | E11: =IF(D11="","",IF(ISERROR(MATCH(D11,Lune!$A$1:$A$1000,0)),IF(WEEKDAY(D11)=5,INT((D11-DATE(YEAR(D11),1,1))/7+1),IF(AND(WEEKDAY(D11)=4,NOT( ISERROR(MATCH(D11+1,Lune!$A$1:$A$1000,0)))),INT((D11+1-DATE(YEAR(D11+1),1,1))/7+1),"")),INDEX(Lune!$B$1:$B$1000,MATCH(D11,Lune!$A$1:$A$1000,0),1))) | F11: =IF(G11="",""," '") | G11: =IF(ISERROR(VLOOKUP(D11,anniversaire!$X$2:$Z$100,2,0)),"",VLOOKUP(D11,anniversaire!$X$2:$Z$100,2,0)) | H11: =IF(ISERROR(VLOOKUP(D11,fête!$B$2:$C$367,2,0)),"",VLOOKUP(D11,fête!$B$2:$C$367,2,0)) -> Alix | I11: =IF(ISERROR(VLOOKUP(D11,évènements!$A$3:$D$200,3,0)),"",VLOOKUP(D11,évènements!$A$3:$D$200,3,0)) | J11: =IF(ISERROR(VLOOKUP(D11,évènements!$B$3:$D$200,2,0)),"",VLOOKUP(D11,évènements!$B$3:$D$200,2,0)) | K11: =CONCATENATE(I11," ",J11) | L11: =M11 -> 42775 | M11: =M10+1 -> 42775 | N11: =IF(M11="","",IF(ISERROR(MATCH(M11,Lune!$A$1:$A$1000,0)),IF(WEEKDAY(M11)=5,INT((M11-DATE(YEAR(M11),1,1))/7+1),IF(AND(WEEKDAY(M11)=4,NOT( ISERROR(MATCH(M11+1,Lune!$A$1:$A$1000,0)))),INT((M11+1-DATE(YEAR(M11+1),1,1))/7+1),"")),INDEX(Lune!$B$1:$B$1000,MATCH(M11,Lune!$A$1:$A$1000,0),1))) -> 6 | O11: =IF(P11="",""," '") | P11: =IF(ISERROR(VLOOKUP(M11,anniversaire!$X$2:$Z$100,2,0)),"",VLOOKUP(M11,anniversaire!$X$2:$Z$100,2,0)) | Q11: =IF(ISERROR(VLOOKUP(M11,fête!$B$2:$C$367,2,0)),"",VLOOKUP(M11,fête!$B$2:$C$367,2,0)) -> Apolline | R11: =IF(ISERROR(VLOOKUP(M11,évènements!$A$3:$D$200,3,0)),"",VLOOKUP(M11,évènements!$A$3:$D$200,3,0)) | S11: =IF(ISERROR(VLOOKUP(M11,évènements!$B$3:$D$200,2,0)),"",VLOOKUP(M11,évènements!$B$3:$D$200,2,0)) | T11: =CONCATENATE(R11," ",S11) | U11: =V11 -> 42803 | V11: =V10+1 -> 42803 | W11: =IF(V11="","",IF(ISERROR(MATCH(V11,Lune!$A$1:$A$1000,0)),IF(WEEKDAY(V11)=5,INT((V11-DATE(YEAR(V11),1,1))/7+1),IF(AND(WEEKDAY(V11)=4,NOT( ISERROR(MATCH(V11+1,Lune!$A$1:$A$1000,0)))),INT((V11+1-DATE(YEAR(V11+1),1,1))/7+1),"")),INDEX(Lune!$B$1:$B$1000,MATCH(V11,Lune!$A$1:$A$1000,0),1))) -> 10 | X11: =IF(Y11="",""," '") | Y11: =IF(ISERROR(VLOOKUP(V11,anniversaire!$X$2:$Z$100,2,0)),"",VLOOKUP(V11,anniversaire!$X$2:$Z$100,2,0)) | Z11: =IF(ISERROR(VLOOKUP(V11,fête!$B$2:$C$367,2,0)),"",VLOOKUP(V11,fête!$B$2:$C$367,2,0)) -> Françoise | AA11: =IF(ISERROR(VLOOKUP(V11,évènements!$A$3:$D$200,3,0)),"",VLOOKUP(V11,évènements!$A$3:$D$200,3,0)) | AB11: =IF(ISERROR(VLOOKUP(V11,évènements!$B$3:$D$200,2,0)),"",VLOOKUP(V11,évènements!$B$3:$D$200,2,0)) | AC11: =CONCATENATE(AA11," ",AB11) | AD11: =AE11 -> 42834 | AE11: =AE10+1 -> 42834 | AF11: =IF(AE11="","",IF(ISERROR(MATCH(AE11,Lune!$A$1:$A$1000,0)),IF(WEEKDAY(AE11)=5,INT((AE11-DATE(YEAR(AE11),1,1))/7+1),IF(AND(WEEKDAY(AE11)=4,NOT( ISERROR(MATCH(AE11+1,Lune!$A$1:$A$1000,0)))),INT((AE11+1-DATE(YEAR(AE11+1),1,1))/7+1),"")),INDEX(Lune!$B$1:$B$1000,MATCH(AE11,Lune!$A$1:$A$1000,0),1))) | AG11: =IF(AH11="",""," '") | AH11: =IF(ISERROR(VLOOKUP(AE11,anniversaire!$X$2:$Z$100,2,0)),"",VLOOKUP(AE11,anniversaire!$X$2:$Z$100,2,0)) | AI11: =IF(ISERROR(VLOOKUP(AE11,fête!$B$2:$C$367,2,0)),"",VLOOKUP(AE11,fête!$B$2:$C$367,2,0)) -> Gautier | AJ11: =IF(ISERROR(VLOOKUP(AE11,évènements!$A$3:$D$200,3,0)),"",VLOOKUP(AE11,évènements!$A$3:$D$200,3,0)) | AK11: =IF(ISERROR(VLOOKUP(AE11,évènements!$B$3:$D$200,2,0)),"",VLOOKUP(AE11,évènements!$B$3:$D$200,2,0)) | AL11: =CONCATENATE(AJ11," ",AK11) | AM11: =AN11 -> 42864 | AN11: =AN10+1 -> 42864 | AO11: =IF(AN11="","",IF(ISERROR(MATCH(AN11,Lune!$A$1:$A$1000,0)),IF(WEEKDAY(AN11)=5,INT((AN11-DATE(YEAR(AN11),1,1))/7+1),IF(AND(WEEKDAY(AN11)=4,NOT( ISERROR(MATCH(AN11+1,Lune!$A$1:$A$1000,0)))),INT((AN11+1-DATE(YEAR(AN11+1),1,1))/7+1),"")),INDEX(Lune!$B$1:$B$1000,MATCH(AN11,Lune!$A$1:$A$1000,0),1))) | AP11: =IF(AQ11="","","'") -> ' | AQ11: =IF(ISERROR(VLOOKUP(AN11,anniversaire!$X$2:$Z$100,2,0)),"",VLOOKUP(AN11,anniversaire!$X$2:$Z$100,2,0)) -> Virely élodie 3 | AR11: =IF(ISERROR(VLOOKUP(AN11,fête!$B$2:$C$367,2,0)),"",VLOOKUP(AN11,fête!$B$2:$C$367,2,0)) -> Pacôme | AS11: =IF(ISERROR(VLOOKUP(AN11,évènements!$A$3:$D$200,3,0)),"",VLOOKUP(AN11,évènements!$A$3:$D$200,3,0)) | AT11: =IF(ISERROR(VLOOKUP(AN11,évènements!$B$3:$D$200,2,0)),"",VLOOKUP(AN11,évènements!$B$3:$D$200,2,0)) | AU11: =CONCATENATE(AS11," ",AT11) | AV11: =AW11 -> 42895 | AW11: =AW10+1 -> 42895 | AX11: =IF(AW11="","",IF(ISERROR(MATCH(AW11,Lune!$A$1:$A$1000,0)),IF(WEEKDAY(AW11)=5,INT((AW11-DATE(YEAR(AW11),1,1))/7+1),IF(AND(WEEKDAY(AW11)=4,NOT( ISERROR(MATCH(AW11+1,Lune!$A$1:$A$1000,0)))),INT((AW11+1-DATE(YEAR(AW11+1),1,1))/7+1),"")),INDEX(Lune!$B$1:$B$1000,MATCH(AW11,Lune!$A$1:$A$1000,0),1))) -> ○ | AY11: =IF(AZ11="",""," '") | AZ11: =IF(ISERROR(VLOOKUP(AW11,anniversaire!$X$2:$Z$100,2,0)),"",VLOOKUP(AW11,anniversaire!$X$2:$Z$100,2,0)) | BA11: =IF(ISERROR(VLOOKUP(AW11,fête!$B$2:$C$367,2,0)),"",VLOOKUP(AW11,fête!$B$2:$C$367,2,0)) -> Diane | BB11: =IF(ISERROR(VLOOKUP(AW11,évènements!$A$3:$D$200,3,0)),"",VLOOKUP(AW11,évènements!$A$3:$D$200,3,0)) | BC11: =IF(ISERROR(VLOOKUP(AW11,évènements!$B$3:$D$200,2,0)),"",VLOOKUP(AW11,évènements!$B$3:$D$200,2,0)) -> rdv essai médical prothése | BD11: =CONCATENATE(BB11," ",BC11) -> rdv essai médical prothése | BE11: =BF11 -> 42925 | BF11: =BF10+1 -> 42925 | BG11: =IF(BF11="","",IF(ISERROR(MATCH(BF11,Lune!$A$1:$A$1000,0)),IF(WEEKDAY(BF11)=5,INT((BF11-DATE(YEAR(BF11),1,1))/7+1),IF(AND(WEEKDAY(BF11)=4,NOT( ISERROR(MATCH(BF11+1,Lune!$A$1:$A$1000,0)))),INT((BF11+1-DATE(YEAR(BF11+1),1,1))/7+1),"")),INDEX(Lune!$B$1:$B$1000,MATCH(BF11,Lune!$A$1:$A$1000,0),1))) -> ○ | BH11: =IF(BI11="",""," '") | BI11: =IF(ISERROR(VLOOKUP(BF11,anniversaire!$X$2:$Z$100,2,0)),"",VLOOKUP(BF11,anniversaire!$X$2:$Z$100,2,0)) | BJ11: =IF(ISERROR(VLOOKUP(BF11,fête!$B$2:$C$367,2,0)),"",VLOOKUP(BF11,fête!$B$2:$C$367,2,0)) -> Amandine | BK11: =IF(ISERROR(VLOOKUP(BF11,évènements!$A$3:$D$200,3,0)),"",VLOOKUP(BF11,évènements!$A$3:$D$200,3,0)) | BL11: =IF(ISERROR(VLOOKUP(BF11,évènements!$B$3:$D$200,2,0)),"",VLOOKUP(BF11,évènements!$B$3:$D$200,2,0)) | BM11: =CONCATENATE(BK11," ",BL11) | BN11: =BO11 -> 42956 | BO11: =BO10+1 -> 42956 | BP11: =IF(BO11="","",IF(ISERROR(MATCH(BO11,Lune!$A$1:$A$1000,0)),IF(WEEKDAY(BO11)=5,INT((BO11-DATE(YEAR(BO11),1,1))/7+1),IF(AND(WEEKDAY(BO11)=4,NOT( ISERROR(MATCH(BO11+1,Lune!$A$1:$A$1000,0)))),INT((BO11+1-DATE(YEAR(BO11+1),1,1))/7+1),"")),INDEX(Lune!$B$1:$B$1000,MATCH(BO11,Lune!$A$1:$A$1000,0),1))) | BQ11: =IF(BR11="",""," '") | BR11: =IF(ISERROR(VLOOKUP(BO11,anniversaire!$X$2:$Z$100,2,0)),"",VLOOKUP(BO11,anniversaire!$X$2:$Z$100,2,0)) | BS11: =IF(ISERROR(VLOOKUP(BO11,fête!$B$2:$C$367,2,0)),"",VLOOKUP(BO11,fête!$B$2:$C$367,2,0)) -> Amour | BT11: =IF(ISERROR(VLOOKUP(BO11,évènements!$A$3:$D$200,3,0)),"",VLOOKUP(BO11,évènements!$A$3:$D$200,3,0)) | BU11: =IF(ISERROR(VLOOKUP(BO11,évènements!$B$3:$D$200,2,0)),"",VLOOKUP(BO11,évènements!$B$3:$D$200,2,0)) | BV11: =CONCATENATE(BT11," ",BU11) | BW11: =BX11 -> 42987 | BX11: =BX10+1 -> 42987 | BY11: =IF(BX11="","",IF(ISERROR(MATCH(BX11,Lune!$A$1:$A$1000,0)),IF(WEEKDAY(BX11)=5,INT((BX11-DATE(YEAR(BX11),1,1))/7+1),IF(AND(WEEKDAY(BX11)=4,NOT( ISERROR(MATCH(BX11+1,Lune!$A$1:$A$1000,0)))),INT((BX11+1-DATE(YEAR(BX11+1),1,1))/7+1),"")),INDEX(Lune!$B$1:$B$1000,MATCH(BX11,Lune!$A$1:$A$1000,0),1))) | BZ11: =IF(CA11="",""," '") | CA11: =IF(ISERROR(VLOOKUP(BX11,anniversaire!$X$2:$Z$100,2,0)),"",VLOOKUP(BX11,anniversaire!$X$2:$Z$100,2,0)) | CB11: =IF(ISERROR(VLOOKUP(BX11,fête!$B$2:$C$367,2,0)),"",VLOOKUP(BX11,fête!$B$2:$C$367,2,0)) -> Alain | CC11: =IF(ISERROR(VLOOKUP(BX11,évènements!$A$3:$D$200,3,0)),"",VLOOKUP(BX11,évènements!$A$3:$D$200,3,0)) | CD11: =IF(ISERROR(VLOOKUP(BX11,évènements!$B$3:$D$200,2,0)),"",VLOOKUP(BX11,évènements!$B$3:$D$200,2,0)) | CE11: =CONCATENATE(CC11," ",CD11) | CF11: =CG11 -> 43017 | CG11: =CG10+1 -> 43017 | CH11: =IF(CG11="","",IF(ISERROR(MATCH(CG11,Lune!$A$1:$A$1000,0)),IF(WEEKDAY(CG11)=5,INT((CG11-DATE(YEAR(CG11),1,1))/7+1),IF(AND(WEEKDAY(CG11)=4,NOT( ISERROR(MATCH(CG11+1,Lune!$A$1:$A$1000,0)))),INT((CG11+1-DATE(YEAR(CG11+1),1,1))/7+1),"")),INDEX(Lune!$B$1:$B$1000,MATCH(CG11,Lune!$A$1:$A$1000,0),1))) | CI11: =IF(CJ11="",""," '") | CJ11: =IF(ISERROR(VLOOKUP(CG11,anniversaire!$X$2:$Z$100,2,0)),"",VLOOKUP(CG11,anniversaire!$X$2:$Z$100,2,0)) | CK11: =IF(ISERROR(VLOOKUP(CG11,fête!$B$2:$C$367,2,0)),"",VLOOKUP(CG11,fête!$B$2:$C$367,2,0)) -> Denis | CL11: =IF(ISERROR(VLOOKUP(CG11,évènements!$A$3:$D$200,3,0)),"",VLOOKUP(CG11,évènements!$A$3:$D$200,3,0)) | CM11: =IF(ISERROR(VLOOKUP(CG11,évènements!$B$3:$D$200,2,0)),"",VLOOKUP(CG11,évènements!$B$3:$D$200,2,0)) | CN11: =CONCATENATE(CL11," ",CM11) | CO11: =CP11 -> 43048 | CP11: =CP10+1 -> 43048 | CQ11: =IF(CP11="","",IF(ISERROR(MATCH(CP11,Lune!$A$1:$A$1000,0)),IF(WEEKDAY(CP11)=5,INT((CP11-DATE(YEAR(CP11),1,1))/7+1),IF(AND(WEEKDAY(CP11)=4,NOT( ISERROR(MATCH(CP11+1,Lune!$A$1:$A$1000,0)))),INT((CP11+1-DATE(YEAR(CP11+1),1,1))/7+1),"")),INDEX(Lune!$B$1:$B$1000,MATCH(CP11,Lune!$A$1:$A$1000,0),1))) -> 45 | CR11: =IF(CS11="",""," '") | CS11: =IF(ISERROR(VLOOKUP(CP11,anniversaire!$X$2:$Z$100,2,0)),"",VLOOKUP(CP11,anniversaire!$X$2:$Z$100,2,0)) | CT11: =IF(ISERROR(VLOOKUP(CP11,fête!$B$2:$C$367,2,0)),"",VLOOKUP(CP11,fête!$B$2:$C$367,2,0)) -> Théodore | CU11: =IF(ISERROR(VLOOKUP(CP11,évènements!$A$3:$D$200,3,0)),"",VLOOKUP(CP11,évènements!$A$3:$D$200,3,0)) | CV11: =IF(ISERROR(VLOOKUP(CP11,évènements!$B$3:$D$200,2,0)),"",VLOOKUP(CP11,évènements!$B$3:$D$200,2,0)) | CW11: =CONCATENATE(CU11," ",CV11) | CX11: =CY11 -> 43078 | CY11: =CY10+1 -> 43078 | CZ11: =IF(CY11="","",IF(ISERROR(MATCH(CY11,Lune!$A$1:$A$1000,0)),IF(WEEKDAY(CY11)=5,INT((CY11-DATE(YEAR(CY11),1,1))/7+1),IF(AND(WEEKDAY(CY11)=4,NOT( ISERROR(MATCH(CY11+1,Lune!$A$1:$A$1000,0)))),INT((CY11+1-DATE(YEAR(CY11+1),1,1))/7+1),"")),INDEX(Lune!$B$1:$B$1000,MATCH(CY11,Lune!$A$1:$A$1000,0),1))) | DA11: =IF(DB11="",""," '") | DB11: =IF(ISERROR(VLOOKUP(CY11,anniversaire!$X$2:$Z$100,2,0)),"",VLOOKUP(CY11,anniversaire!$X$2:$Z$100,2,0)) | DC11: =IF(ISERROR(VLOOKUP(CY11,fête!$B$2:$C$367,2,0)),"",VLOOKUP(CY11,fête!$B$2:$C$367,2,0)) -> Pierre Fourier | DD11: =IF(ISERROR(VLOOKUP(CY11,évènements!$A$3:$D$200,3,0)),"",VLOOKUP(CY11,évènements!$A$3:$D$200,3,0)) | DE11: =IF(ISERROR(VLOOKUP(CY11,évènements!$B$3:$D$200,2,0)),"",VLOOKUP(CY11,évènements!$B$3:$D$200,2,0)) | DF11: =CONCATENATE(DD11," ",DE11) | DG11: =DH11 -> 43109 | DH11: =DH10+1 -> 43109 | DI11: =IF(DH11="","",IF(ISERROR(MATCH(DH11,Lune!$A$1:$A$1000,0)),IF(WEEKDAY(DH11)=5,INT((DH11-DATE(YEAR(DH11),1,1))/7+1),IF(AND(WEEKDAY(DH11)=4,NOT( ISERROR(MATCH(DH11+1,Lune!$A$1:$A$1000,0)))),INT((DH11+1-DATE(YEAR(DH11+1),1,1))/7+1),"")),INDEX(Lune!$B$1:$B$1000,MATCH(DH11,Lune!$A$1:$A$1000,0),1))) | DJ11: =F11 | DK11: =G11 | DL11: =H11 -> Alix | DM11: =IF(ISERROR(VLOOKUP(DH11,évènements!$A$3:$D$200,3,0)),"",VLOOKUP(DH11,évènements!$A$3:$D$200,3,0)) | DN11: =IF(ISERROR(VLOOKUP(DH11,évènements!$B$3:$D$200,2,0)),"",VLOOKUP(DH11,évènements!$B$3:$D$200,2,0)) | DO11: =CONCATENATE(DM11," ",DN11)
C12: =D12 -> 42745 | D12: =D11+1 -> 42745 | E12: =IF(D12="","",IF(ISERROR(MATCH(D12,Lune!$A$1:$A$1000,0)),IF(WEEKDAY(D12)=5,INT((D12-DATE(YEAR(D12),1,1))/7+1),IF(AND(WEEKDAY(D12)=4,NOT( ISERROR(MATCH(D12+1,Lune!$A$1:$A$1000,0)))),INT((D12+1-DATE(YEAR(D12+1),1,1))/7+1),"")),INDEX(Lune!$B$1:$B$1000,MATCH(D12,Lune!$A$1:$A$1000,0),1))) | F12: =IF(G12="",""," '") | G12: =IF(ISERROR(VLOOKUP(D12,anniversaire!$X$2:$Z$100,2,0)),"",VLOOKUP(D12,anniversaire!$X$2:$Z$100,2,0)) | H12: =IF(ISERROR(VLOOKUP(D12,fête!$B$2:$C$367,2,0)),"",VLOOKUP(D12,fête!$B$2:$C$367,2,0)) -> Guillaume | I12: =IF(ISERROR(VLOOKUP(D12,évènements!$A$3:$D$200,3,0)),"",VLOOKUP(D12,évènements!$A$3:$D$200,3,0)) | J12: =IF(ISERROR(VLOOKUP(D12,évènements!$B$3:$D$200,2,0)),"",VLOOKUP(D12,évènements!$B$3:$D$200,2,0)) | K12: =CONCATENATE(I12," ",J12) | L12: =M12 -> 42776 | M12: =M11+1 -> 42776 | N12: =IF(M12="","",IF(ISERROR(MATCH(M12,Lune!$A$1:$A$1000,0)),IF(WEEKDAY(M12)=5,INT((M12-DATE(YEAR(M12),1,1))/7+1),IF(AND(WEEKDAY(M12)=4,NOT( ISERROR(MATCH(M12+1,Lune!$A$1:$A$1000,0)))),INT((M12+1-DATE(YEAR(M12+1),1,1))/7+1),"")),INDEX(Lune!$B$1:$B$1000,MATCH(M12,Lune!$A$1:$A$1000,0),1))) | O12: =IF(P12="",""," '") | P12: =IF(ISERROR(VLOOKUP(M12,anniversaire!$X$2:$Z$100,2,0)),"",VLOOKUP(M12,anniversaire!$X$2:$Z$100,2,0)) | Q12: =IF(ISERROR(VLOOKUP(M12,fête!$B$2:$C$367,2,0)),"",VLOOKUP(M12,fête!$B$2:$C$367,2,0)) -> Arnaud | R12: =IF(ISERROR(VLOOKUP(M12,évènements!$A$3:$D$200,3,0)),"",VLOOKUP(M12,évènements!$A$3:$D$200,3,0)) | S12: =IF(ISERROR(VLOOKUP(M12,évènements!$B$3:$D$200,2,0)),"",VLOOKUP(M12,évènements!$B$3:$D$200,2,0)) | T12: =CONCATENATE(R12," ",S12) | U12: =V12 -> 42804 | V12: =V11+1 -> 42804 | W12: =IF(V12="","",IF(ISERROR(MATCH(V12,Lune!$A$1:$A$1000,0)),IF(WEEKDAY(V12)=5,INT((V12-DATE(YEAR(V12),1,1))/7+1),IF(AND(WEEKDAY(V12)=4,NOT( ISERROR(MATCH(V12+1,Lune!$A$1:$A$1000,0)))),INT((V12+1-DATE(YEAR(V12+1),1,1))/7+1),"")),INDEX(Lune!$B$1:$B$1000,MATCH(V12,Lune!$A$1:$A$1000,0),1))) | X12: =IF(Y12="",""," '") | Y12: =IF(ISERROR(VLOOKUP(V12,anniversaire!$X$2:$Z$100,2,0)),"",VLOOKUP(V12,anniversaire!$X$2:$Z$100,2,0)) | Z12: =IF(ISERROR(VLOOKUP(V12,fête!$B$2:$C$367,2,0)),"",VLOOKUP(V12,fête!$B$2:$C$367,2,0)) -> Vivien | AA12: =IF(ISERROR(VLOOKUP(V12,évènements!$A$3:$D$200,3,0)),"",VLOOKUP(V12,évènements!$A$3:$D$200,3,0)) | AB12: =IF(ISERROR(VLOOKUP(V12,évènements!$B$3:$D$200,2,0)),"",VLOOKUP(V12,évènements!$B$3:$D$200,2,0)) | AC12: =CONCATENATE(AA12," ",AB12) | AD12: =AE12 -> 42835 | AE12: =AE11+1 -> 42835 | AF12: =IF(AE12="","",IF(ISERROR(MATCH(AE12,Lune!$A$1:$A$1000,0)),IF(WEEKDAY(AE12)=5,INT((AE12-DATE(YEAR(AE12),1,1))/7+1),IF(AND(WEEKDAY(AE12)=4,NOT( ISERROR(MATCH(AE12+1,Lune!$A$1:$A$1000,0)))),INT((AE12+1-DATE(YEAR(AE12+1),1,1))/7+1),"")),INDEX(Lune!$B$1:$B$1000,MATCH(AE12,Lune!$A$1:$A$1000,0),1))) | AG12: =IF(AH12="",""," '") | AH12: =IF(ISERROR(VLOOKUP(AE12,anniversaire!$X$2:$Z$100,2,0)),"",VLOOKUP(AE12,anniversaire!$X$2:$Z$100,2,0)) | AI12: =IF(ISERROR(VLOOKUP(AE12,fête!$B$2:$C$367,2,0)),"",VLOOKUP(AE12,fête!$B$2:$C$367,2,0)) -> Fulbert | AJ12: =IF(ISERROR(VLOOKUP(AE12,évènements!$A$3:$D$200,3,0)),"",VLOOKUP(AE12,évènements!$A$3:$D$200,3,0)) | AK12: =IF(ISERROR(VLOOKUP(AE12,évènements!$B$3:$D$200,2,0)),"",VLOOKUP(AE12,évènements!$B$3:$D$200,2,0)) | AL12: =CONCATENATE(AJ12," ",AK12) | AM12: =AN12 -> 42865 | AN12: =AN11+1 -> 42865 | AO12: =IF(AN12="","",IF(ISERROR(MATCH(AN12,Lune!$A$1:$A$1000,0)),IF(WEEKDAY(AN12)=5,INT((AN12-DATE(YEAR(AN12),1,1))/7+1),IF(AND(WEEKDAY(AN12)=4,NOT( ISERROR(MATCH(AN12+1,Lune!$A$1:$A$1000,0)))),INT((AN12+1-DATE(YEAR(AN12+1),1,1))/7+1),"")),INDEX(Lune!$B$1:$B$1000,MATCH(AN12,Lune!$A$1:$A$1000,0),1))) -> ○ | AP12: =IF(AQ12="","","'") | AQ12: =IF(ISERROR(VLOOKUP(AN12,anniversaire!$X$2:$Z$100,2,0)),"",VLOOKUP(AN12,anniversaire!$X$2:$Z$100,2,0)) | AR12: =IF(ISERROR(VLOOKUP(AN12,fête!$B$2:$C$367,2,0)),"",VLOOKUP(AN12,fête!$B$2:$C$367,2,0)) -> Solange | AS12: =IF(ISERROR(VLOOKUP(AN12,évènements!$A$3:$D$200,3,0)),"",VLOOKUP(AN12,évènements!$A$3:$D$200,3,0)) | AT12: =IF(ISERROR(VLOOKUP(AN12,évènements!$B$3:$D$200,2,0)),"",VLOOKUP(AN12,évènements!$B$3:$D$200,2,0)) | AU12: =CONCATENATE(AS12," ",AT12) | AV12: =AW12 -> 42896 | AW12: =AW11+1 -> 42896 | AX12: =IF(AW12="","",IF(ISERROR(MATCH(AW12,Lune!$A$1:$A$1000,0)),IF(WEEKDAY(AW12)=5,INT((AW12-DATE(YEAR(AW12),1,1))/7+1),IF(AND(WEEKDAY(AW12)=4,NOT( ISERROR(MATCH(AW12+1,Lune!$A$1:$A$1000,0)))),INT((AW12+1-DATE(YEAR(AW12+1),1,1))/7+1),"")),INDEX(Lune!$B$1:$B$1000,MATCH(AW12,Lune!$A$1:$A$1000,0),1))) | AY12: =IF(AZ12="",""," '") | AZ12: =IF(ISERROR(VLOOKUP(AW12,anniversaire!$X$2:$Z$100,2,0)),"",VLOOKUP(AW12,anniversaire!$X$2:$Z$100,2,0)) | BA12: =IF(ISERROR(VLOOKUP(AW12,fête!$B$2:$C$367,2,0)),"",VLOOKUP(AW12,fête!$B$2:$C$367,2,0)) -> Landry | BB12: =IF(ISERROR(VLOOKUP(AW12,évènements!$A$3:$D$200,3,0)),"",VLOOKUP(AW12,évènements!$A$3:$D$200,3,0)) | BC12: =IF(ISERROR(VLOOKUP(AW12,évènements!$B$3:$D$200,2,0)),"",VLOOKUP(AW12,évènements!$B$3:$D$200,2,0)) | BD12: =CONCATENATE(BB12," ",BC12) | BE12: =BF12 -> 42926 | BF12: =BF11+1 -> 42926 | BG12: =IF(BF12="","",IF(ISERROR(MATCH(BF12,Lune!$A$1:$A$1000,0)),IF(WEEKDAY(BF12)=5,INT((BF12-DATE(YEAR(BF12),1,1))/7+1),IF(AND(WEEKDAY(BF12)=4,NOT( ISERROR(MATCH(BF12+1,Lune!$A$1:$A$1000,0)))),INT((BF12+1-DATE(YEAR(BF12+1),1,1))/7+1),"")),INDEX(Lune!$B$1:$B$1000,MATCH(BF12,Lune!$A$1:$A$1000,0),1))) | BH12: =IF(BI12="",""," '") | BI12: =IF(ISERROR(VLOOKUP(BF12,anniversaire!$X$2:$Z$100,2,0)),"",VLOOKUP(BF12,anniversaire!$X$2:$Z$100,2,0)) | BJ12: =IF(ISERROR(VLOOKUP(BF12,fête!$B$2:$C$367,2,0)),"",VLOOKUP(BF12,fête!$B$2:$C$367,2,0)) -> Ulrich | BK12: =IF(ISERROR(VLOOKUP(BF12,évènements!$A$3:$D$200,3,0)),"",VLOOKUP(BF12,évènements!$A$3:$D$200,3,0)) | BL12: =IF(ISERROR(VLOOKUP(BF12,évènements!$B$3:$D$200,2,0)),"",VLOOKUP(BF12,évènements!$B$3:$D$200,2,0)) | BM12: =CONCATENATE(BK12," ",BL12) | BN12: =BO12 -> 42957 | BO12: =BO11+1 -> 42957 | BP12: =IF(BO12="","",IF(ISERROR(MATCH(BO12,Lune!$A$1:$A$1000,0)),IF(WEEKDAY(BO12)=5,INT((BO12-DATE(YEAR(BO12),1,1))/7+1),IF(AND(WEEKDAY(BO12)=4,NOT( ISERROR(MATCH(BO12+1,Lune!$A$1:$A$1000,0)))),INT((BO12+1-DATE(YEAR(BO12+1),1,1))/7+1),"")),INDEX(Lune!$B$1:$B$1000,MATCH(BO12,Lune!$A$1:$A$1000,0),1))) -> 32 | BQ12: =IF(BR12="",""," '") -> ' | BR12: =IF(ISERROR(VLOOKUP(BO12,anniversaire!$X$2:$Z$100,2,0)),"",VLOOKUP(BO12,anniversaire!$X$2:$Z$100,2,0)) -> Taraud daniel 42 | BS12: =IF(ISERROR(VLOOKUP(BO12,fête!$B$2:$C$367,2,0)),"",VLOOKUP(BO12,fête!$B$2:$C$367,2,0)) -> Laurent | BT12: =IF(ISERROR(VLOOKUP(BO12,évènements!$A$3:$D$200,3,0)),"",VLOOKUP(BO12,évènements!$A$3:$D$200,3,0)) | BU12: =IF(ISERROR(VLOOKUP(BO12,évènements!$B$3:$D$200,2,0)),"",VLOOKUP(BO12,évènements!$B$3:$D$200,2,0)) | BV12: =CONCATENATE(BT12," ",BU12) | BW12: =BX12 -> 42988 | BX12: =BX11+1 -> 42988 | BY12: =IF(BX12="","",IF(ISERROR(MATCH(BX12,Lune!$A$1:$A$1000,0)),IF(WEEKDAY(BX12)=5,INT((BX12-DATE(YEAR(BX12),1,1))/7+1),IF(AND(WEEKDAY(BX12)=4,NOT( ISERROR(MATCH(BX12+1,Lune!$A$1:$A$1000,0)))),INT((BX12+1-DATE(YEAR(BX12+1),1,1))/7+1),"")),INDEX(Lune!$B$1:$B$1000,MATCH(BX12,Lune!$A$1:$A$1000,0),1))) | BZ12: =IF(CA12="",""," '") | CA12: =IF(ISERROR(VLOOKUP(BX12,anniversaire!$X$2:$Z$100,2,0)),"",VLOOKUP(BX12,anniversaire!$X$2:$Z$100,2,0)) | CB12: =IF(ISERROR(VLOOKUP(BX12,fête!$B$2:$C$367,2,0)),"",VLOOKUP(BX12,fête!$B$2:$C$367,2,0)) -> Inès | CC12: =IF(ISERROR(VLOOKUP(BX12,évènements!$A$3:$D$200,3,0)),"",VLOOKUP(BX12,évènements!$A$3:$D$200,3,0)) | CD12: =IF(ISERROR(VLOOKUP(BX12,évènements!$B$3:$D$200,2,0)),"",VLOOKUP(BX12,évènements!$B$3:$D$200,2,0)) | CE12: =CONCATENATE(CC12," ",CD12) | CF12: =CG12 -> 43018 | CG12: =CG11+1 -> 43018 | CH12: =IF(CG12="","",IF(ISERROR(MATCH(CG12,Lune!$A$1:$A$1000,0)),IF(WEEKDAY(CG12)=5,INT((CG12-DATE(YEAR(CG12),1,1))/7+1),IF(AND(WEEKDAY(CG12)=4,NOT( ISERROR(MATCH(CG12+1,Lune!$A$1:$A$1000,0)))),INT((CG12+1-DATE(YEAR(CG12+1),1,1))/7+1),"")),INDEX(Lune!$B$1:$B$1000,MATCH(CG12,Lune!$A$1:$A$1000,0),1))) | CI12: =IF(CJ12="",""," '") | CJ12: =IF(ISERROR(VLOOKUP(CG12,anniversaire!$X$2:$Z$100,2,0)),"",VLOOKUP(CG12,anniversaire!$X$2:$Z$100,2,0)) | CK12: =IF(ISERROR(VLOOKUP(CG12,fête!$B$2:$C$367,2,0)),"",VLOOKUP(CG12,fête!$B$2:$C$367,2,0)) -> Ghislain | CL12: =IF(ISERROR(VLOOKUP(CG12,évènements!$A$3:$D$200,3,0)),"",VLOOKUP(CG12,évènements!$A$3:$D$200,3,0)) | CM12: =IF(ISERROR(VLOOKUP(CG12,évènements!$B$3:$D$200,2,0)),"",VLOOKUP(CG12,évènements!$B$3:$D$200,2,0)) | CN12: =CONCATENATE(CL12," ",CM12) | CO12: =CP12 -> 43049 | CP12: =CP11+1 -> 43049 | CQ12: =IF(CP12="","",IF(ISERROR(MATCH(CP12,Lune!$A$1:$A$1000,0)),IF(WEEKDAY(CP12)=5,INT((CP12-DATE(YEAR(CP12),1,1))/7+1),IF(AND(WEEKDAY(CP12)=4,NOT( ISERROR(MATCH(CP12+1,Lune!$A$1:$A$1000,0)))),INT((CP12+1-DATE(YEAR(CP12+1),1,1))/7+1),"")),INDEX(Lune!$B$1:$B$1000,MATCH(CP12,Lune!$A$1:$A$1000,0),1))) -> ◑ | CR12: =IF(CS12="",""," '") | CS12: =IF(ISERROR(VLOOKUP(CP12,anniversaire!$X$2:$Z$100,2,0)),"",VLOOKUP(CP12,anniversaire!$X$2:$Z$100,2,0)) | CT12: =IF(ISERROR(VLOOKUP(CP12,fête!$B$2:$C$367,2,0)),"",VLOOKUP(CP12,fête!$B$2:$C$367,2,0)) -> Léon | CU12: =IF(ISERROR(VLOOKUP(CP12,évènements!$A$3:$D$200,3,0)),"",VLOOKUP(CP12,évènements!$A$3:$D$200,3,0)) | CV12: =IF(ISERROR(VLOOKUP(CP12,évènements!$B$3:$D$200,2,0)),"",VLOOKUP(CP12,évènements!$B$3:$D$200,2,0)) | CW12: =CONCATENATE(CU12," ",CV12) | CX12: =CY12 -> 43079 | CY12: =CY11+1 -> 43079 | CZ12: =IF(CY12="","",IF(ISERROR(MATCH(CY12,Lune!$A$1:$A$1000,0)),IF(WEEKDAY(CY12)=5,INT((CY12-DATE(YEAR(CY12),1,1))/7+1),IF(AND(WEEKDAY(CY12)=4,NOT( ISERROR(MATCH(CY12+1,Lune!$A$1:$A$1000,0)))),INT((CY12+1-DATE(YEAR(CY12+1),1,1))/7+1),"")),INDEX(Lune!$B$1:$B$1000,MATCH(CY12,Lune!$A$1:$A$1000,0),1))) -> ◑ | DA12: =IF(DB12="",""," '") | DB12: =IF(ISERROR(VLOOKUP(CY12,anniversaire!$X$2:$Z$100,2,0)),"",VLOOKUP(CY12,anniversaire!$X$2:$Z$100,2,0)) | DC12: =IF(ISERROR(VLOOKUP(CY12,fête!$B$2:$C$367,2,0)),"",VLOOKUP(CY12,fête!$B$2:$C$367,2,0)) -> Romaric | DD12: =IF(ISERROR(VLOOKUP(CY12,évènements!$A$3:$D$200,3,0)),"",VLOOKUP(CY12,évènements!$A$3:$D$200,3,0)) | DE12: =IF(ISERROR(VLOOKUP(CY12,évènements!$B$3:$D$200,2,0)),"",VLOOKUP(CY12,évènements!$B$3:$D$200,2,0)) | DF12: =CONCATENATE(DD12," ",DE12) | DG12: =DH12 -> 43110 | DH12: =DH11+1 -> 43110 | DI12: =IF(DH12="","",IF(ISERROR(MATCH(DH12,Lune!$A$1:$A$1000,0)),IF(WEEKDAY(DH12)=5,INT((DH12-DATE(YEAR(DH12),1,1))/7+1),IF(AND(WEEKDAY(DH12)=4,NOT( ISERROR(MATCH(DH12+1,Lune!$A$1:$A$1000,0)))),INT((DH12+1-DATE(YEAR(DH12+1),1,1))/7+1),"")),INDEX(Lune!$B$1:$B$1000,MATCH(DH12,Lune!$A$1:$A$1000,0),1))) | DJ12: =F12 | DK12: =G12 | DL12: =H12 -> Guillaume | DM12: =IF(ISERROR(VLOOKUP(DH12,évènements!$A$3:$D$200,3,0)),"",VLOOKUP(DH12,évènements!$A$3:$D$200,3,0)) | DN12: =IF(ISERROR(VLOOKUP(DH12,évènements!$B$3:$D$200,2,0)),"",VLOOKUP(DH12,évènements!$B$3:$D$200,2,0)) | DO12: =CONCATENATE(DM12," ",DN12)
C13: =D13 -> 42746 | D13: =D12+1 -> 42746 | E13: =IF(D13="","",IF(ISERROR(MATCH(D13,Lune!$A$1:$A$1000,0)),IF(WEEKDAY(D13)=5,INT((D13-DATE(YEAR(D13),1,1))/7+1),IF(AND(WEEKDAY(D13)=4,NOT( ISERROR(MATCH(D13+1,Lune!$A$1:$A$1000,0)))),INT((D13+1-DATE(YEAR(D13+1),1,1))/7+1),"")),INDEX(Lune!$B$1:$B$1000,MATCH(D13,Lune!$A$1:$A$1000,0),1))) -> 2 | F13: =IF(G13="",""," '") | G13: =IF(ISERROR(VLOOKUP(D13,anniversaire!$X$2:$Z$100,2,0)),"",VLOOKUP(D13,anniversaire!$X$2:$Z$100,2,0)) | H13: =IF(ISERROR(VLOOKUP(D13,fête!$B$2:$C$367,2,0)),"",VLOOKUP(D13,fête!$B$2:$C$367,2,0)) -> Pauline | I13: =IF(ISERROR(VLOOKUP(D13,évènements!$A$3:$D$200,3,0)),"",VLOOKUP(D13,évènements!$A$3:$D$200,3,0)) | J13: =IF(ISERROR(VLOOKUP(D13,évènements!$B$3:$D$200,2,0)),"",VLOOKUP(D13,évènements!$B$3:$D$200,2,0)) | K13: =CONCATENATE(I13," ",J13) | L13: =M13 -> 42777 | M13: =M12+1 -> 42777 | N13: =IF(M13="","",IF(ISERROR(MATCH(M13,Lune!$A$1:$A$1000,0)),IF(WEEKDAY(M13)=5,INT((M13-DATE(YEAR(M13),1,1))/7+1),IF(AND(WEEKDAY(M13)=4,NOT( ISERROR(MATCH(M13+1,Lune!$A$1:$A$1000,0)))),INT((M13+1-DATE(YEAR(M13+1),1,1))/7+1),"")),INDEX(Lune!$B$1:$B$1000,MATCH(M13,Lune!$A$1:$A$1000,0),1))) -> ○ | O13: =IF(P13="",""," '") | P13: =IF(ISERROR(VLOOKUP(M13,anniversaire!$X$2:$Z$100,2,0)),"",VLOOKUP(M13,anniversaire!$X$2:$Z$100,2,0)) | Q13: =IF(ISERROR(VLOOKUP(M13,fête!$B$2:$C$367,2,0)),"",VLOOKUP(M13,fête!$B$2:$C$367,2,0)) -> Notre Dame de Lourdes | R13: =IF(ISERROR(VLOOKUP(M13,évènements!$A$3:$D$200,3,0)),"",VLOOKUP(M13,évènements!$A$3:$D$200,3,0)) | S13: =IF(ISERROR(VLOOKUP(M13,évènements!$B$3:$D$200,2,0)),"",VLOOKUP(M13,évènements!$B$3:$D$200,2,0)) | T13: =CONCATENATE(R13," ",S13) | U13: =V13 -> 42805 | V13: =V12+1 -> 42805 | W13: =IF(V13="","",IF(ISERROR(MATCH(V13,Lune!$A$1:$A$1000,0)),IF(WEEKDAY(V13)=5,INT((V13-DATE(YEAR(V13),1,1))/7+1),IF(AND(WEEKDAY(V13)=4,NOT( ISERROR(MATCH(V13+1,Lune!$A$1:$A$1000,0)))),INT((V13+1-DATE(YEAR(V13+1),1,1))/7+1),"")),INDEX(Lune!$B$1:$B$1000,MATCH(V13,Lune!$A$1:$A$1000,0),1))) | X13: =IF(Y13="",""," '") | Y13: =IF(ISERROR(VLOOKUP(V13,anniversaire!$X$2:$Z$100,2,0)),"",VLOOKUP(V13,anniversaire!$X$2:$Z$100,2,0)) | Z13: =IF(ISERROR(VLOOKUP(V13,fête!$B$2:$C$367,2,0)),"",VLOOKUP(V13,fête!$B$2:$C$367,2,0)) -> Rosine | AA13: =IF(ISERROR(VLOOKUP(V13,évènements!$A$3:$D$200,3,0)),"",VLOOKUP(V13,évènements!$A$3:$D$200,3,0)) | AB13: =IF(ISERROR(VLOOKUP(V13,évènements!$B$3:$D$200,2,0)),"",VLOOKUP(V13,évènements!$B$3:$D$200,2,0)) | AC13: =CONCATENATE(AA13," ",AB13) | AD13: =AE13 -> 42836 | AE13: =AE12+1 -> 42836 | AF13: =IF(AE13="","",IF(ISERROR(MATCH(AE13,Lune!$A$1:$A$1000,0)),IF(WEEKDAY(AE13)=5,INT((AE13-DATE(YEAR(AE13),1,1))/7+1),IF(AND(WEEKDAY(AE13)=4,NOT( ISERROR(MATCH(AE13+1,Lune!$A$1:$A$1000,0)))),INT((AE13+1-DATE(YEAR(AE13+1),1,1))/7+1),"")),INDEX(Lune!$B$1:$B$1000,MATCH(AE13,Lune!$A$1:$A$1000,0),1))) -> ○ | AG13: =IF(AH13="",""," '") | AH13: =IF(ISERROR(VLOOKUP(AE13,anniversaire!$X$2:$Z$100,2,0)),"",VLOOKUP(AE13,anniversaire!$X$2:$Z$100,2,0)) | AI13: =IF(ISERROR(VLOOKUP(AE13,fête!$B$2:$C$367,2,0)),"",VLOOKUP(AE13,fête!$B$2:$C$367,2,0)) -> Stanislas | AJ13: =IF(ISERROR(VLOOKUP(AE13,évènements!$A$3:$D$200,3,0)),"",VLOOKUP(AE13,évènements!$A$3:$D$200,3,0)) | AK13: =IF(ISERROR(VLOOKUP(AE13,évènements!$B$3:$D$200,2,0)),"",VLOOKUP(AE13,évènements!$B$3:$D$200,2,0)) | AL13: =CONCATENATE(AJ13," ",AK13) | AM13: =AN13 -> 42866 | AN13: =AN12+1 -> 42866 | AO13: =IF(AN13="","",IF(ISERROR(MATCH(AN13,Lune!$A$1:$A$1000,0)),IF(WEEKDAY(AN13)=5,INT((AN13-DATE(YEAR(AN13),1,1))/7+1),IF(AND(WEEKDAY(AN13)=4,NOT( ISERROR(MATCH(AN13+1,Lune!$A$1:$A$1000,0)))),INT((AN13+1-DATE(YEAR(AN13+1),1,1))/7+1),"")),INDEX(Lune!$B$1:$B$1000,MATCH(AN13,Lune!$A$1:$A$1000,0),1))) -> 19 | AP13: =IF(AQ13="","","'") | AQ13: =IF(ISERROR(VLOOKUP(AN13,anniversaire!$X$2:$Z$100,2,0)),"",VLOOKUP(AN13,anniversaire!$X$2:$Z$100,2,0)) | AR13: =IF(ISERROR(VLOOKUP(AN13,fête!$B$2:$C$367,2,0)),"",VLOOKUP(AN13,fête!$B$2:$C$367,2,0)) -> Estelle | AS13: =IF(ISERROR(VLOOKUP(AN13,évènements!$A$3:$D$200,3,0)),"",VLOOKUP(AN13,évènements!$A$3:$D$200,3,0)) | AT13: =IF(ISERROR(VLOOKUP(AN13,évènements!$B$3:$D$200,2,0)),"",VLOOKUP(AN13,évènements!$B$3:$D$200,2,0)) | AU13: =CONCATENATE(AS13," ",AT13) | AV13: =AW13 -> 42897 | AW13: =AW12+1 -> 42897 | AX13: =IF(AW13="","",IF(ISERROR(MATCH(AW13,Lune!$A$1:$A$1000,0)),IF(WEEKDAY(AW13)=5,INT((AW13-DATE(YEAR(AW13),1,1))/7+1),IF(AND(WEEKDAY(AW13)=4,NOT( ISERROR(MATCH(AW13+1,Lune!$A$1:$A$1000,0)))),INT((AW13+1-DATE(YEAR(AW13+1),1,1))/7+1),"")),INDEX(Lune!$B$1:$B$1000,MATCH(AW13,Lune!$A$1:$A$1000,0),1))) | AY13: =IF(AZ13="",""," '") | AZ13: =IF(ISERROR(VLOOKUP(AW13,anniversaire!$X$2:$Z$100,2,0)),"",VLOOKUP(AW13,anniversaire!$X$2:$Z$100,2,0)) | BA13: =IF(ISERROR(VLOOKUP(AW13,fête!$B$2:$C$367,2,0)),"",VLOOKUP(AW13,fête!$B$2:$C$367,2,0)) -> Barnabé | BB13: =IF(ISERROR(VLOOKUP(AW13,évènements!$A$3:$D$200,3,0)),"",VLOOKUP(AW13,évènements!$A$3:$D$200,3,0)) | BC13: =IF(ISERROR(VLOOKUP(AW13,évènements!$B$3:$D$200,2,0)),"",VLOOKUP(AW13,évènements!$B$3:$D$200,2,0)) | BD13: =CONCATENATE(BB13," ",BC13) | BE13: =BF13 -> 42927 | BF13: =BF12+1 -> 42927 | BG13: =IF(BF13="","",IF(ISERROR(MATCH(BF13,Lune!$A$1:$A$1000,0)),IF(WEEKDAY(BF13)=5,INT((BF13-DATE(YEAR(BF13),1,1))/7+1),IF(AND(WEEKDAY(BF13)=4,NOT( ISERROR(MATCH(BF13+1,Lune!$A$1:$A$1000,0)))),INT((BF13+1-DATE(YEAR(BF13+1),1,1))/7+1),"")),INDEX(Lune!$B$1:$B$1000,MATCH(BF13,Lune!$A$1:$A$1000,0),1))) | BH13: =IF(BI13="",""," '") | BI13: =IF(ISERROR(VLOOKUP(BF13,anniversaire!$X$2:$Z$100,2,0)),"",VLOOKUP(BF13,anniversaire!$X$2:$Z$100,2,0)) | BJ13: =IF(ISERROR(VLOOKUP(BF13,fête!$B$2:$C$367,2,0)),"",VLOOKUP(BF13,fête!$B$2:$C$367,2,0)) -> Benoît | BK13: =IF(ISERROR(VLOOKUP(BF13,évènements!$A$3:$D$200,3,0)),"",VLOOKUP(BF13,évènements!$A$3:$D$200,3,0)) | BL13: =IF(ISERROR(VLOOKUP(BF13,évènements!$B$3:$D$200,2,0)),"",VLOOKUP(BF13,évènements!$B$3:$D$200,2,0)) | BM13: =CONCATENATE(BK13," ",BL13) | BN13: =BO13 -> 42958 | BO13: =BO12+1 -> 42958 | BP13: =IF(BO13="","",IF(ISERROR(MATCH(BO13,Lune!$A$1:$A$1000,0)),IF(WEEKDAY(BO13)=5,INT((BO13-DATE(YEAR(BO13),1,1))/7+1),IF(AND(WEEKDAY(BO13)=4,NOT( ISERROR(MATCH(BO13+1,Lune!$A$1:$A$1000,0)))),INT((BO13+1-DATE(YEAR(BO13+1),1,1))/7+1),"")),INDEX(Lune!$B$1:$B$1000,MATCH(BO13,Lune!$A$1:$A$1000,0),1))) | BQ13: =IF(BR13="",""," '") | BR13: =IF(ISERROR(VLOOKUP(BO13,anniversaire!$X$2:$Z$100,2,0)),"",VLOOKUP(BO13,anniversaire!$X$2:$Z$100,2,0)) | BS13: =IF(ISERROR(VLOOKUP(BO13,fête!$B$2:$C$367,2,0)),"",VLOOKUP(BO13,fête!$B$2:$C$367,2,0)) -> Claire | BT13: =IF(ISERROR(VLOOKUP(BO13,évènements!$A$3:$D$200,3,0)),"",VLOOKUP(BO13,évènements!$A$3:$D$200,3,0)) | BU13: =IF(ISERROR(VLOOKUP(BO13,évènements!$B$3:$D$200,2,0)),"",VLOOKUP(BO13,évènements!$B$3:$D$200,2,0)) | BV13: =CONCATENATE(BT13," ",BU13) | BW13: =BX13 -> 42989 | BX13: =BX12+1 -> 42989 | BY13: =IF(BX13="","",IF(ISERROR(MATCH(BX13,Lune!$A$1:$A$1000,0)),IF(WEEKDAY(BX13)=5,INT((BX13-DATE(YEAR(BX13),1,1))/7+1),IF(AND(WEEKDAY(BX13)=4,NOT( ISERROR(MATCH(BX13+1,Lune!$A$1:$A$1000,0)))),INT((BX13+1-DATE(YEAR(BX13+1),1,1))/7+1),"")),INDEX(Lune!$B$1:$B$1000,MATCH(BX13,Lune!$A$1:$A$1000,0),1))) | BZ13: =IF(CA13="",""," '") | CA13: =IF(ISERROR(VLOOKUP(BX13,anniversaire!$X$2:$Z$100,2,0)),"",VLOOKUP(BX13,anniversaire!$X$2:$Z$100,2,0)) | CB13: =IF(ISERROR(VLOOKUP(BX13,fête!$B$2:$C$367,2,0)),"",VLOOKUP(BX13,fête!$B$2:$C$367,2,0)) -> Adelphe | CC13: =IF(ISERROR(VLOOKUP(BX13,évènements!$A$3:$D$200,3,0)),"",VLOOKUP(BX13,évènements!$A$3:$D$200,3,0)) | CD13: =IF(ISERROR(VLOOKUP(BX13,évènements!$B$3:$D$200,2,0)),"",VLOOKUP(BX13,évènements!$B$3:$D$200,2,0)) | CE13: =CONCATENATE(CC13," ",CD13) | CF13: =CG13 -> 43019 | CG13: =CG12+1 -> 43019 | CH13: =IF(CG13="","",IF(ISERROR(MATCH(CG13,Lune!$A$1:$A$1000,0)),IF(WEEKDAY(CG13)=5,INT((CG13-DATE(YEAR(CG13),1,1))/7+1),IF(AND(WEEKDAY(CG13)=4,NOT( ISERROR(MATCH(CG13+1,Lune!$A$1:$A$1000,0)))),INT((CG13+1-DATE(YEAR(CG13+1),1,1))/7+1),"")),INDEX(Lune!$B$1:$B$1000,MATCH(CG13,Lune!$A$1:$A$1000,0),1))) -> 41 | CI13: =IF(CJ13="",""," '") | CJ13: =IF(ISERROR(VLOOKUP(CG13,anniversaire!$X$2:$Z$100,2,0)),"",VLOOKUP(CG13,anniversaire!$X$2:$Z$100,2,0)) | CK13: =IF(ISERROR(VLOOKUP(CG13,fête!$B$2:$C$367,2,0)),"",VLOOKUP(CG13,fête!$B$2:$C$367,2,0)) -> Firmin | CL13: =IF(ISERROR(VLOOKUP(CG13,évènements!$A$3:$D$200,3,0)),"",VLOOKUP(CG13,évènements!$A$3:$D$200,3,0)) | CM13: =IF(ISERROR(VLOOKUP(CG13,évènements!$B$3:$D$200,2,0)),"",VLOOKUP(CG13,évènements!$B$3:$D$200,2,0)) | CN13: =CONCATENATE(CL13," ",CM13) | CO13: =CP13 -> 43050 | CP13: =CP12+1 -> 43050 | CQ13: =IF(CP13="","",IF(ISERROR(MATCH(CP13,Lune!$A$1:$A$1000,0)),IF(WEEKDAY(CP13)=5,INT((CP13-DATE(YEAR(CP13),1,1))/7+1),IF(AND(WEEKDAY(CP13)=4,NOT( ISERROR(MATCH(CP13+1,Lune!$A$1:$A$1000,0)))),INT((CP13+1-DATE(YEAR(CP13+1),1,1))/7+1),"")),INDEX(Lune!$B$1:$B$1000,MATCH(CP13,Lune!$A$1:$A$1000,0),1))) | CR13: =IF(CS13="",""," '") | CS13: =IF(ISERROR(VLOOKUP(CP13,anniversaire!$X$2:$Z$100,2,0)),"",VLOOKUP(CP13,anniversaire!$X$2:$Z$100,2,0)) | CT13: =IF(ISERROR(VLOOKUP(CP13,fête!$B$2:$C$367,2,0)),"",VLOOKUP(CP13,fête!$B$2:$C$367,2,0)) -> Armistice 1918 | CU13: =IF(ISERROR(VLOOKUP(CP13,évènements!$A$3:$D$200,3,0)),"",VLOOKUP(CP13,évènements!$A$3:$D$200,3,0)) | CV13: =IF(ISERROR(VLOOKUP(CP13,évènements!$B$3:$D$200,2,0)),"",VLOOKUP(CP13,évènements!$B$3:$D$200,2,0)) | CW13: =CONCATENATE(CU13," ",CV13) | CX13: =CY13 -> 43080 | CY13: =CY12+1 -> 43080 | CZ13: =IF(CY13="","",IF(ISERROR(MATCH(CY13,Lune!$A$1:$A$1000,0)),IF(WEEKDAY(CY13)=5,INT((CY13-DATE(YEAR(CY13),1,1))/7+1),IF(AND(WEEKDAY(CY13)=4,NOT( ISERROR(MATCH(CY13+1,Lune!$A$1:$A$1000,0)))),INT((CY13+1-DATE(YEAR(CY13+1),1,1))/7+1),"")),INDEX(Lune!$B$1:$B$1000,MATCH(CY13,Lune!$A$1:$A$1000,0),1))) | DA13: =IF(DB13="",""," '") | DB13: =IF(ISERROR(VLOOKUP(CY13,anniversaire!$X$2:$Z$100,2,0)),"",VLOOKUP(CY13,anniversaire!$X$2:$Z$100,2,0)) | DC13: =IF(ISERROR(VLOOKUP(CY13,fête!$B$2:$C$367,2,0)),"",VLOOKUP(CY13,fête!$B$2:$C$367,2,0)) -> Daniel | DD13: =IF(ISERROR(VLOOKUP(CY13,évènements!$A$3:$D$200,3,0)),"",VLOOKUP(CY13,évènements!$A$3:$D$200,3,0)) | DE13: =IF(ISERROR(VLOOKUP(CY13,évènements!$B$3:$D$200,2,0)),"",VLOOKUP(CY13,évènements!$B$3:$D$200,2,0)) | DF13: =CONCATENATE(DD13," ",DE13) | DG13: =DH13 -> 43111 | DH13: =DH12+1 -> 43111 | DI13: =IF(DH13="","",IF(ISERROR(MATCH(DH13,Lune!$A$1:$A$1000,0)),IF(WEEKDAY(DH13)=5,INT((DH13-DATE(YEAR(DH13),1,1))/7+1),IF(AND(WEEKDAY(DH13)=4,NOT( ISERROR(MATCH(DH13+1,Lune!$A$1:$A$1000,0)))),INT((DH13+1-DATE(YEAR(DH13+1),1,1))/7+1),"")),INDEX(Lune!$B$1:$B$1000,MATCH(DH13,Lune!$A$1:$A$1000,0),1))) -> 2 | DJ13: =F13 | DK13: =G13 | DL13: =H13 -> Pauline | DM13: =IF(ISERROR(VLOOKUP(DH13,évènements!$A$3:$D$200,3,0)),"",VLOOKUP(DH13,évènements!$A$3:$D$200,3,0)) | DN13: =IF(ISERROR(VLOOKUP(DH13,évènements!$B$3:$D$200,2,0)),"",VLOOKUP(DH13,évènements!$B$3:$D$200,2,0)) | DO13: =CONCATENATE(DM13," ",DN13)
C14: =D14 -> 42747 | D14: =D13+1 -> 42747 | E14: =IF(D14="","",IF(ISERROR(MATCH(D14,Lune!$A$1:$A$1000,0)),IF(WEEKDAY(D14)=5,INT((D14-DATE(YEAR(D14),1,1))/7+1),IF(AND(WEEKDAY(D14)=4,NOT( ISERROR(MATCH(D14+1,Lune!$A$1:$A$1000,0)))),INT((D14+1-DATE(YEAR(D14+1),1,1))/7+1),"")),INDEX(Lune!$B$1:$B$1000,MATCH(D14,Lune!$A$1:$A$1000,0),1))) -> ○ | F14: =IF(G14="",""," '") -> ' | G14: =IF(ISERROR(VLOOKUP(D14,anniversaire!$X$2:$Z$100,2,0)),"",VLOOKUP(D14,anniversaire!$X$2:$Z$100,2,0)) -> Virely Alexi 6 | H14: =IF(ISERROR(VLOOKUP(D14,fête!$B$2:$C$367,2,0)),"",VLOOKUP(D14,fête!$B$2:$C$367,2,0)) -> Tatiana | I14: =IF(ISERROR(VLOOKUP(D14,évènements!$A$3:$D$200,3,0)),"",VLOOKUP(D14,évènements!$A$3:$D$200,3,0)) | J14: =IF(ISERROR(VLOOKUP(D14,évènements!$B$3:$D$200,2,0)),"",VLOOKUP(D14,évènements!$B$3:$D$200,2,0)) | K14: =CONCATENATE(I14," ",J14) | L14: =M14 -> 42778 | M14: =M13+1 -> 42778 | N14: =IF(M14="","",IF(ISERROR(MATCH(M14,Lune!$A$1:$A$1000,0)),IF(WEEKDAY(M14)=5,INT((M14-DATE(YEAR(M14),1,1))/7+1),IF(AND(WEEKDAY(M14)=4,NOT( ISERROR(MATCH(M14+1,Lune!$A$1:$A$1000,0)))),INT((M14+1-DATE(YEAR(M14+1),1,1))/7+1),"")),INDEX(Lune!$B$1:$B$1000,MATCH(M14,Lune!$A$1:$A$1000,0),1))) | O14: =IF(P14="",""," '") | P14: =IF(ISERROR(VLOOKUP(M14,anniversaire!$X$2:$Z$100,2,0)),"",VLOOKUP(M14,anniversaire!$X$2:$Z$100,2,0)) | Q14: =IF(ISERROR(VLOOKUP(M14,fête!$B$2:$C$367,2,0)),"",VLOOKUP(M14,fête!$B$2:$C$367,2,0)) -> Félix | R14: =IF(ISERROR(VLOOKUP(M14,évènements!$A$3:$D$200,3,0)),"",VLOOKUP(M14,évènements!$A$3:$D$200,3,0)) | S14: =IF(ISERROR(VLOOKUP(M14,évènements!$B$3:$D$200,2,0)),"",VLOOKUP(M14,évènements!$B$3:$D$200,2,0)) | T14: =CONCATENATE(R14," ",S14) | U14: =V14 -> 42806 | V14: =V13+1 -> 42806 | W14: =IF(V14="","",IF(ISERROR(MATCH(V14,Lune!$A$1:$A$1000,0)),IF(WEEKDAY(V14)=5,INT((V14-DATE(YEAR(V14),1,1))/7+1),IF(AND(WEEKDAY(V14)=4,NOT( ISERROR(MATCH(V14+1,Lune!$A$1:$A$1000,0)))),INT((V14+1-DATE(YEAR(V14+1),1,1))/7+1),"")),INDEX(Lune!$B$1:$B$1000,MATCH(V14,Lune!$A$1:$A$1000,0),1))) -> ○ | X14: =IF(Y14="",""," '") | Y14: =IF(ISERROR(VLOOKUP(V14,anniversaire!$X$2:$Z$100,2,0)),"",VLOOKUP(V14,anniversaire!$X$2:$Z$100,2,0)) | Z14: =IF(ISERROR(VLOOKUP(V14,fête!$B$2:$C$367,2,0)),"",VLOOKUP(V14,fête!$B$2:$C$367,2,0)) -> Justine | AA14: =IF(ISERROR(VLOOKUP(V14,évènements!$A$3:$D$200,3,0)),"",VLOOKUP(V14,évènements!$A$3:$D$200,3,0)) | AB14: =IF(ISERROR(VLOOKUP(V14,évènements!$B$3:$D$200,2,0)),"",VLOOKUP(V14,évènements!$B$3:$D$200,2,0)) | AC14: =CONCATENATE(AA14," ",AB14) | AD14: =AE14 -> 42837 | AE14: =AE13+1 -> 42837 | AF14: =IF(AE14="","",IF(ISERROR(MATCH(AE14,Lune!$A$1:$A$1000,0)),IF(WEEKDAY(AE14)=5,INT((AE14-DATE(YEAR(AE14),1,1))/7+1),IF(AND(WEEKDAY(AE14)=4,NOT( ISERROR(MATCH(AE14+1,Lune!$A$1:$A$1000,0)))),INT((AE14+1-DATE(YEAR(AE14+1),1,1))/7+1),"")),INDEX(Lune!$B$1:$B$1000,MATCH(AE14,Lune!$A$1:$A$1000,0),1))) | AG14: =IF(AH14="",""," '") | AH14: =IF(ISERROR(VLOOKUP(AE14,anniversaire!$X$2:$Z$100,2,0)),"",VLOOKUP(AE14,anniversaire!$X$2:$Z$100,2,0)) | AI14: =IF(ISERROR(VLOOKUP(AE14,fête!$B$2:$C$367,2,0)),"",VLOOKUP(AE14,fête!$B$2:$C$367,2,0)) -> Jules | AJ14: =IF(ISERROR(VLOOKUP(AE14,évènements!$A$3:$D$200,3,0)),"",VLOOKUP(AE14,évènements!$A$3:$D$200,3,0)) | AK14: =IF(ISERROR(VLOOKUP(AE14,évènements!$B$3:$D$200,2,0)),"",VLOOKUP(AE14,évènements!$B$3:$D$200,2,0)) | AL14: =CONCATENATE(AJ14," ",AK14) | AM14: =AN14 -> 42867 | AN14: =AN13+1 -> 42867 | AO14: =IF(AN14="","",IF(ISERROR(MATCH(AN14,Lune!$A$1:$A$1000,0)),IF(WEEKDAY(AN14)=5,INT((AN14-DATE(YEAR(AN14),1,1))/7+1),IF(AND(WEEKDAY(AN14)=4,NOT( ISERROR(MATCH(AN14+1,Lune!$A$1:$A$1000,0)))),INT((AN14+1-DATE(YEAR(AN14+1),1,1))/7+1),"")),INDEX(Lune!$B$1:$B$1000,MATCH(AN14,Lune!$A$1:$A$1000,0),1))) | AP14: =IF(AQ14="","","'") -> ' | AQ14: =IF(ISERROR(VLOOKUP(AN14,anniversaire!$X$2:$Z$100,2,0)),"",VLOOKUP(AN14,anniversaire!$X$2:$Z$100,2,0)) -> Taraud sebastien 39 | AR14: =IF(ISERROR(VLOOKUP(AN14,fête!$B$2:$C$367,2,0)),"",VLOOKUP(AN14,fête!$B$2:$C$367,2,0)) -> Achille | AS14: =IF(ISERROR(VLOOKUP(AN14,évènements!$A$3:$D$200,3,0)),"",VLOOKUP(AN14,évènements!$A$3:$D$200,3,0)) | AT14: =IF(ISERROR(VLOOKUP(AN14,évènements!$B$3:$D$200,2,0)),"",VLOOKUP(AN14,évènements!$B$3:$D$200,2,0)) | AU14: =CONCATENATE(AS14," ",AT14) | AV14: =AW14 -> 42898 | AW14: =AW13+1 -> 42898 | AX14: =IF(AW14="","",IF(ISERROR(MATCH(AW14,Lune!$A$1:$A$1000,0)),IF(WEEKDAY(AW14)=5,INT((AW14-DATE(YEAR(AW14),1,1))/7+1),IF(AND(WEEKDAY(AW14)=4,NOT( ISERROR(MATCH(AW14+1,Lune!$A$1:$A$1000,0)))),INT((AW14+1-DATE(YEAR(AW14+1),1,1))/7+1),"")),INDEX(Lune!$B$1:$B$1000,MATCH(AW14,Lune!$A$1:$A$1000,0),1))) | AY14: =IF(AZ14="",""," '") -> ' | AZ14: =IF(ISERROR(VLOOKUP(AW14,anniversaire!$X$2:$Z$100,2,0)),"",VLOOKUP(AW14,anniversaire!$X$2:$Z$100,2,0)) -> Barberan mélanie 27 | BA14: =IF(ISERROR(VLOOKUP(AW14,fête!$B$2:$C$367,2,0)),"",VLOOKUP(AW14,fête!$B$2:$C$367,2,0)) -> Guy | BB14: =IF(ISERROR(VLOOKUP(AW14,évènements!$A$3:$D$200,3,0)),"",VLOOKUP(AW14,évènements!$A$3:$D$200,3,0)) | BC14: =IF(ISERROR(VLOOKUP(AW14,évènements!$B$3:$D$200,2,0)),"",VLOOKUP(AW14,évènements!$B$3:$D$200,2,0)) | BD14: =CONCATENATE(BB14," ",BC14) | BE14: =BF14 -> 42928 | BF14: =BF13+1 -> 42928 | BG14: =IF(BF14="","",IF(ISERROR(MATCH(BF14,Lune!$A$1:$A$1000,0)),IF(WEEKDAY(BF14)=5,INT((BF14-DATE(YEAR(BF14),1,1))/7+1),IF(AND(WEEKDAY(BF14)=4,NOT( ISERROR(MATCH(BF14+1,Lune!$A$1:$A$1000,0)))),INT((BF14+1-DATE(YEAR(BF14+1),1,1))/7+1),"")),INDEX(Lune!$B$1:$B$1000,MATCH(BF14,Lune!$A$1:$A$1000,0),1))) | BH14: =IF(BI14="",""," '") -> ' | BI14: =IF(ISERROR(VLOOKUP(BF14,anniversaire!$X$2:$Z$100,2,0)),"",VLOOKUP(BF14,anniversaire!$X$2:$Z$100,2,0)) -> Virely élodie 2 | BJ14: =IF(ISERROR(VLOOKUP(BF14,fête!$B$2:$C$367,2,0)),"",VLOOKUP(BF14,fête!$B$2:$C$367,2,0)) -> Olivier | BK14: =IF(ISERROR(VLOOKUP(BF14,évènements!$A$3:$D$200,3,0)),"",VLOOKUP(BF14,évènements!$A$3:$D$200,3,0)) | BL14: =IF(ISERROR(VLOOKUP(BF14,évènements!$B$3:$D$200,2,0)),"",VLOOKUP(BF14,évènements!$B$3:$D$200,2,0)) | BM14: =CONCATENATE(BK14," ",BL14) | BN14: =BO14 -> 42959 | BO14: =BO13+1 -> 42959 | BP14: =IF(BO14="","",IF(ISERROR(MATCH(BO14,Lune!$A$1:$A$1000,0)),IF(WEEKDAY(BO14)=5,INT((BO14-DATE(YEAR(BO14),1,1))/7+1),IF(AND(WEEKDAY(BO14)=4,NOT( ISERROR(MATCH(BO14+1,Lune!$A$1:$A$1000,0)))),INT((BO14+1-DATE(YEAR(BO14+1),1,1))/7+1),"")),INDEX(Lune!$B$1:$B$1000,MATCH(BO14,Lune!$A$1:$A$1000,0),1))) | BQ14: =IF(BR14="",""," '") | BR14: =IF(ISERROR(VLOOKUP(BO14,anniversaire!$X$2:$Z$100,2,0)),"",VLOOKUP(BO14,anniversaire!$X$2:$Z$100,2,0)) | BS14: =IF(ISERROR(VLOOKUP(BO14,fête!$B$2:$C$367,2,0)),"",VLOOKUP(BO14,fête!$B$2:$C$367,2,0)) -> Clarisse | BT14: =IF(ISERROR(VLOOKUP(BO14,évènements!$A$3:$D$200,3,0)),"",VLOOKUP(BO14,évènements!$A$3:$D$200,3,0)) | BU14: =IF(ISERROR(VLOOKUP(BO14,évènements!$B$3:$D$200,2,0)),"",VLOOKUP(BO14,évènements!$B$3:$D$200,2,0)) | BV14: =CONCATENATE(BT14," ",BU14) | BW14: =BX14 -> 42990 | BX14: =BX13+1 -> 42990 | BY14: =IF(BX14="","",IF(ISERROR(MATCH(BX14,Lune!$A$1:$A$1000,0)),IF(WEEKDAY(BX14)=5,INT((BX14-DATE(YEAR(BX14),1,1))/7+1),IF(AND(WEEKDAY(BX14)=4,NOT( ISERROR(MATCH(BX14+1,Lune!$A$1:$A$1000,0)))),INT((BX14+1-DATE(YEAR(BX14+1),1,1))/7+1),"")),INDEX(Lune!$B$1:$B$1000,MATCH(BX14,Lune!$A$1:$A$1000,0),1))) | BZ14: =IF(CA14="",""," '") | CA14: =IF(ISERROR(VLOOKUP(BX14,anniversaire!$X$2:$Z$100,2,0)),"",VLOOKUP(BX14,anniversaire!$X$2:$Z$100,2,0)) | CB14: =IF(ISERROR(VLOOKUP(BX14,fête!$B$2:$C$367,2,0)),"",VLOOKUP(BX14,fête!$B$2:$C$367,2,0)) -> Apollinaire | CC14: =IF(ISERROR(VLOOKUP(BX14,évènements!$A$3:$D$200,3,0)),"",VLOOKUP(BX14,évènements!$A$3:$D$200,3,0)) | CD14: =IF(ISERROR(VLOOKUP(BX14,évènements!$B$3:$D$200,2,0)),"",VLOOKUP(BX14,évènements!$B$3:$D$200,2,0)) | CE14: =CONCATENATE(CC14," ",CD14) | CF14: =CG14 -> 43020 | CG14: =CG13+1 -> 43020 | CH14: =IF(CG14="","",IF(ISERROR(MATCH(CG14,Lune!$A$1:$A$1000,0)),IF(WEEKDAY(CG14)=5,INT((CG14-DATE(YEAR(CG14),1,1))/7+1),IF(AND(WEEKDAY(CG14)=4,NOT( ISERROR(MATCH(CG14+1,Lune!$A$1:$A$1000,0)))),INT((CG14+1-DATE(YEAR(CG14+1),1,1))/7+1),"")),INDEX(Lune!$B$1:$B$1000,MATCH(CG14,Lune!$A$1:$A$1000,0),1))) -> ◑ | CI14: =IF(CJ14="",""," '") | CJ14: =IF(ISERROR(VLOOKUP(CG14,anniversaire!$X$2:$Z$100,2,0)),"",VLOOKUP(CG14,anniversaire!$X$2:$Z$100,2,0)) | CK14: =IF(ISERROR(VLOOKUP(CG14,fête!$B$2:$C$367,2,0)),"",VLOOKUP(CG14,fête!$B$2:$C$367,2,0)) -> Wilfried | CL14: =IF(ISERROR(VLOOKUP(CG14,évènements!$A$3:$D$200,3,0)),"",VLOOKUP(CG14,évènements!$A$3:$D$200,3,0)) | CM14: =IF(ISERROR(VLOOKUP(CG14,évènements!$B$3:$D$200,2,0)),"",VLOOKUP(CG14,évènements!$B$3:$D$200,2,0)) | CN14: =CONCATENATE(CL14," ",CM14) | CO14: =CP14 -> 43051 | CP14: =CP13+1 -> 43051 | CQ14: =IF(CP14="","",IF(ISERROR(MATCH(CP14,Lune!$A$1:$A$1000,0)),IF(WEEKDAY(CP14)=5,INT((CP14-DATE(YEAR(CP14),1,1))/7+1),IF(AND(WEEKDAY(CP14)=4,NOT( ISERROR(MATCH(CP14+1,Lune!$A$1:$A$1000,0)))),INT((CP14+1-DATE(YEAR(CP14+1),1,1))/7+1),"")),INDEX(Lune!$B$1:$B$1000,MATCH(CP14,Lune!$A$1:$A$1000,0),1))) | CR14: =IF(CS14="",""," '") | CS14: =IF(ISERROR(VLOOKUP(CP14,anniversaire!$X$2:$Z$100,2,0)),"",VLOOKUP(CP14,anniversaire!$X$2:$Z$100,2,0)) | CT14: =IF(ISERROR(VLOOKUP(CP14,fête!$B$2:$C$367,2,0)),"",VLOOKUP(CP14,fête!$B$2:$C$367,2,0)) -> Christian | CU14: =IF(ISERROR(VLOOKUP(CP14,évènements!$A$3:$D$200,3,0)),"",VLOOKUP(CP14,évènements!$A$3:$D$200,3,0)) | CV14: =IF(ISERROR(VLOOKUP(CP14,évènements!$B$3:$D$200,2,0)),"",VLOOKUP(CP14,évènements!$B$3:$D$200,2,0)) | CW14: =CONCATENATE(CU14," ",CV14) | CX14: =CY14 -> 43081 | CY14: =CY13+1 -> 43081 | CZ14: =IF(CY14="","",IF(ISERROR(MATCH(CY14,Lune!$A$1:$A$1000,0)),IF(WEEKDAY(CY14)=5,INT((CY14-DATE(YEAR(CY14),1,1))/7+1),IF(AND(WEEKDAY(CY14)=4,NOT( ISERROR(MATCH(CY14+1,Lune!$A$1:$A$1000,0)))),INT((CY14+1-DATE(YEAR(CY14+1),1,1))/7+1),"")),INDEX(Lune!$B$1:$B$1000,MATCH(CY14,Lune!$A$1:$A$1000,0),1))) | DA14: =IF(DB14="",""," '") | DB14: =IF(ISERROR(VLOOKUP(CY14,anniversaire!$X$2:$Z$100,2,0)),"",VLOOKUP(CY14,anniversaire!$X$2:$Z$100,2,0)) | DC14: =IF(ISERROR(VLOOKUP(CY14,fête!$B$2:$C$367,2,0)),"",VLOOKUP(CY14,fête!$B$2:$C$367,2,0)) -> Jeanne-Françoise de Chantal | DD14: =IF(ISERROR(VLOOKUP(CY14,évènements!$A$3:$D$200,3,0)),"",VLOOKUP(CY14,évènements!$A$3:$D$200,3,0)) | DE14: =IF(ISERROR(VLOOKUP(CY14,évènements!$B$3:$D$200,2,0)),"",VLOOKUP(CY14,évènements!$B$3:$D$200,2,0)) | DF14: =CONCATENATE(DD14," ",DE14) | DG14: =DH14 -> 43112 | DH14: =DH13+1 -> 43112 | DI14: =IF(DH14="","",IF(ISERROR(MATCH(DH14,Lune!$A$1:$A$1000,0)),IF(WEEKDAY(DH14)=5,INT((DH14-DATE(YEAR(DH14),1,1))/7+1),IF(AND(WEEKDAY(DH14)=4,NOT( ISERROR(MATCH(DH14+1,Lune!$A$1:$A$1000,0)))),INT((DH14+1-DATE(YEAR(DH14+1),1,1))/7+1),"")),INDEX(Lune!$B$1:$B$1000,MATCH(DH14,Lune!$A$1:$A$1000,0),1))) | DJ14: =F14 -> ' | DK14: =G14 -> Virely Alexi 6 | DL14: =H14 -> Tatiana | DM14: =IF(ISERROR(VLOOKUP(DH14,évènements!$A$3:$D$200,3,0)),"",VLOOKUP(DH14,évènements!$A$3:$D$200,3,0)) | DN14: =IF(ISERROR(VLOOKUP(DH14,évènements!$B$3:$D$200,2,0)),"",VLOOKUP(DH14,évènements!$B$3:$D$200,2,0)) | DO14: =CONCATENATE(DM14," ",DN14)
C15: =D15 -> 42748 | D15: =D14+1 -> 42748 | E15: =IF(D15="","",IF(ISERROR(MATCH(D15,Lune!$A$1:$A$1000,0)),IF(WEEKDAY(D15)=5,INT((D15-DATE(YEAR(D15),1,1))/7+1),IF(AND(WEEKDAY(D15)=4,NOT( ISERROR(MATCH(D15+1,Lune!$A$1:$A$1000,0)))),INT((D15+1-DATE(YEAR(D15+1),1,1))/7+1),"")),INDEX(Lune!$B$1:$B$1000,MATCH(D15,Lune!$A$1:$A$1000,0),1))) | F15: =IF(G15="",""," '") -> ' | G15: =IF(ISERROR(VLOOKUP(D15,anniversaire!$X$2:$Z$100,2,0)),"",VLOOKUP(D15,anniversaire!$X$2:$Z$100,2,0)) -> Laborde Clément 21 | H15: =IF(ISERROR(VLOOKUP(D15,fête!$B$2:$C$367,2,0)),"",VLOOKUP(D15,fête!$B$2:$C$367,2,0)) -> Yvette | I15: =IF(ISERROR(VLOOKUP(D15,évènements!$A$3:$D$200,3,0)),"",VLOOKUP(D15,évènements!$A$3:$D$200,3,0)) | J15: =IF(ISERROR(VLOOKUP(D15,évènements!$B$3:$D$200,2,0)),"",VLOOKUP(D15,évènements!$B$3:$D$200,2,0)) | K15: =CONCATENATE(I15," ",J15) | L15: =M15 -> 42779 | M15: =M14+1 -> 42779 | N15: =IF(M15="","",IF(ISERROR(MATCH(M15,Lune!$A$1:$A$1000,0)),IF(WEEKDAY(M15)=5,INT((M15-DATE(YEAR(M15),1,1))/7+1),IF(AND(WEEKDAY(M15)=4,NOT( ISERROR(MATCH(M15+1,Lune!$A$1:$A$1000,0)))),INT((M15+1-DATE(YEAR(M15+1),1,1))/7+1),"")),INDEX(Lune!$B$1:$B$1000,MATCH(M15,Lune!$A$1:$A$1000,0),1))) | O15: =IF(P15="",""," '") | P15: =IF(ISERROR(VLOOKUP(M15,anniversaire!$X$2:$Z$100,2,0)),"",VLOOKUP(M15,anniversaire!$X$2:$Z$100,2,0)) | Q15: =IF(ISERROR(VLOOKUP(M15,fête!$B$2:$C$367,2,0)),"",VLOOKUP(M15,fête!$B$2:$C$367,2,0)) -> Béatrice | R15: =IF(ISERROR(VLOOKUP(M15,évènements!$A$3:$D$200,3,0)),"",VLOOKUP(M15,évènements!$A$3:$D$200,3,0)) | S15: =IF(ISERROR(VLOOKUP(M15,évènements!$B$3:$D$200,2,0)),"",VLOOKUP(M15,évènements!$B$3:$D$200,2,0)) | T15: =CONCATENATE(R15," ",S15) | U15: =V15 -> 42807 | V15: =V14+1 -> 42807 | W15: =IF(V15="","",IF(ISERROR(MATCH(V15,Lune!$A$1:$A$1000,0)),IF(WEEKDAY(V15)=5,INT((V15-DATE(YEAR(V15),1,1))/7+1),IF(AND(WEEKDAY(V15)=4,NOT( ISERROR(MATCH(V15+1,Lune!$A$1:$A$1000,0)))),INT((V15+1-DATE(YEAR(V15+1),1,1))/7+1),"")),INDEX(Lune!$B$1:$B$1000,MATCH(V15,Lune!$A$1:$A$1000,0),1))) | X15: =IF(Y15="",""," '") | Y15: =IF(ISERROR(VLOOKUP(V15,anniversaire!$X$2:$Z$100,2,0)),"",VLOOKUP(V15,anniversaire!$X$2:$Z$100,2,0)) | Z15: =IF(ISERROR(VLOOKUP(V15,fête!$B$2:$C$367,2,0)),"",VLOOKUP(V15,fête!$B$2:$C$367,2,0)) -> Rodrigue | AA15: =IF(ISERROR(VLOOKUP(V15,évènements!$A$3:$D$200,3,0)),"",VLOOKUP(V15,évènements!$A$3:$D$200,3,0)) | AB15: =IF(ISERROR(VLOOKUP(V15,évènements!$B$3:$D$200,2,0)),"",VLOOKUP(V15,évènements!$B$3:$D$200,2,0)) | AC15: =CONCATENATE(AA15," ",AB15) | AD15: =AE15 -> 42838 | AE15: =AE14+1 -> 42838 | AF15: =IF(AE15="","",IF(ISERROR(MATCH(AE15,Lune!$A$1:$A$1000,0)),IF(WEEKDAY(AE15)=5,INT((AE15-DATE(YEAR(AE15),1,1))/7+1),IF(AND(WEEKDAY(AE15)=4,NOT( ISERROR(MATCH(AE15+1,Lune!$A$1:$A$1000,0)))),INT((AE15+1-DATE(YEAR(AE15+1),1,1))/7+1),"")),INDEX(Lune!$B$1:$B$1000,MATCH(AE15,Lune!$A$1:$A$1000,0),1))) -> 15 | AG15: =IF(AH15="",""," '") | AH15: =IF(ISERROR(VLOOKUP(AE15,anniversaire!$X$2:$Z$100,2,0)),"",VLOOKUP(AE15,anniversaire!$X$2:$Z$100,2,0)) | AI15: =IF(ISERROR(VLOOKUP(AE15,fête!$B$2:$C$367,2,0)),"",VLOOKUP(AE15,fête!$B$2:$C$367,2,0)) -> Ida | AJ15: =IF(ISERROR(VLOOKUP(AE15,évènements!$A$3:$D$200,3,0)),"",VLOOKUP(AE15,évènements!$A$3:$D$200,3,0)) | AK15: =IF(ISERROR(VLOOKUP(AE15,évènements!$B$3:$D$200,2,0)),"",VLOOKUP(AE15,évènements!$B$3:$D$200,2,0)) | AL15: =CONCATENATE(AJ15," ",AK15) | AM15: =AN15 -> 42868 | AN15: =AN14+1 -> 42868 | AO15: =IF(AN15="","",IF(ISERROR(MATCH(AN15,Lune!$A$1:$A$1000,0)),IF(WEEKDAY(AN15)=5,INT((AN15-DATE(YEAR(AN15),1,1))/7+1),IF(AND(WEEKDAY(AN15)=4,NOT( ISERROR(MATCH(AN15+1,Lune!$A$1:$A$1000,0)))),INT((AN15+1-DATE(YEAR(AN15+1),1,1))/7+1),"")),INDEX(Lune!$B$1:$B$1000,MATCH(AN15,Lune!$A$1:$A$1000,0),1))) | AP15: =IF(AQ15="","","'") | AQ15: =IF(ISERROR(VLOOKUP(AN15,anniversaire!$X$2:$Z$100,2,0)),"",VLOOKUP(AN15,anniversaire!$X$2:$Z$100,2,0)) | AR15: =IF(ISERROR(VLOOKUP(AN15,fête!$B$2:$C$367,2,0)),"",VLOOKUP(AN15,fête!$B$2:$C$367,2,0)) -> Rolande | AS15: =IF(ISERROR(VLOOKUP(AN15,évènements!$A$3:$D$200,3,0)),"",VLOOKUP(AN15,évènements!$A$3:$D$200,3,0)) | AT15: =IF(ISERROR(VLOOKUP(AN15,évènements!$B$3:$D$200,2,0)),"",VLOOKUP(AN15,évènements!$B$3:$D$200,2,0)) | AU15: =CONCATENATE(AS15," ",AT15) | AV15: =AW15 -> 42899 | AW15: =AW14+1 -> 42899 | AX15: =IF(AW15="","",IF(ISERROR(MATCH(AW15,Lune!$A$1:$A$1000,0)),IF(WEEKDAY(AW15)=5,INT((AW15-DATE(YEAR(AW15),1,1))/7+1),IF(AND(WEEKDAY(AW15)=4,NOT( ISERROR(MATCH(AW15+1,Lune!$A$1:$A$1000,0)))),INT((AW15+1-DATE(YEAR(AW15+1),1,1))/7+1),"")),INDEX(Lune!$B$1:$B$1000,MATCH(AW15,Lune!$A$1:$A$1000,0),1))) | AY15: =IF(AZ15="",""," '") | AZ15: =IF(ISERROR(VLOOKUP(AW15,anniversaire!$X$2:$Z$100,2,0)),"",VLOOKUP(AW15,anniversaire!$X$2:$Z$100,2,0)) | BA15: =IF(ISERROR(VLOOKUP(AW15,fête!$B$2:$C$367,2,0)),"",VLOOKUP(AW15,fête!$B$2:$C$367,2,0)) -> Antoine de Padoue | BB15: =IF(ISERROR(VLOOKUP(AW15,évènements!$A$3:$D$200,3,0)),"",VLOOKUP(AW15,évènements!$A$3:$D$200,3,0)) | BC15: =IF(ISERROR(VLOOKUP(AW15,évènements!$B$3:$D$200,2,0)),"",VLOOKUP(AW15,évènements!$B$3:$D$200,2,0)) | BD15: =CONCATENATE(BB15," ",BC15) | BE15: =BF15 -> 42929 | BF15: =BF14+1 -> 42929 | BG15: =IF(BF15="","",IF(ISERROR(MATCH(BF15,Lune!$A$1:$A$1000,0)),IF(WEEKDAY(BF15)=5,INT((BF15-DATE(YEAR(BF15),1,1))/7+1),IF(AND(WEEKDAY(BF15)=4,NOT( ISERROR(MATCH(BF15+1,Lune!$A$1:$A$1000,0)))),INT((BF15+1-DATE(YEAR(BF15+1),1,1))/7+1),"")),INDEX(Lune!$B$1:$B$1000,MATCH(BF15,Lune!$A$1:$A$1000,0),1))) -> 28 | BH15: =IF(BI15="",""," '") | BI15: =IF(ISERROR(VLOOKUP(BF15,anniversaire!$X$2:$Z$100,2,0)),"",VLOOKUP(BF15,anniversaire!$X$2:$Z$100,2,0)) | BJ15: =IF(ISERROR(VLOOKUP(BF15,fête!$B$2:$C$367,2,0)),"",VLOOKUP(BF15,fête!$B$2:$C$367,2,0)) -> Henri, Joël | BK15: =IF(ISERROR(VLOOKUP(BF15,évènements!$A$3:$D$200,3,0)),"",VLOOKUP(BF15,évènements!$A$3:$D$200,3,0)) | BL15: =IF(ISERROR(VLOOKUP(BF15,évènements!$B$3:$D$200,2,0)),"",VLOOKUP(BF15,évènements!$B$3:$D$200,2,0)) | BM15: =CONCATENATE(BK15," ",BL15) | BN15: =BO15 -> 42960 | BO15: =BO14+1 -> 42960 | BP15: =IF(BO15="","",IF(ISERROR(MATCH(BO15,Lune!$A$1:$A$1000,0)),IF(WEEKDAY(BO15)=5,INT((BO15-DATE(YEAR(BO15),1,1))/7+1),IF(AND(WEEKDAY(BO15)=4,NOT( ISERROR(MATCH(BO15+1,Lune!$A$1:$A$1000,0)))),INT((BO15+1-DATE(YEAR(BO15+1),1,1))/7+1),"")),INDEX(Lune!$B$1:$B$1000,MATCH(BO15,Lune!$A$1:$A$1000,0),1))) | BQ15: =IF(BR15="",""," '") -> ' | BR15: =IF(ISERROR(VLOOKUP(BO15,anniversaire!$X$2:$Z$100,2,0)),"",VLOOKUP(BO15,anniversaire!$X$2:$Z$100,2,0)) -> Taraud jerôme 6 | BS15: =IF(ISERROR(VLOOKUP(BO15,fête!$B$2:$C$367,2,0)),"",VLOOKUP(BO15,fête!$B$2:$C$367,2,0)) -> Hippolyte | BT15: =IF(ISERROR(VLOOKUP(BO15,évènements!$A$3:$D$200,3,0)),"",VLOOKUP(BO15,évènements!$A$3:$D$200,3,0)) | BU15: =IF(ISERROR(VLOOKUP(BO15,évènements!$B$3:$D$200,2,0)),"",VLOOKUP(BO15,évènements!$B$3:$D$200,2,0)) | BV15: =CONCATENATE(BT15," ",BU15) | BW15: =BX15 -> 42991 | BX15: =BX14+1 -> 42991 | BY15: =IF(BX15="","",IF(ISERROR(MATCH(BX15,Lune!$A$1:$A$1000,0)),IF(WEEKDAY(BX15)=5,INT((BX15-DATE(YEAR(BX15),1,1))/7+1),IF(AND(WEEKDAY(BX15)=4,NOT( ISERROR(MATCH(BX15+1,Lune!$A$1:$A$1000,0)))),INT((BX15+1-DATE(YEAR(BX15+1),1,1))/7+1),"")),INDEX(Lune!$B$1:$B$1000,MATCH(BX15,Lune!$A$1:$A$1000,0),1))) -> ◑ | BZ15: =IF(CA15="",""," '") | CA15: =IF(ISERROR(VLOOKUP(BX15,anniversaire!$X$2:$Z$100,2,0)),"",VLOOKUP(BX15,anniversaire!$X$2:$Z$100,2,0)) | CB15: =IF(ISERROR(VLOOKUP(BX15,fête!$B$2:$C$367,2,0)),"",VLOOKUP(BX15,fête!$B$2:$C$367,2,0)) -> Aimé | CC15: =IF(ISERROR(VLOOKUP(BX15,évènements!$A$3:$D$200,3,0)),"",VLOOKUP(BX15,évènements!$A$3:$D$200,3,0)) | CD15: =IF(ISERROR(VLOOKUP(BX15,évènements!$B$3:$D$200,2,0)),"",VLOOKUP(BX15,évènements!$B$3:$D$200,2,0)) | CE15: =CONCATENATE(CC15," ",CD15) | CF15: =CG15 -> 43021 | CG15: =CG14+1 -> 43021 | CH15: =IF(CG15="","",IF(ISERROR(MATCH(CG15,Lune!$A$1:$A$1000,0)),IF(WEEKDAY(CG15)=5,INT((CG15-DATE(YEAR(CG15),1,1))/7+1),IF(AND(WEEKDAY(CG15)=4,NOT( ISERROR(MATCH(CG15+1,Lune!$A$1:$A$1000,0)))),INT((CG15+1-DATE(YEAR(CG15+1),1,1))/7+1),"")),INDEX(Lune!$B$1:$B$1000,MATCH(CG15,Lune!$A$1:$A$1000,0),1))) | CI15: =IF(CJ15="",""," '") | CJ15: =IF(ISERROR(VLOOKUP(CG15,anniversaire!$X$2:$Z$100,2,0)),"",VLOOKUP(CG15,anniversaire!$X$2:$Z$100,2,0)) | CK15: =IF(ISERROR(VLOOKUP(CG15,fête!$B$2:$C$367,2,0)),"",VLOOKUP(CG15,fête!$B$2:$C$367,2,0)) -> Géraud | CL15: =IF(ISERROR(VLOOKUP(CG15,évènements!$A$3:$D$200,3,0)),"",VLOOKUP(CG15,évènements!$A$3:$D$200,3,0)) | CM15: =IF(ISERROR(VLOOKUP(CG15,évènements!$B$3:$D$200,2,0)),"",VLOOKUP(CG15,évènements!$B$3:$D$200,2,0)) | CN15: =CONCATENATE(CL15," ",CM15) | CO15: =CP15 -> 43052 | CP15: =CP14+1 -> 43052 | CQ15: =IF(CP15="","",IF(ISERROR(MATCH(CP15,Lune!$A$1:$A$1000,0)),IF(WEEKDAY(CP15)=5,INT((CP15-DATE(YEAR(CP15),1,1))/7+1),IF(AND(WEEKDAY(CP15)=4,NOT( ISERROR(MATCH(CP15+1,Lune!$A$1:$A$1000,0)))),INT((CP15+1-DATE(YEAR(CP15+1),1,1))/7+1),"")),INDEX(Lune!$B$1:$B$1000,MATCH(CP15,Lune!$A$1:$A$1000,0),1))) | CR15: =IF(CS15="",""," '") | CS15: =IF(ISERROR(VLOOKUP(CP15,anniversaire!$X$2:$Z$100,2,0)),"",VLOOKUP(CP15,anniversaire!$X$2:$Z$100,2,0)) | CT15: =IF(ISERROR(VLOOKUP(CP15,fête!$B$2:$C$367,2,0)),"",VLOOKUP(CP15,fête!$B$2:$C$367,2,0)) -> Brice | CU15: =IF(ISERROR(VLOOKUP(CP15,évènements!$A$3:$D$200,3,0)),"",VLOOKUP(CP15,évènements!$A$3:$D$200,3,0)) | CV15: =IF(ISERROR(VLOOKUP(CP15,évènements!$B$3:$D$200,2,0)),"",VLOOKUP(CP15,évènements!$B$3:$D$200,2,0)) | CW15: =CONCATENATE(CU15," ",CV15) | CX15: =CY15 -> 43082 | CY15: =CY14+1 -> 43082 | CZ15: =IF(CY15="","",IF(ISERROR(MATCH(CY15,Lune!$A$1:$A$1000,0)),IF(WEEKDAY(CY15)=5,INT((CY15-DATE(YEAR(CY15),1,1))/7+1),IF(AND(WEEKDAY(CY15)=4,NOT( ISERROR(MATCH(CY15+1,Lune!$A$1:$A$1000,0)))),INT((CY15+1-DATE(YEAR(CY15+1),1,1))/7+1),"")),INDEX(Lune!$B$1:$B$1000,MATCH(CY15,Lune!$A$1:$A$1000,0),1))) | DA15: =IF(DB15="",""," '") | DB15: =IF(ISERROR(VLOOKUP(CY15,anniversaire!$X$2:$Z$100,2,0)),"",VLOOKUP(CY15,anniversaire!$X$2:$Z$100,2,0)) | DC15: =IF(ISERROR(VLOOKUP(CY15,fête!$B$2:$C$367,2,0)),"",VLOOKUP(CY15,fête!$B$2:$C$367,2,0)) -> Lucie | DD15: =IF(ISERROR(VLOOKUP(CY15,évènements!$A$3:$D$200,3,0)),"",VLOOKUP(CY15,évènements!$A$3:$D$200,3,0)) | DE15: =IF(ISERROR(VLOOKUP(CY15,évènements!$B$3:$D$200,2,0)),"",VLOOKUP(CY15,évènements!$B$3:$D$200,2,0)) | DF15: =CONCATENATE(DD15," ",DE15) | DG15: =DH15 -> 43113 | DH15: =DH14+1 -> 43113 | DI15: =IF(DH15="","",IF(ISERROR(MATCH(DH15,Lune!$A$1:$A$1000,0)),IF(WEEKDAY(DH15)=5,INT((DH15-DATE(YEAR(DH15),1,1))/7+1),IF(AND(WEEKDAY(DH15)=4,NOT( ISERROR(MATCH(DH15+1,Lune!$A$1:$A$1000,0)))),INT((DH15+1-DATE(YEAR(DH15+1),1,1))/7+1),"")),INDEX(Lune!$B$1:$B$1000,MATCH(DH15,Lune!$A$1:$A$1000,0),1))) | DJ15: =F15 -> ' | DK15: =G15 -> Laborde Clément 21 | DL15: =H15 -> Yvette | DM15: =IF(ISERROR(VLOOKUP(DH15,évènements!$A$3:$D$200,3,0)),"",VLOOKUP(DH15,évènements!$A$3:$D$200,3,0)) | DN15: =IF(ISERROR(VLOOKUP(DH15,évènements!$B$3:$D$200,2,0)),"",VLOOKUP(DH15,évènements!$B$3:$D$200,2,0)) | DO15: =CONCATENATE(DM15," ",DN15)
... C30: =D30 -> 42763 | D30: =D29+1 -> 42763 | E30: =IF(D30="","",IF(ISERROR(MATCH(D30,Lune!$A$1:$A$1000,0)),IF(WEEKDAY(D30)=5,INT((D30-DATE(YEAR(D30),1,1))/7+1),IF(AND(WEEKDAY(D30)=4,NOT( ISERROR(MATCH(D30+1,Lune!$A$1:$A$1000,0)))),INT((D30+1-DATE(YEAR(D30+1),1,1))/7+1),"")),INDEX(Lune!$B$1:$B$1000,MATCH(D30,Lune!$A$1:$A$1000,0),1))) -> ● | F30: =IF(G30="",""," '") | G30: =IF(ISERROR(VLOOKUP(D30,anniversaire!$X$2:$Z$100,2,0)),"",VLOOKUP(D30,anniversaire!$X$2:$Z$100,2,0)) | H30: =IF(ISERROR(VLOOKUP(D30,fête!$B$2:$C$367,2,0)),"",VLOOKUP(D30,fête!$B$2:$C$367,2,0)) -> Thomas d'Aquin | I30: =IF(ISERROR(VLOOKUP(D30,évènements!$A$3:$D$200,3,0)),"",VLOOKUP(D30,évènements!$A$3:$D$200,3,0)) | J30: =IF(ISERROR(VLOOKUP(D30,évènements!$B$3:$D$200,2,0)),"",VLOOKUP(D30,évènements!$B$3:$D$200,2,0)) | K30: =CONCATENATE(I30," ",J30) | L30: =M30 -> 42794 | M30: =M29+1 -> 42794 | N30: =IF(M30="","",IF(ISERROR(MATCH(M30,Lune!$A$1:$A$1000,0)),IF(WEEKDAY(M30)=5,INT((M30-DATE(YEAR(M30),1,1))/7+1),IF(AND(WEEKDAY(M30)=4,NOT( ISERROR(MATCH(M30+1,Lune!$A$1:$A$1000,0)))),INT((M30+1-DATE(YEAR(M30+1),1,1))/7+1),"")),INDEX(Lune!$B$1:$B$1000,MATCH(M30,Lune!$A$1:$A$1000,0),1))) | O30: =IF(P30="",""," '") | P30: =IF(ISERROR(VLOOKUP(M30,anniversaire!$X$2:$Z$100,2,0)),"",VLOOKUP(M30,anniversaire!$X$2:$Z$100,2,0)) | Q30: =IF(ISERROR(VLOOKUP(M30,fête!$B$2:$C$367,2,0)),"",VLOOKUP(M30,fête!$B$2:$C$367,2,0)) -> Romain | R30: =IF(ISERROR(VLOOKUP(M30,évènements!$A$3:$D$200,3,0)),"",VLOOKUP(M30,évènements!$A$3:$D$200,3,0)) | S30: =IF(ISERROR(VLOOKUP(M30,évènements!$B$3:$D$200,2,0)),"",VLOOKUP(M30,évènements!$B$3:$D$200,2,0)) | T30: =CONCATENATE(R30," ",S30) | U30: =V30 -> 42822 | V30: =V29+1 -> 42822 | W30: =IF(V30="","",IF(ISERROR(MATCH(V30,Lune!$A$1:$A$1000,0)),IF(WEEKDAY(V30)=5,INT((V30-DATE(YEAR(V30),1,1))/7+1),IF(AND(WEEKDAY(V30)=4,NOT( ISERROR(MATCH(V30+1,Lune!$A$1:$A$1000,0)))),INT((V30+1-DATE(YEAR(V30+1),1,1))/7+1),"")),INDEX(Lune!$B$1:$B$1000,MATCH(V30,Lune!$A$1:$A$1000,0),1))) -> ● | X30: =IF(Y30="",""," '") | Y30: =IF(ISERROR(VLOOKUP(V30,anniversaire!$X$2:$Z$100,2,0)),"",VLOOKUP(V30,anniversaire!$X$2:$Z$100,2,0)) | Z30: =IF(ISERROR(VLOOKUP(V30,fête!$B$2:$C$367,2,0)),"",VLOOKUP(V30,fête!$B$2:$C$367,2,0)) -> Gontran | AA30: =IF(ISERROR(VLOOKUP(V30,évènements!$A$3:$D$200,3,0)),"",VLOOKUP(V30,évènements!$A$3:$D$200,3,0)) | AB30: =IF(ISERROR(VLOOKUP(V30,évènements!$B$3:$D$200,2,0)),"",VLOOKUP(V30,évènements!$B$3:$D$200,2,0)) | AC30: =CONCATENATE(AA30," ",AB30) | AD30: =AE30 -> 42853 | AE30: =AE29+1 -> 42853 | AF30: =IF(AE30="","",IF(ISERROR(MATCH(AE30,Lune!$A$1:$A$1000,0)),IF(WEEKDAY(AE30)=5,INT((AE30-DATE(YEAR(AE30),1,1))/7+1),IF(AND(WEEKDAY(AE30)=4,NOT( ISERROR(MATCH(AE30+1,Lune!$A$1:$A$1000,0)))),INT((AE30+1-DATE(YEAR(AE30+1),1,1))/7+1),"")),INDEX(Lune!$B$1:$B$1000,MATCH(AE30,Lune!$A$1:$A$1000,0),1))) | AG30: =IF(AH30="",""," '") -> ' | AH30: =IF(ISERROR(VLOOKUP(AE30,anniversaire!$X$2:$Z$100,2,0)),"",VLOOKUP(AE30,anniversaire!$X$2:$Z$100,2,0)) -> Boireau eric 32 | AI30: =IF(ISERROR(VLOOKUP(AE30,fête!$B$2:$C$367,2,0)),"",VLOOKUP(AE30,fête!$B$2:$C$367,2,0)) -> Valérie | AJ30: =IF(ISERROR(VLOOKUP(AE30,évènements!$A$3:$D$200,3,0)),"",VLOOKUP(AE30,évènements!$A$3:$D$200,3,0)) | AK30: =IF(ISERROR(VLOOKUP(AE30,évènements!$B$3:$D$200,2,0)),"",VLOOKUP(AE30,évènements!$B$3:$D$200,2,0)) | AL30: =CONCATENATE(AJ30," ",AK30) | AM30: =AN30 -> 42883 | AN30: =AN29+1 -> 42883 | AO30: =IF(AN30="","",IF(ISERROR(MATCH(AN30,Lune!$A$1:$A$1000,0)),IF(WEEKDAY(AN30)=5,INT((AN30-DATE(YEAR(AN30),1,1))/7+1),IF(AND(WEEKDAY(AN30)=4,NOT( ISERROR(MATCH(AN30+1,Lune!$A$1:$A$1000,0)))),INT((AN30+1-DATE(YEAR(AN30+1),1,1))/7+1),"")),INDEX(Lune!$B$1:$B$1000,MATCH(AN30,Lune!$A$1:$A$1000,0),1))) | AP30: =IF(AQ30="","","'") | AQ30: =IF(ISERROR(VLOOKUP(AN30,anniversaire!$X$2:$Z$100,2,0)),"",VLOOKUP(AN30,anniversaire!$X$2:$Z$100,2,0)) | AR30: =IF(ISERROR(VLOOKUP(AN30,fête!$B$2:$C$367,2,0)),"",VLOOKUP(AN30,fête!$B$2:$C$367,2,0)) -> Germain | AS30: =IF(ISERROR(VLOOKUP(AN30,évènements!$A$3:$D$200,3,0)),"",VLOOKUP(AN30,évènements!$A$3:$D$200,3,0)) | AT30: =IF(ISERROR(VLOOKUP(AN30,évènements!$B$3:$D$200,2,0)),"",VLOOKUP(AN30,évènements!$B$3:$D$200,2,0)) | AU30: =CONCATENATE(AS30," ",AT30) | AV30: =AW30 -> 42914 | AW30: =AW29+1 -> 42914 | AX30: =IF(AW30="","",IF(ISERROR(MATCH(AW30,Lune!$A$1:$A$1000,0)),IF(WEEKDAY(AW30)=5,INT((AW30-DATE(YEAR(AW30),1,1))/7+1),IF(AND(WEEKDAY(AW30)=4,NOT( ISERROR(MATCH(AW30+1,Lune!$A$1:$A$1000,0)))),INT((AW30+1-DATE(YEAR(AW30+1),1,1))/7+1),"")),INDEX(Lune!$B$1:$B$1000,MATCH(AW30,Lune!$A$1:$A$1000,0),1))) | AY30: =IF(AZ30="",""," '") | AZ30: =IF(ISERROR(VLOOKUP(AW30,anniversaire!$X$2:$Z$100,2,0)),"",VLOOKUP(AW30,anniversaire!$X$2:$Z$100,2,0)) | BA30: =IF(ISERROR(VLOOKUP(AW30,fête!$B$2:$C$367,2,0)),"",VLOOKUP(AW30,fête!$B$2:$C$367,2,0)) -> Irénée | BB30: =IF(ISERROR(VLOOKUP(AW30,évènements!$A$3:$D$200,3,0)),"",VLOOKUP(AW30,évènements!$A$3:$D$200,3,0)) | BC30: =IF(ISERROR(VLOOKUP(AW30,évènements!$B$3:$D$200,2,0)),"",VLOOKUP(AW30,évènements!$B$3:$D$200,2,0)) | BD30: =CONCATENATE(BB30," ",BC30) | BE30: =BF30 -> 42944 | BF30: =BF29+1 -> 42944 | BG30: =IF(BF30="","",IF(ISERROR(MATCH(BF30,Lune!$A$1:$A$1000,0)),IF(WEEKDAY(BF30)=5,INT((BF30-DATE(YEAR(BF30),1,1))/7+1),IF(AND(WEEKDAY(BF30)=4,NOT( ISERROR(MATCH(BF30+1,Lune!$A$1:$A$1000,0)))),INT((BF30+1-DATE(YEAR(BF30+1),1,1))/7+1),"")),INDEX(Lune!$B$1:$B$1000,MATCH(BF30,Lune!$A$1:$A$1000,0),1))) | BH30: =IF(BI30="",""," '") | BI30: =IF(ISERROR(VLOOKUP(BF30,anniversaire!$X$2:$Z$100,2,0)),"",VLOOKUP(BF30,anniversaire!$X$2:$Z$100,2,0)) | BJ30: =IF(ISERROR(VLOOKUP(BF30,fête!$B$2:$C$367,2,0)),"",VLOOKUP(BF30,fête!$B$2:$C$367,2,0)) -> Samson | BK30: =IF(ISERROR(VLOOKUP(BF30,évènements!$A$3:$D$200,3,0)),"",VLOOKUP(BF30,évènements!$A$3:$D$200,3,0)) | BL30: =IF(ISERROR(VLOOKUP(BF30,évènements!$B$3:$D$200,2,0)),"",VLOOKUP(BF30,évènements!$B$3:$D$200,2,0)) | BM30: =CONCATENATE(BK30," ",BL30) | BN30: =BO30 -> 42975 | BO30: =BO29+1 -> 42975 | BP30: =IF(BO30="","",IF(ISERROR(MATCH(BO30,Lune!$A$1:$A$1000,0)),IF(WEEKDAY(BO30)=5,INT((BO30-DATE(YEAR(BO30),1,1))/7+1),IF(AND(WEEKDAY(BO30)=4,NOT( ISERROR(MATCH(BO30+1,Lune!$A$1:$A$1000,0)))),INT((BO30+1-DATE(YEAR(BO30+1),1,1))/7+1),"")),INDEX(Lune!$B$1:$B$1000,MATCH(BO30,Lune!$A$1:$A$1000,0),1))) | BQ30: =IF(BR30="",""," '") | BR30: =IF(ISERROR(VLOOKUP(BO30,anniversaire!$X$2:$Z$100,2,0)),"",VLOOKUP(BO30,anniversaire!$X$2:$Z$100,2,0)) | BS30: =IF(ISERROR(VLOOKUP(BO30,fête!$B$2:$C$367,2,0)),"",VLOOKUP(BO30,fête!$B$2:$C$367,2,0)) -> Augustin | BT30: =IF(ISERROR(VLOOKUP(BO30,évènements!$A$3:$D$200,3,0)),"",VLOOKUP(BO30,évènements!$A$3:$D$200,3,0)) | BU30: =IF(ISERROR(VLOOKUP(BO30,évènements!$B$3:$D$200,2,0)),"",VLOOKUP(BO30,évènements!$B$3:$D$200,2,0)) | BV30: =CONCATENATE(BT30," ",BU30) | BW30: =BX30 -> 43006 | BX30: =BX29+1 -> 43006 | BY30: =IF(BX30="","",IF(ISERROR(MATCH(BX30,Lune!$A$1:$A$1000,0)),IF(WEEKDAY(BX30)=5,INT((BX30-DATE(YEAR(BX30),1,1))/7+1),IF(AND(WEEKDAY(BX30)=4,NOT( ISERROR(MATCH(BX30+1,Lune!$A$1:$A$1000,0)))),INT((BX30+1-DATE(YEAR(BX30+1),1,1))/7+1),"")),INDEX(Lune!$B$1:$B$1000,MATCH(BX30,Lune!$A$1:$A$1000,0),1))) -> ◐ | BZ30: =IF(CA30="",""," '") | CA30: =IF(ISERROR(VLOOKUP(BX30,anniversaire!$X$2:$Z$100,2,0)),"",VLOOKUP(BX30,anniversaire!$X$2:$Z$100,2,0)) | CB30: =IF(ISERROR(VLOOKUP(BX30,fête!$B$2:$C$367,2,0)),"",VLOOKUP(BX30,fête!$B$2:$C$367,2,0)) -> Venceslas | CC30: =IF(ISERROR(VLOOKUP(BX30,évènements!$A$3:$D$200,3,0)),"",VLOOKUP(BX30,évènements!$A$3:$D$200,3,0)) | CD30: =IF(ISERROR(VLOOKUP(BX30,évènements!$B$3:$D$200,2,0)),"",VLOOKUP(BX30,évènements!$B$3:$D$200,2,0)) | CE30: =CONCATENATE(CC30," ",CD30) | CF30: =CG30 -> 43036 | CG30: =CG29+1 -> 43036 | CH30: =IF(CG30="","",IF(ISERROR(MATCH(CG30,Lune!$A$1:$A$1000,0)),IF(WEEKDAY(CG30)=5,INT((CG30-DATE(YEAR(CG30),1,1))/7+1),IF(AND(WEEKDAY(CG30)=4,NOT( ISERROR(MATCH(CG30+1,Lune!$A$1:$A$1000,0)))),INT((CG30+1-DATE(YEAR(CG30+1),1,1))/7+1),"")),INDEX(Lune!$B$1:$B$1000,MATCH(CG30,Lune!$A$1:$A$1000,0),1))) | CI30: =IF(CJ30="",""," '") | CJ30: =IF(ISERROR(VLOOKUP(CG30,anniversaire!$X$2:$Z$100,2,0)),"",VLOOKUP(CG30,anniversaire!$X$2:$Z$100,2,0)) | CK30: =IF(ISERROR(VLOOKUP(CG30,fête!$B$2:$C$367,2,0)),"",VLOOKUP(CG30,fête!$B$2:$C$367,2,0)) -> Jude | CL30: =IF(ISERROR(VLOOKUP(CG30,évènements!$A$3:$D$200,3,0)),"",VLOOKUP(CG30,évènements!$A$3:$D$200,3,0)) | CM30: =IF(ISERROR(VLOOKUP(CG30,évènements!$B$3:$D$200,2,0)),"",VLOOKUP(CG30,évènements!$B$3:$D$200,2,0)) | CN30: =CONCATENATE(CL30," ",CM30) | CO30: =CP30 -> 43067 | CP30: =CP29+1 -> 43067 | CQ30: =IF(CP30="","",IF(ISERROR(MATCH(CP30,Lune!$A$1:$A$1000,0)),IF(WEEKDAY(CP30)=5,INT((CP30-DATE(YEAR(CP30),1,1))/7+1),IF(AND(WEEKDAY(CP30)=4,NOT( ISERROR(MATCH(CP30+1,Lune!$A$1:$A$1000,0)))),INT((CP30+1-DATE(YEAR(CP30+1),1,1))/7+1),"")),INDEX(Lune!$B$1:$B$1000,MATCH(CP30,Lune!$A$1:$A$1000,0),1))) | CR30: =IF(CS30="",""," '") | CS30: =IF(ISERROR(VLOOKUP(CP30,anniversaire!$X$2:$Z$100,2,0)),"",VLOOKUP(CP30,anniversaire!$X$2:$Z$100,2,0)) | CT30: =IF(ISERROR(VLOOKUP(CP30,fête!$B$2:$C$367,2,0)),"",VLOOKUP(CP30,fête!$B$2:$C$367,2,0)) -> Jacques de la Marche | CU30: =IF(ISERROR(VLOOKUP(CP30,évènements!$A$3:$D$200,3,0)),"",VLOOKUP(CP30,évènements!$A$3:$D$200,3,0)) | CV30: =IF(ISERROR(VLOOKUP(CP30,évènements!$B$3:$D$200,2,0)),"",VLOOKUP(CP30,évènements!$B$3:$D$200,2,0)) | CW30: =CONCATENATE(CU30," ",CV30) | CX30: =CY30 -> 43097 | CY30: =CY29+1 -> 43097 | CZ30: =IF(CY30="","",IF(ISERROR(MATCH(CY30,Lune!$A$1:$A$1000,0)),IF(WEEKDAY(CY30)=5,INT((CY30-DATE(YEAR(CY30),1,1))/7+1),IF(AND(WEEKDAY(CY30)=4,NOT( ISERROR(MATCH(CY30+1,Lune!$A$1:$A$1000,0)))),INT((CY30+1-DATE(YEAR(CY30+1),1,1))/7+1),"")),INDEX(Lune!$B$1:$B$1000,MATCH(CY30,Lune!$A$1:$A$1000,0),1))) -> 52 | DA30: =IF(DB30="",""," '") | DB30: =IF(ISERROR(VLOOKUP(CY30,anniversaire!$X$2:$Z$100,2,0)),"",VLOOKUP(CY30,anniversaire!$X$2:$Z$100,2,0)) | DC30: =IF(ISERROR(VLOOKUP(CY30,fête!$B$2:$C$367,2,0)),"",VLOOKUP(CY30,fête!$B$2:$C$367,2,0)) -> Innocents | DD30: =IF(ISERROR(VLOOKUP(CY30,évènements!$A$3:$D$200,3,0)),"",VLOOKUP(CY30,évènements!$A$3:$D$200,3,0)) | DE30: =IF(ISERROR(VLOOKUP(CY30,évènements!$B$3:$D$200,2,0)),"",VLOOKUP(CY30,évènements!$B$3:$D$200,2,0)) | DF30: =CONCATENATE(DD30," ",DE30) | DG30: =DH30 -> 43128 | DH30: =DH29+1 -> 43128 | DI30: =IF(DH30="","",IF(ISERROR(MATCH(DH30,Lune!$A$1:$A$1000,0)),IF(WEEKDAY(DH30)=5,INT((DH30-DATE(YEAR(DH30),1,1))/7+1),IF(AND(WEEKDAY(DH30)=4,NOT( ISERROR(MATCH(DH30+1,Lune!$A$1:$A$1000,0)))),INT((DH30+1-DATE(YEAR(DH30+1),1,1))/7+1),"")),INDEX(Lune!$B$1:$B$1000,MATCH(DH30,Lune!$A$1:$A$1000,0),1))) | DJ30: =F30 | DK30: =G30 | DL30: =H30 -> Thomas d'Aquin | DM30: =IF(ISERROR(VLOOKUP(DH30,évènements!$A$3:$D$200,3,0)),"",VLOOKUP(DH30,évènements!$A$3:$D$200,3,0)) | DN30: =IF(ISERROR(VLOOKUP(DH30,évènements!$B$3:$D$200,2,0)),"",VLOOKUP(DH30,évènements!$B$3:$D$200,2,0)) | DO30: =CONCATENATE(DM30," ",DN30)
C31: =D31 -> 42764 | D31: =IFERROR(IF(OR(D30="",MONTH(D30+1)>MONTH(D30)),"",D30+1),"") -> 42764 | E31: =IF(D31="","",IF(ISERROR(MATCH(D31,Lune!$A$1:$A$1000,0)),IF(WEEKDAY(D31)=5,INT((D31-DATE(YEAR(D31),1,1))/7+1),IF(AND(WEEKDAY(D31)=4,NOT( ISERROR(MATCH(D31+1,Lune!$A$1:$A$1000,0)))),INT((D31+1-DATE(YEAR(D31+1),1,1))/7+1),"")),INDEX(Lune!$B$1:$B$1000,MATCH(D31,Lune!$A$1:$A$1000,0),1))) | F31: =IF(G31="",""," '") | G31: =IF(ISERROR(VLOOKUP(D31,anniversaire!$X$2:$Z$100,2,0)),"",VLOOKUP(D31,anniversaire!$X$2:$Z$100,2,0)) | H31: =IF(ISERROR(VLOOKUP(D31,fête!$B$2:$C$367,2,0)),"",VLOOKUP(D31,fête!$B$2:$C$367,2,0)) -> Gildas | I31: =IF(ISERROR(VLOOKUP(D31,évènements!$A$3:$D$200,3,0)),"",VLOOKUP(D31,évènements!$A$3:$D$200,3,0)) | J31: =IF(ISERROR(VLOOKUP(D31,évènements!$B$3:$D$200,2,0)),"",VLOOKUP(D31,évènements!$B$3:$D$200,2,0)) | K31: =CONCATENATE(I31," ",J31) | L31: =M31 | M31: =IFERROR(IF(OR(M30="",MONTH(M30+1)>MONTH(M30)),"",M30+1),"") | N31: =IF(M31="","",IF(ISERROR(MATCH(M31,Lune!$A$1:$A$1000,0)),IF(WEEKDAY(M31)=5,INT((M31-DATE(YEAR(M31),1,1))/7+1),IF(AND(WEEKDAY(M31)=4,NOT( ISERROR(MATCH(M31+1,Lune!$A$1:$A$1000,0)))),INT((M31+1-DATE(YEAR(M31+1),1,1))/7+1),"")),INDEX(Lune!$B$1:$B$1000,MATCH(M31,Lune!$A$1:$A$1000,0),1))) | O31: =IF(P31="",""," '") | P31: =IF(ISERROR(VLOOKUP(M31,anniversaire!$X$2:$Z$100,2,0)),"",VLOOKUP(M31,anniversaire!$X$2:$Z$100,2,0)) | Q31: =IF(ISERROR(VLOOKUP(M31,fête!$B$2:$C$367,2,0)),"",VLOOKUP(M31,fête!$B$2:$C$367,2,0)) | R31: =IF(ISERROR(VLOOKUP(M31,évènements!$A$3:$D$200,3,0)),"",VLOOKUP(M31,évènements!$A$3:$D$200,3,0)) | S31: =IF(ISERROR(VLOOKUP(M31,évènements!$B$3:$D$200,2,0)),"",VLOOKUP(M31,évènements!$B$3:$D$200,2,0)) | T31: =CONCATENATE(R31," ",S31) | U31: =V31 -> 42823 | V31: =IFERROR(IF(OR(V30="",MONTH(V30+1)>MONTH(V30)),"",V30+1),"") -> 42823 | W31: =IF(V31="","",IF(ISERROR(MATCH(V31,Lune!$A$1:$A$1000,0)),IF(WEEKDAY(V31)=5,INT((V31-DATE(YEAR(V31),1,1))/7+1),IF(AND(WEEKDAY(V31)=4,NOT( ISERROR(MATCH(V31+1,Lune!$A$1:$A$1000,0)))),INT((V31+1-DATE(YEAR(V31+1),1,1))/7+1),"")),INDEX(Lune!$B$1:$B$1000,MATCH(V31,Lune!$A$1:$A$1000,0),1))) | X31: =IF(Y31="",""," '") -> ' | Y31: =IF(ISERROR(VLOOKUP(V31,anniversaire!$X$2:$Z$100,2,0)),"",VLOOKUP(V31,anniversaire!$X$2:$Z$100,2,0)) -> taraud albane 8 | Z31: =IF(ISERROR(VLOOKUP(V31,fête!$B$2:$C$367,2,0)),"",VLOOKUP(V31,fête!$B$2:$C$367,2,0)) -> Gwladys | AA31: =IF(ISERROR(VLOOKUP(V31,évènements!$A$3:$D$200,3,0)),"",VLOOKUP(V31,évènements!$A$3:$D$200,3,0)) | AB31: =IF(ISERROR(VLOOKUP(V31,évènements!$B$3:$D$200,2,0)),"",VLOOKUP(V31,évènements!$B$3:$D$200,2,0)) | AC31: =CONCATENATE(AA31," ",AB31) | AD31: =AE31 -> 42854 | AE31: =IFERROR(IF(OR(AE30="",MONTH(AE30+1)>MONTH(AE30)),"",AE30+1),"") -> 42854 | AF31: =IF(AE31="","",IF(ISERROR(MATCH(AE31,Lune!$A$1:$A$1000,0)),IF(WEEKDAY(AE31)=5,INT((AE31-DATE(YEAR(AE31),1,1))/7+1),IF(AND(WEEKDAY(AE31)=4,NOT( ISERROR(MATCH(AE31+1,Lune!$A$1:$A$1000,0)))),INT((AE31+1-DATE(YEAR(AE31+1),1,1))/7+1),"")),INDEX(Lune!$B$1:$B$1000,MATCH(AE31,Lune!$A$1:$A$1000,0),1))) | AG31: =IF(AH31="",""," '") | AH31: =IF(ISERROR(VLOOKUP(AE31,anniversaire!$X$2:$Z$100,2,0)),"",VLOOKUP(AE31,anniversaire!$X$2:$Z$100,2,0)) | AI31: =IF(ISERROR(VLOOKUP(AE31,fête!$B$2:$C$367,2,0)),"",VLOOKUP(AE31,fête!$B$2:$C$367,2,0)) -> Catherine de Sienne | AJ31: =IF(ISERROR(VLOOKUP(AE31,évènements!$A$3:$D$200,3,0)),"",VLOOKUP(AE31,évènements!$A$3:$D$200,3,0)) | AK31: =IF(ISERROR(VLOOKUP(AE31,évènements!$B$3:$D$200,2,0)),"",VLOOKUP(AE31,évènements!$B$3:$D$200,2,0)) | AL31: =CONCATENATE(AJ31," ",AK31) | AM31: =AN31 -> 42884 | AN31: =IFERROR(IF(OR(AN30="",MONTH(AN30+1)>MONTH(AN30)),"",AN30+1),"") -> 42884 | AO31: =IF(AN31="","",IF(ISERROR(MATCH(AN31,Lune!$A$1:$A$1000,0)),IF(WEEKDAY(AN31)=5,INT((AN31-DATE(YEAR(AN31),1,1))/7+1),IF(AND(WEEKDAY(AN31)=4,NOT( ISERROR(MATCH(AN31+1,Lune!$A$1:$A$1000,0)))),INT((AN31+1-DATE(YEAR(AN31+1),1,1))/7+1),"")),INDEX(Lune!$B$1:$B$1000,MATCH(AN31,Lune!$A$1:$A$1000,0),1))) | AP31: =IF(AQ31="","","'") | AQ31: =IF(ISERROR(VLOOKUP(AN31,anniversaire!$X$2:$Z$100,2,0)),"",VLOOKUP(AN31,anniversaire!$X$2:$Z$100,2,0)) | AR31: =IF(ISERROR(VLOOKUP(AN31,fête!$B$2:$C$367,2,0)),"",VLOOKUP(AN31,fête!$B$2:$C$367,2,0)) -> Aymar | AS31: =IF(ISERROR(VLOOKUP(AN31,évènements!$A$3:$D$200,3,0)),"",VLOOKUP(AN31,évènements!$A$3:$D$200,3,0)) | AT31: =IF(ISERROR(VLOOKUP(AN31,évènements!$B$3:$D$200,2,0)),"",VLOOKUP(AN31,évènements!$B$3:$D$200,2,0)) | AU31: =CONCATENATE(AS31," ",AT31) | AV31: =AW31 -> 42915 | AW31: =IFERROR(IF(OR(AW30="",MONTH(AW30+1)>MONTH(AW30)),"",AW30+1),"") -> 42915 | AX31: =IF(AW31="","",IF(ISERROR(MATCH(AW31,Lune!$A$1:$A$1000,0)),IF(WEEKDAY(AW31)=5,INT((AW31-DATE(YEAR(AW31),1,1))/7+1),IF(AND(WEEKDAY(AW31)=4,NOT( ISERROR(MATCH(AW31+1,Lune!$A$1:$A$1000,0)))),INT((AW31+1-DATE(YEAR(AW31+1),1,1))/7+1),"")),INDEX(Lune!$B$1:$B$1000,MATCH(AW31,Lune!$A$1:$A$1000,0),1))) -> 26 | AY31: =IF(AZ31="",""," '") | AZ31: =IF(ISERROR(VLOOKUP(AW31,anniversaire!$X$2:$Z$100,2,0)),"",VLOOKUP(AW31,anniversaire!$X$2:$Z$100,2,0)) | BA31: =IF(ISERROR(VLOOKUP(AW31,fête!$B$2:$C$367,2,0)),"",VLOOKUP(AW31,fête!$B$2:$C$367,2,0)) -> Pierre, Paul | BB31: =IF(ISERROR(VLOOKUP(AW31,évènements!$A$3:$D$200,3,0)),"",VLOOKUP(AW31,évènements!$A$3:$D$200,3,0)) | BC31: =IF(ISERROR(VLOOKUP(AW31,évènements!$B$3:$D$200,2,0)),"",VLOOKUP(AW31,évènements!$B$3:$D$200,2,0)) | BD31: =CONCATENATE(BB31," ",BC31) | BE31: =BF31 -> 42945 | BF31: =IFERROR(IF(OR(BF30="",MONTH(BF30+1)>MONTH(BF30)),"",BF30+1),"") -> 42945 | BG31: =IF(BF31="","",IF(ISERROR(MATCH(BF31,Lune!$A$1:$A$1000,0)),IF(WEEKDAY(BF31)=5,INT((BF31-DATE(YEAR(BF31),1,1))/7+1),IF(AND(WEEKDAY(BF31)=4,NOT( ISERROR(MATCH(BF31+1,Lune!$A$1:$A$1000,0)))),INT((BF31+1-DATE(YEAR(BF31+1),1,1))/7+1),"")),INDEX(Lune!$B$1:$B$1000,MATCH(BF31,Lune!$A$1:$A$1000,0),1))) | BH31: =IF(BI31="",""," '") | BI31: =IF(ISERROR(VLOOKUP(BF31,anniversaire!$X$2:$Z$100,2,0)),"",VLOOKUP(BF31,anniversaire!$X$2:$Z$100,2,0)) | BJ31: =IF(ISERROR(VLOOKUP(BF31,fête!$B$2:$C$367,2,0)),"",VLOOKUP(BF31,fête!$B$2:$C$367,2,0)) -> Marthe | BK31: =IF(ISERROR(VLOOKUP(BF31,évènements!$A$3:$D$200,3,0)),"",VLOOKUP(BF31,évènements!$A$3:$D$200,3,0)) | BL31: =IF(ISERROR(VLOOKUP(BF31,évènements!$B$3:$D$200,2,0)),"",VLOOKUP(BF31,évènements!$B$3:$D$200,2,0)) | BM31: =CONCATENATE(BK31," ",BL31) | BN31: =BO31 -> 42976 | BO31: =IFERROR(IF(OR(BO30="",MONTH(BO30+1)>MONTH(BO30)),"",BO30+1),"") -> 42976 | BP31: =IF(BO31="","",IF(ISERROR(MATCH(BO31,Lune!$A$1:$A$1000,0)),IF(WEEKDAY(BO31)=5,INT((BO31-DATE(YEAR(BO31),1,1))/7+1),IF(AND(WEEKDAY(BO31)=4,NOT( ISERROR(MATCH(BO31+1,Lune!$A$1:$A$1000,0)))),INT((BO31+1-DATE(YEAR(BO31+1),1,1))/7+1),"")),INDEX(Lune!$B$1:$B$1000,MATCH(BO31,Lune!$A$1:$A$1000,0),1))) -> ◐ | BQ31: =IF(BR31="",""," '") | BR31: =IF(ISERROR(VLOOKUP(BO31,anniversaire!$X$2:$Z$100,2,0)),"",VLOOKUP(BO31,anniversaire!$X$2:$Z$100,2,0)) | BS31: =IF(ISERROR(VLOOKUP(BO31,fête!$B$2:$C$367,2,0)),"",VLOOKUP(BO31,fête!$B$2:$C$367,2,0)) -> Sabine | BT31: =IF(ISERROR(VLOOKUP(BO31,évènements!$A$3:$D$200,3,0)),"",VLOOKUP(BO31,évènements!$A$3:$D$200,3,0)) | BU31: =IF(ISERROR(VLOOKUP(BO31,évènements!$B$3:$D$200,2,0)),"",VLOOKUP(BO31,évènements!$B$3:$D$200,2,0)) | BV31: =CONCATENATE(BT31," ",BU31) | BW31: =BX31 -> 43007 | BX31: =IFERROR(IF(OR(BX30="",MONTH(BX30+1)>MONTH(BX30)),"",BX30+1),"") -> 43007 | BY31: =IF(BX31="","",IF(ISERROR(MATCH(BX31,Lune!$A$1:$A$1000,0)),IF(WEEKDAY(BX31)=5,INT((BX31-DATE(YEAR(BX31),1,1))/7+1),IF(AND(WEEKDAY(BX31)=4,NOT( ISERROR(MATCH(BX31+1,Lune!$A$1:$A$1000,0)))),INT((BX31+1-DATE(YEAR(BX31+1),1,1))/7+1),"")),INDEX(Lune!$B$1:$B$1000,MATCH(BX31,Lune!$A$1:$A$1000,0),1))) | BZ31: =IF(CA31="",""," '") | CA31: =IF(ISERROR(VLOOKUP(BX31,anniversaire!$X$2:$Z$100,2,0)),"",VLOOKUP(BX31,anniversaire!$X$2:$Z$100,2,0)) | CB31: =IF(ISERROR(VLOOKUP(BX31,fête!$B$2:$C$367,2,0)),"",VLOOKUP(BX31,fête!$B$2:$C$367,2,0)) -> Michel, Gabriel, Raphaël | CC31: =IF(ISERROR(VLOOKUP(BX31,évènements!$A$3:$D$200,3,0)),"",VLOOKUP(BX31,évènements!$A$3:$D$200,3,0)) | CD31: =IF(ISERROR(VLOOKUP(BX31,évènements!$B$3:$D$200,2,0)),"",VLOOKUP(BX31,évènements!$B$3:$D$200,2,0)) | CE31: =CONCATENATE(CC31," ",CD31) | CF31: =CG31 -> 43037 | CG31: =IFERROR(IF(OR(CG30="",MONTH(CG30+1)>MONTH(CG30)),"",CG30+1),"") -> 43037 | CH31: =IF(CG31="","",IF(ISERROR(MATCH(CG31,Lune!$A$1:$A$1000,0)),IF(WEEKDAY(CG31)=5,INT((CG31-DATE(YEAR(CG31),1,1))/7+1),IF(AND(WEEKDAY(CG31)=4,NOT( ISERROR(MATCH(CG31+1,Lune!$A$1:$A$1000,0)))),INT((CG31+1-DATE(YEAR(CG31+1),1,1))/7+1),"")),INDEX(Lune!$B$1:$B$1000,MATCH(CG31,Lune!$A$1:$A$1000,0),1))) | CI31: =IF(CJ31="",""," '") | CJ31: =IF(ISERROR(VLOOKUP(CG31,anniversaire!$X$2:$Z$100,2,0)),"",VLOOKUP(CG31,anniversaire!$X$2:$Z$100,2,0)) | CK31: =IF(ISERROR(VLOOKUP(CG31,fête!$B$2:$C$367,2,0)),"",VLOOKUP(CG31,fête!$B$2:$C$367,2,0)) -> Narcisse | CL31: =IF(ISERROR(VLOOKUP(CG31,évènements!$A$3:$D$200,3,0)),"",VLOOKUP(CG31,évènements!$A$3:$D$200,3,0)) | CM31: =IF(ISERROR(VLOOKUP(CG31,évènements!$B$3:$D$200,2,0)),"",VLOOKUP(CG31,évènements!$B$3:$D$200,2,0)) | CN31: =CONCATENATE(CL31," ",CM31) | CO31: =CP31 -> 43068 | CP31: =IFERROR(IF(OR(CP30="",MONTH(CP30+1)>MONTH(CP30)),"",CP30+1),"") -> 43068 | CQ31: =IF(CP31="","",IF(ISERROR(MATCH(CP31,Lune!$A$1:$A$1000,0)),IF(WEEKDAY(CP31)=5,INT((CP31-DATE(YEAR(CP31),1,1))/7+1),IF(AND(WEEKDAY(CP31)=4,NOT( ISERROR(MATCH(CP31+1,Lune!$A$1:$A$1000,0)))),INT((CP31+1-DATE(YEAR(CP31+1),1,1))/7+1),"")),INDEX(Lune!$B$1:$B$1000,MATCH(CP31,Lune!$A$1:$A$1000,0),1))) | CR31: =IF(CS31="",""," '") | CS31: =IF(ISERROR(VLOOKUP(CP31,anniversaire!$X$2:$Z$100,2,0)),"",VLOOKUP(CP31,anniversaire!$X$2:$Z$100,2,0)) | CT31: =IF(ISERROR(VLOOKUP(CP31,fête!$B$2:$C$367,2,0)),"",VLOOKUP(CP31,fête!$B$2:$C$367,2,0)) -> Saturnin | CU31: =IF(ISERROR(VLOOKUP(CP31,évènements!$A$3:$D$200,3,0)),"",VLOOKUP(CP31,évènements!$A$3:$D$200,3,0)) | CV31: =IF(ISERROR(VLOOKUP(CP31,évènements!$B$3:$D$200,2,0)),"",VLOOKUP(CP31,évènements!$B$3:$D$200,2,0)) | CW31: =CONCATENATE(CU31," ",CV31) | CX31: =CY31 -> 43098 | CY31: =IFERROR(IF(OR(CY30="",MONTH(CY30+1)>MONTH(CY30)),"",CY30+1),"") -> 43098 | CZ31: =IF(CY31="","",IF(ISERROR(MATCH(CY31,Lune!$A$1:$A$1000,0)),IF(WEEKDAY(CY31)=5,INT((CY31-DATE(YEAR(CY31),1,1))/7+1),IF(AND(WEEKDAY(CY31)=4,NOT( ISERROR(MATCH(CY31+1,Lune!$A$1:$A$1000,0)))),INT((CY31+1-DATE(YEAR(CY31+1),1,1))/7+1),"")),INDEX(Lune!$B$1:$B$1000,MATCH(CY31,Lune!$A$1:$A$1000,0),1))) | DA31: =IF(DB31="",""," '") | DB31: =IF(ISERROR(VLOOKUP(CY31,anniversaire!$X$2:$Z$100,2,0)),"",VLOOKUP(CY31,anniversaire!$X$2:$Z$100,2,0)) | DC31: =IF(ISERROR(VLOOKUP(CY31,fête!$B$2:$C$367,2,0)),"",VLOOKUP(CY31,fête!$B$2:$C$367,2,0)) -> David | DD31: =IF(ISERROR(VLOOKUP(CY31,évènements!$A$3:$D$200,3,0)),"",VLOOKUP(CY31,évènements!$A$3:$D$200,3,0)) | DE31: =IF(ISERROR(VLOOKUP(CY31,évènements!$B$3:$D$200,2,0)),"",VLOOKUP(CY31,évènements!$B$3:$D$200,2,0)) | DF31: =CONCATENATE(DD31," ",DE31) | DG31: =DH31 -> 43129 | DH31: =IFERROR(IF(OR(DH30="",MONTH(DH30+1)>MONTH(DH30)),"",DH30+1),"") -> 43129 | DI31: =IF(DH31="","",IF(ISERROR(MATCH(DH31,Lune!$A$1:$A$1000,0)),IF(WEEKDAY(DH31)=5,INT((DH31-DATE(YEAR(DH31),1,1))/7+1),IF(AND(WEEKDAY(DH31)=4,NOT( ISERROR(MATCH(DH31+1,Lune!$A$1:$A$1000,0)))),INT((DH31+1-DATE(YEAR(DH31+1),1,1))/7+1),"")),INDEX(Lune!$B$1:$B$1000,MATCH(DH31,Lune!$A$1:$A$1000,0),1))) | DJ31: =F31 | DK31: =G31 | DL31: =H31 -> Gildas | DM31: =IF(ISERROR(VLOOKUP(DH31,évènements!$A$3:$D$200,3,0)),"",VLOOKUP(DH31,évènements!$A$3:$D$200,3,0)) | DN31: =IF(ISERROR(VLOOKUP(DH31,évènements!$B$3:$D$200,2,0)),"",VLOOKUP(DH31,évènements!$B$3:$D$200,2,0)) | DO31: =CONCATENATE(DM31," ",DN31)
C32: =D32 -> 42765 | D32: =IFERROR(IF(OR(D31="",MONTH(D31+1)>MONTH(D31)),"",D31+1),"") -> 42765 | E32: =IF(D32="","",IF(ISERROR(MATCH(D32,Lune!$A$1:$A$1000,0)),IF(WEEKDAY(D32)=5,INT((D32-DATE(YEAR(D32),1,1))/7+1),IF(AND(WEEKDAY(D32)=4,NOT( ISERROR(MATCH(D32+1,Lune!$A$1:$A$1000,0)))),INT((D32+1-DATE(YEAR(D32+1),1,1))/7+1),"")),INDEX(Lune!$B$1:$B$1000,MATCH(D32,Lune!$A$1:$A$1000,0),1))) | F32: =IF(G32="",""," '") | G32: =IF(ISERROR(VLOOKUP(D32,anniversaire!$X$2:$Z$100,2,0)),"",VLOOKUP(D32,anniversaire!$X$2:$Z$100,2,0)) | H32: =IF(ISERROR(VLOOKUP(D32,fête!$B$2:$C$367,2,0)),"",VLOOKUP(D32,fête!$B$2:$C$367,2,0)) -> Martine | I32: =IF(ISERROR(VLOOKUP(D32,évènements!$A$3:$D$200,3,0)),"",VLOOKUP(D32,évènements!$A$3:$D$200,3,0)) | J32: =IF(ISERROR(VLOOKUP(D32,évènements!$B$3:$D$200,2,0)),"",VLOOKUP(D32,évènements!$B$3:$D$200,2,0)) | K32: =CONCATENATE(I32," ",J32) | L32: =M32 | M32: =IFERROR(IF(OR(M31="",MONTH(M31+1)>MONTH(M31)),"",M31+1),"") | U32: =V32 -> 42824 | V32: =IFERROR(IF(OR(V31="",MONTH(V31+1)>MONTH(V31)),"",V31+1),"") -> 42824 | W32: =IF(V32="","",IF(ISERROR(MATCH(V32,Lune!$A$1:$A$1000,0)),IF(WEEKDAY(V32)=5,INT((V32-DATE(YEAR(V32),1,1))/7+1),IF(AND(WEEKDAY(V32)=4,NOT( ISERROR(MATCH(V32+1,Lune!$A$1:$A$1000,0)))),INT((V32+1-DATE(YEAR(V32+1),1,1))/7+1),"")),INDEX(Lune!$B$1:$B$1000,MATCH(V32,Lune!$A$1:$A$1000,0),1))) -> 13 | X32: =IF(Y32="",""," '") -> ' | Y32: =IF(ISERROR(VLOOKUP(V32,anniversaire!$X$2:$Z$100,2,0)),"",VLOOKUP(V32,anniversaire!$X$2:$Z$100,2,0)) -> decelle daniel 38 | Z32: =IF(ISERROR(VLOOKUP(V32,fête!$B$2:$C$367,2,0)),"",VLOOKUP(V32,fête!$B$2:$C$367,2,0)) -> Amédée | AA32: =IF(ISERROR(VLOOKUP(V32,évènements!$A$3:$D$200,3,0)),"",VLOOKUP(V32,évènements!$A$3:$D$200,3,0)) | AB32: =IF(ISERROR(VLOOKUP(V32,évènements!$B$3:$D$200,2,0)),"",VLOOKUP(V32,évènements!$B$3:$D$200,2,0)) | AC32: =CONCATENATE(AA32," ",AB32) | AD32: =AE32 -> 42855 | AE32: =IFERROR(IF(OR(AE31="",MONTH(AE31+1)>MONTH(AE31)),"",AE31+1),"") -> 42855 | AF32: =IF(AE32="","",IF(ISERROR(MATCH(AE32,Lune!$A$1:$A$1000,0)),IF(WEEKDAY(AE32)=5,INT((AE32-DATE(YEAR(AE32),1,1))/7+1),IF(AND(WEEKDAY(AE32)=4,NOT( ISERROR(MATCH(AE32+1,Lune!$A$1:$A$1000,0)))),INT((AE32+1-DATE(YEAR(AE32+1),1,1))/7+1),"")),INDEX(Lune!$B$1:$B$1000,MATCH(AE32,Lune!$A$1:$A$1000,0),1))) | AG32: =IF(AH32="",""," '") | AH32: =IF(ISERROR(VLOOKUP(AE32,anniversaire!$X$2:$Z$100,2,0)),"",VLOOKUP(AE32,anniversaire!$X$2:$Z$100,2,0)) | AI32: =IF(ISERROR(VLOOKUP(AE32,fête!$B$2:$C$367,2,0)),"",VLOOKUP(AE32,fête!$B$2:$C$367,2,0)) -> Robert | AJ32: =IF(ISERROR(VLOOKUP(AE32,évènements!$A$3:$D$200,3,0)),"",VLOOKUP(AE32,évènements!$A$3:$D$200,3,0)) | AK32: =IF(ISERROR(VLOOKUP(AE32,évènements!$B$3:$D$200,2,0)),"",VLOOKUP(AE32,évènements!$B$3:$D$200,2,0)) | AL32: =CONCATENATE(AJ32," ",AK32) | AM32: =AN32 -> 42885 | AN32: =IFERROR(IF(OR(AN31="",MONTH(AN31+1)>MONTH(AN31)),"",AN31+1),"") -> 42885 | AO32: =IF(AN32="","",IF(ISERROR(MATCH(AN32,Lune!$A$1:$A$1000,0)),IF(WEEKDAY(AN32)=5,INT((AN32-DATE(YEAR(AN32),1,1))/7+1),IF(AND(WEEKDAY(AN32)=4,NOT( ISERROR(MATCH(AN32+1,Lune!$A$1:$A$1000,0)))),INT((AN32+1-DATE(YEAR(AN32+1),1,1))/7+1),"")),INDEX(Lune!$B$1:$B$1000,MATCH(AN32,Lune!$A$1:$A$1000,0),1))) | AP32: =IF(AQ32="","","'") | AQ32: =IF(ISERROR(VLOOKUP(AN32,anniversaire!$X$2:$Z$100,2,0)),"",VLOOKUP(AN32,anniversaire!$X$2:$Z$100,2,0)) | AR32: =IF(ISERROR(VLOOKUP(AN32,fête!$B$2:$C$367,2,0)),"",VLOOKUP(AN32,fête!$B$2:$C$367,2,0)) -> Ferdinand | AS32: =IF(ISERROR(VLOOKUP(AN32,évènements!$A$3:$D$200,3,0)),"",VLOOKUP(AN32,évènements!$A$3:$D$200,3,0)) | AT32: =IF(ISERROR(VLOOKUP(AN32,évènements!$B$3:$D$200,2,0)),"",VLOOKUP(AN32,évènements!$B$3:$D$200,2,0)) | AU32: =CONCATENATE(AS32," ",AT32) | AV32: =AW32 -> 42916 | AW32: =IFERROR(IF(OR(AW31="",MONTH(AW31+1)>MONTH(AW31)),"",AW31+1),"") -> 42916 | AX32: =IF(AW32="","",IF(ISERROR(MATCH(AW32,Lune!$A$1:$A$1000,0)),IF(WEEKDAY(AW32)=5,INT((AW32-DATE(YEAR(AW32),1,1))/7+1),IF(AND(WEEKDAY(AW32)=4,NOT( ISERROR(MATCH(AW32+1,Lune!$A$1:$A$1000,0)))),INT((AW32+1-DATE(YEAR(AW32+1),1,1))/7+1),"")),INDEX(Lune!$B$1:$B$1000,MATCH(AW32,Lune!$A$1:$A$1000,0),1))) | AY32: =IF(AZ32="",""," '") | AZ32: =IF(ISERROR(VLOOKUP(AW32,anniversaire!$X$2:$Z$100,2,0)),"",VLOOKUP(AW32,anniversaire!$X$2:$Z$100,2,0)) | BA32: =IF(ISERROR(VLOOKUP(AW32,fête!$B$2:$C$367,2,0)),"",VLOOKUP(AW32,fête!$B$2:$C$367,2,0)) -> Martial | BB32: =IF(ISERROR(VLOOKUP(AW32,évènements!$A$3:$D$200,3,0)),"",VLOOKUP(AW32,évènements!$A$3:$D$200,3,0)) | BC32: =IF(ISERROR(VLOOKUP(AW32,évènements!$B$3:$D$200,2,0)),"",VLOOKUP(AW32,évènements!$B$3:$D$200,2,0)) | BD32: =CONCATENATE(BB32," ",BC32) | BE32: =BF32 -> 42946 | BF32: =IFERROR(IF(OR(BF31="",MONTH(BF31+1)>MONTH(BF31)),"",BF31+1),"") -> 42946 | BG32: =IF(BF32="","",IF(ISERROR(MATCH(BF32,Lune!$A$1:$A$1000,0)),IF(WEEKDAY(BF32)=5,INT((BF32-DATE(YEAR(BF32),1,1))/7+1),IF(AND(WEEKDAY(BF32)=4,NOT( ISERROR(MATCH(BF32+1,Lune!$A$1:$A$1000,0)))),INT((BF32+1-DATE(YEAR(BF32+1),1,1))/7+1),"")),INDEX(Lune!$B$1:$B$1000,MATCH(BF32,Lune!$A$1:$A$1000,0),1))) -> ◐ | BH32: =IF(BI32="",""," '") | BI32: =IF(ISERROR(VLOOKUP(BF32,anniversaire!$X$2:$Z$100,2,0)),"",VLOOKUP(BF32,anniversaire!$X$2:$Z$100,2,0)) | BJ32: =IF(ISERROR(VLOOKUP(BF32,fête!$B$2:$C$367,2,0)),"",VLOOKUP(BF32,fête!$B$2:$C$367,2,0)) -> Juliette | BK32: =IF(ISERROR(VLOOKUP(BF32,évènements!$A$3:$D$200,3,0)),"",VLOOKUP(BF32,évènements!$A$3:$D$200,3,0)) | BL32: =IF(ISERROR(VLOOKUP(BF32,évènements!$B$3:$D$200,2,0)),"",VLOOKUP(BF32,évènements!$B$3:$D$200,2,0)) | BM32: =CONCATENATE(BK32," ",BL32) | BN32: =BO32 -> 42977 | BO32: =IFERROR(IF(OR(BO31="",MONTH(BO31+1)>MONTH(BO31)),"",BO31+1),"") -> 42977 | BP32: =IF(BO32="","",IF(ISERROR(MATCH(BO32,Lune!$A$1:$A$1000,0)),IF(WEEKDAY(BO32)=5,INT((BO32-DATE(YEAR(BO32),1,1))/7+1),IF(AND(WEEKDAY(BO32)=4,NOT( ISERROR(MATCH(BO32+1,Lune!$A$1:$A$1000,0)))),INT((BO32+1-DATE(YEAR(BO32+1),1,1))/7+1),"")),INDEX(Lune!$B$1:$B$1000,MATCH(BO32,Lune!$A$1:$A$1000,0),1))) | BQ32: =IF(BR32="",""," '") | BR32: =IF(ISERROR(VLOOKUP(BO32,anniversaire!$X$2:$Z$100,2,0)),"",VLOOKUP(BO32,anniversaire!$X$2:$Z$100,2,0)) | BS32: =IF(ISERROR(VLOOKUP(BO32,fête!$B$2:$C$367,2,0)),"",VLOOKUP(BO32,fête!$B$2:$C$367,2,0)) -> Fiacre | BT32: =IF(ISERROR(VLOOKUP(BO32,évènements!$A$3:$D$200,3,0)),"",VLOOKUP(BO32,évènements!$A$3:$D$200,3,0)) | BU32: =IF(ISERROR(VLOOKUP(BO32,évènements!$B$3:$D$200,2,0)),"",VLOOKUP(BO32,évènements!$B$3:$D$200,2,0)) | BV32: =CONCATENATE(BT32," ",BU32) | BW32: =BX32 -> 43008 | BX32: =IFERROR(IF(OR(BX31="",MONTH(BX31+1)>MONTH(BX31)),"",BX31+1),"") -> 43008 | BY32: =IF(BX32="","",IF(ISERROR(MATCH(BX32,Lune!$A$1:$A$1000,0)),IF(WEEKDAY(BX32)=5,INT((BX32-DATE(YEAR(BX32),1,1))/7+1),IF(AND(WEEKDAY(BX32)=4,NOT( ISERROR(MATCH(BX32+1,Lune!$A$1:$A$1000,0)))),INT((BX32+1-DATE(YEAR(BX32+1),1,1))/7+1),"")),INDEX(Lune!$B$1:$B$1000,MATCH(BX32,Lune!$A$1:$A$1000,0),1))) | BZ32: =IF(CA32="",""," '") | CA32: =IF(ISERROR(VLOOKUP(BX32,anniversaire!$X$2:$Z$100,2,0)),"",VLOOKUP(BX32,anniversaire!$X$2:$Z$100,2,0)) | CB32: =IF(ISERROR(VLOOKUP(BX32,fête!$B$2:$C$367,2,0)),"",VLOOKUP(BX32,fête!$B$2:$C$367,2,0)) -> Jérôme | CC32: =IF(ISERROR(VLOOKUP(BX32,évènements!$A$3:$D$200,3,0)),"",VLOOKUP(BX32,évènements!$A$3:$D$200,3,0)) | CD32: =IF(ISERROR(VLOOKUP(BX32,évènements!$B$3:$D$200,2,0)),"",VLOOKUP(BX32,évènements!$B$3:$D$200,2,0)) | CE32: =CONCATENATE(CC32," ",CD32) | CF32: =CG32 -> 43038 | CG32: =IFERROR(IF(OR(CG31="",MONTH(CG31+1)>MONTH(CG31)),"",CG31+1),"") -> 43038 | CH32: =IF(CG32="","",IF(ISERROR(MATCH(CG32,Lune!$A$1:$A$1000,0)),IF(WEEKDAY(CG32)=5,INT((CG32-DATE(YEAR(CG32),1,1))/7+1),IF(AND(WEEKDAY(CG32)=4,NOT( ISERROR(MATCH(CG32+1,Lune!$A$1:$A$1000,0)))),INT((CG32+1-DATE(YEAR(CG32+1),1,1))/7+1),"")),INDEX(Lune!$B$1:$B$1000,MATCH(CG32,Lune!$A$1:$A$1000,0),1))) | CI32: =IF(CJ32="",""," '") | CJ32: =IF(ISERROR(VLOOKUP(CG32,anniversaire!$X$2:$Z$100,2,0)),"",VLOOKUP(CG32,anniversaire!$X$2:$Z$100,2,0)) | CK32: =IF(ISERROR(VLOOKUP(CG32,fête!$B$2:$C$367,2,0)),"",VLOOKUP(CG32,fête!$B$2:$C$367,2,0)) -> Bienvenu | CL32: =IF(ISERROR(VLOOKUP(CG32,évènements!$A$3:$D$200,3,0)),"",VLOOKUP(CG32,évènements!$A$3:$D$200,3,0)) | CM32: =IF(ISERROR(VLOOKUP(CG32,évènements!$B$3:$D$200,2,0)),"",VLOOKUP(CG32,évènements!$B$3:$D$200,2,0)) | CN32: =CONCATENATE(CL32," ",CM32) | CO32: =CP32 -> 43069 | CP32: =IFERROR(IF(OR(CP31="",MONTH(CP31+1)>MONTH(CP31)),"",CP31+1),"") -> 43069 | CQ32: =IF(CP32="","",IF(ISERROR(MATCH(CP32,Lune!$A$1:$A$1000,0)),IF(WEEKDAY(CP32)=5,INT((CP32-DATE(YEAR(CP32),1,1))/7+1),IF(AND(WEEKDAY(CP32)=4,NOT( ISERROR(MATCH(CP32+1,Lune!$A$1:$A$1000,0)))),INT((CP32+1-DATE(YEAR(CP32+1),1,1))/7+1),"")),INDEX(Lune!$B$1:$B$1000,MATCH(CP32,Lune!$A$1:$A$1000,0),1))) -> 48 | CR32: =IF(CS32="",""," '") -> ' | CS32: =IF(ISERROR(VLOOKUP(CP32,anniversaire!$X$2:$Z$100,2,0)),"",VLOOKUP(CP32,anniversaire!$X$2:$Z$100,2,0)) -> boireau élodie 33 | CT32: =IF(ISERROR(VLOOKUP(CP32,fête!$B$2:$C$367,2,0)),"",VLOOKUP(CP32,fête!$B$2:$C$367,2,0)) -> André | CU32: =IF(ISERROR(VLOOKUP(CP32,évènements!$A$3:$D$200,3,0)),"",VLOOKUP(CP32,évènements!$A$3:$D$200,3,0)) | CV32: =IF(ISERROR(VLOOKUP(CP32,évènements!$B$3:$D$200,2,0)),"",VLOOKUP(CP32,évènements!$B$3:$D$200,2,0)) | CW32: =CONCATENATE(CU32," ",CV32) | CX32: =CY32 -> 43099 | CY32: =IFERROR(IF(OR(CY31="",MONTH(CY31+1)>MONTH(CY31)),"",CY31+1),"") -> 43099 | CZ32: =IF(CY32="","",IF(ISERROR(MATCH(CY32,Lune!$A$1:$A$1000,0)),IF(WEEKDAY(CY32)=5,INT((CY32-DATE(YEAR(CY32),1,1))/7+1),IF(AND(WEEKDAY(CY32)=4,NOT( ISERROR(MATCH(CY32+1,Lune!$A$1:$A$1000,0)))),INT((CY32+1-DATE(YEAR(CY32+1),1,1))/7+1),"")),INDEX(Lune!$B$1:$B$1000,MATCH(CY32,Lune!$A$1:$A$1000,0),1))) | DA32: =IF(DB32="",""," '") | DB32: =IF(ISERROR(VLOOKUP(CY32,anniversaire!$X$2:$Z$100,2,0)),"",VLOOKUP(CY32,anniversaire!$X$2:$Z$100,2,0)) | DC32: =IF(ISERROR(VLOOKUP(CY32,fête!$B$2:$C$367,2,0)),"",VLOOKUP(CY32,fête!$B$2:$C$367,2,0)) -> Roger | DD32: =IF(ISERROR(VLOOKUP(CY32,évènements!$A$3:$D$200,3,0)),"",VLOOKUP(CY32,évènements!$A$3:$D$200,3,0)) | DE32: =IF(ISERROR(VLOOKUP(CY32,évènements!$B$3:$D$200,2,0)),"",VLOOKUP(CY32,évènements!$B$3:$D$200,2,0)) | DF32: =CONCATENATE(DD32," ",DE32) | DG32: =DH32 -> 43130 | DH32: =IFERROR(IF(OR(DH31="",MONTH(DH31+1)>MONTH(DH31)),"",DH31+1),"") -> 43130 | DI32: =IF(DH32="","",IF(ISERROR(MATCH(DH32,Lune!$A$1:$A$1000,0)),IF(WEEKDAY(DH32)=5,INT((DH32-DATE(YEAR(DH32),1,1))/7+1),IF(AND(WEEKDAY(DH32)=4,NOT( ISERROR(MATCH(DH32+1,Lune!$A$1:$A$1000,0)))),INT((DH32+1-DATE(YEAR(DH32+1),1,1))/7+1),"")),INDEX(Lune!$B$1:$B$1000,MATCH(DH32,Lune!$A$1:$A$1000,0),1))) | DJ32: =F32 | DK32: =G32 | DL32: =H32 -> Martine | DM32: =IF(ISERROR(VLOOKUP(DH32,évènements!$A$3:$D$200,3,0)),"",VLOOKUP(DH32,évènements!$A$3:$D$200,3,0)) | DN32: =IF(ISERROR(VLOOKUP(DH32,évènements!$B$3:$D$200,2,0)),"",VLOOKUP(DH32,évènements!$B$3:$D$200,2,0)) | DO32: =CONCATENATE(DM32," ",DN32)
C33: =D33 -> 42766 | D33: =IFERROR(IF(OR(D31="",D32="",MONTH(D32+1)>MONTH(D32)),"",D32+1),"") -> 42766 | E33: =IF(D33="","",IF(ISERROR(MATCH(D33,Lune!$A$1:$A$1000,0)),IF(WEEKDAY(D33)=5,INT((D33-DATE(YEAR(D33),1,1))/7+1),IF(AND(WEEKDAY(D33)=4,NOT( ISERROR(MATCH(D33+1,Lune!$A$1:$A$1000,0)))),INT((D33+1-DATE(YEAR(D33+1),1,1))/7+1),"")),INDEX(Lune!$B$1:$B$1000,MATCH(D33,Lune!$A$1:$A$1000,0),1))) | F33: =IF(G33="",""," '") | G33: =IF(ISERROR(VLOOKUP(D33,anniversaire!$X$2:$Z$100,2,0)),"",VLOOKUP(D33,anniversaire!$X$2:$Z$100,2,0)) | H33: =IF(ISERROR(VLOOKUP(D33,fête!$B$2:$C$367,2,0)),"",VLOOKUP(D33,fête!$B$2:$C$367,2,0)) -> Marcelle | I33: =IF(ISERROR(VLOOKUP(D33,évènements!$A$3:$D$200,3,0)),"",VLOOKUP(D33,évènements!$A$3:$D$200,3,0)) | J33: =IF(ISERROR(VLOOKUP(D33,évènements!$B$3:$D$200,2,0)),"",VLOOKUP(D33,évènements!$B$3:$D$200,2,0)) | K33: =CONCATENATE(I33," ",J33) | L33: =M33 | M33: =IFERROR(IF(OR(M32="",MONTH(M32+1)>MONTH(M32)),"",M32+1),"") | U33: =V33 -> 42825 | V33: =IFERROR(IF(OR(V32="",MONTH(V32+1)>MONTH(V32)),"",V32+1),"") -> 42825 | W33: =IF(V33="","",IF(ISERROR(MATCH(V33,Lune!$A$1:$A$1000,0)),IF(WEEKDAY(V33)=5,INT((V33-DATE(YEAR(V33),1,1))/7+1),IF(AND(WEEKDAY(V33)=4,NOT( ISERROR(MATCH(V33+1,Lune!$A$1:$A$1000,0)))),INT((V33+1-DATE(YEAR(V33+1),1,1))/7+1),"")),INDEX(Lune!$B$1:$B$1000,MATCH(V33,Lune!$A$1:$A$1000,0),1))) | X33: =IF(Y33="",""," '") | Y33: =IF(ISERROR(VLOOKUP(V33,anniversaire!$X$2:$Z$100,2,0)),"",VLOOKUP(V33,anniversaire!$X$2:$Z$100,2,0)) | Z33: =IF(ISERROR(VLOOKUP(V33,fête!$B$2:$C$367,2,0)),"",VLOOKUP(V33,fête!$B$2:$C$367,2,0)) -> Benjamin | AA33: =IF(ISERROR(VLOOKUP(V33,évènements!$A$3:$D$200,3,0)),"",VLOOKUP(V33,évènements!$A$3:$D$200,3,0)) -> Inventaire ROLOT | AB33: =IF(ISERROR(VLOOKUP(V33,évènements!$B$3:$D$200,2,0)),"",VLOOKUP(V33,évènements!$B$3:$D$200,2,0)) | AC33: =CONCATENATE(AA33," ",AB33) -> Inventaire ROLOT | AD33: =AE33 | AE33: =IFERROR(IF(OR(AE32="",MONTH(AE32+1)>MONTH(AE32)),"",AE32+1),"") | AM33: =AN33 -> 42886 | AN33: =IFERROR(IF(OR(AN32="",MONTH(AN32+1)>MONTH(AN32)),"",AN32+1),"") -> 42886 | AO33: =IF(AN33="","",IF(ISERROR(MATCH(AN33,Lune!$A$1:$A$1000,0)),IF(WEEKDAY(AN33)=5,INT((AN33-DATE(YEAR(AN33),1,1))/7+1),IF(AND(WEEKDAY(AN33)=4,NOT( ISERROR(MATCH(AN33+1,Lune!$A$1:$A$1000,0)))),INT((AN33+1-DATE(YEAR(AN33+1),1,1))/7+1),"")),INDEX(Lune!$B$1:$B$1000,MATCH(AN33,Lune!$A$1:$A$1000,0),1))) -> 22 | AP33: =IF(AQ33="","","'") | AQ33: =IF(ISERROR(VLOOKUP(AN33,anniversaire!$X$2:$Z$100,2,0)),"",VLOOKUP(AN33,anniversaire!$X$2:$Z$100,2,0)) | AR33: =IF(ISERROR(VLOOKUP(AN33,fête!$B$2:$C$367,2,0)),"",VLOOKUP(AN33,fête!$B$2:$C$367,2,0)) -> Visitation de la Sainte Vierge | AS33: =IF(ISERROR(VLOOKUP(AN33,évènements!$A$3:$D$200,3,0)),"",VLOOKUP(AN33,évènements!$A$3:$D$200,3,0)) | AT33: =IF(ISERROR(VLOOKUP(AN33,évènements!$B$3:$D$200,2,0)),"",VLOOKUP(AN33,évènements!$B$3:$D$200,2,0)) | AU33: =CONCATENATE(AS33," ",AT33) | AV33: =AW33 | AW33: =IFERROR(IF(OR(AW32="",MONTH(AW32+1)>MONTH(AW32)),"",AW32+1),"") | BB33: =IF(ISERROR(VLOOKUP(AW33,évènements!$A$3:$D$200,3,0)),"",VLOOKUP(AW33,évènements!$A$3:$D$200,3,0)) | BC33: =IF(ISERROR(VLOOKUP(AW33,évènements!$B$3:$D$200,2,0)),"",VLOOKUP(AW33,évènements!$B$3:$D$200,2,0)) | BD33: =CONCATENATE(BB33," ",BC33) | BE33: =BF33 -> 42947 | BF33: =IFERROR(IF(OR(BF32="",MONTH(BF32+1)>MONTH(BF32)),"",BF32+1),"") -> 42947 | BG33: =IF(BF33="","",IF(ISERROR(MATCH(BF33,Lune!$A$1:$A$1000,0)),IF(WEEKDAY(BF33)=5,INT((BF33-DATE(YEAR(BF33),1,1))/7+1),IF(AND(WEEKDAY(BF33)=4,NOT( ISERROR(MATCH(BF33+1,Lune!$A$1:$A$1000,0)))),INT((BF33+1-DATE(YEAR(BF33+1),1,1))/7+1),"")),INDEX(Lune!$B$1:$B$1000,MATCH(BF33,Lune!$A$1:$A$1000,0),1))) | BH33: =IF(BI33="",""," '") | BI33: =IF(ISERROR(VLOOKUP(BF33,anniversaire!$X$2:$Z$100,2,0)),"",VLOOKUP(BF33,anniversaire!$X$2:$Z$100,2,0)) | BJ33: =IF(ISERROR(VLOOKUP(BF33,fête!$B$2:$C$367,2,0)),"",VLOOKUP(BF33,fête!$B$2:$C$367,2,0)) -> Ignace de Loyola | BK33: =IF(ISERROR(VLOOKUP(BF33,évènements!$A$3:$D$200,3,0)),"",VLOOKUP(BF33,évènements!$A$3:$D$200,3,0)) | BL33: =IF(ISERROR(VLOOKUP(BF33,évènements!$B$3:$D$200,2,0)),"",VLOOKUP(BF33,évènements!$B$3:$D$200,2,0)) | BM33: =CONCATENATE(BK33," ",BL33) | BN33: =BO33 -> 42978 | BO33: =IFERROR(IF(OR(BO32="",MONTH(BO32+1)>MONTH(BO32)),"",BO32+1),"") -> 42978 | BP33: =IF(BO33="","",IF(ISERROR(MATCH(BO33,Lune!$A$1:$A$1000,0)),IF(WEEKDAY(BO33)=5,INT((BO33-DATE(YEAR(BO33),1,1))/7+1),IF(AND(WEEKDAY(BO33)=4,NOT( ISERROR(MATCH(BO33+1,Lune!$A$1:$A$1000,0)))),INT((BO33+1-DATE(YEAR(BO33+1),1,1))/7+1),"")),INDEX(Lune!$B$1:$B$1000,MATCH(BO33,Lune!$A$1:$A$1000,0),1))) -> 35 | BQ33: =IF(BR33="",""," '") | BR33: =IF(ISERROR(VLOOKUP(BO33,anniversaire!$X$2:$Z$100,2,0)),"",VLOOKUP(BO33,anniversaire!$X$2:$Z$100,2,0)) | BS33: =IF(ISERROR(VLOOKUP(BO33,fête!$B$2:$C$367,2,0)),"",VLOOKUP(BO33,fête!$B$2:$C$367,2,0)) -> Aristide | BT33: =IF(ISERROR(VLOOKUP(BO33,évènements!$A$3:$D$200,3,0)),"",VLOOKUP(BO33,évènements!$A$3:$D$200,3,0)) | BU33: =IF(ISERROR(VLOOKUP(BO33,évènements!$B$3:$D$200,2,0)),"",VLOOKUP(BO33,évènements!$B$3:$D$200,2,0)) | BV33: =CONCATENATE(BT33," ",BU33) | BW33: =BX33 | BX33: =IFERROR(IF(OR(BX32="",MONTH(BX32+1)>MONTH(BX32)),"",BX32+1),"") | CC33: =IF(ISERROR(VLOOKUP(BX33,évènements!$A$3:$D$200,3,0)),"",VLOOKUP(BX33,évènements!$A$3:$D$200,3,0)) | CD33: =IF(ISERROR(VLOOKUP(BX33,évènements!$B$3:$D$200,2,0)),"",VLOOKUP(BX33,évènements!$B$3:$D$200,2,0)) | CE33: =CONCATENATE(CC33," ",CD33) | CF33: =CG33 -> 43039 | CG33: =IFERROR(IF(OR(CG32="",MONTH(CG32+1)>MONTH(CG32)),"",CG32+1),"") -> 43039 | CH33: =IF(CG33="","",IF(ISERROR(MATCH(CG33,Lune!$A$1:$A$1000,0)),IF(WEEKDAY(CG33)=5,INT((CG33-DATE(YEAR(CG33),1,1))/7+1),IF(AND(WEEKDAY(CG33)=4,NOT( ISERROR(MATCH(CG33+1,Lune!$A$1:$A$1000,0)))),INT((CG33+1-DATE(YEAR(CG33+1),1,1))/7+1),"")),INDEX(Lune!$B$1:$B$1000,MATCH(CG33,Lune!$A$1:$A$1000,0),1))) | CI33: =IF(CJ33="",""," '") | CJ33: =IF(ISERROR(VLOOKUP(CG33,anniversaire!$X$2:$Z$100,2,0)),"",VLOOKUP(CG33,anniversaire!$X$2:$Z$100,2,0)) | CK33: =IF(ISERROR(VLOOKUP(CG33,fête!$B$2:$C$367,2,0)),"",VLOOKUP(CG33,fête!$B$2:$C$367,2,0)) -> Quentin | CL33: =IF(ISERROR(VLOOKUP(CG33,évènements!$A$3:$D$200,3,0)),"",VLOOKUP(CG33,évènements!$A$3:$D$200,3,0)) | CM33: =IF(ISERROR(VLOOKUP(CG33,évènements!$B$3:$D$200,2,0)),"",VLOOKUP(CG33,évènements!$B$3:$D$200,2,0)) | CN33: =CONCATENATE(CL33," ",CM33) | CO33: =CP33 | CP33: =IFERROR(IF(OR(CP32="",MONTH(CP32+1)>MONTH(CP32)),"",CP32+1),"") | CU33: =IF(ISERROR(VLOOKUP(CP33,évènements!$A$3:$D$200,3,0)),"",VLOOKUP(CP33,évènements!$A$3:$D$200,3,0)) | CV33: =IF(ISERROR(VLOOKUP(CP33,évènements!$B$3:$D$200,2,0)),"",VLOOKUP(CP33,évènements!$B$3:$D$200,2,0)) | CW33: =CONCATENATE(CU33," ",CV33) | CX33: =CY33 -> 43100 | CY33: =IFERROR(IF(OR(CY32="",MONTH(CY32+1)>MONTH(CY32)),"",CY32+1),"") -> 43100 | CZ33: =IF(CY33="","",IF(ISERROR(MATCH(CY33,Lune!$A$1:$A$1000,0)),IF(WEEKDAY(CY33)=5,INT((CY33-DATE(YEAR(CY33),1,1))/7+1),IF(AND(WEEKDAY(CY33)=4,NOT( ISERROR(MATCH(CY33+1,Lune!$A$1:$A$1000,0)))),INT((CY33+1-DATE(YEAR(CY33+1),1,1))/7+1),"")),INDEX(Lune!$B$1:$B$1000,MATCH(CY33,Lune!$A$1:$A$1000,0),1))) | DA33: =IF(DB33="",""," '") | DB33: =IF(ISERROR(VLOOKUP(CY33,anniversaire!$X$2:$Z$100,2,0)),"",VLOOKUP(CY33,anniversaire!$X$2:$Z$100,2,0)) | DC33: =IF(ISERROR(VLOOKUP(CY33,fête!$B$2:$C$367,2,0)),"",VLOOKUP(CY33,fête!$B$2:$C$367,2,0)) -> Sylvestre | DD33: =IF(ISERROR(VLOOKUP(CY33,évènements!$A$3:$D$200,3,0)),"",VLOOKUP(CY33,évènements!$A$3:$D$200,3,0)) | DE33: =IF(ISERROR(VLOOKUP(CY33,évènements!$B$3:$D$200,2,0)),"",VLOOKUP(CY33,évènements!$B$3:$D$200,2,0)) | DF33: =CONCATENATE(DD33," ",DE33) | DG33: =DH33 -> 43131 | DH33: =IFERROR(IF(OR(DH32="",MONTH(DH32+1)>MONTH(DH32)),"",DH32+1),"") -> 43131 | DI33: =IF(DH33="","",IF(ISERROR(MATCH(DH33,Lune!$A$1:$A$1000,0)),IF(WEEKDAY(DH33)=5,INT((DH33-DATE(YEAR(DH33),1,1))/7+1),IF(AND(WEEKDAY(DH33)=4,NOT( ISERROR(MATCH(DH33+1,Lune!$A$1:$A$1000,0)))),INT((DH33+1-DATE(YEAR(DH33+1),1,1))/7+1),"")),INDEX(Lune!$B$1:$B$1000,MATCH(DH33,Lune!$A$1:$A$1000,0),1))) -> ○ | DJ33: =F33 | DK33: =G33 | DL33: =H33 -> Marcelle | DM33: =IF(ISERROR(VLOOKUP(DH33,évènements!$A$3:$D$200,3,0)),"",VLOOKUP(DH33,évènements!$A$3:$D$200,3,0)) | DN33: =IF(ISERROR(VLOOKUP(DH33,évènements!$B$3:$D$200,2,0)),"",VLOOKUP(DH33,évènements!$B$3:$D$200,2,0)) | DO33: =CONCATENATE(DM33," ",DN33)

Sheet Mensuel
A2: mois : | B2: 5
B4: =DATE(H4,B2,1) -> 42856 | H4: =calendriers!An -> 2017
B5: lundi | C5: mardi | D5: mercredi | E5: jeudi | F5: vendredi | G5: samedi | H5: dimanche
B6: =IF(C6="","",IF(MONTH(C6-1)<>MONTH(C6),"",C6-1)) -> 42856 | C6: =IF(D6="","",IF(MONTH(D6-1)<>MONTH(D6),"",D6-1)) -> 42857 | D6: =IF(E6="","",IF(MONTH(E6-1)<>MONTH(E6),"",E6-1)) -> 42858 | E6: =IF(F6="","",IF(MONTH(F6-1)<>MONTH(F6),"",F6-1)) -> 42859 | F6: =IF(G6="","",IF(MONTH(G6-1)<>MONTH(G6),"",G6-1)) -> 42860 | G6: =IF(H6="","",IF(MONTH(H6-1)<>MONTH(H6),"",H6-1)) -> 42861 | H6: =B4+7-WEEKDAY(B4-1) -> 42862
B7: {=IF(B6:H6="","",IFERROR(VLOOKUP(B6:H6,fête!$B$2:$C$367,2,0),""))} -> Fête du travail | C7: Boris | D7: Philippe, Jacques | E7: Sylvain | F7: Judith | G7: Prudence | H7: Gisèle
B8: {=IF(B6:H6="","",IFERROR(VLOOKUP(B6:H6,anniversaire!$X$1:$Y$100,2,0),""))} | H8: chedeville phillipe 33
B9: =IF($B$6:$H$6="","",IFERROR(VLOOKUP($B$6:$H$6,évènements!$A$3:$C$190,3,0),"")) | C9: =IF($B$6:$H$6="","",IFERROR(VLOOKUP($B$6:$H$6,évènements!$A$3:$C$190,3,0),"")) | D9: =IF($B$6:$H$6="","",IFERROR(VLOOKUP($B$6:$H$6,évènements!$A$3:$C$190,3,0),"")) | E9: =IF($B$6:$H$6="","",IFERROR(VLOOKUP($B$6:$H$6,évènements!$A$3:$C$190,3,0),"")) | F9: =IF($B$6:$H$6="","",IFERROR(VLOOKUP($B$6:$H$6,évènements!$A$3:$C$190,3,0),"")) -> rdv essai médical prothése | G9: =IF($B$6:$H$6="","",IFERROR(VLOOKUP($B$6:$H$6,évènements!$A$3:$C$190,3,0),"")) | H9: =IF($B$6:$H$6="","",IFERROR(VLOOKUP($B$6:$H$6,évènements!$A$3:$C$190,3,0),""))
B10: =H6+1 -> 42863 | C10: =B10+1 -> 42864 | D10: =C10+1 -> 42865 | E10: =D10+1 -> 42866 | F10: =E10+1 -> 42867 | G10: =F10+1 -> 42868 | H10: =G10+1 -> 42869
B11: {=IF(B10:H10="","",IFERROR(VLOOKUP(B10:H10,fête!$B$2:$C$367,2,0),""))} -> Armistice 1945 | C11: Pacôme | D11: Solange | E11: Estelle | F11: Achille | G11: Rolande | H11: Matthias
B12: {=IF(B10:H10="","",IFERROR(VLOOKUP(B10:H10,anniversaire!X1:Y100,2,0),""))} | C12: Virely élodie 3 | F12: Taraud sebastien 39
B13: =IF($B$10:$H$10="","",IFERROR(VLOOKUP($B$10:$H$10,évènements!$A$3:$C$190,3,0),"")) | C13: =IF($B$10:$H$10="","",IFERROR(VLOOKUP($B$10:$H$10,évènements!$A$3:$C$190,3,0),"")) | D13: =IF($B$10:$H$10="","",IFERROR(VLOOKUP($B$10:$H$10,évènements!$A$3:$C$190,3,0),"")) | E13: =IF($B$10:$H$10="","",IFERROR(VLOOKUP($B$10:$H$10,évènements!$A$3:$C$190,3,0),"")) | F13: =IF($B$10:$H$10="","",IFERROR(VLOOKUP($B$10:$H$10,évènements!$A$3:$C$190,3,0),"")) | G13: =IF($B$10:$H$10="","",IFERROR(VLOOKUP($B$10:$H$10,évènements!$A$3:$C$190,3,0),"")) | H13: =IF($B$10:$H$10="","",IFERROR(VLOOKUP($B$10:$H$10,évènements!$A$3:$C$190,3,0),"")) -> Baptêmes maël
B14: =H10+1 -> 42870 | C14: =B14+1 -> 42871 | D14: =C14+1 -> 42872 | E14: =D14+1 -> 42873 | F14: =E14+1 -> 42874 | G14: =F14+1 -> 42875 | H14: =G14+1 -> 42876
B15: {=IF(B14:H14="","",IFERROR(VLOOKUP(B14:H14,fête!$B$2:$C$367,2,0),""))} -> Denise | C15: Honoré | D15: Pascal | E15: Eric | F15: Yves | G15: Bernardin | H15: Constantin
B16: {=IF(B14:H14="","",IFERROR(VLOOKUP(B14:H14,anniversaire!X1:Y100,2,0),""))} -> chapellas fabien 35
B17: =IF($B$14:$H$14="","",IFERROR(VLOOKUP($B$14:$H$14,évènements!$A$3:$C$190,3,0),"")) | C17: =IF($B$14:$H$14="","",IFERROR(VLOOKUP($B$14:$H$14,évènements!$A$3:$C$190,3,0),"")) -> visite médicale | D17: =IF($B$14:$H$14="","",IFERROR(VLOOKUP($B$14:$H$14,évènements!$A$3:$C$190,3,0),"")) | E17: =IF($B$14:$H$14="","",IFERROR(VLOOKUP($B$14:$H$14,évènements!$A$3:$C$190,3,0),"")) | F17: =IF($B$14:$H$14="","",IFERROR(VLOOKUP($B$14:$H$14,évènements!$A$3:$C$190,3,0),"")) | G17: =IF($B$14:$H$14="","",IFERROR(VLOOKUP($B$14:$H$14,évènements!$A$3:$C$190,3,0),"")) -> guinguette ?? | H17: =IF($B$14:$H$14="","",IFERROR(VLOOKUP($B$14:$H$14,évènements!$A$3:$C$190,3,0),""))
B18: =H14+1 -> 42877 | C18: =B18+1 -> 42878 | D18: =C18+1 -> 42879 | E18: =D18+1 -> 42880 | F18: =E18+1 -> 42881 | G18: =F18+1 -> 42882 | H18: =G18+1 -> 42883
B19: {=IF(B18:H18="","",IFERROR(VLOOKUP(B18:H18,fête!$B$2:$C$367,2,0),""))} -> Emile | C19: Didier | D19: Donatien | E19: Sophie | F19: Bérenger | G19: Augustin | H19: Germain
B20: {=IF(B18:H18="","",IFERROR(VLOOKUP(B18:H18,anniversaire!X1:Y100,2,0),""))}
B21: =IF($B$18:$H$18="","",IFERROR(VLOOKUP($B$18:$H$18,évènements!$A$3:$C$190,3,0),"")) | C21: =IF($B$18:$H$18="","",IFERROR(VLOOKUP($B$18:$H$18,évènements!$A$3:$C$190,3,0),"")) | D21: =IF($B$18:$H$18="","",IFERROR(VLOOKUP($B$18:$H$18,évènements!$A$3:$C$190,3,0),"")) | E21: =IF($B$18:$H$18="","",IFERROR(VLOOKUP($B$18:$H$18,évènements!$A$3:$C$190,3,0),"")) | F21: =IF($B$18:$H$18="","",IFERROR(VLOOKUP($B$18:$H$18,évènements!$A$3:$C$190,3,0),"")) | G21: =IF($B$18:$H$18="","",IFERROR(VLOOKUP($B$18:$H$18,évènements!$A$3:$C$190,3,0),"")) | H21: =IF($B$18:$H$18="","",IFERROR(VLOOKUP($B$18:$H$18,évènements!$A$3:$C$190,3,0),""))
B22: =IF(H18="","",IF(MONTH(H18+1)<>MONTH(H18),"",H18+1)) -> 42884 | C22: =IF(B22="","",IF(MONTH(B22+1)<>MONTH(B22),"",B22+1)) -> 42885 | D22: =IF(C22="","",IF(MONTH(C22+1)<>MONTH(C22),"",C22+1)) -> 42886 | E22: =IF(D22="","",IF(MONTH(D22+1)<>MONTH(D22),"",D22+1)) | F22: =IF(E22="","",IF(MONTH(E22+1)<>MONTH(E22),"",E22+1)) | G22: =IF(F22="","",IF(MONTH(F22+1)<>MONTH(F22),"",F22+1)) | H22: =IF(G22="","",IF(MONTH(G22+1)<>MONTH(G22),"",G22+1))
B23: {=IF(B22:H22="","",IFERROR(VLOOKUP(B22:H22,fête!$B$2:$C$367,2,0),""))} -> Aymar | C23: Ferdinand | D23: Visitation de la Sainte Vierge
B25: =IF($B$22:$H$22="","",IFERROR(VLOOKUP($B$22:$H$22,évènements!$A$3:$C$190,3,0),"")) | C25: =IF($B$22:$H$22="","",IFERROR(VLOOKUP($B$22:$H$22,évènements!$A$3:$C$190,3,0),"")) | D25: =IF($B$22:$H$22="","",IFERROR(VLOOKUP($B$22:$H$22,évènements!$A$3:$C$190,3,0),"")) | E25: =IF($B$22:$H$22="","",IFERROR(VLOOKUP($B$22:$H$22,évènements!$A$3:$C$190,3,0),"")) | F25: =IF($B$22:$H$22="","",IFERROR(VLOOKUP($B$22:$H$22,évènements!$A$3:$C$190,3,0),"")) | G25: =IF($B$22:$H$22="","",IFERROR(VLOOKUP($B$22:$H$22,évènements!$A$3:$C$190,3,0),"")) | H25: =IF($B$22:$H$22="","",IFERROR(VLOOKUP($B$22:$H$22,évènements!$A$3:$C$190,3,0),""))
B26: =IF(H22="","",IF(MONTH(H22+1)<>MONTH(H22),"",H22+1)) | C26: =IF(B26="","",IF(MONTH(B26+1)<>MONTH(B26),"",B26+1)) | D26: =IF(C26="","",IF(MONTH(C26+1)<>MONTH(C26),"",C26+1)) | E26: =IF(D26="","",IF(MONTH(D26+1)<>MONTH(D26),"",D26+1)) | F26: =IF(E26="","",IF(MONTH(E26+1)<>MONTH(E26),"",E26+1)) | G26: =IF(F26="","",IF(MONTH(F26+1)<>MONTH(F26),"",F26+1)) | H26: =IF(G26="","",IF(MONTH(G26+1)<>MONTH(G26),"",G26+1))
B27: {=IF(B26:H26="","",IFERROR(VLOOKUP(B26:H26,fête!$B$2:$C$367,2,0),""))}
B28: {=IF(B26:H26="","",IFERROR(VLOOKUP(B26:H26,anniversaire!X1:Y100,2,0),""))}
B29: =IF($B$26:$H$26="","",IFERROR(VLOOKUP($B$26:$H$26,évènements!$A$3:$C$190,3,0),"")) | C29: =IF($B$26:$H$26="","",IFERROR(VLOOKUP($B$26:$H$26,évènements!$A$3:$C$190,3,0),"")) | D29: =IF($B$26:$H$26="","",IFERROR(VLOOKUP($B$26:$H$26,évènements!$A$3:$C$190,3,0),"")) | E29: =IF($B$26:$H$26="","",IFERROR(VLOOKUP($B$26:$H$26,évènements!$A$3:$C$190,3,0),"")) | F29: =IF($B$26:$H$26="","",IFERROR(VLOOKUP($B$26:$H$26,évènements!$A$3:$C$190,3,0),"")) | G29: =IF($B$26:$H$26="","",IFERROR(VLOOKUP($B$26:$H$26,évènements!$A$3:$C$190,3,0),"")) | H29: =IF($B$26:$H$26="","",IFERROR(VLOOKUP($B$26:$H$26,évènements!$A$3:$C$190,3,0),""))

Sheet anniversaire
A1: Nom | B1: Prénom | C1: Nom Prénom | D1: Colonne1 | E1: date | F1: date2 | G1: date3 | H1: comentaire | I1: âge | J1: âge4 | K1: âge5 | L1: zodiac | M1: zodiac6 | N1: signe chinois | R1: Début | S1: Fin | U1: Signe | V1: Élément | AB1: =TODAY() -> 42874
A2: Virely | B2: élodie | C2: =CONCATENATE(A2," ",B2) -> Virely élodie | D2: =CONCATENATE(C2," ",K2) -> Virely élodie 32 | E2: 30975 | F2: =IF(E2<1/1/1900,"",E2) -> 30975 | G2: =IF(E2<1/1/2000,"",DATE(YEAR(TODAY()),MONTH(E2),DAY(F2))) -> 43028 | H2: naissance | I2: =IF(E2>$AB$1,"",IF(B2="","",IF(H2<>"naissance",IF(F2<1/1/19000," ",DATEDIF(F2,TODAY(),"y")),""))) | J2: =IF(H2="naissance",IF(F2<1/1/19000," ",DATEDIF(F2,TODAY(),"y")),"") -> 32 | K2: =CONCATENATE(I2," ",J2) -> 32 | L2: =IF(H2="naissance",IF(E2="","",INDEX({"Capricorne";"Verseau";"Poisson";"Bélier";"Taureau";"Gémeaux";"Cancer";"Lion";"Vierge";"Balance";"Scorpion";"Sagittaire";"Capricorne";""},MATCH(DATE(,MONTH(E2),DAY(E2)),{0;20;51;81;111;142;173;205;237;267;297;327;357},1))),"") -> Balance | M2: =IF(H2="naissance",IF(F2="","",INDEX({"g";"h";"i";"^";"_";"z";"a";"b";"c";"d";"e";"f";"g";""},MATCH(DATE(,MONTH(F2),DAY(F2)),{0;20;51;81;111;142;173;205;237;267;297;327;357},1))),"") -> d | N2: =IF(H2="naissance",OFFSET($U$3,MATCH(E2,$S$4:$S$123,1)+1,),"") -> 猪 cochon | X2: =DATE(YEAR(TODAY()),MONTH(Z2),DAY(Z2)) -> 43028 | Y2: =D2 -> Virely élodie 32 | Z2: =E2 -> 30975 | AA2: =IF(Z2<1/1/2000,"",DATEDIF(Z2,TODAY(),"y")) -> 32
A3: Virely | B3: élodie | C3: =CONCATENATE(A3," ",B3) -> Virely élodie | D3: =CONCATENATE(C3," ",K3) -> Virely élodie 3 | E3: 41768 | F3: =IF(E3<1/1/1900,"",E3) -> 41768 | G3: =IF(E3<1/1/2000,"",DATE(YEAR(TODAY()),MONTH(E3),DAY(F3))) -> 42864 | H3: déclataion | I3: =IF(E3>$AB$1,"",IF(B3="","",IF(H3<>"naissance",IF(F3<1/1/19000," ",DATEDIF(F3,TODAY(),"y")),""))) -> 3 | J3: =IF(H3="naissance",IF(F3<1/1/19000," ",DATEDIF(F3,TODAY(),"y")),"") | K3: =CONCATENATE(I3," ",J3) -> 3 | L3: =IF(H3="naissance",IF(E3="","",INDEX({"Capricorne";"Verseau";"Poisson";"Bélier";"Taureau";"Gémeaux";"Cancer";"Lion";"Vierge";"Balance";"Scorpion";"Sagittaire";"Capricorne";""},MATCH(DATE(,MONTH(E3),DAY(E3)),{0;20;51;81;111;142;173;205;237;267;297;327;357},1))),"") | M3: =IF(H3="naissance",IF(F3="","",INDEX({"g";"h";"i";"^";"_";"z";"a";"b";"c";"d";"e";"f";"g";""},MATCH(DATE(,MONTH(F3),DAY(F3)),{0;20;51;81;111;142;173;205;237;267;297;327;357},1))),"") | N3: =IF(H3="naissance",OFFSET($U$3,MATCH(E3,$S$4:$S$123,1)+1,),"") | X3: =DATE(YEAR(TODAY()),MONTH(Z3),DAY(Z3)) -> 42864 | Y3: =D3 -> Virely élodie 3 | Z3: =E3 -> 41768 | AA3: =IF(Z3<1/1/2000,"",DATEDIF(Z3,TODAY(),"y")) -> 3
A4: Virely | B4: élodie | C4: =CONCATENATE(A4," ",B4) -> Virely élodie | D4: =CONCATENATE(C4," ",K4) -> Virely élodie 2 | E4: 41832 | F4: =IF(E4<1/1/1900,"",E4) -> 41832 | G4: =IF(E4<1/1/2000,"",DATE(YEAR(TODAY()),MONTH(E4),DAY(F4))) -> 42928 | H4: rencontre | I4: =IF(E4>$AB$1,"",IF(B4="","",IF(H4<>"naissance",IF(F4<1/1/19000," ",DATEDIF(F4,TODAY(),"y")),""))) -> 2 | J4: =IF(H4="naissance",IF(F4<1/1/19000," ",DATEDIF(F4,TODAY(),"y")),"") | K4: =CONCATENATE(I4," ",J4) -> 2 | L4: =IF(H4="naissance",IF(E4="","",INDEX({"Capricorne";"Verseau";"Poisson";"Bélier";"Taureau";"Gémeaux";"Cancer";"Lion";"Vierge";"Balance";"Scorpion";"Sagittaire";"Capricorne";""},MATCH(DATE(,MONTH(E4),DAY(E4)),{0;20;51;81;111;142;173;205;237;267;297;327;357},1))),"") | M4: =IF(H4="naissance",IF(F4="","",INDEX({"g";"h";"i";"^";"_";"z";"a";"b";"c";"d";"e";"f";"g";""},MATCH(DATE(,MONTH(F4),DAY(F4)),{0;20;51;81;111;142;173;205;237;267;297;327;357},1))),"") | N4: =IF(H4="naissance",OFFSET($U$3,MATCH(E4,$S$4:$S$123,1)+1,),"") | R4: 31 | S4: 415 | T4: 1901 | U4: 鼠 rat | V4: 金 Metal | X4: =DATE(YEAR(TODAY()),MONTH(Z4),DAY(Z4)) -> 42928 | Y4: =D4 -> Virely élodie 2 | Z4: =E4 -> 41832 | AA4: =IF(Z4<1/1/2000,"",DATEDIF(Z4,TODAY(),"y")) -> 2
A5: Taraud | B5: daniel | C5: =CONCATENATE(A5," ",B5) -> Taraud daniel | D5: =CONCATENATE(C5," ",K5) -> Taraud daniel 66 | E5: 18470 | F5: =IF(E5<1/1/1900,"",E5) -> 18470 | G5: =IF(E5<1/1/2000,"",DATE(YEAR(TODAY()),MONTH(E5),DAY(F5))) -> 42942 | H5: naissance | I5: =IF(E5>$AB$1,"",IF(B5="","",IF(H5<>"naissance",IF(F5<1/1/19000," ",DATEDIF(F5,TODAY(),"y")),""))) | J5: =IF(H5="naissance",IF(F5<1/1/19000," ",DATEDIF(F5,TODAY(),"y")),"") -> 66 | K5: =CONCATENATE(I5," ",J5) -> 66 | L5: =IF(H5="naissance",IF(E5="","",INDEX({"Capricorne";"Verseau";"Poisson";"Bélier";"Taureau";"Gémeaux";"Cancer";"Lion";"Vierge";"Balance";"Scorpion";"Sagittaire";"Capricorne";""},MATCH(DATE(,MONTH(E5),DAY(E5)),{0;20;51;81;111;142;173;205;237;267;297;327;357},1))),"") -> Lion | M5: =IF(H5="naissance",IF(F5="","",INDEX({"g";"h";"i";"^";"_";"z";"a";"b";"c";"d";"e";"f";"g";""},MATCH(DATE(,MONTH(F5),DAY(F5)),{0;20;51;81;111;142;173;205;237;267;297;327;357},1))),"") -> b | N5: =IF(H5="naissance",OFFSET($U$3,MATCH(E5,$S$4:$S$123,1)+1,),"") -> 虎 tigre | R5: 416 | S5: 769 | T5: 1902 | U5: 牛 buffle | X5: =DATE(YEAR(TODAY()),MONTH(Z5),DAY(Z5)) -> 42942 | Y5: =D5 -> Taraud daniel 66 | Z5: =E5 -> 18470 | AA5: =IF(Z5<1/1/2000,"",DATEDIF(Z5,TODAY(),"y")) -> 66
