Workbook
Name calendrier: 'Calendrier semaine'!$A$2:$X$9

Sheet Calendrier semaine
A1: 2017
A2: ="Semaine "&'Recap HS'!B6 -> Semaine 1 | D2: ="Semaine "&'Recap HS'!B7 -> Semaine 2 | G2: ="Semaine "&'Recap HS'!B8 -> Semaine 3 | J2: ="Semaine "&'Recap HS'!B9 -> Semaine 4 | M2: ="Semaine "&'Recap HS'!B10 -> Semaine 5 | P2: ="Semaine "&'Recap HS'!B11 -> Semaine 6 | S2: ="Semaine "&'Recap HS'!B12 -> Semaine 7 | V2: ="Semaine "&'Recap HS'!B13 -> Semaine 8
A3: =7*'Recap HS'!B6+DATE($A$1,1,3)-WEEKDAY(DATE($A$1,1,3))-5 -> 42737 | B3: =A3 -> 42737 | D3: =A9+1 -> 42744 | E3: =D3 -> 42744 | G3: =D9+1 -> 42751 | H3: =G3 -> 42751 | J3: =G9+1 -> 42758 | K3: =J3 -> 42758 | M3: =J9+1 -> 42765 | N3: =M3 -> 42765 | P3: =M9+1 -> 42772 | Q3: =P3 -> 42772 | S3: =P9+1 -> 42779 | T3: =S3 -> 42779 | V3: =S9+1 -> 42786 | W3: =V3 -> 42786
A4: =A3+1 -> 42738 | B4: =A4 -> 42738 | D4: =D3+1 -> 42745 | E4: =D4 -> 42745 | G4: =G3+1 -> 42752 | H4: =G4 -> 42752 | J4: =J3+1 -> 42759 | K4: =J4 -> 42759 | M4: =M3+1 -> 42766 | N4: =M4 -> 42766 | P4: =P3+1 -> 42773 | Q4: =P4 -> 42773 | S4: =S3+1 -> 42780 | T4: =S4 -> 42780 | V4: =V3+1 -> 42787 | W4: =V4 -> 42787
A5: =A4+1 -> 42739 | B5: =A5 -> 42739 | D5: =D4+1 -> 42746 | E5: =D5 -> 42746 | G5: =G4+1 -> 42753 | H5: =G5 -> 42753 | J5: =J4+1 -> 42760 | K5: =J5 -> 42760 | M5: =M4+1 -> 42767 | N5: =M5 -> 42767 | P5: =P4+1 -> 42774 | Q5: =P5 -> 42774 | S5: =S4+1 -> 42781 | T5: =S5 -> 42781 | V5: =V4+1 -> 42788 | W5: =V5 -> 42788
A6: =A5+1 -> 42740 | B6: =A6 -> 42740 | D6: =D5+1 -> 42747 | E6: =D6 -> 42747 | G6: =G5+1 -> 42754 | H6: =G6 -> 42754 | J6: =J5+1 -> 42761 | K6: =J6 -> 42761 | M6: =M5+1 -> 42768 | N6: =M6 -> 42768 | P6: =P5+1 -> 42775 | Q6: =P6 -> 42775 | S6: =S5+1 -> 42782 | T6: =S6 -> 42782 | V6: =V5+1 -> 42789 | W6: =V6 -> 42789
A7: =A6+1 -> 42741 | B7: =A7 -> 42741 | C7: 0 | D7: =D6+1 -> 42748 | E7: =D7 -> 42748 | F7: 0 | G7: =G6+1 -> 42755 | H7: =G7 -> 42755 | I7: 0 | J7: =J6+1 -> 42762 | K7: =J7 -> 42762 | L7: 0 | M7: =M6+1 -> 42769 | N7: =M7 -> 42769 | O7: 0 | P7: =P6+1 -> 42776 | Q7: =P7 -> 42776 | R7: 0 | S7: =S6+1 -> 42783 | T7: =S7 -> 42783 | U7: 0 | V7: =V6+1 -> 42790 | W7: =V7 -> 42790 | X7: 0
A8: =A7+1 -> 42742 | B8: =A8 -> 42742 | C8: 0 | D8: =D7+1 -> 42749 | E8: =D8 -> 42749 | F8: 0 | G8: =G7+1 -> 42756 | H8: =G8 -> 42756 | I8: 0 | J8: =J7+1 -> 42763 | K8: =J8 -> 42763 | L8: 0 | M8: =M7+1 -> 42770 | N8: =M8 -> 42770 | O8: 0 | P8: =P7+1 -> 42777 | Q8: =P8 -> 42777 | R8: 0 | S8: =S7+1 -> 42784 | T8: =S8 -> 42784 | U8: 0 | V8: =V7+1 -> 42791 | W8: =V8 -> 42791 | X8: 0
A9: =A8+1 -> 42743 | B9: =A9 -> 42743 | C9: 0 | D9: =D8+1 -> 42750 | E9: =D9 -> 42750 | F9: 0 | G9: =G8+1 -> 42757 | H9: =G9 -> 42757 | I9: 0 | J9: =J8+1 -> 42764 | K9: =J9 -> 42764 | L9: 0 | M9: =M8+1 -> 42771 | N9: =M9 -> 42771 | O9: 0 | P9: =P8+1 -> 42778 | Q9: =P9 -> 42778 | R9: 0 | S9: =S8+1 -> 42785 | T9: =S9 -> 42785 | U9: 0 | V9: =V8+1 -> 42792 | W9: =V9 -> 42792 | X9: 0
A11: ="Semaine "&'Recap HS'!B14 -> Semaine 9 | D11: ="Semaine "&'Recap HS'!B15 -> Semaine 10 | G11: ="Semaine "&'Recap HS'!B16 -> Semaine 11 | J11: ="Semaine "&'Recap HS'!B17 -> Semaine 12 | M11: ="Semaine "&'Recap HS'!B18 -> Semaine 13 | P11: ="Semaine "&'Recap HS'!B19 -> Semaine 14 | S11: ="Semaine "&'Recap HS'!B20 -> Semaine 15 | V11: ="Semaine "&'Recap HS'!B21 -> Semaine 16
A12: =7*'Recap HS'!B14+DATE($A$1,1,3)-WEEKDAY(DATE($A$1,1,3))-5 -> 42793 | B12: =A12 -> 42793 | D12: =A18+1 -> 42800 | E12: =D12 -> 42800 | G12: =D18+1 -> 42807 | H12: =G12 -> 42807 | J12: =G18+1 -> 42814 | K12: =J12 -> 42814 | M12: =J18+1 -> 42821 | N12: =M12 -> 42821 | P12: =M18+1 -> 42828 | Q12: =P12 -> 42828 | S12: =P18+1 -> 42835 | T12: =S12 -> 42835 | V12: =S18+1 -> 42842 | W12: =V12 -> 42842
A13: =A12+1 -> 42794 | B13: =A13 -> 42794 | D13: =D12+1 -> 42801 | E13: =D13 -> 42801 | G13: =G12+1 -> 42808 | H13: =G13 -> 42808 | J13: =J12+1 -> 42815 | K13: =J13 -> 42815 | M13: =M12+1 -> 42822 | N13: =M13 -> 42822 | P13: =P12+1 -> 42829 | Q13: =P13 -> 42829 | S13: =S12+1 -> 42836 | T13: =S13 -> 42836 | V13: =V12+1 -> 42843 | W13: =V13 -> 42843
A14: =A13+1 -> 42795 | B14: =A14 -> 42795 | D14: =D13+1 -> 42802 | E14: =D14 -> 42802 | G14: =G13+1 -> 42809 | H14: =G14 -> 42809 | J14: =J13+1 -> 42816 | K14: =J14 -> 42816 | M14: =M13+1 -> 42823 | N14: =M14 -> 42823 | P14: =P13+1 -> 42830 | Q14: =P14 -> 42830 | S14: =S13+1 -> 42837 | T14: =S14 -> 42837 | V14: =V13+1 -> 42844 | W14: =V14 -> 42844
A15: =A14+1 -> 42796 | B15: =A15 -> 42796 | D15: =D14+1 -> 42803 | E15: =D15 -> 42803 | G15: =G14+1 -> 42810 | H15: =G15 -> 42810 | J15: =J14+1 -> 42817 | K15: =J15 -> 42817 | M15: =M14+1 -> 42824 | N15: =M15 -> 42824 | P15: =P14+1 -> 42831 | Q15: =P15 -> 42831 | S15: =S14+1 -> 42838 | T15: =S15 -> 42838 | V15: =V14+1 -> 42845 | W15: =V15 -> 42845
A16: =A15+1 -> 42797 | B16: =A16 -> 42797 | C16: 0 | D16: =D15+1 -> 42804 | E16: =D16 -> 42804 | F16: 0 | G16: =G15+1 -> 42811 | H16: =G16 -> 42811 | I16: 0 | J16: =J15+1 -> 42818 | K16: =J16 -> 42818 | L16: 0 | M16: =M15+1 -> 42825 | N16: =M16 -> 42825 | O16: 0 | P16: =P15+1 -> 42832 | Q16: =P16 -> 42832 | R16: 0 | S16: =S15+1 -> 42839 | T16: =S16 -> 42839 | U16: 0 | V16: =V15+1 -> 42846 | W16: =V16 -> 42846 | X16: 0
A17: =A16+1 -> 42798 | B17: =A17 -> 42798 | C17: 0 | D17: =D16+1 -> 42805 | E17: =D17 -> 42805 | F17: 0 | G17: =G16+1 -> 42812 | H17: =G17 -> 42812 | I17: 0 | J17: =J16+1 -> 42819 | K17: =J17 -> 42819 | L17: 0 | M17: =M16+1 -> 42826 | N17: =M17 -> 42826 | O17: 0 | P17: =P16+1 -> 42833 | Q17: =P17 -> 42833 | R17: 0 | S17: =S16+1 -> 42840 | T17: =S17 -> 42840 | U17: 0 | V17: =V16+1 -> 42847 | W17: =V17 -> 42847 | X17: 0
A18: =A17+1 -> 42799 | B18: =A18 -> 42799 | C18: 0 | D18: =D17+1 -> 42806 | E18: =D18 -> 42806 | F18: 0 | G18: =G17+1 -> 42813 | H18: =G18 -> 42813 | I18: 0 | J18: =J17+1 -> 42820 | K18: =J18 -> 42820 | L18: 0 | M18: =M17+1 -> 42827 | N18: =M18 -> 42827 | O18: 0 | P18: =P17+1 -> 42834 | Q18: =P18 -> 42834 | R18: 0 | S18: =S17+1 -> 42841 | T18: =S18 -> 42841 | U18: 0 | V18: =V17+1 -> 42848 | W18: =V18 -> 42848 | X18: 0
A20: ="Semaine "&'Recap HS'!B22 -> Semaine 17 | D20: ="Semaine "&'Recap HS'!B23 -> Semaine 18 | G20: ="Semaine "&'Recap HS'!B24 -> Semaine 19 | J20: ="Semaine "&'Recap HS'!B25 -> Semaine 20 | M20: ="Semaine "&'Recap HS'!B26 -> Semaine 21 | P20: ="Semaine "&'Recap HS'!B27 -> Semaine 22 | S20: ="Semaine "&'Recap HS'!B28 -> Semaine 23 | V20: ="Semaine "&'Recap HS'!B29 -> Semaine 24
A21: =7*'Recap HS'!B22+DATE($A$1,1,3)-WEEKDAY(DATE($A$1,1,3))-5 -> 42849 | B21: =A21 -> 42849 | D21: =A27+1 -> 42856 | E21: =D21 -> 42856 | G21: =D27+1 -> 42863 | H21: =G21 -> 42863 | J21: =G27+1 -> 42870 | K21: =J21 -> 42870 | M21: =J27+1 -> 42877 | N21: =M21 -> 42877 | P21: =M27+1 -> 42884 | Q21: =P21 -> 42884 | S21: =P27+1 -> 42891 | T21: =S21 -> 42891 | V21: =S27+1 -> 42898 | W21: =V21 -> 42898
A22: =A21+1 -> 42850 | B22: =A22 -> 42850 | D22: =D21+1 -> 42857 | E22: =D22 -> 42857 | G22: =G21+1 -> 42864 | H22: =G22 -> 42864 | J22: =J21+1 -> 42871 | K22: =J22 -> 42871 | M22: =M21+1 -> 42878 | N22: =M22 -> 42878 | P22: =P21+1 -> 42885 | Q22: =P22 -> 42885 | S22: =S21+1 -> 42892 | T22: =S22 -> 42892 | V22: =V21+1 -> 42899 | W22: =V22 -> 42899
A23: =A22+1 -> 42851 | B23: =A23 -> 42851 | D23: =D22+1 -> 42858 | E23: =D23 -> 42858 | G23: =G22+1 -> 42865 | H23: =G23 -> 42865 | J23: =J22+1 -> 42872 | K23: =J23 -> 42872 | M23: =M22+1 -> 42879 | N23: =M23 -> 42879 | P23: =P22+1 -> 42886 | Q23: =P23 -> 42886 | S23: =S22+1 -> 42893 | T23: =S23 -> 42893 | V23: =V22+1 -> 42900 | W23: =V23 -> 42900
A24: =A23+1 -> 42852 | B24: =A24 -> 42852 | D24: =D23+1 -> 42859 | E24: =D24 -> 42859 | G24: =G23+1 -> 42866 | H24: =G24 -> 42866 | J24: =J23+1 -> 42873 | K24: =J24 -> 42873 | M24: =M23+1 -> 42880 | N24: =M24 -> 42880 | P24: =P23+1 -> 42887 | Q24: =P24 -> 42887 | S24: =S23+1 -> 42894 | T24: =S24 -> 42894 | V24: =V23+1 -> 42901 | W24: =V24 -> 42901
A25: =A24+1 -> 42853 | B25: =A25 -> 42853 | C25: 0 | D25: =D24+1 -> 42860 | E25: =D25 -> 42860 | F25: 0 | G25: =G24+1 -> 42867 | H25: =G25 -> 42867 | I25: 0 | J25: =J24+1 -> 42874 | K25: =J25 -> 42874 | L25: 0 | M25: =M24+1 -> 42881 | N25: =M25 -> 42881 | O25: 0 | P25: =P24+1 -> 42888 | Q25: =P25 -> 42888 | R25: 0 | S25: =S24+1 -> 42895 | T25: =S25 -> 42895 | U25: 0 | V25: =V24+1 -> 42902 | W25: =V25 -> 42902 | X25: 0
A26: =A25+1 -> 42854 | B26: =A26 -> 42854 | C26: 0 | D26: =D25+1 -> 42861 | E26: =D26 -> 42861 | F26: 0 | G26: =G25+1 -> 42868 | H26: =G26 -> 42868 | I26: 0 | J26: =J25+1 -> 42875 | K26: =J26 -> 42875 | L26: 0 | M26: =M25+1 -> 42882 | N26: =M26 -> 42882 | O26: 0 | P26: =P25+1 -> 42889 | Q26: =P26 -> 42889 | R26: 0 | S26: =S25+1 -> 42896 | T26: =S26 -> 42896 | U26: 0 | V26: =V25+1 -> 42903 | W26: =V26 -> 42903 | X26: 0
A27: =A26+1 -> 42855 | B27: =A27 -> 42855 | C27: 0 | D27: =D26+1 -> 42862 | E27: =D27 -> 42862 | F27: 0 | G27: =G26+1 -> 42869 | H27: =G27 -> 42869 | I27: 0 | J27: =J26+1 -> 42876 | K27: =J27 -> 42876 | L27: 0 | M27: =M26+1 -> 42883 | N27: =M27 -> 42883 | O27: 0 | P27: =P26+1 -> 42890 | Q27: =P27 -> 42890 | R27: 0 | S27: =S26+1 -> 42897 | T27: =S27 -> 42897 | U27: 0 | V27: =V26+1 -> 42904 | W27: =V27 -> 42904 | X27: 0
A29: ="Semaine "&'Recap HS'!B30 -> Semaine 25 | D29: ="Semaine "&'Recap HS'!B31 -> Semaine 26 | G29: ="Semaine "&'Recap HS'!B32 -> Semaine 27 | J29: ="Semaine "&'Recap HS'!B33 -> Semaine 28 | M29: ="Semaine "&'Recap HS'!B34 -> Semaine 29 | P29: ="Semaine "&'Recap HS'!B35 -> Semaine 30 | S29: ="Semaine "&'Recap HS'!B36 -> Semaine 31 | V29: ="Semaine "&'Recap HS'!B37 -> Semaine 32
A30: =7*'Recap HS'!B30+DATE($A$1,1,3)-WEEKDAY(DATE($A$1,1,3))-5 -> 42905 | B30: =A30 -> 42905 | D30: =A36+1 -> 42912 | E30: =D30 -> 42912 | G30: =D36+1 -> 42919 | H30: =G30 -> 42919 | J30: =G36+1 -> 42926 | K30: =J30 -> 42926 | M30: =J36+1 -> 42933 | N30: =M30 -> 42933 | P30: =M36+1 -> 42940 | Q30: =P30 -> 42940 | S30: =P36+1 -> 42947 | T30: =S30 -> 42947 | V30: =S36+1 -> 42954 | W30: =V30 -> 42954
A31: =A30+1 -> 42906 | B31: =A31 -> 42906 | D31: =D30+1 -> 42913 | E31: =D31 -> 42913 | G31: =G30+1 -> 42920 | H31: =G31 -> 42920 | J31: =J30+1 -> 42927 | K31: =J31 -> 42927 | M31: =M30+1 -> 42934 | N31: =M31 -> 42934 | P31: =P30+1 -> 42941 | Q31: =P31 -> 42941 | S31: =S30+1 -> 42948 | T31: =S31 -> 42948 | V31: =V30+1 -> 42955 | W31: =V31 -> 42955
A32: =A31+1 -> 42907 | B32: =A32 -> 42907 | D32: =D31+1 -> 42914 | E32: =D32 -> 42914 | G32: =G31+1 -> 42921 | H32: =G32 -> 42921 | J32: =J31+1 -> 42928 | K32: =J32 -> 42928 | M32: =M31+1 -> 42935 | N32: =M32 -> 42935 | P32: =P31+1 -> 42942 | Q32: =P32 -> 42942 | S32: =S31+1 -> 42949 | T32: =S32 -> 42949 | V32: =V31+1 -> 42956 | W32: =V32 -> 42956
A33: =A32+1 -> 42908 | B33: =A33 -> 42908 | D33: =D32+1 -> 42915 | E33: =D33 -> 42915 | G33: =G32+1 -> 42922 | H33: =G33 -> 42922 | J33: =J32+1 -> 42929 | K33: =J33 -> 42929 | M33: =M32+1 -> 42936 | N33: =M33 -> 42936 | P33: =P32+1 -> 42943 | Q33: =P33 -> 42943 | S33: =S32+1 -> 42950 | T33: =S33 -> 42950 | V33: =V32+1 -> 42957 | W33: =V33 -> 42957
A34: =A33+1 -> 42909 | B34: =A34 -> 42909 | C34: 0 | D34: =D33+1 -> 42916 | E34: =D34 -> 42916 | F34: 0 | G34: =G33+1 -> 42923 | H34: =G34 -> 42923 | I34: 0 | J34: =J33+1 -> 42930 | K34: =J34 -> 42930 | L34: 0 | M34: =M33+1 -> 42937 | N34: =M34 -> 42937 | O34: 0 | P34: =P33+1 -> 42944 | Q34: =P34 -> 42944 | R34: 0 | S34: =S33+1 -> 42951 | T34: =S34 -> 42951 | U34: 0 | V34: =V33+1 -> 42958 | W34: =V34 -> 42958 | X34: 0
A35: =A34+1 -> 42910 | B35: =A35 -> 42910 | C35: 0 | D35: =D34+1 -> 42917 | E35: =D35 -> 42917 | F35: 0 | G35: =G34+1 -> 42924 | H35: =G35 -> 42924 | I35: 0 | J35: =J34+1 -> 42931 | K35: =J35 -> 42931 | L35: 0 | M35: =M34+1 -> 42938 | N35: =M35 -> 42938 | O35: 0 | P35: =P34+1 -> 42945 | Q35: =P35 -> 42945 | R35: 0 | S35: =S34+1 -> 42952 | T35: =S35 -> 42952 | U35: 0 | V35: =V34+1 -> 42959 | W35: =V35 -> 42959 | X35: 0
A36: =A35+1 -> 42911 | B36: =A36 -> 42911 | C36: 0 | D36: =D35+1 -> 42918 | E36: =D36 -> 42918 | F36: 0 | G36: =G35+1 -> 42925 | H36: =G36 -> 42925 | I36: 0 | J36: =J35+1 -> 42932 | K36: =J36 -> 42932 | L36: 0 | M36: =M35+1 -> 42939 | N36: =M36 -> 42939 | O36: 0 | P36: =P35+1 -> 42946 | Q36: =P36 -> 42946 | R36: 0 | S36: =S35+1 -> 42953 | T36: =S36 -> 42953 | U36: 0 | V36: =V35+1 -> 42960 | W36: =V36 -> 42960 | X36: 0
A38: ="Semaine "&'Recap HS'!B38 -> Semaine 33 | D38: ="Semaine "&'Recap HS'!B39 -> Semaine 34 | G38: ="Semaine "&'Recap HS'!B40 -> Semaine 35 | J38: ="Semaine "&'Recap HS'!B41 -> Semaine 36 | M38: ="Semaine "&'Recap HS'!B42 -> Semaine 37 | P38: ="Semaine "&'Recap HS'!B43 -> Semaine 38 | S38: ="Semaine "&'Recap HS'!B44 -> Semaine 39 | V38: ="Semaine "&'Recap HS'!B45 -> Semaine 40
A39: =7*'Recap HS'!B38+DATE($A$1,1,3)-WEEKDAY(DATE($A$1,1,3))-5 -> 42961 | B39: =A39 -> 42961 | D39: =A45+1 -> 42968 | E39: =D39 -> 42968 | G39: =D45+1 -> 42975 | H39: =G39 -> 42975 | J39: =G45+1 -> 42982 | K39: =J39 -> 42982 | M39: =J45+1 -> 42989 | N39: =M39 -> 42989 | P39: =M45+1 -> 42996 | Q39: =P39 -> 42996 | S39: =P45+1 -> 43003 | T39: =S39 -> 43003 | V39: =S45+1 -> 43010 | W39: =V39 -> 43010
A40: =A39+1 -> 42962 | B40: =A40 -> 42962 | D40: =D39+1 -> 42969 | E40: =D40 -> 42969 | G40: =G39+1 -> 42976 | H40: =G40 -> 42976 | J40: =J39+1 -> 42983 | K40: =J40 -> 42983 | M40: =M39+1 -> 42990 | N40: =M40 -> 42990 | P40: =P39+1 -> 42997 | Q40: =P40 -> 42997 | S40: =S39+1 -> 43004 | T40: =S40 -> 43004 | V40: =V39+1 -> 43011 | W40: =V40 -> 43011
A41: =A40+1 -> 42963 | B41: =A41 -> 42963 | D41: =D40+1 -> 42970 | E41: =D41 -> 42970 | G41: =G40+1 -> 42977 | H41: =G41 -> 42977 | J41: =J40+1 -> 42984 | K41: =J41 -> 42984 | M41: =M40+1 -> 42991 | N41: =M41 -> 42991 | P41: =P40+1 -> 42998 | Q41: =P41 -> 42998 | S41: =S40+1 -> 43005 | T41: =S41 -> 43005 | V41: =V40+1 -> 43012 | W41: =V41 -> 43012
A42: =A41+1 -> 42964 | B42: =A42 -> 42964 | D42: =D41+1 -> 42971 | E42: =D42 -> 42971 | G42: =G41+1 -> 42978 | H42: =G42 -> 42978 | J42: =J41+1 -> 42985 | K42: =J42 -> 42985 | M42: =M41+1 -> 42992 | N42: =M42 -> 42992 | P42: =P41+1 -> 42999 | Q42: =P42 -> 42999 | S42: =S41+1 -> 43006 | T42: =S42 -> 43006 | V42: =V41+1 -> 43013 | W42: =V42 -> 43013
A43: =A42+1 -> 42965 | B43: =A43 -> 42965 | C43: 0 | D43: =D42+1 -> 42972 | E43: =D43 -> 42972 | F43: 0 | G43: =G42+1 -> 42979 | H43: =G43 -> 42979 | I43: 0 | J43: =J42+1 -> 42986 | K43: =J43 -> 42986 | L43: 0 | M43: =M42+1 -> 42993 | N43: =M43 -> 42993 | O43: 0 | P43: =P42+1 -> 43000 | Q43: =P43 -> 43000 | R43: 0 | S43: =S42+1 -> 43007 | T43: =S43 -> 43007 | U43: 0 | V43: =V42+1 -> 43014 | W43: =V43 -> 43014 | X43: 0
A44: =A43+1 -> 42966 | B44: =A44 -> 42966 | C44: 0 | D44: =D43+1 -> 42973 | E44: =D44 -> 42973 | F44: 0 | G44: =G43+1 -> 42980 | H44: =G44 -> 42980 | I44: 0 | J44: =J43+1 -> 42987 | K44: =J44 -> 42987 | L44: 0 | M44: =M43+1 -> 42994 | N44: =M44 -> 42994 | O44: 0 | P44: =P43+1 -> 43001 | Q44: =P44 -> 43001 | R44: 0 | S44: =S43+1 -> 43008 | T44: =S44 -> 43008 | U44: 0 | V44: =V43+1 -> 43015 | W44: =V44 -> 43015 | X44: 0
A45: =A44+1 -> 42967 | B45: =A45 -> 42967 | C45: 0 | D45: =D44+1 -> 42974 | E45: =D45 -> 42974 | F45: 0 | G45: =G44+1 -> 42981 | H45: =G45 -> 42981 | I45: 0 | J45: =J44+1 -> 42988 | K45: =J45 -> 42988 | L45: 0 | M45: =M44+1 -> 42995 | N45: =M45 -> 42995 | O45: 0 | P45: =P44+1 -> 43002 | Q45: =P45 -> 43002 | R45: 0 | S45: =S44+1 -> 43009 | T45: =S45 -> 43009 | U45: 0 | V45: =V44+1 -> 43016 | W45: =V45 -> 43016 | X45: 0
A47: ="Semaine "&'Recap HS'!B46 -> Semaine 41 | D47: ="Semaine "&'Recap HS'!B47 -> Semaine 42 | G47: ="Semaine "&'Recap HS'!B48 -> Semaine 43 | J47: ="Semaine "&'Recap HS'!B49 -> Semaine 44 | M47: ="Semaine "&'Recap HS'!B50 -> Semaine 45 | P47: ="Semaine "&'Recap HS'!B51 -> Semaine 46 | S47: ="Semaine "&'Recap HS'!B52 -> Semaine 47 | V47: ="Semaine "&'Recap HS'!B53 -> Semaine 48
A48: =7*'Recap HS'!B46+DATE($A$1,1,3)-WEEKDAY(DATE($A$1,1,3))-5 -> 43017 | B48: =A48 -> 43017 | D48: =A54+1 -> 43024 | E48: =D48 -> 43024 | G48: =D54+1 -> 43031 | H48: =G48 -> 43031 | J48: =G54+1 -> 43038 | K48: =J48 -> 43038 | M48: =J54+1 -> 43045 | N48: =M48 -> 43045 | P48: =M54+1 -> 43052 | Q48: =P48 -> 43052 | S48: =P54+1 -> 43059 | T48: =S48 -> 43059 | V48: =S54+1 -> 43066 | W48: =V48 -> 43066
A49: =A48+1 -> 43018 | B49: =A49 -> 43018 | D49: =D48+1 -> 43025 | E49: =D49 -> 43025 | G49: =G48+1 -> 43032 | H49: =G49 -> 43032 | J49: =J48+1 -> 43039 | K49: =J49 -> 43039 | M49: =M48+1 -> 43046 | N49: =M49 -> 43046 | P49: =P48+1 -> 43053 | Q49: =P49 -> 43053 | S49: =S48+1 -> 43060 | T49: =S49 -> 43060 | V49: =V48+1 -> 43067 | W49: =V49 -> 43067
A50: =A49+1 -> 43019 | B50: =A50 -> 43019 | D50: =D49+1 -> 43026 | E50: =D50 -> 43026 | G50: =G49+1 -> 43033 | H50: =G50 -> 43033 | J50: =J49+1 -> 43040 | K50: =J50 -> 43040 | M50: =M49+1 -> 43047 | N50: =M50 -> 43047 | P50: =P49+1 -> 43054 | Q50: =P50 -> 43054 | S50: =S49+1 -> 43061 | T50: =S50 -> 43061 | V50: =V49+1 -> 43068 | W50: =V50 -> 43068
A51: =A50+1 -> 43020 | B51: =A51 -> 43020 | D51: =D50+1 -> 43027 | E51: =D51 -> 43027 | G51: =G50+1 -> 43034 | H51: =G51 -> 43034 | J51: =J50+1 -> 43041 | K51: =J51 -> 43041 | M51: =M50+1 -> 43048 | N51: =M51 -> 43048 | P51: =P50+1 -> 43055 | Q51: =P51 -> 43055 | S51: =S50+1 -> 43062 | T51: =S51 -> 43062 | V51: =V50+1 -> 43069 | W51: =V51 -> 43069
A52: =A51+1 -> 43021 | B52: =A52 -> 43021 | C52: 0 | D52: =D51+1 -> 43028 | E52: =D52 -> 43028 | F52: 0 | G52: =G51+1 -> 43035 | H52: =G52 -> 43035 | I52: 0 | J52: =J51+1 -> 43042 | K52: =J52 -> 43042 | L52: 0 | M52: =M51+1 -> 43049 | N52: =M52 -> 43049 | O52: 0 | P52: =P51+1 -> 43056 | Q52: =P52 -> 43056 | R52: 0 | S52: =S51+1 -> 43063 | T52: =S52 -> 43063 | U52: 0 | V52: =V51+1 -> 43070 | W52: =V52 -> 43070 | X52: 0
A53: =A52+1 -> 43022 | B53: =A53 -> 43022 | C53: 0 | D53: =D52+1 -> 43029 | E53: =D53 -> 43029 | F53: 0 | G53: =G52+1 -> 43036 | H53: =G53 -> 43036 | I53: 0 | J53: =J52+1 -> 43043 | K53: =J53 -> 43043 | L53: 0 | M53: =M52+1 -> 43050 | N53: =M53 -> 43050 | O53: 0 | P53: =P52+1 -> 43057 | Q53: =P53 -> 43057 | R53: 0 | S53: =S52+1 -> 43064 | T53: =S53 -> 43064 | U53: 0 | V53: =V52+1 -> 43071 | W53: =V53 -> 43071 | X53: 0
A54: =A53+1 -> 43023 | B54: =A54 -> 43023 | C54: 0 | D54: =D53+1 -> 43030 | E54: =D54 -> 43030 | F54: 0 | G54: =G53+1 -> 43037 | H54: =G54 -> 43037 | I54: 0 | J54: =J53+1 -> 43044 | K54: =J54 -> 43044 | L54: 0 | M54: =M53+1 -> 43051 | N54: =M54 -> 43051 | O54: 0 | P54: =P53+1 -> 43058 | Q54: =P54 -> 43058 | R54: 0 | S54: =S53+1 -> 43065 | T54: =S54 -> 43065 | U54: 0 | V54: =V53+1 -> 43072 | W54: =V54 -> 43072 | X54: 0
A56: ="Semaine "&'Recap HS'!B54 -> Semaine 49 | D56: ="Semaine "&'Recap HS'!B55 -> Semaine 50 | G56: ="Semaine "&'Recap HS'!B56 -> Semaine 51 | J56: ="Semaine "&'Recap HS'!B57 -> Semaine 52
A57: =7*'Recap HS'!B54+DATE($A$1,1,3)-WEEKDAY(DATE($A$1,1,3))-5 -> 43073 | B57: =A57 -> 43073 | D57: =A63+1 -> 43080 | E57: =D57 -> 43080 | G57: =D63+1 -> 43087 | H57: =G57 -> 43087 | J57: =G63+1 -> 43094 | K57: =J57 -> 43094
A58: =A57+1 -> 43074 | B58: =A58 -> 43074 | D58: =D57+1 -> 43081 | E58: =D58 -> 43081 | G58: =G57+1 -> 43088 | H58: =G58 -> 43088 | J58: =J57+1 -> 43095 | K58: =J58 -> 43095
A59: =A58+1 -> 43075 | B59: =A59 -> 43075 | D59: =D58+1 -> 43082 | E59: =D59 -> 43082 | G59: =G58+1 -> 43089 | H59: =G59 -> 43089 | J59: =J58+1 -> 43096 | K59: =J59 -> 43096
A60: =A59+1 -> 43076 | B60: =A60 -> 43076 | D60: =D59+1 -> 43083 | E60: =D60 -> 43083 | G60: =G59+1 -> 43090 | H60: =G60 -> 43090 | J60: =J59+1 -> 43097 | K60: =J60 -> 43097
A61: =A60+1 -> 43077 | B61: =A61 -> 43077 | C61: 0 | D61: =D60+1 -> 43084 | E61: =D61 -> 43084 | F61: 0 | G61: =G60+1 -> 43091 | H61: =G61 -> 43091 | I61: 0 | J61: =J60+1 -> 43098 | K61: =J61 -> 43098 | L61: 0
A62: =A61+1 -> 43078 | B62: =A62 -> 43078 | C62: 0 | D62: =D61+1 -> 43085 | E62: =D62 -> 43085 | F62: 0 | G62: =G61+1 -> 43092 | H62: =G62 -> 43092 | I62: 0 | J62: =J61+1 -> 43099 | K62: =J62 -> 43099 | L62: 0
A63: =A62+1 -> 43079 | B63: =A63 -> 43079 | C63: 0 | D63: =D62+1 -> 43086 | E63: =D63 -> 43086 | F63: 0 | G63: =G62+1 -> 43093 | H63: =G63 -> 43093 | I63: 0 | J63: =J62+1 -> 43100 | K63: =J63 -> 43100 | L63: 0

Sheet Recap HS
A2: RECAP HEURES SUPP | F2: Année | G2: nb heures jour contractuelles | H2: nb heures hebdo contractuelles | I2: Plafond HS à 10% | K2: tarif horaire (TH) | L2: TH majoré 10% | M2: TH majoré 50%
F3: ='Calendrier semaine'!A1 -> 2017 | G3: 0.32638889 | H3: =G3*4 -> 1.3055556 | I3: 0.15277778 | J3: 0.1 | L3: =K3+K3*10% -> 0 | M3: =K3+K3*50% -> 0
G5: nb heures travaillées | H5: heures supplementaires (HS) | I5: nb d'heures à 10% | J5: Equivalent centième | K5: nb d'heures à 50% | L5: Equivalent centième | M5: Récup en jours de congé | N5: Récup en salaire | O5: Récup en jours de congé majorés | Q5: total hs | R5: recup salaire 10% | S5: recup salaire 50% | T5: total recup salaire
A6: Semaine | B6: 1 | C6: du | D6: =7*B6+DATE($F$3,1,3)-WEEKDAY(DATE($F$3,1,3))-5 -> 42737 | E6: au | F6: =7*B6+DATE($F$3,1,3)-WEEKDAY(DATE($F$3,1,3))+1 -> 42743 | G6: =SUM('Calendrier semaine'!C3:C9) -> 0 | H6: =IF(G6>$H$3,G6-$H$3,) -> 0 | I6: =IF(H6<=$I$3,H6,IF(H6>$I$3,$I$3,)) -> 0 | J6: =I6*24 -> 0 | K6: =IF(H6>$I$3,H6-$I$3,) -> 0 | L6: =K6*24 -> 0 | M6: =H6/$G$3 -> 0 | N6: =(J6*$L$3)+(L6*$M$3) -> 0 | O6: =((I6+(I6*$J$3))+(K6+(K6*50%)))/$G$3 -> 0 | Q6: =I6+K6 -> 0 | R6: =J6*$L$3 -> 0 | S6: =L6*$M$3 -> 0 | T6: =SUM(R6:S6) -> 0
A7: Semaine | B7: 2 | C7: du | D7: =7*B7+DATE($F$3,1,3)-WEEKDAY(DATE($F$3,1,3))-5 -> 42744 | E7: au | F7: =7*B7+DATE($F$3,1,3)-WEEKDAY(DATE($F$3,1,3))+1 -> 42750 | G7: =SUM('Calendrier semaine'!F3:F9) -> 0 | H7: =IF(G7>$H$3,G7-$H$3,) -> 0 | I7: =IF(H7<=$I$3,H7,IF(H7>$I$3,$I$3,)) -> 0 | J7: =I7*24 -> 0 | K7: =IF(H7>$I$3,H7-$I$3,) -> 0 | L7: =K7*24 -> 0 | M7: =H7/$G$3 -> 0 | N7: =(J7*$L$3)+(L7*$M$3) -> 0 | O7: =((I7+(I7*$J$3))+(K7+(K7*50%)))/$G$3 -> 0 | Q7: =I7+K7 -> 0 | R7: =J7*$L$3 -> 0 | S7: =L7*$M$3 -> 0 | T7: =SUM(R7:S7) -> 0
A8: Semaine | B8: 3 | C8: du | D8: =7*B8+DATE($F$3,1,3)-WEEKDAY(DATE($F$3,1,3))-5 -> 42751 | E8: au | F8: =7*B8+DATE($F$3,1,3)-WEEKDAY(DATE($F$3,1,3))+1 -> 42757 | G8: =SUM('Calendrier semaine'!I3:I9) -> 0 | H8: =IF(G8>$H$3,G8-$H$3,) -> 0 | I8: =IF(H8<=$I$3,H8,IF(H8>$I$3,$I$3,)) -> 0 | J8: =I8*24 -> 0 | K8: =IF(H8>$I$3,H8-$I$3,) -> 0 | L8: =K8*24 -> 0 | M8: =H8/$G$3 -> 0 | N8: =(J8*$L$3)+(L8*$M$3) -> 0 | O8: =((I8+(I8*$J$3))+(K8+(K8*50%)))/$G$3 -> 0 | Q8: =I8+K8 -> 0 | R8: =J8*$L$3 -> 0 | S8: =L8*$M$3 -> 0 | T8: =SUM(R8:S8) -> 0
A9: Semaine | B9: 4 | C9: du | D9: =7*B9+DATE($F$3,1,3)-WEEKDAY(DATE($F$3,1,3))-5 -> 42758 | E9: au | F9: =7*B9+DATE($F$3,1,3)-WEEKDAY(DATE($F$3,1,3))+1 -> 42764 | G9: =SUM('Calendrier semaine'!L3:L9) -> 0 | H9: =IF(G9>$H$3,G9-$H$3,) -> 0 | I9: =IF(H9<=$I$3,H9,IF(H9>$I$3,$I$3,)) -> 0 | J9: =I9*24 -> 0 | K9: =IF(H9>$I$3,H9-$I$3,) -> 0 | L9: =K9*24 -> 0 | M9: =H9/$G$3 -> 0 | N9: =(J9*$L$3)+(L9*$M$3) -> 0 | O9: =((I9+(I9*$J$3))+(K9+(K9*50%)))/$G$3 -> 0 | Q9: =I9+K9 -> 0 | R9: =J9*$L$3 -> 0 | S9: =L9*$M$3 -> 0 | T9: =SUM(R9:S9) -> 0
A10: Semaine | B10: 5 | C10: du | D10: =7*B10+DATE($F$3,1,3)-WEEKDAY(DATE($F$3,1,3))-5 -> 42765 | E10: au | F10: =7*B10+DATE($F$3,1,3)-WEEKDAY(DATE($F$3,1,3))+1 -> 42771 | G10: =SUM('Calendrier semaine'!O3:O9) -> 0 | H10: =IF(G10>$H$3,G10-$H$3,) -> 0 | I10: =IF(H10<=$I$3,H10,IF(H10>$I$3,$I$3,)) -> 0 | J10: =I10*24 -> 0 | K10: =IF(H10>$I$3,H10-$I$3,) -> 0 | L10: =K10*24 -> 0 | M10: =H10/$G$3 -> 0 | N10: =(J10*$L$3)+(L10*$M$3) -> 0 | O10: =((I10+(I10*$J$3))+(K10+(K10*50%)))/$G$3 -> 0 | Q10: =I10+K10 -> 0 | R10: =J10*$L$3 -> 0 | S10: =L10*$M$3 -> 0 | T10: =SUM(R10:S10) -> 0
A11: Semaine | B11: 6 | C11: du | D11: =7*B11+DATE($F$3,1,3)-WEEKDAY(DATE($F$3,1,3))-5 -> 42772 | E11: au | F11: =7*B11+DATE($F$3,1,3)-WEEKDAY(DATE($F$3,1,3))+1 -> 42778 | G11: =SUM('Calendrier semaine'!R3:R9) -> 0 | H11: =IF(G11>$H$3,G11-$H$3,) -> 0 | I11: =IF(H11<=$I$3,H11,IF(H11>$I$3,$I$3,)) -> 0 | J11: =I11*24 -> 0 | K11: =IF(H11>$I$3,H11-$I$3,) -> 0 | L11: =K11*24 -> 0 | M11: =H11/$G$3 -> 0 | N11: =(J11*$L$3)+(L11*$M$3) -> 0 | O11: =((I11+(I11*$J$3))+(K11+(K11*50%)))/$G$3 -> 0 | Q11: =I11+K11 -> 0 | R11: =J11*$L$3 -> 0 | S11: =L11*$M$3 -> 0 | T11: =SUM(R11:S11) -> 0
A12: Semaine | B12: 7 | C12: du | D12: =7*B12+DATE($F$3,1,3)-WEEKDAY(DATE($F$3,1,3))-5 -> 42779 | E12: au | F12: =7*B12+DATE($F$3,1,3)-WEEKDAY(DATE($F$3,1,3))+1 -> 42785 | G12: =SUM('Calendrier semaine'!U3:U9) -> 0 | H12: =IF(G12>$H$3,G12-$H$3,) -> 0 | I12: =IF(H12<=$I$3,H12,IF(H12>$I$3,$I$3,)) -> 0 | J12: =I12*24 -> 0 | K12: =IF(H12>$I$3,H12-$I$3,) -> 0 | L12: =K12*24 -> 0 | M12: =H12/$G$3 -> 0 | N12: =(J12*$L$3)+(L12*$M$3) -> 0 | O12: =((I12+(I12*$J$3))+(K12+(K12*50%)))/$G$3 -> 0 | Q12: =I12+K12 -> 0 | R12: =J12*$L$3 -> 0 | S12: =L12*$M$3 -> 0 | T12: =SUM(R12:S12) -> 0
A13: Semaine | B13: 8 | C13: du | D13: =7*B13+DATE($F$3,1,3)-WEEKDAY(DATE($F$3,1,3))-5 -> 42786 | E13: au | F13: =7*B13+DATE($F$3,1,3)-WEEKDAY(DATE($F$3,1,3))+1 -> 42792 | G13: =SUM('Calendrier semaine'!X3:X9) -> 0 | H13: =IF(G13>$H$3,G13-$H$3,) -> 0 | I13: =IF(H13<=$I$3,H13,IF(H13>$I$3,$I$3,)) -> 0 | J13: =I13*24 -> 0 | K13: =IF(H13>$I$3,H13-$I$3,) -> 0 | L13: =K13*24 -> 0 | M13: =H13/$G$3 -> 0 | N13: =(J13*$L$3)+(L13*$M$3) -> 0 | O13: =((I13+(I13*$J$3))+(K13+(K13*50%)))/$G$3 -> 0 | Q13: =I13+K13 -> 0 | R13: =J13*$L$3 -> 0 | S13: =L13*$M$3 -> 0 | T13: =SUM(R13:S13) -> 0
A14: Semaine | B14: 9 | C14: du | D14: =7*B14+DATE($F$3,1,3)-WEEKDAY(DATE($F$3,1,3))-5 -> 42793 | E14: au | F14: =7*B14+DATE($F$3,1,3)-WEEKDAY(DATE($F$3,1,3))+1 -> 42799 | G14: =SUM('Calendrier semaine'!C12:C18) -> 0 | H14: =IF(G14>$H$3,G14-$H$3,) -> 0 | I14: =IF(H14<=$I$3,H14,IF(H14>$I$3,$I$3,)) -> 0 | J14: =I14*24 -> 0 | K14: =IF(H14>$I$3,H14-$I$3,) -> 0 | L14: =K14*24 -> 0 | M14: =H14/$G$3 -> 0 | N14: =(J14*$L$3)+(L14*$M$3) -> 0 | O14: =((I14+(I14*$J$3))+(K14+(K14*50%)))/$G$3 -> 0 | Q14: =I14+K14 -> 0 | R14: =J14*$L$3 -> 0 | S14: =L14*$M$3 -> 0 | T14: =SUM(R14:S14) -> 0
A15: Semaine | B15: 10 | C15: du | D15: =7*B15+DATE($F$3,1,3)-WEEKDAY(DATE($F$3,1,3))-5 -> 42800 | E15: au | F15: =7*B15+DATE($F$3,1,3)-WEEKDAY(DATE($F$3,1,3))+1 -> 42806 | G15: =SUM('Calendrier semaine'!F12:F18) -> 0 | H15: =IF(G15>$H$3,G15-$H$3,) -> 0 | I15: =IF(H15<=$I$3,H15,IF(H15>$I$3,$I$3,)) -> 0 | J15: =I15*24 -> 0 | K15: =IF(H15>$I$3,H15-$I$3,) -> 0 | L15: =K15*24 -> 0 | M15: =H15/$G$3 -> 0 | N15: =(J15*$L$3)+(L15*$M$3) -> 0 | O15: =((I15+(I15*$J$3))+(K15+(K15*50%)))/$G$3 -> 0 | Q15: =I15+K15 -> 0 | R15: =J15*$L$3 -> 0 | S15: =L15*$M$3 -> 0 | T15: =SUM(R15:S15) -> 0
A16: Semaine | B16: 11 | C16: du | D16: =7*B16+DATE($F$3,1,3)-WEEKDAY(DATE($F$3,1,3))-5 -> 42807 | E16: au | F16: =7*B16+DATE($F$3,1,3)-WEEKDAY(DATE($F$3,1,3))+1 -> 42813 | G16: =SUM('Calendrier semaine'!I12:I18) -> 0 | H16: =IF(G16>$H$3,G16-$H$3,) -> 0 | I16: =IF(H16<=$I$3,H16,IF(H16>$I$3,$I$3,)) -> 0 | J16: =I16*24 -> 0 | K16: =IF(H16>$I$3,H16-$I$3,) -> 0 | L16: =K16*24 -> 0 | M16: =H16/$G$3 -> 0 | N16: =(J16*$L$3)+(L16*$M$3) -> 0 | O16: =((I16+(I16*$J$3))+(K16+(K16*50%)))/$G$3 -> 0 | Q16: =I16+K16 -> 0 | R16: =J16*$L$3 -> 0 | S16: =L16*$M$3 -> 0 | T16: =SUM(R16:S16) -> 0
A17: Semaine | B17: 12 | C17: du | D17: =7*B17+DATE($F$3,1,3)-WEEKDAY(DATE($F$3,1,3))-5 -> 42814 | E17: au | F17: =7*B17+DATE($F$3,1,3)-WEEKDAY(DATE($F$3,1,3))+1 -> 42820 | G17: =SUM('Calendrier semaine'!L12:L18) -> 0 | H17: =IF(G17>$H$3,G17-$H$3,) -> 0 | I17: =IF(H17<=$I$3,H17,IF(H17>$I$3,$I$3,)) -> 0 | J17: =I17*24 -> 0 | K17: =IF(H17>$I$3,H17-$I$3,) -> 0 | L17: =K17*24 -> 0 | M17: =H17/$G$3 -> 0 | N17: =(J17*$L$3)+(L17*$M$3) -> 0 | O17: =((I17+(I17*$J$3))+(K17+(K17*50%)))/$G$3 -> 0 | Q17: =I17+K17 -> 0 | R17: =J17*$L$3 -> 0 | S17: =L17*$M$3 -> 0 | T17: =SUM(R17:S17) -> 0
A18: Semaine | B18: 13 | C18: du | D18: =7*B18+DATE($F$3,1,3)-WEEKDAY(DATE($F$3,1,3))-5 -> 42821 | E18: au | F18: =7*B18+DATE($F$3,1,3)-WEEKDAY(DATE($F$3,1,3))+1 -> 42827 | G18: =SUM('Calendrier semaine'!O12:O18) -> 0 | H18: =IF(G18>$H$3,G18-$H$3,) -> 0 | I18: =IF(H18<=$I$3,H18,IF(H18>$I$3,$I$3,)) -> 0 | J18: =I18*24 -> 0 | K18: =IF(H18>$I$3,H18-$I$3,) -> 0 | L18: =K18*24 -> 0 | M18: =H18/$G$3 -> 0 | N18: =(J18*$L$3)+(L18*$M$3) -> 0 | O18: =((I18+(I18*$J$3))+(K18+(K18*50%)))/$G$3 -> 0 | Q18: =I18+K18 -> 0 | R18: =J18*$L$3 -> 0 | S18: =L18*$M$3 -> 0 | T18: =SUM(R18:S18) -> 0
A19: Semaine | B19: 14 | C19: du | D19: =7*B19+DATE($F$3,1,3)-WEEKDAY(DATE($F$3,1,3))-5 -> 42828 | E19: au | F19: =7*B19+DATE($F$3,1,3)-WEEKDAY(DATE($F$3,1,3))+1 -> 42834 | G19: =SUM('Calendrier semaine'!R12:R18) -> 0 | H19: =IF(G19>$H$3,G19-$H$3,) -> 0 | I19: =IF(H19<=$I$3,H19,IF(H19>$I$3,$I$3,)) -> 0 | J19: =I19*24 -> 0 | K19: =IF(H19>$I$3,H19-$I$3,) -> 0 | L19: =K19*24 -> 0 | M19: =H19/$G$3 -> 0 | N19: =(J19*$L$3)+(L19*$M$3) -> 0 | O19: =((I19+(I19*$J$3))+(K19+(K19*50%)))/$G$3 -> 0 | Q19: =I19+K19 -> 0 | R19: =J19*$L$3 -> 0 | S19: =L19*$M$3 -> 0 | T19: =SUM(R19:S19) -> 0
A20: Semaine | B20: 15 | C20: du | D20: =7*B20+DATE($F$3,1,3)-WEEKDAY(DATE($F$3,1,3))-5 -> 42835 | E20: au | F20: =7*B20+DATE($F$3,1,3)-WEEKDAY(DATE($F$3,1,3))+1 -> 42841 | G20: =SUM('Calendrier semaine'!U12:U18) -> 0 | H20: =IF(G20>$H$3,G20-$H$3,) -> 0 | I20: =IF(H20<=$I$3,H20,IF(H20>$I$3,$I$3,)) -> 0 | J20: =I20*24 -> 0 | K20: =IF(H20>$I$3,H20-$I$3,) -> 0 | L20: =K20*24 -> 0 | M20: =H20/$G$3 -> 0 | N20: =(J20*$L$3)+(L20*$M$3) -> 0 | O20: =((I20+(I20*$J$3))+(K20+(K20*50%)))/$G$3 -> 0 | Q20: =I20+K20 -> 0 | R20: =J20*$L$3 -> 0 | S20: =L20*$M$3 -> 0 | T20: =SUM(R20:S20) -> 0
A21: Semaine | B21: 16 | C21: du | D21: =7*B21+DATE($F$3,1,3)-WEEKDAY(DATE($F$3,1,3))-5 -> 42842 | E21: au | F21: =7*B21+DATE($F$3,1,3)-WEEKDAY(DATE($F$3,1,3))+1 -> 42848 | G21: =SUM('Calendrier semaine'!X12:X18) -> 0 | H21: =IF(G21>$H$3,G21-$H$3,) -> 0 | I21: =IF(H21<=$I$3,H21,IF(H21>$I$3,$I$3,)) -> 0 | J21: =I21*24 -> 0 | K21: =IF(H21>$I$3,H21-$I$3,) -> 0 | L21: =K21*24 -> 0 | M21: =H21/$G$3 -> 0 | N21: =(J21*$L$3)+(L21*$M$3) -> 0 | O21: =((I21+(I21*$J$3))+(K21+(K21*50%)))/$G$3 -> 0 | Q21: =I21+K21 -> 0 | R21: =J21*$L$3 -> 0 | S21: =L21*$M$3 -> 0 | T21: =SUM(R21:S21) -> 0
A22: Semaine | B22: 17 | C22: du | D22: =7*B22+DATE($F$3,1,3)-WEEKDAY(DATE($F$3,1,3))-5 -> 42849 | E22: au | F22: =7*B22+DATE($F$3,1,3)-WEEKDAY(DATE($F$3,1,3))+1 -> 42855 | G22: =SUM('Calendrier semaine'!C21:C27) -> 0 | H22: =IF(G22>$H$3,G22-$H$3,) -> 0 | I22: =IF(H22<=$I$3,H22,IF(H22>$I$3,$I$3,)) -> 0 | J22: =I22*24 -> 0 | K22: =IF(H22>$I$3,H22-$I$3,) -> 0 | L22: =K22*24 -> 0 | M22: =H22/$G$3 -> 0 | N22: =(J22*$L$3)+(L22*$M$3) -> 0 | O22: =((I22+(I22*$J$3))+(K22+(K22*50%)))/$G$3 -> 0 | Q22: =I22+K22 -> 0 | R22: =J22*$L$3 -> 0 | S22: =L22*$M$3 -> 0 | T22: =SUM(R22:S22) -> 0
A23: Semaine | B23: 18 | C23: du | D23: =7*B23+DATE($F$3,1,3)-WEEKDAY(DATE($F$3,1,3))-5 -> 42856 | E23: au | F23: =7*B23+DATE($F$3,1,3)-WEEKDAY(DATE($F$3,1,3))+1 -> 42862 | G23: =SUM('Calendrier semaine'!F21:F27) -> 0 | H23: =IF(G23>$H$3,G23-$H$3,) -> 0 | I23: =IF(H23<=$I$3,H23,IF(H23>$I$3,$I$3,)) -> 0 | J23: =I23*24 -> 0 | K23: =IF(H23>$I$3,H23-$I$3,) -> 0 | L23: =K23*24 -> 0 | M23: =H23/$G$3 -> 0 | N23: =(J23*$L$3)+(L23*$M$3) -> 0 | O23: =((I23+(I23*$J$3))+(K23+(K23*50%)))/$G$3 -> 0 | Q23: =I23+K23 -> 0 | R23: =J23*$L$3 -> 0 | S23: =L23*$M$3 -> 0 | T23: =SUM(R23:S23) -> 0
A24: Semaine | B24: 19 | C24: du | D24: =7*B24+DATE($F$3,1,3)-WEEKDAY(DATE($F$3,1,3))-5 -> 42863 | E24: au | F24: =7*B24+DATE($F$3,1,3)-WEEKDAY(DATE($F$3,1,3))+1 -> 42869 | G24: =SUM('Calendrier semaine'!I21:I27) -> 0 | H24: =IF(G24>$H$3,G24-$H$3,) -> 0 | I24: =IF(H24<=$I$3,H24,IF(H24>$I$3,$I$3,)) -> 0 | J24: =I24*24 -> 0 | K24: =IF(H24>$I$3,H24-$I$3,) -> 0 | L24: =K24*24 -> 0 | M24: =H24/$G$3 -> 0 | N24: =(J24*$L$3)+(L24*$M$3) -> 0 | O24: =((I24+(I24*$J$3))+(K24+(K24*50%)))/$G$3 -> 0 | Q24: =I24+K24 -> 0 | R24: =J24*$L$3 -> 0 | S24: =L24*$M$3 -> 0 | T24: =SUM(R24:S24) -> 0
A25: Semaine | B25: 20 | C25: du | D25: =7*B25+DATE($F$3,1,3)-WEEKDAY(DATE($F$3,1,3))-5 -> 42870 | E25: au | F25: =7*B25+DATE($F$3,1,3)-WEEKDAY(DATE($F$3,1,3))+1 -> 42876 | G25: =SUM('Calendrier semaine'!L21:L27) -> 0 | H25: =IF(G25>$H$3,G25-$H$3,) -> 0 | I25: =IF(H25<=$I$3,H25,IF(H25>$I$3,$I$3,)) -> 0 | J25: =I25*24 -> 0 | K25: =IF(H25>$I$3,H25-$I$3,) -> 0 | L25: =K25*24 -> 0 | M25: =H25/$G$3 -> 0 | N25: =(J25*$L$3)+(L25*$M$3) -> 0 | O25: =((I25+(I25*$J$3))+(K25+(K25*50%)))/$G$3 -> 0 | Q25: =I25+K25 -> 0 | R25: =J25*$L$3 -> 0 | S25: =L25*$M$3 -> 0 | T25: =SUM(R25:S25) -> 0
A26: Semaine | B26: 21 | C26: du | D26: =7*B26+DATE($F$3,1,3)-WEEKDAY(DATE($F$3,1,3))-5 -> 42877 | E26: au | F26: =7*B26+DATE($F$3,1,3)-WEEKDAY(DATE($F$3,1,3))+1 -> 42883 | G26: =SUM('Calendrier semaine'!O21:O27) -> 0 | H26: =IF(G26>$H$3,G26-$H$3,) -> 0 | I26: =IF(H26<=$I$3,H26,IF(H26>$I$3,$I$3,)) -> 0 | J26: =I26*24 -> 0 | K26: =IF(H26>$I$3,H26-$I$3,) -> 0 | L26: =K26*24 -> 0 | M26: =H26/$G$3 -> 0 | N26: =(J26*$L$3)+(L26*$M$3) -> 0 | O26: =((I26+(I26*$J$3))+(K26+(K26*50%)))/$G$3 -> 0 | Q26: =I26+K26 -> 0 | R26: =J26*$L$3 -> 0 | S26: =L26*$M$3 -> 0 | T26: =SUM(R26:S26) -> 0
A27: Semaine | B27: 22 | C27: du | D27: =7*B27+DATE($F$3,1,3)-WEEKDAY(DATE($F$3,1,3))-5 -> 42884 | E27: au | F27: =7*B27+DATE($F$3,1,3)-WEEKDAY(DATE($F$3,1,3))+1 -> 42890 | G27: =SUM('Calendrier semaine'!R21:R27) -> 0 | H27: =IF(G27>$H$3,G27-$H$3,) -> 0 | I27: =IF(H27<=$I$3,H27,IF(H27>$I$3,$I$3,)) -> 0 | J27: =I27*24 -> 0 | K27: =IF(H27>$I$3,H27-$I$3,) -> 0 | L27: =K27*24 -> 0 | M27: =H27/$G$3 -> 0 | N27: =(J27*$L$3)+(L27*$M$3) -> 0 | O27: =((I27+(I27*$J$3))+(K27+(K27*50%)))/$G$3 -> 0 | Q27: =I27+K27 -> 0 | R27: =J27*$L$3 -> 0 | S27: =L27*$M$3 -> 0 | T27: =SUM(R27:S27) -> 0
A28: Semaine | B28: 23 | C28: du | D28: =7*B28+DATE($F$3,1,3)-WEEKDAY(DATE($F$3,1,3))-5 -> 42891 | E28: au | F28: =7*B28+DATE($F$3,1,3)-WEEKDAY(DATE($F$3,1,3))+1 -> 42897 | G28: =SUM('Calendrier semaine'!U21:U27) -> 0 | H28: =IF(G28>$H$3,G28-$H$3,) -> 0 | I28: =IF(H28<=$I$3,H28,IF(H28>$I$3,$I$3,)) -> 0 | J28: =I28*24 -> 0 | K28: =IF(H28>$I$3,H28-$I$3,) -> 0 | L28: =K28*24 -> 0 | M28: =H28/$G$3 -> 0 | N28: =(J28*$L$3)+(L28*$M$3) -> 0 | O28: =((I28+(I28*$J$3))+(K28+(K28*50%)))/$G$3 -> 0 | Q28: =I28+K28 -> 0 | R28: =J28*$L$3 -> 0 | S28: =L28*$M$3 -> 0 | T28: =SUM(R28:S28) -> 0
A29: Semaine | B29: 24 | C29: du | D29: =7*B29+DATE($F$3,1,3)-WEEKDAY(DATE($F$3,1,3))-5 -> 42898 | E29: au | F29: =7*B29+DATE($F$3,1,3)-WEEKDAY(DATE($F$3,1,3))+1 -> 42904 | G29: =SUM('Calendrier semaine'!X21:X27) -> 0 | H29: =IF(G29>$H$3,G29-$H$3,) -> 0 | I29: =IF(H29<=$I$3,H29,IF(H29>$I$3,$I$3,)) -> 0 | J29: =I29*24 -> 0 | K29: =IF(H29>$I$3,H29-$I$3,) -> 0 | L29: =K29*24 -> 0 | M29: =H29/$G$3 -> 0 | N29: =(J29*$L$3)+(L29*$M$3) -> 0 | O29: =((I29+(I29*$J$3))+(K29+(K29*50%)))/$G$3 -> 0 | Q29: =I29+K29 -> 0 | R29: =J29*$L$3 -> 0 | S29: =L29*$M$3 -> 0 | T29: =SUM(R29:S29) -> 0
A30: Semaine | B30: 25 | C30: du | D30: =7*B30+DATE($F$3,1,3)-WEEKDAY(DATE($F$3,1,3))-5 -> 42905 | E30: au | F30: =7*B30+DATE($F$3,1,3)-WEEKDAY(DATE($F$3,1,3))+1 -> 42911 | G30: =SUM('Calendrier semaine'!C30:C36) -> 0 | H30: =IF(G30>$H$3,G30-$H$3,) -> 0 | I30: =IF(H30<=$I$3,H30,IF(H30>$I$3,$I$3,)) -> 0 | J30: =I30*24 -> 0 | K30: =IF(H30>$I$3,H30-$I$3,) -> 0 | L30: =K30*24 -> 0 | M30: =H30/$G$3 -> 0 | N30: =(J30*$L$3)+(L30*$M$3) -> 0 | O30: =((I30+(I30*$J$3))+(K30+(K30*50%)))/$G$3 -> 0 | Q30: =I30+K30 -> 0 | R30: =J30*$L$3 -> 0 | S30: =L30*$M$3 -> 0 | T30: =SUM(R30:S30) -> 0
A31: Semaine | B31: 26 | C31: du | D31: =7*B31+DATE($F$3,1,3)-WEEKDAY(DATE($F$3,1,3))-5 -> 42912 | E31: au | F31: =7*B31+DATE($F$3,1,3)-WEEKDAY(DATE($F$3,1,3))+1 -> 42918 | G31: =SUM('Calendrier semaine'!F30:F36) -> 0 | H31: =IF(G31>$H$3,G31-$H$3,) -> 0 | I31: =IF(H31<=$I$3,H31,IF(H31>$I$3,$I$3,)) -> 0 | J31: =I31*24 -> 0 | K31: =IF(H31>$I$3,H31-$I$3,) -> 0 | L31: =K31*24 -> 0 | M31: =H31/$G$3 -> 0 | N31: =(J31*$L$3)+(L31*$M$3) -> 0 | O31: =((I31+(I31*$J$3))+(K31+(K31*50%)))/$G$3 -> 0 | Q31: =I31+K31 -> 0 | R31: =J31*$L$3 -> 0 | S31: =L31*$M$3 -> 0 | T31: =SUM(R31:S31) -> 0
A32: Semaine | B32: 27 | C32: du | D32: =7*B32+DATE($F$3,1,3)-WEEKDAY(DATE($F$3,1,3))-5 -> 42919 | E32: au | F32: =7*B32+DATE($F$3,1,3)-WEEKDAY(DATE($F$3,1,3))+1 -> 42925 | G32: =SUM('Calendrier semaine'!I30:I36) -> 0 | H32: =IF(G32>$H$3,G32-$H$3,) -> 0 | I32: =IF(H32<=$I$3,H32,IF(H32>$I$3,$I$3,)) -> 0 | J32: =I32*24 -> 0 | K32: =IF(H32>$I$3,H32-$I$3,) -> 0 | L32: =K32*24 -> 0 | M32: =H32/$G$3 -> 0 | N32: =(J32*$L$3)+(L32*$M$3) -> 0 | O32: =((I32+(I32*$J$3))+(K32+(K32*50%)))/$G$3 -> 0 | Q32: =I32+K32 -> 0 | R32: =J32*$L$3 -> 0 | S32: =L32*$M$3 -> 0 | T32: =SUM(R32:S32) -> 0
A33: Semaine | B33: 28 | C33: du | D33: =7*B33+DATE($F$3,1,3)-WEEKDAY(DATE($F$3,1,3))-5 -> 42926 | E33: au | F33: =7*B33+DATE($F$3,1,3)-WEEKDAY(DATE($F$3,1,3))+1 -> 42932 | G33: =SUM('Calendrier semaine'!L30:L36) -> 0 | H33: =IF(G33>$H$3,G33-$H$3,) -> 0 | I33: =IF(H33<=$I$3,H33,IF(H33>$I$3,$I$3,)) -> 0 | J33: =I33*24 -> 0 | K33: =IF(H33>$I$3,H33-$I$3,) -> 0 | L33: =K33*24 -> 0 | M33: =H33/$G$3 -> 0 | N33: =(J33*$L$3)+(L33*$M$3) -> 0 | O33: =((I33+(I33*$J$3))+(K33+(K33*50%)))/$G$3 -> 0 | Q33: =I33+K33 -> 0 | R33: =J33*$L$3 -> 0 | S33: =L33*$M$3 -> 0 | T33: =SUM(R33:S33) -> 0
A34: Semaine | B34: 29 | C34: du | D34: =7*B34+DATE($F$3,1,3)-WEEKDAY(DATE($F$3,1,3))-5 -> 42933 | E34: au | F34: =7*B34+DATE($F$3,1,3)-WEEKDAY(DATE($F$3,1,3))+1 -> 42939 | G34: =SUM('Calendrier semaine'!O30:O36) -> 0 | H34: =IF(G34>$H$3,G34-$H$3,) -> 0 | I34: =IF(H34<=$I$3,H34,IF(H34>$I$3,$I$3,)) -> 0 | J34: =I34*24 -> 0 | K34: =IF(H34>$I$3,H34-$I$3,) -> 0 | L34: =K34*24 -> 0 | M34: =H34/$G$3 -> 0 | N34: =(J34*$L$3)+(L34*$M$3) -> 0 | O34: =((I34+(I34*$J$3))+(K34+(K34*50%)))/$G$3 -> 0 | Q34: =I34+K34 -> 0 | R34: =J34*$L$3 -> 0 | S34: =L34*$M$3 -> 0 | T34: =SUM(R34:S34) -> 0
A35: Semaine | B35: 30 | C35: du | D35: =7*B35+DATE($F$3,1,3)-WEEKDAY(DATE($F$3,1,3))-5 -> 42940 | E35: au | F35: =7*B35+DATE($F$3,1,3)-WEEKDAY(DATE($F$3,1,3))+1 -> 42946 | G35: =SUM('Calendrier semaine'!R30:R36) -> 0 | H35: =IF(G35>$H$3,G35-$H$3,) -> 0 | I35: =IF(H35<=$I$3,H35,IF(H35>$I$3,$I$3,)) -> 0 | J35: =I35*24 -> 0 | K35: =IF(H35>$I$3,H35-$I$3,) -> 0 | L35: =K35*24 -> 0 | M35: =H35/$G$3 -> 0 | N35: =(J35*$L$3)+(L35*$M$3) -> 0 | O35: =((I35+(I35*$J$3))+(K35+(K35*50%)))/$G$3 -> 0 | Q35: =I35+K35 -> 0 | R35: =J35*$L$3 -> 0 | S35: =L35*$M$3 -> 0 | T35: =SUM(R35:S35) -> 0
A36: Semaine | B36: 31 | C36: du | D36: =7*B36+DATE($F$3,1,3)-WEEKDAY(DATE($F$3,1,3))-5 -> 42947 | E36: au | F36: =7*B36+DATE($F$3,1,3)-WEEKDAY(DATE($F$3,1,3))+1 -> 42953 | G36: =SUM('Calendrier semaine'!U30:U36) -> 0 | H36: =IF(G36>$H$3,G36-$H$3,) -> 0 | I36: =IF(H36<=$I$3,H36,IF(H36>$I$3,$I$3,)) -> 0 | J36: =I36*24 -> 0 | K36: =IF(H36>$I$3,H36-$I$3,) -> 0 | L36: =K36*24 -> 0 | M36: =H36/$G$3 -> 0 | N36: =(J36*$L$3)+(L36*$M$3) -> 0 | O36: =((I36+(I36*$J$3))+(K36+(K36*50%)))/$G$3 -> 0 | Q36: =I36+K36 -> 0 | R36: =J36*$L$3 -> 0 | S36: =L36*$M$3 -> 0 | T36: =SUM(R36:S36) -> 0
A37: Semaine | B37: 32 | C37: du | D37: =7*B37+DATE($F$3,1,3)-WEEKDAY(DATE($F$3,1,3))-5 -> 42954 | E37: au | F37: =7*B37+DATE($F$3,1,3)-WEEKDAY(DATE($F$3,1,3))+1 -> 42960 | G37: =SUM('Calendrier semaine'!X30:X36) -> 0 | H37: =IF(G37>$H$3,G37-$H$3,) -> 0 | I37: =IF(H37<=$I$3,H37,IF(H37>$I$3,$I$3,)) -> 0 | J37: =I37*24 -> 0 | K37: =IF(H37>$I$3,H37-$I$3,) -> 0 | L37: =K37*24 -> 0 | M37: =H37/$G$3 -> 0 | N37: =(J37*$L$3)+(L37*$M$3) -> 0 | O37: =((I37+(I37*$J$3))+(K37+(K37*50%)))/$G$3 -> 0 | Q37: =I37+K37 -> 0 | R37: =J37*$L$3 -> 0 | S37: =L37*$M$3 -> 0 | T37: =SUM(R37:S37) -> 0
A38: Semaine | B38: 33 | C38: du | D38: =7*B38+DATE($F$3,1,3)-WEEKDAY(DATE($F$3,1,3))-5 -> 42961 | E38: au | F38: =7*B38+DATE($F$3,1,3)-WEEKDAY(DATE($F$3,1,3))+1 -> 42967 | G38: =SUM('Calendrier semaine'!C39:C45) -> 0 | H38: =IF(G38>$H$3,G38-$H$3,) -> 0 | I38: =IF(H38<=$I$3,H38,IF(H38>$I$3,$I$3,)) -> 0 | J38: =I38*24 -> 0 | K38: =IF(H38>$I$3,H38-$I$3,) -> 0 | L38: =K38*24 -> 0 | M38: =H38/$G$3 -> 0 | N38: =(J38*$L$3)+(L38*$M$3) -> 0 | O38: =((I38+(I38*$J$3))+(K38+(K38*50%)))/$G$3 -> 0 | Q38: =I38+K38 -> 0 | R38: =J38*$L$3 -> 0 | S38: =L38*$M$3 -> 0 | T38: =SUM(R38:S38) -> 0
A39: Semaine | B39: 34 | C39: du | D39: =7*B39+DATE($F$3,1,3)-WEEKDAY(DATE($F$3,1,3))-5 -> 42968 | E39: au | F39: =7*B39+DATE($F$3,1,3)-WEEKDAY(DATE($F$3,1,3))+1 -> 42974 | G39: =SUM('Calendrier semaine'!F39:F45) -> 0 | H39: =IF(G39>$H$3,G39-$H$3,) -> 0 | I39: =IF(H39<=$I$3,H39,IF(H39>$I$3,$I$3,)) -> 0 | J39: =I39*24 -> 0 | K39: =IF(H39>$I$3,H39-$I$3,) -> 0 | L39: =K39*24 -> 0 | M39: =H39/$G$3 -> 0 | N39: =(J39*$L$3)+(L39*$M$3) -> 0 | O39: =((I39+(I39*$J$3))+(K39+(K39*50%)))/$G$3 -> 0 | Q39: =I39+K39 -> 0 | R39: =J39*$L$3 -> 0 | S39: =L39*$M$3 -> 0 | T39: =SUM(R39:S39) -> 0
A40: Semaine | B40: 35 | C40: du | D40: =7*B40+DATE($F$3,1,3)-WEEKDAY(DATE($F$3,1,3))-5 -> 42975 | E40: au | F40: =7*B40+DATE($F$3,1,3)-WEEKDAY(DATE($F$3,1,3))+1 -> 42981 | G40: =SUM('Calendrier semaine'!I39:I45) -> 0 | H40: =IF(G40>$H$3,G40-$H$3,) -> 0 | I40: =IF(H40<=$I$3,H40,IF(H40>$I$3,$I$3,)) -> 0 | J40: =I40*24 -> 0 | K40: =IF(H40>$I$3,H40-$I$3,) -> 0 | L40: =K40*24 -> 0 | M40: =H40/$G$3 -> 0 | N40: =(J40*$L$3)+(L40*$M$3) -> 0 | O40: =((I40+(I40*$J$3))+(K40+(K40*50%)))/$G$3 -> 0 | Q40: =I40+K40 -> 0 | R40: =J40*$L$3 -> 0 | S40: =L40*$M$3 -> 0 | T40: =SUM(R40:S40) -> 0
A41: Semaine | B41: 36 | C41: du | D41: =7*B41+DATE($F$3,1,3)-WEEKDAY(DATE($F$3,1,3))-5 -> 42982 | E41: au | F41: =7*B41+DATE($F$3,1,3)-WEEKDAY(DATE($F$3,1,3))+1 -> 42988 | G41: =SUM('Calendrier semaine'!L39:L45) -> 0 | H41: =IF(G41>$H$3,G41-$H$3,) -> 0 | I41: =IF(H41<=$I$3,H41,IF(H41>$I$3,$I$3,)) -> 0 | J41: =I41*24 -> 0 | K41: =IF(H41>$I$3,H41-$I$3,) -> 0 | L41: =K41*24 -> 0 | M41: =H41/$G$3 -> 0 | N41: =(J41*$L$3)+(L41*$M$3) -> 0 | O41: =((I41+(I41*$J$3))+(K41+(K41*50%)))/$G$3 -> 0 | Q41: =I41+K41 -> 0 | R41: =J41*$L$3 -> 0 | S41: =L41*$M$3 -> 0 | T41: =SUM(R41:S41) -> 0
A42: Semaine | B42: 37 | C42: du | D42: =7*B42+DATE($F$3,1,3)-WEEKDAY(DATE($F$3,1,3))-5 -> 42989 | E42: au | F42: =7*B42+DATE($F$3,1,3)-WEEKDAY(DATE($F$3,1,3))+1 -> 42995 | G42: =SUM('Calendrier semaine'!O39:O45) -> 0 | H42: =IF(G42>$H$3,G42-$H$3,) -> 0 | I42: =IF(H42<=$I$3,H42,IF(H42>$I$3,$I$3,)) -> 0 | J42: =I42*24 -> 0 | K42: =IF(H42>$I$3,H42-$I$3,) -> 0 | L42: =K42*24 -> 0 | M42: =H42/$G$3 -> 0 | N42: =(J42*$L$3)+(L42*$M$3) -> 0 | O42: =((I42+(I42*$J$3))+(K42+(K42*50%)))/$G$3 -> 0 | Q42: =I42+K42 -> 0 | R42: =J42*$L$3 -> 0 | S42: =L42*$M$3 -> 0 | T42: =SUM(R42:S42) -> 0
A43: Semaine | B43: 38 | C43: du | D43: =7*B43+DATE($F$3,1,3)-WEEKDAY(DATE($F$3,1,3))-5 -> 42996 | E43: au | F43: =7*B43+DATE($F$3,1,3)-WEEKDAY(DATE($F$3,1,3))+1 -> 43002 | G43: =SUM('Calendrier semaine'!R39:R45) -> 0 | H43: =IF(G43>$H$3,G43-$H$3,) -> 0 | I43: =IF(H43<=$I$3,H43,IF(H43>$I$3,$I$3,)) -> 0 | J43: =I43*24 -> 0 | K43: =IF(H43>$I$3,H43-$I$3,) -> 0 | L43: =K43*24 -> 0 | M43: =H43/$G$3 -> 0 | N43: =(J43*$L$3)+(L43*$M$3) -> 0 | O43: =((I43+(I43*$J$3))+(K43+(K43*50%)))/$G$3 -> 0 | Q43: =I43+K43 -> 0 | R43: =J43*$L$3 -> 0 | S43: =L43*$M$3 -> 0 | T43: =SUM(R43:S43) -> 0
A44: Semaine | B44: 39 | C44: du | D44: =7*B44+DATE($F$3,1,3)-WEEKDAY(DATE($F$3,1,3))-5 -> 43003 | E44: au | F44: =7*B44+DATE($F$3,1,3)-WEEKDAY(DATE($F$3,1,3))+1 -> 43009 | G44: =SUM('Calendrier semaine'!U39:U45) -> 0 | H44: =IF(G44>$H$3,G44-$H$3,) -> 0 | I44: =IF(H44<=$I$3,H44,IF(H44>$I$3,$I$3,)) -> 0 | J44: =I44*24 -> 0 | K44: =IF(H44>$I$3,H44-$I$3,) -> 0 | L44: =K44*24 -> 0 | M44: =H44/$G$3 -> 0 | N44: =(J44*$L$3)+(L44*$M$3) -> 0 | O44: =((I44+(I44*$J$3))+(K44+(K44*50%)))/$G$3 -> 0 | Q44: =I44+K44 -> 0 | R44: =J44*$L$3 -> 0 | S44: =L44*$M$3 -> 0 | T44: =SUM(R44:S44) -> 0
A45: Semaine | B45: 40 | C45: du | D45: =7*B45+DATE($F$3,1,3)-WEEKDAY(DATE($F$3,1,3))-5 -> 43010 | E45: au | F45: =7*B45+DATE($F$3,1,3)-WEEKDAY(DATE($F$3,1,3))+1 -> 43016 | G45: =SUM('Calendrier semaine'!X39:X45) -> 0 | H45: =IF(G45>$H$3,G45-$H$3,) -> 0 | I45: =IF(H45<=$I$3,H45,IF(H45>$I$3,$I$3,)) -> 0 | J45: =I45*24 -> 0 | K45: =IF(H45>$I$3,H45-$I$3,) -> 0 | L45: =K45*24 -> 0 | M45: =H45/$G$3 -> 0 | N45: =(J45*$L$3)+(L45*$M$3) -> 0 | O45: =((I45+(I45*$J$3))+(K45+(K45*50%)))/$G$3 -> 0 | Q45: =I45+K45 -> 0 | R45: =J45*$L$3 -> 0 | S45: =L45*$M$3 -> 0 | T45: =SUM(R45:S45) -> 0
A46: Semaine | B46: 41 | C46: du | D46: =7*B46+DATE($F$3,1,3)-WEEKDAY(DATE($F$3,1,3))-5 -> 43017 | E46: au | F46: =7*B46+DATE($F$3,1,3)-WEEKDAY(DATE($F$3,1,3))+1 -> 43023 | G46: =SUM('Calendrier semaine'!C48:C54) -> 0 | H46: =IF(G46>$H$3,G46-$H$3,) -> 0 | I46: =IF(H46<=$I$3,H46,IF(H46>$I$3,$I$3,)) -> 0 | J46: =I46*24 -> 0 | K46: =IF(H46>$I$3,H46-$I$3,) -> 0 | L46: =K46*24 -> 0 | M46: =H46/$G$3 -> 0 | N46: =(J46*$L$3)+(L46*$M$3) -> 0 | O46: =((I46+(I46*$J$3))+(K46+(K46*50%)))/$G$3 -> 0 | Q46: =I46+K46 -> 0 | R46: =J46*$L$3 -> 0 | S46: =L46*$M$3 -> 0 | T46: =SUM(R46:S46) -> 0
A47: Semaine | B47: 42 | C47: du | D47: =7*B47+DATE($F$3,1,3)-WEEKDAY(DATE($F$3,1,3))-5 -> 43024 | E47: au | F47: =7*B47+DATE($F$3,1,3)-WEEKDAY(DATE($F$3,1,3))+1 -> 43030 | G47: =SUM('Calendrier semaine'!F48:F54) -> 0 | H47: =IF(G47>$H$3,G47-$H$3,) -> 0 | I47: =IF(H47<=$I$3,H47,IF(H47>$I$3,$I$3,)) -> 0 | J47: =I47*24 -> 0 | K47: =IF(H47>$I$3,H47-$I$3,) -> 0 | L47: =K47*24 -> 0 | M47: =H47/$G$3 -> 0 | N47: =(J47*$L$3)+(L47*$M$3) -> 0 | O47: =((I47+(I47*$J$3))+(K47+(K47*50%)))/$G$3 -> 0 | Q47: =I47+K47 -> 0 | R47: =J47*$L$3 -> 0 | S47: =L47*$M$3 -> 0 | T47: =SUM(R47:S47) -> 0
A48: Semaine | B48: 43 | C48: du | D48: =7*B48+DATE($F$3,1,3)-WEEKDAY(DATE($F$3,1,3))-5 -> 43031 | E48: au | F48: =7*B48+DATE($F$3,1,3)-WEEKDAY(DATE($F$3,1,3))+1 -> 43037 | G48: =SUM('Calendrier semaine'!I48:I54) -> 0 | H48: =IF(G48>$H$3,G48-$H$3,) -> 0 | I48: =IF(H48<=$I$3,H48,IF(H48>$I$3,$I$3,)) -> 0 | J48: =I48*24 -> 0 | K48: =IF(H48>$I$3,H48-$I$3,) -> 0 | L48: =K48*24 -> 0 | M48: =H48/$G$3 -> 0 | N48: =(J48*$L$3)+(L48*$M$3) -> 0 | O48: =((I48+(I48*$J$3))+(K48+(K48*50%)))/$G$3 -> 0 | Q48: =I48+K48 -> 0 | R48: =J48*$L$3 -> 0 | S48: =L48*$M$3 -> 0 | T48: =SUM(R48:S48) -> 0
A49: Semaine | B49: 44 | C49: du | D49: =7*B49+DATE($F$3,1,3)-WEEKDAY(DATE($F$3,1,3))-5 -> 43038 | E49: au | F49: =7*B49+DATE($F$3,1,3)-WEEKDAY(DATE($F$3,1,3))+1 -> 43044 | G49: =SUM('Calendrier semaine'!L48:L54) -> 0 | H49: =IF(G49>$H$3,G49-$H$3,) -> 0 | I49: =IF(H49<=$I$3,H49,IF(H49>$I$3,$I$3,)) -> 0 | J49: =I49*24 -> 0 | K49: =IF(H49>$I$3,H49-$I$3,) -> 0 | L49: =K49*24 -> 0 | M49: =H49/$G$3 -> 0 | N49: =(J49*$L$3)+(L49*$M$3) -> 0 | O49: =((I49+(I49*$J$3))+(K49+(K49*50%)))/$G$3 -> 0 | Q49: =I49+K49 -> 0 | R49: =J49*$L$3 -> 0 | S49: =L49*$M$3 -> 0 | T49: =SUM(R49:S49) -> 0
A50: Semaine | B50: 45 | C50: du | D50: =7*B50+DATE($F$3,1,3)-WEEKDAY(DATE($F$3,1,3))-5 -> 43045 | E50: au | F50: =7*B50+DATE($F$3,1,3)-WEEKDAY(DATE($F$3,1,3))+1 -> 43051 | G50: =SUM('Calendrier semaine'!O48:O54) -> 0 | H50: =IF(G50>$H$3,G50-$H$3,) -> 0 | I50: =IF(H50<=$I$3,H50,IF(H50>$I$3,$I$3,)) -> 0 | J50: =I50*24 -> 0 | K50: =IF(H50>$I$3,H50-$I$3,) -> 0 | L50: =K50*24 -> 0 | M50: =H50/$G$3 -> 0 | N50: =(J50*$L$3)+(L50*$M$3) -> 0 | O50: =((I50+(I50*$J$3))+(K50+(K50*50%)))/$G$3 -> 0 | Q50: =I50+K50 -> 0 | R50: =J50*$L$3 -> 0 | S50: =L50*$M$3 -> 0 | T50: =SUM(R50:S50) -> 0
A51: Semaine | B51: 46 | C51: du | D51: =7*B51+DATE($F$3,1,3)-WEEKDAY(DATE($F$3,1,3))-5 -> 43052 | E51: au | F51: =7*B51+DATE($F$3,1,3)-WEEKDAY(DATE($F$3,1,3))+1 -> 43058 | G51: =SUM('Calendrier semaine'!R48:R54) -> 0 | H51: =IF(G51>$H$3,G51-$H$3,) -> 0 | I51: =IF(H51<=$I$3,H51,IF(H51>$I$3,$I$3,)) -> 0 | J51: =I51*24 -> 0 | K51: =IF(H51>$I$3,H51-$I$3,) -> 0 | L51: =K51*24 -> 0 | M51: =H51/$G$3 -> 0 | N51: =(J51*$L$3)+(L51*$M$3) -> 0 | O51: =((I51+(I51*$J$3))+(K51+(K51*50%)))/$G$3 -> 0 | Q51: =I51+K51 -> 0 | R51: =J51*$L$3 -> 0 | S51: =L51*$M$3 -> 0 | T51: =SUM(R51:S51) -> 0
A52: Semaine | B52: 47 | C52: du | D52: =7*B52+DATE($F$3,1,3)-WEEKDAY(DATE($F$3,1,3))-5 -> 43059 | E52: au | F52: =7*B52+DATE($F$3,1,3)-WEEKDAY(DATE($F$3,1,3))+1 -> 43065 | G52: =SUM('Calendrier semaine'!U48:U54) -> 0 | H52: =IF(G52>$H$3,G52-$H$3,) -> 0 | I52: =IF(H52<=$I$3,H52,IF(H52>$I$3,$I$3,)) -> 0 | J52: =I52*24 -> 0 | K52: =IF(H52>$I$3,H52-$I$3,) -> 0 | L52: =K52*24 -> 0 | M52: =H52/$G$3 -> 0 | N52: =(J52*$L$3)+(L52*$M$3) -> 0 | O52: =((I52+(I52*$J$3))+(K52+(K52*50%)))/$G$3 -> 0 | Q52: =I52+K52 -> 0 | R52: =J52*$L$3 -> 0 | S52: =L52*$M$3 -> 0 | T52: =SUM(R52:S52) -> 0
A53: Semaine | B53: 48 | C53: du | D53: =7*B53+DATE($F$3,1,3)-WEEKDAY(DATE($F$3,1,3))-5 -> 43066 | E53: au | F53: =7*B53+DATE($F$3,1,3)-WEEKDAY(DATE($F$3,1,3))+1 -> 43072 | G53: =SUM('Calendrier semaine'!X48:X54) -> 0 | H53: =IF(G53>$H$3,G53-$H$3,) -> 0 | I53: =IF(H53<=$I$3,H53,IF(H53>$I$3,$I$3,)) -> 0 | J53: =I53*24 -> 0 | K53: =IF(H53>$I$3,H53-$I$3,) -> 0 | L53: =K53*24 -> 0 | M53: =H53/$G$3 -> 0 | N53: =(J53*$L$3)+(L53*$M$3) -> 0 | O53: =((I53+(I53*$J$3))+(K53+(K53*50%)))/$G$3 -> 0 | Q53: =I53+K53 -> 0 | R53: =J53*$L$3 -> 0 | S53: =L53*$M$3 -> 0 | T53: =SUM(R53:S53) -> 0
A54: Semaine | B54: 49 | C54: du | D54: =7*B54+DATE($F$3,1,3)-WEEKDAY(DATE($F$3,1,3))-5 -> 43073 | E54: au | F54: =7*B54+DATE($F$3,1,3)-WEEKDAY(DATE($F$3,1,3))+1 -> 43079 | G54: =SUM('Calendrier semaine'!C57:C63) -> 0 | H54: =IF(G54>$H$3,G54-$H$3,) -> 0 | I54: =IF(H54<=$I$3,H54,IF(H54>$I$3,$I$3,)) -> 0 | J54: =I54*24 -> 0 | K54: =IF(H54>$I$3,H54-$I$3,) -> 0 | L54: =K54*24 -> 0 | M54: =H54/$G$3 -> 0 | N54: =(J54*$L$3)+(L54*$M$3) -> 0 | O54: =((I54+(I54*$J$3))+(K54+(K54*50%)))/$G$3 -> 0 | Q54: =I54+K54 -> 0 | R54: =J54*$L$3 -> 0 | S54: =L54*$M$3 -> 0 | T54: =SUM(R54:S54) -> 0
A55: Semaine | B55: 50 | C55: du | D55: =7*B55+DATE($F$3,1,3)-WEEKDAY(DATE($F$3,1,3))-5 -> 43080 | E55: au | F55: =7*B55+DATE($F$3,1,3)-WEEKDAY(DATE($F$3,1,3))+1 -> 43086 | G55: =SUM('Calendrier semaine'!F57:F63) -> 0 | H55: =IF(G55>$H$3,G55-$H$3,) -> 0 | I55: =IF(H55<=$I$3,H55,IF(H55>$I$3,$I$3,)) -> 0 | J55: =I55*24 -> 0 | K55: =IF(H55>$I$3,H55-$I$3,) -> 0 | L55: =K55*24 -> 0 | M55: =H55/$G$3 -> 0 | N55: =(J55*$L$3)+(L55*$M$3) -> 0 | O55: =((I55+(I55*$J$3))+(K55+(K55*50%)))/$G$3 -> 0 | Q55: =I55+K55 -> 0 | R55: =J55*$L$3 -> 0 | S55: =L55*$M$3 -> 0 | T55: =SUM(R55:S55) -> 0
A56: Semaine | B56: 51 | C56: du | D56: =7*B56+DATE($F$3,1,3)-WEEKDAY(DATE($F$3,1,3))-5 -> 43087 | E56: au | F56: =7*B56+DATE($F$3,1,3)-WEEKDAY(DATE($F$3,1,3))+1 -> 43093 | G56: =SUM('Calendrier semaine'!I57:I63) -> 0 | H56: =IF(G56>$H$3,G56-$H$3,) -> 0 | I56: =IF(H56<=$I$3,H56,IF(H56>$I$3,$I$3,)) -> 0 | J56: =I56*24 -> 0 | K56: =IF(H56>$I$3,H56-$I$3,) -> 0 | L56: =K56*24 -> 0 | M56: =H56/$G$3 -> 0 | N56: =(J56*$L$3)+(L56*$M$3) -> 0 | O56: =((I56+(I56*$J$3))+(K56+(K56*50%)))/$G$3 -> 0 | Q56: =I56+K56 -> 0 | R56: =J56*$L$3 -> 0 | S56: =L56*$M$3 -> 0 | T56: =SUM(R56:S56) -> 0
A57: Semaine | B57: 52 | C57: du | D57: =7*B57+DATE($F$3,1,3)-WEEKDAY(DATE($F$3,1,3))-5 -> 43094 | E57: au | F57: =7*B57+DATE($F$3,1,3)-WEEKDAY(DATE($F$3,1,3))+1 -> 43100 | G57: =SUM('Calendrier semaine'!L57:L63) -> 0 | H57: =IF(G57>$H$3,G57-$H$3,) -> 0 | I57: =IF(H57<=$I$3,H57,IF(H57>$I$3,$I$3,)) -> 0 | J57: =I57*24 -> 0 | K57: =IF(H57>$I$3,H57-$I$3,) -> 0 | L57: =K57*24 -> 0 | M57: =H57/$G$3 -> 0 | N57: =(J57*$L$3)+(L57*$M$3) -> 0 | O57: =((I57+(I57*$J$3))+(K57+(K57*50%)))/$G$3 -> 0 | Q57: =I57+K57 -> 0 | R57: =J57*$L$3 -> 0 | S57: =L57*$M$3 -> 0 | T57: =SUM(R57:S57) -> 0
