Workbook

Sheet RECAPITULATIF
B1: Facturation | E1: Différence
B2: ATVYL | C2: ETAM
A3: 0009 | B3: ='0009'!L135 -> 669.5 | C3: 418.21 | E3: =C3-B3 -> -251.29
A4: 0286 | B4: ='0286'!L135 -> 413.7 | C4: 289.02 | E4: =C4-B4 -> -124.68
A5: 1026 | B5: ='1026'!L135 -> 499.52 | C5: 356.15 | E5: =C5-B5 -> -143.37
A6: 1028 | B6: ='1028'!L135 -> 696.6 | C6: 427.69 | E6: =C6-B6 -> -268.91
A7: 1113 | B7: ='1113'!L135 -> 484.53 | C7: 355.14 | E7: =C7-B7 -> -129.39
A8: 1447 | B8: ='1447'!$L$135 -> 500.38 | C8: 363.62 | E8: =C8-B8 -> -136.76
A9: 1501 | B9: ='1501'!$L$135 -> 724.29 | C9: 418.11 | E9: =C9-B9 -> -306.18
A10: 1504 | B10: ='1504'!$L$135 -> 875.01 | C10: 428.42 | E10: =C10-B10 -> -446.59
A11: 1508 | B11: ='1508'!$L$135 -> 678.6 | C11: 424.43 | E11: =C11-B11 -> -254.17
A12: 1509 | B12: ='1509'!$L$135 -> 697.94 | C12: 423.95 | E12: =C12-B12 -> -273.99
A13: 1717 | E13: =C13-B13 -> 0
A14: 1847 | B14: ='1847'!$L$135 -> 437.14 | C14: 313.64 | E14: =C14-B14 -> -123.5
A15: 1855 | B15: ='1855'!$L$135 -> 687.79 | C15: 421.41 | E15: =C15-B15 -> -266.38
A16: 2001 | B16: ='2001'!$L$134 -> 459.57 | C16: 345.38 | E16: =C16-B16 -> -114.19
A17: 2093 | B17: ='2093'!$L$135 -> 481.55 | C17: 356.63 | E17: =C17-B17 -> -124.92
A18: 2115 | B18: ='2115'!$L$135 -> 578.78 | C18: 406.99 | E18: =C18-B18 -> -171.79
A19: 2223 | B19: ='2223'!$L$135 -> 469.51 | C19: 341.79 | E19: =C19-B19 -> -127.72
A20: 2232 | B20: ='2232'!$L$135 -> 519.34 | C20: 367.98 | E20: =C20-B20 -> -151.36
A22: TOTAL | B22: =SUM(B3:B20) -> 9873.75 | C22: =SUM(C3:C20) -> 6458.56 | E22: =SUM(E3:E20) -> -3415.19

Sheet 0009
A1: FACTURE | B1: JOUR | C1: MOIS | D1: ANNEE | E1: RECEP | F1: EXP | G1: DEST | H1: VILLES | I1: DEPTS | J1: COLIS | K1: POIDS | L1: TARIFS
A2: 70400101 | B2: 03 | C2: 04 | D2: 17 | E2: 1223226 | F2: INVESTINT PAP | G2: 0009 ETAM PAP ST MICHEL | H2: PARIS 05 | I2: 75 | J2: 9 | K2: 45 | L2: 17.31
A3: 70400082 | B3: 03 | C3: 04 | D3: 17 | E3: 1222975 | F3: ETAM LINGERIE | G3: 0009 LINGERIE PARIS MICHEL | H3: PARIS 06 | I3: 75 | J3: 5 | K3: 29 | L3: 13.62
A4: TOTAL FACTURé | M4: =L2+L3 -> 30.93
B5: 03.04.2017 | I5: 100355 | J5: 100355 | K5: =IF(ISNUMBER(B5),"",CONVERT(J5,"g","kg")) -> 100.355 | M5: =IF(K5=0,0,IF(K5<=9,7.55,IF(K5<=15,9.42,IF(K5<=20,10.97,IF(K5<=27,12.25,IF(K5<=34,13.62,IF(K5<=39,15.33,IF(K5<=44,17.21,IF(K5<=49,17.31,IF(K5<=59,17.51,IF(K5<=69,20,IF(K5<=79,23.21,IF(K5<=89,22.7,IF(K5<=99.99,22.59,IF(K5<=499,22.54,IF(K5<=999,22.44,IF(K5<=25000,21.42,""))))))))))))))))) -> 22.54
A6: DIFFERENCE | N6: =M5-M4 -> -8.39
A9: 70400101 | B9: 04 | C9: 04 | D9: 17 | E9: 1224642 | F9: INVESTINT PAP | G9: 0009 ETAM PAP ST MICHEL | H9: PARIS 05 | I9: 75 | J9: 18 | K9: 180 | L9: 40.57
A10: 70400082 | B10: 04 | C10: 04 | D10: 17 | E10: 1224452 | F10: ETAM LINGERIE | G10: 0009 LINGERIE PARIS MICHEL | H10: PARIS 06 | I10: 75 | J10: 8 | K10: 35 | L10: 15.33
A11: TOTAL FACTURé | M11: =L9+L10 -> 55.9
B12: 04.04.2017 | I12: 172851 | J12: 172851 | K12: =IF(ISNUMBER(B12),"",CONVERT(J12,"g","kg")) -> 172.851 | M12: =IF(K12=0,0,IF(K12<=9,7.55,IF(K12<=15,9.42,IF(K12<=20,10.97,IF(K12<=27,12.25,IF(K12<=34,13.62,IF(K12<=39,15.33,IF(K12<=44,17.21,IF(K12<=49,17.31,IF(K12<=59,17.51,IF(K12<=69,20,IF(K12<=79,23.21,IF(K12<=89,22.7,IF(K12<=99.99,22.59,IF(K12<=499,22.54,IF(K12<=999,22.44,IF(K12<=25000,21.42,""))))))))))))))))) -> 22.54
A13: DIFFERENCE | N13: =M12-M11 -> -33.36
A16: 70400101 | B16: 05 | C16: 04 | D16: 17 | E16: 1225805 | F16: INVESTINT PAP | G16: 0009 ETAM PAP ST MICHEL | H16: PARIS 05 | I16: 75 | J16: 13 | K16: 65 | L16: 20
A17: 70400082 | B17: 05 | C17: 04 | D17: 17 | E17: 1225581 | F17: ETAM LINGERIE | G17: 0009 LINGERIE PARIS MICHEL | H17: PARIS 06 | I17: 75 | J17: 5 | K17: 22 | L17: 12.25
A18: TOTAL FACTURé | M18: =L16+L17 -> 32.25
B19: 05.04.2017 | I19: 117581 | J19: 117581 | K19: =IF(ISNUMBER(B19),"",CONVERT(J19,"g","kg")) -> 117.581 | M19: =IF(K19=0,0,IF(K19<=9,7.55,IF(K19<=15,9.42,IF(K19<=20,10.97,IF(K19<=27,12.25,IF(K19<=34,13.62,IF(K19<=39,15.33,IF(K19<=44,17.21,IF(K19<=49,17.31,IF(K19<=59,17.51,IF(K19<=69,20,IF(K19<=79,23.21,IF(K19<=89,22.7,IF(K19<=99.99,22.59,IF(K19<=499,22.54,IF(K19<=999,22.44,IF(K19<=25000,21.42,""))))))))))))))))) -> 22.54
A20: DIFFERENCE | N20: =M19-M18 -> -9.71
A23: 70400101 | B23: 06 | C23: 04 | D23: 17 | E23: 1226849 | F23: ETAM PAP | G23: 0009 ETAM PAP ST MICHEL | H23: PARIS 05 | I23: 75 | J23: 12 | K23: 89 | L23: 22.59
A24: 70400082 | B24: 06 | C24: 04 | D24: 17 | E24: 1226996 | F24: ETAM LINGERIE | G24: 0009 LINGERIE PARIS MICHEL | H24: PARIS 06 | I24: 75 | J24: 5 | K24: 34 | L24: 15.33
A25: TOTAL FACTURé | M25: =L23+L24 -> 37.92
B26: 06.04.2017 | I26: 125152 | J26: 125152 | K26: =IF(ISNUMBER(B26),"",CONVERT(J26,"g","kg")) -> 125.152 | M26: =IF(K26=0,0,IF(K26<=9,7.55,IF(K26<=15,9.42,IF(K26<=20,10.97,IF(K26<=27,12.25,IF(K26<=34,13.62,IF(K26<=39,15.33,IF(K26<=44,17.21,IF(K26<=49,17.31,IF(K26<=59,17.51,IF(K26<=69,20,IF(K26<=79,23.21,IF(K26<=89,22.7,IF(K26<=99.99,22.59,IF(K26<=499,22.54,IF(K26<=999,22.44,IF(K26<=25000,21.42,""))))))))))))))))) -> 22.54
A27: DIFFERENCE | N27: =M26-M25 -> -15.38
A30: 70400101 | B30: 07 | C30: 04 | D30: 17 | E30: 1228145 | F30: ETAM PAP | G30: 0009 ETAM PAP ST MICHEL | H30: PARIS 05 | I30: 75 | J30: 4 | K30: 30 | L30: 13.62
A31: 70400082 | B31: 07 | C31: 04 | D31: 17 | E31: 1228483 | F31: ETAM LINGERIE | G31: 0009 LINGERIE PARIS MICHEL | H31: PARIS 06 | I31: 75 | J31: 4 | K31: 11 | L31: 9.42
A32: TOTAL FACTURé | M32: =L30+L31 -> 23.04
B33: 07.04.2017 | I33: 42797 | J33: 42797 | K33: =IF(ISNUMBER(B33),"",CONVERT(J33,"g","kg")) -> 42.797 | M33: =IF(K33=0,0,IF(K33<=9,7.55,IF(K33<=15,9.42,IF(K33<=20,10.97,IF(K33<=27,12.25,IF(K33<=34,13.62,IF(K33<=39,15.33,IF(K33<=44,17.21,IF(K33<=49,17.31,IF(K33<=59,17.51,IF(K33<=69,20,IF(K33<=79,23.21,IF(K33<=89,22.7,IF(K33<=99.99,22.59,IF(K33<=499,22.54,IF(K33<=999,22.44,IF(K33<=25000,21.42,""))))))))))))))))) -> 17.21
A34: DIFFERENCE | N34: =M33-M32 -> -5.83
A37: 70400101 | B37: 10 | C37: 04 | D37: 17 | E37: 1229835 | F37: ETAM PAP | G37: 0009 ETAM PAP ST MICHEL | H37: PARIS 05 | I37: 75 | J37: 8 | K37: 56 | L37: 17.51
A38: 70400082 | B38: 10 | C38: 04 | D38: 17 | E38: 1230078 | F38: ETAM LINGERIE | G38: 0009 LINGERIE PARIS MICHEL | H38: PARIS 06 | I38: 75 | J38: 5 | K38: 28 | L38: 13.62
A39: TOTAL FACTURé | M39: =L37+L38 -> 31.13
B40: 10.04.2017 | I40: 89856 | J40: 89856 | K40: =IF(ISNUMBER(B40),"",CONVERT(J40,"g","kg")) -> 89.856 | M40: =IF(K40=0,0,IF(K40<=9,7.55,IF(K40<=15,9.42,IF(K40<=20,10.97,IF(K40<=27,12.25,IF(K40<=34,13.62,IF(K40<=39,15.33,IF(K40<=44,17.21,IF(K40<=49,17.31,IF(K40<=59,17.51,IF(K40<=69,20,IF(K40<=79,23.21,IF(K40<=89,22.7,IF(K40<=99.99,22.59,IF(K40<=499,22.54,IF(K40<=999,22.44,IF(K40<=25000,21.42,""))))))))))))))))) -> 22.59
A41: DIFFERENCE | N41: =M40-M39 -> -8.54
A44: 70400101 | B44: 11 | C44: 04 | D44: 17 | E44: 1231309 | F44: ETAM PAP | G44: 0009 ETAM PAP ST MICHEL | H44: PARIS 05 | I44: 75 | J44: 9 | K44: 66 | L44: 20
A45: 70400082 | B45: 11 | C45: 04 | D45: 17 | E45: 1231409 | F45: ETAM LINGERIE | G45: 0009 LINGERIE PARIS MICHEL | H45: PARIS 06 | I45: 75 | J45: 6 | K45: 27 | L45: 13.62
A46: TOTAL FACTURé | M46: =L44+L45 -> 33.62
B47: 11.04.2017 | I47: 94560 | J47: 94560 | K47: =IF(ISNUMBER(B47),"",CONVERT(J47,"g","kg")) -> 94.56 | M47: =IF(K47=0,0,IF(K47<=9,7.55,IF(K47<=15,9.42,IF(K47<=20,10.97,IF(K47<=27,12.25,IF(K47<=34,13.62,IF(K47<=39,15.33,IF(K47<=44,17.21,IF(K47<=49,17.31,IF(K47<=59,17.51,IF(K47<=69,20,IF(K47<=79,23.21,IF(K47<=89,22.7,IF(K47<=99.99,22.59,IF(K47<=499,22.54,IF(K47<=999,22.44,IF(K47<=25000,21.42,""))))))))))))))))) -> 22.59
A48: DIFFERENCE | N48: =M47-M46 -> -11.03
A51: 70400101 | B51: 12 | C51: 04 | D51: 17 | E51: 1232269 | F51: ETAM PAP | G51: 0009 ETAM PAP ST MICHEL | H51: PARIS 05 | I51: 75 | J51: 5 | K51: 47 | L51: 17.31
A52: 70400082 | B52: 12 | C52: 04 | D52: 17 | E52: 1232712 | F52: ETAM LINGERIE | G52: 0009 LINGERIE PARIS MICHEL | H52: PARIS 06 | I52: 75 | J52: 7 | K52: 76 | L52: 23.21
A53: TOTAL FACTURé | M53: =L51+L52 -> 40.52
B54: 12.04.2017 | I54: 125610 | J54: 125610 | K54: =IF(ISNUMBER(B54),"",CONVERT(J54,"g","kg")) -> 125.61 | M54: =IF(K54=0,0,IF(K54<=9,7.55,IF(K54<=15,9.42,IF(K54<=20,10.97,IF(K54<=27,12.25,IF(K54<=34,13.62,IF(K54<=39,15.33,IF(K54<=44,17.21,IF(K54<=49,17.31,IF(K54<=59,17.51,IF(K54<=69,20,IF(K54<=79,23.21,IF(K54<=89,22.7,IF(K54<=99.99,22.59,IF(K54<=499,22.54,IF(K54<=999,22.44,IF(K54<=25000,21.42,""))))))))))))))))) -> 22.54
...

Sheet 0286
A1: FACTURE | B1: JOUR | C1: MOIS | D1: ANNEE | E1: RECEP | F1: EXP | G1: DEST | H1: VILLES | I1: DEPTS | J1: COLIS | K1: POIDS | L1: TARIFS
A2: 70400101 | B2: 03 | C2: 04 | D2: 17 | E2: 1223254 | F2: INVESTINT PAP | G2: 0286 ETAM PAP BERCY 2 | H2: CHARENTON LE PONT | I2: 94 | J2: 3 | K2: 15 | L2: 9.42
A3: 70400082 | B3: 03 | C3: 04 | D3: 17 | E3: 1223031 | F3: ETAM LINGERIE | G3: 0286 LINGERIE BERCY 2 | H3: CHARENTON LE PONT | I3: 94 | J3: 4 | K3: 19 | L3: 10.97
A4: TOTAL FACTURé | M4: =L2+L3 -> 20.39
B5: 03.04.2017 | I5: 44881 | J5: 44881 | K5: =IF(ISNUMBER(B5),"",CONVERT(J5,"g","kg")) -> 44.881 | M5: =IF(K5=0,0,IF(K5<=9,7.55,IF(K5<=15,9.42,IF(K5<=20,10.97,IF(K5<=27,12.25,IF(K5<=34,13.62,IF(K5<=39,15.33,IF(K5<=44,17.21,IF(K5<=49,17.31,IF(K5<=59,17.51,IF(K5<=69,20,IF(K5<=79,23.21,IF(K5<=89,22.7,IF(K5<=99.99,22.59,IF(K5<=499,22.54,IF(K5<=999,22.44,IF(K5<=25000,21.42,""))))))))))))))))) -> 17.31
A6: DIFFERENCE | N6: =M5-M4 -> -3.08
A9: 70400101 | B9: 04 | C9: 04 | D9: 17 | E9: 1224671 | F9: INVESTINT PAP | G9: 0286 ETAM PAP BERCY 2 | H9: CHARENTON LE PONT | I9: 94 | J9: 6 | K9: 60 | L9: 20
A10: 70400082 | B10: 04 | C10: 04 | D10: 17 | E10: 1224489 | F10: ETAM LINGERIE | G10: 0286 LINGERIE BERCY 2 | H10: CHARENTON LE PONT | I10: 94 | J10: 5 | K10: 16 | L10: 10.97
A11: TOTAL FACTURé | M11: =L9+L10 -> 30.97
B12: 04.04.2017 | I12: 61611 | J12: 61611 | K12: =IF(ISNUMBER(B12),"",CONVERT(J12,"g","kg")) -> 61.611 | M12: =IF(K12=0,0,IF(K12<=9,7.55,IF(K12<=15,9.42,IF(K12<=20,10.97,IF(K12<=27,12.25,IF(K12<=34,13.62,IF(K12<=39,15.33,IF(K12<=44,17.21,IF(K12<=49,17.31,IF(K12<=59,17.51,IF(K12<=69,20,IF(K12<=79,23.21,IF(K12<=89,22.7,IF(K12<=99.99,22.59,IF(K12<=499,22.54,IF(K12<=999,22.44,IF(K12<=25000,21.42,""))))))))))))))))) -> 20
A13: DIFFERENCE | N13: =M12-M11 -> -10.97
A16: 70400101 | B16: 05 | C16: 04 | D16: 17 | E16: 1225827 | F16: INVESTINT PAP | G16: 0286 ETAM PAP BERCY 2 | H16: CHARENTON LE PONT | I16: 94 | J16: 4 | K16: 20 | L16: 10.97
A17: 70400082 | B17: 05 | C17: 04 | D17: 17 | E17: 1225630 | F17: ETAM LINGERIE | G17: 0286 LINGERIE BERCY 2 | H17: CHARENTON LE PONT | I17: 94 | J17: 3 | K17: 11 | L17: 9.42
A18: TOTAL FACTURé | M18: =L16+L17 -> 20.39
B19: 05.04.2017 | I19: 42335 | J19: 42335 | K19: =IF(ISNUMBER(B19),"",CONVERT(J19,"g","kg")) -> 42.335 | M19: =IF(K19=0,0,IF(K19<=9,7.55,IF(K19<=15,9.42,IF(K19<=20,10.97,IF(K19<=27,12.25,IF(K19<=34,13.62,IF(K19<=39,15.33,IF(K19<=44,17.21,IF(K19<=49,17.31,IF(K19<=59,17.51,IF(K19<=69,20,IF(K19<=79,23.21,IF(K19<=89,22.7,IF(K19<=99.99,22.59,IF(K19<=499,22.54,IF(K19<=999,22.44,IF(K19<=25000,21.42,""))))))))))))))))) -> 17.21
A20: DIFFERENCE | N20: =M19-M18 -> -3.18
A23: 70400101 | B23: 06 | C23: 04 | D23: 17 | E23: 1226878 | F23: ETAM PAP | G23: 0286 ETAM PAP BERCY 2 | H23: CHARENTON LE PONT | I23: 94 | J23: 5 | K23: 47 | L23: 17.31
A24: 70400082 | B24: 06 | C24: 04 | D24: 17 | E24: 1227044 | F24: ETAM LINGERIE | G24: 0286 LINGERIE BERCY 2 | H24: CHARENTON LE PONT | I24: 94 | J24: 3 | K24: 18 | L24: 10.97
A25: TOTAL FACTURé | M25: =L23+L24 -> 28.28
B26: 06.04.2017 | I26: 67331 | J26: 67331 | K26: =IF(ISNUMBER(B26),"",CONVERT(J26,"g","kg")) -> 67.331 | M26: =IF(K26=0,0,IF(K26<=9,7.55,IF(K26<=15,9.42,IF(K26<=20,10.97,IF(K26<=27,12.25,IF(K26<=34,13.62,IF(K26<=39,15.33,IF(K26<=44,17.21,IF(K26<=49,17.31,IF(K26<=59,17.51,IF(K26<=69,20,IF(K26<=79,23.21,IF(K26<=89,22.7,IF(K26<=99.99,22.59,IF(K26<=499,22.54,IF(K26<=999,22.44,IF(K26<=25000,21.42,""))))))))))))))))) -> 20
A27: DIFFERENCE | N27: =M26-M25 -> -8.28
A30: 70400101 | B30: 07 | C30: 04 | D30: 17 | E30: 1228173 | F30: ETAM PAP | G30: 0286 ETAM PAP BERCY 2 | H30: CHARENTON LE PONT | I30: 94 | J30: 4 | K30: 29 | L30: 13.62
A31: 70400082 | B31: 07 | C31: 04 | D31: 17 | E31: 1228531 | F31: ETAM LINGERIE | G31: 0286 LINGERIE BERCY 2 | H31: CHARENTON LE PONT | I31: 94 | J31: 5 | K31: 12 | L31: 9.42
A32: TOTAL FACTURé | M32: =L30+L31 -> 23.04
B33: 07.04.2017 | I33: 42171 | J33: 42171 | K33: =IF(ISNUMBER(B33),"",CONVERT(J33,"g","kg")) -> 42.171 | M33: =IF(K33=0,0,IF(K33<=9,7.55,IF(K33<=15,9.42,IF(K33<=20,10.97,IF(K33<=27,12.25,IF(K33<=34,13.62,IF(K33<=39,15.33,IF(K33<=44,17.21,IF(K33<=49,17.31,IF(K33<=59,17.51,IF(K33<=69,20,IF(K33<=79,23.21,IF(K33<=89,22.7,IF(K33<=99.99,22.59,IF(K33<=499,22.54,IF(K33<=999,22.44,IF(K33<=25000,21.42,""))))))))))))))))) -> 17.21
A34: DIFFERENCE | N34: =M33-M32 -> -5.83
A37: 70400101 | B37: 10 | C37: 04 | D37: 17 | E37: 1229860 | F37: ETAM PAP | G37: 0286 ETAM PAP BERCY 2 | H37: CHARENTON LE PONT | I37: 94 | J37: 2 | K37: 15 | L37: 10.97
A38: 70400082 | B38: 10 | C38: 04 | D38: 17 | E38: 1230130 | F38: ETAM LINGERIE | G38: 0286 LINGERIE BERCY 2 | H38: CHARENTON LE PONT | I38: 94 | J38: 3 | K38: 10 | L38: 9.42
A39: TOTAL FACTURé | M39: =L37+L38 -> 20.39
B40: 10.04.2017 | I40: 26147 | J40: 26147 | K40: =IF(ISNUMBER(B40),"",CONVERT(J40,"g","kg")) -> 26.147 | M40: =IF(K40=0,0,IF(K40<=9,7.55,IF(K40<=15,9.42,IF(K40<=20,10.97,IF(K40<=27,12.25,IF(K40<=34,13.62,IF(K40<=39,15.33,IF(K40<=44,17.21,IF(K40<=49,17.31,IF(K40<=59,17.51,IF(K40<=69,20,IF(K40<=79,23.21,IF(K40<=89,22.7,IF(K40<=99.99,22.59,IF(K40<=499,22.54,IF(K40<=999,22.44,IF(K40<=25000,21.42,""))))))))))))))))) -> 12.25
A41: DIFFERENCE | N41: =M40-M39 -> -8.14
A44: 70400101 | B44: 11 | C44: 04 | D44: 17 | E44: 1231338 | F44: ETAM PAP | G44: 0286 ETAM PAP BERCY 2 | H44: CHARENTON LE PONT | I44: 94 | J44: 2 | K44: 11 | L44: 9.42
A45: 70400082 | B45: 11 | C45: 04 | D45: 17 | E45: 1231455 | F45: ETAM LINGERIE | G45: 0286 LINGERIE BERCY 2 | H45: CHARENTON LE PONT | I45: 94 | J45: 4 | K45: 11 | L45: 9.42
A46: TOTAL FACTURé | M46: =L44+L45 -> 18.84
B47: 11.04.2017 | I47: 22233 | J47: 22233 | K47: =IF(ISNUMBER(B47),"",CONVERT(J47,"g","kg")) -> 22.233 | M47: =IF(K47=0,0,IF(K47<=9,7.55,IF(K47<=15,9.42,IF(K47<=20,10.97,IF(K47<=27,12.25,IF(K47<=34,13.62,IF(K47<=39,15.33,IF(K47<=44,17.21,IF(K47<=49,17.31,IF(K47<=59,17.51,IF(K47<=69,20,IF(K47<=79,23.21,IF(K47<=89,22.7,IF(K47<=99.99,22.59,IF(K47<=499,22.54,IF(K47<=999,22.44,IF(K47<=25000,21.42,""))))))))))))))))) -> 12.25
A48: DIFFERENCE | N48: =M47-M46 -> -6.59
A51: 70400101 | B51: 12 | C51: 04 | D51: 17 | E51: 1232299 | F51: ETAM PAP | G51: 0286 ETAM PAP BERCY 2 | H51: CHARENTON LE PONT | I51: 94 | J51: 3 | K51: 21 | L51: 12.25
A52: 70400082 | B52: 12 | C52: 04 | D52: 17 | E52: 1232761 | F52: ETAM LINGERIE | G52: 0286 LINGERIE BERCY 2 | H52: CHARENTON LE PONT | I52: 94 | J52: 3 | K52: 12 | L52: 9.42
A53: TOTAL FACTURé | M53: =L51+L52 -> 21.67
B54: 12.04.2017 | I54: 35514 | J54: 35514 | K54: =IF(ISNUMBER(B54),"",CONVERT(J54,"g","kg")) -> 35.514 | M54: =IF(K54=0,0,IF(K54<=9,7.55,IF(K54<=15,9.42,IF(K54<=20,10.97,IF(K54<=27,12.25,IF(K54<=34,13.62,IF(K54<=39,15.33,IF(K54<=44,17.21,IF(K54<=49,17.31,IF(K54<=59,17.51,IF(K54<=69,20,IF(K54<=79,23.21,IF(K54<=89,22.7,IF(K54<=99.99,22.59,IF(K54<=499,22.54,IF(K54<=999,22.44,IF(K54<=25000,21.42,""))))))))))))))))) -> 15.33
...

Sheet 1026
A1: FACTURE | B1: JOUR | C1: MOIS | D1: ANNEE | E1: RECEP | F1: EXP | G1: DEST | H1: VILLES | I1: DEPTS | J1: COLIS | K1: POIDS | L1: TARIFS
A2: 70400101 | B2: 03 | C2: 04 | D2: 17 | E2: 1223258 | F2: INVESTINT PAP | G2: 1026 ETAM PAP ARGENTEUIL | H2: ARGENTEUIL | I2: 95 | J2: 7 | K2: 35 | L2: 15.33
A3: 70400082 | B3: 03 | C3: 04 | D3: 17 | E3: 1223037 | F3: ETAM LINGERIE | G3: 1026 LINGERIE ARGENTEUIL | H3: ARGENTEUIL | I3: 95 | J3: 4 | K3: 20 | L3: 12.25
A4: TOTAL FACTURé | M4: =L2+L3 -> 27.58
B5: 03.04.2017 | I5: 77187 | J5: 77187 | K5: =IF(ISNUMBER(B5),"",CONVERT(J5,"g","kg")) -> 77.187 | M5: =IF(K5=0,0,IF(K5<=9,7.55,IF(K5<=15,9.42,IF(K5<=20,10.97,IF(K5<=27,12.25,IF(K5<=34,13.62,IF(K5<=39,15.33,IF(K5<=44,17.21,IF(K5<=49,17.31,IF(K5<=59,17.51,IF(K5<=69,20,IF(K5<=79,23.21,IF(K5<=89,22.7,IF(K5<=99.99,22.59,IF(K5<=499,22.54,IF(K5<=999,22.44,IF(K5<=25000,21.42,""))))))))))))))))) -> 23.21
A6: DIFFERENCE | N6: =M5-M4 -> -4.37
A9: 70400101 | B9: 04 | C9: 04 | D9: 17 | E9: 1224666 | F9: INVESTINT PAP | G9: 1026 ETAM PAP ARGENTEUIL | H9: ARGENTEUIL | I9: 95 | J9: 8 | K9: 80 | L9: 22.7
A10: 70400082 | B10: 04 | C10: 04 | D10: 17 | E10: 1224500 | F10: ETAM LINGERIE | G10: 1026 LINGERIE ARGENTEUIL | H10: ARGENTEUIL | I10: 95 | J10: 8 | K10: 39 | L10: 17.21
A11: TOTAL FACTURé | M11: =L9+L10 -> 39.91
B12: 04.04.2017 | I12: 98336 | J12: 98336 | K12: =IF(ISNUMBER(B12),"",CONVERT(J12,"g","kg")) -> 98.336 | M12: =IF(K12=0,0,IF(K12<=9,7.55,IF(K12<=15,9.42,IF(K12<=20,10.97,IF(K12<=27,12.25,IF(K12<=34,13.62,IF(K12<=39,15.33,IF(K12<=44,17.21,IF(K12<=49,17.31,IF(K12<=59,17.51,IF(K12<=69,20,IF(K12<=79,23.21,IF(K12<=89,22.7,IF(K12<=99.99,22.59,IF(K12<=499,22.54,IF(K12<=999,22.44,IF(K12<=25000,21.42,""))))))))))))))))) -> 22.59
A13: DIFFERENCE | N13: =M12-M11 -> -17.32
A16: 70400101 | B16: 05 | C16: 04 | D16: 17 | E16: 1225838 | F16: INVESTINT PAP | G16: 1026 ETAM PAP ARGENTEUIL | H16: ARGENTEUIL | I16: 95 | J16: 3 | K16: 15 | L16: 9.42
A17: 70400082 | B17: 05 | C17: 04 | D17: 17 | E17: 1225635 | F17: ETAM LINGERIE | G17: 1026 LINGERIE ARGENTEUIL | H17: ARGENTEUIL | I17: 95 | J17: 4 | K17: 21 | L17: 12.25
A18: TOTAL FACTURé | M18: =L16+L17 -> 21.67
B19: 05.04.2017 | I19: 54580 | J19: 54580 | K19: =IF(ISNUMBER(B19),"",CONVERT(J19,"g","kg")) -> 54.58 | M19: =IF(K19=0,0,IF(K19<=9,7.55,IF(K19<=15,9.42,IF(K19<=20,10.97,IF(K19<=27,12.25,IF(K19<=34,13.62,IF(K19<=39,15.33,IF(K19<=44,17.21,IF(K19<=49,17.31,IF(K19<=59,17.51,IF(K19<=69,20,IF(K19<=79,23.21,IF(K19<=89,22.7,IF(K19<=99.99,22.59,IF(K19<=499,22.54,IF(K19<=999,22.44,IF(K19<=25000,21.42,""))))))))))))))))) -> 17.51
A20: DIFFERENCE | N20: =M19-M18 -> -4.16
A23: 70400101 | B23: 06 | C23: 04 | D23: 17 | E23: 1226880 | F23: ETAM PAP | G23: 1026 ETAM PAP ARGENTEUIL | H23: ARGENTEUIL | I23: 95 | J23: 7 | K23: 51 | L23: 17.51
A24: 70400082 | B24: 06 | C24: 04 | D24: 17 | E24: 1227050 | F24: ETAM LINGERIE | G24: 1026 LINGERIE ARGENTEUIL | H24: ARGENTEUIL | I24: 95 | J24: 6 | K24: 47 | L24: 17.31
A25: TOTAL FACTURé | M25: =L23+L24 -> 34.82
B26: 06.04.2017 | I26: 98652 | J26: 98652 | K26: =IF(ISNUMBER(B26),"",CONVERT(J26,"g","kg")) -> 98.652 | M26: =IF(K26=0,0,IF(K26<=9,7.55,IF(K26<=15,9.42,IF(K26<=20,10.97,IF(K26<=27,12.25,IF(K26<=34,13.62,IF(K26<=39,15.33,IF(K26<=44,17.21,IF(K26<=49,17.31,IF(K26<=59,17.51,IF(K26<=69,20,IF(K26<=79,23.21,IF(K26<=89,22.7,IF(K26<=99.99,22.59,IF(K26<=499,22.54,IF(K26<=999,22.44,IF(K26<=25000,21.42,""))))))))))))))))) -> 22.59
A27: DIFFERENCE | N27: =M26-M25 -> -12.23
A30: 70400101 | B30: 07 | C30: 04 | D30: 17 | E30: 1228175 | F30: ETAM PAP | G30: 1026 ETAM PAP ARGENTEUIL | H30: ARGENTEUIL | I30: 95 | J30: 5 | K30: 49 | L30: 17.31
A31: 70400082 | B31: 07 | C31: 04 | D31: 17 | E31: 1228536 | F31: ETAM LINGERIE | G31: 1026 LINGERIE ARGENTEUIL | H31: ARGENTEUIL | I31: 95 | J31: 4 | K31: 12 | L31: 9.42
A32: TOTAL FACTURé | M32: =L30+L31 -> 26.73
B33: 07.04.2017 | I33: 62625 | J33: 62625 | K33: =IF(ISNUMBER(B33),"",CONVERT(J33,"g","kg")) -> 62.625 | M33: =IF(K33=0,0,IF(K33<=9,7.55,IF(K33<=15,9.42,IF(K33<=20,10.97,IF(K33<=27,12.25,IF(K33<=34,13.62,IF(K33<=39,15.33,IF(K33<=44,17.21,IF(K33<=49,17.31,IF(K33<=59,17.51,IF(K33<=69,20,IF(K33<=79,23.21,IF(K33<=89,22.7,IF(K33<=99.99,22.59,IF(K33<=499,22.54,IF(K33<=999,22.44,IF(K33<=25000,21.42,""))))))))))))))))) -> 20
A34: DIFFERENCE | N34: =M33-M32 -> -6.73
A37: 70400101 | B37: 10 | C37: 04 | D37: 17 | E37: 1229862 | F37: ETAM PAP | G37: 1026 ETAM PAP ARGENTEUIL | H37: ARGENTEUIL | I37: 95 | J37: 4 | K37: 38 | L37: 15.33
A38: 70400082 | B38: 10 | C38: 04 | D38: 17 | E38: 1230135 | F38: ETAM LINGERIE | G38: 1026 LINGERIE ARGENTEUIL | H38: ARGENTEUIL | I38: 95 | J38: 4 | K38: 18 | L38: 10.97
A39: TOTAL FACTURé | M39: =L37+L38 -> 26.3
B40: 10.04.2017 | I40: 58538 | J40: 58538 | K40: =IF(ISNUMBER(B40),"",CONVERT(J40,"g","kg")) -> 58.538 | M40: =IF(K40=0,0,IF(K40<=9,7.55,IF(K40<=15,9.42,IF(K40<=20,10.97,IF(K40<=27,12.25,IF(K40<=34,13.62,IF(K40<=39,15.33,IF(K40<=44,17.21,IF(K40<=49,17.31,IF(K40<=59,17.51,IF(K40<=69,20,IF(K40<=79,23.21,IF(K40<=89,22.7,IF(K40<=99.99,22.59,IF(K40<=499,22.54,IF(K40<=999,22.44,IF(K40<=25000,21.42,""))))))))))))))))) -> 17.51
A41: DIFFERENCE | N41: =M40-M39 -> -8.79
A44: 70400101 | B44: 11 | C44: 04 | D44: 17 | E44: 1231340 | F44: ETAM PAP | G44: 1026 ETAM PAP ARGENTEUIL | H44: ARGENTEUIL | I44: 95 | J44: 4 | K44: 30 | L44: 13.62
A45: 70400082 | B45: 11 | C45: 04 | D45: 17 | E45: 1231460 | F45: ETAM LINGERIE | G45: 1026 LINGERIE ARGENTEUIL | H45: ARGENTEUIL | I45: 95 | J45: 5 | K45: 20 | L45: 12.25
A46: TOTAL FACTURé | M46: =L44+L45 -> 25.87
B47: 11.04.2017 | I47: 52617 | J47: 52617 | K47: =IF(ISNUMBER(B47),"",CONVERT(J47,"g","kg")) -> 52.617 | M47: =IF(K47=0,0,IF(K47<=9,7.55,IF(K47<=15,9.42,IF(K47<=20,10.97,IF(K47<=27,12.25,IF(K47<=34,13.62,IF(K47<=39,15.33,IF(K47<=44,17.21,IF(K47<=49,17.31,IF(K47<=59,17.51,IF(K47<=69,20,IF(K47<=79,23.21,IF(K47<=89,22.7,IF(K47<=99.99,22.59,IF(K47<=499,22.54,IF(K47<=999,22.44,IF(K47<=25000,21.42,""))))))))))))))))) -> 17.51
A48: DIFFERENCE | N48: =M47-M46 -> -8.36
A51: 70400101 | B51: 12 | C51: 04 | D51: 17 | E51: 1232301 | F51: ETAM PAP | G51: 1026 ETAM PAP ARGENTEUIL | H51: ARGENTEUIL | I51: 95 | J51: 3 | K51: 24 | L51: 12.25
A52: 70400082 | B52: 12 | C52: 04 | D52: 17 | E52: 1232766 | F52: ETAM LINGERIE | G52: 1026 LINGERIE ARGENTEUIL | H52: ARGENTEUIL | I52: 95 | J52: 4 | K52: 17 | L52: 10.97
A53: TOTAL FACTURé | M53: =L51+L52 -> 23.22
B54: 12.04.2017 | I54: 42454 | J54: 42454 | K54: =IF(ISNUMBER(B54),"",CONVERT(J54,"g","kg")) -> 42.454 | M54: =IF(K54=0,0,IF(K54<=9,7.55,IF(K54<=15,9.42,IF(K54<=20,10.97,IF(K54<=27,12.25,IF(K54<=34,13.62,IF(K54<=39,15.33,IF(K54<=44,17.21,IF(K54<=49,17.31,IF(K54<=59,17.51,IF(K54<=69,20,IF(K54<=79,23.21,IF(K54<=89,22.7,IF(K54<=99.99,22.59,IF(K54<=499,22.54,IF(K54<=999,22.44,IF(K54<=25000,21.42,""))))))))))))))))) -> 17.21
...

Sheet 1028
A1: FACTURE | B1: JOUR | C1: MOIS | D1: ANNEE | E1: RECEP | F1: EXP | G1: DEST | H1: VILLES | I1: DEPTS | J1: COLIS | K1: POIDS | L1: TARIFS
A2: 70400082 | B2: 03 | C2: 04 | D2: 17 | E2: 1222999 | F2: ETAM LINGERIE | G2: 1028 LINGERIE CARRE SENART | H2: LIEUSAINT | I2: 77 | J2: 6 | K2: 36 | L2: 15.33
A3: 70400101 | B3: 03 | C3: 04 | D3: 17 | E3: 1223240 | F3: INVESTINT PAP | G3: 1028 ETAM PAP CARRE SENART | H3: LIEUSAINT | I3: 77 | J3: 9 | K3: 45 | L3: 17.31
A4: TOTAL FACTURé | M4: =L2+L3 -> 32.64
B5: 03.04.2017 | I5: 119119 | J5: 119119 | K5: =IF(ISNUMBER(B5),"",CONVERT(J5,"g","kg")) -> 119.119 | M5: =IF(K5=0,0,IF(K5<=9,7.55,IF(K5<=15,9.42,IF(K5<=20,10.97,IF(K5<=27,12.25,IF(K5<=34,13.62,IF(K5<=39,15.33,IF(K5<=44,17.21,IF(K5<=49,17.31,IF(K5<=59,17.51,IF(K5<=69,20,IF(K5<=79,23.21,IF(K5<=89,22.7,IF(K5<=99.99,22.59,IF(K5<=499,22.54,IF(K5<=999,22.44,IF(K5<=25000,21.42,""))))))))))))))))) -> 22.54
A6: DIFFERENCE | N6: =M5-M4 -> -10.1
A9: 70400082 | B9: 04 | C9: 04 | D9: 17 | E9: 1224463 | F9: ETAM LINGERIE | G9: 1028 LINGERIE CARRE SENART | H9: LIEUSAINT | I9: 77 | J9: 16 | K9: 113 | L9: 25.47
A10: 70400101 | B10: 04 | C10: 04 | D10: 17 | E10: 1224672 | F10: INVESTINT PAP | G10: 1028 ETAM PAP CARRE SENART | H10: LIEUSAINT | I10: 77 | J10: 11 | K10: 110 | L10: 24.79
A11: TOTAL FACTURé | M11: =L9+L10 -> 50.26
B12: 04.04.2017 | I12: 209433 | J12: 209433 | K12: =IF(ISNUMBER(B12),"",CONVERT(J12,"g","kg")) -> 209.433 | M12: =IF(K12=0,0,IF(K12<=9,7.55,IF(K12<=15,9.42,IF(K12<=20,10.97,IF(K12<=27,12.25,IF(K12<=34,13.62,IF(K12<=39,15.33,IF(K12<=44,17.21,IF(K12<=49,17.31,IF(K12<=59,17.51,IF(K12<=69,20,IF(K12<=79,23.21,IF(K12<=89,22.7,IF(K12<=99.99,22.59,IF(K12<=499,22.54,IF(K12<=999,22.44,IF(K12<=25000,21.42,""))))))))))))))))) -> 22.54
A13: DIFFERENCE | N13: =M12-M11 -> -27.72
A16: 70400082 | B16: 05 | C16: 04 | D16: 17 | E16: 1225601 | F16: ETAM LINGERIE | G16: 1028 LINGERIE CARRE SENART | H16: LIEUSAINT | I16: 77 | J16: 8 | K16: 48 | L16: 17.31
A17: 70400101 | B17: 05 | C17: 04 | D17: 17 | E17: 1225833 | F17: INVESTINT PAP | G17: 1028 ETAM PAP CARRE SENART | H17: LIEUSAINT | I17: 77 | J17: 5 | K17: 25 | L17: 12.25
A18: TOTAL FACTURé | M18: =L16+L17 -> 29.56
B19: 05.04.2017 | I19: 99541 | J19: 99541 | K19: =IF(ISNUMBER(B19),"",CONVERT(J19,"g","kg")) -> 99.541 | M19: =IF(K19=0,0,IF(K19<=9,7.55,IF(K19<=15,9.42,IF(K19<=20,10.97,IF(K19<=27,12.25,IF(K19<=34,13.62,IF(K19<=39,15.33,IF(K19<=44,17.21,IF(K19<=49,17.31,IF(K19<=59,17.51,IF(K19<=69,20,IF(K19<=79,23.21,IF(K19<=89,22.7,IF(K19<=99.99,22.59,IF(K19<=499,22.54,IF(K19<=999,22.44,IF(K19<=25000,21.42,""))))))))))))))))) -> 22.59
A20: DIFFERENCE | N20: =M19-M18 -> -6.97
A23: 70400082 | B23: 06 | C23: 04 | D23: 17 | E23: 1227016 | F23: ETAM LINGERIE | G23: 1028 LINGERIE CARRE SENART | H23: LIEUSAINT | I23: 77 | J23: 10 | K23: 62 | L23: 20
A24: 70400101 | B24: 06 | C24: 04 | D24: 17 | E24: 1226857 | F24: ETAM PAP | G24: 1028 ETAM PAP CARRE SENART | H24: LIEUSAINT | I24: 77 | J24: 8 | K24: 83 | L24: 22.7
A25: TOTAL FACTURé | M25: =L23+L24 -> 42.7
B26: 06.04.2017 | I26: 146656 | J26: 146656 | K26: =IF(ISNUMBER(B26),"",CONVERT(J26,"g","kg")) -> 146.656 | M26: =IF(K26=0,0,IF(K26<=9,7.55,IF(K26<=15,9.42,IF(K26<=20,10.97,IF(K26<=27,12.25,IF(K26<=34,13.62,IF(K26<=39,15.33,IF(K26<=44,17.21,IF(K26<=49,17.31,IF(K26<=59,17.51,IF(K26<=69,20,IF(K26<=79,23.21,IF(K26<=89,22.7,IF(K26<=99.99,22.59,IF(K26<=499,22.54,IF(K26<=999,22.44,IF(K26<=25000,21.42,""))))))))))))))))) -> 22.54
A27: DIFFERENCE | N27: =M26-M25 -> -20.16
A30: 70400082 | B30: 07 | C30: 04 | D30: 17 | E30: 1228503 | F30: ETAM LINGERIE | G30: 1028 LINGERIE CARRE SENART | H30: LIEUSAINT | I30: 77 | J30: 6 | K30: 35 | L30: 15.33
A31: 70400101 | B31: 07 | C31: 04 | D31: 17 | E31: 1228153 | F31: ETAM PAP | G31: 1028 ETAM PAP CARRE SENART | H31: LIEUSAINT | I31: 77 | J31: 4 | K31: 38 | L31: 15.33
A32: TOTAL FACTURé | M32: =L30+L31 -> 30.66
B33: 07.04.2017 | I33: 75563 | J33: 75563 | K33: =IF(ISNUMBER(B33),"",CONVERT(J33,"g","kg")) -> 75.563 | M33: =IF(K33=0,0,IF(K33<=9,7.55,IF(K33<=15,9.42,IF(K33<=20,10.97,IF(K33<=27,12.25,IF(K33<=34,13.62,IF(K33<=39,15.33,IF(K33<=44,17.21,IF(K33<=49,17.31,IF(K33<=59,17.51,IF(K33<=69,20,IF(K33<=79,23.21,IF(K33<=89,22.7,IF(K33<=99.99,22.59,IF(K33<=499,22.54,IF(K33<=999,22.44,IF(K33<=25000,21.42,""))))))))))))))))) -> 23.21
A34: DIFFERENCE | N34: =M33-M32 -> -7.45
A37: 70400082 | B37: 10 | C37: 04 | D37: 17 | E37: 1230101 | F37: ETAM LINGERIE | G37: 1028 LINGERIE CARRE SENART | H37: LIEUSAINT | I37: 77 | J37: 8 | K37: 46 | L37: 17.31
A38: 70400101 | B38: 10 | C38: 04 | D38: 17 | E38: 1229838 | F38: ETAM PAP | G38: 1028 ETAM PAP CARRE SENART | H38: LIEUSAINT | I38: 77 | J38: 4 | K38: 37 | L38: 15.33
A39: TOTAL FACTURé | M39: =L37+L38 -> 32.64
B40: 10.04.2017 | I40: 90842 | J40: 90842 | K40: =IF(ISNUMBER(B40),"",CONVERT(J40,"g","kg")) -> 90.842 | M40: =IF(K40=0,0,IF(K40<=9,7.55,IF(K40<=15,9.42,IF(K40<=20,10.97,IF(K40<=27,12.25,IF(K40<=34,13.62,IF(K40<=39,15.33,IF(K40<=44,17.21,IF(K40<=49,17.31,IF(K40<=59,17.51,IF(K40<=69,20,IF(K40<=79,23.21,IF(K40<=89,22.7,IF(K40<=99.99,22.59,IF(K40<=499,22.54,IF(K40<=999,22.44,IF(K40<=25000,21.42,""))))))))))))))))) -> 22.59
A41: DIFFERENCE | N41: =M40-M39 -> -10.05
A44: 70400082 | B44: 11 | C44: 04 | D44: 17 | E44: 1231431 | F44: ETAM LINGERIE | G44: 1028 LINGERIE CARRE SENART | H44: LIEUSAINT | I44: 77 | J44: 14 | K44: 75 | L44: 23.21
A45: 70400101 | B45: 11 | C45: 04 | D45: 17 | E45: 1231317 | F45: ETAM PAP | G45: 1028 ETAM PAP CARRE SENART | H45: LIEUSAINT | I45: 77 | J45: 8 | K45: 78 | L45: 23.21
A46: TOTAL FACTURé | M46: =L44+L45 -> 46.42
B47: 11.04.2017 | I47: 156072 | J47: 156072 | K47: =IF(ISNUMBER(B47),"",CONVERT(J47,"g","kg")) -> 156.072 | M47: =IF(K47=0,0,IF(K47<=9,7.55,IF(K47<=15,9.42,IF(K47<=20,10.97,IF(K47<=27,12.25,IF(K47<=34,13.62,IF(K47<=39,15.33,IF(K47<=44,17.21,IF(K47<=49,17.31,IF(K47<=59,17.51,IF(K47<=69,20,IF(K47<=79,23.21,IF(K47<=89,22.7,IF(K47<=99.99,22.59,IF(K47<=499,22.54,IF(K47<=999,22.44,IF(K47<=25000,21.42,""))))))))))))))))) -> 22.54
A48: DIFFERENCE | N48: =M47-M46 -> -23.88
A51: 70400082 | B51: 12 | C51: 04 | D51: 17 | E51: 1232732 | F51: ETAM LINGERIE | G51: 1028 LINGERIE CARRE SENART | H51: LIEUSAINT | I51: 77 | J51: 24 | K51: 151 | L51: 34.04
A52: 70400101 | B52: 12 | C52: 04 | D52: 17 | E52: 1232277 | F52: ETAM PAP | G52: 1028 ETAM PAP CARRE SENART | H52: LIEUSAINT | I52: 77 | J52: 3 | K52: 31 | L52: 13.62
A53: TOTAL FACTURé | M53: =L51+L52 -> 47.66
B54: 12.04.2017 | I54: 182822 | J54: 182822 | K54: =IF(ISNUMBER(B54),"",CONVERT(J54,"g","kg")) -> 182.822 | M54: =IF(K54=0,0,IF(K54<=9,7.55,IF(K54<=15,9.42,IF(K54<=20,10.97,IF(K54<=27,12.25,IF(K54<=34,13.62,IF(K54<=39,15.33,IF(K54<=44,17.21,IF(K54<=49,17.31,IF(K54<=59,17.51,IF(K54<=69,20,IF(K54<=79,23.21,IF(K54<=89,22.7,IF(K54<=99.99,22.59,IF(K54<=499,22.54,IF(K54<=999,22.44,IF(K54<=25000,21.42,""))))))))))))))))) -> 22.54
...

Sheet 1113
A1: FACTURE | B1: JOUR | C1: MOIS | D1: ANNEE | E1: RECEP | F1: EXP | G1: DEST | H1: VILLES | I1: DEPTS | J1: COLIS | K1: POIDS | L1: TARIFS
A2: 70400101 | B2: 03 | C2: 04 | D2: 17 | E2: 1223261 | F2: INVESTINT PAP | G2: 1113 ETAM PAP ENGHIEN | H2: ENGHIEN LES BAINS | I2: 95 | J2: 7 | K2: 35 | L2: 15.33
A3: 70400082 | B3: 03 | C3: 04 | D3: 17 | E3: 1223038 | F3: ETAM LINGERIE | G3: 1113 LINGERIE ENGHIEN | H3: ENGHIEN LES BAINS | I3: 95 | J3: 6 | K3: 34 | L3: 15.33
A4: TOTAL FACTURé | M4: =L2+L3 -> 30.66
B5: 03.04.2017 | I5: 93279 | J5: 93279 | K5: =IF(ISNUMBER(B5),"",CONVERT(J5,"g","kg")) -> 93.279 | M5: =IF(K5=0,0,IF(K5<=9,7.55,IF(K5<=15,9.42,IF(K5<=20,10.97,IF(K5<=27,12.25,IF(K5<=34,13.62,IF(K5<=39,15.33,IF(K5<=44,17.21,IF(K5<=49,17.31,IF(K5<=59,17.51,IF(K5<=69,20,IF(K5<=79,23.21,IF(K5<=89,22.7,IF(K5<=99.99,22.59,IF(K5<=499,22.54,IF(K5<=999,22.44,IF(K5<=25000,21.42,""))))))))))))))))) -> 22.59
A6: DIFFERENCE | N6: =M5-M4 -> -8.07
A9: 70400101 | B9: 04 | C9: 04 | D9: 17 | E9: 1224675 | F9: INVESTINT PAP | G9: 1113 ETAM PAP ENGHIEN | H9: ENGHIEN LES BAINS | I9: 95 | J9: 7 | K9: 70 | L9: 23.21
A10: 70400082 | B10: 04 | C10: 04 | D10: 17 | E10: 1224493 | F10: ETAM LINGERIE | G10: 1113 LINGERIE ENGHIEN | H10: ENGHIEN LES BAINS | I10: 95 | J10: 5 | K10: 28 | L10: 13.62
A11: TOTAL FACTURé | M11: =L9+L10 -> 36.83
B12: 04.04.2017 | I12: 82951 | J12: 82951 | K12: =IF(ISNUMBER(B12),"",CONVERT(J12,"g","kg")) -> 82.951 | M12: =IF(K12=0,0,IF(K12<=9,7.55,IF(K12<=15,9.42,IF(K12<=20,10.97,IF(K12<=27,12.25,IF(K12<=34,13.62,IF(K12<=39,15.33,IF(K12<=44,17.21,IF(K12<=49,17.31,IF(K12<=59,17.51,IF(K12<=69,20,IF(K12<=79,23.21,IF(K12<=89,22.7,IF(K12<=99.99,22.59,IF(K12<=499,22.54,IF(K12<=999,22.44,IF(K12<=25000,21.42,""))))))))))))))))) -> 22.7
A13: DIFFERENCE | N13: =M12-M11 -> -14.13
A16: 70400101 | B16: 05 | C16: 04 | D16: 17 | E16: 1225840 | F16: INVESTINT PAP | G16: 1113 ETAM PAP ENGHIEN | H16: ENGHIEN LES BAINS | I16: 95 | J16: 5 | K16: 25 | L16: 12.25
A17: 70400082 | B17: 05 | C17: 04 | D17: 17 | E17: 1225636 | F17: ETAM LINGERIE | G17: 1113 LINGERIE ENGHIEN | H17: ENGHIEN LES BAINS | I17: 95 | J17: 4 | K17: 19 | L17: 10.97
A18: TOTAL FACTURé | M18: =L16+L17 -> 23.22
B19: 05.04.2017 | I19: 61103 | J19: 61103 | K19: =IF(ISNUMBER(B19),"",CONVERT(J19,"g","kg")) -> 61.103 | M19: =IF(K19=0,0,IF(K19<=9,7.55,IF(K19<=15,9.42,IF(K19<=20,10.97,IF(K19<=27,12.25,IF(K19<=34,13.62,IF(K19<=39,15.33,IF(K19<=44,17.21,IF(K19<=49,17.31,IF(K19<=59,17.51,IF(K19<=69,20,IF(K19<=79,23.21,IF(K19<=89,22.7,IF(K19<=99.99,22.59,IF(K19<=499,22.54,IF(K19<=999,22.44,IF(K19<=25000,21.42,""))))))))))))))))) -> 20
A20: DIFFERENCE | N20: =M19-M18 -> -3.22
A23: 70400101 | B23: 06 | C23: 04 | D23: 17 | E23: 1226881 | F23: ETAM PAP | G23: 1113 ETAM PAP ENGHIEN | H23: ENGHIEN LES BAINS | I23: 95 | J23: 5 | K23: 43 | L23: 17.21
A24: 70400082 | B24: 06 | C24: 04 | D24: 17 | E24: 1227053 | F24: ETAM LINGERIE | G24: 1113 LINGERIE ENGHIEN | H24: ENGHIEN LES BAINS | I24: 95 | J24: 5 | K24: 29 | L24: 13.62
A25: TOTAL FACTURé | M25: =L23+L24 -> 30.83
B26: 06.04.2017 | I26: 75032 | J26: 75032 | K26: =IF(ISNUMBER(B26),"",CONVERT(J26,"g","kg")) -> 75.032 | M26: =IF(K26=0,0,IF(K26<=9,7.55,IF(K26<=15,9.42,IF(K26<=20,10.97,IF(K26<=27,12.25,IF(K26<=34,13.62,IF(K26<=39,15.33,IF(K26<=44,17.21,IF(K26<=49,17.31,IF(K26<=59,17.51,IF(K26<=69,20,IF(K26<=79,23.21,IF(K26<=89,22.7,IF(K26<=99.99,22.59,IF(K26<=499,22.54,IF(K26<=999,22.44,IF(K26<=25000,21.42,""))))))))))))))))) -> 23.21
A27: DIFFERENCE | N27: =M26-M25 -> -7.62
A30: 70400101 | B30: 07 | C30: 04 | D30: 17 | E30: 1228176 | F30: ETAM PAP | G30: 1113 ETAM PAP ENGHIEN | H30: ENGHIEN LES BAINS | I30: 95 | J30: 4 | K30: 33 | L30: 13.62
A31: 70400082 | B31: 07 | C31: 04 | D31: 17 | E31: 1228537 | F31: ETAM LINGERIE | G31: 1113 LINGERIE ENGHIEN | H31: ENGHIEN LES BAINS | I31: 95 | J31: 4 | K31: 12 | L31: 9.42
A32: TOTAL FACTURé | M32: =L30+L31 -> 23.04
B33: 07.04.2017 | I33: 45988 | J33: 45988 | K33: =IF(ISNUMBER(B33),"",CONVERT(J33,"g","kg")) -> 45.988 | M33: =IF(K33=0,0,IF(K33<=9,7.55,IF(K33<=15,9.42,IF(K33<=20,10.97,IF(K33<=27,12.25,IF(K33<=34,13.62,IF(K33<=39,15.33,IF(K33<=44,17.21,IF(K33<=49,17.31,IF(K33<=59,17.51,IF(K33<=69,20,IF(K33<=79,23.21,IF(K33<=89,22.7,IF(K33<=99.99,22.59,IF(K33<=499,22.54,IF(K33<=999,22.44,IF(K33<=25000,21.42,""))))))))))))))))) -> 17.31
A34: DIFFERENCE | N34: =M33-M32 -> -5.73
A37: 70400101 | B37: 10 | C37: 04 | D37: 17 | E37: 1229863 | F37: ETAM PAP | G37: 1113 ETAM PAP ENGHIEN | H37: ENGHIEN LES BAINS | I37: 95 | J37: 4 | K37: 36 | L37: 15.33
A38: 70400082 | B38: 10 | C38: 04 | D38: 17 | E38: 1230136 | F38: ETAM LINGERIE | G38: 1113 LINGERIE ENGHIEN | H38: ENGHIEN LES BAINS | I38: 95 | J38: 5 | K38: 22 | L38: 12.25
A39: TOTAL FACTURé | M39: =L37+L38 -> 27.58
B40: 10.04.2017 | I40: 64713 | J40: 64713 | K40: =IF(ISNUMBER(B40),"",CONVERT(J40,"g","kg")) -> 64.713 | M40: =IF(K40=0,0,IF(K40<=9,7.55,IF(K40<=15,9.42,IF(K40<=20,10.97,IF(K40<=27,12.25,IF(K40<=34,13.62,IF(K40<=39,15.33,IF(K40<=44,17.21,IF(K40<=49,17.31,IF(K40<=59,17.51,IF(K40<=69,20,IF(K40<=79,23.21,IF(K40<=89,22.7,IF(K40<=99.99,22.59,IF(K40<=499,22.54,IF(K40<=999,22.44,IF(K40<=25000,21.42,""))))))))))))))))) -> 20
A41: DIFFERENCE | N41: =M40-M39 -> -7.58
A44: 70400101 | B44: 11 | C44: 04 | D44: 17 | E44: 1231341 | F44: ETAM PAP | G44: 1113 ETAM PAP ENGHIEN | H44: ENGHIEN LES BAINS | I44: 95 | J44: 4 | K44: 32 | L44: 13.62
A45: 70400082 | B45: 11 | C45: 04 | D45: 17 | E45: 1231461 | F45: ETAM LINGERIE | G45: 1113 LINGERIE ENGHIEN | H45: ENGHIEN LES BAINS | I45: 95 | J45: 4 | K45: 17 | L45: 10.97
A46: TOTAL FACTURé | M46: =L44+L45 -> 24.59
B47: 11.04.2017 | I47: 51175 | J47: 51175 | K47: =IF(ISNUMBER(B47),"",CONVERT(J47,"g","kg")) -> 51.175 | M47: =IF(K47=0,0,IF(K47<=9,7.55,IF(K47<=15,9.42,IF(K47<=20,10.97,IF(K47<=27,12.25,IF(K47<=34,13.62,IF(K47<=39,15.33,IF(K47<=44,17.21,IF(K47<=49,17.31,IF(K47<=59,17.51,IF(K47<=69,20,IF(K47<=79,23.21,IF(K47<=89,22.7,IF(K47<=99.99,22.59,IF(K47<=499,22.54,IF(K47<=999,22.44,IF(K47<=25000,21.42,""))))))))))))))))) -> 17.51
A48: DIFFERENCE | N48: =M47-M46 -> -7.08
A51: 70400101 | B51: 12 | C51: 04 | D51: 17 | E51: 1232302 | F51: ETAM PAP | G51: 1113 ETAM PAP ENGHIEN | H51: ENGHIEN LES BAINS | I51: 95 | J51: 3 | K51: 26 | L51: 12.25
A52: 70400082 | B52: 12 | C52: 04 | D52: 17 | E52: 1232767 | F52: ETAM LINGERIE | G52: 1113 LINGERIE ENGHIEN | H52: ENGHIEN LES BAINS | I52: 95 | J52: 4 | K52: 19 | L52: 10.97
A53: TOTAL FACTURé | M53: =L51+L52 -> 23.22
B54: 12.04.2017 | I54: 49164 | J54: 49164 | K54: =IF(ISNUMBER(B54),"",CONVERT(J54,"g","kg")) -> 49.164 | M54: =IF(K54=0,0,IF(K54<=9,7.55,IF(K54<=15,9.42,IF(K54<=20,10.97,IF(K54<=27,12.25,IF(K54<=34,13.62,IF(K54<=39,15.33,IF(K54<=44,17.21,IF(K54<=49,17.31,IF(K54<=59,17.51,IF(K54<=69,20,IF(K54<=79,23.21,IF(K54<=89,22.7,IF(K54<=99.99,22.59,IF(K54<=499,22.54,IF(K54<=999,22.44,IF(K54<=25000,21.42,""))))))))))))))))) -> 17.51
...

Sheet 1447
A1: FACTURE | B1: JOUR | C1: MOIS | D1: ANNEE | E1: RECEP | F1: EXP | G1: DEST | H1: VILLES | I1: DEPTS | J1: COLIS | K1: POIDS | L1: TARIFS
A2: 70400101 | B2: 03 | C2: 04 | D2: 17 | E2: 1223262 | F2: INVESTINT PAP | G2: 1447 ETAM PAP L'ISLE ADAM | H2: ISLE ADAM | I2: 95 | J2: 5 | K2: 25 | L2: 12.25
A3: 70400082 | B3: 03 | C3: 04 | D3: 17 | E3: 1223039 | F3: ETAM LINGERIE | G3: 1447 LINGERIE L'ISLE ADAM | H3: ISLE ADAM | I3: 95 | J3: 5 | K3: 27 | L3: 13.62
A4: TOTAL FACTURé | M4: =L2+L3 -> 25.87
B5: 03.04.2017 | I5: 71178 | J5: 71178 | K5: =IF(ISNUMBER(B5),"",CONVERT(J5,"g","kg")) -> 71.178 | M5: =IF(K5=0,0,IF(K5<=9,7.55,IF(K5<=15,9.42,IF(K5<=20,10.97,IF(K5<=27,12.25,IF(K5<=34,13.62,IF(K5<=39,15.33,IF(K5<=44,17.21,IF(K5<=49,17.31,IF(K5<=59,17.51,IF(K5<=69,20,IF(K5<=79,23.21,IF(K5<=89,22.7,IF(K5<=99.99,22.59,IF(K5<=499,22.54,IF(K5<=999,22.44,IF(K5<=25000,21.42,""))))))))))))))))) -> 23.21
A6: DIFFERENCE | N6: =M5-M4 -> -2.66
A9: 70400101 | B9: 04 | C9: 04 | D9: 17 | E9: 1224676 | F9: INVESTINT PAP | G9: 1447 ETAM PAP L'ISLE ADAM | H9: ISLE ADAM | I9: 95 | J9: 7 | K9: 70 | L9: 23.21
A10: 70400082 | B10: 04 | C10: 04 | D10: 17 | E10: 1224494 | F10: ETAM LINGERIE | G10: 1447 LINGERIE L'ISLE ADAM | H10: ISLE ADAM | I10: 95 | J10: 6 | K10: 22 | L10: 12.25
A11: TOTAL FACTURé | M11: =L9+L10 -> 35.46
B12: 04.04.2017 | I12: 76583 | J12: 76583 | K12: =IF(ISNUMBER(B12),"",CONVERT(J12,"g","kg")) -> 76.583 | M12: =IF(K12=0,0,IF(K12<=9,7.55,IF(K12<=15,9.42,IF(K12<=20,10.97,IF(K12<=27,12.25,IF(K12<=34,13.62,IF(K12<=39,15.33,IF(K12<=44,17.21,IF(K12<=49,17.31,IF(K12<=59,17.51,IF(K12<=69,20,IF(K12<=79,23.21,IF(K12<=89,22.7,IF(K12<=99.99,22.59,IF(K12<=499,22.54,IF(K12<=999,22.44,IF(K12<=25000,21.42,""))))))))))))))))) -> 23.21
A13: DIFFERENCE | N13: =M12-M11 -> -12.25
A16: 70400101 | B16: 05 | C16: 04 | D16: 17 | E16: 1225834 | F16: INVESTINT PAP | G16: 1447 ETAM PAP L'ISLE ADAM | H16: ISLE ADAM | I16: 95 | J16: 5 | K16: 25 | L16: 12.25
A17: 70400082 | B17: 05 | C17: 04 | D17: 17 | E17: 1225637 | F17: ETAM LINGERIE | G17: 1447 LINGERIE L'ISLE ADAM | H17: ISLE ADAM | I17: 95 | J17: 3 | K17: 14 | L17: 9.42
A18: TOTAL FACTURé | M18: =L16+L17 -> 21.67
B19: 05.04.2017 | I19: 54032 | J19: 54032 | K19: =IF(ISNUMBER(B19),"",CONVERT(J19,"g","kg")) -> 54.032 | M19: =IF(K19=0,0,IF(K19<=9,7.55,IF(K19<=15,9.42,IF(K19<=20,10.97,IF(K19<=27,12.25,IF(K19<=34,13.62,IF(K19<=39,15.33,IF(K19<=44,17.21,IF(K19<=49,17.31,IF(K19<=59,17.51,IF(K19<=69,20,IF(K19<=79,23.21,IF(K19<=89,22.7,IF(K19<=99.99,22.59,IF(K19<=499,22.54,IF(K19<=999,22.44,IF(K19<=25000,21.42,""))))))))))))))))) -> 17.51
A20: DIFFERENCE | N20: =M19-M18 -> -4.16
A23: 70400101 | B23: 06 | C23: 04 | D23: 17 | E23: 1226882 | F23: ETAM PAP | G23: 1447 ETAM PAP L'ISLE ADAM | H23: ISLE ADAM | I23: 95 | J23: 3 | K23: 31 | L23: 13.62
A24: 70400082 | B24: 06 | C24: 04 | D24: 17 | E24: 1227055 | F24: ETAM LINGERIE | G24: 1447 LINGERIE L'ISLE ADAM | H24: ISLE ADAM | I24: 95 | J24: 5 | K24: 26 | L24: 12.25
A25: TOTAL FACTURé | M25: =L23+L24 -> 25.87
B26: 06.04.2017 | I26: 60011 | J26: 60011 | K26: =IF(ISNUMBER(B26),"",CONVERT(J26,"g","kg")) -> 60.011 | M26: =IF(K26=0,0,IF(K26<=9,7.55,IF(K26<=15,9.42,IF(K26<=20,10.97,IF(K26<=27,12.25,IF(K26<=34,13.62,IF(K26<=39,15.33,IF(K26<=44,17.21,IF(K26<=49,17.31,IF(K26<=59,17.51,IF(K26<=69,20,IF(K26<=79,23.21,IF(K26<=89,22.7,IF(K26<=99.99,22.59,IF(K26<=499,22.54,IF(K26<=999,22.44,IF(K26<=25000,21.42,""))))))))))))))))) -> 20
A27: DIFFERENCE | N27: =M26-M25 -> -5.87
A30: 70400101 | B30: 07 | C30: 04 | D30: 17 | E30: 1228177 | F30: ETAM PAP | G30: 1447 ETAM PAP L'ISLE ADAM | H30: ISLE ADAM | I30: 95 | J30: 5 | K30: 44 | L30: 17.31
A31: 70400082 | B31: 07 | C31: 04 | D31: 17 | E31: 1228538 | F31: ETAM LINGERIE | G31: 1447 LINGERIE L'ISLE ADAM | H31: ISLE ADAM | I31: 95 | J31: 3 | K31: 12 | L31: 9.42
A32: TOTAL FACTURé | M32: =L30+L31 -> 26.73
B33: 07.04.2017 | I33: 57454 | J33: 57454 | K33: =IF(ISNUMBER(B33),"",CONVERT(J33,"g","kg")) -> 57.454 | M33: =IF(K33=0,0,IF(K33<=9,7.55,IF(K33<=15,9.42,IF(K33<=20,10.97,IF(K33<=27,12.25,IF(K33<=34,13.62,IF(K33<=39,15.33,IF(K33<=44,17.21,IF(K33<=49,17.31,IF(K33<=59,17.51,IF(K33<=69,20,IF(K33<=79,23.21,IF(K33<=89,22.7,IF(K33<=99.99,22.59,IF(K33<=499,22.54,IF(K33<=999,22.44,IF(K33<=25000,21.42,""))))))))))))))))) -> 17.51
A34: DIFFERENCE | N34: =M33-M32 -> -9.22
A37: 70400101 | B37: 10 | C37: 04 | D37: 17 | E37: 1229864 | F37: ETAM PAP | G37: 1447 ETAM PAP L'ISLE ADAM | H37: ISLE ADAM | I37: 95 | J37: 3 | K37: 30 | L37: 13.62
A38: 70400082 | B38: 10 | C38: 04 | D38: 17 | E38: 1230137 | F38: ETAM LINGERIE | G38: 1447 LINGERIE L'ISLE ADAM | H38: ISLE ADAM | I38: 95 | J38: 4 | K38: 24 | L38: 12.25
A39: TOTAL FACTURé | M39: =L37+L38 -> 25.87
B40: 10.04.2017 | I40: 58387 | J40: 58387 | K40: =IF(ISNUMBER(B40),"",CONVERT(J40,"g","kg")) -> 58.387 | M40: =IF(K40=0,0,IF(K40<=9,7.55,IF(K40<=15,9.42,IF(K40<=20,10.97,IF(K40<=27,12.25,IF(K40<=34,13.62,IF(K40<=39,15.33,IF(K40<=44,17.21,IF(K40<=49,17.31,IF(K40<=59,17.51,IF(K40<=69,20,IF(K40<=79,23.21,IF(K40<=89,22.7,IF(K40<=99.99,22.59,IF(K40<=499,22.54,IF(K40<=999,22.44,IF(K40<=25000,21.42,""))))))))))))))))) -> 17.51
A41: DIFFERENCE | N41: =M40-M39 -> -8.36
A44: 70400101 | B44: 11 | C44: 04 | D44: 17 | E44: 1231342 | F44: ETAM PAP | G44: 1447 ETAM PAP L'ISLE ADAM | H44: ISLE ADAM | I44: 95 | J44: 3 | K44: 30 | L44: 13.62
A45: 70400082 | B45: 11 | C45: 04 | D45: 17 | E45: 1231462 | F45: ETAM LINGERIE | G45: 1447 LINGERIE L'ISLE ADAM | H45: ISLE ADAM | I45: 95 | J45: 6 | K45: 27 | L45: 13.62
A46: TOTAL FACTURé | M46: =L44+L45 -> 27.24
B47: 11.04.2017 | I47: 58324 | J47: 58324 | K47: =IF(ISNUMBER(B47),"",CONVERT(J47,"g","kg")) -> 58.324 | M47: =IF(K47=0,0,IF(K47<=9,7.55,IF(K47<=15,9.42,IF(K47<=20,10.97,IF(K47<=27,12.25,IF(K47<=34,13.62,IF(K47<=39,15.33,IF(K47<=44,17.21,IF(K47<=49,17.31,IF(K47<=59,17.51,IF(K47<=69,20,IF(K47<=79,23.21,IF(K47<=89,22.7,IF(K47<=99.99,22.59,IF(K47<=499,22.54,IF(K47<=999,22.44,IF(K47<=25000,21.42,""))))))))))))))))) -> 17.51
A48: DIFFERENCE | N48: =M47-M46 -> -9.73
A51: 70400101 | B51: 12 | C51: 04 | D51: 17 | E51: 1232303 | F51: ETAM PAP | G51: 1447 ETAM PAP L'ISLE ADAM | H51: ISLE ADAM | I51: 95 | J51: 3 | K51: 24 | L51: 12.25
A52: 70400082 | B52: 12 | C52: 04 | D52: 17 | E52: 1232768 | F52: ETAM LINGERIE | G52: 1447 LINGERIE L'ISLE ADAM | H52: ISLE ADAM | I52: 95 | J52: 4 | K52: 18 | L52: 10.97
A53: TOTAL FACTURé | M53: =L51+L52 -> 23.22
B54: 12.04.2017 | I54: 43660 | J54: 43660 | K54: =IF(ISNUMBER(B54),"",CONVERT(J54,"g","kg")) -> 43.66 | M54: =IF(K54=0,0,IF(K54<=9,7.55,IF(K54<=15,9.42,IF(K54<=20,10.97,IF(K54<=27,12.25,IF(K54<=34,13.62,IF(K54<=39,15.33,IF(K54<=44,17.21,IF(K54<=49,17.31,IF(K54<=59,17.51,IF(K54<=69,20,IF(K54<=79,23.21,IF(K54<=89,22.7,IF(K54<=99.99,22.59,IF(K54<=499,22.54,IF(K54<=999,22.44,IF(K54<=25000,21.42,""))))))))))))))))) -> 17.21
...

Sheet 1501
A1: FACTURE | B1: JOUR | C1: MOIS | D1: ANNEE | E1: RECEP | F1: EXP | G1: DEST | H1: VILLES | I1: DEPTS | J1: COLIS | K1: POIDS | L1: TARIFS
A2: 70400101 | B2: 03 | C2: 04 | D2: 17 | E2: 1223231 | F2: INVESTINT PAP | G2: 1501 ETAM PAP CLAYE SOUILL | H2: CLAYE SOUILLY | I2: 77 | J2: 12 | K2: 60 | L2: 20
A3: 70400082 | B3: 03 | C3: 04 | D3: 17 | E3: 1223002 | F3: ETAM LINGERIE | G3: 1501 LINGERIE CLAYE SOUILL | H3: CLAYE SOUILLY | I3: 77 | J3: 9 | K3: 61 | L3: 20
A4: TOTAL FACTURé | M4: =L2+L3 -> 40
B5: 03.04.2017 | I5: 152447 | J5: 152447 | K5: =IF(ISNUMBER(B5),"",CONVERT(J5,"g","kg")) -> 152.447 | M5: =IF(K5=0,0,IF(K5<=9,7.55,IF(K5<=15,9.42,IF(K5<=20,10.97,IF(K5<=27,12.25,IF(K5<=34,13.62,IF(K5<=39,15.33,IF(K5<=44,17.21,IF(K5<=49,17.31,IF(K5<=59,17.51,IF(K5<=69,20,IF(K5<=79,23.21,IF(K5<=89,22.7,IF(K5<=99.99,22.59,IF(K5<=499,22.54,IF(K5<=999,22.44,IF(K5<=25000,21.42,""))))))))))))))))) -> 22.54
A6: DIFFERENCE | N6: =M5-M4 -> -17.46
A9: 70400101 | B9: 04 | C9: 04 | D9: 17 | E9: 1224647 | F9: INVESTINT PAP | G9: 1501 ETAM PAP CLAYE SOUILL | H9: CLAYE SOUILLY | I9: 77 | J9: 21 | K9: 210 | L9: 47.33
A10: 70400082 | B10: 04 | C10: 04 | D10: 17 | E10: 1224465 | F10: ETAM LINGERIE | G10: 1501 LINGERIE CLAYE SOUILL | H10: CLAYE SOUILLY | I10: 77 | J10: 10 | K10: 52 | L10: 17.51
A11: TOTAL FACTURé | M11: =L9+L10 -> 64.84
B12: 04.04.2017 | I12: 228197 | J12: 228197 | K12: =IF(ISNUMBER(B12),"",CONVERT(J12,"g","kg")) -> 228.197 | M12: =IF(K12=0,0,IF(K12<=9,7.55,IF(K12<=15,9.42,IF(K12<=20,10.97,IF(K12<=27,12.25,IF(K12<=34,13.62,IF(K12<=39,15.33,IF(K12<=44,17.21,IF(K12<=49,17.31,IF(K12<=59,17.51,IF(K12<=69,20,IF(K12<=79,23.21,IF(K12<=89,22.7,IF(K12<=99.99,22.59,IF(K12<=499,22.54,IF(K12<=999,22.44,IF(K12<=25000,21.42,""))))))))))))))))) -> 22.54
A13: DIFFERENCE | N13: =M12-M11 -> -42.3
A16: 70400101 | B16: 05 | C16: 04 | D16: 17 | E16: 1225810 | F16: INVESTINT PAP | G16: 1501 ETAM PAP CLAYE SOUILL | H16: CLAYE SOUILLY | I16: 77 | J16: 12 | K16: 60 | L16: 20
A17: 70400082 | B17: 05 | C17: 04 | D17: 17 | E17: 1225604 | F17: ETAM LINGERIE | G17: 1501 LINGERIE CLAYE SOUILL | H17: CLAYE SOUILLY | I17: 77 | J17: 8 | K17: 51 | L17: 17.51
A18: TOTAL FACTURé | M18: =L16+L17 -> 37.51
B19: 05.04.2017 | I19: 148389 | J19: 148389 | K19: =IF(ISNUMBER(B19),"",CONVERT(J19,"g","kg")) -> 148.389 | M19: =IF(K19=0,0,IF(K19<=9,7.55,IF(K19<=15,9.42,IF(K19<=20,10.97,IF(K19<=27,12.25,IF(K19<=34,13.62,IF(K19<=39,15.33,IF(K19<=44,17.21,IF(K19<=49,17.31,IF(K19<=59,17.51,IF(K19<=69,20,IF(K19<=79,23.21,IF(K19<=89,22.7,IF(K19<=99.99,22.59,IF(K19<=499,22.54,IF(K19<=999,22.44,IF(K19<=25000,21.42,""))))))))))))))))) -> 22.54
A20: DIFFERENCE | N20: =M19-M18 -> -14.97
A23: 70400101 | B23: 06 | C23: 04 | D23: 17 | E23: 1226859 | F23: ETAM PAP | G23: 1501 ETAM PAP CLAYE SOUILL | H23: CLAYE SOUILLY | I23: 77 | J23: 18 | K23: 144 | L23: 32.63
A24: 70400082 | B24: 06 | C24: 04 | D24: 17 | E24: 1227018 | F24: ETAM LINGERIE | G24: 1501 LINGERIE CLAYE SOUILL | H24: CLAYE SOUILLY | I24: 77 | J24: 7 | K24: 45 | L24: 17.31
A25: TOTAL FACTURé | M25: =L23+L24 -> 49.94
B26: 06.04.2017 | I26: 191291 | J26: 191291 | K26: =IF(ISNUMBER(B26),"",CONVERT(J26,"g","kg")) -> 191.291 | M26: =IF(K26=0,0,IF(K26<=9,7.55,IF(K26<=15,9.42,IF(K26<=20,10.97,IF(K26<=27,12.25,IF(K26<=34,13.62,IF(K26<=39,15.33,IF(K26<=44,17.21,IF(K26<=49,17.31,IF(K26<=59,17.51,IF(K26<=69,20,IF(K26<=79,23.21,IF(K26<=89,22.7,IF(K26<=99.99,22.59,IF(K26<=499,22.54,IF(K26<=999,22.44,IF(K26<=25000,21.42,""))))))))))))))))) -> 22.54
A27: DIFFERENCE | N27: =M26-M25 -> -27.4
A30: 70400101 | B30: 07 | C30: 04 | D30: 17 | E30: 1228155 | F30: ETAM PAP | G30: 1501 ETAM PAP CLAYE SOUILL | H30: CLAYE SOUILLY | I30: 77 | J30: 10 | K30: 76 | L30: 23.21
A31: 70400082 | B31: 07 | C31: 04 | D31: 17 | E31: 1228506 | F31: ETAM LINGERIE | G31: 1501 LINGERIE CLAYE SOUILL | H31: CLAYE SOUILLY | I31: 77 | J31: 5 | K31: 18 | L31: 10.97
A32: TOTAL FACTURé | M32: =L30+L31 -> 34.18
B33: 07.04.2017 | I33: 96766 | J33: 96766 | K33: =IF(ISNUMBER(B33),"",CONVERT(J33,"g","kg")) -> 96.766 | M33: =IF(K33=0,0,IF(K33<=9,7.55,IF(K33<=15,9.42,IF(K33<=20,10.97,IF(K33<=27,12.25,IF(K33<=34,13.62,IF(K33<=39,15.33,IF(K33<=44,17.21,IF(K33<=49,17.31,IF(K33<=59,17.51,IF(K33<=69,20,IF(K33<=79,23.21,IF(K33<=89,22.7,IF(K33<=99.99,22.59,IF(K33<=499,22.54,IF(K33<=999,22.44,IF(K33<=25000,21.42,""))))))))))))))))) -> 22.59
A34: DIFFERENCE | N34: =M33-M32 -> -11.59
A37: 70400101 | B37: 10 | C37: 04 | D37: 17 | E37: 1229840 | F37: ETAM PAP | G37: 1501 ETAM PAP CLAYE SOUILL | H37: CLAYE SOUILLY | I37: 77 | J37: 6 | K37: 55 | L37: 17.51
A38: 70400082 | B38: 10 | C38: 04 | D38: 17 | E38: 1230104 | F38: ETAM LINGERIE | G38: 1501 LINGERIE CLAYE SOUILL | H38: CLAYE SOUILLY | I38: 77 | J38: 6 | K38: 39 | L38: 17.21
A39: TOTAL FACTURé | M39: =L37+L38 -> 34.72
B40: 10.04.2017 | I40: 99203 | J40: 99203 | K40: =IF(ISNUMBER(B40),"",CONVERT(J40,"g","kg")) -> 99.203 | M40: =IF(K40=0,0,IF(K40<=9,7.55,IF(K40<=15,9.42,IF(K40<=20,10.97,IF(K40<=27,12.25,IF(K40<=34,13.62,IF(K40<=39,15.33,IF(K40<=44,17.21,IF(K40<=49,17.31,IF(K40<=59,17.51,IF(K40<=69,20,IF(K40<=79,23.21,IF(K40<=89,22.7,IF(K40<=99.99,22.59,IF(K40<=499,22.54,IF(K40<=999,22.44,IF(K40<=25000,21.42,""))))))))))))))))) -> 22.59
A41: DIFFERENCE | N41: =M40-M39 -> -12.13
A44: 70400101 | B44: 11 | C44: 04 | D44: 17 | E44: 1231319 | F44: ETAM PAP | G44: 1501 ETAM PAP CLAYE SOUILL | H44: CLAYE SOUILLY | I44: 77 | J44: 12 | K44: 105 | L44: 23.72
A45: 70400082 | B45: 11 | C45: 04 | D45: 17 | E45: 1231433 | F45: ETAM LINGERIE | G45: 1501 LINGERIE CLAYE SOUILL | H45: CLAYE SOUILLY | I45: 77 | J45: 10 | K45: 56 | L45: 17.51
A46: TOTAL FACTURé | M46: =L44+L45 -> 41.23
B47: 11.04.2017 | I47: 163167 | J47: 163167 | K47: =IF(ISNUMBER(B47),"",CONVERT(J47,"g","kg")) -> 163.167 | M47: =IF(K47=0,0,IF(K47<=9,7.55,IF(K47<=15,9.42,IF(K47<=20,10.97,IF(K47<=27,12.25,IF(K47<=34,13.62,IF(K47<=39,15.33,IF(K47<=44,17.21,IF(K47<=49,17.31,IF(K47<=59,17.51,IF(K47<=69,20,IF(K47<=79,23.21,IF(K47<=89,22.7,IF(K47<=99.99,22.59,IF(K47<=499,22.54,IF(K47<=999,22.44,IF(K47<=25000,21.42,""))))))))))))))))) -> 22.54
A48: DIFFERENCE | N48: =M47-M46 -> -18.69
A51: 70400101 | B51: 12 | C51: 04 | D51: 17 | E51: 1232279 | F51: ETAM PAP | G51: 1501 ETAM PAP CLAYE SOUILL | H51: CLAYE SOUILLY | I51: 77 | J51: 5 | K51: 35 | L51: 15.33
A52: 70400082 | B52: 12 | C52: 04 | D52: 17 | E52: 1232735 | F52: ETAM LINGERIE | G52: 1501 LINGERIE CLAYE SOUILL | H52: CLAYE SOUILLY | I52: 77 | J52: 8 | K52: 55 | L52: 17.51
A53: TOTAL FACTURé | M53: =L51+L52 -> 32.84
B54: 12.04.2017 | I54: 94011 | J54: 94011 | K54: =IF(ISNUMBER(B54),"",CONVERT(J54,"g","kg")) -> 94.011 | M54: =IF(K54=0,0,IF(K54<=9,7.55,IF(K54<=15,9.42,IF(K54<=20,10.97,IF(K54<=27,12.25,IF(K54<=34,13.62,IF(K54<=39,15.33,IF(K54<=44,17.21,IF(K54<=49,17.31,IF(K54<=59,17.51,IF(K54<=69,20,IF(K54<=79,23.21,IF(K54<=89,22.7,IF(K54<=99.99,22.59,IF(K54<=499,22.54,IF(K54<=999,22.44,IF(K54<=25000,21.42,""))))))))))))))))) -> 22.59
...

Sheet 1504
A1: FACTURE | B1: JOUR | C1: MOIS | D1: ANNEE | E1: RECEP | F1: EXP | G1: DEST | H1: VILLES | I1: DEPTS | J1: COLIS | K1: POIDS | L1: TARIFS
A2: 70400082 | B2: 03 | C2: 04 | D2: 17 | E2: 1222989 | F2: ETAM LINGERIE | G2: 1504 LINGERIE PARIS FORUM | H2: PARIS 01 | I2: 75 | J2: 9 | K2: 59 | L2: 20
A3: 70400101 | B3: 03 | C3: 04 | D3: 17 | E3: 1223239 | F3: INVESTINT PAP | G3: 1504 ETAM PAP LES HALLES | H3: PARIS 01 | I3: 75 | J3: 13 | K3: 65 | L3: 20
A4: TOTAL FACTURé | M4: =L2+L3 -> 40
B5: 03.04.2017 | I5: 182136 | J5: 182136 | K5: =IF(ISNUMBER(B5),"",CONVERT(J5,"g","kg")) -> 182.136 | M5: =IF(K5=0,0,IF(K5<=9,7.55,IF(K5<=15,9.42,IF(K5<=20,10.97,IF(K5<=27,12.25,IF(K5<=34,13.62,IF(K5<=39,15.33,IF(K5<=44,17.21,IF(K5<=49,17.31,IF(K5<=59,17.51,IF(K5<=69,20,IF(K5<=79,23.21,IF(K5<=89,22.7,IF(K5<=99.99,22.59,IF(K5<=499,22.54,IF(K5<=999,22.44,IF(K5<=25000,21.42,""))))))))))))))))) -> 22.54
A6: DIFFERENCE | N6: =M5-M4 -> -17.46
A9: 70400082 | B9: 04 | C9: 04 | D9: 17 | E9: 1224444 | F9: ETAM LINGERIE | G9: 1504 LINGERIE PARIS FORUM | H9: PARIS 01 | I9: 75 | J9: 19 | K9: 113 | L9: 25.63
A10: 70400101 | B10: 04 | C10: 04 | D10: 17 | E10: 1224668 | F10: INVESTINT PAP | G10: 1504 ETAM PAP LES HALLES | H10: PARIS 01 | I10: 75 | J10: 20 | K10: 200 | L10: 45.08
A11: TOTAL FACTURé | M11: =L9+L10 -> 70.71
B12: 04.04.2017 | I12: 298020 | J12: 298020 | K12: =IF(ISNUMBER(B12),"",CONVERT(J12,"g","kg")) -> 298.02 | M12: =IF(K12=0,0,IF(K12<=9,7.55,IF(K12<=15,9.42,IF(K12<=20,10.97,IF(K12<=27,12.25,IF(K12<=34,13.62,IF(K12<=39,15.33,IF(K12<=44,17.21,IF(K12<=49,17.31,IF(K12<=59,17.51,IF(K12<=69,20,IF(K12<=79,23.21,IF(K12<=89,22.7,IF(K12<=99.99,22.59,IF(K12<=499,22.54,IF(K12<=999,22.44,IF(K12<=25000,21.42,""))))))))))))))))) -> 22.54
A13: DIFFERENCE | N13: =M12-M11 -> -48.17
A16: 70400082 | B16: 05 | C16: 04 | D16: 17 | E16: 1225592 | F16: ETAM LINGERIE | G16: 1504 LINGERIE PARIS FORUM | H16: PARIS 01 | I16: 75 | J16: 15 | K16: 86 | L16: 22.7
A17: 70400101 | B17: 05 | C17: 04 | D17: 17 | E17: 1225832 | F17: INVESTINT PAP | G17: 1504 ETAM PAP LES HALLES | H17: PARIS 01 | I17: 75 | J17: 9 | K17: 45 | L17: 17.31
A18: TOTAL FACTURé | M18: =L16+L17 -> 40.01
B19: 05.04.2017 | I19: 179343 | J19: 179343 | K19: =IF(ISNUMBER(B19),"",CONVERT(J19,"g","kg")) -> 179.343 | M19: =IF(K19=0,0,IF(K19<=9,7.55,IF(K19<=15,9.42,IF(K19<=20,10.97,IF(K19<=27,12.25,IF(K19<=34,13.62,IF(K19<=39,15.33,IF(K19<=44,17.21,IF(K19<=49,17.31,IF(K19<=59,17.51,IF(K19<=69,20,IF(K19<=79,23.21,IF(K19<=89,22.7,IF(K19<=99.99,22.59,IF(K19<=499,22.54,IF(K19<=999,22.44,IF(K19<=25000,21.42,""))))))))))))))))) -> 22.54
A20: DIFFERENCE | N20: =M19-M18 -> -17.47
A23: 70400082 | B23: 06 | C23: 04 | D23: 17 | E23: 1227007 | F23: ETAM LINGERIE | G23: 1504 LINGERIE PARIS FORUM | H23: PARIS 01 | I23: 75 | J23: 14 | K23: 79 | L23: 22.7
A24: 70400101 | B24: 06 | C24: 04 | D24: 17 | E24: 1226853 | F24: ETAM PAP | G24: 1504 ETAM PAP LES HALLES | H24: PARIS 01 | I24: 75 | J24: 15 | K24: 147 | L24: 33.32
A25: TOTAL FACTURé | M25: =L23+L24 -> 56.02
B26: 06.04.2017 | I26: 231770 | J26: 231770 | K26: =IF(ISNUMBER(B26),"",CONVERT(J26,"g","kg")) -> 231.77 | M26: =IF(K26=0,0,IF(K26<=9,7.55,IF(K26<=15,9.42,IF(K26<=20,10.97,IF(K26<=27,12.25,IF(K26<=34,13.62,IF(K26<=39,15.33,IF(K26<=44,17.21,IF(K26<=49,17.31,IF(K26<=59,17.51,IF(K26<=69,20,IF(K26<=79,23.21,IF(K26<=89,22.7,IF(K26<=99.99,22.59,IF(K26<=499,22.54,IF(K26<=999,22.44,IF(K26<=25000,21.42,""))))))))))))))))) -> 22.54
A27: DIFFERENCE | N27: =M26-M25 -> -33.48
A30: 70400082 | B30: 07 | C30: 04 | D30: 17 | E30: 1228494 | F30: ETAM LINGERIE | G30: 1504 LINGERIE PARIS FORUM | H30: PARIS 01 | I30: 75 | J30: 10 | K30: 64 | L30: 20
A31: 70400101 | B31: 07 | C31: 04 | D31: 17 | E31: 1228149 | F31: ETAM PAP | G31: 1504 ETAM PAP LES HALLES | H31: PARIS 01 | I31: 75 | J31: 8 | K31: 86 | L31: 22.7
A32: TOTAL FACTURé | M32: =L30+L31 -> 42.7
B33: 07.04.2017 | I33: 154439 | J33: 154439 | K33: =IF(ISNUMBER(B33),"",CONVERT(J33,"g","kg")) -> 154.439 | M33: =IF(K33=0,0,IF(K33<=9,7.55,IF(K33<=15,9.42,IF(K33<=20,10.97,IF(K33<=27,12.25,IF(K33<=34,13.62,IF(K33<=39,15.33,IF(K33<=44,17.21,IF(K33<=49,17.31,IF(K33<=59,17.51,IF(K33<=69,20,IF(K33<=79,23.21,IF(K33<=89,22.7,IF(K33<=99.99,22.59,IF(K33<=499,22.54,IF(K33<=999,22.44,IF(K33<=25000,21.42,""))))))))))))))))) -> 22.54
A34: DIFFERENCE | N34: =M33-M32 -> -20.16
A37: 70400082 | B37: 10 | C37: 04 | D37: 17 | E37: 1230092 | F37: ETAM LINGERIE | G37: 1504 LINGERIE PARIS FORUM | H37: PARIS 01 | I37: 75 | J37: 15 | K37: 91 | L37: 22.59
A38: 70400101 | B38: 10 | C38: 04 | D38: 17 | E38: 1229831 | F38: ETAM PAP | G38: 1504 ETAM PAP LES HALLES | H38: PARIS 01 | I38: 75 | J38: 11 | K38: 105 | L38: 23.75
A39: TOTAL FACTURé | M39: =L37+L38 -> 46.34
B40: 10.04.2017 | I40: 202128 | J40: 202128 | K40: =IF(ISNUMBER(B40),"",CONVERT(J40,"g","kg")) -> 202.128 | M40: =IF(K40=0,0,IF(K40<=9,7.55,IF(K40<=15,9.42,IF(K40<=20,10.97,IF(K40<=27,12.25,IF(K40<=34,13.62,IF(K40<=39,15.33,IF(K40<=44,17.21,IF(K40<=49,17.31,IF(K40<=59,17.51,IF(K40<=69,20,IF(K40<=79,23.21,IF(K40<=89,22.7,IF(K40<=99.99,22.59,IF(K40<=499,22.54,IF(K40<=999,22.44,IF(K40<=25000,21.42,""))))))))))))))))) -> 22.54
A41: DIFFERENCE | N41: =M40-M39 -> -23.8
A44: 70400082 | B44: 11 | C44: 04 | D44: 17 | E44: 1231422 | F44: ETAM LINGERIE | G44: 1504 LINGERIE PARIS FORUM | H44: PARIS 01 | I44: 75 | J44: 23 | K44: 128 | L44: 29.03
A45: 70400101 | B45: 11 | C45: 04 | D45: 17 | E45: 1231313 | F45: ETAM PAP | G45: 1504 ETAM PAP LES HALLES | H45: PARIS 01 | I45: 75 | J45: 11 | K45: 117 | L45: 26.51
A46: TOTAL FACTURé | M46: =L44+L45 -> 55.54
B47: 11.04.2017 | I47: 248890 | J47: 248890 | K47: =IF(ISNUMBER(B47),"",CONVERT(J47,"g","kg")) -> 248.89 | M47: =IF(K47=0,0,IF(K47<=9,7.55,IF(K47<=15,9.42,IF(K47<=20,10.97,IF(K47<=27,12.25,IF(K47<=34,13.62,IF(K47<=39,15.33,IF(K47<=44,17.21,IF(K47<=49,17.31,IF(K47<=59,17.51,IF(K47<=69,20,IF(K47<=79,23.21,IF(K47<=89,22.7,IF(K47<=99.99,22.59,IF(K47<=499,22.54,IF(K47<=999,22.44,IF(K47<=25000,21.42,""))))))))))))))))) -> 22.54
A48: DIFFERENCE | N48: =M47-M46 -> -33
A51: 70400082 | B51: 12 | C51: 04 | D51: 17 | E51: 1232723 | F51: ETAM LINGERIE | G51: 1504 LINGERIE PARIS FORUM | H51: PARIS 01 | I51: 75 | J51: 11 | K51: 73 | L51: 23.21
A52: 70400101 | B52: 12 | C52: 04 | D52: 17 | E52: 1232273 | F52: ETAM PAP | G52: 1504 ETAM PAP LES HALLES | H52: PARIS 01 | I52: 75 | J52: 6 | K52: 52 | L52: 17.51
A53: TOTAL FACTURé | M53: =L51+L52 -> 40.72
B54: 12.04.2017 | I54: 129470 | J54: 129470 | K54: =IF(ISNUMBER(B54),"",CONVERT(J54,"g","kg")) -> 129.47 | M54: =IF(K54=0,0,IF(K54<=9,7.55,IF(K54<=15,9.42,IF(K54<=20,10.97,IF(K54<=27,12.25,IF(K54<=34,13.62,IF(K54<=39,15.33,IF(K54<=44,17.21,IF(K54<=49,17.31,IF(K54<=59,17.51,IF(K54<=69,20,IF(K54<=79,23.21,IF(K54<=89,22.7,IF(K54<=99.99,22.59,IF(K54<=499,22.54,IF(K54<=999,22.44,IF(K54<=25000,21.42,""))))))))))))))))) -> 22.54
...

Sheet 1508
A1: FACTURE | B1: JOUR | C1: MOIS | D1: ANNEE | E1: RECEP | F1: EXP | G1: DEST | H1: VILLES | I1: DEPTS | J1: COLIS | K1: POIDS | L1: TARIFS
A2: 70400101 | B2: 03 | C2: 04 | D2: 17 | E2: 1223259 | F2: INVESTINT PAP | G2: 1508 ETAM PAP CERCY 3 FONT | H2: CERGY | I2: 95 | J2: 11 | K2: 55 | L2: 17.51
A3: 70400082 | B3: 03 | C3: 04 | D3: 17 | E3: 1223040 | F3: ETAM LINGERIE | G3: 1508 LINGERIE CERGY | H3: CERGY | I3: 95 | J3: 7 | K3: 44 | L3: 17.31
A4: TOTAL FACTURé | M4: =L2+L3 -> 34.82
B5: 03.04.2017 | I5: 135253 | J5: 135253 | K5: =IF(ISNUMBER(B5),"",CONVERT(J5,"g","kg")) -> 135.253 | M5: =IF(K5=0,0,IF(K5<=9,7.55,IF(K5<=15,9.42,IF(K5<=20,10.97,IF(K5<=27,12.25,IF(K5<=34,13.62,IF(K5<=39,15.33,IF(K5<=44,17.21,IF(K5<=49,17.31,IF(K5<=59,17.51,IF(K5<=69,20,IF(K5<=79,23.21,IF(K5<=89,22.7,IF(K5<=99.99,22.59,IF(K5<=499,22.54,IF(K5<=999,22.44,IF(K5<=25000,21.42,""))))))))))))))))) -> 22.54
A6: DIFFERENCE | N6: =M5-M4 -> -12.28
A9: 70400101 | B9: 04 | C9: 04 | D9: 17 | E9: 1224673 | F9: INVESTINT PAP | G9: 1508 ETAM PAP CERCY 3 FONT | H9: CERGY | I9: 95 | J9: 11 | K9: 110 | L9: 24.79
A10: 70400082 | B10: 04 | C10: 04 | D10: 17 | E10: 1224495 | F10: ETAM LINGERIE | G10: 1508 LINGERIE CERGY | H10: CERGY | I10: 95 | J10: 10 | K10: 48 | L10: 17.31
A11: TOTAL FACTURé | M11: =L9+L10 -> 42.1
B12: 04.04.2017 | I12: 134209 | J12: 134209 | K12: =IF(ISNUMBER(B12),"",CONVERT(J12,"g","kg")) -> 134.209 | M12: =IF(K12=0,0,IF(K12<=9,7.55,IF(K12<=15,9.42,IF(K12<=20,10.97,IF(K12<=27,12.25,IF(K12<=34,13.62,IF(K12<=39,15.33,IF(K12<=44,17.21,IF(K12<=49,17.31,IF(K12<=59,17.51,IF(K12<=69,20,IF(K12<=79,23.21,IF(K12<=89,22.7,IF(K12<=99.99,22.59,IF(K12<=499,22.54,IF(K12<=999,22.44,IF(K12<=25000,21.42,""))))))))))))))))) -> 22.54
A13: DIFFERENCE | N13: =M12-M11 -> -19.56
A16: 70400101 | B16: 05 | C16: 04 | D16: 17 | E16: 1225839 | F16: INVESTINT PAP | G16: 1508 ETAM PAP CERCY 3 FONT | H16: CERGY | I16: 95 | J16: 8 | K16: 40 | L16: 17.21
A17: 70400082 | B17: 05 | C17: 04 | D17: 17 | E17: 1225638 | F17: ETAM LINGERIE | G17: 1508 LINGERIE CERGY | H17: CERGY | I17: 95 | J17: 6 | K17: 40 | L17: 17.21
A18: TOTAL FACTURé | M18: =L16+L17 -> 34.42
B19: 05.04.2017 | I19: 110292 | J19: 110292 | K19: =IF(ISNUMBER(B19),"",CONVERT(J19,"g","kg")) -> 110.292 | M19: =IF(K19=0,0,IF(K19<=9,7.55,IF(K19<=15,9.42,IF(K19<=20,10.97,IF(K19<=27,12.25,IF(K19<=34,13.62,IF(K19<=39,15.33,IF(K19<=44,17.21,IF(K19<=49,17.31,IF(K19<=59,17.51,IF(K19<=69,20,IF(K19<=79,23.21,IF(K19<=89,22.7,IF(K19<=99.99,22.59,IF(K19<=499,22.54,IF(K19<=999,22.44,IF(K19<=25000,21.42,""))))))))))))))))) -> 22.54
A20: DIFFERENCE | N20: =M19-M18 -> -11.88
A23: 70400101 | B23: 06 | C23: 04 | D23: 17 | E23: 1226883 | F23: ETAM PAP | G23: 1508 ETAM PAP CERCY 3 FONT | H23: CERGY | I23: 95 | J23: 11 | K23: 93 | L23: 22.59
A24: 70400082 | B24: 06 | C24: 04 | D24: 17 | E24: 1227057 | F24: ETAM LINGERIE | G24: 1508 LINGERIE CERGY | H24: CERGY | I24: 95 | J24: 8 | K24: 49 | L24: 17.51
A25: TOTAL FACTURé | M25: =L23+L24 -> 40.1
B26: 06.04.2017 | I26: 146958 | J26: 146958 | K26: =IF(ISNUMBER(B26),"",CONVERT(J26,"g","kg")) -> 146.958 | M26: =IF(K26=0,0,IF(K26<=9,7.55,IF(K26<=15,9.42,IF(K26<=20,10.97,IF(K26<=27,12.25,IF(K26<=34,13.62,IF(K26<=39,15.33,IF(K26<=44,17.21,IF(K26<=49,17.31,IF(K26<=59,17.51,IF(K26<=69,20,IF(K26<=79,23.21,IF(K26<=89,22.7,IF(K26<=99.99,22.59,IF(K26<=499,22.54,IF(K26<=999,22.44,IF(K26<=25000,21.42,""))))))))))))))))) -> 22.54
