Workbook

Sheet RECAPITULATIF
B1: Facturation | E1: Différence
B2: ATVYL | C2: ETAM
A3: 0009 | B3: ='0009'!L135 -> 669.5 | C3: 418.21 | E3: =C3-B3 -> -251.29
A4: 0286 | B4: ='0286'!L135 -> 413.7 | C4: 289.02 | E4: =C4-B4 -> -124.68
A5: 1026 | B5: ='1026'!L135 -> 499.52 | C5: 356.15 | E5: =C5-B5 -> -143.37
A6: 1028 | B6: ='1028'!L135 -> 696.6 | C6: 427.69 | E6: =C6-B6 -> -268.91
A7: 1113 | B7: ='1113'!L135 -> 484.53 | C7: 355.14 | E7: =C7-B7 -> -129.39
A8: 1447 | B8: ='1447'!$L$135 -> 500.38 | C8: 363.62 | E8: =C8-B8 -> -136.76
A9: 1501 | B9: ='1501'!$L$135 -> 724.29 | C9: 418.11 | E9: =C9-B9 -> -306.18
A10: 1504 | B10: ='1504'!$L$135 -> 875.01 | C10: 428.42 | E10: =C10-B10 -> -446.59
A11: 1508 | B11: ='1508'!$L$135 -> 678.6 | C11: 424.43 | E11: =C11-B11 -> -254.17
A12: 1509 | B12: ='1509'!$L$135 -> 697.94 | C12: 423.95 | E12: =C12-B12 -> -273.99
A13: 1717 | E13: =C13-B13 -> 0
A14: 1847 | B14: ='1847'!$L$135 -> 437.14 | C14: 313.64 | E14: =C14-B14 -> -123.5
A15: 1855 | B15: ='1855'!$L$135 -> 687.79 | C15: 421.41 | E15: =C15-B15 -> -266.38
A16: 2001 | B16: ='2001'!$L$134 -> 459.57 | C16: 345.38 | E16: =C16-B16 -> -114.19
A17: 2093 | B17: ='2093'!$L$135 -> 481.55 | C17: 356.63 | E17: =C17-B17 -> -124.92
A18: 2115 | B18: ='2115'!$L$135 -> 578.78 | C18: 406.99 | E18: =C18-B18 -> -171.79
A19: 2223 | B19: ='2223'!$L$135 -> 469.51 | C19: 341.79 | E19: =C19-B19 -> -127.72
A20: 2232 | B20: ='2232'!$L$135 -> 519.34 | C20: 367.98 | E20: =C20-B20 -> -151.36
A22: TOTAL | B22: =SUM(B3:B20) -> 9873.75 | C22: =SUM(C3:C20) -> 6458.56 | E22: =SUM(E3:E20) -> -3415.19

Sheet 0009
A1: FACTURE | B1: JOUR | C1: MOIS | D1: ANNEE | E1: RECEP | F1: EXP | G1: DEST | H1: VILLES | I1: DEPTS | J1: COLIS | K1: POIDS | L1: TARIFS
A2: 70400101 | B2: 03 | C2: 04 | D2: 17 | E2: 1223226 | F2: INVESTINT PAP | G2: 0009 ETAM PAP ST MICHEL | H2: PARIS 05 | I2: 75 | J2: 9 | K2: 45 | L2: 17.31
A3: 70400082 | B3: 03 | C3: 04 | D3: 17 | E3: 1222975 | F3: ETAM LINGERIE | G3: 0009 LINGERIE PARIS MICHEL | H3: PARIS 06 | I3: 75 | J3: 5 | K3: 29 | L3: 13.62
A4: TOTAL FACTURé | M4: =L2+L3 -> 30.93
B5: 03.04.2017 | I5: 100355 | J5: 100355 | K5: =IF(ISNUMBER(B5),"",CONVERT(J5,"g","kg")) -> 100.355 | M5: =IF(K5=0,0,IF(K5<=9,7.55,IF(K5<=15,9.42,IF(K5<=20,10.97,IF(K5<=27,12.25,IF(K5<=34,13.62,IF(K5<=39,15.33,IF(K5<=44,17.21,IF(K5<=49,17.31,IF(K5<=59,17.51,IF(K5<=69,20,IF(K5<=79,23.21,IF(K5<=89,22.7,IF(K5<=99.99,22.59,IF(K5<=499,22.54,IF(K5<=999,22.44,IF(K5<=25000,21.42,""))))))))))))))))) -> 22.54
A6: DIFFERENCE | N6: =M5-M4 -> -8.39
A9: 70400101 | B9: 04 | C9: 04 | D9: 17 | E9: 1224642 | F9: INVESTINT PAP | G9: 0009 ETAM PAP ST MICHEL | H9: PARIS 05 | I9: 75 | J9: 18 | K9: 180 | L9: 40.57
A10: 70400082 | B10: 04 | C10: 04 | D10: 17 | E10: 1224452 | F10: ETAM LINGERIE | G10: 0009 LINGERIE PARIS MICHEL | H10: PARIS 06 | I10: 75 | J10: 8 | K10: 35 | L10: 15.33
A11: TOTAL FACTURé | M11: =L9+L10 -> 55.9
B12: 04.04.2017 | I12: 172851 | J12: 172851 | K12: =IF(ISNUMBER(B12),"",CONVERT(J12,"g","kg")) -> 172.851 | M12: =IF(K12=0,0,IF(K12<=9,7.55,IF(K12<=15,9.42,IF(K12<=20,10.97,IF(K12<=27,12.25,IF(K12<=34,13.62,IF(K12<=39,15.33,IF(K12<=44,17.21,IF(K12<=49,17.31,IF(K12<=59,17.51,IF(K12<=69,20,IF(K12<=79,23.21,IF(K12<=89,22.7,IF(K12<=99.99,22.59,IF(K12<=499,22.54,IF(K12<=999,22.44,IF(K12<=25000,21.42,""))))))))))))))))) -> 22.54
A13: DIFFERENCE | N13: =M12-M11 -> -33.36
A16: 70400101 | B16: 05 | C16: 04 | D16: 17 | E16: 1225805 | F16: INVESTINT PAP | G16: 0009 ETAM PAP ST MICHEL | H16: PARIS 05 | I16: 75 | J16: 13 | K16: 65 | L16: 20
A17: 70400082 | B17: 05 | C17: 04 | D17: 17 | E17: 1225581 | F17: ETAM LINGERIE | G17: 0009 LINGERIE PARIS MICHEL | H17: PARIS 06 | I17: 75 | J17: 5 | K17: 22 | L17: 12.25
A18: TOTAL FACTURé | M18: =L16+L17 -> 32.25
B19: 05.04.2017 | I19: 117581 | J19: 117581 | K19: =IF(ISNUMBER(B19),"",CONVERT(J19,"g","kg")) -> 117.581 | M19: =IF(K19=0,0,IF(K19<=9,7.55,IF(K19<=15,9.42,IF(K19<=20,10.97,IF(K19<=27,12.25,IF(K19<=34,13.62,IF(K19<=39,15.33,IF(K19<=44,17.21,IF(K19<=49,17.31,IF(K19<=59,17.51,IF(K19<=69,20,IF(K19<=79,23.21,IF(K19<=89,22.7,IF(K19<=99.99,22.59,IF(K19<=499,22.54,IF(K19<=999,22.44,IF(K19<=25000,21.42,""))))))))))))))))) -> 22.54
A20: DIFFERENCE | N20: =M19-M18 -> -9.71
A23: 70400101 | B23: 06 | C23: 04 | D23: 17 | E23: 1226849 | F23: ETAM PAP | G23: 0009 ETAM PAP ST MICHEL | H23: PARIS 05 | I23: 75 | J23: 12 | K23: 89 | L23: 22.59
A24: 70400082 | B24: 06 | C24: 04 | D24: 17 | E24: 1226996 | F24: ETAM LINGERIE | G24: 0009 LINGERIE PARIS MICHEL | H24: PARIS 06 | I24: 75 | J24: 5 | K24: 34 | L24: 15.33
A25: TOTAL FACTURé | M25: =L23+L24 -> 37.92
B26: 06.04.2017 | I26: 125152 | J26: 125152 | K26: =IF(ISNUMBER(B26),"",CONVERT(J26,"g","kg")) -> 125.152 | M26: =IF(K26=0,0,IF(K26<=9,7.55,IF(K26<=15,9.42,IF(K26<=20,10.97,IF(K26<=27,12.25,IF(K26<=34,13.62,IF(K26<=39,15.33,IF(K26<=44,17.21,IF(K26<=49,17.31,IF(K26<=59,17.51,IF(K26<=69,20,IF(K26<=79,23.21,IF(K26<=89,22.7,IF(K26<=99.99,22.59,IF(K26<=499,22.54,IF(K26<=999,22.44,IF(K26<=25000,21.42,""))))))))))))))))) -> 22.54
A27: DIFFERENCE | N27: =M26-M25 -> -15.38
A30: 70400101 | B30: 07 | C30: 04 | D30: 17 | E30: 1228145 | F30: ETAM PAP | G30: 0009 ETAM PAP ST MICHEL | H30: PARIS 05 | I30: 75 | J30: 4 | K30: 30 | L30: 13.62
A31: 70400082 | B31: 07 | C31: 04 | D31: 17 | E31: 1228483 | F31: ETAM LINGERIE | G31: 0009 LINGERIE PARIS MICHEL | H31: PARIS 06 | I31: 75 | J31: 4 | K31: 11 | L31: 9.42
A32: TOTAL FACTURé | M32: =L30+L31 -> 23.04
B33: 07.04.2017 | I33: 42797 | J33: 42797 | K33: =IF(ISNUMBER(B33),"",CONVERT(J33,"g","kg")) -> 42.797 | M33: =IF(K33=0,0,IF(K33<=9,7.55,IF(K33<=15,9.42,IF(K33<=20,10.97,IF(K33<=27,12.25,IF(K33<=34,13.62,IF(K33<=39,15.33,IF(K33<=44,17.21,IF(K33<=49,17.31,IF(K33<=59,17.51,IF(K33<=69,20,IF(K33<=79,23.21,IF(K33<=89,22.7,IF(K33<=99.99,22.59,IF(K33<=499,22.54,IF(K33<=999,22.44,IF(K33<=25000,21.42,""))))))))))))))))) -> 17.21
A34: DIFFERENCE | N34: =M33-M32 -> -5.83
A37: 70400101 | B37: 10 | C37: 04 | D37: 17 | E37: 1229835 | F37: ETAM PAP | G37: 0009 ETAM PAP ST MICHEL | H37: PARIS 05 | I37: 75 | J37: 8 | K37: 56 | L37: 17.51
A38: 70400082 | B38: 10 | C38: 04 | D38: 17 | E38: 1230078 | F38: ETAM LINGERIE | G38: 0009 LINGERIE PARIS MICHEL | H38: PARIS 06 | I38: 75 | J38: 5 | K38: 28 | L38: 13.62
A39: TOTAL FACTURé | M39: =L37+L38 -> 31.13
B40: 10.04.2017 | I40: 89856 | J40: 89856 | K40: =IF(ISNUMBER(B40),"",CONVERT(J40,"g","kg")) -> 89.856 | M40: =IF(K40=0,0,IF(K40<=9,7.55,IF(K40<=15,9.42,IF(K40<=20,10.97,IF(K40<=27,12.25,IF(K40<=34,13.62,IF(K40<=39,15.33,IF(K40<=44,17.21,IF(K40<=49,17.31,IF(K40<=59,17.51,IF(K40<=69,20,IF(K40<=79,23.21,IF(K40<=89,22.7,IF(K40<=99.99,22.59,IF(K40<=499,22.54,IF(K40<=999,22.44,IF(K40<=25000,21.42,""))))))))))))))))) -> 22.59
A41: DIFFERENCE | N41: =M40-M39 -> -8.54
A44: 70400101 | B44: 11 | C44: 04 | D44: 17 | E44: 1231309 | F44: ETAM PAP | G44: 0009 ETAM PAP ST MICHEL | H44: PARIS 05 | I44: 75 | J44: 9 | K44: 66 | L44: 20
A45: 70400082 | B45: 11 | C45: 04 | D45: 17 | E45: 1231409 | F45: ETAM LINGERIE | G45: 0009 LINGERIE PARIS MICHEL | H45: PARIS 06 | I45: 75 | J45: 6 | K45: 27 | L45: 13.62
A46: TOTAL FACTURé | M46: =L44+L45 -> 33.62
B47: 11.04.2017 | I47: 94560 | J47: 94560 | K47: =IF(ISNUMBER(B47),"",CONVERT(J47,"g","kg")) -> 94.56 | M47: =IF(K47=0,0,IF(K47<=9,7.55,IF(K47<=15,9.42,IF(K47<=20,10.97,IF(K47<=27,12.25,IF(K47<=34,13.62,IF(K47<=39,15.33,IF(K47<=44,17.21,IF(K47<=49,17.31,IF(K47<=59,17.51,IF(K47<=69,20,IF(K47<=79,23.21,IF(K47<=89,22.7,IF(K47<=99.99,22.59,IF(K47<=499,22.54,IF(K47<=999,22.44,IF(K47<=25000,21.42,""))))))))))))))))) -> 22.59
A48: DIFFERENCE | N48: =M47-M46 -> -11.03
A51: 70400101 | B51: 12 | C51: 04 | D51: 17 | E51: 1232269 | F51: ETAM PAP | G51: 0009 ETAM PAP ST MICHEL | H51: PARIS 05 | I51: 75 | J51: 5 | K51: 47 | L51: 17.31
A52: 70400082 | B52: 12 | C52: 04 | D52: 17 | E52: 1232712 | F52: ETAM LINGERIE | G52: 0009 LINGERIE PARIS MICHEL | H52: PARIS 06 | I52: 75 | J52: 7 | K52: 76 | L52: 23.21
A53: TOTAL FACTURé | M53: =L51+L52 -> 40.52
B54: 12.04.2017 | I54: 125610 | J54: 125610 | K54: =IF(ISNUMBER(B54),"",CONVERT(J54,"g","kg")) -> 125.61 | M54: =IF(K54=0,0,IF(K54<=9,7.55,IF(K54<=15,9.42,IF(K54<=20,10.97,IF(K54<=27,12.25,IF(K54<=34,13.62,IF(K54<=39,15.33,IF(K54<=44,17.21,IF(K54<=49,17.31,IF(K54<=59,17.51,IF(K54<=69,20,IF(K54<=79,23.21,IF(K54<=89,22.7,IF(K54<=99.99,22.59,IF(K54<=499,22.54,IF(K54<=999,22.44,IF(K54<=25000,21.42,""))))))))))))))))) -> 22.54
A55: DIFFERENCE | N55: =M54-M53 -> -17.98
A58: 70400101 | B58: 13 | C58: 04 | D58: 17 | E58: 1233912 | F58: ETAM PAP | G58: 0009 ETAM PAP ST MICHEL | H58: PARIS 05 | I58: 75 | J58: 10 | K58: 82 | L58: 22.7
A59: 70400082 | B59: 13 | C59: 04 | D59: 17 | E59: 1234165 | F59: ETAM LINGERIE | G59: 0009 LINGERIE PARIS MICHEL | H59: PARIS 06 | I59: 75 | J59: 7 | K59: 41 | L59: 17.21
A60: TOTAL FACTURé | M60: =L58+L59 -> 39.91
B61: 13.04.2017 | I61: 126767 | J61: 126767 | K61: =IF(ISNUMBER(B61),"",CONVERT(J61,"g","kg")) -> 126.767 | M61: =IF(K61=0,0,IF(K61<=9,7.55,IF(K61<=15,9.42,IF(K61<=20,10.97,IF(K61<=27,12.25,IF(K61<=34,13.62,IF(K61<=39,15.33,IF(K61<=44,17.21,IF(K61<=49,17.31,IF(K61<=59,17.51,IF(K61<=69,20,IF(K61<=79,23.21,IF(K61<=89,22.7,IF(K61<=99.99,22.59,IF(K61<=499,22.54,IF(K61<=999,22.44,IF(K61<=25000,21.42,""))))))))))))))))) -> 22.54
A62: DIFFERENCE | N62: =M61-M60 -> -17.37
A65: 70400101 | B65: 14 | C65: 04 | D65: 17 | E65: 1235191 | F65: ETAM PAP | G65: 0009 ETAM PAP ST MICHEL | H65: PARIS 05 | I65: 75 | J65: 5 | K65: 40 | L65: 17.21
A66: 70400082 | B66: 14 | C66: 04 | D66: 17 | E66: 1235337 | F66: ETAM LINGERIE | G66: 0009 LINGERIE PARIS MICHEL | H66: PARIS 06 | I66: 75 | J66: 5 | K66: 18 | L66: 10.97
A67: TOTAL FACTURé | M67: =L65+L66 -> 28.18
B68: 14.04.2017 | I68: 59553 | J68: 59553 | K68: =IF(ISNUMBER(B68),"",CONVERT(J68,"g","kg")) -> 59.553 | M68: =IF(K68=0,0,IF(K68<=9,7.55,IF(K68<=15,9.42,IF(K68<=20,10.97,IF(K68<=27,12.25,IF(K68<=34,13.62,IF(K68<=39,15.33,IF(K68<=44,17.21,IF(K68<=49,17.31,IF(K68<=59,17.51,IF(K68<=69,20,IF(K68<=79,23.21,IF(K68<=89,22.7,IF(K68<=99.99,22.59,IF(K68<=499,22.54,IF(K68<=999,22.44,IF(K68<=25000,21.42,""))))))))))))))))) -> 20
A69: DIFFERENCE | N69: =M68-M67 -> -8.18
A72: 70400101 | B72: 18 | C72: 04 | D72: 17 | E72: 1236255 | F72: ETAM PAP | G72: 0009 ETAM PAP ST MICHEL | H72: PARIS 05 | I72: 75 | J72: 7 | K72: 61 | L72: 20
A73: 70400082 | B73: 18 | C73: 04 | D73: 17 | E73: 1236815 | F73: ETAM LINGERIE | G73: 0009 LINGERIE PARIS MICHEL | H73: PARIS 06 | I73: 75 | J73: 7 | K73: 41 | L73: 17.21
A74: TOTAL FACTURé | M74: =L72+L73 -> 37.21
B75: 18.04.2017 | I75: 107106 | J75: 107106 | K75: =IF(ISNUMBER(B75),"",CONVERT(J75,"g","kg")) -> 107.106 | M75: =IF(K75=0,0,IF(K75<=9,7.55,IF(K75<=15,9.42,IF(K75<=20,10.97,IF(K75<=27,12.25,IF(K75<=34,13.62,IF(K75<=39,15.33,IF(K75<=44,17.21,IF(K75<=49,17.31,IF(K75<=59,17.51,IF(K75<=69,20,IF(K75<=79,23.21,IF(K75<=89,22.7,IF(K75<=99.99,22.59,IF(K75<=499,22.54,IF(K75<=999,22.44,IF(K75<=25000,21.42,""))))))))))))))))) -> 22.54
A76: DIFFERENCE | N76: =M75-M74 -> -14.67
A79: 70400101 | B79: 19 | C79: 04 | D79: 17 | E79: 1237767 | F79: ETAM PAP | G79: 0009 ETAM PAP ST MICHEL | H79: PARIS 05 | I79: 75 | J79: 5 | K79: 43 | L79: 17.21
A80: 70400082 | B80: 19 | C80: 04 | D80: 17 | E80: 1238203 | F80: ETAM LINGERIE | G80: 0009 LINGERIE PARIS MICHEL | H80: PARIS 06 | I80: 75 | J80: 4 | K80: 16 | L80: 10.97
A81: TOTAL FACTURé | M81: =L79+L80 -> 28.18
B82: 19.04.2017 | I82: 60453 | J82: 60453 | K82: =IF(ISNUMBER(B82),"",CONVERT(J82,"g","kg")) -> 60.453 | M82: =IF(K82=0,0,IF(K82<=9,7.55,IF(K82<=15,9.42,IF(K82<=20,10.97,IF(K82<=27,12.25,IF(K82<=34,13.62,IF(K82<=39,15.33,IF(K82<=44,17.21,IF(K82<=49,17.31,IF(K82<=59,17.51,IF(K82<=69,20,IF(K82<=79,23.21,IF(K82<=89,22.7,IF(K82<=99.99,22.59,IF(K82<=499,22.54,IF(K82<=999,22.44,IF(K82<=25000,21.42,""))))))))))))))))) -> 20
A83: DIFFERENCE | N83: =M82-M81 -> -8.18
A86: 70400101 | B86: 20 | C86: 04 | D86: 17 | E86: 1239447 | F86: ETAM PAP | G86: 0009 ETAM PAP ST MICHEL | H86: PARIS 05 | I86: 75 | J86: 8 | K86: 54 | L86: 17.51
A87: 70400082 | B87: 20 | C87: 04 | D87: 17 | E87: 1239602 | F87: ETAM LINGERIE | G87: 0009 LINGERIE PARIS MICHEL | H87: PARIS 06 | I87: 75 | J87: 11 | K87: 58 | L87: 17.51
A88: TOTAL FACTURé | M88: =L86+L87 -> 35.02
B89: 20.04.2017 | I89: 116156 | J89: 116156 | K89: =IF(ISNUMBER(B89),"",CONVERT(J89,"g","kg")) -> 116.156 | M89: =IF(K89=0,0,IF(K89<=9,7.55,IF(K89<=15,9.42,IF(K89<=20,10.97,IF(K89<=27,12.25,IF(K89<=34,13.62,IF(K89<=39,15.33,IF(K89<=44,17.21,IF(K89<=49,17.31,IF(K89<=59,17.51,IF(K89<=69,20,IF(K89<=79,23.21,IF(K89<=89,22.7,IF(K89<=99.99,22.59,IF(K89<=499,22.54,IF(K89<=999,22.44,IF(K89<=25000,21.42,""))))))))))))))))) -> 22.54
A90: DIFFERENCE | N90: =M89-M88 -> -12.48
A93: 70400101 | B93: 21 | C93: 04 | D93: 17 | E93: 1240694 | F93: ETAM PAP | G93: 0009 ETAM PAP ST MICHEL | H93: PARIS 05 | I93: 75 | J93: 7 | K93: 38 | L93: 15.33
A94: 70400082 | B94: 21 | C94: 04 | D94: 17 | E94: 1240867 | F94: ETAM LINGERIE | G94: 0009 LINGERIE PARIS MICHEL | H94: PARIS 06 | I94: 75 | J94: 8 | K94: 49 | L94: 17.51
A95: TOTAL FACTURé | M95: =L93+L94 -> 32.84
B96: 21.04.2017 | I96: 90444 | J96: 90444 | K96: =IF(ISNUMBER(B96),"",CONVERT(J96,"g","kg")) -> 90.444 | M96: =IF(K96=0,0,IF(K96<=9,7.55,IF(K96<=15,9.42,IF(K96<=20,10.97,IF(K96<=27,12.25,IF(K96<=34,13.62,IF(K96<=39,15.33,IF(K96<=44,17.21,IF(K96<=49,17.31,IF(K96<=59,17.51,IF(K96<=69,20,IF(K96<=79,23.21,IF(K96<=89,22.7,IF(K96<=99.99,22.59,IF(K96<=499,22.54,IF(K96<=999,22.44,IF(K96<=25000,21.42,""))))))))))))))))) -> 22.59
A97: DIFFERENCE | N97: =M96-M95 -> -10.25
A100: 70400101 | B100: 24 | C100: 04 | D100: 17 | E100: 1242071 | F100: ETAM PAP | G100: 0009 ETAM PAP ST MICHEL | H100: PARIS 05 | I100: 75 | J100: 9 | K100: 70 | L100: 23.21
A101: 70400082 | B101: 24 | C101: 04 | D101: 17 | E101: 1242319 | F101: ETAM LINGERIE | G101: 0009 LINGERIE PARIS MICHEL | H101: PARIS 06 | I101: 75 | J101: 6 | K101: 25 | L101: 12.25
A102: TOTAL FACTURé | M102: =L100+L101 -> 35.46
B103: 24.04.2017 | I103: 91117 | J103: 91117 | K103: =IF(ISNUMBER(B103),"",CONVERT(J103,"g","kg")) -> 91.117 | M103: =IF(K103=0,0,IF(K103<=9,7.55,IF(K103<=15,9.42,IF(K103<=20,10.97,IF(K103<=27,12.25,IF(K103<=34,13.62,IF(K103<=39,15.33,IF(K103<=44,17.21,IF(K103<=49,17.31,IF(K103<=59,17.51,IF(K103<=69,20,IF(K103<=79,23.21,IF(K103<=89,22.7,IF(K103<=99.99,22.59,IF(K103<=499,22.54,IF(K103<=999,22.44,IF(K103<=25000,21.42,""))))))))))))))))) -> 22.59
A104: DIFFERENCE | N104: =M103-M102 -> -12.87
A107: 70400101 | B107: 25 | C107: 04 | D107: 17 | E107: 1243431 | F107: ETAM PAP | G107: 0009 ETAM PAP ST MICHEL | H107: PARIS 05 | I107: 75 | J107: 9 | K107: 86 | L107: 22.7
A108: 70400082 | B108: 25 | C108: 04 | D108: 17 | E108: 1243644 | F108: ETAM LINGERIE | G108: 0009 LINGERIE PARIS MICHEL | H108: PARIS 06 | I108: 75 | J108: 5 | K108: 21 | L108: 12.25
A109: TOTAL FACTURé | M109: =L107+L108 -> 34.95
B110: 25.04.2017 | I110: 109489 | J110: 109489 | K110: =IF(ISNUMBER(B110),"",CONVERT(J110,"g","kg")) -> 109.489 | M110: =IF(K110=0,0,IF(K110<=9,7.55,IF(K110<=15,9.42,IF(K110<=20,10.97,IF(K110<=27,12.25,IF(K110<=34,13.62,IF(K110<=39,15.33,IF(K110<=44,17.21,IF(K110<=49,17.31,IF(K110<=59,17.51,IF(K110<=69,20,IF(K110<=79,23.21,IF(K110<=89,22.7,IF(K110<=99.99,22.59,IF(K110<=499,22.54,IF(K110<=999,22.44,IF(K110<=25000,21.42,""))))))))))))))))) -> 22.54
A111: DIFFERENCE | N111: =M110-M109 -> -12.41
A114: 70400101 | B114: 26 | C114: 04 | D114: 17 | E114: 1244229 | F114: ETAM PAP | G114: 0009 ETAM PAP ST MICHEL | H114: PARIS 05 | I114: 75 | J114: 20 | K114: 143 | L114: 32.39
A115: 70400082 | B115: 26 | C115: 04 | D115: 17 | E115: 1245147 | F115: ETAM LINGERIE | G115: 0009 LINGERIE PARIS MICHEL | H115: PARIS 06 | I115: 75 | J115: 3 | K115: 15 | L115: 10.97
A116: TOTAL FACTURé | M116: =L114+L115 -> 43.36
B117: 26.04.2017 | I117: 160096 | J117: 160096 | K117: =IF(ISNUMBER(B117),"",CONVERT(J117,"g","kg")) -> 160.096 | M117: =IF(K117=0,0,IF(K117<=9,7.55,IF(K117<=15,9.42,IF(K117<=20,10.97,IF(K117<=27,12.25,IF(K117<=34,13.62,IF(K117<=39,15.33,IF(K117<=44,17.21,IF(K117<=49,17.31,IF(K117<=59,17.51,IF(K117<=69,20,IF(K117<=79,23.21,IF(K117<=89,22.7,IF(K117<=99.99,22.59,IF(K117<=499,22.54,IF(K117<=999,22.44,IF(K117<=25000,21.42,""))))))))))))))))) -> 22.54
A118: DIFFERENCE | N118: =M117-M116 -> -20.82
A121: 70400101 | B121: 27 | C121: 04 | D121: 17 | E121: 1246226 | F121: ETAM PAP | G121: 0009 ETAM PAP ST MICHEL | H121: PARIS 05 | I121: 75 | J121: 9 | K121: 72 | L121: 23.21
A122: 70400082 | B122: 27 | C122: 04 | D122: 17 | E122: 1246528 | F122: ETAM LINGERIE | G122: 0009 LINGERIE PARIS MICHEL | H122: PARIS 06 | I122: 75 | J122: 7 | K122: 29 | L122: 13.62
A123: TOTAL FACTURé | M123: =L121+L122 -> 36.83
B124: 27.04.2017 | I124: 104135 | J124: 104135 | K124: =IF(ISNUMBER(B124),"",CONVERT(J124,"g","kg")) -> 104.135 | M124: =IF(K124=0,0,IF(K124<=9,7.55,IF(K124<=15,9.42,IF(K124<=20,10.97,IF(K124<=27,12.25,IF(K124<=34,13.62,IF(K124<=39,15.33,IF(K124<=44,17.21,IF(K124<=49,17.31,IF(K124<=59,17.51,IF(K124<=69,20,IF(K124<=79,23.21,IF(K124<=89,22.7,IF(K124<=99.99,22.59,IF(K124<=499,22.54,IF(K124<=999,22.44,IF(K124<=25000,21.42,""))))))))))))))))) -> 22.54
A125: DIFFERENCE | N125: =M124-M123 -> -14.29
A128: 70400101 | B128: 28 | C128: 04 | D128: 17 | E128: 1247610 | F128: ETAM PAP | G128: 0009 ETAM PAP ST MICHEL | H128: PARIS 05 | I128: 75 | J128: 9 | K128: 60 | L128: 20
A129: 70400082 | B129: 28 | C129: 04 | D129: 17 | E129: 1247766 | F129: ETAM LINGERIE | G129: 0009 LINGERIE PARIS MICHEL | H129: PARIS 06 | I129: 75 | J129: 4 | K129: 21 | L129: 12.25
A130: TOTAL FACTURé | M130: =L128+L129 -> 32.25
B131: 28.04.2017 | I131: 82099 | J131: 82099 | K131: =IF(ISNUMBER(B131),"",CONVERT(J131,"g","kg")) -> 82.099 | M131: =IF(K131=0,0,IF(K131<=9,7.55,IF(K131<=15,9.42,IF(K131<=20,10.97,IF(K131<=27,12.25,IF(K131<=34,13.62,IF(K131<=39,15.33,IF(K131<=44,17.21,IF(K131<=49,17.31,IF(K131<=59,17.51,IF(K131<=69,20,IF(K131<=79,23.21,IF(K131<=89,22.7,IF(K131<=99.99,22.59,IF(K131<=499,22.54,IF(K131<=999,22.44,IF(K131<=25000,21.42,""))))))))))))))))) -> 22.7
A132: DIFFERENCE | N132: =M131-M130 -> -9.55
A135: TOTAL TROP PERCU : | L135: =SUM(L2:L134) -> 669.5 | N135: =SUM(N1:N134) -> -251.29

Sheet 0286
A1: FACTURE | B1: JOUR | C1: MOIS | D1: ANNEE | E1: RECEP | F1: EXP | G1: DEST | H1: VILLES | I1: DEPTS | J1: COLIS | K1: POIDS | L1: TARIFS
A2: 70400101 | B2: 03 | C2: 04 | D2: 17 | E2: 1223254 | F2: INVESTINT PAP | G2: 0286 ETAM PAP BERCY 2 | H2: CHARENTON LE PONT | I2: 94 | J2: 3 | K2: 15 | L2: 9.42
A3: 70400082 | B3: 03 | C3: 04 | D3: 17 | E3: 1223031 | F3: ETAM LINGERIE | G3: 0286 LINGERIE BERCY 2 | H3: CHARENTON LE PONT | I3: 94 | J3: 4 | K3: 19 | L3: 10.97
A4: TOTAL FACTURé | M4: =L2+L3 -> 20.39
B5: 03.04.2017 | I5: 44881 | J5: 44881 | K5: =IF(ISNUMBER(B5),"",CONVERT(J5,"g","kg")) -> 44.881 | M5: =IF(K5=0,0,IF(K5<=9,7.55,IF(K5<=15,9.42,IF(K5<=20,10.97,IF(K5<=27,12.25,IF(K5<=34,13.62,IF(K5<=39,15.33,IF(K5<=44,17.21,IF(K5<=49,17.31,IF(K5<=59,17.51,IF(K5<=69,20,IF(K5<=79,23.21,IF(K5<=89,22.7,IF(K5<=99.99,22.59,IF(K5<=499,22.54,IF(K5<=999,22.44,IF(K5<=25000,21.42,""))))))))))))))))) -> 17.31
A6: DIFFERENCE | N6: =M5-M4 -> -3.08
A9: 70400101 | B9: 04 | C9: 04 | D9: 17 | E9: 1224671 | F9: INVESTINT PAP | G9: 0286 ETAM PAP BERCY 2 | H9: CHARENTON LE PONT | I9: 94 | J9: 6 | K9: 60 | L9: 20
A10: 70400082 | B10: 04 | C10: 04 | D10: 17 | E10: 1224489 | F10: ETAM LINGERIE | G10: 0286 LINGERIE BERCY 2 | H10: CHARENTON LE PONT | I10: 94 | J10: 5 | K10: 16 | L10: 10.97
A11: TOTAL FACTURé | M11: =L9+L10 -> 30.97
B12: 04.04.2017 | I12: 61611 | J12: 61611 | K12: =IF(ISNUMBER(B12),"",CONVERT(J12,"g","kg")) -> 61.611 | M12: =IF(K12=0,0,IF(K12<=9,7.55,IF(K12<=15,9.42,IF(K12<=20,10.97,IF(K12<=27,12.25,IF(K12<=34,13.62,IF(K12<=39,15.33,IF(K12<=44,17.21,IF(K12<=49,17.31,IF(K12<=59,17.51,IF(K12<=69,20,IF(K12<=79,23.21,IF(K12<=89,22.7,IF(K12<=99.99,22.59,IF(K12<=499,22.54,IF(K12<=999,22.44,IF(K12<=25000,21.42,""))))))))))))))))) -> 20
A13: DIFFERENCE | N13: =M12-M11 -> -10.97
A16: 70400101 | B16: 05 | C16: 04 | D16: 17 | E16: 1225827 | F16: INVESTINT PAP | G16: 0286 ETAM PAP BERCY 2 | H16: CHARENTON LE PONT | I16: 94 | J16: 4 | K16: 20 | L16: 10.97
A17: 70400082 | B17: 05 | C17: 04 | D17: 17 | E17: 1225630 | F17: ETAM LINGERIE | G17: 0286 LINGERIE BERCY 2 | H17: CHARENTON LE PONT | I17: 94 | J17: 3 | K17: 11 | L17: 9.42
A18: TOTAL FACTURé | M18: =L16+L17 -> 20.39
B19: 05.04.2017 | I19: 42335 | J19: 42335 | K19: =IF(ISNUMBER(B19),"",CONVERT(J19,"g","kg")) -> 42.335 | M19: =IF(K19=0,0,IF(K19<=9,7.55,IF(K19<=15,9.42,IF(K19<=20,10.97,IF(K19<=27,12.25,IF(K19<=34,13.62,IF(K19<=39,15.33,IF(K19<=44,17.21,IF(K19<=49,17.31,IF(K19<=59,17.51,IF(K19<=69,20,IF(K19<=79,23.21,IF(K19<=89,22.7,IF(K19<=99.99,22.59,IF(K19<=499,22.54,IF(K19<=999,22.44,IF(K19<=25000,21.42,""))))))))))))))))) -> 17.21
A20: DIFFERENCE | N20: =M19-M18 -> -3.18
A23: 70400101 | B23: 06 | C23: 04 | D23: 17 | E23: 1226878 | F23: ETAM PAP | G23: 0286 ETAM PAP BERCY 2 | H23: CHARENTON LE PONT | I23: 94 | J23: 5 | K23: 47 | L23: 17.31
A24: 70400082 | B24: 06 | C24: 04 | D24: 17 | E24: 1227044 | F24: ETAM LINGERIE | G24: 0286 LINGERIE BERCY 2 | H24: CHARENTON LE PONT | I24: 94 | J24: 3 | K24: 18 | L24: 10.97
A25: TOTAL FACTURé | M25: =L23+L24 -> 28.28
B26: 06.04.2017 | I26: 67331 | J26: 67331 | K26: =IF(ISNUMBER(B26),"",CONVERT(J26,"g","kg")) -> 67.331 | M26: =IF(K26=0,0,IF(K26<=9,7.55,IF(K26<=15,9.42,IF(K26<=20,10.97,IF(K26<=27,12.25,IF(K26<=34,13.62,IF(K26<=39,15.33,IF(K26<=44,17.21,IF(K26<=49,17.31,IF(K26<=59,17.51,IF(K26<=69,20,IF(K26<=79,23.21,IF(K26<=89,22.7,IF(K26<=99.99,22.59,IF(K26<=499,22.54,IF(K26<=999,22.44,IF(K26<=25000,21.42,""))))))))))))))))) -> 20
A27: DIFFERENCE | N27: =M26-M25 -> -8.28
A30: 70400101 | B30: 07 | C30: 04 | D30: 17 | E30: 1228173 | F30: ETAM PAP | G30: 0286 ETAM PAP BERCY 2 | H30: CHARENTON LE PONT | I30: 94 | J30: 4 | K30: 29 | L30: 13.62
A31: 70400082 | B31: 07 | C31: 04 | D31: 17 | E31: 1228531 | F31: ETAM LINGERIE | G31: 0286 LINGERIE BERCY 2 | H31: CHARENTON LE PONT | I31: 94 | J31: 5 | K31: 12 | L31: 9.42
A32: TOTAL FACTURé | M32: =L30+L31 -> 23.04
B33: 07.04.2017 | I33: 42171 | J33: 42171 | K33: =IF(ISNUMBER(B33),"",CONVERT(J33,"g","kg")) -> 42.171 | M33: =IF(K33=0,0,IF(K33<=9,7.55,IF(K33<=15,9.42,IF(K33<=20,10.97,IF(K33<=27,12.25,IF(K33<=34,13.62,IF(K33<=39,15.33,IF(K33<=44,17.21,IF(K33<=49,17.31,IF(K33<=59,17.51,IF(K33<=69,20,IF(K33<=79,23.21,IF(K33<=89,22.7,IF(K33<=99.99,22.59,IF(K33<=499,22.54,IF(K33<=999,22.44,IF(K33<=25000,21.42,""))))))))))))))))) -> 17.21
A34: DIFFERENCE | N34: =M33-M32 -> -5.83
A37: 70400101 | B37: 10 | C37: 04 | D37: 17 | E37: 1229860 | F37: ETAM PAP | G37: 0286 ETAM PAP BERCY 2 | H37: CHARENTON LE PONT | I37: 94 | J37: 2 | K37: 15 | L37: 10.97
A38: 70400082 | B38: 10 | C38: 04 | D38: 17 | E38: 1230130 | F38: ETAM LINGERIE | G38: 0286 LINGERIE BERCY 2 | H38: CHARENTON LE PONT | I38: 94 | J38: 3 | K38: 10 | L38: 9.42
A39: TOTAL FACTURé | M39: =L37+L38 -> 20.39
B40: 10.04.2017 | I40: 26147 | J40: 26147 | K40: =IF(ISNUMBER(B40),"",CONVERT(J40,"g","kg")) -> 26.147 | M40: =IF(K40=0,0,IF(K40<=9,7.55,IF(K40<=15,9.42,IF(K40<=20,10.97,IF(K40<=27,12.25,IF(K40<=34,13.62,IF(K40<=39,15.33,IF(K40<=44,17.21,IF(K40<=49,17.31,IF(K40<=59,17.51,IF(K40<=69,20,IF(K40<=79,23.21,IF(K40<=89,22.7,IF(K40<=99.99,22.59,IF(K40<=499,22.54,IF(K40<=999,22.44,IF(K40<=25000,21.42,""))))))))))))))))) -> 12.25
A41: DIFFERENCE | N41: =M40-M39 -> -8.14
A44: 70400101 | B44: 11 | C44: 04 | D44: 17 | E44: 1231338 | F44: ETAM PAP | G44: 0286 ETAM PAP BERCY 2 | H44: CHARENTON LE PONT | I44: 94 | J44: 2 | K44: 11 | L44: 9.42
A45: 70400082 | B45: 11 | C45: 04 | D45: 17 | E45: 1231455 | F45: ETAM LINGERIE | G45: 0286 LINGERIE BERCY 2 | H45: CHARENTON LE PONT | I45: 94 | J45: 4 | K45: 11 | L45: 9.42
A46: TOTAL FACTURé | M46: =L44+L45 -> 18.84
B47: 11.04.2017 | I47: 22233 | J47: 22233 | K47: =IF(ISNUMBER(B47),"",CONVERT(J47,"g","kg")) -> 22.233 | M47: =IF(K47=0,0,IF(K47<=9,7.55,IF(K47<=15,9.42,IF(K47<=20,10.97,IF(K47<=27,12.25,IF(K47<=34,13.62,IF(K47<=39,15.33,IF(K47<=44,17.21,IF(K47<=49,17.31,IF(K47<=59,17.51,IF(K47<=69,20,IF(K47<=79,23.21,IF(K47<=89,22.7,IF(K47<=99.99,22.59,IF(K47<=499,22.54,IF(K47<=999,22.44,IF(K47<=25000,21.42,""))))))))))))))))) -> 12.25
A48: DIFFERENCE | N48: =M47-M46 -> -6.59
A51: 70400101 | B51: 12 | C51: 04 | D51: 17 | E51: 1232299 | F51: ETAM PAP | G51: 0286 ETAM PAP BERCY 2 | H51: CHARENTON LE PONT | I51: 94 | J51: 3 | K51: 21 | L51: 12.25
A52: 70400082 | B52: 12 | C52: 04 | D52: 17 | E52: 1232761 | F52: ETAM LINGERIE | G52: 0286 LINGERIE BERCY 2 | H52: CHARENTON LE PONT | I52: 94 | J52: 3 | K52: 12 | L52: 9.42
A53: TOTAL FACTURé | M53: =L51+L52 -> 21.67
B54: 12.04.2017 | I54: 35514 | J54: 35514 | K54: =IF(ISNUMBER(B54),"",CONVERT(J54,"g","kg")) -> 35.514 | M54: =IF(K54=0,0,IF(K54<=9,7.55,IF(K54<=15,9.42,IF(K54<=20,10.97,IF(K54<=27,12.25,IF(K54<=34,13.62,IF(K54<=39,15.33,IF(K54<=44,17.21,IF(K54<=49,17.31,IF(K54<=59,17.51,IF(K54<=69,20,IF(K54<=79,23.21,IF(K54<=89,22.7,IF(K54<=99.99,22.59,IF(K54<=499,22.54,IF(K54<=999,22.44,IF(K54<=25000,21.42,""))))))))))))))))) -> 15.33
A55: DIFFERENCE | N55: =M54-M53 -> -6.34
A58: 70400101 | B58: 13 | C58: 04 | D58: 17 | E58: 1233942 | F58: ETAM PAP | G58: 0286 ETAM PAP BERCY 2 | H58: CHARENTON LE PONT | I58: 94 | J58: 2 | K58: 7 | L58: 7.55
A59: 70400082 | B59: 13 | C59: 04 | D59: 17 | E59: 1234209 | F59: ETAM LINGERIE | G59: 0286 LINGERIE BERCY 2 | H59: CHARENTON LE PONT | I59: 94 | J59: 4 | K59: 11 | L59: 9.42
A60: TOTAL FACTURé | M60: =L58+L59 -> 16.97
B61: 13.04.2017 | I61: 19990 | J61: 19990 | K61: =IF(ISNUMBER(B61),"",CONVERT(J61,"g","kg")) -> 19.99 | M61: =IF(K61=0,0,IF(K61<=9,7.55,IF(K61<=15,9.42,IF(K61<=20,10.97,IF(K61<=27,12.25,IF(K61<=34,13.62,IF(K61<=39,15.33,IF(K61<=44,17.21,IF(K61<=49,17.31,IF(K61<=59,17.51,IF(K61<=69,20,IF(K61<=79,23.21,IF(K61<=89,22.7,IF(K61<=99.99,22.59,IF(K61<=499,22.54,IF(K61<=999,22.44,IF(K61<=25000,21.42,""))))))))))))))))) -> 10.97
A62: DIFFERENCE | N62: =M61-M60 -> -6
A65: 70400101 | B65: 14 | C65: 04 | D65: 17 | E65: 1235220 | F65: ETAM PAP | G65: 0286 ETAM PAP BERCY 2 | H65: CHARENTON LE PONT | I65: 94 | J65: 1 | K65: 11 | L65: 9.42
A66: 70400082 | B66: 14 | C66: 04 | D66: 17 | E66: 1235390 | F66: ETAM LINGERIE | G66: 0286 LINGERIE BERCY 2 | H66: CHARENTON LE PONT | I66: 94 | J66: 3 | K66: 9 | L66: 9.42
A67: TOTAL FACTURé | M67: =L65+L66 -> 18.84
B68: 14.04.2017 | I68: 21263 | J68: 21263 | K68: =IF(ISNUMBER(B68),"",CONVERT(J68,"g","kg")) -> 21.263 | M68: =IF(K68=0,0,IF(K68<=9,7.55,IF(K68<=15,9.42,IF(K68<=20,10.97,IF(K68<=27,12.25,IF(K68<=34,13.62,IF(K68<=39,15.33,IF(K68<=44,17.21,IF(K68<=49,17.31,IF(K68<=59,17.51,IF(K68<=69,20,IF(K68<=79,23.21,IF(K68<=89,22.7,IF(K68<=99.99,22.59,IF(K68<=499,22.54,IF(K68<=999,22.44,IF(K68<=25000,21.42,""))))))))))))))))) -> 12.25
A69: DIFFERENCE | N69: =M68-M67 -> -6.59
A72: 70400101 | B72: 18 | C72: 04 | D72: 17 | E72: 1236285 | F72: ETAM PAP | G72: 0286 ETAM PAP BERCY 2 | H72: CHARENTON LE PONT | I72: 94 | J72: 2 | K72: 16 | L72: 10.97
A73: 70400082 | B73: 18 | C73: 04 | D73: 17 | E73: 1236858 | F73: ETAM LINGERIE | G73: 0286 LINGERIE BERCY 2 | H73: CHARENTON LE PONT | I73: 94 | J73: 4 | K73: 17 | L73: 10.97
A74: TOTAL FACTURé | M74: =L72+L73 -> 21.94
B75: 18.04.2017 | I75: 37739 | J75: 37739 | K75: =IF(ISNUMBER(B75),"",CONVERT(J75,"g","kg")) -> 37.739 | M75: =IF(K75=0,0,IF(K75<=9,7.55,IF(K75<=15,9.42,IF(K75<=20,10.97,IF(K75<=27,12.25,IF(K75<=34,13.62,IF(K75<=39,15.33,IF(K75<=44,17.21,IF(K75<=49,17.31,IF(K75<=59,17.51,IF(K75<=69,20,IF(K75<=79,23.21,IF(K75<=89,22.7,IF(K75<=99.99,22.59,IF(K75<=499,22.54,IF(K75<=999,22.44,IF(K75<=25000,21.42,""))))))))))))))))) -> 15.33
A76: DIFFERENCE | N76: =M75-M74 -> -6.61
A79: 70400101 | B79: 19 | C79: 04 | D79: 17 | E79: 1237796 | F79: ETAM PAP | G79: 0286 ETAM PAP BERCY 2 | H79: CHARENTON LE PONT | I79: 94 | J79: 2 | K79: 17 | L79: 10.97
A80: 70400082 | B80: 19 | C80: 04 | D80: 17 | E80: 1238252 | F80: ETAM LINGERIE | G80: 0286 LINGERIE BERCY 2 | H80: CHARENTON LE PONT | I80: 94 | J80: 2 | K80: 2 | L80: 7.55
A81: TOTAL FACTURé | M81: =L79+L80 -> 18.52
B82: 19.04.2017 | I82: 21244 | J82: 21244 | K82: =IF(ISNUMBER(B82),"",CONVERT(J82,"g","kg")) -> 21.244 | M82: =IF(K82=0,0,IF(K82<=9,7.55,IF(K82<=15,9.42,IF(K82<=20,10.97,IF(K82<=27,12.25,IF(K82<=34,13.62,IF(K82<=39,15.33,IF(K82<=44,17.21,IF(K82<=49,17.31,IF(K82<=59,17.51,IF(K82<=69,20,IF(K82<=79,23.21,IF(K82<=89,22.7,IF(K82<=99.99,22.59,IF(K82<=499,22.54,IF(K82<=999,22.44,IF(K82<=25000,21.42,""))))))))))))))))) -> 12.25
A83: DIFFERENCE | N83: =M82-M81 -> -6.27
A86: 70400101 | B86: 20 | C86: 04 | D86: 17 | E86: 1239476 | F86: ETAM PAP | G86: 0286 ETAM PAP BERCY 2 | H86: CHARENTON LE PONT | I86: 94 | J86: 3 | K86: 21 | L86: 12.25
A87: 70400082 | B87: 20 | C87: 04 | D87: 17 | E87: 1239647 | F87: ETAM LINGERIE | G87: 0286 LINGERIE BERCY 2 | H87: CHARENTON LE PONT | I87: 94 | J87: 3 | K87: 12 | L87: 9.42
A88: TOTAL FACTURé | M88: =L86+L87 -> 21.67
B89: 20.04.2017 | I89: 33507 | J89: 33507 | K89: =IF(ISNUMBER(B89),"",CONVERT(J89,"g","kg")) -> 33.507 | M89: =IF(K89=0,0,IF(K89<=9,7.55,IF(K89<=15,9.42,IF(K89<=20,10.97,IF(K89<=27,12.25,IF(K89<=34,13.62,IF(K89<=39,15.33,IF(K89<=44,17.21,IF(K89<=49,17.31,IF(K89<=59,17.51,IF(K89<=69,20,IF(K89<=79,23.21,IF(K89<=89,22.7,IF(K89<=99.99,22.59,IF(K89<=499,22.54,IF(K89<=999,22.44,IF(K89<=25000,21.42,""))))))))))))))))) -> 13.62
A90: DIFFERENCE | N90: =M89-M88 -> -8.05
A93: 70400101 | B93: 21 | C93: 04 | D93: 17 | E93: 1240722 | F93: ETAM PAP | G93: 0286 ETAM PAP BERCY 2 | H93: CHARENTON LE PONT | I93: 94 | J93: 2 | K93: 2 | L93: 7.55
A94: 70400082 | B94: 21 | C94: 04 | D94: 17 | E94: 1240859 | F94: ETAM LINGERIE | G94: 0286 LINGERIE BERCY 2 | H94: CHARENTON LE PONT | I94: 94 | J94: 2 | K94: 3 | L94: 7.55
A95: TOTAL FACTURé | M95: =L93+L94 -> 15.1
B96: 21.04.2017 | I96: 6562 | J96: 6562 | K96: =IF(ISNUMBER(B96),"",CONVERT(J96,"g","kg")) -> 6.562 | M96: =IF(K96=0,0,IF(K96<=9,7.55,IF(K96<=15,9.42,IF(K96<=20,10.97,IF(K96<=27,12.25,IF(K96<=34,13.62,IF(K96<=39,15.33,IF(K96<=44,17.21,IF(K96<=49,17.31,IF(K96<=59,17.51,IF(K96<=69,20,IF(K96<=79,23.21,IF(K96<=89,22.7,IF(K96<=99.99,22.59,IF(K96<=499,22.54,IF(K96<=999,22.44,IF(K96<=25000,21.42,""))))))))))))))))) -> 7.55
A97: DIFFERENCE | N97: =M96-M95 -> -7.55
A100: 70400101 | B100: 24 | C100: 04 | D100: 17 | E100: 1242096 | F100: ETAM PAP | G100: 0286 ETAM PAP BERCY 2 | H100: CHARENTON LE PONT | I100: 94 | J100: 6 | K100: 48 | L100: 17.31
A101: 70400082 | B101: 24 | C101: 04 | D101: 17 | E101: 1242367 | F101: ETAM LINGERIE | G101: 0286 LINGERIE BERCY 2 | H101: CHARENTON LE PONT | I101: 94 | J101: 4 | K101: 11 | L101: 9.42
A102: TOTAL FACTURé | M102: =L100+L101 -> 26.73
B103: 24.04.2017 | I103: 62593 | J103: 62593 | K103: =IF(ISNUMBER(B103),"",CONVERT(J103,"g","kg")) -> 62.593 | M103: =IF(K103=0,0,IF(K103<=9,7.55,IF(K103<=15,9.42,IF(K103<=20,10.97,IF(K103<=27,12.25,IF(K103<=34,13.62,IF(K103<=39,15.33,IF(K103<=44,17.21,IF(K103<=49,17.31,IF(K103<=59,17.51,IF(K103<=69,20,IF(K103<=79,23.21,IF(K103<=89,22.7,IF(K103<=99.99,22.59,IF(K103<=499,22.54,IF(K103<=999,22.44,IF(K103<=25000,21.42,""))))))))))))))))) -> 20
A104: DIFFERENCE | N104: =M103-M102 -> -6.73
A107: 70400101 | B107: 25 | C107: 04 | D107: 17 | E107: 1243459 | F107: ETAM PAP | G107: 0286 ETAM PAP BERCY 2 | H107: CHARENTON LE PONT | I107: 94 | J107: 6 | K107: 48 | L107: 17.31
A108: 70400082 | B108: 25 | C108: 04 | D108: 17 | E108: 1243687 | F108: ETAM LINGERIE | G108: 0286 LINGERIE BERCY 2 | H108: CHARENTON LE PONT | I108: 94 | J108: 3 | K108: 10 | L108: 9.42
A109: TOTAL FACTURé | M109: =L107+L108 -> 26.73
B110: 25.04.2017 | I110: 59141 | J110: 59141 | K110: =IF(ISNUMBER(B110),"",CONVERT(J110,"g","kg")) -> 59.141 | M110: =IF(K110=0,0,IF(K110<=9,7.55,IF(K110<=15,9.42,IF(K110<=20,10.97,IF(K110<=27,12.25,IF(K110<=34,13.62,IF(K110<=39,15.33,IF(K110<=44,17.21,IF(K110<=49,17.31,IF(K110<=59,17.51,IF(K110<=69,20,IF(K110<=79,23.21,IF(K110<=89,22.7,IF(K110<=99.99,22.59,IF(K110<=499,22.54,IF(K110<=999,22.44,IF(K110<=25000,21.42,""))))))))))))))))) -> 20
A111: DIFFERENCE | N111: =M110-M109 -> -6.73
A114: 70400101 | B114: 26 | C114: 04 | D114: 17 | E114: 1244258 | F114: ETAM PAP | G114: 0286 ETAM PAP BERCY 2 | H114: CHARENTON LE PONT | I114: 94 | J114: 2 | K114: 13 | L114: 9.42
A115: 70400082 | B115: 26 | C115: 04 | D115: 17 | E115: 1245195 | F115: ETAM LINGERIE | G115: 0286 LINGERIE BERCY 2 | H115: CHARENTON LE PONT | I115: 94 | J115: 3 | K115: 5 | L115: 7.55
A116: TOTAL FACTURé | M116: =L114+L115 -> 16.97
B117: 26.04.2017 | I117: 19383 | J117: 19383 | K117: =IF(ISNUMBER(B117),"",CONVERT(J117,"g","kg")) -> 19.383 | M117: =IF(K117=0,0,IF(K117<=9,7.55,IF(K117<=15,9.42,IF(K117<=20,10.97,IF(K117<=27,12.25,IF(K117<=34,13.62,IF(K117<=39,15.33,IF(K117<=44,17.21,IF(K117<=49,17.31,IF(K117<=59,17.51,IF(K117<=69,20,IF(K117<=79,23.21,IF(K117<=89,22.7,IF(K117<=99.99,22.59,IF(K117<=499,22.54,IF(K117<=999,22.44,IF(K117<=25000,21.42,""))))))))))))))))) -> 10.97
A118: DIFFERENCE | N118: =M117-M116 -> -6
A121: 70400101 | B121: 27 | C121: 04 | D121: 17 | E121: 1246261 | F121: ETAM PAP | G121: 0286 ETAM PAP BERCY 2 | H121: CHARENTON LE PONT | I121: 94 | J121: 4 | K121: 29 | L121: 13.62
A122: 70400082 | B122: 27 | C122: 04 | D122: 17 | E122: 1246579 | F122: ETAM LINGERIE | G122: 0286 LINGERIE BERCY 2 | H122: CHARENTON LE PONT | I122: 94 | J122: 3 | K122: 15 | L122: 10.97
A123: TOTAL FACTURé | M123: =L121+L122 -> 24.59
B124: 27.04.2017 | I124: 46282 | J124: 46282 | K124: =IF(ISNUMBER(B124),"",CONVERT(J124,"g","kg")) -> 46.282 | M124: =IF(K124=0,0,IF(K124<=9,7.55,IF(K124<=15,9.42,IF(K124<=20,10.97,IF(K124<=27,12.25,IF(K124<=34,13.62,IF(K124<=39,15.33,IF(K124<=44,17.21,IF(K124<=49,17.31,IF(K124<=59,17.51,IF(K124<=69,20,IF(K124<=79,23.21,IF(K124<=89,22.7,IF(K124<=99.99,22.59,IF(K124<=499,22.54,IF(K124<=999,22.44,IF(K124<=25000,21.42,""))))))))))))))))) -> 17.31
A125: DIFFERENCE | N125: =M124-M123 -> -7.28
A128: 70400101 | B128: 28 | C128: 04 | D128: 17 | E128: 1247635 | F128: ETAM PAP | G128: 0286 ETAM PAP BERCY 2 | H128: CHARENTON LE PONT | I128: 94 | J128: 4 | K128: 25 | L128: 12.25
A129: 70400082 | B129: 28 | C129: 04 | D129: 17 | E129: 1247811 | F129: ETAM LINGERIE | G129: 0286 LINGERIE BERCY 2 | H129: CHARENTON LE PONT | I129: 94 | J129: 3 | K129: 12 | L129: 9.42
A130: TOTAL FACTURé | M130: =L128+L129 -> 21.67
B131: 28.04.2017 | I131: 40139 | J131: 40139 | K131: =IF(ISNUMBER(B131),"",CONVERT(J131,"g","kg")) -> 40.139 | M131: =IF(K131=0,0,IF(K131<=9,7.55,IF(K131<=15,9.42,IF(K131<=20,10.97,IF(K131<=27,12.25,IF(K131<=34,13.62,IF(K131<=39,15.33,IF(K131<=44,17.21,IF(K131<=49,17.31,IF(K131<=59,17.51,IF(K131<=69,20,IF(K131<=79,23.21,IF(K131<=89,22.7,IF(K131<=99.99,22.59,IF(K131<=499,22.54,IF(K131<=999,22.44,IF(K131<=25000,21.42,""))))))))))))))))) -> 17.21
A132: DIFFERENCE | N132: =M131-M130 -> -4.46
A135: TOTAL TROP PERCU : | L135: =SUM(L2:L134) -> 413.7 | N135: =SUM(N1:N134) -> -124.68

Sheet 1026
A1: FACTURE | B1: JOUR | C1: MOIS | D1: ANNEE | E1: RECEP | F1: EXP | G1: DEST | H1: VILLES | I1: DEPTS | J1: COLIS | K1: POIDS | L1: TARIFS
A2: 70400101 | B2: 03 | C2: 04 | D2: 17 | E2: 1223258 | F2: INVESTINT PAP | G2: 1026 ETAM PAP ARGENTEUIL | H2: ARGENTEUIL | I2: 95 | J2: 7 | K2: 35 | L2: 15.33
A3: 70400082 | B3: 03 | C3: 04 | D3: 17 | E3: 1223037 | F3: ETAM LINGERIE | G3: 1026 LINGERIE ARGENTEUIL | H3: ARGENTEUIL | I3: 95 | J3: 4 | K3: 20 | L3: 12.25
A4: TOTAL FACTURé | M4: =L2+L3 -> 27.58
B5: 03.04.2017 | I5: 77187 | J5: 77187 | K5: =IF(ISNUMBER(B5),"",CONVERT(J5,"g","kg")) -> 77.187 | M5: =IF(K5=0,0,IF(K5<=9,7.55,IF(K5<=15,9.42,IF(K5<=20,10.97,IF(K5<=27,12.25,IF(K5<=34,13.62,IF(K5<=39,15.33,IF(K5<=44,17.21,IF(K5<=49,17.31,IF(K5<=59,17.51,IF(K5<=69,20,IF(K5<=79,23.21,IF(K5<=89,22.7,IF(K5<=99.99,22.59,IF(K5<=499,22.54,IF(K5<=999,22.44,IF(K5<=25000,21.42,""))))))))))))))))) -> 23.21
A6: DIFFERENCE | N6: =M5-M4 -> -4.37
A9: 70400101 | B9: 04 | C9: 04 | D9: 17 | E9: 1224666 | F9: INVESTINT PAP | G9: 1026 ETAM PAP ARGENTEUIL | H9: ARGENTEUIL | I9: 95 | J9: 8 | K9: 80 | L9: 22.7
A10: 70400082 | B10: 04 | C10: 04 | D10: 17 | E10: 1224500 | F10: ETAM LINGERIE | G10: 1026 LINGERIE ARGENTEUIL | H10: ARGENTEUIL | I10: 95 | J10: 8 | K10: 39 | L10: 17.21
A11: TOTAL FACTURé | M11: =L9+L10 -> 39.91
B12: 04.04.2017 | I12: 98336 | J12: 98336 | K12: =IF(ISNUMBER(B12),"",CONVERT(J12,"g","kg")) -> 98.336 | M12: =IF(K12=0,0,IF(K12<=9,7.55,IF(K12<=15,9.42,IF(K12<=20,10.97,IF(K12<=27,12.25,IF(K12<=34,13.62,IF(K12<=39,15.33,IF(K12<=44,17.21,IF(K12<=49,17.31,IF(K12<=59,17.51,IF(K12<=69,20,IF(K12<=79,23.21,IF(K12<=89,22.7,IF(K12<=99.99,22.59,IF(K12<=499,22.54,IF(K12<=999,22.44,IF(K12<=25000,21.42,""))))))))))))))))) -> 22.59
A13: DIFFERENCE | N13: =M12-M11 -> -17.32
A16: 70400101 | B16: 05 | C16: 04 | D16: 17 | E16: 1225838 | F16: INVESTINT PAP | G16: 1026 ETAM PAP ARGENTEUIL | H16: ARGENTEUIL | I16: 95 | J16: 3 | K16: 15 | L16: 9.42
A17: 70400082 | B17: 05 | C17: 04 | D17: 17 | E17: 1225635 | F17: ETAM LINGERIE | G17: 1026 LINGERIE ARGENTEUIL | H17: ARGENTEUIL | I17: 95 | J17: 4 | K17: 21 | L17: 12.25
A18: TOTAL FACTURé | M18: =L16+L17 -> 21.67
B19: 05.04.2017 | I19: 54580 | J19: 54580 | K19: =IF(ISNUMBER(B19),"",CONVERT(J19,"g","kg")) -> 54.58 | M19: =IF(K19=0,0,IF(K19<=9,7.55,IF(K19<=15,9.42,IF(K19<=20,10.97,IF(K19<=27,12.25,IF(K19<=34,13.62,IF(K19<=39,15.33,IF(K19<=44,17.21,IF(K19<=49,17.31,IF(K19<=59,17.51,IF(K19<=69,20,IF(K19<=79,23.21,IF(K19<=89,22.7,IF(K19<=99.99,22.59,IF(K19<=499,22.54,IF(K19<=999,22.44,IF(K19<=25000,21.42,""))))))))))))))))) -> 17.51
A20: DIFFERENCE | N20: =M19-M18 -> -4.16
A23: 70400101 | B23: 06 | C23: 04 | D23: 17 | E23: 1226880 | F23: ETAM PAP | G23: 1026 ETAM PAP ARGENTEUIL | H23: ARGENTEUIL | I23: 95 | J23: 7 | K23: 51 | L23: 17.51
A24: 70400082 | B24: 06 | C24: 04 | D24: 17 | E24: 1227050 | F24: ETAM LINGERIE | G24: 1026 LINGERIE ARGENTEUIL | H24: ARGENTEUIL | I24: 95 | J24: 6 | K24: 47 | L24: 17.31
A25: TOTAL FACTURé | M25: =L23+L24 -> 34.82
B26: 06.04.2017 | I26: 98652 | J26: 98652 | K26: =IF(ISNUMBER(B26),"",CONVERT(J26,"g","kg")) -> 98.652 | M26: =IF(K26=0,0,IF(K26<=9,7.55,IF(K26<=15,9.42,IF(K26<=20,10.97,IF(K26<=27,12.25,IF(K26<=34,13.62,IF(K26<=39,15.33,IF(K26<=44,17.21,IF(K26<=49,17.31,IF(K26<=59,17.51,IF(K26<=69,20,IF(K26<=79,23.21,IF(K26<=89,22.7,IF(K26<=99.99,22.59,IF(K26<=499,22.54,IF(K26<=999,22.44,IF(K26<=25000,21.42,""))))))))))))))))) -> 22.59
A27: DIFFERENCE | N27: =M26-M25 -> -12.23
A30: 70400101 | B30: 07 | C30: 04 | D30: 17 | E30: 1228175 | F30: ETAM PAP | G30: 1026 ETAM PAP ARGENTEUIL | H30: ARGENTEUIL | I30: 95 | J30: 5 | K30: 49 | L30: 17.31
A31: 70400082 | B31: 07 | C31: 04 | D31: 17 | E31: 1228536 | F31: ETAM LINGERIE | G31: 1026 LINGERIE ARGENTEUIL | H31: ARGENTEUIL | I31: 95 | J31: 4 | K31: 12 | L31: 9.42
A32: TOTAL FACTURé | M32: =L30+L31 -> 26.73
B33: 07.04.2017 | I33: 62625 | J33: 62625 | K33: =IF(ISNUMBER(B33),"",CONVERT(J33,"g","kg")) -> 62.625 | M33: =IF(K33=0,0,IF(K33<=9,7.55,IF(K33<=15,9.42,IF(K33<=20,10.97,IF(K33<=27,12.25,IF(K33<=34,13.62,IF(K33<=39,15.33,IF(K33<=44,17.21,IF(K33<=49,17.31,IF(K33<=59,17.51,IF(K33<=69,20,IF(K33<=79,23.21,IF(K33<=89,22.7,IF(K33<=99.99,22.59,IF(K33<=499,22.54,IF(K33<=999,22.44,IF(K33<=25000,21.42,""))))))))))))))))) -> 20
A34: DIFFERENCE | N34: =M33-M32 -> -6.73
A37: 70400101 | B37: 10 | C37: 04 | D37: 17 | E37: 1229862 | F37: ETAM PAP | G37: 1026 ETAM PAP ARGENTEUIL | H37: ARGENTEUIL | I37: 95 | J37: 4 | K37: 38 | L37: 15.33
A38: 70400082 | B38: 10 | C38: 04 | D38: 17 | E38: 1230135 | F38: ETAM LINGERIE | G38: 1026 LINGERIE ARGENTEUIL | H38: ARGENTEUIL | I38: 95 | J38: 4 | K38: 18 | L38: 10.97
A39: TOTAL FACTURé | M39: =L37+L38 -> 26.3
B40: 10.04.2017 | I40: 58538 | J40: 58538 | K40: =IF(ISNUMBER(B40),"",CONVERT(J40,"g","kg")) -> 58.538 | M40: =IF(K40=0,0,IF(K40<=9,7.55,IF(K40<=15,9.42,IF(K40<=20,10.97,IF(K40<=27,12.25,IF(K40<=34,13.62,IF(K40<=39,15.33,IF(K40<=44,17.21,IF(K40<=49,17.31,IF(K40<=59,17.51,IF(K40<=69,20,IF(K40<=79,23.21,IF(K40<=89,22.7,IF(K40<=99.99,22.59,IF(K40<=499,22.54,IF(K40<=999,22.44,IF(K40<=25000,21.42,""))))))))))))))))) -> 17.51
A41: DIFFERENCE | N41: =M40-M39 -> -8.79
A44: 70400101 | B44: 11 | C44: 04 | D44: 17 | E44: 1231340 | F44: ETAM PAP | G44: 1026 ETAM PAP ARGENTEUIL | H44: ARGENTEUIL | I44: 95 | J44: 4 | K44: 30 | L44: 13.62
A45: 70400082 | B45: 11 | C45: 04 | D45: 17 | E45: 1231460 | F45: ETAM LINGERIE | G45: 1026 LINGERIE ARGENTEUIL | H45: ARGENTEUIL | I45: 95 | J45: 5 | K45: 20 | L45: 12.25
A46: TOTAL FACTURé | M46: =L44+L45 -> 25.87
B47: 11.04.2017 | I47: 52617 | J47: 52617 | K47: =IF(ISNUMBER(B47),"",CONVERT(J47,"g","kg")) -> 52.617 | M47: =IF(K47=0,0,IF(K47<=9,7.55,IF(K47<=15,9.42,IF(K47<=20,10.97,IF(K47<=27,12.25,IF(K47<=34,13.62,IF(K47<=39,15.33,IF(K47<=44,17.21,IF(K47<=49,17.31,IF(K47<=59,17.51,IF(K47<=69,20,IF(K47<=79,23.21,IF(K47<=89,22.7,IF(K47<=99.99,22.59,IF(K47<=499,22.54,IF(K47<=999,22.44,IF(K47<=25000,21.42,""))))))))))))))))) -> 17.51
A48: DIFFERENCE | N48: =M47-M46 -> -8.36
A51: 70400101 | B51: 12 | C51: 04 | D51: 17 | E51: 1232301 | F51: ETAM PAP | G51: 1026 ETAM PAP ARGENTEUIL | H51: ARGENTEUIL | I51: 95 | J51: 3 | K51: 24 | L51: 12.25
A52: 70400082 | B52: 12 | C52: 04 | D52: 17 | E52: 1232766 | F52: ETAM LINGERIE | G52: 1026 LINGERIE ARGENTEUIL | H52: ARGENTEUIL | I52: 95 | J52: 4 | K52: 17 | L52: 10.97
A53: TOTAL FACTURé | M53: =L51+L52 -> 23.22
B54: 12.04.2017 | I54: 42454 | J54: 42454 | K54: =IF(ISNUMBER(B54),"",CONVERT(J54,"g","kg")) -> 42.454 | M54: =IF(K54=0,0,IF(K54<=9,7.55,IF(K54<=15,9.42,IF(K54<=20,10.97,IF(K54<=27,12.25,IF(K54<=34,13.62,IF(K54<=39,15.33,IF(K54<=44,17.21,IF(K54<=49,17.31,IF(K54<=59,17.51,IF(K54<=69,20,IF(K54<=79,23.21,IF(K54<=89,22.7,IF(K54<=99.99,22.59,IF(K54<=499,22.54,IF(K54<=999,22.44,IF(K54<=25000,21.42,""))))))))))))))))) -> 17.21
A55: DIFFERENCE | N55: =M54-M53 -> -6.01
A58: 70400101 | B58: 13 | C58: 04 | D58: 17 | E58: 1233944 | F58: ETAM PAP | G58: 1026 ETAM PAP ARGENTEUIL | H58: ARGENTEUIL | I58: 95 | J58: 5 | K58: 30 | L58: 13.62
A59: 70400082 | B59: 13 | C59: 04 | D59: 17 | E59: 1234214 | F59: ETAM LINGERIE | G59: 1026 LINGERIE ARGENTEUIL | H59: ARGENTEUIL | I59: 95 | J59: 5 | K59: 18 | L59: 10.97
A60: TOTAL FACTURé | M60: =L58+L59 -> 24.59
B61: 13.04.2017 | I61: 49108 | J61: 49108 | K61: =IF(ISNUMBER(B61),"",CONVERT(J61,"g","kg")) -> 49.108 | M61: =IF(K61=0,0,IF(K61<=9,7.55,IF(K61<=15,9.42,IF(K61<=20,10.97,IF(K61<=27,12.25,IF(K61<=34,13.62,IF(K61<=39,15.33,IF(K61<=44,17.21,IF(K61<=49,17.31,IF(K61<=59,17.51,IF(K61<=69,20,IF(K61<=79,23.21,IF(K61<=89,22.7,IF(K61<=99.99,22.59,IF(K61<=499,22.54,IF(K61<=999,22.44,IF(K61<=25000,21.42,""))))))))))))))))) -> 17.51
A62: DIFFERENCE | N62: =M61-M60 -> -7.08
A65: 70400101 | B65: 14 | C65: 04 | D65: 17 | E65: 1235221 | F65: ETAM PAP | G65: 1026 ETAM PAP ARGENTEUIL | H65: ARGENTEUIL | I65: 95 | J65: 2 | K65: 19 | L65: 10.97
A66: 70400082 | B66: 14 | C66: 04 | D66: 17 | E66: 1235395 | F66: ETAM LINGERIE | G66: 1026 LINGERIE ARGENTEUIL | H66: ARGENTEUIL | I66: 95 | J66: 3 | K66: 11 | L66: 9.42
A67: TOTAL FACTURé | M67: =L65+L66 -> 20.39
B68: 14.04.2017 | I68: 31027 | J68: 31027 | K68: =IF(ISNUMBER(B68),"",CONVERT(J68,"g","kg")) -> 31.027 | M68: =IF(K68=0,0,IF(K68<=9,7.55,IF(K68<=15,9.42,IF(K68<=20,10.97,IF(K68<=27,12.25,IF(K68<=34,13.62,IF(K68<=39,15.33,IF(K68<=44,17.21,IF(K68<=49,17.31,IF(K68<=59,17.51,IF(K68<=69,20,IF(K68<=79,23.21,IF(K68<=89,22.7,IF(K68<=99.99,22.59,IF(K68<=499,22.54,IF(K68<=999,22.44,IF(K68<=25000,21.42,""))))))))))))))))) -> 13.62
A69: DIFFERENCE | N69: =M68-M67 -> -6.77
A72: 70400101 | B72: 18 | C72: 04 | D72: 17 | E72: 1236287 | F72: ETAM PAP | G72: 1026 ETAM PAP ARGENTEUIL | H72: ARGENTEUIL | I72: 95 | J72: 4 | K72: 41 | L72: 17.21
A73: 70400082 | B73: 18 | C73: 04 | D73: 17 | E73: 1236863 | F73: ETAM LINGERIE | G73: 1026 LINGERIE ARGENTEUIL | H73: ARGENTEUIL | I73: 95 | J73: 5 | K73: 26 | L73: 12.25
A74: TOTAL FACTURé | M74: =L72+L73 -> 29.46
B75: 18.04.2017 | I75: 72069 | J75: 72069 | K75: =IF(ISNUMBER(B75),"",CONVERT(J75,"g","kg")) -> 72.069 | M75: =IF(K75=0,0,IF(K75<=9,7.55,IF(K75<=15,9.42,IF(K75<=20,10.97,IF(K75<=27,12.25,IF(K75<=34,13.62,IF(K75<=39,15.33,IF(K75<=44,17.21,IF(K75<=49,17.31,IF(K75<=59,17.51,IF(K75<=69,20,IF(K75<=79,23.21,IF(K75<=89,22.7,IF(K75<=99.99,22.59,IF(K75<=499,22.54,IF(K75<=999,22.44,IF(K75<=25000,21.42,""))))))))))))))))) -> 23.21
A76: DIFFERENCE | N76: =M75-M74 -> -6.25
A79: 70400101 | B79: 19 | C79: 04 | D79: 17 | E79: 1237798 | F79: ETAM PAP | G79: 1026 ETAM PAP ARGENTEUIL | H79: ARGENTEUIL | I79: 95 | J79: 5 | K79: 46 | L79: 17.31
A80: 70400082 | B80: 19 | C80: 04 | D80: 17 | E80: 1238257 | F80: ETAM LINGERIE | G80: 1026 LINGERIE ARGENTEUIL | H80: ARGENTEUIL | I80: 95 | J80: 3 | K80: 7 | L80: 7.55
A81: TOTAL FACTURé | M81: =L79+L80 -> 24.86
B82: 19.04.2017 | I82: 55237 | J82: 55237 | K82: =IF(ISNUMBER(B82),"",CONVERT(J82,"g","kg")) -> 55.237 | M82: =IF(K82=0,0,IF(K82<=9,7.55,IF(K82<=15,9.42,IF(K82<=20,10.97,IF(K82<=27,12.25,IF(K82<=34,13.62,IF(K82<=39,15.33,IF(K82<=44,17.21,IF(K82<=49,17.31,IF(K82<=59,17.51,IF(K82<=69,20,IF(K82<=79,23.21,IF(K82<=89,22.7,IF(K82<=99.99,22.59,IF(K82<=499,22.54,IF(K82<=999,22.44,IF(K82<=25000,21.42,""))))))))))))))))) -> 17.51
A83: DIFFERENCE | N83: =M82-M81 -> -7.35
A86: 70400101 | B86: 20 | C86: 04 | D86: 17 | E86: 1239478 | F86: ETAM PAP | G86: 1026 ETAM PAP ARGENTEUIL | H86: ARGENTEUIL | I86: 95 | J86: 5 | K86: 29 | L86: 13.62
A87: 70400082 | B87: 20 | C87: 04 | D87: 17 | E87: 1239652 | F87: ETAM LINGERIE | G87: 1026 LINGERIE ARGENTEUIL | H87: ARGENTEUIL | I87: 95 | J87: 3 | K87: 12 | L87: 9.42
A88: TOTAL FACTURé | M88: =L86+L87 -> 23.04
B89: 20.04.2017 | I89: 42149 | J89: 42149 | K89: =IF(ISNUMBER(B89),"",CONVERT(J89,"g","kg")) -> 42.149 | M89: =IF(K89=0,0,IF(K89<=9,7.55,IF(K89<=15,9.42,IF(K89<=20,10.97,IF(K89<=27,12.25,IF(K89<=34,13.62,IF(K89<=39,15.33,IF(K89<=44,17.21,IF(K89<=49,17.31,IF(K89<=59,17.51,IF(K89<=69,20,IF(K89<=79,23.21,IF(K89<=89,22.7,IF(K89<=99.99,22.59,IF(K89<=499,22.54,IF(K89<=999,22.44,IF(K89<=25000,21.42,""))))))))))))))))) -> 17.21
A90: DIFFERENCE | N90: =M89-M88 -> -5.83
A93: 70400101 | B93: 21 | C93: 04 | D93: 17 | E93: 1240724 | F93: ETAM PAP | G93: 1026 ETAM PAP ARGENTEUIL | H93: ARGENTEUIL | I93: 95 | J93: 4 | K93: 17 | L93: 10.97
A94: 70400082 | B94: 21 | C94: 04 | D94: 17 | E94: 1240963 | F94: ETAM LINGERIE | G94: 1026 LINGERIE ARGENTEUIL | H94: ARGENTEUIL | I94: 95 | J94: 3 | K94: 9 | L94: 9.42
A95: TOTAL FACTURé | M95: =L93+L94 -> 20.39
B96: 21.04.2017 | I96: 27168 | J96: 27168 | K96: =IF(ISNUMBER(B96),"",CONVERT(J96,"g","kg")) -> 27.168 | M96: =IF(K96=0,0,IF(K96<=9,7.55,IF(K96<=15,9.42,IF(K96<=20,10.97,IF(K96<=27,12.25,IF(K96<=34,13.62,IF(K96<=39,15.33,IF(K96<=44,17.21,IF(K96<=49,17.31,IF(K96<=59,17.51,IF(K96<=69,20,IF(K96<=79,23.21,IF(K96<=89,22.7,IF(K96<=99.99,22.59,IF(K96<=499,22.54,IF(K96<=999,22.44,IF(K96<=25000,21.42,""))))))))))))))))) -> 13.62
A97: DIFFERENCE | N97: =M96-M95 -> -6.77
A100: 70400101 | B100: 24 | C100: 04 | D100: 17 | E100: 1242098 | F100: ETAM PAP | G100: 1026 ETAM PAP ARGENTEUIL | H100: ARGENTEUIL | I100: 95 | J100: 6 | K100: 45 | L100: 17.31
A101: 70400082 | B101: 24 | C101: 04 | D101: 17 | E101: 1242372 | F101: ETAM LINGERIE | G101: 1026 LINGERIE ARGENTEUIL | H101: ARGENTEUIL | I101: 95 | J101: 4 | K101: 13 | L101: 9.42
A102: TOTAL FACTURé | M102: =L100+L101 -> 26.73
B103: 24.04.2017 | I103: 59429 | J103: 59429 | K103: =IF(ISNUMBER(B103),"",CONVERT(J103,"g","kg")) -> 59.429 | M103: =IF(K103=0,0,IF(K103<=9,7.55,IF(K103<=15,9.42,IF(K103<=20,10.97,IF(K103<=27,12.25,IF(K103<=34,13.62,IF(K103<=39,15.33,IF(K103<=44,17.21,IF(K103<=49,17.31,IF(K103<=59,17.51,IF(K103<=69,20,IF(K103<=79,23.21,IF(K103<=89,22.7,IF(K103<=99.99,22.59,IF(K103<=499,22.54,IF(K103<=999,22.44,IF(K103<=25000,21.42,""))))))))))))))))) -> 20
A104: DIFFERENCE | N104: =M103-M102 -> -6.73
A107: 70400101 | B107: 25 | C107: 04 | D107: 17 | E107: 1243461 | F107: ETAM PAP | G107: 1026 ETAM PAP ARGENTEUIL | H107: ARGENTEUIL | I107: 95 | J107: 7 | K107: 64 | L107: 20
A108: 70400082 | B108: 25 | C108: 04 | D108: 17 | E108: 1243692 | F108: ETAM LINGERIE | G108: 1026 LINGERIE ARGENTEUIL | H108: ARGENTEUIL | I108: 95 | J108: 5 | K108: 19 | L108: 10.97
A109: TOTAL FACTURé | M109: =L107+L108 -> 30.97
B110: 25.04.2017 | I110: 83697 | J110: 83697 | K110: =IF(ISNUMBER(B110),"",CONVERT(J110,"g","kg")) -> 83.697 | M110: =IF(K110=0,0,IF(K110<=9,7.55,IF(K110<=15,9.42,IF(K110<=20,10.97,IF(K110<=27,12.25,IF(K110<=34,13.62,IF(K110<=39,15.33,IF(K110<=44,17.21,IF(K110<=49,17.31,IF(K110<=59,17.51,IF(K110<=69,20,IF(K110<=79,23.21,IF(K110<=89,22.7,IF(K110<=99.99,22.59,IF(K110<=499,22.54,IF(K110<=999,22.44,IF(K110<=25000,21.42,""))))))))))))))))) -> 22.7
A111: DIFFERENCE | N111: =M110-M109 -> -8.27
A114: 70400101 | B114: 26 | C114: 04 | D114: 17 | E114: 1244260 | F114: ETAM PAP | G114: 1026 ETAM PAP ARGENTEUIL | H114: ARGENTEUIL | I114: 95 | J114: 3 | K114: 25 | L114: 12.25
A115: 70400082 | B115: 26 | C115: 04 | D115: 17 | E115: 1245201 | F115: ETAM LINGERIE | G115: 1026 LINGERIE ARGENTEUIL | H115: ARGENTEUIL | I115: 95 | J115: 3 | K115: 11 | L115: 9.42
A116: TOTAL FACTURé | M116: =L114+L115 -> 21.67
B117: 26.04.2017 | I117: 37496 | J117: 37496 | K117: =IF(ISNUMBER(B117),"",CONVERT(J117,"g","kg")) -> 37.496 | M117: =IF(K117=0,0,IF(K117<=9,7.55,IF(K117<=15,9.42,IF(K117<=20,10.97,IF(K117<=27,12.25,IF(K117<=34,13.62,IF(K117<=39,15.33,IF(K117<=44,17.21,IF(K117<=49,17.31,IF(K117<=59,17.51,IF(K117<=69,20,IF(K117<=79,23.21,IF(K117<=89,22.7,IF(K117<=99.99,22.59,IF(K117<=499,22.54,IF(K117<=999,22.44,IF(K117<=25000,21.42,""))))))))))))))))) -> 15.33
A118: DIFFERENCE | N118: =M117-M116 -> -6.34
A121: 70400101 | B121: 27 | C121: 04 | D121: 17 | E121: 1246263 | F121: ETAM PAP | G121: 1026 ETAM PAP ARGENTEUIL | H121: ARGENTEUIL | I121: 95 | J121: 5 | K121: 45 | L121: 17.31
A122: 70400082 | B122: 27 | C122: 04 | D122: 17 | E122: 1246585 | F122: ETAM LINGERIE | G122: 1026 LINGERIE ARGENTEUIL | H122: ARGENTEUIL | I122: 95 | J122: 4 | K122: 17 | L122: 10.97
A123: TOTAL FACTURé | M123: =L121+L122 -> 28.28
B124: 27.04.2017 | I124: 62550 | J124: 62550 | K124: =IF(ISNUMBER(B124),"",CONVERT(J124,"g","kg")) -> 62.55 | M124: =IF(K124=0,0,IF(K124<=9,7.55,IF(K124<=15,9.42,IF(K124<=20,10.97,IF(K124<=27,12.25,IF(K124<=34,13.62,IF(K124<=39,15.33,IF(K124<=44,17.21,IF(K124<=49,17.31,IF(K124<=59,17.51,IF(K124<=69,20,IF(K124<=79,23.21,IF(K124<=89,22.7,IF(K124<=99.99,22.59,IF(K124<=499,22.54,IF(K124<=999,22.44,IF(K124<=25000,21.42,""))))))))))))))))) -> 20
A125: DIFFERENCE | N125: =M124-M123 -> -8.28
A128: 70400101 | B128: 28 | C128: 04 | D128: 17 | E128: 1247637 | F128: ETAM PAP | G128: 1026 ETAM PAP ARGENTEUIL | H128: ARGENTEUIL | I128: 95 | J128: 4 | K128: 33 | L128: 13.62
A129: 70400082 | B129: 28 | C129: 04 | D129: 17 | E129: 1247816 | F129: ETAM LINGERIE | G129: 1026 LINGERIE ARGENTEUIL | H129: ARGENTEUIL | I129: 95 | J129: 3 | K129: 13 | L129: 9.42
A130: TOTAL FACTURé | M130: =L128+L129 -> 23.04
B131: 28.04.2017 | I131: 48459 | J131: 48459 | K131: =IF(ISNUMBER(B131),"",CONVERT(J131,"g","kg")) -> 48.459 | M131: =IF(K131=0,0,IF(K131<=9,7.55,IF(K131<=15,9.42,IF(K131<=20,10.97,IF(K131<=27,12.25,IF(K131<=34,13.62,IF(K131<=39,15.33,IF(K131<=44,17.21,IF(K131<=49,17.31,IF(K131<=59,17.51,IF(K131<=69,20,IF(K131<=79,23.21,IF(K131<=89,22.7,IF(K131<=99.99,22.59,IF(K131<=499,22.54,IF(K131<=999,22.44,IF(K131<=25000,21.42,""))))))))))))))))) -> 17.31
A132: DIFFERENCE | N132: =M131-M130 -> -5.73
A135: TOTAL TROP PERCU : | L135: =SUM(L2:L134) -> 499.52 | N135: =SUM(N1:N134) -> -143.37

Sheet 1028
A1: FACTURE | B1: JOUR | C1: MOIS | D1: ANNEE | E1: RECEP | F1: EXP | G1: DEST | H1: VILLES | I1: DEPTS | J1: COLIS | K1: POIDS | L1: TARIFS
A2: 70400082 | B2: 03 | C2: 04 | D2: 17 | E2: 1222999 | F2: ETAM LINGERIE | G2: 1028 LINGERIE CARRE SENART | H2: LIEUSAINT | I2: 77 | J2: 6 | K2: 36 | L2: 15.33
A3: 70400101 | B3: 03 | C3: 04 | D3: 17 | E3: 1223240 | F3: INVESTINT PAP | G3: 1028 ETAM PAP CARRE SENART | H3: LIEUSAINT | I3: 77 | J3: 9 | K3: 45 | L3: 17.31
A4: TOTAL FACTURé | M4: =L2+L3 -> 32.64
B5: 03.04.2017 | I5: 119119 | J5: 119119 | K5: =IF(ISNUMBER(B5),"",CONVERT(J5,"g","kg")) -> 119.119 | M5: =IF(K5=0,0,IF(K5<=9,7.55,IF(K5<=15,9.42,IF(K5<=20,10.97,IF(K5<=27,12.25,IF(K5<=34,13.62,IF(K5<=39,15.33,IF(K5<=44,17.21,IF(K5<=49,17.31,IF(K5<=59,17.51,IF(K5<=69,20,IF(K5<=79,23.21,IF(K5<=89,22.7,IF(K5<=99.99,22.59,IF(K5<=499,22.54,IF(K5<=999,22.44,IF(K5<=25000,21.42,""))))))))))))))))) -> 22.54
A6: DIFFERENCE | N6: =M5-M4 -> -10.1
A9: 70400082 | B9: 04 | C9: 04 | D9: 17 | E9: 1224463 | F9: ETAM LINGERIE | G9: 1028 LINGERIE CARRE SENART | H9: LIEUSAINT | I9: 77 | J9: 16 | K9: 113 | L9: 25.47
A10: 70400101 | B10: 04 | C10: 04 | D10: 17 | E10: 1224672 | F10: INVESTINT PAP | G10: 1028 ETAM PAP CARRE SENART | H10: LIEUSAINT | I10: 77 | J10: 11 | K10: 110 | L10: 24.79
A11: TOTAL FACTURé | M11: =L9+L10 -> 50.26
B12: 04.04.2017 | I12: 209433 | J12: 209433 | K12: =IF(ISNUMBER(B12),"",CONVERT(J12,"g","kg")) -> 209.433 | M12: =IF(K12=0,0,IF(K12<=9,7.55,IF(K12<=15,9.42,IF(K12<=20,10.97,IF(K12<=27,12.25,IF(K12<=34,13.62,IF(K12<=39,15.33,IF(K12<=44,17.21,IF(K12<=49,17.31,IF(K12<=59,17.51,IF(K12<=69,20,IF(K12<=79,23.21,IF(K12<=89,22.7,IF(K12<=99.99,22.59,IF(K12<=499,22.54,IF(K12<=999,22.44,IF(K12<=25000,21.42,""))))))))))))))))) -> 22.54
A13: DIFFERENCE | N13: =M12-M11 -> -27.72
A16: 70400082 | B16: 05 | C16: 04 | D16: 17 | E16: 1225601 | F16: ETAM LINGERIE | G16: 1028 LINGERIE CARRE SENART | H16: LIEUSAINT | I16: 77 | J16: 8 | K16: 48 | L16: 17.31
A17: 70400101 | B17: 05 | C17: 04 | D17: 17 | E17: 1225833 | F17: INVESTINT PAP | G17: 1028 ETAM PAP CARRE SENART | H17: LIEUSAINT | I17: 77 | J17: 5 | K17: 25 | L17: 12.25
A18: TOTAL FACTURé | M18: =L16+L17 -> 29.56
B19: 05.04.2017 | I19: 99541 | J19: 99541 | K19: =IF(ISNUMBER(B19),"",CONVERT(J19,"g","kg")) -> 99.541 | M19: =IF(K19=0,0,IF(K19<=9,7.55,IF(K19<=15,9.42,IF(K19<=20,10.97,IF(K19<=27,12.25,IF(K19<=34,13.62,IF(K19<=39,15.33,IF(K19<=44,17.21,IF(K19<=49,17.31,IF(K19<=59,17.51,IF(K19<=69,20,IF(K19<=79,23.21,IF(K19<=89,22.7,IF(K19<=99.99,22.59,IF(K19<=499,22.54,IF(K19<=999,22.44,IF(K19<=25000,21.42,""))))))))))))))))) -> 22.59
A20: DIFFERENCE | N20: =M19-M18 -> -6.97
A23: 70400082 | B23: 06 | C23: 04 | D23: 17 | E23: 1227016 | F23: ETAM LINGERIE | G23: 1028 LINGERIE CARRE SENART | H23: LIEUSAINT | I23: 77 | J23: 10 | K23: 62 | L23: 20
A24: 70400101 | B24: 06 | C24: 04 | D24: 17 | E24: 1226857 | F24: ETAM PAP | G24: 1028 ETAM PAP CARRE SENART | H24: LIEUSAINT | I24: 77 | J24: 8 | K24: 83 | L24: 22.7
A25: TOTAL FACTURé | M25: =L23+L24 -> 42.7
B26: 06.04.2017 | I26: 146656 | J26: 146656 | K26: =IF(ISNUMBER(B26),"",CONVERT(J26,"g","kg")) -> 146.656 | M26: =IF(K26=0,0,IF(K26<=9,7.55,IF(K26<=15,9.42,IF(K26<=20,10.97,IF(K26<=27,12.25,IF(K26<=34,13.62,IF(K26<=39,15.33,IF(K26<=44,17.21,IF(K26<=49,17.31,IF(K26<=59,17.51,IF(K26<=69,20,IF(K26<=79,23.21,IF(K26<=89,22.7,IF(K26<=99.99,22.59,IF(K26<=499,22.54,IF(K26<=999,22.44,IF(K26<=25000,21.42,""))))))))))))))))) -> 22.54
A27: DIFFERENCE | N27: =M26-M25 -> -20.16
A30: 70400082 | B30: 07 | C30: 04 | D30: 17 | E30: 1228503 | F30: ETAM LINGERIE | G30: 1028 LINGERIE CARRE SENART | H30: LIEUSAINT | I30: 77 | J30: 6 | K30: 35 | L30: 15.33
A31: 70400101 | B31: 07 | C31: 04 | D31: 17 | E31: 1228153 | F31: ETAM PAP | G31: 1028 ETAM PAP CARRE SENART | H31: LIEUSAINT | I31: 77 | J31: 4 | K31: 38 | L31: 15.33
A32: TOTAL FACTURé | M32: =L30+L31 -> 30.66
B33: 07.04.2017 | I33: 75563 | J33: 75563 | K33: =IF(ISNUMBER(B33),"",CONVERT(J33,"g","kg")) -> 75.563 | M33: =IF(K33=0,0,IF(K33<=9,7.55,IF(K33<=15,9.42,IF(K33<=20,10.97,IF(K33<=27,12.25,IF(K33<=34,13.62,IF(K33<=39,15.33,IF(K33<=44,17.21,IF(K33<=49,17.31,IF(K33<=59,17.51,IF(K33<=69,20,IF(K33<=79,23.21,IF(K33<=89,22.7,IF(K33<=99.99,22.59,IF(K33<=499,22.54,IF(K33<=999,22.44,IF(K33<=25000,21.42,""))))))))))))))))) -> 23.21
A34: DIFFERENCE | N34: =M33-M32 -> -7.45
A37: 70400082 | B37: 10 | C37: 04 | D37: 17 | E37: 1230101 | F37: ETAM LINGERIE | G37: 1028 LINGERIE CARRE SENART | H37: LIEUSAINT | I37: 77 | J37: 8 | K37: 46 | L37: 17.31
A38: 70400101 | B38: 10 | C38: 04 | D38: 17 | E38: 1229838 | F38: ETAM PAP | G38: 1028 ETAM PAP CARRE SENART | H38: LIEUSAINT | I38: 77 | J38: 4 | K38: 37 | L38: 15.33
A39: TOTAL FACTURé | M39: =L37+L38 -> 32.64
B40: 10.04.2017 | I40: 90842 | J40: 90842 | K40: =IF(ISNUMBER(B40),"",CONVERT(J40,"g","kg")) -> 90.842 | M40: =IF(K40=0,0,IF(K40<=9,7.55,IF(K40<=15,9.42,IF(K40<=20,10.97,IF(K40<=27,12.25,IF(K40<=34,13.62,IF(K40<=39,15.33,IF(K40<=44,17.21,IF(K40<=49,17.31,IF(K40<=59,17.51,IF(K40<=69,20,IF(K40<=79,23.21,IF(K40<=89,22.7,IF(K40<=99.99,22.59,IF(K40<=499,22.54,IF(K40<=999,22.44,IF(K40<=25000,21.42,""))))))))))))))))) -> 22.59
A41: DIFFERENCE | N41: =M40-M39 -> -10.05
A44: 70400082 | B44: 11 | C44: 04 | D44: 17 | E44: 1231431 | F44: ETAM LINGERIE | G44: 1028 LINGERIE CARRE SENART | H44: LIEUSAINT | I44: 77 | J44: 14 | K44: 75 | L44: 23.21
A45: 70400101 | B45: 11 | C45: 04 | D45: 17 | E45: 1231317 | F45: ETAM PAP | G45: 1028 ETAM PAP CARRE SENART | H45: LIEUSAINT | I45: 77 | J45: 8 | K45: 78 | L45: 23.21
A46: TOTAL FACTURé | M46: =L44+L45 -> 46.42
B47: 11.04.2017 | I47: 156072 | J47: 156072 | K47: =IF(ISNUMBER(B47),"",CONVERT(J47,"g","kg")) -> 156.072 | M47: =IF(K47=0,0,IF(K47<=9,7.55,IF(K47<=15,9.42,IF(K47<=20,10.97,IF(K47<=27,12.25,IF(K47<=34,13.62,IF(K47<=39,15.33,IF(K47<=44,17.21,IF(K47<=49,17.31,IF(K47<=59,17.51,IF(K47<=69,20,IF(K47<=79,23.21,IF(K47<=89,22.7,IF(K47<=99.99,22.59,IF(K47<=499,22.54,IF(K47<=999,22.44,IF(K47<=25000,21.42,""))))))))))))))))) -> 22.54
A48: DIFFERENCE | N48: =M47-M46 -> -23.88
A51: 70400082 | B51: 12 | C51: 04 | D51: 17 | E51: 1232732 | F51: ETAM LINGERIE | G51: 1028 LINGERIE CARRE SENART | H51: LIEUSAINT | I51: 77 | J51: 24 | K51: 151 | L51: 34.04
A52: 70400101 | B52: 12 | C52: 04 | D52: 17 | E52: 1232277 | F52: ETAM PAP | G52: 1028 ETAM PAP CARRE SENART | H52: LIEUSAINT | I52: 77 | J52: 3 | K52: 31 | L52: 13.62
A53: TOTAL FACTURé | M53: =L51+L52 -> 47.66
B54: 12.04.2017 | I54: 182822 | J54: 182822 | K54: =IF(ISNUMBER(B54),"",CONVERT(J54,"g","kg")) -> 182.822 | M54: =IF(K54=0,0,IF(K54<=9,7.55,IF(K54<=15,9.42,IF(K54<=20,10.97,IF(K54<=27,12.25,IF(K54<=34,13.62,IF(K54<=39,15.33,IF(K54<=44,17.21,IF(K54<=49,17.31,IF(K54<=59,17.51,IF(K54<=69,20,IF(K54<=79,23.21,IF(K54<=89,22.7,IF(K54<=99.99,22.59,IF(K54<=499,22.54,IF(K54<=999,22.44,IF(K54<=25000,21.42,""))))))))))))))))) -> 22.54
A55: DIFFERENCE | N55: =M54-M53 -> -25.12
A58: 70400082 | B58: 13 | C58: 04 | D58: 17 | E58: 1234185 | F58: ETAM LINGERIE | G58: 1028 LINGERIE CARRE SENART | H58: LIEUSAINT | I58: 77 | J58: 6 | K58: 35 | L58: 15.33
A59: 70400101 | B59: 13 | C59: 04 | D59: 17 | E59: 1233920 | F59: ETAM PAP | G59: 1028 ETAM PAP CARRE SENART | H59: LIEUSAINT | I59: 77 | J59: 6 | K59: 41 | L59: 17.21
A60: TOTAL FACTURé | M60: =L58+L59 -> 32.54
B61: 13.04.2017 | I61: 78154 | J61: 78154 | K61: =IF(ISNUMBER(B61),"",CONVERT(J61,"g","kg")) -> 78.154 | M61: =IF(K61=0,0,IF(K61<=9,7.55,IF(K61<=15,9.42,IF(K61<=20,10.97,IF(K61<=27,12.25,IF(K61<=34,13.62,IF(K61<=39,15.33,IF(K61<=44,17.21,IF(K61<=49,17.31,IF(K61<=59,17.51,IF(K61<=69,20,IF(K61<=79,23.21,IF(K61<=89,22.7,IF(K61<=99.99,22.59,IF(K61<=499,22.54,IF(K61<=999,22.44,IF(K61<=25000,21.42,""))))))))))))))))) -> 23.21
A62: DIFFERENCE | N62: =M61-M60 -> -9.33
A65: 70400082 | B65: 14 | C65: 04 | D65: 17 | E65: 1235357 | F65: ETAM LINGERIE | G65: 1028 LINGERIE CARRE SENART | H65: LIEUSAINT | I65: 77 | J65: 9 | K65: 49 | L65: 17.51
A66: 70400101 | B66: 14 | C66: 04 | D66: 17 | E66: 1235199 | F66: ETAM PAP | G66: 1028 ETAM PAP CARRE SENART | H66: LIEUSAINT | I66: 77 | J66: 3 | K66: 33 | L66: 13.62
A67: TOTAL FACTURé | M67: =L65+L66 -> 31.13
B68: 14.04.2017 | I68: 84778 | J68: 84778 | K68: =IF(ISNUMBER(B68),"",CONVERT(J68,"g","kg")) -> 84.778 | M68: =IF(K68=0,0,IF(K68<=9,7.55,IF(K68<=15,9.42,IF(K68<=20,10.97,IF(K68<=27,12.25,IF(K68<=34,13.62,IF(K68<=39,15.33,IF(K68<=44,17.21,IF(K68<=49,17.31,IF(K68<=59,17.51,IF(K68<=69,20,IF(K68<=79,23.21,IF(K68<=89,22.7,IF(K68<=99.99,22.59,IF(K68<=499,22.54,IF(K68<=999,22.44,IF(K68<=25000,21.42,""))))))))))))))))) -> 22.7
A69: DIFFERENCE | N69: =M68-M67 -> -8.43
A72: 70400082 | B72: 18 | C72: 04 | D72: 17 | E72: 1236834 | F72: ETAM LINGERIE | G72: 1028 LINGERIE CARRE SENART | H72: LIEUSAINT | I72: 77 | J72: 10 | K72: 59 | L72: 20
A73: 70400101 | B73: 18 | C73: 04 | D73: 17 | E73: 1236263 | F73: ETAM PAP | G73: 1028 ETAM PAP CARRE SENART | H73: LIEUSAINT | I73: 77 | J73: 7 | K73: 78 | L73: 23.21
A74: TOTAL FACTURé | M74: =L72+L73 -> 43.21
B75: 18.04.2017 | I75: 147102 | J75: 147102 | K75: =IF(ISNUMBER(B75),"",CONVERT(J75,"g","kg")) -> 147.102 | M75: =IF(K75=0,0,IF(K75<=9,7.55,IF(K75<=15,9.42,IF(K75<=20,10.97,IF(K75<=27,12.25,IF(K75<=34,13.62,IF(K75<=39,15.33,IF(K75<=44,17.21,IF(K75<=49,17.31,IF(K75<=59,17.51,IF(K75<=69,20,IF(K75<=79,23.21,IF(K75<=89,22.7,IF(K75<=99.99,22.59,IF(K75<=499,22.54,IF(K75<=999,22.44,IF(K75<=25000,21.42,""))))))))))))))))) -> 22.54
A76: DIFFERENCE | N76: =M75-M74 -> -20.67
A79: 70400082 | B79: 19 | C79: 04 | D79: 17 | E79: 1238223 | F79: ETAM LINGERIE | G79: 1028 LINGERIE CARRE SENART | H79: LIEUSAINT | I79: 77 | J79: 8 | K79: 34 | L79: 15.33
A80: 70400101 | B80: 19 | C80: 04 | D80: 17 | E80: 1237775 | F80: ETAM PAP | G80: 1028 ETAM PAP CARRE SENART | H80: LIEUSAINT | I80: 77 | J80: 5 | K80: 58 | L80: 17.51
A81: TOTAL FACTURé | M81: =L79+L80 -> 32.84
B82: 19.04.2017 | I82: 94989 | J82: 94989 | K82: =IF(ISNUMBER(B82),"",CONVERT(J82,"g","kg")) -> 94.989 | M82: =IF(K82=0,0,IF(K82<=9,7.55,IF(K82<=15,9.42,IF(K82<=20,10.97,IF(K82<=27,12.25,IF(K82<=34,13.62,IF(K82<=39,15.33,IF(K82<=44,17.21,IF(K82<=49,17.31,IF(K82<=59,17.51,IF(K82<=69,20,IF(K82<=79,23.21,IF(K82<=89,22.7,IF(K82<=99.99,22.59,IF(K82<=499,22.54,IF(K82<=999,22.44,IF(K82<=25000,21.42,""))))))))))))))))) -> 22.59
A83: DIFFERENCE | N83: =M82-M81 -> -10.25
A86: 70400082 | B86: 20 | C86: 04 | D86: 17 | E86: 1239623 | F86: ETAM LINGERIE | G86: 1028 LINGERIE CARRE SENART | H86: LIEUSAINT | I86: 77 | J86: 9 | K86: 40 | L86: 17.21
A87: 70400101 | B87: 20 | C87: 04 | D87: 17 | E87: 1239455 | F87: ETAM PAP | G87: 1028 ETAM PAP CARRE SENART | H87: LIEUSAINT | I87: 77 | J87: 7 | K87: 45 | L87: 17.31
A88: TOTAL FACTURé | M88: =L86+L87 -> 34.52
B89: 20.04.2017 | I89: 87280 | J89: 87280 | K89: =IF(ISNUMBER(B89),"",CONVERT(J89,"g","kg")) -> 87.28 | M89: =IF(K89=0,0,IF(K89<=9,7.55,IF(K89<=15,9.42,IF(K89<=20,10.97,IF(K89<=27,12.25,IF(K89<=34,13.62,IF(K89<=39,15.33,IF(K89<=44,17.21,IF(K89<=49,17.31,IF(K89<=59,17.51,IF(K89<=69,20,IF(K89<=79,23.21,IF(K89<=89,22.7,IF(K89<=99.99,22.59,IF(K89<=499,22.54,IF(K89<=999,22.44,IF(K89<=25000,21.42,""))))))))))))))))) -> 22.7
A90: DIFFERENCE | N90: =M89-M88 -> -11.82
A93: 70400082 | B93: 21 | C93: 04 | D93: 17 | E93: 1240908 | F93: ETAM LINGERIE | G93: 1028 LINGERIE CARRE SENART | H93: LIEUSAINT | I93: 77 | J93: 12 | K93: 65 | L93: 20
A94: 70400101 | B94: 21 | C94: 04 | D94: 17 | E94: 1240702 | F94: ETAM PAP | G94: 1028 ETAM PAP CARRE SENART | H94: LIEUSAINT | I94: 77 | J94: 3 | K94: 10 | L94: 9.42
A95: TOTAL FACTURé | M95: =L93+L94 -> 29.42
B96: 21.04.2017 | I96: 79380 | J96: 79380 | K96: =IF(ISNUMBER(B96),"",CONVERT(J96,"g","kg")) -> 79.38 | M96: =IF(K96=0,0,IF(K96<=9,7.55,IF(K96<=15,9.42,IF(K96<=20,10.97,IF(K96<=27,12.25,IF(K96<=34,13.62,IF(K96<=39,15.33,IF(K96<=44,17.21,IF(K96<=49,17.31,IF(K96<=59,17.51,IF(K96<=69,20,IF(K96<=79,23.21,IF(K96<=89,22.7,IF(K96<=99.99,22.59,IF(K96<=499,22.54,IF(K96<=999,22.44,IF(K96<=25000,21.42,""))))))))))))))))) -> 22.7
A97: DIFFERENCE | N97: =M96-M95 -> -6.72
A100: 70400082 | B100: 24 | C100: 04 | D100: 17 | E100: 1242340 | F100: ETAM LINGERIE | G100: 1028 LINGERIE CARRE SENART | H100: LIEUSAINT | I100: 77 | J100: 10 | K100: 38 | L100: 15.33
A101: 70400101 | B101: 24 | C101: 04 | D101: 17 | E101: 1242074 | F101: ETAM PAP | G101: 1028 ETAM PAP CARRE SENART | H101: LIEUSAINT | I101: 77 | J101: 10 | K101: 88 | L101: 22.7
A102: TOTAL FACTURé | M102: =L100+L101 -> 38.03
B103: 24.04.2017 | I103: 128153 | J103: 128153 | K103: =IF(ISNUMBER(B103),"",CONVERT(J103,"g","kg")) -> 128.153 | M103: =IF(K103=0,0,IF(K103<=9,7.55,IF(K103<=15,9.42,IF(K103<=20,10.97,IF(K103<=27,12.25,IF(K103<=34,13.62,IF(K103<=39,15.33,IF(K103<=44,17.21,IF(K103<=49,17.31,IF(K103<=59,17.51,IF(K103<=69,20,IF(K103<=79,23.21,IF(K103<=89,22.7,IF(K103<=99.99,22.59,IF(K103<=499,22.54,IF(K103<=999,22.44,IF(K103<=25000,21.42,""))))))))))))))))) -> 22.54
A104: DIFFERENCE | N104: =M103-M102 -> -15.49
A107: 70400082 | B107: 25 | C107: 04 | D107: 17 | E107: 1243663 | F107: ETAM LINGERIE | G107: 1028 LINGERIE CARRE SENART | H107: LIEUSAINT | I107: 77 | J107: 6 | K107: 33 | L107: 13.62
A108: 70400101 | B108: 25 | C108: 04 | D108: 17 | E108: 1243439 | F108: ETAM PAP | G108: 1028 ETAM PAP CARRE SENART | H108: LIEUSAINT | I108: 77 | J108: 9 | K108: 98 | L108: 22.59
A109: TOTAL FACTURé | M109: =L107+L108 -> 36.21
B110: 25.04.2017 | I110: 133240 | J110: 133240 | K110: =IF(ISNUMBER(B110),"",CONVERT(J110,"g","kg")) -> 133.24 | M110: =IF(K110=0,0,IF(K110<=9,7.55,IF(K110<=15,9.42,IF(K110<=20,10.97,IF(K110<=27,12.25,IF(K110<=34,13.62,IF(K110<=39,15.33,IF(K110<=44,17.21,IF(K110<=49,17.31,IF(K110<=59,17.51,IF(K110<=69,20,IF(K110<=79,23.21,IF(K110<=89,22.7,IF(K110<=99.99,22.59,IF(K110<=499,22.54,IF(K110<=999,22.44,IF(K110<=25000,21.42,""))))))))))))))))) -> 22.54
A111: DIFFERENCE | N111: =M110-M109 -> -13.67
A114: 70400082 | B114: 26 | C114: 04 | D114: 17 | E114: 1245167 | F114: ETAM LINGERIE | G114: 1028 LINGERIE CARRE SENART | H114: LIEUSAINT | I114: 77 | J114: 8 | K114: 35 | L114: 15.33
A115: 70400101 | B115: 26 | C115: 04 | D115: 17 | E115: 1244237 | F115: ETAM PAP | G115: 1028 ETAM PAP CARRE SENART | H115: LIEUSAINT | I115: 77 | J115: 3 | K115: 29 | L115: 13.62
A116: TOTAL FACTURé | M116: =L114+L115 -> 28.95
B117: 26.04.2017 | I117: 66255 | J117: 66255 | K117: =IF(ISNUMBER(B117),"",CONVERT(J117,"g","kg")) -> 66.255 | M117: =IF(K117=0,0,IF(K117<=9,7.55,IF(K117<=15,9.42,IF(K117<=20,10.97,IF(K117<=27,12.25,IF(K117<=34,13.62,IF(K117<=39,15.33,IF(K117<=44,17.21,IF(K117<=49,17.31,IF(K117<=59,17.51,IF(K117<=69,20,IF(K117<=79,23.21,IF(K117<=89,22.7,IF(K117<=99.99,22.59,IF(K117<=499,22.54,IF(K117<=999,22.44,IF(K117<=25000,21.42,""))))))))))))))))) -> 20
A118: DIFFERENCE | N118: =M117-M116 -> -8.95
A121: 70400082 | B121: 27 | C121: 04 | D121: 17 | E121: 1246550 | F121: ETAM LINGERIE | G121: 1028 LINGERIE CARRE SENART | H121: LIEUSAINT | I121: 77 | J121: 9 | K121: 41 | L121: 17.21
A122: 70400101 | B122: 27 | C122: 04 | D122: 17 | E122: 1246234 | F122: ETAM PAP | G122: 1028 ETAM PAP CARRE SENART | H122: LIEUSAINT | I122: 77 | J122: 6 | K122: 66 | L122: 20
A123: TOTAL FACTURé | M123: =L121+L122 -> 37.21
B124: 27.04.2017 | I124: 108650 | J124: 108650 | K124: =IF(ISNUMBER(B124),"",CONVERT(J124,"g","kg")) -> 108.65 | M124: =IF(K124=0,0,IF(K124<=9,7.55,IF(K124<=15,9.42,IF(K124<=20,10.97,IF(K124<=27,12.25,IF(K124<=34,13.62,IF(K124<=39,15.33,IF(K124<=44,17.21,IF(K124<=49,17.31,IF(K124<=59,17.51,IF(K124<=69,20,IF(K124<=79,23.21,IF(K124<=89,22.7,IF(K124<=99.99,22.59,IF(K124<=499,22.54,IF(K124<=999,22.44,IF(K124<=25000,21.42,""))))))))))))))))) -> 22.54
A125: DIFFERENCE | N125: =M124-M123 -> -14.67
A128: 70400082 | B128: 28 | C128: 04 | D128: 17 | E128: 1247785 | F128: ETAM LINGERIE | G128: 1028 LINGERIE CARRE SENART | H128: LIEUSAINT | I128: 77 | J128: 11 | K128: 60 | L128: 20
A129: 70400101 | B129: 28 | C129: 04 | D129: 17 | E129: 1247613 | F129: ETAM PAP | G129: 1028 ETAM PAP CARRE SENART | H129: LIEUSAINT | I129: 77 | J129: 8 | K129: 64 | L129: 20
A130: TOTAL FACTURé | M130: =L128+L129 -> 40
B131: 28.04.2017 | I131: 127931 | J131: 127931 | K131: =IF(ISNUMBER(B131),"",CONVERT(J131,"g","kg")) -> 127.931 | M131: =IF(K131=0,0,IF(K131<=9,7.55,IF(K131<=15,9.42,IF(K131<=20,10.97,IF(K131<=27,12.25,IF(K131<=34,13.62,IF(K131<=39,15.33,IF(K131<=44,17.21,IF(K131<=49,17.31,IF(K131<=59,17.51,IF(K131<=69,20,IF(K131<=79,23.21,IF(K131<=89,22.7,IF(K131<=99.99,22.59,IF(K131<=499,22.54,IF(K131<=999,22.44,IF(K131<=25000,21.42,""))))))))))))))))) -> 22.54
A132: DIFFERENCE | N132: =M131-M130 -> -17.46
A135: TOTAL TROP PERCU : | L135: =SUM(L2:L134) -> 696.6 | N135: =SUM(N1:N134) -> -268.91

Sheet 1113
A1: FACTURE | B1: JOUR | C1: MOIS | D1: ANNEE | E1: RECEP | F1: EXP | G1: DEST | H1: VILLES | I1: DEPTS | J1: COLIS | K1: POIDS | L1: TARIFS
A2: 70400101 | B2: 03 | C2: 04 | D2: 17 | E2: 1223261 | F2: INVESTINT PAP | G2: 1113 ETAM PAP ENGHIEN | H2: ENGHIEN LES BAINS | I2: 95 | J2: 7 | K2: 35 | L2: 15.33
A3: 70400082 | B3: 03 | C3: 04 | D3: 17 | E3: 1223038 | F3: ETAM LINGERIE | G3: 1113 LINGERIE ENGHIEN | H3: ENGHIEN LES BAINS | I3: 95 | J3: 6 | K3: 34 | L3: 15.33
A4: TOTAL FACTURé | M4: =L2+L3 -> 30.66
B5: 03.04.2017 | I5: 93279 | J5: 93279 | K5: =IF(ISNUMBER(B5),"",CONVERT(J5,"g","kg")) -> 93.279 | M5: =IF(K5=0,0,IF(K5<=9,7.55,IF(K5<=15,9.42,IF(K5<=20,10.97,IF(K5<=27,12.25,IF(K5<=34,13.62,IF(K5<=39,15.33,IF(K5<=44,17.21,IF(K5<=49,17.31,IF(K5<=59,17.51,IF(K5<=69,20,IF(K5<=79,23.21,IF(K5<=89,22.7,IF(K5<=99.99,22.59,IF(K5<=499,22.54,IF(K5<=999,22.44,IF(K5<=25000,21.42,""))))))))))))))))) -> 22.59
A6: DIFFERENCE | N6: =M5-M4 -> -8.07
A9: 70400101 | B9: 04 | C9: 04 | D9: 17 | E9: 1224675 | F9: INVESTINT PAP | G9: 1113 ETAM PAP ENGHIEN | H9: ENGHIEN LES BAINS | I9: 95 | J9: 7 | K9: 70 | L9: 23.21
A10: 70400082 | B10: 04 | C10: 04 | D10: 17 | E10: 1224493 | F10: ETAM LINGERIE | G10: 1113 LINGERIE ENGHIEN | H10: ENGHIEN LES BAINS | I10: 95 | J10: 5 | K10: 28 | L10: 13.62
A11: TOTAL FACTURé | M11: =L9+L10 -> 36.83
B12: 04.04.2017 | I12: 82951 | J12: 82951 | K12: =IF(ISNUMBER(B12),"",CONVERT(J12,"g","kg")) -> 82.951 | M12: =IF(K12=0,0,IF(K12<=9,7.55,IF(K12<=15,9.42,IF(K12<=20,10.97,IF(K12<=27,12.25,IF(K12<=34,13.62,IF(K12<=39,15.33,IF(K12<=44,17.21,IF(K12<=49,17.31,IF(K12<=59,17.51,IF(K12<=69,20,IF(K12<=79,23.21,IF(K12<=89,22.7,IF(K12<=99.99,22.59,IF(K12<=499,22.54,IF(K12<=999,22.44,IF(K12<=25000,21.42,""))))))))))))))))) -> 22.7
A13: DIFFERENCE | N13: =M12-M11 -> -14.13
A16: 70400101 | B16: 05 | C16: 04 | D16: 17 | E16: 1225840 | F16: INVESTINT PAP | G16: 1113 ETAM PAP ENGHIEN | H16: ENGHIEN LES BAINS | I16: 95 | J16: 5 | K16: 25 | L16: 12.25
A17: 70400082 | B17: 05 | C17: 04 | D17: 17 | E17: 1225636 | F17: ETAM LINGERIE | G17: 1113 LINGERIE ENGHIEN | H17: ENGHIEN LES BAINS | I17: 95 | J17: 4 | K17: 19 | L17: 10.97
A18: TOTAL FACTURé | M18: =L16+L17 -> 23.22
B19: 05.04.2017 | I19: 61103 | J19: 61103 | K19: =IF(ISNUMBER(B19),"",CONVERT(J19,"g","kg")) -> 61.103 | M19: =IF(K19=0,0,IF(K19<=9,7.55,IF(K19<=15,9.42,IF(K19<=20,10.97,IF(K19<=27,12.25,IF(K19<=34,13.62,IF(K19<=39,15.33,IF(K19<=44,17.21,IF(K19<=49,17.31,IF(K19<=59,17.51,IF(K19<=69,20,IF(K19<=79,23.21,IF(K19<=89,22.7,IF(K19<=99.99,22.59,IF(K19<=499,22.54,IF(K19<=999,22.44,IF(K19<=25000,21.42,""))))))))))))))))) -> 20
A20: DIFFERENCE | N20: =M19-M18 -> -3.22
A23: 70400101 | B23: 06 | C23: 04 | D23: 17 | E23: 1226881 | F23: ETAM PAP | G23: 1113 ETAM PAP ENGHIEN | H23: ENGHIEN LES BAINS | I23: 95 | J23: 5 | K23: 43 | L23: 17.21
A24: 70400082 | B24: 06 | C24: 04 | D24: 17 | E24: 1227053 | F24: ETAM LINGERIE | G24: 1113 LINGERIE ENGHIEN | H24: ENGHIEN LES BAINS | I24: 95 | J24: 5 | K24: 29 | L24: 13.62
A25: TOTAL FACTURé | M25: =L23+L24 -> 30.83
B26: 06.04.2017 | I26: 75032 | J26: 75032 | K26: =IF(ISNUMBER(B26),"",CONVERT(J26,"g","kg")) -> 75.032 | M26: =IF(K26=0,0,IF(K26<=9,7.55,IF(K26<=15,9.42,IF(K26<=20,10.97,IF(K26<=27,12.25,IF(K26<=34,13.62,IF(K26<=39,15.33,IF(K26<=44,17.21,IF(K26<=49,17.31,IF(K26<=59,17.51,IF(K26<=69,20,IF(K26<=79,23.21,IF(K26<=89,22.7,IF(K26<=99.99,22.59,IF(K26<=499,22.54,IF(K26<=999,22.44,IF(K26<=25000,21.42,""))))))))))))))))) -> 23.21
A27: DIFFERENCE | N27: =M26-M25 -> -7.62
A30: 70400101 | B30: 07 | C30: 04 | D30: 17 | E30: 1228176 | F30: ETAM PAP | G30: 1113 ETAM PAP ENGHIEN | H30: ENGHIEN LES BAINS | I30: 95 | J30: 4 | K30: 33 | L30: 13.62
A31: 70400082 | B31: 07 | C31: 04 | D31: 17 | E31: 1228537 | F31: ETAM LINGERIE | G31: 1113 LINGERIE ENGHIEN | H31: ENGHIEN LES BAINS | I31: 95 | J31: 4 | K31: 12 | L31: 9.42
A32: TOTAL FACTURé | M32: =L30+L31 -> 23.04
B33: 07.04.2017 | I33: 45988 | J33: 45988 | K33: =IF(ISNUMBER(B33),"",CONVERT(J33,"g","kg")) -> 45.988 | M33: =IF(K33=0,0,IF(K33<=9,7.55,IF(K33<=15,9.42,IF(K33<=20,10.97,IF(K33<=27,12.25,IF(K33<=34,13.62,IF(K33<=39,15.33,IF(K33<=44,17.21,IF(K33<=49,17.31,IF(K33<=59,17.51,IF(K33<=69,20,IF(K33<=79,23.21,IF(K33<=89,22.7,IF(K33<=99.99,22.59,IF(K33<=499,22.54,IF(K33<=999,22.44,IF(K33<=25000,21.42,""))))))))))))))))) -> 17.31
A34: DIFFERENCE | N34: =M33-M32 -> -5.73
A37: 70400101 | B37: 10 | C37: 04 | D37: 17 | E37: 1229863 | F37: ETAM PAP | G37: 1113 ETAM PAP ENGHIEN | H37: ENGHIEN LES BAINS | I37: 95 | J37: 4 | K37: 36 | L37: 15.33
A38: 70400082 | B38: 10 | C38: 04 | D38: 17 | E38: 1230136 | F38: ETAM LINGERIE | G38: 1113 LINGERIE ENGHIEN | H38: ENGHIEN LES BAINS | I38: 95 | J38: 5 | K38: 22 | L38: 12.25
A39: TOTAL FACTURé | M39: =L37+L38 -> 27.58
B40: 10.04.2017 | I40: 64713 | J40: 64713 | K40: =IF(ISNUMBER(B40),"",CONVERT(J40,"g","kg")) -> 64.713 | M40: =IF(K40=0,0,IF(K40<=9,7.55,IF(K40<=15,9.42,IF(K40<=20,10.97,IF(K40<=27,12.25,IF(K40<=34,13.62,IF(K40<=39,15.33,IF(K40<=44,17.21,IF(K40<=49,17.31,IF(K40<=59,17.51,IF(K40<=69,20,IF(K40<=79,23.21,IF(K40<=89,22.7,IF(K40<=99.99,22.59,IF(K40<=499,22.54,IF(K40<=999,22.44,IF(K40<=25000,21.42,""))))))))))))))))) -> 20
A41: DIFFERENCE | N41: =M40-M39 -> -7.58
A44: 70400101 | B44: 11 | C44: 04 | D44: 17 | E44: 1231341 | F44: ETAM PAP | G44: 1113 ETAM PAP ENGHIEN | H44: ENGHIEN LES BAINS | I44: 95 | J44: 4 | K44: 32 | L44: 13.62
A45: 70400082 | B45: 11 | C45: 04 | D45: 17 | E45: 1231461 | F45: ETAM LINGERIE | G45: 1113 LINGERIE ENGHIEN | H45: ENGHIEN LES BAINS | I45: 95 | J45: 4 | K45: 17 | L45: 10.97
A46: TOTAL FACTURé | M46: =L44+L45 -> 24.59
B47: 11.04.2017 | I47: 51175 | J47: 51175 | K47: =IF(ISNUMBER(B47),"",CONVERT(J47,"g","kg")) -> 51.175 | M47: =IF(K47=0,0,IF(K47<=9,7.55,IF(K47<=15,9.42,IF(K47<=20,10.97,IF(K47<=27,12.25,IF(K47<=34,13.62,IF(K47<=39,15.33,IF(K47<=44,17.21,IF(K47<=49,17.31,IF(K47<=59,17.51,IF(K47<=69,20,IF(K47<=79,23.21,IF(K47<=89,22.7,IF(K47<=99.99,22.59,IF(K47<=499,22.54,IF(K47<=999,22.44,IF(K47<=25000,21.42,""))))))))))))))))) -> 17.51
A48: DIFFERENCE | N48: =M47-M46 -> -7.08
A51: 70400101 | B51: 12 | C51: 04 | D51: 17 | E51: 1232302 | F51: ETAM PAP | G51: 1113 ETAM PAP ENGHIEN | H51: ENGHIEN LES BAINS | I51: 95 | J51: 3 | K51: 26 | L51: 12.25
A52: 70400082 | B52: 12 | C52: 04 | D52: 17 | E52: 1232767 | F52: ETAM LINGERIE | G52: 1113 LINGERIE ENGHIEN | H52: ENGHIEN LES BAINS | I52: 95 | J52: 4 | K52: 19 | L52: 10.97
A53: TOTAL FACTURé | M53: =L51+L52 -> 23.22
B54: 12.04.2017 | I54: 49164 | J54: 49164 | K54: =IF(ISNUMBER(B54),"",CONVERT(J54,"g","kg")) -> 49.164 | M54: =IF(K54=0,0,IF(K54<=9,7.55,IF(K54<=15,9.42,IF(K54<=20,10.97,IF(K54<=27,12.25,IF(K54<=34,13.62,IF(K54<=39,15.33,IF(K54<=44,17.21,IF(K54<=49,17.31,IF(K54<=59,17.51,IF(K54<=69,20,IF(K54<=79,23.21,IF(K54<=89,22.7,IF(K54<=99.99,22.59,IF(K54<=499,22.54,IF(K54<=999,22.44,IF(K54<=25000,21.42,""))))))))))))))))) -> 17.51
A55: DIFFERENCE | N55: =M54-M53 -> -5.71
A58: 70400101 | B58: 13 | C58: 04 | D58: 17 | E58: 1233945 | F58: ETAM PAP | G58: 1113 ETAM PAP ENGHIEN | H58: ENGHIEN LES BAINS | I58: 95 | J58: 4 | K58: 26 | L58: 12.25
A59: 70400082 | B59: 13 | C59: 04 | D59: 17 | E59: 1234215 | F59: ETAM LINGERIE | G59: 1113 LINGERIE ENGHIEN | H59: ENGHIEN LES BAINS | I59: 95 | J59: 4 | K59: 14 | L59: 9.42
A60: TOTAL FACTURé | M60: =L58+L59 -> 21.67
B61: 13.04.2017 | I61: 44781 | J61: 44781 | K61: =IF(ISNUMBER(B61),"",CONVERT(J61,"g","kg")) -> 44.781 | M61: =IF(K61=0,0,IF(K61<=9,7.55,IF(K61<=15,9.42,IF(K61<=20,10.97,IF(K61<=27,12.25,IF(K61<=34,13.62,IF(K61<=39,15.33,IF(K61<=44,17.21,IF(K61<=49,17.31,IF(K61<=59,17.51,IF(K61<=69,20,IF(K61<=79,23.21,IF(K61<=89,22.7,IF(K61<=99.99,22.59,IF(K61<=499,22.54,IF(K61<=999,22.44,IF(K61<=25000,21.42,""))))))))))))))))) -> 17.31
A62: DIFFERENCE | N62: =M61-M60 -> -4.36
A65: 70400101 | B65: 14 | C65: 04 | D65: 17 | E65: 1235222 | F65: ETAM PAP | G65: 1113 ETAM PAP ENGHIEN | H65: ENGHIEN LES BAINS | I65: 95 | J65: 1 | K65: 8 | L65: 7.55
A66: 70400082 | B66: 14 | C66: 04 | D66: 17 | E66: 1235396 | F66: ETAM LINGERIE | G66: 1113 LINGERIE ENGHIEN | H66: ENGHIEN LES BAINS | I66: 95 | J66: 4 | K66: 15 | L66: 10.97
A67: TOTAL FACTURé | M67: =L65+L66 -> 18.52
B68: 14.04.2017 | I68: 26295 | J68: 26295 | K68: =IF(ISNUMBER(B68),"",CONVERT(J68,"g","kg")) -> 26.295 | M68: =IF(K68=0,0,IF(K68<=9,7.55,IF(K68<=15,9.42,IF(K68<=20,10.97,IF(K68<=27,12.25,IF(K68<=34,13.62,IF(K68<=39,15.33,IF(K68<=44,17.21,IF(K68<=49,17.31,IF(K68<=59,17.51,IF(K68<=69,20,IF(K68<=79,23.21,IF(K68<=89,22.7,IF(K68<=99.99,22.59,IF(K68<=499,22.54,IF(K68<=999,22.44,IF(K68<=25000,21.42,""))))))))))))))))) -> 12.25
A69: DIFFERENCE | N69: =M68-M67 -> -6.27
A72: 70400101 | B72: 18 | C72: 04 | D72: 17 | E72: 1236288 | F72: ETAM PAP | G72: 1113 ETAM PAP ENGHIEN | H72: ENGHIEN LES BAINS | I72: 95 | J72: 3 | K72: 31 | L72: 13.62
A73: 70400082 | B73: 18 | C73: 04 | D73: 17 | E73: 1236864 | F73: ETAM LINGERIE | G73: 1113 LINGERIE ENGHIEN | H73: ENGHIEN LES BAINS | I73: 95 | J73: 5 | K73: 26 | L73: 12.25
A74: TOTAL FACTURé | M74: =L72+L73 -> 25.87
B75: 18.04.2017 | I75: 62418 | J75: 62418 | K75: =IF(ISNUMBER(B75),"",CONVERT(J75,"g","kg")) -> 62.418 | M75: =IF(K75=0,0,IF(K75<=9,7.55,IF(K75<=15,9.42,IF(K75<=20,10.97,IF(K75<=27,12.25,IF(K75<=34,13.62,IF(K75<=39,15.33,IF(K75<=44,17.21,IF(K75<=49,17.31,IF(K75<=59,17.51,IF(K75<=69,20,IF(K75<=79,23.21,IF(K75<=89,22.7,IF(K75<=99.99,22.59,IF(K75<=499,22.54,IF(K75<=999,22.44,IF(K75<=25000,21.42,""))))))))))))))))) -> 20
A76: DIFFERENCE | N76: =M75-M74 -> -5.87
A79: 70400101 | B79: 19 | C79: 04 | D79: 17 | E79: 1237799 | F79: ETAM PAP | G79: 1113 ETAM PAP ENGHIEN | H79: ENGHIEN LES BAINS | I79: 95 | J79: 3 | K79: 25 | L79: 12.25
A80: 70400082 | B80: 19 | C80: 04 | D80: 17 | E80: 1238258 | F80: ETAM LINGERIE | G80: 1113 LINGERIE ENGHIEN | H80: ENGHIEN LES BAINS | I80: 95 | J80: 3 | K80: 8 | L80: 7.55
A81: TOTAL FACTURé | M81: =L79+L80 -> 19.8
B82: 19.04.2017 | I82: 34118 | J82: 34118 | K82: =IF(ISNUMBER(B82),"",CONVERT(J82,"g","kg")) -> 34.118 | M82: =IF(K82=0,0,IF(K82<=9,7.55,IF(K82<=15,9.42,IF(K82<=20,10.97,IF(K82<=27,12.25,IF(K82<=34,13.62,IF(K82<=39,15.33,IF(K82<=44,17.21,IF(K82<=49,17.31,IF(K82<=59,17.51,IF(K82<=69,20,IF(K82<=79,23.21,IF(K82<=89,22.7,IF(K82<=99.99,22.59,IF(K82<=499,22.54,IF(K82<=999,22.44,IF(K82<=25000,21.42,""))))))))))))))))) -> 15.33
A83: DIFFERENCE | N83: =M82-M81 -> -4.47
A86: 70400101 | B86: 20 | C86: 04 | D86: 17 | E86: 1239479 | F86: ETAM PAP | G86: 1113 ETAM PAP ENGHIEN | H86: ENGHIEN LES BAINS | I86: 95 | J86: 4 | K86: 28 | L86: 13.62
A87: 70400082 | B87: 20 | C87: 04 | D87: 17 | E87: 1239653 | F87: ETAM LINGERIE | G87: 1113 LINGERIE ENGHIEN | H87: ENGHIEN LES BAINS | I87: 95 | J87: 4 | K87: 19 | L87: 10.97
A88: TOTAL FACTURé | M88: =L86+L87 -> 24.59
B89: 20.04.2017 | I89: 48940 | J89: 48940 | K89: =IF(ISNUMBER(B89),"",CONVERT(J89,"g","kg")) -> 48.94 | M89: =IF(K89=0,0,IF(K89<=9,7.55,IF(K89<=15,9.42,IF(K89<=20,10.97,IF(K89<=27,12.25,IF(K89<=34,13.62,IF(K89<=39,15.33,IF(K89<=44,17.21,IF(K89<=49,17.31,IF(K89<=59,17.51,IF(K89<=69,20,IF(K89<=79,23.21,IF(K89<=89,22.7,IF(K89<=99.99,22.59,IF(K89<=499,22.54,IF(K89<=999,22.44,IF(K89<=25000,21.42,""))))))))))))))))) -> 17.31
A90: DIFFERENCE | N90: =M89-M88 -> -7.28
A93: 70400101 | B93: 21 | C93: 04 | D93: 17 | E93: 1240725 | F93: ETAM PAP | G93: 1113 ETAM PAP ENGHIEN | H93: ENGHIEN LES BAINS | I93: 95 | J93: 3 | K93: 7 | L93: 7.55
A94: 70400082 | B94: 21 | C94: 04 | D94: 17 | E94: 1240964 | F94: ETAM LINGERIE | G94: 1113 LINGERIE ENGHIEN | H94: ENGHIEN LES BAINS | I94: 95 | J94: 3 | K94: 9 | L94: 9.42
A95: TOTAL FACTURé | M95: =L93+L94 -> 16.97
B96: 21.04.2017 | I96: 18019 | J96: 18019 | K96: =IF(ISNUMBER(B96),"",CONVERT(J96,"g","kg")) -> 18.019 | M96: =IF(K96=0,0,IF(K96<=9,7.55,IF(K96<=15,9.42,IF(K96<=20,10.97,IF(K96<=27,12.25,IF(K96<=34,13.62,IF(K96<=39,15.33,IF(K96<=44,17.21,IF(K96<=49,17.31,IF(K96<=59,17.51,IF(K96<=69,20,IF(K96<=79,23.21,IF(K96<=89,22.7,IF(K96<=99.99,22.59,IF(K96<=499,22.54,IF(K96<=999,22.44,IF(K96<=25000,21.42,""))))))))))))))))) -> 10.97
A97: DIFFERENCE | N97: =M96-M95 -> -6
A100: 70400101 | B100: 24 | C100: 04 | D100: 17 | E100: 1242099 | F100: ETAM PAP | G100: 1113 ETAM PAP ENGHIEN | H100: ENGHIEN LES BAINS | I100: 95 | J100: 9 | K100: 68 | L100: 20
A101: 70400082 | B101: 24 | C101: 04 | D101: 17 | E101: 1242373 | F101: ETAM LINGERIE | G101: 1113 LINGERIE ENGHIEN | H101: ENGHIEN LES BAINS | I101: 95 | J101: 4 | K101: 16 | L101: 10.97
A102: TOTAL FACTURé | M102: =L100+L101 -> 30.97
B103: 24.04.2017 | I103: 89146 | J103: 89146 | K103: =IF(ISNUMBER(B103),"",CONVERT(J103,"g","kg")) -> 89.146 | M103: =IF(K103=0,0,IF(K103<=9,7.55,IF(K103<=15,9.42,IF(K103<=20,10.97,IF(K103<=27,12.25,IF(K103<=34,13.62,IF(K103<=39,15.33,IF(K103<=44,17.21,IF(K103<=49,17.31,IF(K103<=59,17.51,IF(K103<=69,20,IF(K103<=79,23.21,IF(K103<=89,22.7,IF(K103<=99.99,22.59,IF(K103<=499,22.54,IF(K103<=999,22.44,IF(K103<=25000,21.42,""))))))))))))))))) -> 22.59
A104: DIFFERENCE | N104: =M103-M102 -> -8.38
A107: 70400101 | B107: 25 | C107: 04 | D107: 17 | E107: 1243462 | F107: ETAM PAP | G107: 1113 ETAM PAP ENGHIEN | H107: ENGHIEN LES BAINS | I107: 95 | J107: 6 | K107: 53 | L107: 17.51
A108: 70400082 | B108: 25 | C108: 04 | D108: 17 | E108: 1243693 | F108: ETAM LINGERIE | G108: 1113 LINGERIE ENGHIEN | H108: ENGHIEN LES BAINS | I108: 95 | J108: 4 | K108: 15 | L108: 10.97
A109: TOTAL FACTURé | M109: =L107+L108 -> 28.48
B110: 25.04.2017 | I110: 70617 | J110: 70617 | K110: =IF(ISNUMBER(B110),"",CONVERT(J110,"g","kg")) -> 70.617 | M110: =IF(K110=0,0,IF(K110<=9,7.55,IF(K110<=15,9.42,IF(K110<=20,10.97,IF(K110<=27,12.25,IF(K110<=34,13.62,IF(K110<=39,15.33,IF(K110<=44,17.21,IF(K110<=49,17.31,IF(K110<=59,17.51,IF(K110<=69,20,IF(K110<=79,23.21,IF(K110<=89,22.7,IF(K110<=99.99,22.59,IF(K110<=499,22.54,IF(K110<=999,22.44,IF(K110<=25000,21.42,""))))))))))))))))) -> 23.21
A111: DIFFERENCE | N111: =M110-M109 -> -5.27
A114: 70400101 | B114: 26 | C114: 04 | D114: 17 | E114: 1244261 | F114: ETAM PAP | G114: 1113 ETAM PAP ENGHIEN | H114: ENGHIEN LES BAINS | I114: 95 | J114: 2 | K114: 14 | L114: 9.42
A115: 70400082 | B115: 26 | C115: 04 | D115: 17 | E115: 1245202 | F115: ETAM LINGERIE | G115: 1113 LINGERIE ENGHIEN | H115: ENGHIEN LES BAINS | I115: 95 | J115: 4 | K115: 18 | L115: 10.97
A116: TOTAL FACTURé | M116: =L114+L115 -> 20.39
B117: 26.04.2017 | I117: 35277 | J117: 35277 | K117: =IF(ISNUMBER(B117),"",CONVERT(J117,"g","kg")) -> 35.277 | M117: =IF(K117=0,0,IF(K117<=9,7.55,IF(K117<=15,9.42,IF(K117<=20,10.97,IF(K117<=27,12.25,IF(K117<=34,13.62,IF(K117<=39,15.33,IF(K117<=44,17.21,IF(K117<=49,17.31,IF(K117<=59,17.51,IF(K117<=69,20,IF(K117<=79,23.21,IF(K117<=89,22.7,IF(K117<=99.99,22.59,IF(K117<=499,22.54,IF(K117<=999,22.44,IF(K117<=25000,21.42,""))))))))))))))))) -> 15.33
A118: DIFFERENCE | N118: =M117-M116 -> -5.06
A121: 70400101 | B121: 27 | C121: 04 | D121: 17 | E121: 1246264 | F121: ETAM PAP | G121: 1113 ETAM PAP ENGHIEN | H121: ENGHIEN LES BAINS | I121: 95 | J121: 5 | K121: 40 | L121: 17.21
A122: 70400082 | B122: 27 | C122: 04 | D122: 17 | E122: 1246586 | F122: ETAM LINGERIE | G122: 1113 LINGERIE ENGHIEN | H122: ENGHIEN LES BAINS | I122: 95 | J122: 6 | K122: 40 | L122: 17.21
A123: TOTAL FACTURé | M123: =L121+L122 -> 34.42
B124: 27.04.2017 | I124: 81984 | J124: 81984 | K124: =IF(ISNUMBER(B124),"",CONVERT(J124,"g","kg")) -> 81.984 | M124: =IF(K124=0,0,IF(K124<=9,7.55,IF(K124<=15,9.42,IF(K124<=20,10.97,IF(K124<=27,12.25,IF(K124<=34,13.62,IF(K124<=39,15.33,IF(K124<=44,17.21,IF(K124<=49,17.31,IF(K124<=59,17.51,IF(K124<=69,20,IF(K124<=79,23.21,IF(K124<=89,22.7,IF(K124<=99.99,22.59,IF(K124<=499,22.54,IF(K124<=999,22.44,IF(K124<=25000,21.42,""))))))))))))))))) -> 22.7
A125: DIFFERENCE | N125: =M124-M123 -> -11.72
A128: 70400101 | B128: 28 | C128: 04 | D128: 17 | E128: 1247638 | F128: ETAM PAP | G128: 1113 ETAM PAP ENGHIEN | H128: ENGHIEN LES BAINS | I128: 95 | J128: 5 | K128: 37 | L128: 15.33
A129: 70400082 | B129: 28 | C129: 04 | D129: 17 | E129: 1247713 | F129: ETAM LINGERIE | G129: 1113 LINGERIE ENGHIEN | H129: ENGHIEN LES BAINS | I129: 95 | J129: 2 | K129: 6 | L129: 7.55
A130: TOTAL FACTURé | M130: =L128+L129 -> 22.88
B131: 28.04.2017 | I131: 45460 | J131: 45460 | K131: =IF(ISNUMBER(B131),"",CONVERT(J131,"g","kg")) -> 45.46 | M131: =IF(K131=0,0,IF(K131<=9,7.55,IF(K131<=15,9.42,IF(K131<=20,10.97,IF(K131<=27,12.25,IF(K131<=34,13.62,IF(K131<=39,15.33,IF(K131<=44,17.21,IF(K131<=49,17.31,IF(K131<=59,17.51,IF(K131<=69,20,IF(K131<=79,23.21,IF(K131<=89,22.7,IF(K131<=99.99,22.59,IF(K131<=499,22.54,IF(K131<=999,22.44,IF(K131<=25000,21.42,""))))))))))))))))) -> 17.31
A132: DIFFERENCE | N132: =M131-M130 -> -5.57
A135: TOTAL TROP PERCU : | L135: =SUM(L2:L134) -> 484.53 | N135: =SUM(N1:N134) -> -129.39

Sheet 1447
A1: FACTURE | B1: JOUR | C1: MOIS | D1: ANNEE | E1: RECEP | F1: EXP | G1: DEST | H1: VILLES | I1: DEPTS | J1: COLIS | K1: POIDS | L1: TARIFS
A2: 70400101 | B2: 03 | C2: 04 | D2: 17 | E2: 1223262 | F2: INVESTINT PAP | G2: 1447 ETAM PAP L'ISLE ADAM | H2: ISLE ADAM | I2: 95 | J2: 5 | K2: 25 | L2: 12.25
A3: 70400082 | B3: 03 | C3: 04 | D3: 17 | E3: 1223039 | F3: ETAM LINGERIE | G3: 1447 LINGERIE L'ISLE ADAM | H3: ISLE ADAM | I3: 95 | J3: 5 | K3: 27 | L3: 13.62
A4: TOTAL FACTURé | M4: =L2+L3 -> 25.87
B5: 03.04.2017 | I5: 71178 | J5: 71178 | K5: =IF(ISNUMBER(B5),"",CONVERT(J5,"g","kg")) -> 71.178 | M5: =IF(K5=0,0,IF(K5<=9,7.55,IF(K5<=15,9.42,IF(K5<=20,10.97,IF(K5<=27,12.25,IF(K5<=34,13.62,IF(K5<=39,15.33,IF(K5<=44,17.21,IF(K5<=49,17.31,IF(K5<=59,17.51,IF(K5<=69,20,IF(K5<=79,23.21,IF(K5<=89,22.7,IF(K5<=99.99,22.59,IF(K5<=499,22.54,IF(K5<=999,22.44,IF(K5<=25000,21.42,""))))))))))))))))) -> 23.21
A6: DIFFERENCE | N6: =M5-M4 -> -2.66
A9: 70400101 | B9: 04 | C9: 04 | D9: 17 | E9: 1224676 | F9: INVESTINT PAP | G9: 1447 ETAM PAP L'ISLE ADAM | H9: ISLE ADAM | I9: 95 | J9: 7 | K9: 70 | L9: 23.21
A10: 70400082 | B10: 04 | C10: 04 | D10: 17 | E10: 1224494 | F10: ETAM LINGERIE | G10: 1447 LINGERIE L'ISLE ADAM | H10: ISLE ADAM | I10: 95 | J10: 6 | K10: 22 | L10: 12.25
A11: TOTAL FACTURé | M11: =L9+L10 -> 35.46
B12: 04.04.2017 | I12: 76583 | J12: 76583 | K12: =IF(ISNUMBER(B12),"",CONVERT(J12,"g","kg")) -> 76.583 | M12: =IF(K12=0,0,IF(K12<=9,7.55,IF(K12<=15,9.42,IF(K12<=20,10.97,IF(K12<=27,12.25,IF(K12<=34,13.62,IF(K12<=39,15.33,IF(K12<=44,17.21,IF(K12<=49,17.31,IF(K12<=59,17.51,IF(K12<=69,20,IF(K12<=79,23.21,IF(K12<=89,22.7,IF(K12<=99.99,22.59,IF(K12<=499,22.54,IF(K12<=999,22.44,IF(K12<=25000,21.42,""))))))))))))))))) -> 23.21
A13: DIFFERENCE | N13: =M12-M11 -> -12.25
A16: 70400101 | B16: 05 | C16: 04 | D16: 17 | E16: 1225834 | F16: INVESTINT PAP | G16: 1447 ETAM PAP L'ISLE ADAM | H16: ISLE ADAM | I16: 95 | J16: 5 | K16: 25 | L16: 12.25
A17: 70400082 | B17: 05 | C17: 04 | D17: 17 | E17: 1225637 | F17: ETAM LINGERIE | G17: 1447 LINGERIE L'ISLE ADAM | H17: ISLE ADAM | I17: 95 | J17: 3 | K17: 14 | L17: 9.42
A18: TOTAL FACTURé | M18: =L16+L17 -> 21.67
B19: 05.04.2017 | I19: 54032 | J19: 54032 | K19: =IF(ISNUMBER(B19),"",CONVERT(J19,"g","kg")) -> 54.032 | M19: =IF(K19=0,0,IF(K19<=9,7.55,IF(K19<=15,9.42,IF(K19<=20,10.97,IF(K19<=27,12.25,IF(K19<=34,13.62,IF(K19<=39,15.33,IF(K19<=44,17.21,IF(K19<=49,17.31,IF(K19<=59,17.51,IF(K19<=69,20,IF(K19<=79,23.21,IF(K19<=89,22.7,IF(K19<=99.99,22.59,IF(K19<=499,22.54,IF(K19<=999,22.44,IF(K19<=25000,21.42,""))))))))))))))))) -> 17.51
A20: DIFFERENCE | N20: =M19-M18 -> -4.16
A23: 70400101 | B23: 06 | C23: 04 | D23: 17 | E23: 1226882 | F23: ETAM PAP | G23: 1447 ETAM PAP L'ISLE ADAM | H23: ISLE ADAM | I23: 95 | J23: 3 | K23: 31 | L23: 13.62
A24: 70400082 | B24: 06 | C24: 04 | D24: 17 | E24: 1227055 | F24: ETAM LINGERIE | G24: 1447 LINGERIE L'ISLE ADAM | H24: ISLE ADAM | I24: 95 | J24: 5 | K24: 26 | L24: 12.25
A25: TOTAL FACTURé | M25: =L23+L24 -> 25.87
B26: 06.04.2017 | I26: 60011 | J26: 60011 | K26: =IF(ISNUMBER(B26),"",CONVERT(J26,"g","kg")) -> 60.011 | M26: =IF(K26=0,0,IF(K26<=9,7.55,IF(K26<=15,9.42,IF(K26<=20,10.97,IF(K26<=27,12.25,IF(K26<=34,13.62,IF(K26<=39,15.33,IF(K26<=44,17.21,IF(K26<=49,17.31,IF(K26<=59,17.51,IF(K26<=69,20,IF(K26<=79,23.21,IF(K26<=89,22.7,IF(K26<=99.99,22.59,IF(K26<=499,22.54,IF(K26<=999,22.44,IF(K26<=25000,21.42,""))))))))))))))))) -> 20
A27: DIFFERENCE | N27: =M26-M25 -> -5.87
A30: 70400101 | B30: 07 | C30: 04 | D30: 17 | E30: 1228177 | F30: ETAM PAP | G30: 1447 ETAM PAP L'ISLE ADAM | H30: ISLE ADAM | I30: 95 | J30: 5 | K30: 44 | L30: 17.31
A31: 70400082 | B31: 07 | C31: 04 | D31: 17 | E31: 1228538 | F31: ETAM LINGERIE | G31: 1447 LINGERIE L'ISLE ADAM | H31: ISLE ADAM | I31: 95 | J31: 3 | K31: 12 | L31: 9.42
A32: TOTAL FACTURé | M32: =L30+L31 -> 26.73
B33: 07.04.2017 | I33: 57454 | J33: 57454 | K33: =IF(ISNUMBER(B33),"",CONVERT(J33,"g","kg")) -> 57.454 | M33: =IF(K33=0,0,IF(K33<=9,7.55,IF(K33<=15,9.42,IF(K33<=20,10.97,IF(K33<=27,12.25,IF(K33<=34,13.62,IF(K33<=39,15.33,IF(K33<=44,17.21,IF(K33<=49,17.31,IF(K33<=59,17.51,IF(K33<=69,20,IF(K33<=79,23.21,IF(K33<=89,22.7,IF(K33<=99.99,22.59,IF(K33<=499,22.54,IF(K33<=999,22.44,IF(K33<=25000,21.42,""))))))))))))))))) -> 17.51
A34: DIFFERENCE | N34: =M33-M32 -> -9.22
A37: 70400101 | B37: 10 | C37: 04 | D37: 17 | E37: 1229864 | F37: ETAM PAP | G37: 1447 ETAM PAP L'ISLE ADAM | H37: ISLE ADAM | I37: 95 | J37: 3 | K37: 30 | L37: 13.62
A38: 70400082 | B38: 10 | C38: 04 | D38: 17 | E38: 1230137 | F38: ETAM LINGERIE | G38: 1447 LINGERIE L'ISLE ADAM | H38: ISLE ADAM | I38: 95 | J38: 4 | K38: 24 | L38: 12.25
A39: TOTAL FACTURé | M39: =L37+L38 -> 25.87
B40: 10.04.2017 | I40: 58387 | J40: 58387 | K40: =IF(ISNUMBER(B40),"",CONVERT(J40,"g","kg")) -> 58.387 | M40: =IF(K40=0,0,IF(K40<=9,7.55,IF(K40<=15,9.42,IF(K40<=20,10.97,IF(K40<=27,12.25,IF(K40<=34,13.62,IF(K40<=39,15.33,IF(K40<=44,17.21,IF(K40<=49,17.31,IF(K40<=59,17.51,IF(K40<=69,20,IF(K40<=79,23.21,IF(K40<=89,22.7,IF(K40<=99.99,22.59,IF(K40<=499,22.54,IF(K40<=999,22.44,IF(K40<=25000,21.42,""))))))))))))))))) -> 17.51
A41: DIFFERENCE | N41: =M40-M39 -> -8.36
A44: 70400101 | B44: 11 | C44: 04 | D44: 17 | E44: 1231342 | F44: ETAM PAP | G44: 1447 ETAM PAP L'ISLE ADAM | H44: ISLE ADAM | I44: 95 | J44: 3 | K44: 30 | L44: 13.62
A45: 70400082 | B45: 11 | C45: 04 | D45: 17 | E45: 1231462 | F45: ETAM LINGERIE | G45: 1447 LINGERIE L'ISLE ADAM | H45: ISLE ADAM | I45: 95 | J45: 6 | K45: 27 | L45: 13.62
A46: TOTAL FACTURé | M46: =L44+L45 -> 27.24
B47: 11.04.2017 | I47: 58324 | J47: 58324 | K47: =IF(ISNUMBER(B47),"",CONVERT(J47,"g","kg")) -> 58.324 | M47: =IF(K47=0,0,IF(K47<=9,7.55,IF(K47<=15,9.42,IF(K47<=20,10.97,IF(K47<=27,12.25,IF(K47<=34,13.62,IF(K47<=39,15.33,IF(K47<=44,17.21,IF(K47<=49,17.31,IF(K47<=59,17.51,IF(K47<=69,20,IF(K47<=79,23.21,IF(K47<=89,22.7,IF(K47<=99.99,22.59,IF(K47<=499,22.54,IF(K47<=999,22.44,IF(K47<=25000,21.42,""))))))))))))))))) -> 17.51
A48: DIFFERENCE | N48: =M47-M46 -> -9.73
A51: 70400101 | B51: 12 | C51: 04 | D51: 17 | E51: 1232303 | F51: ETAM PAP | G51: 1447 ETAM PAP L'ISLE ADAM | H51: ISLE ADAM | I51: 95 | J51: 3 | K51: 24 | L51: 12.25
A52: 70400082 | B52: 12 | C52: 04 | D52: 17 | E52: 1232768 | F52: ETAM LINGERIE | G52: 1447 LINGERIE L'ISLE ADAM | H52: ISLE ADAM | I52: 95 | J52: 4 | K52: 18 | L52: 10.97
A53: TOTAL FACTURé | M53: =L51+L52 -> 23.22
B54: 12.04.2017 | I54: 43660 | J54: 43660 | K54: =IF(ISNUMBER(B54),"",CONVERT(J54,"g","kg")) -> 43.66 | M54: =IF(K54=0,0,IF(K54<=9,7.55,IF(K54<=15,9.42,IF(K54<=20,10.97,IF(K54<=27,12.25,IF(K54<=34,13.62,IF(K54<=39,15.33,IF(K54<=44,17.21,IF(K54<=49,17.31,IF(K54<=59,17.51,IF(K54<=69,20,IF(K54<=79,23.21,IF(K54<=89,22.7,IF(K54<=99.99,22.59,IF(K54<=499,22.54,IF(K54<=999,22.44,IF(K54<=25000,21.42,""))))))))))))))))) -> 17.21
A55: DIFFERENCE | N55: =M54-M53 -> -6.01
A58: 70400101 | B58: 13 | C58: 04 | D58: 17 | E58: 1233946 | F58: ETAM PAP | G58: 1447 ETAM PAP L'ISLE ADAM | H58: ISLE ADAM | I58: 95 | J58: 7 | K58: 59 | L58: 20
A59: 70400082 | B59: 13 | C59: 04 | D59: 17 | E59: 1234216 | F59: ETAM LINGERIE | G59: 1447 LINGERIE L'ISLE ADAM | H59: ISLE ADAM | I59: 95 | J59: 8 | K59: 45 | L59: 17.31
A60: TOTAL FACTURé | M60: =L58+L59 -> 37.31
B61: 13.04.2017 | I61: 107206 | J61: 107206 | K61: =IF(ISNUMBER(B61),"",CONVERT(J61,"g","kg")) -> 107.206 | M61: =IF(K61=0,0,IF(K61<=9,7.55,IF(K61<=15,9.42,IF(K61<=20,10.97,IF(K61<=27,12.25,IF(K61<=34,13.62,IF(K61<=39,15.33,IF(K61<=44,17.21,IF(K61<=49,17.31,IF(K61<=59,17.51,IF(K61<=69,20,IF(K61<=79,23.21,IF(K61<=89,22.7,IF(K61<=99.99,22.59,IF(K61<=499,22.54,IF(K61<=999,22.44,IF(K61<=25000,21.42,""))))))))))))))))) -> 22.54
A62: DIFFERENCE | N62: =M61-M60 -> -14.77
A65: 70400101 | B65: 14 | C65: 04 | D65: 17 | E65: 1235223 | F65: ETAM PAP | G65: 1447 ETAM PAP L'ISLE ADAM | H65: ISLE ADAM | I65: 95 | J65: 3 | K65: 24 | L65: 12.25
A66: 70400082 | B66: 14 | C66: 04 | D66: 17 | E66: 1235397 | F66: ETAM LINGERIE | G66: 1447 LINGERIE L'ISLE ADAM | H66: ISLE ADAM | I66: 95 | J66: 3 | K66: 12 | L66: 9.42
A67: TOTAL FACTURé | M67: =L65+L66 -> 21.67
B68: 14.04.2017 | I68: 38082 | J68: 38082 | K68: =IF(ISNUMBER(B68),"",CONVERT(J68,"g","kg")) -> 38.082 | M68: =IF(K68=0,0,IF(K68<=9,7.55,IF(K68<=15,9.42,IF(K68<=20,10.97,IF(K68<=27,12.25,IF(K68<=34,13.62,IF(K68<=39,15.33,IF(K68<=44,17.21,IF(K68<=49,17.31,IF(K68<=59,17.51,IF(K68<=69,20,IF(K68<=79,23.21,IF(K68<=89,22.7,IF(K68<=99.99,22.59,IF(K68<=499,22.54,IF(K68<=999,22.44,IF(K68<=25000,21.42,""))))))))))))))))) -> 15.33
A69: DIFFERENCE | N69: =M68-M67 -> -6.34
A72: 70400101 | B72: 18 | C72: 04 | D72: 17 | E72: 1236289 | F72: ETAM PAP | G72: 1447 ETAM PAP L'ISLE ADAM | H72: ISLE ADAM | I72: 95 | J72: 3 | K72: 32 | L72: 13.62
A73: 70400082 | B73: 18 | C73: 04 | D73: 17 | E73: 1236865 | F73: ETAM LINGERIE | G73: 1447 LINGERIE L'ISLE ADAM | H73: ISLE ADAM | I73: 95 | J73: 4 | K73: 22 | L73: 12.25
A74: TOTAL FACTURé | M74: =L72+L73 -> 25.87
B75: 18.04.2017 | I75: 61683 | J75: 61683 | K75: =IF(ISNUMBER(B75),"",CONVERT(J75,"g","kg")) -> 61.683 | M75: =IF(K75=0,0,IF(K75<=9,7.55,IF(K75<=15,9.42,IF(K75<=20,10.97,IF(K75<=27,12.25,IF(K75<=34,13.62,IF(K75<=39,15.33,IF(K75<=44,17.21,IF(K75<=49,17.31,IF(K75<=59,17.51,IF(K75<=69,20,IF(K75<=79,23.21,IF(K75<=89,22.7,IF(K75<=99.99,22.59,IF(K75<=499,22.54,IF(K75<=999,22.44,IF(K75<=25000,21.42,""))))))))))))))))) -> 20
A76: DIFFERENCE | N76: =M75-M74 -> -5.87
A79: 70400101 | B79: 19 | C79: 04 | D79: 17 | E79: 1237800 | F79: ETAM PAP | G79: 1447 ETAM PAP L'ISLE ADAM | H79: ISLE ADAM | I79: 95 | J79: 5 | K79: 39 | L79: 17.21
A80: 70400082 | B80: 19 | C80: 04 | D80: 17 | E80: 1238259 | F80: ETAM LINGERIE | G80: 1447 LINGERIE L'ISLE ADAM | H80: ISLE ADAM | I80: 95 | J80: 4 | K80: 15 | L80: 10.97
A81: TOTAL FACTURé | M81: =L79+L80 -> 28.18
B82: 19.04.2017 | I82: 56616 | J82: 56616 | K82: =IF(ISNUMBER(B82),"",CONVERT(J82,"g","kg")) -> 56.616 | M82: =IF(K82=0,0,IF(K82<=9,7.55,IF(K82<=15,9.42,IF(K82<=20,10.97,IF(K82<=27,12.25,IF(K82<=34,13.62,IF(K82<=39,15.33,IF(K82<=44,17.21,IF(K82<=49,17.31,IF(K82<=59,17.51,IF(K82<=69,20,IF(K82<=79,23.21,IF(K82<=89,22.7,IF(K82<=99.99,22.59,IF(K82<=499,22.54,IF(K82<=999,22.44,IF(K82<=25000,21.42,""))))))))))))))))) -> 17.51
A83: DIFFERENCE | N83: =M82-M81 -> -10.67
A86: 70400101 | B86: 20 | C86: 04 | D86: 17 | E86: 1239480 | F86: ETAM PAP | G86: 1447 ETAM PAP L'ISLE ADAM | H86: ISLE ADAM | I86: 95 | J86: 4 | K86: 31 | L86: 13.62
A87: 70400082 | B87: 20 | C87: 04 | D87: 17 | E87: 1239654 | F87: ETAM LINGERIE | G87: 1447 LINGERIE L'ISLE ADAM | H87: ISLE ADAM | I87: 95 | J87: 3 | K87: 12 | L87: 9.42
A88: TOTAL FACTURé | M88: =L86+L87 -> 23.04
B89: 20.04.2017 | I89: 46133 | J89: 46133 | K89: =IF(ISNUMBER(B89),"",CONVERT(J89,"g","kg")) -> 46.133 | M89: =IF(K89=0,0,IF(K89<=9,7.55,IF(K89<=15,9.42,IF(K89<=20,10.97,IF(K89<=27,12.25,IF(K89<=34,13.62,IF(K89<=39,15.33,IF(K89<=44,17.21,IF(K89<=49,17.31,IF(K89<=59,17.51,IF(K89<=69,20,IF(K89<=79,23.21,IF(K89<=89,22.7,IF(K89<=99.99,22.59,IF(K89<=499,22.54,IF(K89<=999,22.44,IF(K89<=25000,21.42,""))))))))))))))))) -> 17.31
A90: DIFFERENCE | N90: =M89-M88 -> -5.73
A93: 70400101 | B93: 21 | C93: 04 | D93: 17 | E93: 1240726 | F93: ETAM PAP | G93: 1447 ETAM PAP L'ISLE ADAM | H93: ISLE ADAM | I93: 95 | J93: 4 | K93: 18 | L93: 10.97
A94: 70400082 | B94: 21 | C94: 04 | D94: 17 | E94: 1240967 | F94: ETAM LINGERIE | G94: 1447 LINGERIE L'ISLE ADAM | H94: ISLE ADAM | I94: 95 | J94: 3 | K94: 10 | L94: 9.42
A95: TOTAL FACTURé | M95: =L93+L94 -> 20.39
B96: 21.04.2017 | I96: 30930 | J96: 30930 | K96: =IF(ISNUMBER(B96),"",CONVERT(J96,"g","kg")) -> 30.93 | M96: =IF(K96=0,0,IF(K96<=9,7.55,IF(K96<=15,9.42,IF(K96<=20,10.97,IF(K96<=27,12.25,IF(K96<=34,13.62,IF(K96<=39,15.33,IF(K96<=44,17.21,IF(K96<=49,17.31,IF(K96<=59,17.51,IF(K96<=69,20,IF(K96<=79,23.21,IF(K96<=89,22.7,IF(K96<=99.99,22.59,IF(K96<=499,22.54,IF(K96<=999,22.44,IF(K96<=25000,21.42,""))))))))))))))))) -> 13.62
A97: DIFFERENCE | N97: =M96-M95 -> -6.77
A100: 70400101 | B100: 24 | C100: 04 | D100: 17 | E100: 1242100 | F100: ETAM PAP | G100: 1447 ETAM PAP L'ISLE ADAM | H100: ISLE ADAM | I100: 95 | J100: 8 | K100: 58 | L100: 17.51
A101: 70400082 | B101: 24 | C101: 04 | D101: 17 | E101: 1242374 | F101: ETAM LINGERIE | G101: 1447 LINGERIE L'ISLE ADAM | H101: ISLE ADAM | I101: 95 | J101: 5 | K101: 19 | L101: 10.97
A102: TOTAL FACTURé | M102: =L100+L101 -> 28.48
B103: 24.04.2017 | I103: 81175 | J103: 81175 | K103: =IF(ISNUMBER(B103),"",CONVERT(J103,"g","kg")) -> 81.175 | M103: =IF(K103=0,0,IF(K103<=9,7.55,IF(K103<=15,9.42,IF(K103<=20,10.97,IF(K103<=27,12.25,IF(K103<=34,13.62,IF(K103<=39,15.33,IF(K103<=44,17.21,IF(K103<=49,17.31,IF(K103<=59,17.51,IF(K103<=69,20,IF(K103<=79,23.21,IF(K103<=89,22.7,IF(K103<=99.99,22.59,IF(K103<=499,22.54,IF(K103<=999,22.44,IF(K103<=25000,21.42,""))))))))))))))))) -> 22.7
A104: DIFFERENCE | N104: =M103-M102 -> -5.78
A107: 70400101 | B107: 25 | C107: 04 | D107: 17 | E107: 1243463 | F107: ETAM PAP | G107: 1447 ETAM PAP L'ISLE ADAM | H107: ISLE ADAM | I107: 95 | J107: 6 | K107: 53 | L107: 17.51
A108: 70400082 | B108: 25 | C108: 04 | D108: 17 | E108: 1243694 | F108: ETAM LINGERIE | G108: 1447 LINGERIE L'ISLE ADAM | H108: ISLE ADAM | I108: 95 | J108: 5 | K108: 19 | L108: 10.97
A109: TOTAL FACTURé | M109: =L107+L108 -> 28.48
B110: 25.04.2017 | I110: 76889 | J110: 76889 | K110: =IF(ISNUMBER(B110),"",CONVERT(J110,"g","kg")) -> 76.889 | M110: =IF(K110=0,0,IF(K110<=9,7.55,IF(K110<=15,9.42,IF(K110<=20,10.97,IF(K110<=27,12.25,IF(K110<=34,13.62,IF(K110<=39,15.33,IF(K110<=44,17.21,IF(K110<=49,17.31,IF(K110<=59,17.51,IF(K110<=69,20,IF(K110<=79,23.21,IF(K110<=89,22.7,IF(K110<=99.99,22.59,IF(K110<=499,22.54,IF(K110<=999,22.44,IF(K110<=25000,21.42,""))))))))))))))))) -> 23.21
A111: DIFFERENCE | N111: =M110-M109 -> -5.27
A114: 70400101 | B114: 26 | C114: 04 | D114: 17 | E114: 1244262 | F114: ETAM PAP | G114: 1447 ETAM PAP L'ISLE ADAM | H114: ISLE ADAM | I114: 95 | J114: 4 | K114: 27 | L114: 13.62
A115: 70400082 | B115: 26 | C115: 04 | D115: 17 | E115: 1245203 | F115: ETAM LINGERIE | G115: 1447 LINGERIE L'ISLE ADAM | H115: ISLE ADAM | I115: 95 | J115: 3 | K115: 13 | L115: 9.42
A116: TOTAL FACTURé | M116: =L114+L115 -> 23.04
B117: 26.04.2017 | I117: 42080 | J117: 42080 | K117: =IF(ISNUMBER(B117),"",CONVERT(J117,"g","kg")) -> 42.08 | M117: =IF(K117=0,0,IF(K117<=9,7.55,IF(K117<=15,9.42,IF(K117<=20,10.97,IF(K117<=27,12.25,IF(K117<=34,13.62,IF(K117<=39,15.33,IF(K117<=44,17.21,IF(K117<=49,17.31,IF(K117<=59,17.51,IF(K117<=69,20,IF(K117<=79,23.21,IF(K117<=89,22.7,IF(K117<=99.99,22.59,IF(K117<=499,22.54,IF(K117<=999,22.44,IF(K117<=25000,21.42,""))))))))))))))))) -> 17.21
A118: DIFFERENCE | N118: =M117-M116 -> -5.83
A121: 70400101 | B121: 27 | C121: 04 | D121: 17 | E121: 1246265 | F121: ETAM PAP | G121: 1447 ETAM PAP L'ISLE ADAM | H121: ISLE ADAM | I121: 95 | J121: 5 | K121: 37 | L121: 15.33
A122: 70400082 | B122: 27 | C122: 04 | D122: 17 | E122: 1246587 | F122: ETAM LINGERIE | G122: 1447 LINGERIE L'ISLE ADAM | H122: ISLE ADAM | I122: 95 | J122: 6 | K122: 32 | L122: 13.62
A123: TOTAL FACTURé | M123: =L121+L122 -> 28.95
B124: 27.04.2017 | I124: 72201 | J124: 72201 | K124: =IF(ISNUMBER(B124),"",CONVERT(J124,"g","kg")) -> 72.201 | M124: =IF(K124=0,0,IF(K124<=9,7.55,IF(K124<=15,9.42,IF(K124<=20,10.97,IF(K124<=27,12.25,IF(K124<=34,13.62,IF(K124<=39,15.33,IF(K124<=44,17.21,IF(K124<=49,17.31,IF(K124<=59,17.51,IF(K124<=69,20,IF(K124<=79,23.21,IF(K124<=89,22.7,IF(K124<=99.99,22.59,IF(K124<=499,22.54,IF(K124<=999,22.44,IF(K124<=25000,21.42,""))))))))))))))))) -> 23.21
A125: DIFFERENCE | N125: =M124-M123 -> -5.74
A128: 70400101 | B128: 28 | C128: 04 | D128: 17 | E128: 1247639 | F128: ETAM PAP | G128: 1447 ETAM PAP L'ISLE ADAM | H128: ISLE ADAM | I128: 95 | J128: 5 | K128: 33 | L128: 13.62
A129: 70400082 | B129: 28 | C129: 04 | D129: 17 | E129: 1247817 | F129: ETAM LINGERIE | G129: 1447 LINGERIE L'ISLE ADAM | H129: ISLE ADAM | I129: 95 | J129: 3 | K129: 10 | L129: 9.42
A130: TOTAL FACTURé | M130: =L128+L129 -> 23.04
B131: 28.04.2017 | I131: 44968 | J131: 44968 | K131: =IF(ISNUMBER(B131),"",CONVERT(J131,"g","kg")) -> 44.968 | M131: =IF(K131=0,0,IF(K131<=9,7.55,IF(K131<=15,9.42,IF(K131<=20,10.97,IF(K131<=27,12.25,IF(K131<=34,13.62,IF(K131<=39,15.33,IF(K131<=44,17.21,IF(K131<=49,17.31,IF(K131<=59,17.51,IF(K131<=69,20,IF(K131<=79,23.21,IF(K131<=89,22.7,IF(K131<=99.99,22.59,IF(K131<=499,22.54,IF(K131<=999,22.44,IF(K131<=25000,21.42,""))))))))))))))))) -> 17.31
A132: DIFFERENCE | N132: =M131-M130 -> -5.73
A135: TOTAL TROP PERCU : | L135: =SUM(L2:L134) -> 500.38 | N135: =SUM(N1:N134) -> -136.76

Sheet 1501
A1: FACTURE | B1: JOUR | C1: MOIS | D1: ANNEE | E1: RECEP | F1: EXP | G1: DEST | H1: VILLES | I1: DEPTS | J1: COLIS | K1: POIDS | L1: TARIFS
A2: 70400101 | B2: 03 | C2: 04 | D2: 17 | E2: 1223231 | F2: INVESTINT PAP | G2: 1501 ETAM PAP CLAYE SOUILL | H2: CLAYE SOUILLY | I2: 77 | J2: 12 | K2: 60 | L2: 20
A3: 70400082 | B3: 03 | C3: 04 | D3: 17 | E3: 1223002 | F3: ETAM LINGERIE | G3: 1501 LINGERIE CLAYE SOUILL | H3: CLAYE SOUILLY | I3: 77 | J3: 9 | K3: 61 | L3: 20
A4: TOTAL FACTURé | M4: =L2+L3 -> 40
B5: 03.04.2017 | I5: 152447 | J5: 152447 | K5: =IF(ISNUMBER(B5),"",CONVERT(J5,"g","kg")) -> 152.447 | M5: =IF(K5=0,0,IF(K5<=9,7.55,IF(K5<=15,9.42,IF(K5<=20,10.97,IF(K5<=27,12.25,IF(K5<=34,13.62,IF(K5<=39,15.33,IF(K5<=44,17.21,IF(K5<=49,17.31,IF(K5<=59,17.51,IF(K5<=69,20,IF(K5<=79,23.21,IF(K5<=89,22.7,IF(K5<=99.99,22.59,IF(K5<=499,22.54,IF(K5<=999,22.44,IF(K5<=25000,21.42,""))))))))))))))))) -> 22.54
A6: DIFFERENCE | N6: =M5-M4 -> -17.46
A9: 70400101 | B9: 04 | C9: 04 | D9: 17 | E9: 1224647 | F9: INVESTINT PAP | G9: 1501 ETAM PAP CLAYE SOUILL | H9: CLAYE SOUILLY | I9: 77 | J9: 21 | K9: 210 | L9: 47.33
A10: 70400082 | B10: 04 | C10: 04 | D10: 17 | E10: 1224465 | F10: ETAM LINGERIE | G10: 1501 LINGERIE CLAYE SOUILL | H10: CLAYE SOUILLY | I10: 77 | J10: 10 | K10: 52 | L10: 17.51
A11: TOTAL FACTURé | M11: =L9+L10 -> 64.84
B12: 04.04.2017 | I12: 228197 | J12: 228197 | K12: =IF(ISNUMBER(B12),"",CONVERT(J12,"g","kg")) -> 228.197 | M12: =IF(K12=0,0,IF(K12<=9,7.55,IF(K12<=15,9.42,IF(K12<=20,10.97,IF(K12<=27,12.25,IF(K12<=34,13.62,IF(K12<=39,15.33,IF(K12<=44,17.21,IF(K12<=49,17.31,IF(K12<=59,17.51,IF(K12<=69,20,IF(K12<=79,23.21,IF(K12<=89,22.7,IF(K12<=99.99,22.59,IF(K12<=499,22.54,IF(K12<=999,22.44,IF(K12<=25000,21.42,""))))))))))))))))) -> 22.54
A13: DIFFERENCE | N13: =M12-M11 -> -42.3
A16: 70400101 | B16: 05 | C16: 04 | D16: 17 | E16: 1225810 | F16: INVESTINT PAP | G16: 1501 ETAM PAP CLAYE SOUILL | H16: CLAYE SOUILLY | I16: 77 | J16: 12 | K16: 60 | L16: 20
A17: 70400082 | B17: 05 | C17: 04 | D17: 17 | E17: 1225604 | F17: ETAM LINGERIE | G17: 1501 LINGERIE CLAYE SOUILL | H17: CLAYE SOUILLY | I17: 77 | J17: 8 | K17: 51 | L17: 17.51
A18: TOTAL FACTURé | M18: =L16+L17 -> 37.51
B19: 05.04.2017 | I19: 148389 | J19: 148389 | K19: =IF(ISNUMBER(B19),"",CONVERT(J19,"g","kg")) -> 148.389 | M19: =IF(K19=0,0,IF(K19<=9,7.55,IF(K19<=15,9.42,IF(K19<=20,10.97,IF(K19<=27,12.25,IF(K19<=34,13.62,IF(K19<=39,15.33,IF(K19<=44,17.21,IF(K19<=49,17.31,IF(K19<=59,17.51,IF(K19<=69,20,IF(K19<=79,23.21,IF(K19<=89,22.7,IF(K19<=99.99,22.59,IF(K19<=499,22.54,IF(K19<=999,22.44,IF(K19<=25000,21.42,""))))))))))))))))) -> 22.54
A20: DIFFERENCE | N20: =M19-M18 -> -14.97
A23: 70400101 | B23: 06 | C23: 04 | D23: 17 | E23: 1226859 | F23: ETAM PAP | G23: 1501 ETAM PAP CLAYE SOUILL | H23: CLAYE SOUILLY | I23: 77 | J23: 18 | K23: 144 | L23: 32.63
A24: 70400082 | B24: 06 | C24: 04 | D24: 17 | E24: 1227018 | F24: ETAM LINGERIE | G24: 1501 LINGERIE CLAYE SOUILL | H24: CLAYE SOUILLY | I24: 77 | J24: 7 | K24: 45 | L24: 17.31
A25: TOTAL FACTURé | M25: =L23+L24 -> 49.94
B26: 06.04.2017 | I26: 191291 | J26: 191291 | K26: =IF(ISNUMBER(B26),"",CONVERT(J26,"g","kg")) -> 191.291 | M26: =IF(K26=0,0,IF(K26<=9,7.55,IF(K26<=15,9.42,IF(K26<=20,10.97,IF(K26<=27,12.25,IF(K26<=34,13.62,IF(K26<=39,15.33,IF(K26<=44,17.21,IF(K26<=49,17.31,IF(K26<=59,17.51,IF(K26<=69,20,IF(K26<=79,23.21,IF(K26<=89,22.7,IF(K26<=99.99,22.59,IF(K26<=499,22.54,IF(K26<=999,22.44,IF(K26<=25000,21.42,""))))))))))))))))) -> 22.54
A27: DIFFERENCE | N27: =M26-M25 -> -27.4
A30: 70400101 | B30: 07 | C30: 04 | D30: 17 | E30: 1228155 | F30: ETAM PAP | G30: 1501 ETAM PAP CLAYE SOUILL | H30: CLAYE SOUILLY | I30: 77 | J30: 10 | K30: 76 | L30: 23.21
A31: 70400082 | B31: 07 | C31: 04 | D31: 17 | E31: 1228506 | F31: ETAM LINGERIE | G31: 1501 LINGERIE CLAYE SOUILL | H31: CLAYE SOUILLY | I31: 77 | J31: 5 | K31: 18 | L31: 10.97
A32: TOTAL FACTURé | M32: =L30+L31 -> 34.18
B33: 07.04.2017 | I33: 96766 | J33: 96766 | K33: =IF(ISNUMBER(B33),"",CONVERT(J33,"g","kg")) -> 96.766 | M33: =IF(K33=0,0,IF(K33<=9,7.55,IF(K33<=15,9.42,IF(K33<=20,10.97,IF(K33<=27,12.25,IF(K33<=34,13.62,IF(K33<=39,15.33,IF(K33<=44,17.21,IF(K33<=49,17.31,IF(K33<=59,17.51,IF(K33<=69,20,IF(K33<=79,23.21,IF(K33<=89,22.7,IF(K33<=99.99,22.59,IF(K33<=499,22.54,IF(K33<=999,22.44,IF(K33<=25000,21.42,""))))))))))))))))) -> 22.59
A34: DIFFERENCE | N34: =M33-M32 -> -11.59
A37: 70400101 | B37: 10 | C37: 04 | D37: 17 | E37: 1229840 | F37: ETAM PAP | G37: 1501 ETAM PAP CLAYE SOUILL | H37: CLAYE SOUILLY | I37: 77 | J37: 6 | K37: 55 | L37: 17.51
A38: 70400082 | B38: 10 | C38: 04 | D38: 17 | E38: 1230104 | F38: ETAM LINGERIE | G38: 1501 LINGERIE CLAYE SOUILL | H38: CLAYE SOUILLY | I38: 77 | J38: 6 | K38: 39 | L38: 17.21
A39: TOTAL FACTURé | M39: =L37+L38 -> 34.72
B40: 10.04.2017 | I40: 99203 | J40: 99203 | K40: =IF(ISNUMBER(B40),"",CONVERT(J40,"g","kg")) -> 99.203 | M40: =IF(K40=0,0,IF(K40<=9,7.55,IF(K40<=15,9.42,IF(K40<=20,10.97,IF(K40<=27,12.25,IF(K40<=34,13.62,IF(K40<=39,15.33,IF(K40<=44,17.21,IF(K40<=49,17.31,IF(K40<=59,17.51,IF(K40<=69,20,IF(K40<=79,23.21,IF(K40<=89,22.7,IF(K40<=99.99,22.59,IF(K40<=499,22.54,IF(K40<=999,22.44,IF(K40<=25000,21.42,""))))))))))))))))) -> 22.59
A41: DIFFERENCE | N41: =M40-M39 -> -12.13
A44: 70400101 | B44: 11 | C44: 04 | D44: 17 | E44: 1231319 | F44: ETAM PAP | G44: 1501 ETAM PAP CLAYE SOUILL | H44: CLAYE SOUILLY | I44: 77 | J44: 12 | K44: 105 | L44: 23.72
A45: 70400082 | B45: 11 | C45: 04 | D45: 17 | E45: 1231433 | F45: ETAM LINGERIE | G45: 1501 LINGERIE CLAYE SOUILL | H45: CLAYE SOUILLY | I45: 77 | J45: 10 | K45: 56 | L45: 17.51
A46: TOTAL FACTURé | M46: =L44+L45 -> 41.23
B47: 11.04.2017 | I47: 163167 | J47: 163167 | K47: =IF(ISNUMBER(B47),"",CONVERT(J47,"g","kg")) -> 163.167 | M47: =IF(K47=0,0,IF(K47<=9,7.55,IF(K47<=15,9.42,IF(K47<=20,10.97,IF(K47<=27,12.25,IF(K47<=34,13.62,IF(K47<=39,15.33,IF(K47<=44,17.21,IF(K47<=49,17.31,IF(K47<=59,17.51,IF(K47<=69,20,IF(K47<=79,23.21,IF(K47<=89,22.7,IF(K47<=99.99,22.59,IF(K47<=499,22.54,IF(K47<=999,22.44,IF(K47<=25000,21.42,""))))))))))))))))) -> 22.54
A48: DIFFERENCE | N48: =M47-M46 -> -18.69
A51: 70400101 | B51: 12 | C51: 04 | D51: 17 | E51: 1232279 | F51: ETAM PAP | G51: 1501 ETAM PAP CLAYE SOUILL | H51: CLAYE SOUILLY | I51: 77 | J51: 5 | K51: 35 | L51: 15.33
A52: 70400082 | B52: 12 | C52: 04 | D52: 17 | E52: 1232735 | F52: ETAM LINGERIE | G52: 1501 LINGERIE CLAYE SOUILL | H52: CLAYE SOUILLY | I52: 77 | J52: 8 | K52: 55 | L52: 17.51
A53: TOTAL FACTURé | M53: =L51+L52 -> 32.84
B54: 12.04.2017 | I54: 94011 | J54: 94011 | K54: =IF(ISNUMBER(B54),"",CONVERT(J54,"g","kg")) -> 94.011 | M54: =IF(K54=0,0,IF(K54<=9,7.55,IF(K54<=15,9.42,IF(K54<=20,10.97,IF(K54<=27,12.25,IF(K54<=34,13.62,IF(K54<=39,15.33,IF(K54<=44,17.21,IF(K54<=49,17.31,IF(K54<=59,17.51,IF(K54<=69,20,IF(K54<=79,23.21,IF(K54<=89,22.7,IF(K54<=99.99,22.59,IF(K54<=499,22.54,IF(K54<=999,22.44,IF(K54<=25000,21.42,""))))))))))))))))) -> 22.59
A55: DIFFERENCE | N55: =M54-M53 -> -10.25
A58: 70400101 | B58: 13 | C58: 04 | D58: 17 | E58: 1233922 | F58: ETAM PAP | G58: 1501 ETAM PAP CLAYE SOUILL | H58: CLAYE SOUILLY | I58: 77 | J58: 7 | K58: 53 | L58: 17.51
A59: 70400082 | B59: 13 | C59: 04 | D59: 17 | E59: 1234187 | F59: ETAM LINGERIE | G59: 1501 LINGERIE CLAYE SOUILL | H59: CLAYE SOUILLY | I59: 77 | J59: 19 | K59: 142 | L59: 32.1
A60: TOTAL FACTURé | M60: =L58+L59 -> 49.61
B61: 13.04.2017 | I61: 198891 | J61: 198891 | K61: =IF(ISNUMBER(B61),"",CONVERT(J61,"g","kg")) -> 198.891 | M61: =IF(K61=0,0,IF(K61<=9,7.55,IF(K61<=15,9.42,IF(K61<=20,10.97,IF(K61<=27,12.25,IF(K61<=34,13.62,IF(K61<=39,15.33,IF(K61<=44,17.21,IF(K61<=49,17.31,IF(K61<=59,17.51,IF(K61<=69,20,IF(K61<=79,23.21,IF(K61<=89,22.7,IF(K61<=99.99,22.59,IF(K61<=499,22.54,IF(K61<=999,22.44,IF(K61<=25000,21.42,""))))))))))))))))) -> 22.54
A62: DIFFERENCE | N62: =M61-M60 -> -27.07
A65: 70400101 | B65: 14 | C65: 04 | D65: 17 | E65: 1235201 | F65: ETAM PAP | G65: 1501 ETAM PAP CLAYE SOUILL | H65: CLAYE SOUILLY | I65: 77 | J65: 6 | K65: 54 | L65: 17.51
A66: 70400082 | B66: 14 | C66: 04 | D66: 17 | E66: 1235360 | F66: ETAM LINGERIE | G66: 1501 LINGERIE CLAYE SOUILL | H66: CLAYE SOUILLY | I66: 77 | J66: 7 | K66: 34 | L66: 15.33
A67: TOTAL FACTURé | M67: =L65+L66 -> 32.84
B68: 14.04.2017 | I68: 90567 | J68: 90567 | K68: =IF(ISNUMBER(B68),"",CONVERT(J68,"g","kg")) -> 90.567 | M68: =IF(K68=0,0,IF(K68<=9,7.55,IF(K68<=15,9.42,IF(K68<=20,10.97,IF(K68<=27,12.25,IF(K68<=34,13.62,IF(K68<=39,15.33,IF(K68<=44,17.21,IF(K68<=49,17.31,IF(K68<=59,17.51,IF(K68<=69,20,IF(K68<=79,23.21,IF(K68<=89,22.7,IF(K68<=99.99,22.59,IF(K68<=499,22.54,IF(K68<=999,22.44,IF(K68<=25000,21.42,""))))))))))))))))) -> 22.59
A69: DIFFERENCE | N69: =M68-M67 -> -10.25
A72: 70400101 | B72: 18 | C72: 04 | D72: 17 | E72: 1236265 | F72: ETAM PAP | G72: 1501 ETAM PAP CLAYE SOUILL | H72: CLAYE SOUILLY | I72: 77 | J72: 12 | K72: 94 | L72: 22.59
A73: 70400082 | B73: 18 | C73: 04 | D73: 17 | E73: 1236836 | F73: ETAM LINGERIE | G73: 1501 LINGERIE CLAYE SOUILL | H73: CLAYE SOUILLY | I73: 77 | J73: 9 | K73: 54 | L73: 17.51
A74: TOTAL FACTURé | M74: =L72+L73 -> 40.1
B75: 18.04.2017 | I75: 158899 | J75: 158899 | K75: =IF(ISNUMBER(B75),"",CONVERT(J75,"g","kg")) -> 158.899 | M75: =IF(K75=0,0,IF(K75<=9,7.55,IF(K75<=15,9.42,IF(K75<=20,10.97,IF(K75<=27,12.25,IF(K75<=34,13.62,IF(K75<=39,15.33,IF(K75<=44,17.21,IF(K75<=49,17.31,IF(K75<=59,17.51,IF(K75<=69,20,IF(K75<=79,23.21,IF(K75<=89,22.7,IF(K75<=99.99,22.59,IF(K75<=499,22.54,IF(K75<=999,22.44,IF(K75<=25000,21.42,""))))))))))))))))) -> 22.54
A76: DIFFERENCE | N76: =M75-M74 -> -17.56
A79: 70400101 | B79: 19 | C79: 04 | D79: 17 | E79: 1237777 | F79: ETAM PAP | G79: 1501 ETAM PAP CLAYE SOUILL | H79: CLAYE SOUILLY | I79: 77 | J79: 7 | K79: 61 | L79: 20
A80: 70400082 | B80: 19 | C80: 04 | D80: 17 | E80: 1238226 | F80: ETAM LINGERIE | G80: 1501 LINGERIE CLAYE SOUILL | H80: CLAYE SOUILLY | I80: 77 | J80: 5 | K80: 19 | L80: 10.97
A81: TOTAL FACTURé | M81: =L79+L80 -> 30.97
B82: 19.04.2017 | I82: 82764 | J82: 82764 | K82: =IF(ISNUMBER(B82),"",CONVERT(J82,"g","kg")) -> 82.764 | M82: =IF(K82=0,0,IF(K82<=9,7.55,IF(K82<=15,9.42,IF(K82<=20,10.97,IF(K82<=27,12.25,IF(K82<=34,13.62,IF(K82<=39,15.33,IF(K82<=44,17.21,IF(K82<=49,17.31,IF(K82<=59,17.51,IF(K82<=69,20,IF(K82<=79,23.21,IF(K82<=89,22.7,IF(K82<=99.99,22.59,IF(K82<=499,22.54,IF(K82<=999,22.44,IF(K82<=25000,21.42,""))))))))))))))))) -> 22.7
A83: DIFFERENCE | N83: =M82-M81 -> -8.27
A86: 70400101 | B86: 20 | C86: 04 | D86: 17 | E86: 1239457 | F86: ETAM PAP | G86: 1501 ETAM PAP CLAYE SOUILL | H86: CLAYE SOUILLY | I86: 77 | J86: 10 | K86: 72 | L86: 23.21
A87: 70400082 | B87: 20 | C87: 04 | D87: 17 | E87: 1239625 | F87: ETAM LINGERIE | G87: 1501 LINGERIE CLAYE SOUILL | H87: CLAYE SOUILLY | I87: 77 | J87: 6 | K87: 25 | L87: 12.25
A88: TOTAL FACTURé | M88: =L86+L87 -> 35.46
B89: 20.04.2017 | I89: 98930 | J89: 98930 | K89: =IF(ISNUMBER(B89),"",CONVERT(J89,"g","kg")) -> 98.93 | M89: =IF(K89=0,0,IF(K89<=9,7.55,IF(K89<=15,9.42,IF(K89<=20,10.97,IF(K89<=27,12.25,IF(K89<=34,13.62,IF(K89<=39,15.33,IF(K89<=44,17.21,IF(K89<=49,17.31,IF(K89<=59,17.51,IF(K89<=69,20,IF(K89<=79,23.21,IF(K89<=89,22.7,IF(K89<=99.99,22.59,IF(K89<=499,22.54,IF(K89<=999,22.44,IF(K89<=25000,21.42,""))))))))))))))))) -> 22.59
A90: DIFFERENCE | N90: =M89-M88 -> -12.87
A93: 70400101 | B93: 21 | C93: 04 | D93: 17 | E93: 1240704 | F93: ETAM PAP | G93: 1501 ETAM PAP CLAYE SOUILL | H93: CLAYE SOUILLY | I93: 77 | J93: 5 | K93: 25 | L93: 12.25
A94: 70400082 | B94: 21 | C94: 04 | D94: 17 | E94: 1240914 | F94: ETAM LINGERIE | G94: 1501 LINGERIE CLAYE SOUILL | H94: CLAYE SOUILLY | I94: 77 | J94: 5 | K94: 18 | L94: 10.97
A95: TOTAL FACTURé | M95: =L93+L94 -> 23.22
B96: 21.04.2017 | I96: 45643 | J96: 45643 | K96: =IF(ISNUMBER(B96),"",CONVERT(J96,"g","kg")) -> 45.643 | M96: =IF(K96=0,0,IF(K96<=9,7.55,IF(K96<=15,9.42,IF(K96<=20,10.97,IF(K96<=27,12.25,IF(K96<=34,13.62,IF(K96<=39,15.33,IF(K96<=44,17.21,IF(K96<=49,17.31,IF(K96<=59,17.51,IF(K96<=69,20,IF(K96<=79,23.21,IF(K96<=89,22.7,IF(K96<=99.99,22.59,IF(K96<=499,22.54,IF(K96<=999,22.44,IF(K96<=25000,21.42,""))))))))))))))))) -> 17.31
A97: DIFFERENCE | N97: =M96-M95 -> -5.91
A100: 70400101 | B100: 24 | C100: 04 | D100: 17 | E100: 1242076 | F100: ETAM PAP | G100: 1501 ETAM PAP CLAYE SOUILL | H100: CLAYE SOUILLY | I100: 77 | J100: 12 | K100: 82 | L100: 22.7
A101: 70400082 | B101: 24 | C101: 04 | D101: 17 | E101: 1242343 | F101: ETAM LINGERIE | G101: 1501 LINGERIE CLAYE SOUILL | H101: CLAYE SOUILLY | I101: 77 | J101: 9 | K101: 47 | L101: 17.31
A102: TOTAL FACTURé | M102: =L100+L101 -> 40.01
B103: 24.04.2017 | I103: 131314 | J103: 131314 | K103: =IF(ISNUMBER(B103),"",CONVERT(J103,"g","kg")) -> 131.314 | M103: =IF(K103=0,0,IF(K103<=9,7.55,IF(K103<=15,9.42,IF(K103<=20,10.97,IF(K103<=27,12.25,IF(K103<=34,13.62,IF(K103<=39,15.33,IF(K103<=44,17.21,IF(K103<=49,17.31,IF(K103<=59,17.51,IF(K103<=69,20,IF(K103<=79,23.21,IF(K103<=89,22.7,IF(K103<=99.99,22.59,IF(K103<=499,22.54,IF(K103<=999,22.44,IF(K103<=25000,21.42,""))))))))))))))))) -> 22.54
A104: DIFFERENCE | N104: =M103-M102 -> -17.47
A107: 70400101 | B107: 25 | C107: 04 | D107: 17 | E107: 1243441 | F107: ETAM PAP | G107: 1501 ETAM PAP CLAYE SOUILL | H107: CLAYE SOUILLY | I107: 77 | J107: 12 | K107: 107 | L107: 24.32
A108: 70400082 | B108: 25 | C108: 04 | D108: 17 | E108: 1243665 | F108: ETAM LINGERIE | G108: 1501 LINGERIE CLAYE SOUILL | H108: CLAYE SOUILLY | I108: 77 | J108: 8 | K108: 35 | L108: 15.33
A109: TOTAL FACTURé | M109: =L107+L108 -> 39.65
B110: 25.04.2017 | I110: 147031 | J110: 147031 | K110: =IF(ISNUMBER(B110),"",CONVERT(J110,"g","kg")) -> 147.031 | M110: =IF(K110=0,0,IF(K110<=9,7.55,IF(K110<=15,9.42,IF(K110<=20,10.97,IF(K110<=27,12.25,IF(K110<=34,13.62,IF(K110<=39,15.33,IF(K110<=44,17.21,IF(K110<=49,17.31,IF(K110<=59,17.51,IF(K110<=69,20,IF(K110<=79,23.21,IF(K110<=89,22.7,IF(K110<=99.99,22.59,IF(K110<=499,22.54,IF(K110<=999,22.44,IF(K110<=25000,21.42,""))))))))))))))))) -> 22.54
A111: DIFFERENCE | N111: =M110-M109 -> -17.11
A114: 70400101 | B114: 26 | C114: 04 | D114: 17 | E114: 1244239 | F114: ETAM PAP | G114: 1501 ETAM PAP CLAYE SOUILL | H114: CLAYE SOUILLY | I114: 77 | J114: 3 | K114: 22 | L114: 12.25
A115: 70400082 | B115: 26 | C115: 04 | D115: 17 | E115: 1245170 | F115: ETAM LINGERIE | G115: 1501 LINGERIE CLAYE SOUILL | H115: CLAYE SOUILLY | I115: 77 | J115: 5 | K115: 20 | L115: 12.25
A116: TOTAL FACTURé | M116: =L114+L115 -> 24.5
B117: 26.04.2017 | I117: 43134 | J117: 43134 | K117: =IF(ISNUMBER(B117),"",CONVERT(J117,"g","kg")) -> 43.134 | M117: =IF(K117=0,0,IF(K117<=9,7.55,IF(K117<=15,9.42,IF(K117<=20,10.97,IF(K117<=27,12.25,IF(K117<=34,13.62,IF(K117<=39,15.33,IF(K117<=44,17.21,IF(K117<=49,17.31,IF(K117<=59,17.51,IF(K117<=69,20,IF(K117<=79,23.21,IF(K117<=89,22.7,IF(K117<=99.99,22.59,IF(K117<=499,22.54,IF(K117<=999,22.44,IF(K117<=25000,21.42,""))))))))))))))))) -> 17.21
A118: DIFFERENCE | N118: =M117-M116 -> -7.29
A121: 70400101 | B121: 27 | C121: 04 | D121: 17 | E121: 1246236 | F121: ETAM PAP | G121: 1501 ETAM PAP CLAYE SOUILL | H121: CLAYE SOUILLY | I121: 77 | J121: 8 | K121: 66 | L121: 20
A122: 70400082 | B122: 27 | C122: 04 | D122: 17 | E122: 1246553 | F122: ETAM LINGERIE | G122: 1501 LINGERIE CLAYE SOUILL | H122: CLAYE SOUILLY | I122: 77 | J122: 8 | K122: 42 | L122: 17.21
A123: TOTAL FACTURé | M123: =L121+L122 -> 37.21
B124: 27.04.2017 | I124: 109781 | J124: 109781 | K124: =IF(ISNUMBER(B124),"",CONVERT(J124,"g","kg")) -> 109.781 | M124: =IF(K124=0,0,IF(K124<=9,7.55,IF(K124<=15,9.42,IF(K124<=20,10.97,IF(K124<=27,12.25,IF(K124<=34,13.62,IF(K124<=39,15.33,IF(K124<=44,17.21,IF(K124<=49,17.31,IF(K124<=59,17.51,IF(K124<=69,20,IF(K124<=79,23.21,IF(K124<=89,22.7,IF(K124<=99.99,22.59,IF(K124<=499,22.54,IF(K124<=999,22.44,IF(K124<=25000,21.42,""))))))))))))))))) -> 22.54
A125: DIFFERENCE | N125: =M124-M123 -> -14.67
A128: 70400101 | B128: 28 | C128: 04 | D128: 17 | E128: 1247615 | F128: ETAM PAP | G128: 1501 ETAM PAP CLAYE SOUILL | H128: CLAYE SOUILLY | I128: 77 | J128: 10 | K128: 72 | L128: 23.21
A129: 70400082 | B129: 28 | C129: 04 | D129: 17 | E129: 1247788 | F129: ETAM LINGERIE | G129: 1501 LINGERIE CLAYE SOUILL | H129: CLAYE SOUILLY | I129: 77 | J129: 4 | K129: 25 | L129: 12.25
A130: TOTAL FACTURé | M130: =L128+L129 -> 35.46
B131: 28.04.2017 | I131: 100454 | J131: 100454 | K131: =IF(ISNUMBER(B131),"",CONVERT(J131,"g","kg")) -> 100.454 | M131: =IF(K131=0,0,IF(K131<=9,7.55,IF(K131<=15,9.42,IF(K131<=20,10.97,IF(K131<=27,12.25,IF(K131<=34,13.62,IF(K131<=39,15.33,IF(K131<=44,17.21,IF(K131<=49,17.31,IF(K131<=59,17.51,IF(K131<=69,20,IF(K131<=79,23.21,IF(K131<=89,22.7,IF(K131<=99.99,22.59,IF(K131<=499,22.54,IF(K131<=999,22.44,IF(K131<=25000,21.42,""))))))))))))))))) -> 22.54
A132: DIFFERENCE | N132: =M131-M130 -> -12.92
A135: TOTAL TROP PERCU : | L135: =SUM(L2:L134) -> 724.29 | N135: =SUM(N1:N134) -> -306.18

Sheet 1504
A1: FACTURE | B1: JOUR | C1: MOIS | D1: ANNEE | E1: RECEP | F1: EXP | G1: DEST | H1: VILLES | I1: DEPTS | J1: COLIS | K1: POIDS | L1: TARIFS
A2: 70400082 | B2: 03 | C2: 04 | D2: 17 | E2: 1222989 | F2: ETAM LINGERIE | G2: 1504 LINGERIE PARIS FORUM | H2: PARIS 01 | I2: 75 | J2: 9 | K2: 59 | L2: 20
A3: 70400101 | B3: 03 | C3: 04 | D3: 17 | E3: 1223239 | F3: INVESTINT PAP | G3: 1504 ETAM PAP LES HALLES | H3: PARIS 01 | I3: 75 | J3: 13 | K3: 65 | L3: 20
A4: TOTAL FACTURé | M4: =L2+L3 -> 40
B5: 03.04.2017 | I5: 182136 | J5: 182136 | K5: =IF(ISNUMBER(B5),"",CONVERT(J5,"g","kg")) -> 182.136 | M5: =IF(K5=0,0,IF(K5<=9,7.55,IF(K5<=15,9.42,IF(K5<=20,10.97,IF(K5<=27,12.25,IF(K5<=34,13.62,IF(K5<=39,15.33,IF(K5<=44,17.21,IF(K5<=49,17.31,IF(K5<=59,17.51,IF(K5<=69,20,IF(K5<=79,23.21,IF(K5<=89,22.7,IF(K5<=99.99,22.59,IF(K5<=499,22.54,IF(K5<=999,22.44,IF(K5<=25000,21.42,""))))))))))))))))) -> 22.54
A6: DIFFERENCE | N6: =M5-M4 -> -17.46
A9: 70400082 | B9: 04 | C9: 04 | D9: 17 | E9: 1224444 | F9: ETAM LINGERIE | G9: 1504 LINGERIE PARIS FORUM | H9: PARIS 01 | I9: 75 | J9: 19 | K9: 113 | L9: 25.63
A10: 70400101 | B10: 04 | C10: 04 | D10: 17 | E10: 1224668 | F10: INVESTINT PAP | G10: 1504 ETAM PAP LES HALLES | H10: PARIS 01 | I10: 75 | J10: 20 | K10: 200 | L10: 45.08
A11: TOTAL FACTURé | M11: =L9+L10 -> 70.71
B12: 04.04.2017 | I12: 298020 | J12: 298020 | K12: =IF(ISNUMBER(B12),"",CONVERT(J12,"g","kg")) -> 298.02 | M12: =IF(K12=0,0,IF(K12<=9,7.55,IF(K12<=15,9.42,IF(K12<=20,10.97,IF(K12<=27,12.25,IF(K12<=34,13.62,IF(K12<=39,15.33,IF(K12<=44,17.21,IF(K12<=49,17.31,IF(K12<=59,17.51,IF(K12<=69,20,IF(K12<=79,23.21,IF(K12<=89,22.7,IF(K12<=99.99,22.59,IF(K12<=499,22.54,IF(K12<=999,22.44,IF(K12<=25000,21.42,""))))))))))))))))) -> 22.54
A13: DIFFERENCE | N13: =M12-M11 -> -48.17
A16: 70400082 | B16: 05 | C16: 04 | D16: 17 | E16: 1225592 | F16: ETAM LINGERIE | G16: 1504 LINGERIE PARIS FORUM | H16: PARIS 01 | I16: 75 | J16: 15 | K16: 86 | L16: 22.7
A17: 70400101 | B17: 05 | C17: 04 | D17: 17 | E17: 1225832 | F17: INVESTINT PAP | G17: 1504 ETAM PAP LES HALLES | H17: PARIS 01 | I17: 75 | J17: 9 | K17: 45 | L17: 17.31
A18: TOTAL FACTURé | M18: =L16+L17 -> 40.01
B19: 05.04.2017 | I19: 179343 | J19: 179343 | K19: =IF(ISNUMBER(B19),"",CONVERT(J19,"g","kg")) -> 179.343 | M19: =IF(K19=0,0,IF(K19<=9,7.55,IF(K19<=15,9.42,IF(K19<=20,10.97,IF(K19<=27,12.25,IF(K19<=34,13.62,IF(K19<=39,15.33,IF(K19<=44,17.21,IF(K19<=49,17.31,IF(K19<=59,17.51,IF(K19<=69,20,IF(K19<=79,23.21,IF(K19<=89,22.7,IF(K19<=99.99,22.59,IF(K19<=499,22.54,IF(K19<=999,22.44,IF(K19<=25000,21.42,""))))))))))))))))) -> 22.54
A20: DIFFERENCE | N20: =M19-M18 -> -17.47
A23: 70400082 | B23: 06 | C23: 04 | D23: 17 | E23: 1227007 | F23: ETAM LINGERIE | G23: 1504 LINGERIE PARIS FORUM | H23: PARIS 01 | I23: 75 | J23: 14 | K23: 79 | L23: 22.7
A24: 70400101 | B24: 06 | C24: 04 | D24: 17 | E24: 1226853 | F24: ETAM PAP | G24: 1504 ETAM PAP LES HALLES | H24: PARIS 01 | I24: 75 | J24: 15 | K24: 147 | L24: 33.32
A25: TOTAL FACTURé | M25: =L23+L24 -> 56.02
B26: 06.04.2017 | I26: 231770 | J26: 231770 | K26: =IF(ISNUMBER(B26),"",CONVERT(J26,"g","kg")) -> 231.77 | M26: =IF(K26=0,0,IF(K26<=9,7.55,IF(K26<=15,9.42,IF(K26<=20,10.97,IF(K26<=27,12.25,IF(K26<=34,13.62,IF(K26<=39,15.33,IF(K26<=44,17.21,IF(K26<=49,17.31,IF(K26<=59,17.51,IF(K26<=69,20,IF(K26<=79,23.21,IF(K26<=89,22.7,IF(K26<=99.99,22.59,IF(K26<=499,22.54,IF(K26<=999,22.44,IF(K26<=25000,21.42,""))))))))))))))))) -> 22.54
A27: DIFFERENCE | N27: =M26-M25 -> -33.48
A30: 70400082 | B30: 07 | C30: 04 | D30: 17 | E30: 1228494 | F30: ETAM LINGERIE | G30: 1504 LINGERIE PARIS FORUM | H30: PARIS 01 | I30: 75 | J30: 10 | K30: 64 | L30: 20
A31: 70400101 | B31: 07 | C31: 04 | D31: 17 | E31: 1228149 | F31: ETAM PAP | G31: 1504 ETAM PAP LES HALLES | H31: PARIS 01 | I31: 75 | J31: 8 | K31: 86 | L31: 22.7
A32: TOTAL FACTURé | M32: =L30+L31 -> 42.7
B33: 07.04.2017 | I33: 154439 | J33: 154439 | K33: =IF(ISNUMBER(B33),"",CONVERT(J33,"g","kg")) -> 154.439 | M33: =IF(K33=0,0,IF(K33<=9,7.55,IF(K33<=15,9.42,IF(K33<=20,10.97,IF(K33<=27,12.25,IF(K33<=34,13.62,IF(K33<=39,15.33,IF(K33<=44,17.21,IF(K33<=49,17.31,IF(K33<=59,17.51,IF(K33<=69,20,IF(K33<=79,23.21,IF(K33<=89,22.7,IF(K33<=99.99,22.59,IF(K33<=499,22.54,IF(K33<=999,22.44,IF(K33<=25000,21.42,""))))))))))))))))) -> 22.54
A34: DIFFERENCE | N34: =M33-M32 -> -20.16
A37: 70400082 | B37: 10 | C37: 04 | D37: 17 | E37: 1230092 | F37: ETAM LINGERIE | G37: 1504 LINGERIE PARIS FORUM | H37: PARIS 01 | I37: 75 | J37: 15 | K37: 91 | L37: 22.59
A38: 70400101 | B38: 10 | C38: 04 | D38: 17 | E38: 1229831 | F38: ETAM PAP | G38: 1504 ETAM PAP LES HALLES | H38: PARIS 01 | I38: 75 | J38: 11 | K38: 105 | L38: 23.75
A39: TOTAL FACTURé | M39: =L37+L38 -> 46.34
B40: 10.04.2017 | I40: 202128 | J40: 202128 | K40: =IF(ISNUMBER(B40),"",CONVERT(J40,"g","kg")) -> 202.128 | M40: =IF(K40=0,0,IF(K40<=9,7.55,IF(K40<=15,9.42,IF(K40<=20,10.97,IF(K40<=27,12.25,IF(K40<=34,13.62,IF(K40<=39,15.33,IF(K40<=44,17.21,IF(K40<=49,17.31,IF(K40<=59,17.51,IF(K40<=69,20,IF(K40<=79,23.21,IF(K40<=89,22.7,IF(K40<=99.99,22.59,IF(K40<=499,22.54,IF(K40<=999,22.44,IF(K40<=25000,21.42,""))))))))))))))))) -> 22.54
A41: DIFFERENCE | N41: =M40-M39 -> -23.8
A44: 70400082 | B44: 11 | C44: 04 | D44: 17 | E44: 1231422 | F44: ETAM LINGERIE | G44: 1504 LINGERIE PARIS FORUM | H44: PARIS 01 | I44: 75 | J44: 23 | K44: 128 | L44: 29.03
A45: 70400101 | B45: 11 | C45: 04 | D45: 17 | E45: 1231313 | F45: ETAM PAP | G45: 1504 ETAM PAP LES HALLES | H45: PARIS 01 | I45: 75 | J45: 11 | K45: 117 | L45: 26.51
A46: TOTAL FACTURé | M46: =L44+L45 -> 55.54
B47: 11.04.2017 | I47: 248890 | J47: 248890 | K47: =IF(ISNUMBER(B47),"",CONVERT(J47,"g","kg")) -> 248.89 | M47: =IF(K47=0,0,IF(K47<=9,7.55,IF(K47<=15,9.42,IF(K47<=20,10.97,IF(K47<=27,12.25,IF(K47<=34,13.62,IF(K47<=39,15.33,IF(K47<=44,17.21,IF(K47<=49,17.31,IF(K47<=59,17.51,IF(K47<=69,20,IF(K47<=79,23.21,IF(K47<=89,22.7,IF(K47<=99.99,22.59,IF(K47<=499,22.54,IF(K47<=999,22.44,IF(K47<=25000,21.42,""))))))))))))))))) -> 22.54
A48: DIFFERENCE | N48: =M47-M46 -> -33
A51: 70400082 | B51: 12 | C51: 04 | D51: 17 | E51: 1232723 | F51: ETAM LINGERIE | G51: 1504 LINGERIE PARIS FORUM | H51: PARIS 01 | I51: 75 | J51: 11 | K51: 73 | L51: 23.21
A52: 70400101 | B52: 12 | C52: 04 | D52: 17 | E52: 1232273 | F52: ETAM PAP | G52: 1504 ETAM PAP LES HALLES | H52: PARIS 01 | I52: 75 | J52: 6 | K52: 52 | L52: 17.51
A53: TOTAL FACTURé | M53: =L51+L52 -> 40.72
B54: 12.04.2017 | I54: 129470 | J54: 129470 | K54: =IF(ISNUMBER(B54),"",CONVERT(J54,"g","kg")) -> 129.47 | M54: =IF(K54=0,0,IF(K54<=9,7.55,IF(K54<=15,9.42,IF(K54<=20,10.97,IF(K54<=27,12.25,IF(K54<=34,13.62,IF(K54<=39,15.33,IF(K54<=44,17.21,IF(K54<=49,17.31,IF(K54<=59,17.51,IF(K54<=69,20,IF(K54<=79,23.21,IF(K54<=89,22.7,IF(K54<=99.99,22.59,IF(K54<=499,22.54,IF(K54<=999,22.44,IF(K54<=25000,21.42,""))))))))))))))))) -> 22.54
A55: DIFFERENCE | N55: =M54-M53 -> -18.18
A58: 70400082 | B58: 13 | C58: 04 | D58: 17 | E58: 1234176 | F58: ETAM LINGERIE | G58: 1504 LINGERIE PARIS FORUM | H58: PARIS 01 | I58: 75 | J58: 10 | K58: 53 | L58: 17.51
A59: 70400101 | B59: 13 | C59: 04 | D59: 17 | E59: 1233916 | F59: ETAM PAP | G59: 1504 ETAM PAP LES HALLES | H59: PARIS 01 | I59: 75 | J59: 9 | K59: 75 | L59: 23.21
A60: TOTAL FACTURé | M60: =L58+L59 -> 40.72
B61: 13.04.2017 | I61: 131494 | J61: 131494 | K61: =IF(ISNUMBER(B61),"",CONVERT(J61,"g","kg")) -> 131.494 | M61: =IF(K61=0,0,IF(K61<=9,7.55,IF(K61<=15,9.42,IF(K61<=20,10.97,IF(K61<=27,12.25,IF(K61<=34,13.62,IF(K61<=39,15.33,IF(K61<=44,17.21,IF(K61<=49,17.31,IF(K61<=59,17.51,IF(K61<=69,20,IF(K61<=79,23.21,IF(K61<=89,22.7,IF(K61<=99.99,22.59,IF(K61<=499,22.54,IF(K61<=999,22.44,IF(K61<=25000,21.42,""))))))))))))))))) -> 22.54
A62: DIFFERENCE | N62: =M61-M60 -> -18.18
A65: 70400082 | B65: 14 | C65: 04 | D65: 17 | E65: 1235348 | F65: ETAM LINGERIE | G65: 1504 LINGERIE PARIS FORUM | H65: PARIS 01 | I65: 75 | J65: 11 | K65: 57 | L65: 17.51
A66: 70400101 | B66: 14 | C66: 04 | D66: 17 | E66: 1235195 | F66: ETAM PAP | G66: 1504 ETAM PAP LES HALLES | H66: PARIS 01 | I66: 75 | J66: 7 | K66: 76 | L66: 23.21
A67: TOTAL FACTURé | M67: =L65+L66 -> 40.72
B68: 14.04.2017 | I68: 135293 | J68: 135293 | K68: =IF(ISNUMBER(B68),"",CONVERT(J68,"g","kg")) -> 135.293 | M68: =IF(K68=0,0,IF(K68<=9,7.55,IF(K68<=15,9.42,IF(K68<=20,10.97,IF(K68<=27,12.25,IF(K68<=34,13.62,IF(K68<=39,15.33,IF(K68<=44,17.21,IF(K68<=49,17.31,IF(K68<=59,17.51,IF(K68<=69,20,IF(K68<=79,23.21,IF(K68<=89,22.7,IF(K68<=99.99,22.59,IF(K68<=499,22.54,IF(K68<=999,22.44,IF(K68<=25000,21.42,""))))))))))))))))) -> 22.54
A69: DIFFERENCE | N69: =M68-M67 -> -18.18
A72: 70400082 | B72: 18 | C72: 04 | D72: 17 | E72: 1236825 | F72: ETAM LINGERIE | G72: 1504 LINGERIE PARIS FORUM | H72: PARIS 01 | I72: 75 | J72: 13 | K72: 91 | L72: 22.59
A73: 70400101 | B73: 18 | C73: 04 | D73: 17 | E73: 1236259 | F73: ETAM PAP | G73: 1504 ETAM PAP LES HALLES | H73: PARIS 01 | I73: 75 | J73: 14 | K73: 143 | L73: 32.4
A74: TOTAL FACTURé | M74: =L72+L73 -> 54.99
B75: 18.04.2017 | I75: 258362 | J75: 258362 | K75: =IF(ISNUMBER(B75),"",CONVERT(J75,"g","kg")) -> 258.362 | M75: =IF(K75=0,0,IF(K75<=9,7.55,IF(K75<=15,9.42,IF(K75<=20,10.97,IF(K75<=27,12.25,IF(K75<=34,13.62,IF(K75<=39,15.33,IF(K75<=44,17.21,IF(K75<=49,17.31,IF(K75<=59,17.51,IF(K75<=69,20,IF(K75<=79,23.21,IF(K75<=89,22.7,IF(K75<=99.99,22.59,IF(K75<=499,22.54,IF(K75<=999,22.44,IF(K75<=25000,21.42,""))))))))))))))))) -> 22.54
A76: DIFFERENCE | N76: =M75-M74 -> -32.45
A79: 70400082 | B79: 19 | C79: 04 | D79: 17 | E79: 1238214 | F79: ETAM LINGERIE | G79: 1504 LINGERIE PARIS FORUM | H79: PARIS 01 | I79: 75 | J79: 14 | K79: 69 | L79: 23.21
A80: 70400101 | B80: 19 | C80: 04 | D80: 17 | E80: 1237771 | F80: ETAM PAP | G80: 1504 ETAM PAP LES HALLES | H80: PARIS 01 | I80: 75 | J80: 7 | K80: 77 | L80: 23.21
A81: TOTAL FACTURé | M81: =L79+L80 -> 46.42
B82: 19.04.2017 | I82: 149390 | J82: 149390 | K82: =IF(ISNUMBER(B82),"",CONVERT(J82,"g","kg")) -> 149.39 | M82: =IF(K82=0,0,IF(K82<=9,7.55,IF(K82<=15,9.42,IF(K82<=20,10.97,IF(K82<=27,12.25,IF(K82<=34,13.62,IF(K82<=39,15.33,IF(K82<=44,17.21,IF(K82<=49,17.31,IF(K82<=59,17.51,IF(K82<=69,20,IF(K82<=79,23.21,IF(K82<=89,22.7,IF(K82<=99.99,22.59,IF(K82<=499,22.54,IF(K82<=999,22.44,IF(K82<=25000,21.42,""))))))))))))))))) -> 22.54
A83: DIFFERENCE | N83: =M82-M81 -> -23.88
A86: 70400082 | B86: 20 | C86: 04 | D86: 17 | E86: 1239614 | F86: ETAM LINGERIE | G86: 1504 LINGERIE PARIS FORUM | H86: PARIS 01 | I86: 75 | J86: 12 | K86: 75 | L86: 23.21
A87: 70400101 | B87: 20 | C87: 04 | D87: 17 | E87: 1239451 | F87: ETAM PAP | G87: 1504 ETAM PAP LES HALLES | H87: PARIS 01 | I87: 75 | J87: 11 | K87: 84 | L87: 22.7
A88: TOTAL FACTURé | M88: =L86+L87 -> 45.91
B89: 20.04.2017 | I89: 160650 | J89: 160650 | K89: =IF(ISNUMBER(B89),"",CONVERT(J89,"g","kg")) -> 160.65 | M89: =IF(K89=0,0,IF(K89<=9,7.55,IF(K89<=15,9.42,IF(K89<=20,10.97,IF(K89<=27,12.25,IF(K89<=34,13.62,IF(K89<=39,15.33,IF(K89<=44,17.21,IF(K89<=49,17.31,IF(K89<=59,17.51,IF(K89<=69,20,IF(K89<=79,23.21,IF(K89<=89,22.7,IF(K89<=99.99,22.59,IF(K89<=499,22.54,IF(K89<=999,22.44,IF(K89<=25000,21.42,""))))))))))))))))) -> 22.54
A90: DIFFERENCE | N90: =M89-M88 -> -23.37
A93: 70400082 | B93: 21 | C93: 04 | D93: 17 | E93: 1240893 | F93: ETAM LINGERIE | G93: 1504 LINGERIE PARIS FORUM | H93: PARIS 01 | I93: 75 | J93: 9 | K93: 37 | L93: 15.33
A94: 70400101 | B94: 21 | C94: 04 | D94: 17 | E94: 1240698 | F94: ETAM PAP | G94: 1504 ETAM PAP LES HALLES | H94: PARIS 01 | I94: 75 | J94: 5 | K94: 39 | L94: 17.21
A95: TOTAL FACTURé | M95: =L93+L94 -> 32.54
B96: 21.04.2017 | I96: 81170 | J96: 81170 | K96: =IF(ISNUMBER(B96),"",CONVERT(J96,"g","kg")) -> 81.17 | M96: =IF(K96=0,0,IF(K96<=9,7.55,IF(K96<=15,9.42,IF(K96<=20,10.97,IF(K96<=27,12.25,IF(K96<=34,13.62,IF(K96<=39,15.33,IF(K96<=44,17.21,IF(K96<=49,17.31,IF(K96<=59,17.51,IF(K96<=69,20,IF(K96<=79,23.21,IF(K96<=89,22.7,IF(K96<=99.99,22.59,IF(K96<=499,22.54,IF(K96<=999,22.44,IF(K96<=25000,21.42,""))))))))))))))))) -> 22.7
A97: DIFFERENCE | N97: =M96-M95 -> -9.84
A100: 70400082 | B100: 24 | C100: 04 | D100: 17 | E100: 1242331 | F100: ETAM LINGERIE | G100: 1504 LINGERIE PARIS FORUM | H100: PARIS 01 | I100: 75 | J100: 13 | K100: 60 | L100: 20
A101: 70400101 | B101: 24 | C101: 04 | D101: 17 | E101: 1242067 | F101: ETAM PAP | G101: 1504 ETAM PAP LES HALLES | H101: PARIS 01 | I101: 75 | J101: 14 | K101: 121 | L101: 27.35
A102: TOTAL FACTURé | M102: =L100+L101 -> 47.35
B103: 24.04.2017 | I103: 189711 | J103: 189711 | K103: =IF(ISNUMBER(B103),"",CONVERT(J103,"g","kg")) -> 189.711 | M103: =IF(K103=0,0,IF(K103<=9,7.55,IF(K103<=15,9.42,IF(K103<=20,10.97,IF(K103<=27,12.25,IF(K103<=34,13.62,IF(K103<=39,15.33,IF(K103<=44,17.21,IF(K103<=49,17.31,IF(K103<=59,17.51,IF(K103<=69,20,IF(K103<=79,23.21,IF(K103<=89,22.7,IF(K103<=99.99,22.59,IF(K103<=499,22.54,IF(K103<=999,22.44,IF(K103<=25000,21.42,""))))))))))))))))) -> 22.54
A104: DIFFERENCE | N104: =M103-M102 -> -24.81
A107: 70400082 | B107: 25 | C107: 04 | D107: 17 | E107: 1243654 | F107: ETAM LINGERIE | G107: 1504 LINGERIE PARIS FORUM | H107: PARIS 01 | I107: 75 | J107: 12 | K107: 84 | L107: 22.7
A108: 70400101 | B108: 25 | C108: 04 | D108: 17 | E108: 1243435 | F108: ETAM PAP | G108: 1504 ETAM PAP LES HALLES | H108: PARIS 01 | I108: 75 | J108: 9 | K108: 107 | L108: 24.18
A109: TOTAL FACTURé | M109: =L107+L108 -> 46.88
B110: 25.04.2017 | I110: 193490 | J110: 193490 | K110: =IF(ISNUMBER(B110),"",CONVERT(J110,"g","kg")) -> 193.49 | M110: =IF(K110=0,0,IF(K110<=9,7.55,IF(K110<=15,9.42,IF(K110<=20,10.97,IF(K110<=27,12.25,IF(K110<=34,13.62,IF(K110<=39,15.33,IF(K110<=44,17.21,IF(K110<=49,17.31,IF(K110<=59,17.51,IF(K110<=69,20,IF(K110<=79,23.21,IF(K110<=89,22.7,IF(K110<=99.99,22.59,IF(K110<=499,22.54,IF(K110<=999,22.44,IF(K110<=25000,21.42,""))))))))))))))))) -> 22.54
A111: DIFFERENCE | N111: =M110-M109 -> -24.34
A114: 70400082 | B114: 26 | C114: 04 | D114: 17 | E114: 1245158 | F114: ETAM LINGERIE | G114: 1504 LINGERIE PARIS FORUM | H114: PARIS 01 | I114: 75 | J114: 11 | K114: 58 | L114: 17.51
A115: 70400101 | B115: 26 | C115: 04 | D115: 17 | E115: 1244233 | F115: ETAM PAP | G115: 1504 ETAM PAP LES HALLES | H115: PARIS 01 | I115: 75 | J115: 12 | K115: 132 | L115: 29.82
A116: TOTAL FACTURé | M116: =L114+L115 -> 47.33
B117: 26.04.2017 | I117: 191797 | J117: 191797 | K117: =IF(ISNUMBER(B117),"",CONVERT(J117,"g","kg")) -> 191.797 | M117: =IF(K117=0,0,IF(K117<=9,7.55,IF(K117<=15,9.42,IF(K117<=20,10.97,IF(K117<=27,12.25,IF(K117<=34,13.62,IF(K117<=39,15.33,IF(K117<=44,17.21,IF(K117<=49,17.31,IF(K117<=59,17.51,IF(K117<=69,20,IF(K117<=79,23.21,IF(K117<=89,22.7,IF(K117<=99.99,22.59,IF(K117<=499,22.54,IF(K117<=999,22.44,IF(K117<=25000,21.42,""))))))))))))))))) -> 22.54
A118: DIFFERENCE | N118: =M117-M116 -> -24.79
A121: 70400082 | B121: 27 | C121: 04 | D121: 17 | E121: 1246540 | F121: ETAM LINGERIE | G121: 1504 LINGERIE PARIS FORUM | H121: PARIS 01 | I121: 75 | J121: 11 | K121: 54 | L121: 17.51
A122: 70400101 | B122: 27 | C122: 04 | D122: 17 | E122: 1246230 | F122: ETAM PAP | G122: 1504 ETAM PAP LES HALLES | H122: PARIS 01 | I122: 75 | J122: 9 | K122: 98 | L122: 22.59
A123: TOTAL FACTURé | M123: =L121+L122 -> 40.1
B124: 27.04.2017 | I124: 155265 | J124: 155265 | K124: =IF(ISNUMBER(B124),"",CONVERT(J124,"g","kg")) -> 155.265 | M124: =IF(K124=0,0,IF(K124<=9,7.55,IF(K124<=15,9.42,IF(K124<=20,10.97,IF(K124<=27,12.25,IF(K124<=34,13.62,IF(K124<=39,15.33,IF(K124<=44,17.21,IF(K124<=49,17.31,IF(K124<=59,17.51,IF(K124<=69,20,IF(K124<=79,23.21,IF(K124<=89,22.7,IF(K124<=99.99,22.59,IF(K124<=499,22.54,IF(K124<=999,22.44,IF(K124<=25000,21.42,""))))))))))))))))) -> 22.54
A125: DIFFERENCE | N125: =M124-M123 -> -17.56
A128: 70400082 | B128: 28 | C128: 04 | D128: 17 | E128: 1247777 | F128: ETAM LINGERIE | G128: 1504 LINGERIE PARIS FORUM | H128: PARIS 01 | I128: 75 | J128: 8 | K128: 45 | L128: 17.31
A129: 70400101 | B129: 28 | C129: 04 | D129: 17 | E129: 1247606 | F129: ETAM PAP | G129: 1504 ETAM PAP LES HALLES | H129: PARIS 01 | I129: 75 | J129: 11 | K129: 83 | L129: 22.7
A130: TOTAL FACTURé | M130: =L128+L129 -> 40.01
B131: 28.04.2017 | I131: 132442 | J131: 132442 | K131: =IF(ISNUMBER(B131),"",CONVERT(J131,"g","kg")) -> 132.442 | M131: =IF(K131=0,0,IF(K131<=9,7.55,IF(K131<=15,9.42,IF(K131<=20,10.97,IF(K131<=27,12.25,IF(K131<=34,13.62,IF(K131<=39,15.33,IF(K131<=44,17.21,IF(K131<=49,17.31,IF(K131<=59,17.51,IF(K131<=69,20,IF(K131<=79,23.21,IF(K131<=89,22.7,IF(K131<=99.99,22.59,IF(K131<=499,22.54,IF(K131<=999,22.44,IF(K131<=25000,21.42,""))))))))))))))))) -> 22.54
A132: DIFFERENCE | N132: =M131-M130 -> -17.47
A135: TOTAL TROP PERCU : | L135: =SUM(L2:L134) -> 875.01 | N135: =SUM(N1:N134) -> -446.59

Sheet 1508
A1: FACTURE | B1: JOUR | C1: MOIS | D1: ANNEE | E1: RECEP | F1: EXP | G1: DEST | H1: VILLES | I1: DEPTS | J1: COLIS | K1: POIDS | L1: TARIFS
A2: 70400101 | B2: 03 | C2: 04 | D2: 17 | E2: 1223259 | F2: INVESTINT PAP | G2: 1508 ETAM PAP CERCY 3 FONT | H2: CERGY | I2: 95 | J2: 11 | K2: 55 | L2: 17.51
A3: 70400082 | B3: 03 | C3: 04 | D3: 17 | E3: 1223040 | F3: ETAM LINGERIE | G3: 1508 LINGERIE CERGY | H3: CERGY | I3: 95 | J3: 7 | K3: 44 | L3: 17.31
A4: TOTAL FACTURé | M4: =L2+L3 -> 34.82
B5: 03.04.2017 | I5: 135253 | J5: 135253 | K5: =IF(ISNUMBER(B5),"",CONVERT(J5,"g","kg")) -> 135.253 | M5: =IF(K5=0,0,IF(K5<=9,7.55,IF(K5<=15,9.42,IF(K5<=20,10.97,IF(K5<=27,12.25,IF(K5<=34,13.62,IF(K5<=39,15.33,IF(K5<=44,17.21,IF(K5<=49,17.31,IF(K5<=59,17.51,IF(K5<=69,20,IF(K5<=79,23.21,IF(K5<=89,22.7,IF(K5<=99.99,22.59,IF(K5<=499,22.54,IF(K5<=999,22.44,IF(K5<=25000,21.42,""))))))))))))))))) -> 22.54
A6: DIFFERENCE | N6: =M5-M4 -> -12.28
A9: 70400101 | B9: 04 | C9: 04 | D9: 17 | E9: 1224673 | F9: INVESTINT PAP | G9: 1508 ETAM PAP CERCY 3 FONT | H9: CERGY | I9: 95 | J9: 11 | K9: 110 | L9: 24.79
A10: 70400082 | B10: 04 | C10: 04 | D10: 17 | E10: 1224495 | F10: ETAM LINGERIE | G10: 1508 LINGERIE CERGY | H10: CERGY | I10: 95 | J10: 10 | K10: 48 | L10: 17.31
A11: TOTAL FACTURé | M11: =L9+L10 -> 42.1
B12: 04.04.2017 | I12: 134209 | J12: 134209 | K12: =IF(ISNUMBER(B12),"",CONVERT(J12,"g","kg")) -> 134.209 | M12: =IF(K12=0,0,IF(K12<=9,7.55,IF(K12<=15,9.42,IF(K12<=20,10.97,IF(K12<=27,12.25,IF(K12<=34,13.62,IF(K12<=39,15.33,IF(K12<=44,17.21,IF(K12<=49,17.31,IF(K12<=59,17.51,IF(K12<=69,20,IF(K12<=79,23.21,IF(K12<=89,22.7,IF(K12<=99.99,22.59,IF(K12<=499,22.54,IF(K12<=999,22.44,IF(K12<=25000,21.42,""))))))))))))))))) -> 22.54
A13: DIFFERENCE | N13: =M12-M11 -> -19.56
A16: 70400101 | B16: 05 | C16: 04 | D16: 17 | E16: 1225839 | F16: INVESTINT PAP | G16: 1508 ETAM PAP CERCY 3 FONT | H16: CERGY | I16: 95 | J16: 8 | K16: 40 | L16: 17.21
A17: 70400082 | B17: 05 | C17: 04 | D17: 17 | E17: 1225638 | F17: ETAM LINGERIE | G17: 1508 LINGERIE CERGY | H17: CERGY | I17: 95 | J17: 6 | K17: 40 | L17: 17.21
A18: TOTAL FACTURé | M18: =L16+L17 -> 34.42
B19: 05.04.2017 | I19: 110292 | J19: 110292 | K19: =IF(ISNUMBER(B19),"",CONVERT(J19,"g","kg")) -> 110.292 | M19: =IF(K19=0,0,IF(K19<=9,7.55,IF(K19<=15,9.42,IF(K19<=20,10.97,IF(K19<=27,12.25,IF(K19<=34,13.62,IF(K19<=39,15.33,IF(K19<=44,17.21,IF(K19<=49,17.31,IF(K19<=59,17.51,IF(K19<=69,20,IF(K19<=79,23.21,IF(K19<=89,22.7,IF(K19<=99.99,22.59,IF(K19<=499,22.54,IF(K19<=999,22.44,IF(K19<=25000,21.42,""))))))))))))))))) -> 22.54
A20: DIFFERENCE | N20: =M19-M18 -> -11.88
A23: 70400101 | B23: 06 | C23: 04 | D23: 17 | E23: 1226883 | F23: ETAM PAP | G23: 1508 ETAM PAP CERCY 3 FONT | H23: CERGY | I23: 95 | J23: 11 | K23: 93 | L23: 22.59
A24: 70400082 | B24: 06 | C24: 04 | D24: 17 | E24: 1227057 | F24: ETAM LINGERIE | G24: 1508 LINGERIE CERGY | H24: CERGY | I24: 95 | J24: 8 | K24: 49 | L24: 17.51
A25: TOTAL FACTURé | M25: =L23+L24 -> 40.1
B26: 06.04.2017 | I26: 146958 | J26: 146958 | K26: =IF(ISNUMBER(B26),"",CONVERT(J26,"g","kg")) -> 146.958 | M26: =IF(K26=0,0,IF(K26<=9,7.55,IF(K26<=15,9.42,IF(K26<=20,10.97,IF(K26<=27,12.25,IF(K26<=34,13.62,IF(K26<=39,15.33,IF(K26<=44,17.21,IF(K26<=49,17.31,IF(K26<=59,17.51,IF(K26<=69,20,IF(K26<=79,23.21,IF(K26<=89,22.7,IF(K26<=99.99,22.59,IF(K26<=499,22.54,IF(K26<=999,22.44,IF(K26<=25000,21.42,""))))))))))))))))) -> 22.54
A27: DIFFERENCE | N27: =M26-M25 -> -17.56
A30: 70400101 | B30: 07 | C30: 04 | D30: 17 | E30: 1228178 | F30: ETAM PAP | G30: 1508 ETAM PAP CERCY 3 FONT | H30: CERGY | I30: 95 | J30: 6 | K30: 68 | L30: 20
A31: 70400082 | B31: 07 | C31: 04 | D31: 17 | E31: 1228539 | F31: ETAM LINGERIE | G31: 1508 LINGERIE CERGY | H31: CERGY | I31: 95 | J31: 6 | K31: 29 | L31: 13.62
A32: TOTAL FACTURé | M32: =L30+L31 -> 33.62
B33: 07.04.2017 | I33: 101520 | J33: 101520 | K33: =IF(ISNUMBER(B33),"",CONVERT(J33,"g","kg")) -> 101.52 | M33: =IF(K33=0,0,IF(K33<=9,7.55,IF(K33<=15,9.42,IF(K33<=20,10.97,IF(K33<=27,12.25,IF(K33<=34,13.62,IF(K33<=39,15.33,IF(K33<=44,17.21,IF(K33<=49,17.31,IF(K33<=59,17.51,IF(K33<=69,20,IF(K33<=79,23.21,IF(K33<=89,22.7,IF(K33<=99.99,22.59,IF(K33<=499,22.54,IF(K33<=999,22.44,IF(K33<=25000,21.42,""))))))))))))))))) -> 22.54
A34: DIFFERENCE | N34: =M33-M32 -> -11.08
A37: 70400101 | B37: 10 | C37: 04 | D37: 17 | E37: 1229865 | F37: ETAM PAP | G37: 1508 ETAM PAP CERCY 3 FONT | H37: CERGY | I37: 95 | J37: 8 | K37: 60 | L37: 20
A38: 70400082 | B38: 10 | C38: 04 | D38: 17 | E38: 1230138 | F38: ETAM LINGERIE | G38: 1508 LINGERIE CERGY | H38: CERGY | I38: 95 | J38: 6 | K38: 34 | L38: 15.33
A39: TOTAL FACTURé | M39: =L37+L38 -> 35.33
B40: 10.04.2017 | I40: 100161 | J40: 100161 | K40: =IF(ISNUMBER(B40),"",CONVERT(J40,"g","kg")) -> 100.161 | M40: =IF(K40=0,0,IF(K40<=9,7.55,IF(K40<=15,9.42,IF(K40<=20,10.97,IF(K40<=27,12.25,IF(K40<=34,13.62,IF(K40<=39,15.33,IF(K40<=44,17.21,IF(K40<=49,17.31,IF(K40<=59,17.51,IF(K40<=69,20,IF(K40<=79,23.21,IF(K40<=89,22.7,IF(K40<=99.99,22.59,IF(K40<=499,22.54,IF(K40<=999,22.44,IF(K40<=25000,21.42,""))))))))))))))))) -> 22.54
A41: DIFFERENCE | N41: =M40-M39 -> -12.79
A44: 70400101 | B44: 11 | C44: 04 | D44: 17 | E44: 1231343 | F44: ETAM PAP | G44: 1508 ETAM PAP CERCY 3 FONT | H44: CERGY | I44: 95 | J44: 8 | K44: 67 | L44: 20
A45: 70400082 | B45: 11 | C45: 04 | D45: 17 | E45: 1231463 | F45: ETAM LINGERIE | G45: 1508 LINGERIE CERGY | H45: CERGY | I45: 95 | J45: 7 | K45: 38 | L45: 15.33
A46: TOTAL FACTURé | M46: =L44+L45 -> 35.33
B47: 11.04.2017 | I47: 109717 | J47: 109717 | K47: =IF(ISNUMBER(B47),"",CONVERT(J47,"g","kg")) -> 109.717 | M47: =IF(K47=0,0,IF(K47<=9,7.55,IF(K47<=15,9.42,IF(K47<=20,10.97,IF(K47<=27,12.25,IF(K47<=34,13.62,IF(K47<=39,15.33,IF(K47<=44,17.21,IF(K47<=49,17.31,IF(K47<=59,17.51,IF(K47<=69,20,IF(K47<=79,23.21,IF(K47<=89,22.7,IF(K47<=99.99,22.59,IF(K47<=499,22.54,IF(K47<=999,22.44,IF(K47<=25000,21.42,""))))))))))))))))) -> 22.54
A48: DIFFERENCE | N48: =M47-M46 -> -12.79
A51: 70400101 | B51: 12 | C51: 04 | D51: 17 | E51: 1232304 | F51: ETAM PAP | G51: 1508 ETAM PAP CERCY 3 FONT | H51: CERGY | I51: 95 | J51: 4 | K51: 32 | L51: 13.62
A52: 70400082 | B52: 12 | C52: 04 | D52: 17 | E52: 1232769 | F52: ETAM LINGERIE | G52: 1508 LINGERIE CERGY | H52: CERGY | I52: 95 | J52: 7 | K52: 42 | L52: 17.21
A53: TOTAL FACTURé | M53: =L51+L52 -> 30.83
B54: 12.04.2017 | I54: 76411 | J54: 76411 | K54: =IF(ISNUMBER(B54),"",CONVERT(J54,"g","kg")) -> 76.411 | M54: =IF(K54=0,0,IF(K54<=9,7.55,IF(K54<=15,9.42,IF(K54<=20,10.97,IF(K54<=27,12.25,IF(K54<=34,13.62,IF(K54<=39,15.33,IF(K54<=44,17.21,IF(K54<=49,17.31,IF(K54<=59,17.51,IF(K54<=69,20,IF(K54<=79,23.21,IF(K54<=89,22.7,IF(K54<=99.99,22.59,IF(K54<=499,22.54,IF(K54<=999,22.44,IF(K54<=25000,21.42,""))))))))))))))))) -> 23.21
A55: DIFFERENCE | N55: =M54-M53 -> -7.62
A58: 70400101 | B58: 13 | C58: 04 | D58: 17 | E58: 1233947 | F58: ETAM PAP | G58: 1508 ETAM PAP CERCY 3 FONT | H58: CERGY | I58: 95 | J58: 8 | K58: 66 | L58: 20
A59: 70400082 | B59: 13 | C59: 04 | D59: 17 | E59: 1234217 | F59: ETAM LINGERIE | G59: 1508 LINGERIE CERGY | H59: CERGY | I59: 95 | J59: 7 | K59: 37 | L59: 15.33
A60: TOTAL FACTURé | M60: =L58+L59 -> 35.33
B61: 13.04.2017 | I61: 105377 | J61: 105377 | K61: =IF(ISNUMBER(B61),"",CONVERT(J61,"g","kg")) -> 105.377 | M61: =IF(K61=0,0,IF(K61<=9,7.55,IF(K61<=15,9.42,IF(K61<=20,10.97,IF(K61<=27,12.25,IF(K61<=34,13.62,IF(K61<=39,15.33,IF(K61<=44,17.21,IF(K61<=49,17.31,IF(K61<=59,17.51,IF(K61<=69,20,IF(K61<=79,23.21,IF(K61<=89,22.7,IF(K61<=99.99,22.59,IF(K61<=499,22.54,IF(K61<=999,22.44,IF(K61<=25000,21.42,""))))))))))))))))) -> 22.54
A62: DIFFERENCE | N62: =M61-M60 -> -12.79
A65: 70400101 | B65: 14 | C65: 04 | D65: 17 | E65: 1235224 | F65: ETAM PAP | G65: 1508 ETAM PAP CERCY 3 FONT | H65: CERGY | I65: 95 | J65: 6 | K65: 56 | L65: 17.51
A66: 70400082 | B66: 14 | C66: 04 | D66: 17 | E66: 1235398 | F66: ETAM LINGERIE | G66: 1508 LINGERIE CERGY | H66: CERGY | I66: 95 | J66: 6 | K66: 25 | L66: 12.25
A67: TOTAL FACTURé | M67: =L65+L66 -> 29.76
B68: 14.04.2017 | I68: 85136 | J68: 85136 | K68: =IF(ISNUMBER(B68),"",CONVERT(J68,"g","kg")) -> 85.136 | M68: =IF(K68=0,0,IF(K68<=9,7.55,IF(K68<=15,9.42,IF(K68<=20,10.97,IF(K68<=27,12.25,IF(K68<=34,13.62,IF(K68<=39,15.33,IF(K68<=44,17.21,IF(K68<=49,17.31,IF(K68<=59,17.51,IF(K68<=69,20,IF(K68<=79,23.21,IF(K68<=89,22.7,IF(K68<=99.99,22.59,IF(K68<=499,22.54,IF(K68<=999,22.44,IF(K68<=25000,21.42,""))))))))))))))))) -> 22.7
A69: DIFFERENCE | N69: =M68-M67 -> -7.06
A72: 70400101 | B72: 18 | C72: 04 | D72: 17 | E72: 1236290 | F72: ETAM PAP | G72: 1508 ETAM PAP CERCY 3 FONT | H72: CERGY | I72: 95 | J72: 9 | K72: 75 | L72: 23.21
A73: 70400082 | B73: 18 | C73: 04 | D73: 17 | E73: 1236866 | F73: ETAM LINGERIE | G73: 1508 LINGERIE CERGY | H73: CERGY | I73: 95 | J73: 9 | K73: 51 | L73: 17.51
A74: TOTAL FACTURé | M74: =L72+L73 -> 40.72
B75: 18.04.2017 | I75: 139556 | J75: 139556 | K75: =IF(ISNUMBER(B75),"",CONVERT(J75,"g","kg")) -> 139.556 | M75: =IF(K75=0,0,IF(K75<=9,7.55,IF(K75<=15,9.42,IF(K75<=20,10.97,IF(K75<=27,12.25,IF(K75<=34,13.62,IF(K75<=39,15.33,IF(K75<=44,17.21,IF(K75<=49,17.31,IF(K75<=59,17.51,IF(K75<=69,20,IF(K75<=79,23.21,IF(K75<=89,22.7,IF(K75<=99.99,22.59,IF(K75<=499,22.54,IF(K75<=999,22.44,IF(K75<=25000,21.42,""))))))))))))))))) -> 22.54
A76: DIFFERENCE | N76: =M75-M74 -> -18.18
A79: 70400101 | B79: 19 | C79: 04 | D79: 17 | E79: 1237801 | F79: ETAM PAP | G79: 1508 ETAM PAP CERCY 3 FONT | H79: CERGY | I79: 95 | J79: 4 | K79: 41 | L79: 17.21
A80: 70400082 | B80: 19 | C80: 04 | D80: 17 | E80: 1238260 | F80: ETAM LINGERIE | G80: 1508 LINGERIE CERGY | H80: CERGY | I80: 95 | J80: 6 | K80: 26 | L80: 12.25
A81: TOTAL FACTURé | M81: =L79+L80 -> 29.46
B82: 19.04.2017 | I82: 70917 | J82: 70917 | K82: =IF(ISNUMBER(B82),"",CONVERT(J82,"g","kg")) -> 70.917 | M82: =IF(K82=0,0,IF(K82<=9,7.55,IF(K82<=15,9.42,IF(K82<=20,10.97,IF(K82<=27,12.25,IF(K82<=34,13.62,IF(K82<=39,15.33,IF(K82<=44,17.21,IF(K82<=49,17.31,IF(K82<=59,17.51,IF(K82<=69,20,IF(K82<=79,23.21,IF(K82<=89,22.7,IF(K82<=99.99,22.59,IF(K82<=499,22.54,IF(K82<=999,22.44,IF(K82<=25000,21.42,""))))))))))))))))) -> 23.21
A83: DIFFERENCE | N83: =M82-M81 -> -6.25
A86: 70400101 | B86: 20 | C86: 04 | D86: 17 | E86: 1239481 | F86: ETAM PAP | G86: 1508 ETAM PAP CERCY 3 FONT | H86: CERGY | I86: 95 | J86: 12 | K86: 102 | L86: 23.19
A87: 70400082 | B87: 20 | C87: 04 | D87: 17 | E87: 1239655 | F87: ETAM LINGERIE | G87: 1508 LINGERIE CERGY | H87: CERGY | I87: 95 | J87: 13 | K87: 73 | L87: 23.21
A88: TOTAL FACTURé | M88: =L86+L87 -> 46.4
B89: 20.04.2017 | I89: 178810 | J89: 178810 | K89: =IF(ISNUMBER(B89),"",CONVERT(J89,"g","kg")) -> 178.81 | M89: =IF(K89=0,0,IF(K89<=9,7.55,IF(K89<=15,9.42,IF(K89<=20,10.97,IF(K89<=27,12.25,IF(K89<=34,13.62,IF(K89<=39,15.33,IF(K89<=44,17.21,IF(K89<=49,17.31,IF(K89<=59,17.51,IF(K89<=69,20,IF(K89<=79,23.21,IF(K89<=89,22.7,IF(K89<=99.99,22.59,IF(K89<=499,22.54,IF(K89<=999,22.44,IF(K89<=25000,21.42,""))))))))))))))))) -> 22.54
A90: DIFFERENCE | N90: =M89-M88 -> -23.86
A93: 70400101 | B93: 21 | C93: 04 | D93: 17 | E93: 1240727 | F93: ETAM PAP | G93: 1508 ETAM PAP CERCY 3 FONT | H93: CERGY | I93: 95 | J93: 5 | K93: 17 | L93: 10.97
A94: 70400082 | B94: 21 | C94: 04 | D94: 17 | E94: 1240968 | F94: ETAM LINGERIE | G94: 1508 LINGERIE CERGY | H94: CERGY | I94: 95 | J94: 5 | K94: 23 | L94: 12.25
A95: TOTAL FACTURé | M95: =L93+L94 -> 23.22
B96: 21.04.2017 | I96: 43063 | J96: 43063 | K96: =IF(ISNUMBER(B96),"",CONVERT(J96,"g","kg")) -> 43.063 | M96: =IF(K96=0,0,IF(K96<=9,7.55,IF(K96<=15,9.42,IF(K96<=20,10.97,IF(K96<=27,12.25,IF(K96<=34,13.62,IF(K96<=39,15.33,IF(K96<=44,17.21,IF(K96<=49,17.31,IF(K96<=59,17.51,IF(K96<=69,20,IF(K96<=79,23.21,IF(K96<=89,22.7,IF(K96<=99.99,22.59,IF(K96<=499,22.54,IF(K96<=999,22.44,IF(K96<=25000,21.42,""))))))))))))))))) -> 17.21
A97: DIFFERENCE | N97: =M96-M95 -> -6.01
A100: 70400101 | B100: 24 | C100: 04 | D100: 17 | E100: 1242101 | F100: ETAM PAP | G100: 1508 ETAM PAP CERCY 3 FONT | H100: CERGY | I100: 95 | J100: 12 | K100: 85 | L100: 22.7
A101: 70400082 | B101: 24 | C101: 04 | D101: 17 | E101: 1242375 | F101: ETAM LINGERIE | G101: 1508 LINGERIE CERGY | H101: CERGY | I101: 95 | J101: 7 | K101: 40 | L101: 17.21
A102: TOTAL FACTURé | M102: =L100+L101 -> 39.91
B103: 24.04.2017 | I103: 130554 | J103: 130554 | K103: =IF(ISNUMBER(B103),"",CONVERT(J103,"g","kg")) -> 130.554 | M103: =IF(K103=0,0,IF(K103<=9,7.55,IF(K103<=15,9.42,IF(K103<=20,10.97,IF(K103<=27,12.25,IF(K103<=34,13.62,IF(K103<=39,15.33,IF(K103<=44,17.21,IF(K103<=49,17.31,IF(K103<=59,17.51,IF(K103<=69,20,IF(K103<=79,23.21,IF(K103<=89,22.7,IF(K103<=99.99,22.59,IF(K103<=499,22.54,IF(K103<=999,22.44,IF(K103<=25000,21.42,""))))))))))))))))) -> 22.54
A104: DIFFERENCE | N104: =M103-M102 -> -17.37
A107: 70400101 | B107: 25 | C107: 04 | D107: 17 | E107: 1243464 | F107: ETAM PAP | G107: 1508 ETAM PAP CERCY 3 FONT | H107: CERGY | I107: 95 | J107: 8 | K107: 67 | L107: 20
A108: 70400082 | B108: 25 | C108: 04 | D108: 17 | E108: 1243695 | F108: ETAM LINGERIE | G108: 1508 LINGERIE CERGY | H108: CERGY | I108: 95 | J108: 8 | K108: 33 | L108: 13.62
A109: TOTAL FACTURé | M109: =L107+L108 -> 33.62
B110: 25.04.2017 | I110: 104028 | J110: 104028 | K110: =IF(ISNUMBER(B110),"",CONVERT(J110,"g","kg")) -> 104.028 | M110: =IF(K110=0,0,IF(K110<=9,7.55,IF(K110<=15,9.42,IF(K110<=20,10.97,IF(K110<=27,12.25,IF(K110<=34,13.62,IF(K110<=39,15.33,IF(K110<=44,17.21,IF(K110<=49,17.31,IF(K110<=59,17.51,IF(K110<=69,20,IF(K110<=79,23.21,IF(K110<=89,22.7,IF(K110<=99.99,22.59,IF(K110<=499,22.54,IF(K110<=999,22.44,IF(K110<=25000,21.42,""))))))))))))))))) -> 22.54
A111: DIFFERENCE | N111: =M110-M109 -> -11.08
A114: 70400101 | B114: 26 | C114: 04 | D114: 17 | E114: 1244263 | F114: ETAM PAP | G114: 1508 ETAM PAP CERCY 3 FONT | H114: CERGY | I114: 95 | J114: 15 | K114: 105 | L114: 23.69
A115: 70400082 | B115: 26 | C115: 04 | D115: 17 | E115: 1245204 | F115: ETAM LINGERIE | G115: 1508 LINGERIE CERGY | H115: CERGY | I115: 95 | J115: 3 | K115: 13 | L115: 9.42
A116: TOTAL FACTURé | M116: =L114+L115 -> 33.11
B117: 26.04.2017 | I117: 121624 | J117: 121624 | K117: =IF(ISNUMBER(B117),"",CONVERT(J117,"g","kg")) -> 121.624 | M117: =IF(K117=0,0,IF(K117<=9,7.55,IF(K117<=15,9.42,IF(K117<=20,10.97,IF(K117<=27,12.25,IF(K117<=34,13.62,IF(K117<=39,15.33,IF(K117<=44,17.21,IF(K117<=49,17.31,IF(K117<=59,17.51,IF(K117<=69,20,IF(K117<=79,23.21,IF(K117<=89,22.7,IF(K117<=99.99,22.59,IF(K117<=499,22.54,IF(K117<=999,22.44,IF(K117<=25000,21.42,""))))))))))))))))) -> 22.54
A118: DIFFERENCE | N118: =M117-M116 -> -10.57
A121: 70400101 | B121: 27 | C121: 04 | D121: 17 | E121: 1246266 | F121: ETAM PAP | G121: 1508 ETAM PAP CERCY 3 FONT | H121: CERGY | I121: 95 | J121: 8 | K121: 70 | L121: 23.21
A122: 70400082 | B122: 27 | C122: 04 | D122: 17 | E122: 1246588 | F122: ETAM LINGERIE | G122: 1508 LINGERIE CERGY | H122: CERGY | I122: 95 | J122: 10 | K122: 65 | L122: 20
A123: TOTAL FACTURé | M123: =L121+L122 -> 43.21
B124: 27.04.2017 | I124: 141863 | J124: 141863 | K124: =IF(ISNUMBER(B124),"",CONVERT(J124,"g","kg")) -> 141.863 | M124: =IF(K124=0,0,IF(K124<=9,7.55,IF(K124<=15,9.42,IF(K124<=20,10.97,IF(K124<=27,12.25,IF(K124<=34,13.62,IF(K124<=39,15.33,IF(K124<=44,17.21,IF(K124<=49,17.31,IF(K124<=59,17.51,IF(K124<=69,20,IF(K124<=79,23.21,IF(K124<=89,22.7,IF(K124<=99.99,22.59,IF(K124<=499,22.54,IF(K124<=999,22.44,IF(K124<=25000,21.42,""))))))))))))))))) -> 22.54
A125: DIFFERENCE | N125: =M124-M123 -> -20.67
A128: 70400101 | B128: 28 | C128: 04 | D128: 17 | E128: 1247640 | F128: ETAM PAP | G128: 1508 ETAM PAP CERCY 3 FONT | H128: CERGY | I128: 95 | J128: 7 | K128: 47 | L128: 17.31
A129: 70400082 | B129: 28 | C129: 04 | D129: 17 | E129: 1247818 | F129: ETAM LINGERIE | G129: 1508 LINGERIE CERGY | H129: CERGY | I129: 95 | J129: 10 | K129: 61 | L129: 20
A130: TOTAL FACTURé | M130: =L128+L129 -> 37.31
B131: 28.04.2017 | I131: 111073 | J131: 111073 | K131: =IF(ISNUMBER(B131),"",CONVERT(J131,"g","kg")) -> 111.073 | M131: =IF(K131=0,0,IF(K131<=9,7.55,IF(K131<=15,9.42,IF(K131<=20,10.97,IF(K131<=27,12.25,IF(K131<=34,13.62,IF(K131<=39,15.33,IF(K131<=44,17.21,IF(K131<=49,17.31,IF(K131<=59,17.51,IF(K131<=69,20,IF(K131<=79,23.21,IF(K131<=89,22.7,IF(K131<=99.99,22.59,IF(K131<=499,22.54,IF(K131<=999,22.44,IF(K131<=25000,21.42,""))))))))))))))))) -> 22.54
A132: DIFFERENCE | N132: =M131-M130 -> -14.77
A135: TOTAL TROP PERCU : | L135: =SUM(L2:L134) -> 678.6 | N135: =SUM(N1:N134) -> -254.17

Sheet 1509
A1: FACTURE | B1: JOUR | C1: MOIS | D1: ANNEE | E1: RECEP | F1: EXP | G1: DEST | H1: VILLES | I1: DEPTS | J1: COLIS | K1: POIDS | L1: TARIFS
A2: 70400082 | B2: 03 | C2: 04 | D2: 17 | E2: 1222990 | F2: ETAM LINGERIE | G2: 1509 LINGERIE PARIS TERNES | H2: PARIS 17 | I2: 75 | J2: 7 | K2: 44 | L2: 17.31
A3: 70400101 | B3: 03 | C3: 04 | D3: 17 | E3: 1223241 | F3: INVESTINT PAP | G3: 1509 ETAM PAP PARIS TERNES | H3: PARIS 17 | I3: 75 | J3: 9 | K3: 45 | L3: 17.31
A4: TOTAL FACTURé | M4: =L2+L3 -> 34.62
B5: 03.04.2017 | I5: 134895 | J5: 134895 | K5: =IF(ISNUMBER(B5),"",CONVERT(J5,"g","kg")) -> 134.895 | M5: =IF(K5=0,0,IF(K5<=9,7.55,IF(K5<=15,9.42,IF(K5<=20,10.97,IF(K5<=27,12.25,IF(K5<=34,13.62,IF(K5<=39,15.33,IF(K5<=44,17.21,IF(K5<=49,17.31,IF(K5<=59,17.51,IF(K5<=69,20,IF(K5<=79,23.21,IF(K5<=89,22.7,IF(K5<=99.99,22.59,IF(K5<=499,22.54,IF(K5<=999,22.44,IF(K5<=25000,21.42,""))))))))))))))))) -> 22.54
A6: DIFFERENCE | N6: =M5-M4 -> -12.08
A9: 70400082 | B9: 04 | C9: 04 | D9: 17 | E9: 1224445 | F9: ETAM LINGERIE | G9: 1509 LINGERIE PARIS TERNES | H9: PARIS 17 | I9: 75 | J9: 11 | K9: 69 | L9: 23.21
A10: 70400101 | B10: 04 | C10: 04 | D10: 17 | E10: 1224667 | F10: INVESTINT PAP | G10: 1509 ETAM PAP PARIS TERNES | H10: PARIS 17 | I10: 75 | J10: 7 | K10: 70 | L10: 23.21
A11: TOTAL FACTURé | M11: =L9+L10 -> 46.42
B12: 04.04.2017 | I12: 122203 | J12: 122203 | K12: =IF(ISNUMBER(B12),"",CONVERT(J12,"g","kg")) -> 122.203 | M12: =IF(K12=0,0,IF(K12<=9,7.55,IF(K12<=15,9.42,IF(K12<=20,10.97,IF(K12<=27,12.25,IF(K12<=34,13.62,IF(K12<=39,15.33,IF(K12<=44,17.21,IF(K12<=49,17.31,IF(K12<=59,17.51,IF(K12<=69,20,IF(K12<=79,23.21,IF(K12<=89,22.7,IF(K12<=99.99,22.59,IF(K12<=499,22.54,IF(K12<=999,22.44,IF(K12<=25000,21.42,""))))))))))))))))) -> 22.54
A13: DIFFERENCE | N13: =M12-M11 -> -23.88
A16: 70400082 | B16: 05 | C16: 04 | D16: 17 | E16: 1225593 | F16: ETAM LINGERIE | G16: 1509 LINGERIE PARIS TERNES | H16: PARIS 17 | I16: 75 | J16: 12 | K16: 83 | L16: 22.7
A17: 70400101 | B17: 05 | C17: 04 | D17: 17 | E17: 1225831 | F17: INVESTINT PAP | G17: 1509 ETAM PAP PARIS TERNES | H17: PARIS 17 | I17: 75 | J17: 8 | K17: 40 | L17: 17.21
A18: TOTAL FACTURé | M18: =L16+L17 -> 39.91
B19: 05.04.2017 | I19: 186359 | J19: 186359 | K19: =IF(ISNUMBER(B19),"",CONVERT(J19,"g","kg")) -> 186.359 | M19: =IF(K19=0,0,IF(K19<=9,7.55,IF(K19<=15,9.42,IF(K19<=20,10.97,IF(K19<=27,12.25,IF(K19<=34,13.62,IF(K19<=39,15.33,IF(K19<=44,17.21,IF(K19<=49,17.31,IF(K19<=59,17.51,IF(K19<=69,20,IF(K19<=79,23.21,IF(K19<=89,22.7,IF(K19<=99.99,22.59,IF(K19<=499,22.54,IF(K19<=999,22.44,IF(K19<=25000,21.42,""))))))))))))))))) -> 22.54
A20: DIFFERENCE | N20: =M19-M18 -> -17.37
A23: 70400082 | B23: 06 | C23: 04 | D23: 17 | E23: 1227008 | F23: ETAM LINGERIE | G23: 1509 LINGERIE PARIS TERNES | H23: PARIS 17 | I23: 75 | J23: 7 | K23: 33 | L23: 13.62
A24: 70400101 | B24: 06 | C24: 04 | D24: 17 | E24: 1226854 | F24: ETAM PAP | G24: 1509 ETAM PAP PARIS TERNES | H24: PARIS 17 | I24: 75 | J24: 8 | K24: 87 | L24: 22.7
A25: TOTAL FACTURé | M25: =L23+L24 -> 36.32
B26: 06.04.2017 | I26: 121913 | J26: 121913 | K26: =IF(ISNUMBER(B26),"",CONVERT(J26,"g","kg")) -> 121.913 | M26: =IF(K26=0,0,IF(K26<=9,7.55,IF(K26<=15,9.42,IF(K26<=20,10.97,IF(K26<=27,12.25,IF(K26<=34,13.62,IF(K26<=39,15.33,IF(K26<=44,17.21,IF(K26<=49,17.31,IF(K26<=59,17.51,IF(K26<=69,20,IF(K26<=79,23.21,IF(K26<=89,22.7,IF(K26<=99.99,22.59,IF(K26<=499,22.54,IF(K26<=999,22.44,IF(K26<=25000,21.42,""))))))))))))))))) -> 22.54
A27: DIFFERENCE | N27: =M26-M25 -> -13.78
A30: 70400082 | B30: 07 | C30: 04 | D30: 17 | E30: 1228495 | F30: ETAM LINGERIE | G30: 1509 LINGERIE PARIS TERNES | H30: PARIS 17 | I30: 75 | J30: 11 | K30: 63 | L30: 20
A31: 70400101 | B31: 07 | C31: 04 | D31: 17 | E31: 1228150 | F31: ETAM PAP | G31: 1509 ETAM PAP PARIS TERNES | H31: PARIS 17 | I31: 75 | J31: 5 | K31: 47 | L31: 17.31
A32: TOTAL FACTURé | M32: =L30+L31 -> 37.31
B33: 07.04.2017 | I33: 112132 | J33: 112132 | K33: =IF(ISNUMBER(B33),"",CONVERT(J33,"g","kg")) -> 112.132 | M33: =IF(K33=0,0,IF(K33<=9,7.55,IF(K33<=15,9.42,IF(K33<=20,10.97,IF(K33<=27,12.25,IF(K33<=34,13.62,IF(K33<=39,15.33,IF(K33<=44,17.21,IF(K33<=49,17.31,IF(K33<=59,17.51,IF(K33<=69,20,IF(K33<=79,23.21,IF(K33<=89,22.7,IF(K33<=99.99,22.59,IF(K33<=499,22.54,IF(K33<=999,22.44,IF(K33<=25000,21.42,""))))))))))))))))) -> 22.54
A34: DIFFERENCE | N34: =M33-M32 -> -14.77
A37: 70400082 | B37: 10 | C37: 04 | D37: 17 | E37: 1230093 | F37: ETAM LINGERIE | G37: 1509 LINGERIE PARIS TERNES | H37: PARIS 17 | I37: 75 | J37: 6 | K37: 42 | L37: 17.21
A38: 70400101 | B38: 10 | C38: 04 | D38: 17 | E38: 1229832 | F38: ETAM PAP | G38: 1509 ETAM PAP PARIS TERNES | H38: PARIS 17 | I38: 75 | J38: 6 | K38: 57 | L38: 17.51
A39: TOTAL FACTURé | M39: =L37+L38 -> 34.72
B40: 10.04.2017 | I40: 105570 | J40: 105570 | K40: =IF(ISNUMBER(B40),"",CONVERT(J40,"g","kg")) -> 105.57 | M40: =IF(K40=0,0,IF(K40<=9,7.55,IF(K40<=15,9.42,IF(K40<=20,10.97,IF(K40<=27,12.25,IF(K40<=34,13.62,IF(K40<=39,15.33,IF(K40<=44,17.21,IF(K40<=49,17.31,IF(K40<=59,17.51,IF(K40<=69,20,IF(K40<=79,23.21,IF(K40<=89,22.7,IF(K40<=99.99,22.59,IF(K40<=499,22.54,IF(K40<=999,22.44,IF(K40<=25000,21.42,""))))))))))))))))) -> 22.54
A41: DIFFERENCE | N41: =M40-M39 -> -12.18
A44: 70400082 | B44: 11 | C44: 04 | D44: 17 | E44: 1231423 | F44: ETAM LINGERIE | G44: 1509 LINGERIE PARIS TERNES | H44: PARIS 17 | I44: 75 | J44: 16 | K44: 109 | L44: 24.77
A45: 70400101 | B45: 11 | C45: 04 | D45: 17 | E45: 1231314 | F45: ETAM PAP | G45: 1509 ETAM PAP PARIS TERNES | H45: PARIS 17 | I45: 75 | J45: 6 | K45: 58 | L45: 17.51
A46: TOTAL FACTURé | M46: =L44+L45 -> 42.28
B47: 11.04.2017 | I47: 171741 | J47: 171741 | K47: =IF(ISNUMBER(B47),"",CONVERT(J47,"g","kg")) -> 171.741 | M47: =IF(K47=0,0,IF(K47<=9,7.55,IF(K47<=15,9.42,IF(K47<=20,10.97,IF(K47<=27,12.25,IF(K47<=34,13.62,IF(K47<=39,15.33,IF(K47<=44,17.21,IF(K47<=49,17.31,IF(K47<=59,17.51,IF(K47<=69,20,IF(K47<=79,23.21,IF(K47<=89,22.7,IF(K47<=99.99,22.59,IF(K47<=499,22.54,IF(K47<=999,22.44,IF(K47<=25000,21.42,""))))))))))))))))) -> 22.54
A48: DIFFERENCE | N48: =M47-M46 -> -19.74
A51: 70400082 | B51: 12 | C51: 04 | D51: 17 | E51: 1232724 | F51: ETAM LINGERIE | G51: 1509 LINGERIE PARIS TERNES | H51: PARIS 17 | I51: 75 | J51: 9 | K51: 63 | L51: 20
A52: 70400101 | B52: 12 | C52: 04 | D52: 17 | E52: 1232274 | F52: ETAM PAP | G52: 1509 ETAM PAP PARIS TERNES | H52: PARIS 17 | I52: 75 | J52: 6 | K52: 68 | L52: 20
A53: TOTAL FACTURé | M53: =L51+L52 -> 40
B54: 12.04.2017 | I54: 133035 | J54: 133035 | K54: =IF(ISNUMBER(B54),"",CONVERT(J54,"g","kg")) -> 133.035 | M54: =IF(K54=0,0,IF(K54<=9,7.55,IF(K54<=15,9.42,IF(K54<=20,10.97,IF(K54<=27,12.25,IF(K54<=34,13.62,IF(K54<=39,15.33,IF(K54<=44,17.21,IF(K54<=49,17.31,IF(K54<=59,17.51,IF(K54<=69,20,IF(K54<=79,23.21,IF(K54<=89,22.7,IF(K54<=99.99,22.59,IF(K54<=499,22.54,IF(K54<=999,22.44,IF(K54<=25000,21.42,""))))))))))))))))) -> 22.54
A55: DIFFERENCE | N55: =M54-M53 -> -17.46
A58: 70400082 | B58: 13 | C58: 04 | D58: 17 | E58: 1234177 | F58: ETAM LINGERIE | G58: 1509 LINGERIE PARIS TERNES | H58: PARIS 17 | I58: 75 | J58: 6 | K58: 36 | L58: 15.33
A59: 70400101 | B59: 13 | C59: 04 | D59: 17 | E59: 1233917 | F59: ETAM PAP | G59: 1509 ETAM PAP PARIS TERNES | H59: PARIS 17 | I59: 75 | J59: 4 | K59: 36 | L59: 15.33
A60: TOTAL FACTURé | M60: =L58+L59 -> 30.66
B61: 13.04.2017 | I61: 75633 | J61: 75633 | K61: =IF(ISNUMBER(B61),"",CONVERT(J61,"g","kg")) -> 75.633 | M61: =IF(K61=0,0,IF(K61<=9,7.55,IF(K61<=15,9.42,IF(K61<=20,10.97,IF(K61<=27,12.25,IF(K61<=34,13.62,IF(K61<=39,15.33,IF(K61<=44,17.21,IF(K61<=49,17.31,IF(K61<=59,17.51,IF(K61<=69,20,IF(K61<=79,23.21,IF(K61<=89,22.7,IF(K61<=99.99,22.59,IF(K61<=499,22.54,IF(K61<=999,22.44,IF(K61<=25000,21.42,""))))))))))))))))) -> 23.21
A62: DIFFERENCE | N62: =M61-M60 -> -7.45
A65: 70400082 | B65: 14 | C65: 04 | D65: 17 | E65: 1235349 | F65: ETAM LINGERIE | G65: 1509 LINGERIE PARIS TERNES | H65: PARIS 17 | I65: 75 | J65: 9 | K65: 53 | L65: 17.51
A66: 70400101 | B66: 14 | C66: 04 | D66: 17 | E66: 1235196 | F66: ETAM PAP | G66: 1509 ETAM PAP PARIS TERNES | H66: PARIS 17 | I66: 75 | J66: 3 | K66: 43 | L66: 17.21
A67: TOTAL FACTURé | M67: =L65+L66 -> 34.72
B68: 14.04.2017 | I68: 101143 | J68: 101143 | K68: =IF(ISNUMBER(B68),"",CONVERT(J68,"g","kg")) -> 101.143 | M68: =IF(K68=0,0,IF(K68<=9,7.55,IF(K68<=15,9.42,IF(K68<=20,10.97,IF(K68<=27,12.25,IF(K68<=34,13.62,IF(K68<=39,15.33,IF(K68<=44,17.21,IF(K68<=49,17.31,IF(K68<=59,17.51,IF(K68<=69,20,IF(K68<=79,23.21,IF(K68<=89,22.7,IF(K68<=99.99,22.59,IF(K68<=499,22.54,IF(K68<=999,22.44,IF(K68<=25000,21.42,""))))))))))))))))) -> 22.54
A69: DIFFERENCE | N69: =M68-M67 -> -12.18
A72: 70400082 | B72: 18 | C72: 04 | D72: 17 | E72: 1236826 | F72: ETAM LINGERIE | G72: 1509 LINGERIE PARIS TERNES | H72: PARIS 17 | I72: 75 | J72: 10 | K72: 57 | L72: 17.51
A73: 70400101 | B73: 18 | C73: 04 | D73: 17 | E73: 1236260 | F73: ETAM PAP | G73: 1509 ETAM PAP PARIS TERNES | H73: PARIS 17 | I73: 75 | J73: 7 | K73: 75 | L73: 23.21
A74: TOTAL FACTURé | M74: =L72+L73 -> 40.72
B75: 18.04.2017 | I75: 141423 | J75: 141423 | K75: =IF(ISNUMBER(B75),"",CONVERT(J75,"g","kg")) -> 141.423 | M75: =IF(K75=0,0,IF(K75<=9,7.55,IF(K75<=15,9.42,IF(K75<=20,10.97,IF(K75<=27,12.25,IF(K75<=34,13.62,IF(K75<=39,15.33,IF(K75<=44,17.21,IF(K75<=49,17.31,IF(K75<=59,17.51,IF(K75<=69,20,IF(K75<=79,23.21,IF(K75<=89,22.7,IF(K75<=99.99,22.59,IF(K75<=499,22.54,IF(K75<=999,22.44,IF(K75<=25000,21.42,""))))))))))))))))) -> 22.54
A76: DIFFERENCE | N76: =M75-M74 -> -18.18
A79: 70400082 | B79: 19 | C79: 04 | D79: 17 | E79: 1238215 | F79: ETAM LINGERIE | G79: 1509 LINGERIE PARIS TERNES | H79: PARIS 17 | I79: 75 | J79: 9 | K79: 45 | L79: 17.31
A80: 70400101 | B80: 19 | C80: 04 | D80: 17 | E80: 1237772 | F80: ETAM PAP | G80: 1509 ETAM PAP PARIS TERNES | H80: PARIS 17 | I80: 75 | J80: 6 | K80: 55 | L80: 17.51
A81: TOTAL FACTURé | M81: =L79+L80 -> 34.82
B82: 19.04.2017 | I82: 104623 | J82: 104623 | K82: =IF(ISNUMBER(B82),"",CONVERT(J82,"g","kg")) -> 104.623 | M82: =IF(K82=0,0,IF(K82<=9,7.55,IF(K82<=15,9.42,IF(K82<=20,10.97,IF(K82<=27,12.25,IF(K82<=34,13.62,IF(K82<=39,15.33,IF(K82<=44,17.21,IF(K82<=49,17.31,IF(K82<=59,17.51,IF(K82<=69,20,IF(K82<=79,23.21,IF(K82<=89,22.7,IF(K82<=99.99,22.59,IF(K82<=499,22.54,IF(K82<=999,22.44,IF(K82<=25000,21.42,""))))))))))))))))) -> 22.54
A83: DIFFERENCE | N83: =M82-M81 -> -12.28
A86: 70400082 | B86: 20 | C86: 04 | D86: 17 | E86: 1239615 | F86: ETAM LINGERIE | G86: 1509 LINGERIE PARIS TERNES | H86: PARIS 17 | I86: 75 | J86: 8 | K86: 48 | L86: 17.31
A87: 70400101 | B87: 20 | C87: 04 | D87: 17 | E87: 1239452 | F87: ETAM PAP | G87: 1509 ETAM PAP PARIS TERNES | H87: PARIS 17 | I87: 75 | J87: 5 | K87: 45 | L87: 17.31
A88: TOTAL FACTURé | M88: =L86+L87 -> 34.62
B89: 20.04.2017 | I89: 98564 | J89: 98564 | K89: =IF(ISNUMBER(B89),"",CONVERT(J89,"g","kg")) -> 98.564 | M89: =IF(K89=0,0,IF(K89<=9,7.55,IF(K89<=15,9.42,IF(K89<=20,10.97,IF(K89<=27,12.25,IF(K89<=34,13.62,IF(K89<=39,15.33,IF(K89<=44,17.21,IF(K89<=49,17.31,IF(K89<=59,17.51,IF(K89<=69,20,IF(K89<=79,23.21,IF(K89<=89,22.7,IF(K89<=99.99,22.59,IF(K89<=499,22.54,IF(K89<=999,22.44,IF(K89<=25000,21.42,""))))))))))))))))) -> 22.59
A90: DIFFERENCE | N90: =M89-M88 -> -12.03
A93: 70400082 | B93: 21 | C93: 04 | D93: 17 | E93: 1240894 | F93: ETAM LINGERIE | G93: 1509 LINGERIE PARIS TERNES | H93: PARIS 17 | I93: 75 | J93: 6 | K93: 32 | L93: 13.62
A94: 70400101 | B94: 21 | C94: 04 | D94: 17 | E94: 1240699 | F94: ETAM PAP | G94: 1509 ETAM PAP PARIS TERNES | H94: PARIS 17 | I94: 75 | J94: 3 | K94: 15 | L94: 10.97
A95: TOTAL FACTURé | M95: =L93+L94 -> 24.59
B96: 21.04.2017 | I96: 51785 | J96: 51785 | K96: =IF(ISNUMBER(B96),"",CONVERT(J96,"g","kg")) -> 51.785 | M96: =IF(K96=0,0,IF(K96<=9,7.55,IF(K96<=15,9.42,IF(K96<=20,10.97,IF(K96<=27,12.25,IF(K96<=34,13.62,IF(K96<=39,15.33,IF(K96<=44,17.21,IF(K96<=49,17.31,IF(K96<=59,17.51,IF(K96<=69,20,IF(K96<=79,23.21,IF(K96<=89,22.7,IF(K96<=99.99,22.59,IF(K96<=499,22.54,IF(K96<=999,22.44,IF(K96<=25000,21.42,""))))))))))))))))) -> 17.51
A97: DIFFERENCE | N97: =M96-M95 -> -7.08
A100: 70400082 | B100: 24 | C100: 04 | D100: 17 | E100: 1242332 | F100: ETAM LINGERIE | G100: 1509 LINGERIE PARIS TERNES | H100: PARIS 17 | I100: 75 | J100: 10 | K100: 52 | L100: 17.51
A101: 70400101 | B101: 24 | C101: 04 | D101: 17 | E101: 1242068 | F101: ETAM PAP | G101: 1509 ETAM PAP PARIS TERNES | H101: PARIS 17 | I101: 75 | J101: 11 | K101: 104 | L101: 23.55
A102: TOTAL FACTURé | M102: =L100+L101 -> 41.06
B103: 24.04.2017 | I103: 163070 | J103: 163070 | K103: =IF(ISNUMBER(B103),"",CONVERT(J103,"g","kg")) -> 163.07 | M103: =IF(K103=0,0,IF(K103<=9,7.55,IF(K103<=15,9.42,IF(K103<=20,10.97,IF(K103<=27,12.25,IF(K103<=34,13.62,IF(K103<=39,15.33,IF(K103<=44,17.21,IF(K103<=49,17.31,IF(K103<=59,17.51,IF(K103<=69,20,IF(K103<=79,23.21,IF(K103<=89,22.7,IF(K103<=99.99,22.59,IF(K103<=499,22.54,IF(K103<=999,22.44,IF(K103<=25000,21.42,""))))))))))))))))) -> 22.54
A104: DIFFERENCE | N104: =M103-M102 -> -18.52
A107: 70400082 | B107: 25 | C107: 04 | D107: 17 | E107: 1243655 | F107: ETAM LINGERIE | G107: 1509 LINGERIE PARIS TERNES | H107: PARIS 17 | I107: 75 | J107: 5 | K107: 32 | L107: 13.62
A108: 70400101 | B108: 25 | C108: 04 | D108: 17 | E108: 1243436 | F108: ETAM PAP | G108: 1509 ETAM PAP PARIS TERNES | H108: PARIS 17 | I108: 75 | J108: 7 | K108: 90 | L108: 22.59
A109: TOTAL FACTURé | M109: =L107+L108 -> 36.21
B110: 25.04.2017 | I110: 126370 | J110: 126370 | K110: =IF(ISNUMBER(B110),"",CONVERT(J110,"g","kg")) -> 126.37 | M110: =IF(K110=0,0,IF(K110<=9,7.55,IF(K110<=15,9.42,IF(K110<=20,10.97,IF(K110<=27,12.25,IF(K110<=34,13.62,IF(K110<=39,15.33,IF(K110<=44,17.21,IF(K110<=49,17.31,IF(K110<=59,17.51,IF(K110<=69,20,IF(K110<=79,23.21,IF(K110<=89,22.7,IF(K110<=99.99,22.59,IF(K110<=499,22.54,IF(K110<=999,22.44,IF(K110<=25000,21.42,""))))))))))))))))) -> 22.54
A111: DIFFERENCE | N111: =M110-M109 -> -13.67
A114: 70400082 | B114: 26 | C114: 04 | D114: 17 | E114: 1245159 | F114: ETAM LINGERIE | G114: 1509 LINGERIE PARIS TERNES | H114: PARIS 17 | I114: 75 | J114: 10 | K114: 55 | L114: 17.51
A115: 70400101 | B115: 26 | C115: 04 | D115: 17 | E115: 1244234 | F115: ETAM PAP | G115: 1509 ETAM PAP PARIS TERNES | H115: PARIS 17 | I115: 75 | J115: 6 | K115: 46 | L115: 17.31
A116: TOTAL FACTURé | M116: =L114+L115 -> 34.82
B117: 26.04.2017 | I117: 104432 | J117: 104432 | K117: =IF(ISNUMBER(B117),"",CONVERT(J117,"g","kg")) -> 104.432 | M117: =IF(K117=0,0,IF(K117<=9,7.55,IF(K117<=15,9.42,IF(K117<=20,10.97,IF(K117<=27,12.25,IF(K117<=34,13.62,IF(K117<=39,15.33,IF(K117<=44,17.21,IF(K117<=49,17.31,IF(K117<=59,17.51,IF(K117<=69,20,IF(K117<=79,23.21,IF(K117<=89,22.7,IF(K117<=99.99,22.59,IF(K117<=499,22.54,IF(K117<=999,22.44,IF(K117<=25000,21.42,""))))))))))))))))) -> 22.54
A118: DIFFERENCE | N118: =M117-M116 -> -12.28
A121: 70400082 | B121: 27 | C121: 04 | D121: 17 | E121: 1246541 | F121: ETAM LINGERIE | G121: 1509 LINGERIE PARIS TERNES | H121: PARIS 17 | I121: 75 | J121: 8 | K121: 44 | L121: 17.31
A122: 70400101 | B122: 27 | C122: 04 | D122: 17 | E122: 1246231 | F122: ETAM PAP | G122: 1509 ETAM PAP PARIS TERNES | H122: PARIS 17 | I122: 75 | J122: 8 | K122: 74 | L122: 23.21
A123: TOTAL FACTURé | M123: =L121+L122 -> 40.52
B124: 27.04.2017 | I124: 123548 | J124: 123548 | K124: =IF(ISNUMBER(B124),"",CONVERT(J124,"g","kg")) -> 123.548 | M124: =IF(K124=0,0,IF(K124<=9,7.55,IF(K124<=15,9.42,IF(K124<=20,10.97,IF(K124<=27,12.25,IF(K124<=34,13.62,IF(K124<=39,15.33,IF(K124<=44,17.21,IF(K124<=49,17.31,IF(K124<=59,17.51,IF(K124<=69,20,IF(K124<=79,23.21,IF(K124<=89,22.7,IF(K124<=99.99,22.59,IF(K124<=499,22.54,IF(K124<=999,22.44,IF(K124<=25000,21.42,""))))))))))))))))) -> 22.54
A125: DIFFERENCE | N125: =M124-M123 -> -17.98
A128: 70400082 | B128: 28 | C128: 04 | D128: 17 | E128: 1247778 | F128: ETAM LINGERIE | G128: 1509 LINGERIE PARIS TERNES | H128: PARIS 17 | I128: 75 | J128: 6 | K128: 30 | L128: 13.62
A129: 70400101 | B129: 28 | C129: 04 | D129: 17 | E129: 1247607 | F129: ETAM PAP | G129: 1509 ETAM PAP PARIS TERNES | H129: PARIS 17 | I129: 75 | J129: 8 | K129: 67 | L129: 20
A130: TOTAL FACTURé | M130: =L128+L129 -> 33.62
B131: 28.04.2017 | I131: 100290 | J131: 100290 | K131: =IF(ISNUMBER(B131),"",CONVERT(J131,"g","kg")) -> 100.29 | M131: =IF(K131=0,0,IF(K131<=9,7.55,IF(K131<=15,9.42,IF(K131<=20,10.97,IF(K131<=27,12.25,IF(K131<=34,13.62,IF(K131<=39,15.33,IF(K131<=44,17.21,IF(K131<=49,17.31,IF(K131<=59,17.51,IF(K131<=69,20,IF(K131<=79,23.21,IF(K131<=89,22.7,IF(K131<=99.99,22.59,IF(K131<=499,22.54,IF(K131<=999,22.44,IF(K131<=25000,21.42,""))))))))))))))))) -> 22.54
A132: DIFFERENCE | N132: =M131-M130 -> -11.08
A135: TOTAL TROP PERCU : | L135: =SUM(L2:L134) -> 697.94 | N135: =SUM(N1:N134) -> -273.99

Sheet 1847
A1: FACTURE | B1: JOUR | C1: MOIS | D1: ANNEE | E1: RECEP | F1: EXP | G1: DEST | H1: VILLES | I1: DEPTS | J1: COLIS | K1: POIDS | L1: TARIFS
A2: 70400101 | B2: 03 | C2: 04 | D2: 17 | E2: 1223238 | F2: INVESTINT PAP | G2: 1847 ETAM PAP MAUREPAS | H2: MAUREPAS | I2: 78 | J2: 4 | K2: 20 | L2: 10.97
A3: 70400082 | B3: 03 | C3: 04 | D3: 17 | E3: 1223010 | F3: ETAM LINGERIE | G3: 1847 LINGERIE MAUREPAS | H3: MAUREPAS | I3: 78 | J3: 4 | K3: 18 | L3: 10.97
A4: TOTAL FACTURé | M4: =L2+L3 -> 21.94
B5: 03.04.2017 | I5: 56818 | J5: 56818 | K5: =IF(ISNUMBER(B5),"",CONVERT(J5,"g","kg")) -> 56.818 | M5: =IF(K5=0,0,IF(K5<=9,7.55,IF(K5<=15,9.42,IF(K5<=20,10.97,IF(K5<=27,12.25,IF(K5<=34,13.62,IF(K5<=39,15.33,IF(K5<=44,17.21,IF(K5<=49,17.31,IF(K5<=59,17.51,IF(K5<=69,20,IF(K5<=79,23.21,IF(K5<=89,22.7,IF(K5<=99.99,22.59,IF(K5<=499,22.54,IF(K5<=999,22.44,IF(K5<=25000,21.42,""))))))))))))))))) -> 17.51
A6: DIFFERENCE | N6: =M5-M4 -> -4.43
A9: 70400101 | B9: 04 | C9: 04 | D9: 17 | E9: 1224670 | F9: INVESTINT PAP | G9: 1847 ETAM PAP MAUREPAS | H9: MAUREPAS | I9: 78 | J9: 7 | K9: 70 | L9: 23.21
A10: 70400082 | B10: 04 | C10: 04 | D10: 17 | E10: 1224470 | F10: ETAM LINGERIE | G10: 1847 LINGERIE MAUREPAS | H10: MAUREPAS | I10: 78 | J10: 6 | K10: 23 | L10: 12.25
A11: TOTAL FACTURé | M11: =L9+L10 -> 35.46
B12: 04.04.2017 | I12: 66341 | J12: 66341 | K12: =IF(ISNUMBER(B12),"",CONVERT(J12,"g","kg")) -> 66.341 | M12: =IF(K12=0,0,IF(K12<=9,7.55,IF(K12<=15,9.42,IF(K12<=20,10.97,IF(K12<=27,12.25,IF(K12<=34,13.62,IF(K12<=39,15.33,IF(K12<=44,17.21,IF(K12<=49,17.31,IF(K12<=59,17.51,IF(K12<=69,20,IF(K12<=79,23.21,IF(K12<=89,22.7,IF(K12<=99.99,22.59,IF(K12<=499,22.54,IF(K12<=999,22.44,IF(K12<=25000,21.42,""))))))))))))))))) -> 20
A13: DIFFERENCE | N13: =M12-M11 -> -15.46
A16: 70400101 | B16: 05 | C16: 04 | D16: 17 | E16: 1225816 | F16: INVESTINT PAP | G16: 1847 ETAM PAP MAUREPAS | H16: MAUREPAS | I16: 78 | J16: 4 | K16: 20 | L16: 10.97
A17: 70400082 | B17: 05 | C17: 04 | D17: 17 | E17: 1225611 | F17: ETAM LINGERIE | G17: 1847 LINGERIE MAUREPAS | H17: MAUREPAS | I17: 78 | J17: 3 | K17: 12 | L17: 9.42
A18: TOTAL FACTURé | M18: =L16+L17 -> 20.39
B19: 05.04.2017 | I19: 50389 | J19: 50389 | K19: =IF(ISNUMBER(B19),"",CONVERT(J19,"g","kg")) -> 50.389 | M19: =IF(K19=0,0,IF(K19<=9,7.55,IF(K19<=15,9.42,IF(K19<=20,10.97,IF(K19<=27,12.25,IF(K19<=34,13.62,IF(K19<=39,15.33,IF(K19<=44,17.21,IF(K19<=49,17.31,IF(K19<=59,17.51,IF(K19<=69,20,IF(K19<=79,23.21,IF(K19<=89,22.7,IF(K19<=99.99,22.59,IF(K19<=499,22.54,IF(K19<=999,22.44,IF(K19<=25000,21.42,""))))))))))))))))) -> 17.51
A20: DIFFERENCE | N20: =M19-M18 -> -2.88
A23: 70400101 | B23: 06 | C23: 04 | D23: 17 | E23: 1226866 | F23: ETAM PAP | G23: 1847 ETAM PAP MAUREPAS | H23: MAUREPAS | I23: 78 | J23: 5 | K23: 49 | L23: 17.51
A24: 70400082 | B24: 06 | C24: 04 | D24: 17 | E24: 1227025 | F24: ETAM LINGERIE | G24: 1847 LINGERIE MAUREPAS | H24: MAUREPAS | I24: 78 | J24: 3 | K24: 19 | L24: 10.97
A25: TOTAL FACTURé | M25: =L23+L24 -> 28.48
B26: 06.04.2017 | I26: 69905 | J26: 69905 | K26: =IF(ISNUMBER(B26),"",CONVERT(J26,"g","kg")) -> 69.905 | M26: =IF(K26=0,0,IF(K26<=9,7.55,IF(K26<=15,9.42,IF(K26<=20,10.97,IF(K26<=27,12.25,IF(K26<=34,13.62,IF(K26<=39,15.33,IF(K26<=44,17.21,IF(K26<=49,17.31,IF(K26<=59,17.51,IF(K26<=69,20,IF(K26<=79,23.21,IF(K26<=89,22.7,IF(K26<=99.99,22.59,IF(K26<=499,22.54,IF(K26<=999,22.44,IF(K26<=25000,21.42,""))))))))))))))))) -> 23.21
A27: DIFFERENCE | N27: =M26-M25 -> -5.27
A30: 70400101 | B30: 07 | C30: 04 | D30: 17 | E30: 1228162 | F30: ETAM PAP | G30: 1847 ETAM PAP MAUREPAS | H30: MAUREPAS | I30: 78 | J30: 5 | K30: 35 | L30: 15.33
A31: 70400082 | B31: 07 | C31: 04 | D31: 17 | E31: 1228512 | F31: ETAM LINGERIE | G31: 1847 LINGERIE MAUREPAS | H31: MAUREPAS | I31: 78 | J31: 4 | K31: 11 | L31: 9.42
A32: TOTAL FACTURé | M32: =L30+L31 -> 24.75
B33: 07.04.2017 | I33: 47503 | J33: 47503 | K33: =IF(ISNUMBER(B33),"",CONVERT(J33,"g","kg")) -> 47.503 | M33: =IF(K33=0,0,IF(K33<=9,7.55,IF(K33<=15,9.42,IF(K33<=20,10.97,IF(K33<=27,12.25,IF(K33<=34,13.62,IF(K33<=39,15.33,IF(K33<=44,17.21,IF(K33<=49,17.31,IF(K33<=59,17.51,IF(K33<=69,20,IF(K33<=79,23.21,IF(K33<=89,22.7,IF(K33<=99.99,22.59,IF(K33<=499,22.54,IF(K33<=999,22.44,IF(K33<=25000,21.42,""))))))))))))))))) -> 17.31
A34: DIFFERENCE | N34: =M33-M32 -> -7.44
A37: 70400101 | B37: 10 | C37: 04 | D37: 17 | E37: 1229844 | F37: ETAM PAP | G37: 1847 ETAM PAP MAUREPAS | H37: MAUREPAS | I37: 78 | J37: 4 | K37: 26 | L37: 12.25
A38: 70400082 | B38: 10 | C38: 04 | D38: 17 | E38: 1230111 | F38: ETAM LINGERIE | G38: 1847 LINGERIE MAUREPAS | H38: MAUREPAS | I38: 78 | J38: 3 | K38: 12 | L38: 9.42
A39: TOTAL FACTURé | M39: =L37+L38 -> 21.67
B40: 10.04.2017 | I40: 40140 | J40: 40140 | K40: =IF(ISNUMBER(B40),"",CONVERT(J40,"g","kg")) -> 40.14 | M40: =IF(K40=0,0,IF(K40<=9,7.55,IF(K40<=15,9.42,IF(K40<=20,10.97,IF(K40<=27,12.25,IF(K40<=34,13.62,IF(K40<=39,15.33,IF(K40<=44,17.21,IF(K40<=49,17.31,IF(K40<=59,17.51,IF(K40<=69,20,IF(K40<=79,23.21,IF(K40<=89,22.7,IF(K40<=99.99,22.59,IF(K40<=499,22.54,IF(K40<=999,22.44,IF(K40<=25000,21.42,""))))))))))))))))) -> 17.21
A41: DIFFERENCE | N41: =M40-M39 -> -4.46
A44: 70400101 | B44: 11 | C44: 04 | D44: 17 | E44: 1231326 | F44: ETAM PAP | G44: 1847 ETAM PAP MAUREPAS | H44: MAUREPAS | I44: 78 | J44: 3 | K44: 23 | L44: 12.25
A45: 70400082 | B45: 11 | C45: 04 | D45: 17 | E45: 1231440 | F45: ETAM LINGERIE | G45: 1847 LINGERIE MAUREPAS | H45: MAUREPAS | I45: 78 | J45: 4 | K45: 12 | L45: 9.42
A46: TOTAL FACTURé | M46: =L44+L45 -> 21.67
B47: 11.04.2017 | I47: 36955 | J47: 36955 | K47: =IF(ISNUMBER(B47),"",CONVERT(J47,"g","kg")) -> 36.955 | M47: =IF(K47=0,0,IF(K47<=9,7.55,IF(K47<=15,9.42,IF(K47<=20,10.97,IF(K47<=27,12.25,IF(K47<=34,13.62,IF(K47<=39,15.33,IF(K47<=44,17.21,IF(K47<=49,17.31,IF(K47<=59,17.51,IF(K47<=69,20,IF(K47<=79,23.21,IF(K47<=89,22.7,IF(K47<=99.99,22.59,IF(K47<=499,22.54,IF(K47<=999,22.44,IF(K47<=25000,21.42,""))))))))))))))))) -> 15.33
A48: DIFFERENCE | N48: =M47-M46 -> -6.34
A51: 70400101 | B51: 12 | C51: 04 | D51: 17 | E51: 1232286 | F51: ETAM PAP | G51: 1847 ETAM PAP MAUREPAS | H51: MAUREPAS | I51: 78 | J51: 2 | K51: 9 | L51: 9.42
A52: 70400082 | B52: 12 | C52: 04 | D52: 17 | E52: 1232742 | F52: ETAM LINGERIE | G52: 1847 LINGERIE MAUREPAS | H52: MAUREPAS | I52: 78 | J52: 2 | K52: 4 | L52: 7.55
A53: TOTAL FACTURé | M53: =L51+L52 -> 16.97
B54: 12.04.2017 | I54: 15515 | J54: 15515 | K54: =IF(ISNUMBER(B54),"",CONVERT(J54,"g","kg")) -> 15.515 | M54: =IF(K54=0,0,IF(K54<=9,7.55,IF(K54<=15,9.42,IF(K54<=20,10.97,IF(K54<=27,12.25,IF(K54<=34,13.62,IF(K54<=39,15.33,IF(K54<=44,17.21,IF(K54<=49,17.31,IF(K54<=59,17.51,IF(K54<=69,20,IF(K54<=79,23.21,IF(K54<=89,22.7,IF(K54<=99.99,22.59,IF(K54<=499,22.54,IF(K54<=999,22.44,IF(K54<=25000,21.42,""))))))))))))))))) -> 10.97
A55: DIFFERENCE | N55: =M54-M53 -> -6
A58: 70400101 | B58: 13 | C58: 04 | D58: 17 | E58: 1233929 | F58: ETAM PAP | G58: 1847 ETAM PAP MAUREPAS | H58: MAUREPAS | I58: 78 | J58: 4 | K58: 23 | L58: 12.25
A59: 70400082 | B59: 13 | C59: 04 | D59: 17 | E59: 1234194 | F59: ETAM LINGERIE | G59: 1847 LINGERIE MAUREPAS | H59: MAUREPAS | I59: 78 | J59: 4 | K59: 12 | L59: 9.42
A60: TOTAL FACTURé | M60: =L58+L59 -> 21.67
B61: 13.04.2017 | I61: 36151 | J61: 36151 | K61: =IF(ISNUMBER(B61),"",CONVERT(J61,"g","kg")) -> 36.151 | M61: =IF(K61=0,0,IF(K61<=9,7.55,IF(K61<=15,9.42,IF(K61<=20,10.97,IF(K61<=27,12.25,IF(K61<=34,13.62,IF(K61<=39,15.33,IF(K61<=44,17.21,IF(K61<=49,17.31,IF(K61<=59,17.51,IF(K61<=69,20,IF(K61<=79,23.21,IF(K61<=89,22.7,IF(K61<=99.99,22.59,IF(K61<=499,22.54,IF(K61<=999,22.44,IF(K61<=25000,21.42,""))))))))))))))))) -> 15.33
A62: DIFFERENCE | N62: =M61-M60 -> -6.34
A65: 70400101 | B65: 14 | C65: 04 | D65: 17 | E65: 1235208 | F65: ETAM PAP | G65: 1847 ETAM PAP MAUREPAS | H65: MAUREPAS | I65: 78 | J65: 1 | K65: 11 | L65: 9.42
A66: 70400082 | B66: 14 | C66: 04 | D66: 17 | E66: 1235368 | F66: ETAM LINGERIE | G66: 1847 LINGERIE MAUREPAS | H66: MAUREPAS | I66: 78 | J66: 4 | K66: 11 | L66: 9.42
A67: TOTAL FACTURé | M67: =L65+L66 -> 18.84
B68: 14.04.2017 | I68: 23687 | J68: 23687 | K68: =IF(ISNUMBER(B68),"",CONVERT(J68,"g","kg")) -> 23.687 | M68: =IF(K68=0,0,IF(K68<=9,7.55,IF(K68<=15,9.42,IF(K68<=20,10.97,IF(K68<=27,12.25,IF(K68<=34,13.62,IF(K68<=39,15.33,IF(K68<=44,17.21,IF(K68<=49,17.31,IF(K68<=59,17.51,IF(K68<=69,20,IF(K68<=79,23.21,IF(K68<=89,22.7,IF(K68<=99.99,22.59,IF(K68<=499,22.54,IF(K68<=999,22.44,IF(K68<=25000,21.42,""))))))))))))))))) -> 12.25
A69: DIFFERENCE | N69: =M68-M67 -> -6.59
A72: 70400101 | B72: 18 | C72: 04 | D72: 17 | E72: 1236272 | F72: ETAM PAP | G72: 1847 ETAM PAP MAUREPAS | H72: MAUREPAS | I72: 78 | J72: 3 | K72: 31 | L72: 13.62
A73: 70400082 | B73: 18 | C73: 04 | D73: 17 | E73: 1236843 | F73: ETAM LINGERIE | G73: 1847 LINGERIE MAUREPAS | H73: MAUREPAS | I73: 78 | J73: 4 | K73: 19 | L73: 10.97
A74: TOTAL FACTURé | M74: =L72+L73 -> 24.59
B75: 18.04.2017 | I75: 54500 | J75: 54500 | K75: =IF(ISNUMBER(B75),"",CONVERT(J75,"g","kg")) -> 54.5 | M75: =IF(K75=0,0,IF(K75<=9,7.55,IF(K75<=15,9.42,IF(K75<=20,10.97,IF(K75<=27,12.25,IF(K75<=34,13.62,IF(K75<=39,15.33,IF(K75<=44,17.21,IF(K75<=49,17.31,IF(K75<=59,17.51,IF(K75<=69,20,IF(K75<=79,23.21,IF(K75<=89,22.7,IF(K75<=99.99,22.59,IF(K75<=499,22.54,IF(K75<=999,22.44,IF(K75<=25000,21.42,""))))))))))))))))) -> 17.51
A76: DIFFERENCE | N76: =M75-M74 -> -7.08
A79: 70400101 | B79: 19 | C79: 04 | D79: 17 | E79: 1237784 | F79: ETAM PAP | G79: 1847 ETAM PAP MAUREPAS | H79: MAUREPAS | I79: 78 | J79: 4 | K79: 32 | L79: 13.62
A80: 70400082 | B80: 19 | C80: 04 | D80: 17 | E80: 1238233 | F80: ETAM LINGERIE | G80: 1847 LINGERIE MAUREPAS | H80: MAUREPAS | I80: 78 | J80: 2 | K80: 2 | L80: 7.55
A81: TOTAL FACTURé | M81: =L79+L80 -> 21.17
B82: 19.04.2017 | I82: 34739 | J82: 34739 | K82: =IF(ISNUMBER(B82),"",CONVERT(J82,"g","kg")) -> 34.739 | M82: =IF(K82=0,0,IF(K82<=9,7.55,IF(K82<=15,9.42,IF(K82<=20,10.97,IF(K82<=27,12.25,IF(K82<=34,13.62,IF(K82<=39,15.33,IF(K82<=44,17.21,IF(K82<=49,17.31,IF(K82<=59,17.51,IF(K82<=69,20,IF(K82<=79,23.21,IF(K82<=89,22.7,IF(K82<=99.99,22.59,IF(K82<=499,22.54,IF(K82<=999,22.44,IF(K82<=25000,21.42,""))))))))))))))))) -> 15.33
A83: DIFFERENCE | N83: =M82-M81 -> -5.84
A86: 70400101 | B86: 20 | C86: 04 | D86: 17 | E86: 1239464 | F86: ETAM PAP | G86: 1847 ETAM PAP MAUREPAS | H86: MAUREPAS | I86: 78 | J86: 3 | K86: 15 | L86: 10.97
A87: 70400082 | B87: 20 | C87: 04 | D87: 17 | E87: 1239632 | F87: ETAM LINGERIE | G87: 1847 LINGERIE MAUREPAS | H87: MAUREPAS | I87: 78 | J87: 3 | K87: 13 | L87: 9.42
A88: TOTAL FACTURé | M88: =L86+L87 -> 20.39
B89: 20.04.2017 | I89: 29529 | J89: 29529 | K89: =IF(ISNUMBER(B89),"",CONVERT(J89,"g","kg")) -> 29.529 | M89: =IF(K89=0,0,IF(K89<=9,7.55,IF(K89<=15,9.42,IF(K89<=20,10.97,IF(K89<=27,12.25,IF(K89<=34,13.62,IF(K89<=39,15.33,IF(K89<=44,17.21,IF(K89<=49,17.31,IF(K89<=59,17.51,IF(K89<=69,20,IF(K89<=79,23.21,IF(K89<=89,22.7,IF(K89<=99.99,22.59,IF(K89<=499,22.54,IF(K89<=999,22.44,IF(K89<=25000,21.42,""))))))))))))))))) -> 13.62
A90: DIFFERENCE | N90: =M89-M88 -> -6.77
A93: 70400101 | B93: 21 | C93: 04 | D93: 17 | E93: 1240711 | F93: ETAM PAP | G93: 1847 ETAM PAP MAUREPAS | H93: MAUREPAS | I93: 78 | J93: 3 | K93: 17 | L93: 10.97
A94: 70400082 | B94: 21 | C94: 04 | D94: 17 | E94: 1240854 | F94: ETAM LINGERIE | G94: 1847 LINGERIE MAUREPAS | H94: MAUREPAS | I94: 78 | J94: 1 | K94: 2 | L94: 7.55
A95: TOTAL FACTURé | M95: =L93+L94 -> 18.52
B96: 21.04.2017 | I96: 21672 | J96: 21672 | K96: =IF(ISNUMBER(B96),"",CONVERT(J96,"g","kg")) -> 21.672 | M96: =IF(K96=0,0,IF(K96<=9,7.55,IF(K96<=15,9.42,IF(K96<=20,10.97,IF(K96<=27,12.25,IF(K96<=34,13.62,IF(K96<=39,15.33,IF(K96<=44,17.21,IF(K96<=49,17.31,IF(K96<=59,17.51,IF(K96<=69,20,IF(K96<=79,23.21,IF(K96<=89,22.7,IF(K96<=99.99,22.59,IF(K96<=499,22.54,IF(K96<=999,22.44,IF(K96<=25000,21.42,""))))))))))))))))) -> 12.25
A97: DIFFERENCE | N97: =M96-M95 -> -6.27
A100: 70400101 | B100: 24 | C100: 04 | D100: 17 | E100: 1242082 | F100: ETAM PAP | G100: 1847 ETAM PAP MAUREPAS | H100: MAUREPAS | I100: 78 | J100: 8 | K100: 63 | L100: 20
A101: 70400082 | B101: 24 | C101: 04 | D101: 17 | E101: 1242350 | F101: ETAM LINGERIE | G101: 1847 LINGERIE MAUREPAS | H101: MAUREPAS | I101: 78 | J101: 4 | K101: 11 | L101: 9.42
A102: TOTAL FACTURé | M102: =L100+L101 -> 29.42
B103: 24.04.2017 | I103: 76533 | J103: 76533 | K103: =IF(ISNUMBER(B103),"",CONVERT(J103,"g","kg")) -> 76.533 | M103: =IF(K103=0,0,IF(K103<=9,7.55,IF(K103<=15,9.42,IF(K103<=20,10.97,IF(K103<=27,12.25,IF(K103<=34,13.62,IF(K103<=39,15.33,IF(K103<=44,17.21,IF(K103<=49,17.31,IF(K103<=59,17.51,IF(K103<=69,20,IF(K103<=79,23.21,IF(K103<=89,22.7,IF(K103<=99.99,22.59,IF(K103<=499,22.54,IF(K103<=999,22.44,IF(K103<=25000,21.42,""))))))))))))))))) -> 23.21
A104: DIFFERENCE | N104: =M103-M102 -> -6.21
A107: 70400101 | B107: 25 | C107: 04 | D107: 17 | E107: 1243448 | F107: ETAM PAP | G107: 1847 ETAM PAP MAUREPAS | H107: MAUREPAS | I107: 78 | J107: 6 | K107: 52 | L107: 17.51
A108: 70400082 | B108: 25 | C108: 04 | D108: 17 | E108: 1243672 | F108: ETAM LINGERIE | G108: 1847 LINGERIE MAUREPAS | H108: MAUREPAS | I108: 78 | J108: 4 | K108: 11 | L108: 9.42
A109: TOTAL FACTURé | M109: =L107+L108 -> 26.93
B110: 25.04.2017 | I110: 65062 | J110: 65062 | K110: =IF(ISNUMBER(B110),"",CONVERT(J110,"g","kg")) -> 65.062 | M110: =IF(K110=0,0,IF(K110<=9,7.55,IF(K110<=15,9.42,IF(K110<=20,10.97,IF(K110<=27,12.25,IF(K110<=34,13.62,IF(K110<=39,15.33,IF(K110<=44,17.21,IF(K110<=49,17.31,IF(K110<=59,17.51,IF(K110<=69,20,IF(K110<=79,23.21,IF(K110<=89,22.7,IF(K110<=99.99,22.59,IF(K110<=499,22.54,IF(K110<=999,22.44,IF(K110<=25000,21.42,""))))))))))))))))) -> 20
A111: DIFFERENCE | N111: =M110-M109 -> -6.93
A114: 70400101 | B114: 26 | C114: 04 | D114: 17 | E114: 1244246 | F114: ETAM PAP | G114: 1847 ETAM PAP MAUREPAS | H114: MAUREPAS | I114: 78 | J114: 3 | K114: 16 | L114: 10.97
A115: 70400082 | B115: 26 | C115: 04 | D115: 17 | E115: 1245177 | F115: ETAM LINGERIE | G115: 1847 LINGERIE MAUREPAS | H115: MAUREPAS | I115: 78 | J115: 2 | K115: 4 | L115: 7.55
A116: TOTAL FACTURé | M116: =L114+L115 -> 18.52
B117: 26.04.2017 | I117: 21881 | J117: 21881 | K117: =IF(ISNUMBER(B117),"",CONVERT(J117,"g","kg")) -> 21.881 | M117: =IF(K117=0,0,IF(K117<=9,7.55,IF(K117<=15,9.42,IF(K117<=20,10.97,IF(K117<=27,12.25,IF(K117<=34,13.62,IF(K117<=39,15.33,IF(K117<=44,17.21,IF(K117<=49,17.31,IF(K117<=59,17.51,IF(K117<=69,20,IF(K117<=79,23.21,IF(K117<=89,22.7,IF(K117<=99.99,22.59,IF(K117<=499,22.54,IF(K117<=999,22.44,IF(K117<=25000,21.42,""))))))))))))))))) -> 12.25
A118: DIFFERENCE | N118: =M117-M116 -> -6.27
A121: 70400101 | B121: 27 | C121: 04 | D121: 17 | E121: 1246247 | F121: ETAM PAP | G121: 1847 ETAM PAP MAUREPAS | H121: MAUREPAS | I121: 78 | J121: 4 | K121: 32 | L121: 13.62
A122: 70400082 | B122: 27 | C122: 04 | D122: 17 | E122: 1246560 | F122: ETAM LINGERIE | G122: 1847 LINGERIE MAUREPAS | H122: MAUREPAS | I122: 78 | J122: 4 | K122: 16 | L122: 10.97
A123: TOTAL FACTURé | M123: =L121+L122 -> 24.59
B124: 27.04.2017 | I124: 49986 | J124: 49986 | K124: =IF(ISNUMBER(B124),"",CONVERT(J124,"g","kg")) -> 49.986 | M124: =IF(K124=0,0,IF(K124<=9,7.55,IF(K124<=15,9.42,IF(K124<=20,10.97,IF(K124<=27,12.25,IF(K124<=34,13.62,IF(K124<=39,15.33,IF(K124<=44,17.21,IF(K124<=49,17.31,IF(K124<=59,17.51,IF(K124<=69,20,IF(K124<=79,23.21,IF(K124<=89,22.7,IF(K124<=99.99,22.59,IF(K124<=499,22.54,IF(K124<=999,22.44,IF(K124<=25000,21.42,""))))))))))))))))) -> 17.51
A125: DIFFERENCE | N125: =M124-M123 -> -7.08
A128: 70400101 | B128: 28 | C128: 04 | D128: 17 | E128: 1247619 | F128: ETAM PAP | G128: 1847 ETAM PAP MAUREPAS | H128: MAUREPAS | I128: 78 | J128: 3 | K128: 29 | L128: 13.62
A129: 70400082 | B129: 28 | C129: 04 | D129: 17 | E129: 1247710 | F129: ETAM LINGERIE | G129: 1847 LINGERIE MAUREPAS | H129: MAUREPAS | I129: 78 | J129: 2 | K129: 4 | L129: 7.55
A130: TOTAL FACTURé | M130: =L128+L129 -> 21.17
B131: 28.04.2017
A132: DIFFERENCE | N132: =M131-M130 -> -21.17
A135: TOTAL TROP PERCU : | L135: =SUM(L2:L134) -> 437.14 | N135: =SUM(N1:N134) -> -138.83

Sheet 1855
A1: FACTURE | B1: JOUR | C1: MOIS | D1: ANNEE | E1: RECEP | F1: EXP | G1: DEST | H1: VILLES | I1: DEPTS | J1: COLIS | K1: POIDS | L1: TARIFS
A2: 70400082 | B2: 03 | C2: 04 | D2: 17 | E2: 1222991 | F2: ETAM LINGERIE | G2: 1855 LINGERIE PARIS RENNES | H2: PARIS 06 | I2: 75 | J2: 8 | K2: 62 | L2: 20
A3: 70400101 | B3: 03 | C3: 04 | D3: 17 | E3: 1223242 | F3: INVESTINT PAP | G3: 1855 ETAM PAP PARIS RENNES | H3: PARIS 14 | I3: 75 | J3: 6 | K3: 30 | L3: 13.62
A4: TOTAL FACTURé | M4: =L2+L3 -> 33.62
B5: 03.04.2017 | I5: 120207 | J5: 120207 | K5: =IF(ISNUMBER(B5),"",CONVERT(J5,"g","kg")) -> 120.207 | M5: =IF(K5=0,0,IF(K5<=9,7.55,IF(K5<=15,9.42,IF(K5<=20,10.97,IF(K5<=27,12.25,IF(K5<=34,13.62,IF(K5<=39,15.33,IF(K5<=44,17.21,IF(K5<=49,17.31,IF(K5<=59,17.51,IF(K5<=69,20,IF(K5<=79,23.21,IF(K5<=89,22.7,IF(K5<=99.99,22.59,IF(K5<=499,22.54,IF(K5<=999,22.44,IF(K5<=25000,21.42,""))))))))))))))))) -> 22.54
A6: DIFFERENCE | N6: =M5-M4 -> -11.08
A9: 70400082 | B9: 04 | C9: 04 | D9: 17 | E9: 1224446 | F9: ETAM LINGERIE | G9: 1855 LINGERIE PARIS RENNES | H9: PARIS 06 | I9: 75 | J9: 19 | K9: 118 | L9: 26.75
A10: 70400101 | B10: 04 | C10: 04 | D10: 17 | E10: 1224669 | F10: INVESTINT PAP | G10: 1855 ETAM PAP PARIS RENNES | H10: PARIS 14 | I10: 75 | J10: 10 | K10: 100 | L10: 22.54
A11: TOTAL FACTURé | M11: =L9+L10 -> 49.29
B12: 04.04.2017 | I12: 203031 | J12: 203031 | K12: =IF(ISNUMBER(B12),"",CONVERT(J12,"g","kg")) -> 203.031 | M12: =IF(K12=0,0,IF(K12<=9,7.55,IF(K12<=15,9.42,IF(K12<=20,10.97,IF(K12<=27,12.25,IF(K12<=34,13.62,IF(K12<=39,15.33,IF(K12<=44,17.21,IF(K12<=49,17.31,IF(K12<=59,17.51,IF(K12<=69,20,IF(K12<=79,23.21,IF(K12<=89,22.7,IF(K12<=99.99,22.59,IF(K12<=499,22.54,IF(K12<=999,22.44,IF(K12<=25000,21.42,""))))))))))))))))) -> 22.54
A13: DIFFERENCE | N13: =M12-M11 -> -26.75
A16: 70400082 | B16: 05 | C16: 04 | D16: 17 | E16: 1225594 | F16: ETAM LINGERIE | G16: 1855 LINGERIE PARIS RENNES | H16: PARIS 06 | I16: 75 | J16: 10 | K16: 66 | L16: 20
A17: 70400101 | B17: 05 | C17: 04 | D17: 17 | E17: 1225830 | F17: INVESTINT PAP | G17: 1855 ETAM PAP PARIS RENNES | H17: PARIS 14 | I17: 75 | J17: 5 | K17: 25 | L17: 12.25
A18: TOTAL FACTURé | M18: =L16+L17 -> 32.25
B19: 05.04.2017 | I19: 109704 | J19: 109704 | K19: =IF(ISNUMBER(B19),"",CONVERT(J19,"g","kg")) -> 109.704 | M19: =IF(K19=0,0,IF(K19<=9,7.55,IF(K19<=15,9.42,IF(K19<=20,10.97,IF(K19<=27,12.25,IF(K19<=34,13.62,IF(K19<=39,15.33,IF(K19<=44,17.21,IF(K19<=49,17.31,IF(K19<=59,17.51,IF(K19<=69,20,IF(K19<=79,23.21,IF(K19<=89,22.7,IF(K19<=99.99,22.59,IF(K19<=499,22.54,IF(K19<=999,22.44,IF(K19<=25000,21.42,""))))))))))))))))) -> 22.54
A20: DIFFERENCE | N20: =M19-M18 -> -9.71
A23: 70400082 | B23: 06 | C23: 04 | D23: 17 | E23: 1227009 | F23: ETAM LINGERIE | G23: 1855 LINGERIE PARIS RENNES | H23: PARIS 06 | I23: 75 | J23: 15 | K23: 94 | L23: 22.59
A24: 70400101 | B24: 06 | C24: 04 | D24: 17 | E24: 1226855 | F24: ETAM PAP | G24: 1855 ETAM PAP PARIS RENNES | H24: PARIS 14 | I24: 75 | J24: 5 | K24: 46 | L24: 17.31
A25: TOTAL FACTURé | M25: =L23+L24 -> 39.9
B26: 06.04.2017 | I26: 142053 | J26: 142053 | K26: =IF(ISNUMBER(B26),"",CONVERT(J26,"g","kg")) -> 142.053 | M26: =IF(K26=0,0,IF(K26<=9,7.55,IF(K26<=15,9.42,IF(K26<=20,10.97,IF(K26<=27,12.25,IF(K26<=34,13.62,IF(K26<=39,15.33,IF(K26<=44,17.21,IF(K26<=49,17.31,IF(K26<=59,17.51,IF(K26<=69,20,IF(K26<=79,23.21,IF(K26<=89,22.7,IF(K26<=99.99,22.59,IF(K26<=499,22.54,IF(K26<=999,22.44,IF(K26<=25000,21.42,""))))))))))))))))) -> 22.54
A27: DIFFERENCE | N27: =M26-M25 -> -17.36
A30: 70400082 | B30: 07 | C30: 04 | D30: 17 | E30: 1228496 | F30: ETAM LINGERIE | G30: 1855 LINGERIE PARIS RENNES | H30: PARIS 06 | I30: 75 | J30: 9 | K30: 55 | L30: 17.51
A31: 70400101 | B31: 07 | C31: 04 | D31: 17 | E31: 1228151 | F31: ETAM PAP | G31: 1855 ETAM PAP PARIS RENNES | H31: PARIS 14 | I31: 75 | J31: 5 | K31: 41 | L31: 17.21
A32: TOTAL FACTURé | M32: =L30+L31 -> 34.72
B33: 07.04.2017 | I33: 99486 | J33: 99486 | K33: =IF(ISNUMBER(B33),"",CONVERT(J33,"g","kg")) -> 99.486 | M33: =IF(K33=0,0,IF(K33<=9,7.55,IF(K33<=15,9.42,IF(K33<=20,10.97,IF(K33<=27,12.25,IF(K33<=34,13.62,IF(K33<=39,15.33,IF(K33<=44,17.21,IF(K33<=49,17.31,IF(K33<=59,17.51,IF(K33<=69,20,IF(K33<=79,23.21,IF(K33<=89,22.7,IF(K33<=99.99,22.59,IF(K33<=499,22.54,IF(K33<=999,22.44,IF(K33<=25000,21.42,""))))))))))))))))) -> 22.59
A34: DIFFERENCE | N34: =M33-M32 -> -12.13
A37: 70400082 | B37: 10 | C37: 04 | D37: 17 | E37: 1230094 | F37: ETAM LINGERIE | G37: 1855 LINGERIE PARIS RENNES | H37: PARIS 06 | I37: 75 | J37: 14 | K37: 79 | L37: 22.7
A38: 70400101 | B38: 10 | C38: 04 | D38: 17 | E38: 1229833 | F38: ETAM PAP | G38: 1855 ETAM PAP PARIS RENNES | H38: PARIS 14 | I38: 75 | J38: 6 | K38: 60 | L38: 20
A39: TOTAL FACTURé | M39: =L37+L38 -> 42.7
B40: 10.04.2017 | I40: 147009 | J40: 147009 | K40: =IF(ISNUMBER(B40),"",CONVERT(J40,"g","kg")) -> 147.009 | M40: =IF(K40=0,0,IF(K40<=9,7.55,IF(K40<=15,9.42,IF(K40<=20,10.97,IF(K40<=27,12.25,IF(K40<=34,13.62,IF(K40<=39,15.33,IF(K40<=44,17.21,IF(K40<=49,17.31,IF(K40<=59,17.51,IF(K40<=69,20,IF(K40<=79,23.21,IF(K40<=89,22.7,IF(K40<=99.99,22.59,IF(K40<=499,22.54,IF(K40<=999,22.44,IF(K40<=25000,21.42,""))))))))))))))))) -> 22.54
A41: DIFFERENCE | N41: =M40-M39 -> -20.16
A44: 70400082 | B44: 11 | C44: 04 | D44: 17 | E44: 1231424 | F44: ETAM LINGERIE | G44: 1855 LINGERIE PARIS RENNES | H44: PARIS 06 | I44: 75 | J44: 15 | K44: 89 | L44: 22.59
A45: 70400101 | B45: 11 | C45: 04 | D45: 17 | E45: 1231315 | F45: ETAM PAP | G45: 1855 ETAM PAP PARIS RENNES | H45: PARIS 14 | I45: 75 | J45: 5 | K45: 44 | L45: 17.31
A46: TOTAL FACTURé | M46: =L44+L45 -> 39.9
B47: 11.04.2017 | I47: 135844 | J47: 135844 | K47: =IF(ISNUMBER(B47),"",CONVERT(J47,"g","kg")) -> 135.844 | M47: =IF(K47=0,0,IF(K47<=9,7.55,IF(K47<=15,9.42,IF(K47<=20,10.97,IF(K47<=27,12.25,IF(K47<=34,13.62,IF(K47<=39,15.33,IF(K47<=44,17.21,IF(K47<=49,17.31,IF(K47<=59,17.51,IF(K47<=69,20,IF(K47<=79,23.21,IF(K47<=89,22.7,IF(K47<=99.99,22.59,IF(K47<=499,22.54,IF(K47<=999,22.44,IF(K47<=25000,21.42,""))))))))))))))))) -> 22.54
A48: DIFFERENCE | N48: =M47-M46 -> -17.36
A51: 70400082 | B51: 12 | C51: 04 | D51: 17 | E51: 1232725 | F51: ETAM LINGERIE | G51: 1855 LINGERIE PARIS RENNES | H51: PARIS 06 | I51: 75 | J51: 11 | K51: 73 | L51: 23.21
A52: 70400101 | B52: 12 | C52: 04 | D52: 17 | E52: 1232275 | F52: ETAM PAP | G52: 1855 ETAM PAP PARIS RENNES | H52: PARIS 14 | I52: 75 | J52: 4 | K52: 37 | L52: 15.33
A53: TOTAL FACTURé | M53: =L51+L52 -> 38.54
B54: 12.04.2017 | I54: 116506 | J54: 116506 | K54: =IF(ISNUMBER(B54),"",CONVERT(J54,"g","kg")) -> 116.506 | M54: =IF(K54=0,0,IF(K54<=9,7.55,IF(K54<=15,9.42,IF(K54<=20,10.97,IF(K54<=27,12.25,IF(K54<=34,13.62,IF(K54<=39,15.33,IF(K54<=44,17.21,IF(K54<=49,17.31,IF(K54<=59,17.51,IF(K54<=69,20,IF(K54<=79,23.21,IF(K54<=89,22.7,IF(K54<=99.99,22.59,IF(K54<=499,22.54,IF(K54<=999,22.44,IF(K54<=25000,21.42,""))))))))))))))))) -> 22.54
A55: DIFFERENCE | N55: =M54-M53 -> -16
A58: 70400082 | B58: 13 | C58: 04 | D58: 17 | E58: 1234178 | F58: ETAM LINGERIE | G58: 1855 LINGERIE PARIS RENNES | H58: PARIS 06 | I58: 75 | J58: 10 | K58: 64 | L58: 20
A59: 70400101 | B59: 13 | C59: 04 | D59: 17 | E59: 1233918 | F59: ETAM PAP | G59: 1855 ETAM PAP PARIS RENNES | H59: PARIS 14 | I59: 75 | J59: 5 | K59: 38 | L59: 15.33
A60: TOTAL FACTURé | M60: =L58+L59 -> 35.33
B61: 13.04.2017 | I61: 104560 | J61: 104560 | K61: =IF(ISNUMBER(B61),"",CONVERT(J61,"g","kg")) -> 104.56 | M61: =IF(K61=0,0,IF(K61<=9,7.55,IF(K61<=15,9.42,IF(K61<=20,10.97,IF(K61<=27,12.25,IF(K61<=34,13.62,IF(K61<=39,15.33,IF(K61<=44,17.21,IF(K61<=49,17.31,IF(K61<=59,17.51,IF(K61<=69,20,IF(K61<=79,23.21,IF(K61<=89,22.7,IF(K61<=99.99,22.59,IF(K61<=499,22.54,IF(K61<=999,22.44,IF(K61<=25000,21.42,""))))))))))))))))) -> 22.54
A62: DIFFERENCE | N62: =M61-M60 -> -12.79
A65: 70400082 | B65: 14 | C65: 04 | D65: 17 | E65: 1235350 | F65: ETAM LINGERIE | G65: 1855 LINGERIE PARIS RENNES | H65: PARIS 06 | I65: 75 | J65: 10 | K65: 51 | L65: 17.51
A66: 70400101 | B66: 14 | C66: 04 | D66: 17 | E66: 1235197 | F66: ETAM PAP | G66: 1855 ETAM PAP PARIS RENNES | H66: PARIS 14 | I66: 75 | J66: 2 | K66: 19 | L66: 10.97
A67: TOTAL FACTURé | M67: =L65+L66 -> 28.48
B68: 14.04.2017 | I68: 72587 | J68: 72587 | K68: =IF(ISNUMBER(B68),"",CONVERT(J68,"g","kg")) -> 72.587 | M68: =IF(K68=0,0,IF(K68<=9,7.55,IF(K68<=15,9.42,IF(K68<=20,10.97,IF(K68<=27,12.25,IF(K68<=34,13.62,IF(K68<=39,15.33,IF(K68<=44,17.21,IF(K68<=49,17.31,IF(K68<=59,17.51,IF(K68<=69,20,IF(K68<=79,23.21,IF(K68<=89,22.7,IF(K68<=99.99,22.59,IF(K68<=499,22.54,IF(K68<=999,22.44,IF(K68<=25000,21.42,""))))))))))))))))) -> 23.21
A69: DIFFERENCE | N69: =M68-M67 -> -5.27
A72: 70400082 | B72: 18 | C72: 04 | D72: 17 | E72: 1236827 | F72: ETAM LINGERIE | G72: 1855 LINGERIE PARIS RENNES | H72: PARIS 06 | I72: 75 | J72: 12 | K72: 75 | L72: 23.21
A73: 70400101 | B73: 18 | C73: 04 | D73: 17 | E73: 1236261 | F73: ETAM PAP | G73: 1855 ETAM PAP PARIS RENNES | H73: PARIS 14 | I73: 75 | J73: 6 | K73: 59 | L73: 20
A74: TOTAL FACTURé | M74: =L72+L73 -> 43.21
B75: 18.04.2017 | I75: 143398 | J75: 143398 | K75: =IF(ISNUMBER(B75),"",CONVERT(J75,"g","kg")) -> 143.398 | M75: =IF(K75=0,0,IF(K75<=9,7.55,IF(K75<=15,9.42,IF(K75<=20,10.97,IF(K75<=27,12.25,IF(K75<=34,13.62,IF(K75<=39,15.33,IF(K75<=44,17.21,IF(K75<=49,17.31,IF(K75<=59,17.51,IF(K75<=69,20,IF(K75<=79,23.21,IF(K75<=89,22.7,IF(K75<=99.99,22.59,IF(K75<=499,22.54,IF(K75<=999,22.44,IF(K75<=25000,21.42,""))))))))))))))))) -> 22.54
A76: DIFFERENCE | N76: =M75-M74 -> -20.67
A79: 70400082 | B79: 19 | C79: 04 | D79: 17 | E79: 1238216 | F79: ETAM LINGERIE | G79: 1855 LINGERIE PARIS RENNES | H79: PARIS 06 | I79: 75 | J79: 13 | K79: 58 | L79: 17.51
A80: 70400101 | B80: 19 | C80: 04 | D80: 17 | E80: 1237773 | F80: ETAM PAP | G80: 1855 ETAM PAP PARIS RENNES | H80: PARIS 14 | I80: 75 | J80: 5 | K80: 45 | L80: 17.31
A81: TOTAL FACTURé | M81: =L79+L80 -> 34.82
B82: 19.04.2017 | I82: 103776 | J82: 103776 | K82: =IF(ISNUMBER(B82),"",CONVERT(J82,"g","kg")) -> 103.776 | M82: =IF(K82=0,0,IF(K82<=9,7.55,IF(K82<=15,9.42,IF(K82<=20,10.97,IF(K82<=27,12.25,IF(K82<=34,13.62,IF(K82<=39,15.33,IF(K82<=44,17.21,IF(K82<=49,17.31,IF(K82<=59,17.51,IF(K82<=69,20,IF(K82<=79,23.21,IF(K82<=89,22.7,IF(K82<=99.99,22.59,IF(K82<=499,22.54,IF(K82<=999,22.44,IF(K82<=25000,21.42,""))))))))))))))))) -> 22.54
A83: DIFFERENCE | N83: =M82-M81 -> -12.28
A86: 70400082 | B86: 20 | C86: 04 | D86: 17 | E86: 1239616 | F86: ETAM LINGERIE | G86: 1855 LINGERIE PARIS RENNES | H86: PARIS 06 | I86: 75 | J86: 12 | K86: 68 | L86: 20
A87: 70400101 | B87: 20 | C87: 04 | D87: 17 | E87: 1239453 | F87: ETAM PAP | G87: 1855 ETAM PAP PARIS RENNES | H87: PARIS 14 | I87: 75 | J87: 3 | K87: 18 | L87: 10.97
A88: TOTAL FACTURé | M88: =L86+L87 -> 30.97
B89: 20.04.2017 | I89: 89297 | J89: 89297 | K89: =IF(ISNUMBER(B89),"",CONVERT(J89,"g","kg")) -> 89.297 | M89: =IF(K89=0,0,IF(K89<=9,7.55,IF(K89<=15,9.42,IF(K89<=20,10.97,IF(K89<=27,12.25,IF(K89<=34,13.62,IF(K89<=39,15.33,IF(K89<=44,17.21,IF(K89<=49,17.31,IF(K89<=59,17.51,IF(K89<=69,20,IF(K89<=79,23.21,IF(K89<=89,22.7,IF(K89<=99.99,22.59,IF(K89<=499,22.54,IF(K89<=999,22.44,IF(K89<=25000,21.42,""))))))))))))))))) -> 22.59
A90: DIFFERENCE | N90: =M89-M88 -> -8.38
A93: 70400082 | B93: 21 | C93: 04 | D93: 17 | E93: 1240895 | F93: ETAM LINGERIE | G93: 1855 LINGERIE PARIS RENNES | H93: PARIS 06 | I93: 75 | J93: 8 | K93: 41 | L93: 17.21
A94: 70400101 | B94: 21 | C94: 04 | D94: 17 | E94: 1240700 | F94: ETAM PAP | G94: 1855 ETAM PAP PARIS RENNES | H94: PARIS 14 | I94: 75 | J94: 4 | K94: 16 | L94: 10.97
A95: TOTAL FACTURé | M95: =L93+L94 -> 28.18
B96: 21.04.2017 | I96: 60054 | J96: 60054 | K96: =IF(ISNUMBER(B96),"",CONVERT(J96,"g","kg")) -> 60.054 | M96: =IF(K96=0,0,IF(K96<=9,7.55,IF(K96<=15,9.42,IF(K96<=20,10.97,IF(K96<=27,12.25,IF(K96<=34,13.62,IF(K96<=39,15.33,IF(K96<=44,17.21,IF(K96<=49,17.31,IF(K96<=59,17.51,IF(K96<=69,20,IF(K96<=79,23.21,IF(K96<=89,22.7,IF(K96<=99.99,22.59,IF(K96<=499,22.54,IF(K96<=999,22.44,IF(K96<=25000,21.42,""))))))))))))))))) -> 20
A97: DIFFERENCE | N97: =M96-M95 -> -8.18
A100: 70400082 | B100: 24 | C100: 04 | D100: 17 | E100: 1242333 | F100: ETAM LINGERIE | G100: 1855 LINGERIE PARIS RENNES | H100: PARIS 06 | I100: 75 | J100: 16 | K100: 76 | L100: 23.21
A101: 70400101 | B101: 24 | C101: 04 | D101: 17 | E101: 1242069 | F101: ETAM PAP | G101: 1855 ETAM PAP PARIS RENNES | H101: PARIS 14 | I101: 75 | J101: 6 | K101: 44 | L101: 17.31
A102: TOTAL FACTURé | M102: =L100+L101 -> 40.52
B103: 24.04.2017 | I103: 124776 | J103: 124776 | K103: =IF(ISNUMBER(B103),"",CONVERT(J103,"g","kg")) -> 124.776 | M103: =IF(K103=0,0,IF(K103<=9,7.55,IF(K103<=15,9.42,IF(K103<=20,10.97,IF(K103<=27,12.25,IF(K103<=34,13.62,IF(K103<=39,15.33,IF(K103<=44,17.21,IF(K103<=49,17.31,IF(K103<=59,17.51,IF(K103<=69,20,IF(K103<=79,23.21,IF(K103<=89,22.7,IF(K103<=99.99,22.59,IF(K103<=499,22.54,IF(K103<=999,22.44,IF(K103<=25000,21.42,""))))))))))))))))) -> 22.54
A104: DIFFERENCE | N104: =M103-M102 -> -17.98
A107: 70400082 | B107: 25 | C107: 04 | D107: 17 | E107: 1243656 | F107: ETAM LINGERIE | G107: 1855 LINGERIE PARIS RENNES | H107: PARIS 06 | I107: 75 | J107: 13 | K107: 82 | L107: 22.7
A108: 70400101 | B108: 25 | C108: 04 | D108: 17 | E108: 1243437 | F108: ETAM PAP | G108: 1855 ETAM PAP PARIS RENNES | H108: PARIS 14 | I108: 75 | J108: 6 | K108: 56 | L108: 17.51
A109: TOTAL FACTURé | M109: =L107+L108 -> 40.21
B110: 25.04.2017 | I110: 139608 | J110: 139608 | K110: =IF(ISNUMBER(B110),"",CONVERT(J110,"g","kg")) -> 139.608 | M110: =IF(K110=0,0,IF(K110<=9,7.55,IF(K110<=15,9.42,IF(K110<=20,10.97,IF(K110<=27,12.25,IF(K110<=34,13.62,IF(K110<=39,15.33,IF(K110<=44,17.21,IF(K110<=49,17.31,IF(K110<=59,17.51,IF(K110<=69,20,IF(K110<=79,23.21,IF(K110<=89,22.7,IF(K110<=99.99,22.59,IF(K110<=499,22.54,IF(K110<=999,22.44,IF(K110<=25000,21.42,""))))))))))))))))) -> 22.54
A111: DIFFERENCE | N111: =M110-M109 -> -17.67
A114: 70400082 | B114: 26 | C114: 04 | D114: 17 | E114: 1245160 | F114: ETAM LINGERIE | G114: 1855 LINGERIE PARIS RENNES | H114: PARIS 06 | I114: 75 | J114: 8 | K114: 45 | L114: 17.31
A115: 70400101 | B115: 26 | C115: 04 | D115: 17 | E115: 1244235 | F115: ETAM PAP | G115: 1855 ETAM PAP PARIS RENNES | H115: PARIS 14 | I115: 75 | J115: 3 | K115: 17 | L115: 10.97
A116: TOTAL FACTURé | M116: =L114+L115 -> 28.28
B117: 26.04.2017 | I117: 66494 | J117: 66494 | K117: =IF(ISNUMBER(B117),"",CONVERT(J117,"g","kg")) -> 66.494 | M117: =IF(K117=0,0,IF(K117<=9,7.55,IF(K117<=15,9.42,IF(K117<=20,10.97,IF(K117<=27,12.25,IF(K117<=34,13.62,IF(K117<=39,15.33,IF(K117<=44,17.21,IF(K117<=49,17.31,IF(K117<=59,17.51,IF(K117<=69,20,IF(K117<=79,23.21,IF(K117<=89,22.7,IF(K117<=99.99,22.59,IF(K117<=499,22.54,IF(K117<=999,22.44,IF(K117<=25000,21.42,""))))))))))))))))) -> 20
A118: DIFFERENCE | N118: =M117-M116 -> -8.28
A121: 70400082 | B121: 27 | C121: 04 | D121: 17 | E121: 1246542 | F121: ETAM LINGERIE | G121: 1855 LINGERIE PARIS RENNES | H121: PARIS 06 | I121: 75 | J121: 19 | K121: 99 | L121: 22.59
A122: 70400101 | B122: 27 | C122: 04 | D122: 17 | E122: 1246232 | F122: ETAM PAP | G122: 1855 ETAM PAP PARIS RENNES | H122: PARIS 14 | I122: 75 | J122: 4 | K122: 37 | L122: 15.33
A123: TOTAL FACTURé | M123: =L121+L122 -> 37.92
B124: 27.04.2017 | I124: 138122 | J124: 138122 | K124: =IF(ISNUMBER(B124),"",CONVERT(J124,"g","kg")) -> 138.122 | M124: =IF(K124=0,0,IF(K124<=9,7.55,IF(K124<=15,9.42,IF(K124<=20,10.97,IF(K124<=27,12.25,IF(K124<=34,13.62,IF(K124<=39,15.33,IF(K124<=44,17.21,IF(K124<=49,17.31,IF(K124<=59,17.51,IF(K124<=69,20,IF(K124<=79,23.21,IF(K124<=89,22.7,IF(K124<=99.99,22.59,IF(K124<=499,22.54,IF(K124<=999,22.44,IF(K124<=25000,21.42,""))))))))))))))))) -> 22.54
A125: DIFFERENCE | N125: =M124-M123 -> -15.38
A128: 70400082 | B128: 28 | C128: 04 | D128: 17 | E128: 1247779 | F128: ETAM LINGERIE | G128: 1855 LINGERIE PARIS RENNES | H128: PARIS 06 | I128: 75 | J128: 6 | K128: 35 | L128: 15.33
A129: 70400101 | B129: 28 | C129: 04 | D129: 17 | E129: 1247608 | F129: ETAM PAP | G129: 1855 ETAM PAP PARIS RENNES | H129: PARIS 14 | I129: 75 | J129: 4 | K129: 30 | L129: 13.62
A130: TOTAL FACTURé | M130: =L128+L129 -> 28.95
