Workbook

Sheet Feuil1
B1: n° client | C1: CodePos | D1: Ville | E1: Nom | F1: Prenom | G1: Date_Naiss
A2: =E2&" "&F2 -> DUPONT IRENE | B2: 28503391 | C2: 65460 | D2: BAZET | E2: DUPONT | F2: IRENE | G2: 27408
A3: =E3&" "&F3 -> DUPONT JOSIANE | B3: 28503391 | C3: 65460 | D3: BAZET | E3: DUPONT | F3: JOSIANE | G3: 27029
A4: =E4&" "&F4 -> DUPONT LOUIS | B4: 28503391 | C4: 65460 | D4: BAZET | E4: DUPONT | F4: LOUIS | G4: 37651
A5: =E5&" "&F5 -> DUPONT LOUIS | B5: 47225681 | C5: 75008 | D5: PARIS | E5: DUPONT | F5: LOUIS | G5: 39693
A6: =E6&" "&F6 -> SMITH JOHN | B6: 07505329 | C6: 1800 | D6: MEXIMIEUX | E6: SMITH | F6: JOHN | G6: 30188
A7: =E7&" "&F7 -> SMITH JOHN | B7: 12548953 | C7: 64000 | D7: PAU | E7: SMITH | F7: JOHN | G7: 20311

Sheet Feuil2
B1: n° client | C1: CodePos | D1: Ville | E1: Nom | F1: Prenom | G1: Date_Naiss
A2: =E2&" "&F2 -> SMITH JOHN | B2: 07505329 | C2: 1800 | D2: MEXIMIEUX | E2: SMITH | F2: JOHN | G2: 30188
A3: =E3&" "&F3 -> SMITH JOHN | B3: 12548953 | C3: 64000 | D3: PAU | E3: SMITH | F3: JOHN | G3: 20311
A4: =E4&" "&F4 -> DUPONT LOUIS | B4: 28503391 | C4: 65460 | D4: BAZET | E4: DUPONT | F4: LOUIS | G4: 37651
A5: =E5&" "&F5 -> DUPONT IRENE | B5: 28503391 | C5: 65460 | D5: BAZET | E5: DUPONT | F5: IRENE | G5: 27408
A6: =E6&" "&F6 -> DUPONT JOSIANE | B6: 28503391 | C6: 65460 | D6: BAZET | E6: DUPONT | F6: JOSIANE | G6: 27029
A7: =E7&" "&F7 -> DUPONT LOUIS | B7: 47225681 | C7: 75008 | D7: PARIS | E7: DUPONT | F7: LOUIS | G7: 39693

Sheet Feuil3
A2: Nom + Prénom | B2: smith john
A4: NIA | B4: =VLOOKUP(B2,Feuil1!A2:AY158569,2,FALSE) -> 07505329
A5: Identité | B5: =VLOOKUP(B2,Feuil1!A2:AY158569,17,FALSE) -> 0
A6: Date naissance | B6: =VLOOKUP(B2,Feuil1!A2:AY158569,7,FALSE) -> 30188
A7: Âge | B7: =DATEDIF(B$6,TODAY(),"y") -> 34
A8: Code Postale | B8: =VLOOKUP(B2,Feuil1!A2:AY158569,3,FALSE) -> 1800
A9: Ville | B9: =VLOOKUP(B2,Feuil1!A2:AY158569,4,FALSE) -> MEXIMIEUX
A11: N° Client | B11: 28503391
A13: Prénom | B13: =A19&" "&B19 -> DUPONT LOUIS
A14: Identité | B14: =VLOOKUP(B11,Feuil2!B2:BG158585,16,FALSE) -> 0
A15: Date naissance | B15: =VLOOKUP(B11,Feuil2!B2:BG158585,6,FALSE) -> 37651
A16: Âge | B16: =DATEDIF(B$15,TODAY(),"y") -> 14
A17: Code Postale | B17: =VLOOKUP(B11,Feuil2!B2:BG158585,2,FALSE) -> 65460
A18: Ville | B18: =VLOOKUP(B11,Feuil2!B2:BG158585,3,FALSE) -> BAZET
A19: =VLOOKUP(B11,Feuil2!B2:BG158585,4,FALSE) -> DUPONT | B19: =VLOOKUP(B11,Feuil2!B2:BG158585,5,FALSE) -> LOUIS
