Workbook

Sheet Data
A1: Code | B1: Valeur | C1: Type | D1: Taux
A2: 48070 | B2: Valeur 1 | C2: Standard | D2: 0.5
A3: 48070 | B3: Valeur 1 | C3: Personnalisé | D3: 0.55
A4: 48070 | B4: Valeur 1 | C4: Personnalisé | D4: 0.55
A5: 48070 | B5: Valeur 1 | C5: Personnalisé | D5: 0.55
A6: 48070 | B6: Valeur 1 | C6: Personnalisé | D6: 0.5
A7: 48070 | B7: Valeur 1 | C7: Personnalisé | D7: 0.5
A8: 48070 | B8: Valeur 1 | C8: Personnalisé | D8: 0.6
A9: 48070 | B9: Valeur 1 | C9: Personnalisé | D9: 0.6
A10: 48070 | B10: Valeur 1 | C10: Personnalisé | D10: 0.6
A11: 48070 | B11: Valeur 1 | C11: Personnalisé | D11: 0.55
A12: 48070 | B12: Valeur 1 | C12: Personnalisé | D12: 0.6
A13: 48070 | B13: Valeur 1 | C13: Personnalisé | D13: 0.6
... A30: 44740 | B30: Valeur 2 | C30: Personnalisé | D30: 0.5

Sheet Nbr d'occurences
A1: Code | B1: Valeur | C1: Type | D1: Occurrences | F1: Taux
A2: 48070 | B2: Valeur 1 | C2: Standard | D2: =COUNTIFS(Data!$D$2:$D$30,F2,Data!$C$2:$C$30,C2,Data!$A$2:$A$30,A2) -> 1 | E2: =CONCATENATE(A2&C2&D2) -> 48070Standard1 | F2: 0.5
A3: 48070 | B3: Valeur 1 | C3: Personnalisé | D3: =COUNTIFS(Data!$D$2:$D$30,F3,Data!$C$2:$C$30,C3,Data!$A$2:$A$30,A3) -> 6 | E3: =CONCATENATE(A3&C3&D3) -> 48070Personnalisé6 | F3: 0.55
A4: 48070 | B4: Valeur 1 | C4: Personnalisé | D4: =COUNTIFS(Data!$D$2:$D$30,F4,Data!$C$2:$C$30,C4,Data!$A$2:$A$30,A4) -> 3 | E4: =CONCATENATE(A4&C4&D4) -> 48070Personnalisé3 | F4: 0.5
A5: 48070 | B5: Valeur 1 | C5: Personnalisé | D5: =COUNTIFS(Data!$D$2:$D$30,F5,Data!$C$2:$C$30,C5,Data!$A$2:$A$30,A5) -> 9 | E5: =CONCATENATE(A5&C5&D5) -> 48070Personnalisé9 | F5: 0.6
A6: 44740 | B6: Valeur 2 | C6: Standard | D6: =COUNTIFS(Data!$D$2:$D$30,F6,Data!$C$2:$C$30,C6,Data!$A$2:$A$30,A6) -> 1 | E6: =CONCATENATE(A6&C6&D6) -> 44740Standard1 | F6: 0.4
A7: 44740 | B7: Valeur 2 | C7: Personnalisé | D7: =COUNTIFS(Data!$D$2:$D$30,F7,Data!$C$2:$C$30,C7,Data!$A$2:$A$30,A7) -> 4 | E7: =CONCATENATE(A7&C7&D7) -> 44740Personnalisé4 | F7: 0.5
A8: 44740 | B8: Valeur 2 | C8: Personnalisé | D8: =COUNTIFS(Data!$D$2:$D$30,F8,Data!$C$2:$C$30,C8,Data!$A$2:$A$30,A8) -> 1 | E8: =CONCATENATE(A8&C8&D8) -> 44740Personnalisé1 | F8: 0.45
A9: 44740 | B9: Valeur 2 | C9: Personnalisé | D9: =COUNTIFS(Data!$D$2:$D$30,F9,Data!$C$2:$C$30,C9,Data!$A$2:$A$30,A9) -> 4 | E9: =CONCATENATE(A9&C9&D9) -> 44740Personnalisé4 | F9: 0.55

Sheet Final
A1: Code | B1: Valeur | C1: Type | D1: Occurrences | F1: Taux
A2: 48070 | B2: Valeur 1 | C2: Standard | D2: =LARGE('Nbr d''occurences'!$D$2:$D$9,ROW()-1) -> 9 | E2: =CONCATENATE(A2&C2&D2) -> 48070Standard9 | F2: =INDEX('Nbr d''occurences'!F:F,MATCH(D2,'Nbr d''occurences'!D:D,0)) -> 0.6
A3: 48070 | B3: Valeur 1 | C3: Personnalisé | D3: =LARGE('Nbr d''occurences'!$D$2:$D$9,ROW()-1) -> 6 | E3: =CONCATENATE(A3&C3&D3) -> 48070Personnalisé6 | F3: =INDEX('Nbr d''occurences'!F:F,MATCH(D3,'Nbr d''occurences'!D:D,0)) -> 0.55
A4: 48070 | B4: Valeur 1 | C4: Personnalisé | D4: =LARGE('Nbr d''occurences'!$D$2:$D$9,ROW()-1) -> 4 | E4: =CONCATENATE(A4&C4&D4) -> 48070Personnalisé4 | F4: =INDEX('Nbr d''occurences'!F:F,MATCH(D4,'Nbr d''occurences'!D:D,0)) -> 0.5
A5: 44740 | B5: Valeur 2 | C5: Standard | D5: =LARGE('Nbr d''occurences'!$D$2:$D$9,ROW()-1) -> 4 | E5: =CONCATENATE(A5&C5&D5) -> 44740Standard4 | F5: =INDEX('Nbr d''occurences'!F:F,MATCH(D5,'Nbr d''occurences'!D:D,0)) -> 0.5
A6: 44740 | B6: Valeur 2 | C6: Personnalisé | D6: =LARGE('Nbr d''occurences'!$D$2:$D$9,ROW()-1) -> 3 | E6: =CONCATENATE(A6&C6&D6) -> 44740Personnalisé3 | F6: =INDEX('Nbr d''occurences'!F:F,MATCH(D6,'Nbr d''occurences'!D:D,0)) -> 0.5
A7: 44740 | B7: Valeur 2 | C7: Personnalisé | D7: =LARGE('Nbr d''occurences'!$D$2:$D$9,ROW()-1) -> 1 | E7: =CONCATENATE(A7&C7&D7) -> 44740Personnalisé1 | F7: =INDEX('Nbr d''occurences'!F:F,MATCH(D7,'Nbr d''occurences'!D:D,0)) -> 0.5
A17: 48070 | B17: Valeur 1 | C17: Standard | D17: 1 | E17: 48070Standard1 | F17: 0.5
A18: 48070 | B18: Valeur 1 | C18: Personnalisé | D18: 9 | E18: 48070Personnalisé9 | F18: 0.6
A19: 48070 | B19: Valeur 1 | C19: Personnalisé | D19: 6 | E19: 48070Personnalisé6 | F19: 0.55
