Workbook

Sheet Planning
A1: Date début | C1: 42736 | L1: PLANNING POINCY | Q1: =TEXT(C1,"mmmm aaaa") -> janvier 2017
A2: Date fin | C2: =EOMONTH(C1,0) -> 42766
C3: =+TODAY() -> 42862
D6: =+C1 -> 42736 | E6: =+D6+1 -> 42737 | F6: =+E6+1 -> 42738 | G6: =+F6+1 -> 42739 | H6: =+G6+1 -> 42740 | I6: =+H6+1 -> 42741 | J6: =+I6+1 -> 42742 | K6: =+J6+1 -> 42743 | L6: =+K6+1 -> 42744 | ... ACV6: =+ACU6+1 -> 43508
D8: =WEEKNUM(D6) -> 1 | E8: =WEEKNUM(E6) -> 1 | F8: =WEEKNUM(F6) -> 1 | G8: =WEEKNUM(G6) -> 1 | H8: =WEEKNUM(H6) -> 1 | I8: =WEEKNUM(I6) -> 1 | J8: =WEEKNUM(J6) -> 1 | K8: =WEEKNUM(K6) -> 2 | ... ACV8: =WEEKNUM(ACV6) -> 7
D9: =IF((D11)="L","S "&WEEKNUM(D6),"") | E9: =IF((E11)="L","S "&WEEKNUM(E6),"") -> S 1 | F9: =IF((F11)="L","S "&WEEKNUM(F6),"") | G9: =IF((G11)="L","S "&WEEKNUM(G6),"") | H9: =IF((H11)="L","S "&WEEKNUM(H6),"") | I9: =IF((I11)="L","S "&WEEKNUM(I6),"") | J9: =IF((J11)="L","S "&WEEKNUM(J6),"") | K9: =IF((K11)="L","S "&WEEKNUM(K6),"") | ... ACV9: =IF((ACV11)="L","S "&WEEKNUM(ACV6),"")
D10: =DAY(D6) -> 1 | E10: =DAY(E6) -> 2 | F10: =DAY(F6) -> 3 | G10: =DAY(G6) -> 4 | H10: =DAY(H6) -> 5 | I10: =DAY(I6) -> 6 | J10: =DAY(J6) -> 7 | K10: =DAY(K6) -> 8 | ... ACV10: =DAY(ACV6) -> 12
D11: =CHOOSE(WEEKDAY(D6),"D","L","M","M","J","V","S") -> D | E11: =CHOOSE(WEEKDAY(E6),"D","L","M","M","J","V","S") -> L | F11: =CHOOSE(WEEKDAY(F6),"D","L","M","M","J","V","S") -> M | G11: =CHOOSE(WEEKDAY(G6),"D","L","M","M","J","V","S") -> M | H11: =CHOOSE(WEEKDAY(H6),"D","L","M","M","J","V","S") -> J | I11: =CHOOSE(WEEKDAY(I6),"D","L","M","M","J","V","S") -> V | J11: =CHOOSE(WEEKDAY(J6),"D","L","M","M","J","V","S") -> S | K11: =CHOOSE(WEEKDAY(K6),"D","L","M","M","J","V","S") -> D | ... ACV11: =CHOOSE(WEEKDAY(ACV6),"D","L","M","M","J","V","S") -> M
A12: Noms - Prénoms | B12: Equipes | C12: Postes
A13: salarié 1 | B13: Equipe 1 | C13: Opérateur | D13: =VLOOKUP($A$13,BD!$A$1:$C$7,3,) -> MT | E13: =VLOOKUP($A$13,BD!$A$1:$C$7,3,) -> MT | F13: =VLOOKUP($A$13,BD!$A$1:$C$7,3,) -> MT | G13: =VLOOKUP($A$13,BD!$A$1:$C$7,3,) -> MT | H13: =VLOOKUP($A$13,BD!$A$1:$C$7,3,) -> MT | I13: =VLOOKUP($A$13,BD!$A$1:$C$7,3,) -> MT
A14: salarié 2 | B14: Equipe 1 | C14: Opérateur | D14: =VLOOKUP($A$14,BD!$A$1:$C$7,3,) -> AM | E14: =VLOOKUP($A$14,BD!$A$1:$C$7,3,) -> AM | F14: =VLOOKUP($A$14,BD!$A$1:$C$7,3,) -> AM | G14: =VLOOKUP($A$14,BD!$A$1:$C$7,3,) -> AM | H14: =VLOOKUP($A$14,BD!$A$1:$C$7,3,) -> AM | I14: =VLOOKUP($A$14,BD!$A$1:$C$7,3,) -> AM
A15: salarié 3 | B15: Equipe 1 | C15: Opérateur | D15: =VLOOKUP($A$15,BD!$A$1:$C$7,3,) -> CP | E15: =VLOOKUP($A$15,BD!$A$1:$C$7,3,) -> CP | F15: =VLOOKUP($A$15,BD!$A$1:$C$7,3,) -> CP | G15: =VLOOKUP($A$15,BD!$A$1:$C$7,3,) -> CP | H15: =VLOOKUP($A$15,BD!$A$1:$C$7,3,) -> CP | I15: =VLOOKUP($A$15,BD!$A$1:$C$7,3,) -> CP
A16: salarié 4 | B16: Equipe 2 | C16: Opérateur | D16: =VLOOKUP($A$16,BD!$A$1:$C$7,3,) -> RTT | E16: =VLOOKUP($A$16,BD!$A$1:$C$7,3,) -> RTT | F16: =VLOOKUP($A$16,BD!$A$1:$C$7,3,) -> RTT | G16: =VLOOKUP($A$16,BD!$A$1:$C$7,3,) -> RTT | H16: =VLOOKUP($A$16,BD!$A$1:$C$7,3,) -> RTT | I16: =VLOOKUP($A$16,BD!$A$1:$C$7,3,) -> RTT
A17: salarié 5 | B17: Equipe 2 | C17: Opérateur | D17: =VLOOKUP($A$17,BD!$A$1:$C$7,3,) -> MT | E17: =VLOOKUP($A$17,BD!$A$1:$C$7,3,) -> MT | F17: =VLOOKUP($A$17,BD!$A$1:$C$7,3,) -> MT | G17: =VLOOKUP($A$17,BD!$A$1:$C$7,3,) -> MT | H17: =VLOOKUP($A$17,BD!$A$1:$C$7,3,) -> MT | I17: =VLOOKUP($A$17,BD!$A$1:$C$7,3,) -> MT
A18: salarié 6 | B18: Equipe 2 | C18: Opérateur | D18: =VLOOKUP($A$18,BD!$A$1:$C$7,3,) -> AM | E18: =VLOOKUP($A$18,BD!$A$1:$C$7,3,) -> AM | F18: =VLOOKUP($A$18,BD!$A$1:$C$7,3,) -> AM | G18: =VLOOKUP($A$18,BD!$A$1:$C$7,3,) -> AM | H18: =VLOOKUP($A$18,BD!$A$1:$C$7,3,) -> AM | I18: =VLOOKUP($A$18,BD!$A$1:$C$7,3,) -> AM

Sheet BD
A1: Noms | B1: Semaines | C1: rotation
A2: salarié 1 | B2: 1 | C2: MT
A3: salarié 2 | B3: 1 | C3: AM
A4: salarié 3 | B4: 1 | C4: CP
A5: salarié 4 | B5: 1 | C5: RTT
A6: salarié 5 | B6: 1 | C6: MT
A7: salarié 6 | B7: 1 | C7: AM
A8: salarié 1 | B8: 2 | C8: am
A9: salarié 2 | B9: 2 | C9: mt
A10: salarié 3 | B10: 2 | C10: rtt
A11: salarié 4 | B11: 2 | C11: cp
A12: salarié 5 | B12: 2 | C12: am
A13: salarié 6 | B13: 2 | C13: mt
