Workbook

Sheet final
A1: N | B1: D | C1: F | D1: Dé | E1: P | F1: NH | G1: N° | H1: A | I1: MT
A2: Carter1 | B2: 42776 | C2: 42801 | F2: 1 | G2: 1 | H2: Oui | I2: PM
A3: t | D3: ='Pièces Type'!R11&" hr" -> 1 hr | F3: 2 | G3: 2 | H3: Oui | I3: PM
A4: f | D4: ='Pièces Type'!T11&" hr" -> 4 hr | E4: =G3&"FD+"&'Pièces Type'!$B$2&"H" -> 2FD+6H | F4: 2 | G4: 3 | H4: Oui | I4: PM
A5: c | D5: ='Pièces Type'!U11&" hr" -> 1,5 hr | E5: =G4&"FD+"&'Pièces Type'!$B$2&"H" -> 3FD+6H | F5: 2 | G5: 4 | H5: Oui | I5: PM
A6: Carter2 | B6: 42777 | C6: 42805 | F6: 1 | G6: 5 | H6: Oui | I6: PM
A7: a | D7: ='Pièces Type'!S11&" hr" -> 3 hr | F7: 2 | G7: 6 | H7: Oui | I7: PM
A8: f | D8: ='Pièces Type'!T11&" hr" -> 4 hr | E8: =G7&"FD+"&'Pièces Type'!$B$2&"H" -> 6FD+6H | F8: 2 | G8: 7 | H8: Oui | I8: PM
A9: c | D9: ='Pièces Type'!U11&" hr" -> 1,5 hr | E9: =G8&"FD+"&'Pièces Type'!$B$2&"H" -> 7FD+6H | F9: 2 | G9: 8 | H9: Oui | I9: PM
A10: Roue1 | B10: 42776 | C10: 42809 | F10: 1 | G10: 9 | H10: Oui | I10: PM
A11: t | D11: ='Pièces Type'!S12&" hr" -> 1,5 hr | F11: 2 | G11: 10 | H11: Oui | I11: PM
A12: a | D12: ='Pièces Type'!T12&" hr" -> 2,5 hr | E12: =G11&"FD+"&'Pièces Type'!$B$2&"H" -> 10FD+6H | F12: 2 | G12: 11 | H12: Oui | I12: PM
A13: r | D13: ='Pièces Type'!U12&" hr" -> 2 hr | E13: =G12&"FD+"&'Pièces Type'!$B$2&"H" -> 11FD+6H | F13: 2 | G13: 12 | H13: Oui | I13: PM
A14: f | D14: ='Pièces Type'!V12&" hr" -> 3 hr | E14: =G13&"FD+"&'Pièces Type'!$B$2&"H" -> 12FD+6H | F14: 2 | G14: 13 | H14: Oui | I14: PM
A15: c | D15: ='Pièces Type'!W12&" hr" -> 4 hr | E15: =G14&"FD+"&'Pièces Type'!$B$2&"H" -> 13FD+6H | F15: 2 | G15: 14 | H15: Oui | I15: PM
A16: Roue2 | B16: 42777 | C16: 42786 | F16: 1 | G16: 15 | H16: Oui | I16: PM
A17: p | D17: ='Pièces Type'!R12&" hr" -> 1 hr | F17: 2 | G17: 16 | H17: Oui | I17: PM
A18: t | D18: ='Pièces Type'!S12&" hr" -> 1,5 hr | E18: =G17&"FD+"&'Pièces Type'!$B$2&"H" -> 16FD+6H | F18: 2 | G18: 17 | H18: Oui | I18: PM
A19: r | D19: ='Pièces Type'!U12&" hr" -> 2 hr | E19: =G18&"FD+"&'Pièces Type'!$B$2&"H" -> 17FD+6H | F19: 2 | G19: 18 | H19: Oui | I19: PM
A20: f | D20: ='Pièces Type'!V12&" hr" -> 3 hr | E20: =G19&"FD+"&'Pièces Type'!$B$2&"H" -> 18FD+6H | F20: 2 | G20: 19 | H20: Oui | I20: PM
A21: c | D21: ='Pièces Type'!W12&" hr" -> 4 hr | E21: =G20&"FD+"&'Pièces Type'!$B$2&"H" -> 19FD+6H | F21: 2 | G21: 20 | H21: Oui | I21: PM
A22: etc
D23: colonne D ce sont des formules

Sheet Pièces Type
A2: LT (h): | B2: 6
A3: Cette feuille correspond à la feuille source où les données sont prélevées | W3: la feuille "pièce type" est la feuille ou
W4: l'on vient récupérer les données elle ne sert qu'à ça
W7: Et oui il me faut bien qu'une macro
F8: 10 opérateurs | S8: Durées en h
C9: 1 | D9: 2 | E9: 3 | F9: 4 | G9: 5 | H9: 6 | I9: 7 | J9: 8 | K9: 9 | L9: 10 | R9: 1 | S9: 2 | T9: 3 | U9: 4 | V9: 5 | W9: 6 | X9: 7 | Y9: 8 | Z9: 9 | AA9: 10
A11: Carter | C11: t | D11: a | E11: f | F11: c | R11: 1 | S11: 3 | T11: 4 | U11: 1.5
A12: Roue | C12: p | D12: t | E12: a | F12: r | G12: f | H12: c | R12: 1 | S12: 1.5 | T12: 2.5 | U12: 2 | V12: 3 | W12: 4
A13: Carter élast | C13: a | D13: j | E13: f | F13: a | G13: c | R13: 2 | S13: 1 | T13: 3 | U13: 1 | V13: 6
A14: roue dentée | C14: p | D14: r | E14: f | F14: c | R14: 2 | S14: 5 | T14: 1 | U14: 4
A15: etc
A16: etc | E16: durée | F16: Voila j'ai corrigé les lignes mais à partir de la ligne 11
A17: etc | F17: le système est tout le temps le même
A18: etc
A19: etc | F19: mais sinon les OP et la durée ne change jamais.
A20: etc
A21: etc
A22: etc
A23: etc
A24: etc
A25: etc
A26: etc
A27: etc
A28: etc
A29: etc
A30: etc
A31: etc
... A47: etc

Sheet final heures
A1: N | B1: D | C1: F | D1: Dé | E1: P | F1: NH | G1: N° | H1: A | I1: MT
A2: Carter1 | B2: 42776 | C2: 42801 | F2: 1 | G2: 1 | H2: Oui | I2: PM
A3: t | D3: 1 | F3: 2 | G3: 2 | H3: Oui | I3: PM
A4: f | D4: 4 | F4: 2 | G4: 3 | H4: Oui | I4: PM
A5: c | D5: 1.5 | F5: 2 | G5: 4 | H5: Oui | I5: PM
A6: Carter2 | B6: 42777 | C6: 42805 | F6: 1 | G6: 5 | H6: Oui | I6: PM
A7: a | D7: 3 | F7: 2 | G7: 6 | H7: Oui | I7: PM
A8: f | D8: 4 | F8: 2 | G8: 7 | H8: Oui | I8: PM
A9: c | D9: 1.5 | F9: 2 | G9: 8 | H9: Oui | I9: PM
A10: roue dentée | B10: 42776 | C10: 42809 | F10: 1 | G10: 9 | H10: Oui | I10: PM
A11: p | D11: 2 | F11: 2 | G11: 10 | H11: Oui | I11: PM
A12: f | D12: 1 | F12: 2 | G12: 11 | H12: Oui | I12: PM
A13: Carter élast | B13: 42777 | C13: 42786 | F13: 1 | G13: 15 | H13: Oui | I13: PM
A14: a | D14: 2 | F14: 2 | G14: 16 | H14: Oui | I14: PM
A15: j | D15: 1 | F15: 2 | G15: 17 | H15: Oui | I15: PM
A16: f | D16: 3 | F16: 2 | G16: 18 | H16: Oui | I16: PM
A17: a | D17: 1 | F17: 2 | G17: 19 | H17: Oui | I17: PM
A18: etc
D19: colonne D ce sont des chiffres personnalisés
D20: plus simple pour la macro future
