Workbook
Name B_D_P: PRODUIT!$B$4:$L$54
Name B_D_P: #REF!
Name code_produit: PRODUIT!$A$6:$B$54
Name code_produit: "#REF!$B$7:$B$109"
Name COIN_BAS_DROITE: PRODUIT!#REF!
Name COIN_BAS_DROITE: #REF!
Name cumul_dimanche: [1]SEQUENCES!$F$266
Name cumul_jeudi: [1]SEQUENCES!$F$322
Name cumul_mardi: [1]SEQUENCES!$F$294
Name cumul_mercredi: [1]SEQUENCES!$F$308
Name cumul_samedi: [1]SEQUENCES!$F$350
Name cumul_vendredi: [1]SEQUENCES!$F$336
Name Demandé: PRODUIT!#REF!
Name Demandé: #REF!
Name DIMANCHE: PRODUIT!#REF!
Name DONISI: PRODUIT!$A$1:$D$54,PRODUIT!$M$1:$T$54
Name essai: PRODUIT!#REF!
Name essai: #REF!
Name FEUILLEPASTO: PRODUIT!#REF!
Name FEUILLEPASTO: #REF!
Name jour: [1]SEQUENCES!$C$5:$C$249
Name jour_colonne: [1]SEQUENCES!$C$5:$C$249
Name JOUR_dim: [1]SEQUENCES!$C$220:$C$249
Name JOUR_jeu: [1]SEQUENCES!$C$109:$C$143
Name JOUR_lun: [1]SEQUENCES!$C$5:$C$33
Name JOUR_mar: [1]SEQUENCES!$C$36:$C$73
Name JOUR_mer: [1]SEQUENCES!$C$75:$C$107
Name JOUR_sam: [1]SEQUENCES!$C$185:$C$218
Name JOUR_ven: [1]SEQUENCES!$C$145:$C$183
Name joursemnum: [1]SEQUENCES!$C$506:$D$512
Name litrage: [1]SEQUENCES!$F$5:$F$249
Name litrage_colonne: [1]SEQUENCES!$F$5:$F$249
Name Litrage_dim: [1]SEQUENCES!$F$220:$F$249
Name Litrage_jeu: [1]SEQUENCES!$F$109:$F$143
Name Litrage_lun: [1]SEQUENCES!$F$5:$F$33
Name Litrage_mar: [1]SEQUENCES!$F$36:$F$73
Name Litrage_mer: [1]SEQUENCES!$F$75:$F$107
Name Litrage_sam: [1]SEQUENCES!$F$185:$F$218
Name Litrage_ven: [1]SEQUENCES!$F$145:$F$183
Name machine_colonne: [1]SEQUENCES!$B$5:$B$249
Name P1_: PRODUIT!$C$4:$L$54
Name P1_: #REF!
Name P2_: PRODUIT!#REF!
Name P2_: #REF!
Name PAGE1: PRODUIT!$C$4:$L$54
Name PAGE1: #REF!
Name PAGE2: PRODUIT!#REF!
Name PAGE2: #REF!
Name PAL: PRODUIT!$D$6:$D$54
Name PAL: #REF!
Name pjt: [1]SEQUENCES!$F$472
Name Prévu: PRODUIT!#REF!
Name Prévu_dimanche: PRODUIT!#REF!
Name Prévu_jeudi: PRODUIT!#REF!
Name Prévu_lundi: PRODUIT!#REF!
Name Prévu_mardi: PRODUIT!#REF!
Name Prévu_mercredi: PRODUIT!#REF!
Name Prévu_samedi: PRODUIT!#REF!
Name Prévu_vendredi: PRODUIT!#REF!
Name produit: [1]SEQUENCES!$I$5:$I$249

Sheet PRODUIT
P1: 42824.587
A2: CEDILAC/VIENNE | P2: 27 mars AU 02 avril 2017 | S2: PROGRAMME HEBDOMADAIRE :
S3: REF UHT 071 Page 2 - le18/12/1996
A4: GRA. | B4: CODES | C4: LIBELLE PRODUIT | D4: PAL. | E4: FARD. | F4: QtéF | G4: POIG. | H4: STICK | I4: PROMO | J4: DLC | L4: COULEUR Palette | M4: LUN | N4: MAR | O4: MER | P4: JEU | Q4: VEN | R4: SAM | S4: DIM | T4: TOTAL
A6: 16g | B6: 16755033 | C6: CANDIA 1/2 ECREME X6 120J "OFFRE SPECIAL" | D6: P864 | E6: basic | F6: x6 | H6: sticker | I6: 864 | J6: blanc | K6: basicfr | L6: blanc864 | M6: 0 | N6: 0 | O6: 0 | P6: 0 | Q6: 0 | R6: 0 | S6: 0 | T6: 0
A7: 36g | B7: 73460030 | C7: BIANCA NATURA | D7: P792 | E7: basic | F7: x6 | H7: sticker | I7: 792 | J7: blanc | K7: basicit | L7: blanc792 | M7: 0 | N7: 0 | O7: 0 | P7: 0 | Q7: 0 | R7: 0 | S7: 0 | T7: 0
A8: 16g | B8: 734800030 | C8: BIANCA NATURA | D8: P792 | E8: basic | F8: x6 | I8: 792 | J8: blanc | K8: basicit | L8: blanc792 | M8: 0 | N8: 0 | O8: 0 | P8: 0 | Q8: 0 | R8: 0 | S8: 0 | T8: 0
A9: 16g | B9: 170000036 | C9: LATTE CANDIA Pal 120J PAPIER ELOPAK | D9: P864 | E9: basic | F9: x12 | H9: tray | I9: 864 | J9: blanc | K9: basicit | L9: blanc864 | M9: 0 | N9: 0 | O9: 0 | P9: 0 | Q9: 0 | R9: 0 | S9: 0 | T9: 0
A10: 16g | B10: 702200030 | C10: ECO+ 1/2 ECREME x6 Pal 120J PAPIER ELOPAK | D10: P864 | E10: basic | F10: x6 | G10: pgnée | I10: 864 | J10: blanc | K10: basicfr | L10: blanc864 | M10: 0 | N10: 0 | O10: 0 | P10: 0 | Q10: 0 | R10: 0 | S10: 0 | T10: 0
A11: 36g | B11: 73080002 | C11: JOLIE DEMOISELLE x6 Pal 120J | D11: P792 | E11: basic | F11: x6 | H11: sticker | I11: 792 | J11: blanc | K11: basicit | L11: blanc792 | M11: 0 | N11: 0 | O11: 0 | P11: 0 | Q11: 0 | R11: 0 | S11: 0 | T11: 0
A12: 16g | B12: 696700030 | C12: AGEA DPMU 4939 D03.11.15 LOTTO 1 180J PAPIER TETRA | D12: P864 | E12: basic | F12: x12 | H12: trays | I12: 864 | J12: blanc | K12: basicit | L12: blanc864 | M12: 0 | N12: 0 | O12: 0 | P12: 0 | Q12: 0 | R12: 0 | S12: 0 | T12: 0
A13: 16g | B13: 72700030 | C13: CARREFOUR | D13: P792 | E13: basic | F13: x6 | G13: pgnée | I13: 792 | J13: blanc | K13: basicit | L13: blanc792 | M13: 0 | N13: 0 | O13: 0 | P13: 0 | Q13: 0 | R13: 0 | S13: 0 | T13: 0
A14: 16g | B14: 696800030 | C14: AGEA DPMU 4939 D03.11.15 LOTTO 2 180J PAPIER TETRA | D14: P864 | E14: basic | F14: x12 | H14: trays | I14: 864 | J14: blanc | K14: basicit | L14: blanc864 | M14: 0 | N14: 0 | O14: 0 | P14: 0 | Q14: 0 | R14: 0 | S14: 0 | T14: 0
A15: 16g | B15: 74470030 | C15: BRAKE x6 PAPIER TETRA 120J | D15: P864 | E15: basic | F15: x6 | I15: 864 | J15: blanc | K15: basicfr | L15: blanc864 | M15: 0 | N15: 0 | O15: 0 | P15: 0 | Q15: 0 | R15: 0 | S15: 0 | T15: 0
A16: 16g | B16: 100000 | D16: P792 | E16: basic | F16: x6 | I16: 792 | J16: blanc | K16: basicit | L16: blanc792 | M16: 0 | N16: 0 | O16: 0 | P16: 0 | Q16: 0 | R16: 0 | S16: 0 | T16: 0
A17: 36g | B17: 79980030 | C17: BANQUE ALIMENTAIRE x6 Pal 180J | D17: P864 | E17: basic | F17: x6 | I17: 864 | J17: blanc | K17: basicfr | L17: blanc864 | M17: 0 | N17: 0 | O17: 0 | P17: 0 | Q17: 0 | R17: 0 | S17: 0 | T17: 0
A18: 36g | B18: 740100030 | C18: RICCA FONTE X 12 | D18: P864 | E18: basic | F18: x12 | H18: tray | I18: 864 | J18: blanc | K18: basicit | L18: blanc864 | M18: 0 | N18: 0 | O18: 0 | P18: 0 | Q18: 0 | R18: 0 | S18: 0 | T18: 0
C19: SLIM COMBIBLOC | T19: 0
A20: 0g | B20: 75660022 | C20: DELISSE x6 Pal 120 J | D20: 1/2P | E20: swift | F20: x6 | G20: pgnée | I20: 420 | J20: rouge | K20: combislim | L20: rouge420 | M20: 0 | N20: 0 | O20: 70 | P20: 0 | Q20: 0 | R20: 0 | S20: 0 | T20: =+SUM(M20:S20) -> 70
A21: 36g | B21: 75480022 | C21: DELISSE x6 Pal 120 J | D21: 1/2P | E21: swift | F21: x6 | G21: pgnée | I21: 420 | J21: rouge | K21: combislim | L21: rouge420 | M21: 0 | N21: 0 | O21: 90 | P21: 30 | Q21: 0 | R21: 0 | S21: 0 | T21: =+SUM(M21:S21) -> 120
A22: 16g | B22: 75640022 | C22: DELISSE x6 120 J | D22: 1/2P | E22: swift | F22: x6 | G22: pgnée | I22: 420 | J22: rouge | K22: combislim | L22: rouge420 | M22: 130 | N22: 0 | O22: 0 | P22: 0 | Q22: 0 | R22: 0 | S22: 0 | T22: =+SUM(M22:S22) -> 130
A23: 16g | B23: 75640032 | C23: DELISSE x6 Pal 120 J | D23: P840 | E23: Swift | F23: x6 | G23: pgnée | I23: 840 | J23: blanc | K23: combislim | L23: blanc840 | M23: 80 | N23: 0 | O23: 0 | P23: 0 | Q23: 0 | R23: 0 | S23: 0 | T23: =+SUM(M23:S23) -> 80
A24: 16g | B24: 69500020 | C24: CARREFOUR REGION x6 120J | D24: 1/2P | E24: swift | F24: x6 | G24: pgnée | I24: 420 | J24: rouge | K24: combislim | L24: rouge420 | M24: 0 | N24: 0 | O24: 0 | P24: 370 | Q24: 30 | R24: 0 | S24: 0 | T24: =+SUM(M24:S24) -> 400
A25: 16g | B25: 16830029 | C25: GRANDLAIT "FS" x6 120J J+9 | D25: 1/2P | E25: swift | F25: x6 | G25: pgnée | H25: sticker | I25: 420 | J25: rouge | K25: combislim | L25: rouge420 | M25: 100 | N25: 400 | O25: 70 | P25: 0 | Q25: 370 | R25: 400 | S25: 161 | T25: =+SUM(M25:S25) -> 1501
A26: 16g | B26: 79580030 | C26: AUCHAN LCF x8 120J | D26: P720 | E26: Swift | F26: x8 | G26: pgnée | I26: 720 | J26: blanc | K26: combislim | L26: blanc720 | M26: 0 | N26: 0 | O26: 0 | P26: 0 | Q26: 0 | R26: 0 | S26: 80 | T26: =+SUM(M26:S26) -> 80
A27: 16g | B27: 756400022 | C27: DELISSE x6 120J | D27: 1/2P | E27: swift | F27: x6 | G27: pgnée | I27: 420 | J27: rouge | K27: combislim | L27: rouge420 | M27: 0 | N27: 0 | O27: 0 | P27: 0 | Q27: 0 | R27: 0 | S27: 0 | T27: =+SUM(M27:S27) -> 0
C28: SLIM SPEED TETRA HELICAP | T28: =+SUM(M28:S28) -> 0
A29: 16g | B29: 70420020 | C29: PATURAGES Slim x6 | D29: 1/2P | E29: récap | F29: x6 | G29: pgnée | I29: 420 | J29: rouge | K29: slimmdd | L29: rouge420 | M29: 0 | N29: 0 | O29: 0 | P29: 0 | Q29: 0 | R29: 0 | S29: 0 | T29: =+SUM(M29:S29) -> 0
A30: 36g | B30: 72640020 | C30: MILBONA Slim x12 120J 1/2P | D30: 1/2P | E30: Hélicap | F30: x12 | G30: tray | I30: 360 | J30: DD | K30: slimit | L30: DD360 | M30: 240 | N30: 0 | O30: 0 | P30: 0 | Q30: 0 | R30: 380 | S30: 480 | T30: =+SUM(M30:S30) -> 1100
A31: 0g | B31: 75660020 | C31: DELISSE Slim x6 | D31: 1/2P | E31: récap | F31: x6 | G31: pgnée | I31: 420 | J31: rouge | K31: slimmdd | L31: rouge420 | M31: 0 | N31: 0 | O31: 0 | P31: 0 | Q31: 0 | R31: 0 | S31: 0 | T31: =+SUM(M31:S31) -> 0
A32: 16g | B32: 69000030 | C32: AGEA LOTTO UNICO x12 | D32: P864 | E32: Hélicap | F32: x12 | G32: tray | I32: 864 | J32: blanc | K32: slimit | L32: blanc864 | M32: 0 | N32: 0 | O32: 100 | P32: 150 | Q32: 0 | R32: 0 | S32: 0 | T32: =+SUM(M32:S32) -> 250
A33: 16g | B33: 75640020 | C33: DELISSE Slim x6 | D33: 1/2P | E33: Hélicap | F33: x6 | G33: pgnée | I33: 420 | J33: rouge | K33: slimmdd | L33: rouge420 | M33: 0 | N33: 0 | O33: 0 | P33: 0 | Q33: 0 | R33: 0 | S33: 0 | T33: =+SUM(M33:S33) -> 0
A34: 16g | B34: 73540021 | C34: FINESSA Slim x12 180J 1/2P | D34: 1/2P | E34: Hélicap | F34: x6 | G34: pgnée | I34: 360 | J34: rouge | K34: slimmdd | L34: rouge360 | M34: 0 | N34: 0 | O34: 0 | P34: 0 | Q34: 0 | R34: 0 | S34: 0 | T34: =+SUM(M34:S34) -> 0
A35: 16g | B35: 74650021 | C35: GRAND JURY Slim x6 | D35: 1/2P | E35: récap | F35: x6 | G35: pgnée | I35: 420 | J35: rouge | K35: slimmdd | L35: rouge420 | M35: 0 | N35: 0 | O35: 0 | P35: 0 | Q35: 0 | R35: 0 | S35: 0 | T35: =+SUM(M35:S35) -> 0
A36: 16g | B36: 70240031 | C36: AUCHAN Slim x8 | D36: P800 | E36: récap | F36: x8 | G36: pgnée | I36: 800 | J36: blanc | K36: slimmdd | L36: blanc800 | M36: 0 | N36: 0 | O36: 0 | P36: 0 | Q36: 0 | R36: 0 | S36: 0 | T36: =+SUM(M36:S36) -> 0
A37: 16g | B37: 745000020 | C37: CASINO Slim x6 120J | D37: 1/2P | E37: récap | F37: x6 | G37: pgnée | I37: 420 | J37: rouge | K37: slimmdd | L37: rouge420 | M37: 0 | N37: 0 | O37: 0 | P37: 0 | Q37: 0 | R37: 0 | S37: 0 | T37: =+SUM(M37:S37) -> 0
A38: 16g | B38: 16833331 | C38: CANDIA SLIM " ancien decor " | D38: P840 | E38: récap | F38: x6 | G38: pgnée | I38: 840 | J38: bleu | K38: slimfs | L38: bleu840 | M38: 0 | N38: 0 | O38: 0 | P38: 0 | Q38: 0 | R38: 0 | S38: 0 | T38: =+SUM(M38:S38) -> 0
A39: 0g | B39: 75280021 | C39: DIA 0g x6 | D39: 1/2P | E39: récap | F39: x6 | G39: pgnée | I39: 420 | J39: rouge | K39: slimmdd | L39: rouge420 | M39: 0 | N39: 0 | O39: 0 | P39: 0 | Q39: 0 | R39: 0 | S39: 0 | T39: =+SUM(M39:S39) -> 0
A40: 36g | B40: 75270021 | C40: DIA 36g x6 | D40: 1/2P | E40: récap | F40: x6 | G40: pgnée | I40: 420 | J40: rouge | K40: slimmdd | L40: rouge420 | M40: 0 | N40: 0 | O40: 0 | P40: 0 | Q40: 0 | R40: 0 | S40: 0 | T40: =+SUM(M40:S40) -> 0
A41: 16g | B41: 72650020 | C41: MILBONA Hélicap x12 Pal 120J | D41: 1/2P | E41: Hélicap | F41: x12 | G41: tray | I41: 360 | J41: DD | K41: slimit | L41: DD360 | M41: 200 | N41: 530 | O41: 110 | P41: 160 | Q41: 440 | R41: 60 | S41: 0 | T41: =+SUM(M41:S41) -> 1500
...

Sheet Insertion 
C8: Site | D8: Site | E8: VI | F8: Date du lundi | G8: =PRODUIT!P2 -> 27 mars AU 02 avril 2017
C9: Codes | D9: Codes GENERIX | E9: Lundi | F9: Mardi | G9: Mercredi | H9: Jeudi | I9: Vendredi | J9: Samedi | K9: Dimanche
B10: =PRODUIT!C19 -> SLIM COMBIBLOC | C10: =PRODUIT!B20 -> 75660022 | D10: =2&C10 -> 275660022 | E10: =PRODUIT!M20 -> 0 | F10: =PRODUIT!N20 -> 0 | G10: =PRODUIT!O20 -> 70 | H10: =PRODUIT!P20 -> 0 | I10: =PRODUIT!Q20 -> 0 | J10: =PRODUIT!R20 -> 0 | K10: =PRODUIT!S20 -> 0
C11: =PRODUIT!B21 -> 75480022 | D11: =2&C11 -> 275480022 | E11: =PRODUIT!M21 -> 0 | F11: =PRODUIT!N21 -> 0 | G11: =PRODUIT!O21 -> 90 | H11: =PRODUIT!P21 -> 30 | I11: =PRODUIT!Q21 -> 0 | J11: =PRODUIT!R21 -> 0 | K11: =PRODUIT!S21 -> 0
C12: =PRODUIT!B22 -> 75640022 | D12: =2&C12 -> 275640022 | E12: =PRODUIT!M22 -> 130 | F12: =PRODUIT!N22 -> 0 | G12: =PRODUIT!O22 -> 0 | H12: =PRODUIT!P22 -> 0 | I12: =PRODUIT!Q22 -> 0 | J12: =PRODUIT!R22 -> 0 | K12: =PRODUIT!S22 -> 0
C13: =PRODUIT!B23 -> 75640032 | D13: =2&C13 -> 275640032 | E13: =PRODUIT!M23 -> 80 | F13: =PRODUIT!N23 -> 0 | G13: =PRODUIT!O23 -> 0 | H13: =PRODUIT!P23 -> 0 | I13: =PRODUIT!Q23 -> 0 | J13: =PRODUIT!R23 -> 0 | K13: =PRODUIT!S23 -> 0 | M13: Il peut y avoir plus ou moins de lignes dans chaque catégories du tableau en feuille "Produit"
C14: =PRODUIT!B24 -> 69500020 | D14: =2&C14 -> 269500020 | E14: =PRODUIT!M24 -> 0 | F14: =PRODUIT!N24 -> 0 | G14: =PRODUIT!O24 -> 0 | H14: =PRODUIT!P24 -> 370 | I14: =PRODUIT!Q24 -> 30 | J14: =PRODUIT!R24 -> 0 | K14: =PRODUIT!S24 -> 0
C15: =PRODUIT!B25 -> 16830029 | D15: =2&C15 -> 216830029 | E15: =PRODUIT!M25 -> 100 | F15: =PRODUIT!N25 -> 400 | G15: =PRODUIT!O25 -> 70 | H15: =PRODUIT!P25 -> 0 | I15: =PRODUIT!Q25 -> 370 | J15: =PRODUIT!R25 -> 400 | K15: =PRODUIT!S25 -> 161
C16: =PRODUIT!B26 -> 79580030 | D16: =2&C16 -> 279580030 | E16: =PRODUIT!M26 -> 0 | F16: =PRODUIT!N26 -> 0 | G16: =PRODUIT!O26 -> 0 | H16: =PRODUIT!P26 -> 0 | I16: =PRODUIT!Q26 -> 0 | J16: =PRODUIT!R26 -> 0 | K16: =PRODUIT!S26 -> 80
B17: =PRODUIT!C28 -> SLIM SPEED TETRA HELICAP | C17: =PRODUIT!B30 -> 72640020 | E17: =PRODUIT!M30 -> 240 | F17: =PRODUIT!N30 -> 0 | G17: =PRODUIT!O30 -> 0 | H17: =PRODUIT!P30 -> 0 | I17: =PRODUIT!Q30 -> 0 | J17: =PRODUIT!R30 -> 380 | K17: =PRODUIT!S30 -> 480
C18: =PRODUIT!B31 -> 75660020 | E18: =PRODUIT!M31 -> 0 | F18: =PRODUIT!N31 -> 0 | G18: =PRODUIT!O31 -> 0 | H18: =PRODUIT!P31 -> 0 | I18: =PRODUIT!Q31 -> 0 | J18: =PRODUIT!R31 -> 0 | K18: =PRODUIT!S31 -> 0
C19: =PRODUIT!B32 -> 69000030 | E19: =PRODUIT!M32 -> 0 | F19: =PRODUIT!N32 -> 0 | G19: =PRODUIT!O32 -> 100 | H19: =PRODUIT!P32 -> 150 | I19: =PRODUIT!Q32 -> 0 | J19: =PRODUIT!R32 -> 0 | K19: =PRODUIT!S32 -> 0
B20: =PRODUIT!C42 -> BOUTEILLE SERAC | C20: =PRODUIT!B43 -> 14695720 | E20: =PRODUIT!M43 -> 110 | F20: =PRODUIT!N43 -> 278 | G20: =PRODUIT!O43 -> 0 | H20: =PRODUIT!P43 -> 0 | I20: =PRODUIT!Q43 -> 0 | J20: =PRODUIT!R43 -> 0 | K20: =PRODUIT!S43 -> 0
C21: =PRODUIT!B44 -> 15720020 | E21: =PRODUIT!M44 -> 0 | F21: =PRODUIT!N44 -> 0 | G21: =PRODUIT!O44 -> 0 | H21: =PRODUIT!P44 -> 160 | I21: =PRODUIT!Q44 -> 210 | J21: =PRODUIT!R44 -> 0 | K21: =PRODUIT!S44 -> 870
C22: =PRODUIT!B45 -> 14695230 | E22: =PRODUIT!M45 -> 0 | F22: =PRODUIT!N45 -> 240 | G22: =PRODUIT!O45 -> 540 | H22: =PRODUIT!P45 -> 442 | I22: =PRODUIT!Q45 -> 0 | J22: =PRODUIT!R45 -> 0 | K22: =PRODUIT!S45 -> 0
C23: =PRODUIT!B46 -> 69810020 | E23: =PRODUIT!M46 -> 310 | F23: =PRODUIT!N46 -> 290 | G23: =PRODUIT!O46 -> 0 | H23: =PRODUIT!P46 -> 0 | I23: =PRODUIT!Q46 -> 460 | J23: =PRODUIT!R46 -> 240 | K23: =PRODUIT!S46 -> 0
C24: =PRODUIT!B47 -> 14780030 | E24: =PRODUIT!M47 -> 0 | F24: =PRODUIT!N47 -> 0 | G24: =PRODUIT!O47 -> 0 | H24: =PRODUIT!P47 -> 0 | I24: =PRODUIT!Q47 -> 0 | J24: =PRODUIT!R47 -> 230 | K24: =PRODUIT!S47 -> 0
C25: =PRODUIT!B48 -> 73150022 | E25: =PRODUIT!M48 -> 0 | F25: =PRODUIT!N48 -> 0 | G25: =PRODUIT!O48 -> 0 | H25: =PRODUIT!P48 -> 0 | I25: =PRODUIT!Q48 -> 0 | J25: =PRODUIT!R48 -> 210 | K25: =PRODUIT!S48 -> 0
C26: =PRODUIT!B49 -> 16390026 | E26: =PRODUIT!M49 -> 0 | F26: =PRODUIT!N49 -> 0 | G26: =PRODUIT!O49 -> 0 | H26: =PRODUIT!P49 -> 0 | I26: =PRODUIT!Q49 -> 0 | J26: =PRODUIT!R49 -> 0 | K26: =PRODUIT!S49 -> 61
C27: =PRODUIT!B50 -> 16390013 | E27: =PRODUIT!M50 -> 0 | F27: =PRODUIT!N50 -> 0 | G27: =PRODUIT!O50 -> 0 | H27: =PRODUIT!P50 -> 0 | I27: =PRODUIT!Q50 -> 0 | J27: =PRODUIT!R50 -> 10 | K27: =PRODUIT!S50 -> 20
C28: =PRODUIT!B51 -> 69610020 | E28: =PRODUIT!M51 -> 100 | F28: =PRODUIT!N51 -> 0 | G28: =PRODUIT!O51 -> 0 | H28: =PRODUIT!P51 -> 0 | I28: =PRODUIT!Q51 -> 0 | J28: =PRODUIT!R51 -> 0 | K28: =PRODUIT!S51 -> 0
B29: =PRODUIT!C52 -> BASIQUE COMBIBLOC | C29: =PRODUIT!B53 -> 19830024 | E29: =PRODUIT!M53 -> 0 | F29: =PRODUIT!N53 -> 0 | G29: =PRODUIT!O53 -> 190 | H29: =PRODUIT!P53 -> 260 | I29: =PRODUIT!Q53 -> 0 | J29: =PRODUIT!R53 -> 0 | K29: =PRODUIT!S53 -> 0
C30: =PRODUIT!B54 -> 69410020 | E30: =PRODUIT!M54 -> 0 | F30: =PRODUIT!N54 -> 0 | G30: =PRODUIT!O54 -> 0 | H30: =PRODUIT!P54 -> 60 | I30: =PRODUIT!Q54 -> 60 | J30: =PRODUIT!R54 -> 0 | K30: =PRODUIT!S54 -> 0
C31: =PRODUIT!B55 -> 75110031 | E31: =PRODUIT!M55 -> 0 | F31: =PRODUIT!N55 -> 0 | G31: =PRODUIT!O55 -> 0 | H31: =PRODUIT!P55 -> 0 | I31: =PRODUIT!Q55 -> 160 | J31: =PRODUIT!R55 -> 0 | K31: =PRODUIT!S55 -> 0
C32: =PRODUIT!B56 -> 71900034 | E32: =PRODUIT!M56 -> 180 | F32: =PRODUIT!N56 -> 40 | G32: =PRODUIT!O56 -> 0 | H32: =PRODUIT!P56 -> 70 | I32: =PRODUIT!Q56 -> 190 | J32: =PRODUIT!R56 -> 130 | K32: =PRODUIT!S56 -> 190
C33: =PRODUIT!B57 -> 16755012 | E33: =PRODUIT!M57 -> 0 | F33: =PRODUIT!N57 -> 25 | G33: =PRODUIT!O57 -> 0 | H33: =PRODUIT!P57 -> 0 | I33: =PRODUIT!Q57 -> 0 | J33: =PRODUIT!R57 -> 0 | K33: =PRODUIT!S57 -> 0
C34: =PRODUIT!B58 -> 74010030 | E34: =PRODUIT!M58 -> 0 | F34: =PRODUIT!N58 -> 0 | G34: =PRODUIT!O58 -> 70 | H34: =PRODUIT!P58 -> 150 | I34: =PRODUIT!Q58 -> 0 | J34: =PRODUIT!R58 -> 0 | K34: =PRODUIT!S58 -> 0
C35: =PRODUIT!B59 -> 72980030 | E35: =PRODUIT!M59 -> 0 | F35: =PRODUIT!N59 -> 140 | G35: =PRODUIT!O59 -> 40 | H35: =PRODUIT!P59 -> 0 | I35: =PRODUIT!Q59 -> 0 | J35: =PRODUIT!R59 -> 140 | K35: =PRODUIT!S59 -> 110
C36: =PRODUIT!B60 -> 17000036 | E36: =PRODUIT!M60 -> 0 | F36: =PRODUIT!N60 -> 0 | G36: =PRODUIT!O60 -> 0 | H36: =PRODUIT!P60 -> 0 | I36: =PRODUIT!Q60 -> 0 | J36: =PRODUIT!R60 -> 30 | K36: =PRODUIT!S60 -> 0
C37: =PRODUIT!B61 -> 70220030 | E37: =PRODUIT!M61 -> 80 | F37: =PRODUIT!N61 -> 0 | G37: =PRODUIT!O61 -> 0 | H37: =PRODUIT!P61 -> 0 | I37: =PRODUIT!Q61 -> 0 | J37: =PRODUIT!R61 -> 0 | K37: =PRODUIT!S61 -> 0
C38: =PRODUIT!B62 -> 14750030 | E38: =PRODUIT!M62 -> 0 | F38: =PRODUIT!N62 -> 160 | G38: =PRODUIT!O62 -> 40 | H38: =PRODUIT!P62 -> 0 | I38: =PRODUIT!Q62 -> 0 | J38: =PRODUIT!R62 -> 0 | K38: =PRODUIT!S62 -> 0
C39: =PRODUIT!B63 -> 79590020 | E39: =PRODUIT!M63 -> 100 | F39: =PRODUIT!N63 -> 0 | G39: =PRODUIT!O63 -> 0 | H39: =PRODUIT!P63 -> 0 | I39: =PRODUIT!Q63 -> 0 | J39: =PRODUIT!R63 -> 0 | K39: =PRODUIT!S63 -> 0
C40: =PRODUIT!B64 -> 79590030 | E40: =PRODUIT!M64 -> 40 | F40: =PRODUIT!N64 -> 0 | G40: =PRODUIT!O64 -> 0 | H40: =PRODUIT!P64 -> 0 | I40: =PRODUIT!Q64 -> 0 | J40: =PRODUIT!R64 -> 0 | K40: =PRODUIT!S64 -> 0
