Workbook
Name IMMAT: OFFSET(RECAP!$A$6,,,COUNTA(RECAP!$A:$A))

Sheet RECAP
B2: VÉRIFICATIONS DES VÉHICULES
B4: Code | C4: Date
B5: Carte | C5: mise en | H5: Entretien | L5: Prochaine Révision | O5: Observations
A6: Tous | B6: Grise | C6: circulation | D6: Kilométrages au | H6: Faite le | I6: Kilométrage | L6: Prévue le | M6: Kilométrage
A7: ='AA-111-ZZ'!B6 -> AA-111-ZZ | B7: ='AA-111-ZZ'!F5 -> 0 | C7: ='AA-111-ZZ'!F4 -> 36526 | D7: ='AA-111-ZZ'!B8 -> 0 | E7: Kms | F7: ='AA-111-ZZ'!$B$9 -> 0 | H7: ='AA-111-ZZ'!G10 -> 0 | I7: ='AA-111-ZZ'!F10 -> 0 | J7: Kms | L7: ='AA-111-ZZ'!G12 -> 0 | M7: ='AA-111-ZZ'!F12 -> 0 | N7: Kms
A8: ='AB-112-ZZ'!B6 -> AB-112-ZZ | B8: ='AB-112-ZZ'!F5 -> 0 | C8: ='AB-112-ZZ'!F4 -> 42005 | D8: ='AB-112-ZZ'!B8 -> 0 | E8: Kms | F8: ='AB-112-ZZ'!$B$9 -> 0 | H8: ='AB-112-ZZ'!G10 -> 0 | I8: ='AB-112-ZZ'!F10 -> 0 | J8: Kms | L8: ='AB-112-ZZ'!G12 -> 0 | M8: ='AB-112-ZZ'!F12 -> 0 | N8: Kms
A9: ='AC-113-ZZ'!B6 -> AC-113-ZZ | B9: ='AC-113-ZZ'!F5 -> 0 | C9: ='AC-113-ZZ'!F4 -> 41802 | D9: ='AC-113-ZZ'!B8 -> 0 | E9: Kms | F9: ='AC-113-ZZ'!$B$9 -> 0 | H9: ='AC-113-ZZ'!G10 -> 0 | I9: ='AB-112-ZZ'!F10 -> 0 | J9: Kms | L9: ='AC-113-ZZ'!G12 -> 0 | M9: ='AC-113-ZZ'!F12 -> 0 | N9: Kms
A10: ='AE-115-ZZ'!B6 -> AE-115-ZZ | B10: ='AE-115-ZZ'!F5 -> 0 | C10: ='AE-115-ZZ'!F4 -> 42005 | D10: ='AE-115-ZZ'!B8 -> 0 | E10: Kms | F10: ='AE-115-ZZ'!$B$9 -> 0 | H10: ='AE-115-ZZ'!G10 -> 0 | I10: ='AE-115-ZZ'!F10 -> 0 | J10: Kms | L10: ='AE-115-ZZ'!G12 -> 0 | M10: ='AE-115-ZZ'!F12 -> 0 | N10: Kms
A11: ='AF-116-ZZ'!B6 -> AF-116-ZZ | B11: ='AF-116-ZZ'!F5 -> 0 | C11: ='AF-116-ZZ'!F4 -> 41355 | D11: ='AF-116-ZZ'!B8 -> 0 | E11: Kms | F11: ='AF-116-ZZ'!$B$9 -> 0 | H11: ='AF-116-ZZ'!G10 -> 0 | I11: ='AF-116-ZZ'!F10 -> 0 | J11: Kms | L11: ='AF-116-ZZ'!G12 -> 0 | M11: ='AF-116-ZZ'!F12 -> 0 | N11: Kms
A12: ='AG-117-ZZ'!B6 -> AG-117-ZZ | B12: ='AG-117-ZZ'!F5 -> 0 | C12: ='AG-117-ZZ'!F4 -> 40785 | D12: ='AG-117-ZZ'!B8 -> 0 | E12: Kms | F12: ='AG-117-ZZ'!$B$9 -> 0 | H12: ='AG-117-ZZ'!G10 -> 0 | I12: ='AG-117-ZZ'!F10 -> 0 | J12: Kms | L12: ='AG-117-ZZ'!G12 -> 0 | M12: ='AG-117-ZZ'!F12 -> 0 | N12: Kms
A13: ='AH-118-ZZ'!B6 -> AH-118-ZZ | B13: ='AH-118-ZZ'!F5 -> 0 | C13: ='AH-118-ZZ'!F4 -> 41445 | D13: ='AH-118-ZZ'!B8 -> 0 | E13: Kms | F13: ='AH-118-ZZ'!$B$9 -> 0 | H13: ='AH-118-ZZ'!G10 -> 0 | I13: ='AH-118-ZZ'!F10 -> 0 | J13: Kms | L13: ='AH-118-ZZ'!G12 -> 0 | M13: ='AH-118-ZZ'!F12 -> 0 | N13: Kms
A14: ='AI-119-ZZ'!B6 -> AI-119-ZZ | B14: ='AI-119-ZZ'!F5 -> 0 | C14: ='AI-119-ZZ'!F4 -> 40148 | D14: ='AI-119-ZZ'!B8 -> 0 | E14: Kms | F14: ='AI-119-ZZ'!$B$9 -> 0 | H14: ='AI-119-ZZ'!G10 -> 0 | I14: ='AI-119-ZZ'!F10 -> 0 | J14: Kms | L14: ='AI-119-ZZ'!G12 -> 0 | M14: ='AI-119-ZZ'!F12 -> 0 | N14: Kms
A15: ='AJ-120-ZZ'!B6 -> AJ-120-ZZ | B15: ='AJ-120-ZZ'!F5 -> 0 | C15: ='AJ-120-ZZ'!F4 -> 42123 | D15: ='AJ-120-ZZ'!B8 -> 0 | E15: Kms | F15: ='AJ-120-ZZ'!$B$9 -> 0 | H15: ='AJ-120-ZZ'!G10 -> 0 | I15: ='AJ-120-ZZ'!F10 -> 0 | J15: Kms | L15: ='AJ-120-ZZ'!G12 -> 0 | M15: ='AJ-120-ZZ'!F12 -> 0 | N15: Kms
A16: ='AK-121-ZZ'!B6 -> AK-121-ZZ | B16: ='AK-121-ZZ'!F5 -> 0 | C16: ='AK-121-ZZ'!F4 -> 40541 | D16: ='AK-121-ZZ'!B8 -> 0 | E16: Kms | F16: ='AK-121-ZZ'!$B$9 -> 0 | H16: ='AK-121-ZZ'!G10 -> 0 | I16: ='AK-121-ZZ'!F10 -> 0 | J16: Kms | L16: ='AK-121-ZZ'!G12 -> 0 | M16: ='AK-121-ZZ'!F12 -> 0 | N16: Kms
A17: ='AL-122-ZZ'!B6 -> AL-122-ZZ | B17: ='AL-122-ZZ'!F5 -> 0 | C17: ='AL-122-ZZ'!F4 -> 42005 | D17: ='AL-122-ZZ'!B8 -> 0 | E17: Kms | F17: ='AL-122-ZZ'!$B$9 -> 0 | H17: ='AL-122-ZZ'!G10 -> 0 | I17: ='AL-122-ZZ'!F10 -> 0 | J17: Kms | L17: ='AL-122-ZZ'!G12 -> 0 | M17: ='AL-122-ZZ'!F12 -> 0 | N17: Kms
A18: ='1295 YZ 62'!B6 -> 1295 YZ 62 | B18: ='1295 YZ 62'!$F$5 -> 0 | C18: ='1295 YZ 62'!F4 -> 35796 | D18: ='1295 YZ 62'!$B$8 -> 0 | E18: Kms | F18: ='1295 YZ 62'!$B$9 -> 0 | H18: ='1295 YZ 62'!G10 -> 0 | I18: ='1295 YZ 62'!F10 -> 0 | J18: Kms | L18: ='1295 YZ 62'!G12 -> 0 | M18: ='1295 YZ 62'!F12 -> 0 | N18: Kms
E19: Kms | J19: Kms | N19: Kms
E20: Kms

Sheet RECAP COUT VEHICULE
B1: =IF(C3="TOUS","COUT PAR ANNEE FLOTTE VEHICULE","COUT VEHICULE PAR ANNÉE") -> COUT PAR ANNEE FLOTTE VEHICULE | J1: 1980 | K1: =J1+1 -> 1981 | L1: =K1+1 -> 1982 | M1: =L1+1 -> 1983 | N1: =M1+1 -> 1984 | O1: =N1+1 -> 1985 | P1: =O1+1 -> 1986 | Q1: =P1+1 -> 1987 | R1: =Q1+1 -> 1988 | ... BR1: =BQ1+1 -> 2040
B3: IMMAT | C3: Tous
B5: ANNEES | C5: COUT
B6: =IF(C3="TOUS",YEAR(SMALL(RECAP!C7:C20,1)),YEAR(INDIRECT("'"&$C$3&"'!F4"))) -> 1998 | C6: =IF(B6="","",IF(B6="Totaux",SUM($C5:C$6),SUMPRODUCT((YEAR(INDIRECT("'"&$C$3&"'!$b$17:b100"))=B6)*(INDIRECT("'"&$C$3&"'!$g$17:g100"))))) -> #REF! | E6: =SUM(D:F!AB2) -> 374.9 | F6: =SUBSTITUTE(ADDRESS(2,MATCH(B6,$J$1:$BR$1)+9),"$","") -> AB2
B7: =IF(OR(B6="",B6="Totaux"),"",IF(B6=YEAR(TODAY()),"Totaux",B6+1)) -> 1999 | C7: =IF(B7="","",IF(B7="Totaux",SUM($C6:C$6),SUMPRODUCT((YEAR(INDIRECT("'"&$C$3&"'!$b$17:b100"))=B7)*(INDIRECT("'"&$C$3&"'!$g$17:g100"))))) -> #REF!
B8: =IF(OR(B7="",B7="Totaux"),"",IF(B7=YEAR(TODAY()),"Totaux",B7+1)) -> 2000 | C8: =IF(B8="","",IF(B8="Totaux",SUM($C$6:C7),SUMPRODUCT((YEAR(INDIRECT("'"&$C$3&"'!$b$17:b100"))=B8)*(INDIRECT("'"&$C$3&"'!$g$17:g100"))))) -> #REF! | E8: Comment écrire la formule qui determine l'adresse dans la formule somme?
B9: =IF(OR(B8="",B8="Totaux"),"",IF(B8=YEAR(TODAY()),"Totaux",B8+1)) -> 2001 | C9: =IF(B9="","",IF(B9="Totaux",SUM($C$6:C8),SUMPRODUCT((YEAR(INDIRECT("'"&$C$3&"'!$b$17:b100"))=B9)*(INDIRECT("'"&$C$3&"'!$g$17:g100"))))) -> #REF!
B10: =IF(OR(B9="",B9="Totaux"),"",IF(B9=YEAR(TODAY()),"Totaux",B9+1)) -> 2002 | C10: =IF(B10="","",IF(B10="Totaux",SUM($C$6:C9),SUMPRODUCT((YEAR(INDIRECT("'"&$C$3&"'!$b$17:b100"))=B10)*(INDIRECT("'"&$C$3&"'!$g$17:g100"))))) -> #REF!
B11: =IF(OR(B10="",B10="Totaux"),"",IF(B10=YEAR(TODAY()),"Totaux",B10+1)) -> 2003 | C11: =IF(B11="","",IF(B11="Totaux",SUM($C$6:C10),SUMPRODUCT((YEAR(INDIRECT("'"&$C$3&"'!$b$17:b100"))=B11)*(INDIRECT("'"&$C$3&"'!$g$17:g100"))))) -> #REF!
B12: =IF(OR(B11="",B11="Totaux"),"",IF(B11=YEAR(TODAY()),"Totaux",B11+1)) -> 2004 | C12: =IF(B12="","",IF(B12="Totaux",SUM($C$6:C11),SUMPRODUCT((YEAR(INDIRECT("'"&$C$3&"'!$b$17:b100"))=B12)*(INDIRECT("'"&$C$3&"'!$g$17:g100"))))) -> #REF!
B13: =IF(OR(B12="",B12="Totaux"),"",IF(B12=YEAR(TODAY()),"Totaux",B12+1)) -> 2005 | C13: =IF(B13="","",IF(B13="Totaux",SUM($C$6:C12),SUMPRODUCT((YEAR(INDIRECT("'"&$C$3&"'!$b$17:b100"))=B13)*(INDIRECT("'"&$C$3&"'!$g$17:g100"))))) -> #REF!
B14: =IF(OR(B13="",B13="Totaux"),"",IF(B13=YEAR(TODAY()),"Totaux",B13+1)) -> 2006 | C14: =IF(B14="","",IF(B14="Totaux",SUM($C$6:C13),SUMPRODUCT((YEAR(INDIRECT("'"&$C$3&"'!$b$17:b100"))=B14)*(INDIRECT("'"&$C$3&"'!$g$17:g100"))))) -> #REF!
B15: =IF(OR(B14="",B14="Totaux"),"",IF(B14=YEAR(TODAY()),"Totaux",B14+1)) -> 2007 | C15: =IF(B15="","",IF(B15="Totaux",SUM($C$6:C14),SUMPRODUCT((YEAR(INDIRECT("'"&$C$3&"'!$b$17:b100"))=B15)*(INDIRECT("'"&$C$3&"'!$g$17:g100"))))) -> #REF!
B16: =IF(OR(B15="",B15="Totaux"),"",IF(B15=YEAR(TODAY()),"Totaux",B15+1)) -> 2008 | C16: =IF(B16="","",IF(B16="Totaux",SUM($C$6:C15),SUMPRODUCT((YEAR(INDIRECT("'"&$C$3&"'!$b$17:b100"))=B16)*(INDIRECT("'"&$C$3&"'!$g$17:g100"))))) -> #REF!
B17: =IF(OR(B16="",B16="Totaux"),"",IF(B16=YEAR(TODAY()),"Totaux",B16+1)) -> 2009 | C17: =IF(B17="","",IF(B17="Totaux",SUM($C$6:C16),SUMPRODUCT((YEAR(INDIRECT("'"&$C$3&"'!$b$17:b100"))=B17)*(INDIRECT("'"&$C$3&"'!$g$17:g100"))))) -> #REF!
B18: =IF(OR(B17="",B17="Totaux"),"",IF(B17=YEAR(TODAY()),"Totaux",B17+1)) -> 2010 | C18: =IF(B18="","",IF(B18="Totaux",SUM($C$6:C17),SUMPRODUCT((YEAR(INDIRECT("'"&$C$3&"'!$b$17:b100"))=B18)*(INDIRECT("'"&$C$3&"'!$g$17:g100"))))) -> #REF!
B19: =IF(OR(B18="",B18="Totaux"),"",IF(B18=YEAR(TODAY()),"Totaux",B18+1)) -> 2011 | C19: =IF(B19="","",IF(B19="Totaux",SUM($C$6:C18),SUMPRODUCT((YEAR(INDIRECT("'"&$C$3&"'!$b$17:b100"))=B19)*(INDIRECT("'"&$C$3&"'!$g$17:g100"))))) -> #REF!
B20: =IF(OR(B19="",B19="Totaux"),"",IF(B19=YEAR(TODAY()),"Totaux",B19+1)) -> 2012 | C20: =IF(B20="","",IF(B20="Totaux",SUM($C$6:C19),SUMPRODUCT((YEAR(INDIRECT("'"&$C$3&"'!$b$17:b100"))=B20)*(INDIRECT("'"&$C$3&"'!$g$17:g100"))))) -> #REF!
... B42: =IF(OR(B41="",B41="Totaux"),"",IF(B41=YEAR(TODAY()),"Totaux",B41+1)) | C42: =IF(B42="","",IF(B42="Totaux",SUM($C$6:C41),SUMPRODUCT((YEAR(INDIRECT("'"&$C$3&"'!$b$17:b100"))=B42)*(INDIRECT("'"&$C$3&"'!$g$17:g100")))))

Sheet D

Sheet AA-111-ZZ
J1: ='RECAP COUT VEHICULE'!J1 -> 1980 | K1: =J1+1 -> 1981 | L1: =K1+1 -> 1982 | M1: =L1+1 -> 1983 | N1: =M1+1 -> 1984 | O1: =N1+1 -> 1985 | P1: =O1+1 -> 1986 | Q1: =P1+1 -> 1987 | R1: =Q1+1 -> 1988 | ... BR1: =BQ1+1 -> 2040
J2: =SUMPRODUCT((YEAR($B$17:$B$100)=J1)*($G$17:$G$100)) -> 0 | K2: =SUMPRODUCT((YEAR($B$17:$B$100)=K1)*($G$17:$G$100)) -> 0 | L2: =SUMPRODUCT((YEAR($B$17:$B$100)=L1)*($G$17:$G$100)) -> 0 | M2: =SUMPRODUCT((YEAR($B$17:$B$100)=M1)*($G$17:$G$100)) -> 0 | N2: =SUMPRODUCT((YEAR($B$17:$B$100)=N1)*($G$17:$G$100)) -> 0 | O2: =SUMPRODUCT((YEAR($B$17:$B$100)=O1)*($G$17:$G$100)) -> 0 | P2: =SUMPRODUCT((YEAR($B$17:$B$100)=P1)*($G$17:$G$100)) -> 0 | Q2: =SUMPRODUCT((YEAR($B$17:$B$100)=Q1)*($G$17:$G$100)) -> 0 | ... BR2: =SUMPRODUCT((YEAR($B$17:$B$100)=BR1)*($G$17:$G$100)) -> 0
A4: Marque : | D4: Date 1e mise en service : | F4: 36526
A5: Modèle : | D5: Code Carte Grise :
A6: Immatriculation : | B6: AA-111-ZZ | D6: Contrat d'entretien :
A7: Affectation : | D7: Réf contrat :
A8: Kilométrage (total) : | C8: kms
A9: Date relève : | F9: KMS | G9: DATE
E10: Dernière Révision
B11: DATE | F11: 40000 | G11: + 24 mois
A12: Prochain CT : | E12: Prochaine Révision :
F13: (le premier des deux termes atteint)
A15: Bon n° | B15: Suivi | E15: Entretien & Réparations
B16: Date | C16: Chauffeur | D16: Kilométrage | E16: Nature intervention | G16: Montant TTC
B17: 43118 | D17: 1582 | E17: Passage au garage sous garantie | G17: 50

Sheet AB-112-ZZ
J1: ='RECAP COUT VEHICULE'!J1 -> 1980 | K1: =J1+1 -> 1981 | L1: =K1+1 -> 1982 | M1: =L1+1 -> 1983 | N1: =M1+1 -> 1984 | O1: =N1+1 -> 1985 | P1: =O1+1 -> 1986 | Q1: =P1+1 -> 1987 | R1: =Q1+1 -> 1988 | ... BR1: =BQ1+1 -> 2040
J2: =SUMPRODUCT((YEAR($B$17:$B$100)=J1)*($G$17:$G$100)) -> 0 | K2: =SUMPRODUCT((YEAR($B$17:$B$100)=K1)*($G$17:$G$100)) -> 0 | L2: =SUMPRODUCT((YEAR($B$17:$B$100)=L1)*($G$17:$G$100)) -> 0 | M2: =SUMPRODUCT((YEAR($B$17:$B$100)=M1)*($G$17:$G$100)) -> 0 | N2: =SUMPRODUCT((YEAR($B$17:$B$100)=N1)*($G$17:$G$100)) -> 0 | O2: =SUMPRODUCT((YEAR($B$17:$B$100)=O1)*($G$17:$G$100)) -> 0 | P2: =SUMPRODUCT((YEAR($B$17:$B$100)=P1)*($G$17:$G$100)) -> 0 | Q2: =SUMPRODUCT((YEAR($B$17:$B$100)=Q1)*($G$17:$G$100)) -> 0 | ... BR2: =SUMPRODUCT((YEAR($B$17:$B$100)=BR1)*($G$17:$G$100)) -> 0
A4: Marque : | D4: Date 1e mise en service : | F4: 42005
A5: Modèle : | D5: Code Carte Grise :
A6: Immatriculation : | B6: AB-112-ZZ | D6: Contrat d'entretien :
A7: Affectation : | D7: Réf contrat :
A8: Kilométrage (total) : | C8: kms
A9: Date relève : | F9: KMS | G9: DATE
E10: Dernière Révision
B11: DATE | F11: 30000 | G11: + 18 mois
A12: Prochain CT : | E12: Prochaine Révision :
F13: (le premier des deux termes atteint)
A15: Bon n° | B15: Suivi | E15: Entretien & Réparations
B16: Date | C16: Chauffeur | D16: Kilométrage | E16: Nature intervention | G16: Montant TTC
B17: 42193 | G17: 240
B18: 42696 | G18: 171
B19: 42843 | G19: 157.67
B20: 43035 | G20: 255.6
B21: 43115 | G21: 2997.85

Sheet AC-113-ZZ
J1: ='RECAP COUT VEHICULE'!J1 -> 1980 | K1: =J1+1 -> 1981 | L1: =K1+1 -> 1982 | M1: =L1+1 -> 1983 | N1: =M1+1 -> 1984 | O1: =N1+1 -> 1985 | P1: =O1+1 -> 1986 | Q1: =P1+1 -> 1987 | R1: =Q1+1 -> 1988 | ... BR1: =BQ1+1 -> 2040
J2: =SUMPRODUCT((YEAR($B$17:$B$100)=J1)*($G$17:$G$100)) -> 0 | K2: =SUMPRODUCT((YEAR($B$17:$B$100)=K1)*($G$17:$G$100)) -> 0 | L2: =SUMPRODUCT((YEAR($B$17:$B$100)=L1)*($G$17:$G$100)) -> 0 | M2: =SUMPRODUCT((YEAR($B$17:$B$100)=M1)*($G$17:$G$100)) -> 0 | N2: =SUMPRODUCT((YEAR($B$17:$B$100)=N1)*($G$17:$G$100)) -> 0 | O2: =SUMPRODUCT((YEAR($B$17:$B$100)=O1)*($G$17:$G$100)) -> 0 | P2: =SUMPRODUCT((YEAR($B$17:$B$100)=P1)*($G$17:$G$100)) -> 0 | Q2: =SUMPRODUCT((YEAR($B$17:$B$100)=Q1)*($G$17:$G$100)) -> 0 | ... BR2: =SUMPRODUCT((YEAR($B$17:$B$100)=BR1)*($G$17:$G$100)) -> 0
A4: Marque : | D4: Date 1e mise en service : | F4: 41802
A5: Modèle : | D5: Code Carte Grise :
A6: Immatriculation : | B6: AC-113-ZZ | D6: Contrat d'entretien :
A7: Affectation : | D7: Réf contrat :
A8: Kilométrage (total) : | C8: kms
A9: Date relève : | F9: KMS | G9: DATE
E10: Dernière Révision
B11: DATE | F11: 30000 | G11: + 18 mois
A12: Prochain CT : | E12: Prochaine Révision :
F13: (le premier des deux termes atteint)
A15: Bon n° | B15: Suivi | E15: Entretien & Réparations
B16: Date | C16: Chauffeur | D16: Kilométrage | E16: Nature intervention | G16: Montant TTC
B17: 42209 | G17: 240
B18: 43007 | G18: 171
B19: 43154 | G19: 141.04
B20: 43179 | G20: 163.65

Sheet AE-115-ZZ
J1: ='RECAP COUT VEHICULE'!J1 -> 1980 | K1: =J1+1 -> 1981 | L1: =K1+1 -> 1982 | M1: =L1+1 -> 1983 | N1: =M1+1 -> 1984 | O1: =N1+1 -> 1985 | P1: =O1+1 -> 1986 | Q1: =P1+1 -> 1987 | R1: =Q1+1 -> 1988 | ... BR1: =BQ1+1 -> 2040
J2: =SUMPRODUCT((YEAR($B$17:$B$100)=J1)*($G$17:$G$100)) -> 0 | K2: =SUMPRODUCT((YEAR($B$17:$B$100)=K1)*($G$17:$G$100)) -> 0 | L2: =SUMPRODUCT((YEAR($B$17:$B$100)=L1)*($G$17:$G$100)) -> 0 | M2: =SUMPRODUCT((YEAR($B$17:$B$100)=M1)*($G$17:$G$100)) -> 0 | N2: =SUMPRODUCT((YEAR($B$17:$B$100)=N1)*($G$17:$G$100)) -> 0 | O2: =SUMPRODUCT((YEAR($B$17:$B$100)=O1)*($G$17:$G$100)) -> 0 | P2: =SUMPRODUCT((YEAR($B$17:$B$100)=P1)*($G$17:$G$100)) -> 0 | Q2: =SUMPRODUCT((YEAR($B$17:$B$100)=Q1)*($G$17:$G$100)) -> 0 | ... BR2: =SUMPRODUCT((YEAR($B$17:$B$100)=BR1)*($G$17:$G$100)) -> 0
A4: Marque : | D4: Date 1e mise en service : | F4: 42005
A5: Modèle : | D5: Code Carte Grise :
A6: Immatriculation : | B6: AE-115-ZZ | D6: Contrat d'entretien :
A7: Affectation : | D7: Réf contrat :
A8: Kilométrage (total) : | C8: kms
A9: Date relève : | F9: KMS | G9: DATE
E10: Dernière Révision
B11: DATE | F11: 20000 | G11: + 18 mois
A12: Prochain CT : | E12: Prochaine Révision :
F13: (le premier des deux termes atteint)
A15: Bon n° | B15: Suivi | E15: Entretien & Réparations
B16: Date | C16: Chauffeur | D16: Kilométrage | E16: Nature intervention | G16: Montant TTC
B17: 42101 | G17: 175.5
B18: 42202 | G18: 58
B19: 42355 | G19: 1093.75
B20: 42397 | G20: 98.11
B21: 42508 | G21: 362.7
B22: 42562 | G22: 467.84
B23: 42562 | G23: 58
B24: 42696 | G24: 241.03
B25: 42865 | G25: 171.9
B26: 43020 | G26: 2178.11
B27: 43070 | G27: 58
B28: 43115 | G28: 126
... B30: 43220 | G30: 0

Sheet AF-116-ZZ
J1: ='RECAP COUT VEHICULE'!J1 -> 1980 | K1: =J1+1 -> 1981 | L1: =K1+1 -> 1982 | M1: =L1+1 -> 1983 | N1: =M1+1 -> 1984 | O1: =N1+1 -> 1985 | P1: =O1+1 -> 1986 | Q1: =P1+1 -> 1987 | R1: =Q1+1 -> 1988 | ... BR1: =BQ1+1 -> 2040
J2: =SUMPRODUCT((YEAR($B$17:$B$100)=J1)*($G$17:$G$100)) -> 0 | K2: =SUMPRODUCT((YEAR($B$17:$B$100)=K1)*($G$17:$G$100)) -> 0 | L2: =SUMPRODUCT((YEAR($B$17:$B$100)=L1)*($G$17:$G$100)) -> 0 | M2: =SUMPRODUCT((YEAR($B$17:$B$100)=M1)*($G$17:$G$100)) -> 0 | N2: =SUMPRODUCT((YEAR($B$17:$B$100)=N1)*($G$17:$G$100)) -> 0 | O2: =SUMPRODUCT((YEAR($B$17:$B$100)=O1)*($G$17:$G$100)) -> 0 | P2: =SUMPRODUCT((YEAR($B$17:$B$100)=P1)*($G$17:$G$100)) -> 0 | Q2: =SUMPRODUCT((YEAR($B$17:$B$100)=Q1)*($G$17:$G$100)) -> 0 | ... BR2: =SUMPRODUCT((YEAR($B$17:$B$100)=BR1)*($G$17:$G$100)) -> 0
A4: Marque : | D4: Date 1e mise en service : | F4: 41355
A5: Modèle : | D5: Code Carte Grise :
A6: Immatriculation : | B6: AF-116-ZZ | D6: Contrat d'entretien :
A7: Affectation : | D7: Réf contrat :
A8: Kilométrage (total) : | C8: kms
A9: Date relève : | F9: KMS | G9: DATE
E10: Dernière Révision
B11: DATE | F11: 30000 | G11: + 18 mois
A12: Prochain CT : | E12: Prochaine Révision :
F13: (le premier des deux termes atteint)
A15: Bon n° | B15: Suivi | E15: Entretien & Réparations
B16: Date | C16: Chauffeur | D16: Kilométrage | E16: Nature intervention | G16: Montant TTC
B17: 41732 | G17: 129.6
B18: 42186 | G18: 135
B19: 42486 | G19: 205.2
B20: 42620 | G20: 107.1
B21: 42657 | G21: 58
B22: 42706 | G22: 219.94
B23: 43140 | G23: 135
B24: 43140 | G24: 171.16
B25: 43175 | G25: 66

Sheet AG-117-ZZ
J1: ='RECAP COUT VEHICULE'!J1 -> 1980 | K1: =J1+1 -> 1981 | L1: =K1+1 -> 1982 | M1: =L1+1 -> 1983 | N1: =M1+1 -> 1984 | O1: =N1+1 -> 1985 | P1: =O1+1 -> 1986 | Q1: =P1+1 -> 1987 | R1: =Q1+1 -> 1988 | ... BR1: =BQ1+1 -> 2040
J2: =SUMPRODUCT((YEAR($B$17:$B$100)=J1)*($G$17:$G$100)) -> 0 | K2: =SUMPRODUCT((YEAR($B$17:$B$100)=K1)*($G$17:$G$100)) -> 0 | L2: =SUMPRODUCT((YEAR($B$17:$B$100)=L1)*($G$17:$G$100)) -> 0 | M2: =SUMPRODUCT((YEAR($B$17:$B$100)=M1)*($G$17:$G$100)) -> 0 | N2: =SUMPRODUCT((YEAR($B$17:$B$100)=N1)*($G$17:$G$100)) -> 0 | O2: =SUMPRODUCT((YEAR($B$17:$B$100)=O1)*($G$17:$G$100)) -> 0 | P2: =SUMPRODUCT((YEAR($B$17:$B$100)=P1)*($G$17:$G$100)) -> 0 | Q2: =SUMPRODUCT((YEAR($B$17:$B$100)=Q1)*($G$17:$G$100)) -> 0 | ... BR2: =SUMPRODUCT((YEAR($B$17:$B$100)=BR1)*($G$17:$G$100)) -> 0
A4: Marque : | D4: Date 1e mise en service : | F4: 40785
A5: Modèle : | D5: Code Carte Grise :
A6: Immatriculation : | B6: AG-117-ZZ | D6: Contrat d'entretien :
A7: Affectation : | D7: Réf contrat :
A8: Kilométrage (total) : | C8: kms
A9: Date relève : | F9: KMS | G9: DATE
E10: Dernière Révision
B11: DATE | F11: 30000 | G11: + 18 mois
A12: Prochain CT : | E12: Prochaine Révision :
F13: (le premier des deux termes atteint)
A15: Bon n° | B15: Suivi | E15: Entretien & Réparations
B16: Date | C16: Chauffeur | D16: Kilométrage | E16: Nature intervention | G16: Montant TTC
B17: 42213 | G17: 58
B18: 42397 | G18: 272.75
B19: 42740 | G19: 135
B20: 42832 | G20: 150.35
B21: 42943 | G21: 58
B22: 42983 | G22: 291.86

Sheet AH-118-ZZ
J1: ='RECAP COUT VEHICULE'!J1 -> 1980 | K1: =J1+1 -> 1981 | L1: =K1+1 -> 1982 | M1: =L1+1 -> 1983 | N1: =M1+1 -> 1984 | O1: =N1+1 -> 1985 | P1: =O1+1 -> 1986 | Q1: =P1+1 -> 1987 | R1: =Q1+1 -> 1988 | ... BR1: =BQ1+1 -> 2040
J2: =SUMPRODUCT((YEAR($B$17:$B$100)=J1)*($G$17:$G$100)) -> 0 | K2: =SUMPRODUCT((YEAR($B$17:$B$100)=K1)*($G$17:$G$100)) -> 0 | L2: =SUMPRODUCT((YEAR($B$17:$B$100)=L1)*($G$17:$G$100)) -> 0 | M2: =SUMPRODUCT((YEAR($B$17:$B$100)=M1)*($G$17:$G$100)) -> 0 | N2: =SUMPRODUCT((YEAR($B$17:$B$100)=N1)*($G$17:$G$100)) -> 0 | O2: =SUMPRODUCT((YEAR($B$17:$B$100)=O1)*($G$17:$G$100)) -> 0 | P2: =SUMPRODUCT((YEAR($B$17:$B$100)=P1)*($G$17:$G$100)) -> 0 | Q2: =SUMPRODUCT((YEAR($B$17:$B$100)=Q1)*($G$17:$G$100)) -> 0 | ... BR2: =SUMPRODUCT((YEAR($B$17:$B$100)=BR1)*($G$17:$G$100)) -> 0
A4: Marque : | D4: Date 1e mise en service : | F4: 41445
A5: Modèle : | D5: Code Carte Grise :
A6: Immatriculation : | B6: AH-118-ZZ | D6: Contrat d'entretien :
A7: Affectation : | D7: Réf contrat :
A8: Kilométrage (total) : | C8: kms
A9: Date relève : | F9: KMS | G9: DATE
E10: Dernière Révision
B11: DATE | F11: 30000 | G11: + 18 mois
A12: Prochain CT : | E12: Prochaine Révision :
F13: (le premier des deux termes atteint)
A15: Bon n° | B15: Suivi | E15: Entretien & Réparations
B16: Date | C16: Chauffeur | D16: Kilométrage | E16: Nature intervention | G16: Montant TTC
B17: 41732 | G17: 129.6
B18: 41949 | G18: 1163.7
B19: 42144 | G19: 300
B20: 42507 | G20: 273.6
B21: 42625 | G21: 487.28
B22: 42796 | G22: 34.64
B23: 42895 | G23: 259.81
B24: 42905 | G24: 58
B25: 42943 | G25: 413.24
B26: 42989 | G26: 16
B27: 43066 | G27: 310.71
B28: 42830 | G28: 135

Sheet AI-119-ZZ
J1: ='RECAP COUT VEHICULE'!J1 -> 1980 | K1: =J1+1 -> 1981 | L1: =K1+1 -> 1982 | M1: =L1+1 -> 1983 | N1: =M1+1 -> 1984 | O1: =N1+1 -> 1985 | P1: =O1+1 -> 1986 | Q1: =P1+1 -> 1987 | R1: =Q1+1 -> 1988 | ... BR1: =BQ1+1 -> 2040
J2: =SUMPRODUCT((YEAR($B$17:$B$100)=J1)*($G$17:$G$100)) -> 0 | K2: =SUMPRODUCT((YEAR($B$17:$B$100)=K1)*($G$17:$G$100)) -> 0 | L2: =SUMPRODUCT((YEAR($B$17:$B$100)=L1)*($G$17:$G$100)) -> 0 | M2: =SUMPRODUCT((YEAR($B$17:$B$100)=M1)*($G$17:$G$100)) -> 0 | N2: =SUMPRODUCT((YEAR($B$17:$B$100)=N1)*($G$17:$G$100)) -> 0 | O2: =SUMPRODUCT((YEAR($B$17:$B$100)=O1)*($G$17:$G$100)) -> 0 | P2: =SUMPRODUCT((YEAR($B$17:$B$100)=P1)*($G$17:$G$100)) -> 0 | Q2: =SUMPRODUCT((YEAR($B$17:$B$100)=Q1)*($G$17:$G$100)) -> 0 | ... BR2: =SUMPRODUCT((YEAR($B$17:$B$100)=BR1)*($G$17:$G$100)) -> 0
A4: Marque : | D4: Date 1e mise en service : | F4: 40148
A5: Modèle : | D5: Code Carte Grise :
A6: Immatriculation : | B6: AI-119-ZZ | D6: Contrat d'entretien :
A7: Affectation : | D7: Réf contrat :
A8: Kilométrage (total) : | C8: kms
A9: Date relève : | F9: KMS | G9: DATE
E10: Dernière Révision
B11: DATE | F11: 30000 | G11: + 18 mois
A12: Prochain CT : | E12: Prochaine Révision :
F13: (le premier des deux termes atteint)
A15: Bon n° | B15: Suivi | E15: Entretien & Réparations
B16: Date | C16: Chauffeur | D16: Kilométrage | E16: Nature intervention | G16: Montant TTC
B17: 41607 | G17: 58
B18: 42144 | G18: 240
B19: 42312 | G19: 371.42
B20: 42335 | G20: 58
B21: 42486 | G21: 374.16
B22: 42699 | G22: 58
B23: 42830 | G23: 522.19
B24: 42900 | G24: 334.09
B25: 43063 | G25: 58
B26: 43069 | G26: 71.52
B27: 43070 | G27: 15.82
B28: 43112 | G28: 425.06
... B30: 43151 | G30: 526.8

Sheet AJ-120-ZZ
J1: ='RECAP COUT VEHICULE'!J1 -> 1980 | K1: =J1+1 -> 1981 | L1: =K1+1 -> 1982 | M1: =L1+1 -> 1983 | N1: =M1+1 -> 1984 | O1: =N1+1 -> 1985 | P1: =O1+1 -> 1986 | Q1: =P1+1 -> 1987 | R1: =Q1+1 -> 1988 | ... BR1: =BQ1+1 -> 2040
J2: =SUMPRODUCT((YEAR($B$17:$B$100)=J1)*($G$17:$G$100)) -> 0 | K2: =SUMPRODUCT((YEAR($B$17:$B$100)=K1)*($G$17:$G$100)) -> 0 | L2: =SUMPRODUCT((YEAR($B$17:$B$100)=L1)*($G$17:$G$100)) -> 0 | M2: =SUMPRODUCT((YEAR($B$17:$B$100)=M1)*($G$17:$G$100)) -> 0 | N2: =SUMPRODUCT((YEAR($B$17:$B$100)=N1)*($G$17:$G$100)) -> 0 | O2: =SUMPRODUCT((YEAR($B$17:$B$100)=O1)*($G$17:$G$100)) -> 0 | P2: =SUMPRODUCT((YEAR($B$17:$B$100)=P1)*($G$17:$G$100)) -> 0 | Q2: =SUMPRODUCT((YEAR($B$17:$B$100)=Q1)*($G$17:$G$100)) -> 0 | ... BR2: =SUMPRODUCT((YEAR($B$17:$B$100)=BR1)*($G$17:$G$100)) -> 0
A4: Marque : | D4: Date 1e mise en service : | F4: 42123
A5: Modèle : | D5: Code Carte Grise :
A6: Immatriculation : | B6: AJ-120-ZZ | D6: Contrat d'entretien :
A7: Affectation : | D7: Réf contrat :
A8: Kilométrage (total) : | C8: kms
A9: Date relève : | F9: KMS | G9: DATE
E10: Dernière Révision
B11: DATE | F11: 30000 | G11: + 18 mois
A12: Prochain CT : | E12: Prochaine Révision :
F13: (le premier des deux termes atteint)
A15: Bon n° | B15: Suivi | E15: Entretien & Réparations
B16: Date | C16: Chauffeur | D16: Kilométrage | E16: Nature intervention | G16: Montant TTC
B17: 42440 | G17: 316.15
B18: 42502 | G18: 135
B19: 42830 | G19: 494.82
B20: 43047 | G20: 62
B21: 43070 | G21: 327.77
B22: 43126 | G22: 234.82
B23: 42830 | G23: 171
B24: 43173 | G24: 231.3

Sheet AK-121-ZZ
J1: ='RECAP COUT VEHICULE'!J1 -> 1980 | K1: =J1+1 -> 1981 | L1: =K1+1 -> 1982 | M1: =L1+1 -> 1983 | N1: =M1+1 -> 1984 | O1: =N1+1 -> 1985 | P1: =O1+1 -> 1986 | Q1: =P1+1 -> 1987 | R1: =Q1+1 -> 1988 | ... BR1: =BQ1+1 -> 2040
J2: =SUMPRODUCT((YEAR($B$17:$B$100)=J1)*($G$17:$G$100)) -> 0 | K2: =SUMPRODUCT((YEAR($B$17:$B$100)=K1)*($G$17:$G$100)) -> 0 | L2: =SUMPRODUCT((YEAR($B$17:$B$100)=L1)*($G$17:$G$100)) -> 0 | M2: =SUMPRODUCT((YEAR($B$17:$B$100)=M1)*($G$17:$G$100)) -> 0 | N2: =SUMPRODUCT((YEAR($B$17:$B$100)=N1)*($G$17:$G$100)) -> 0 | O2: =SUMPRODUCT((YEAR($B$17:$B$100)=O1)*($G$17:$G$100)) -> 0 | P2: =SUMPRODUCT((YEAR($B$17:$B$100)=P1)*($G$17:$G$100)) -> 0 | Q2: =SUMPRODUCT((YEAR($B$17:$B$100)=Q1)*($G$17:$G$100)) -> 0 | ... BR2: =SUMPRODUCT((YEAR($B$17:$B$100)=BR1)*($G$17:$G$100)) -> 0
A4: Marque : | D4: Date 1e mise en service : | F4: 40541
A5: Modèle : | D5: Code Carte Grise :
A6: Immatriculation : | B6: AK-121-ZZ | D6: Contrat d'entretien :
A7: Affectation : | D7: Réf contrat :
A8: Kilométrage (total) : | C8: kms
A9: Date relève : | F9: KMS | G9: DATE
E10: Dernière Révision
B11: DATE | F11: 30000 | G11: + 18 mois
A12: Prochain CT : | E12: Prochaine Révision :
F13: (le premier des deux termes atteint)
A15: Bon n° | B15: Suivi | E15: Entretien & Réparations
B16: Date | C16: Chauffeur | D16: Kilométrage | E16: Nature intervention | G16: Montant TTC
B17: 41811 | G17: 58
B18: 42172 | G18: 798
B19: 42174 | G19: 58
B20: 42432 | G20: 445.16
B21: 42481 | G21: 232.2
B22: 42486 | G22: 323.46
B23: 42537 | G23: 58
B24: 42538 | G24: 205.76
B25: 42892 | G25: 394.68
B26: 42900 | G26: 168
B27: 42902 | G27: 58
B28: 43004 | G28: 321.3
... B30: 43164 | G30: 98.1

Sheet AL-122-ZZ
J1: ='RECAP COUT VEHICULE'!J1 -> 1980 | K1: =J1+1 -> 1981 | L1: =K1+1 -> 1982 | M1: =L1+1 -> 1983 | N1: =M1+1 -> 1984 | O1: =N1+1 -> 1985 | P1: =O1+1 -> 1986 | Q1: =P1+1 -> 1987 | R1: =Q1+1 -> 1988 | ... BR1: =BQ1+1 -> 2040
J2: =SUMPRODUCT((YEAR($B$17:$B$100)=J1)*($G$17:$G$100)) -> 0 | K2: =SUMPRODUCT((YEAR($B$17:$B$100)=K1)*($G$17:$G$100)) -> 0 | L2: =SUMPRODUCT((YEAR($B$17:$B$100)=L1)*($G$17:$G$100)) -> 0 | M2: =SUMPRODUCT((YEAR($B$17:$B$100)=M1)*($G$17:$G$100)) -> 0 | N2: =SUMPRODUCT((YEAR($B$17:$B$100)=N1)*($G$17:$G$100)) -> 0 | O2: =SUMPRODUCT((YEAR($B$17:$B$100)=O1)*($G$17:$G$100)) -> 0 | P2: =SUMPRODUCT((YEAR($B$17:$B$100)=P1)*($G$17:$G$100)) -> 0 | Q2: =SUMPRODUCT((YEAR($B$17:$B$100)=Q1)*($G$17:$G$100)) -> 0 | ... BR2: =SUMPRODUCT((YEAR($B$17:$B$100)=BR1)*($G$17:$G$100)) -> 0
A4: Marque : | D4: Date 1e mise en service : | F4: 42005
A5: Modèle : | D5: Code Carte Grise :
A6: Immatriculation : | B6: AL-122-ZZ | D6: 6747 ZY 59 | E6: Contrat d'entretien :
A7: Affectation : | E7: Réf contrat :
A8: Kilométrage (total) : | C8: kms
A9: Date relève : | F9: KMS | G9: DATE
E10: Dernière Révision
B11: DATE | F11: 1 | G11: + 1 mois
A12: Prochain CT : | E12: Prochaine Révision :
F13: (le premier des deux termes atteint)
A15: Bon n° | B15: Suivi | E15: Entretien & Réparations
B16: Date | C16: Chauffeur | D16: Kilométrage | E16: Nature intervention | G16: Montant TTC
B18: 42023 | G18: 58
B19: 42754 | G19: 58
B20: 43119 | G20: 66
B21: 43119 | G21: 98.8
B22: 42804 | G22: 126
B23: 43151 | G23: 280.54
B24: 42941 | G24: 30.11
B25: 42902 | G25: 484.75
B26: 42831 | G26: 116.23
B27: 43182 | G27: 126
B28: 43217 | G28: 21.82
B29: 43217 | G29: 103.8
B30: 43206 | G30: 80.81

Sheet 1295 YZ 62
J1: ='RECAP COUT VEHICULE'!J1 -> 1980 | K1: =J1+1 -> 1981 | L1: =K1+1 -> 1982 | M1: =L1+1 -> 1983 | N1: =M1+1 -> 1984 | O1: =N1+1 -> 1985 | P1: =O1+1 -> 1986 | Q1: =P1+1 -> 1987 | R1: =Q1+1 -> 1988 | ... BR1: =BQ1+1 -> 2040
J2: =SUMPRODUCT((YEAR($B$17:$B$100)=J1)*($G$17:$G$100)) -> 0 | K2: =SUMPRODUCT((YEAR($B$17:$B$100)=K1)*($G$17:$G$100)) -> 0 | L2: =SUMPRODUCT((YEAR($B$17:$B$100)=L1)*($G$17:$G$100)) -> 0 | M2: =SUMPRODUCT((YEAR($B$17:$B$100)=M1)*($G$17:$G$100)) -> 0 | N2: =SUMPRODUCT((YEAR($B$17:$B$100)=N1)*($G$17:$G$100)) -> 0 | O2: =SUMPRODUCT((YEAR($B$17:$B$100)=O1)*($G$17:$G$100)) -> 0 | P2: =SUMPRODUCT((YEAR($B$17:$B$100)=P1)*($G$17:$G$100)) -> 0 | Q2: =SUMPRODUCT((YEAR($B$17:$B$100)=Q1)*($G$17:$G$100)) -> 0 | ... BR2: =SUMPRODUCT((YEAR($B$17:$B$100)=BR1)*($G$17:$G$100)) -> 0
A4: Marque : | D4: Date 1e mise en service : | F4: 35796
A5: Modèle : | D5: Code Carte Grise :
A6: Immatriculation : | B6: 1295 YZ 62 | D6: Contrat d'entretien :
A7: Affectation : | D7: Réf contrat :
A8: Kilométrage (total) : | C8: kms
A9: Date relève : | F9: KMS | G9: DATE
E10: Dernière Révision
B11: DATE | F11: 10000 | G11: + 1 mois
A12: Prochain CT : | E12: Prochaine Révision :
F13: (le premier des deux termes atteint)
A15: Bon n° | B15: Suivi | E15: Entretien & Réparations
B16: Date | C16: Chauffeur | D16: Kilométrage | E16: Nature intervention | G16: Montant TTC
B17: 35909 | G17: 374.9
B18: 42716 | G18: 62
B19: 42748 | G19: 108
B20: 42860 | G20: 295.85
B21: 43048 | G21: 52.68
B22: 43150 | G22: 172.38

Sheet F
