Workbook

Sheet Feuil3
A1: Dernier jours du mois en cours : | B1: 43343
A2: Nombre de jours : | B2: =+TODAY()-B1 -> -28
A3: Intervalle | B3: Oui
A5: Somme de Solde | B5: Étiquettes de colonnes
A6: Étiquettes de lignes | B6: -26 | C6: -21 | D6: -16 | E6: -11 | F6: -6 | G6: -1 | H6: Total général
A7: etc | B7: 850 | C7: 1000 | E7: 1300 | F7: 1450 | G7: 1600 | H7: 6200
A8: joseph | D8: 1150 | H8: 1150
A9: Total général | B9: 850 | C9: 1000 | D9: 1150 | E9: 1300 | F9: 1450 | G9: 1600 | H9: 7350

Sheet Base
A1: Clients | B1: Factures | C1: Solde | D1: date échéance | E1: Retard | F1: Intervalle | G1: etc | H1: etc | I1: etc
A2: toto | B2: 1 | C2: 1500 | D2: 43301 | E2: =+TODAY()-D2 -> 14 | F2: =IF(AND(E2<0,E2>=Feuil3!$B$2),"Oui","Non") -> Non
A3: marie | B3: 2 | C3: 3000 | D3: 43306 | E3: =+TODAY()-D3 -> 9 | F3: =IF(AND(E3<0,E3>=Feuil3!$B$2),"Oui","Non") -> Non
A4: joseph | B4: 3 | C4: 1200 | D4: 43311 | E4: =+TODAY()-D4 -> 4 | F4: =IF(AND(E4<0,E4>=Feuil3!$B$2),"Oui","Non") -> Non
A5: etc | B5: 4 | C5: 1600 | D5: 43316 | E5: =+TODAY()-D5 -> -1 | F5: =IF(AND(E5<0,E5>=Feuil3!$B$2),"Oui","Non") -> Oui
A6: etc | B6: 5 | C6: 1450 | D6: 43321 | E6: =+TODAY()-D6 -> -6 | F6: =IF(AND(E6<0,E6>=Feuil3!$B$2),"Oui","Non") -> Oui
A7: etc | B7: 6 | C7: 1300 | D7: 43326 | E7: =+TODAY()-D7 -> -11 | F7: =IF(AND(E7<0,E7>=Feuil3!$B$2),"Oui","Non") -> Oui
A8: joseph | B8: 7 | C8: 1150 | D8: 43331 | E8: =+TODAY()-D8 -> -16 | F8: =IF(AND(E8<0,E8>=Feuil3!$B$2),"Oui","Non") -> Oui
A9: etc | B9: 8 | C9: 1000 | D9: 43336 | E9: =+TODAY()-D9 -> -21 | F9: =IF(AND(E9<0,E9>=Feuil3!$B$2),"Oui","Non") -> Oui
A10: etc | B10: 9 | C10: 850 | D10: 43341 | E10: =+TODAY()-D10 -> -26 | F10: =IF(AND(E10<0,E10>=Feuil3!$B$2),"Oui","Non") -> Oui
A11: etc | B11: 10 | C11: 700 | D11: 43346 | E11: =+TODAY()-D11 -> -31 | F11: =IF(AND(E11<0,E11>=Feuil3!$B$2),"Oui","Non") -> Non
A12: joseph | B12: 11 | C12: 550 | D12: 43351 | E12: =+TODAY()-D12 -> -36 | F12: =IF(AND(E12<0,E12>=Feuil3!$B$2),"Oui","Non") -> Non
A13: etc | B13: 12 | C13: 400 | D13: 43356 | E13: =+TODAY()-D13 -> -41 | F13: =IF(AND(E13<0,E13>=Feuil3!$B$2),"Oui","Non") -> Non
... A18: etc | B18: 17 | C18: 250 | D18: 43381 | E18: =+TODAY()-D18 -> -66 | F18: =IF(AND(E18<0,E18>=Feuil3!$B$2),"Oui","Non") -> Non
