Workbook

Sheet Feuil1
A1: 061.03533 | B1: Media6 production Metal | C1: 48432600000000 | D1: 15 rue Auguste VILLY | E1: 69550 | F1: AMPLEPUIS | G1: RHONE | H1: RHONE-ALPES | I1: 754797 | J1: 2110429 | K1: 3109B | L1: Fabrication d'autres meubles et industries connexes de l'ameublement
A2: 061.01328 | B2: SOREAL ANSE | C2: 34150000000000 | E2: 69480 | F2: ANSE | G2: RHONE | H2: RHONE-ALPES | I2: 784671 | J2: 2106877 | K2: 0812Z | L2: Exploitation de graviÃ¨res et sabliÃ¨res, extraction d'argiles et de kaolin
A3: 061.03546 | B3: RECYLEX | C3: 54209800000000 | D3: 155 avenue de Beaujeu | E3: 69400 | F3: ARNAS | G3: RHONE | H3: RHONE-ALPES | I3: 783414 | J3: 2116604 | K3: 3832Z | L3: RÃ©cupÃ©ration de dÃ©chets triÃ©s | M3: 5.(a) | N3: Installations pour la valorisation ou l'Ã©limination des dÃ©chets dangereux recevant 10 tonnes par jour
A4: 061.03538 | B4: ADESIA | C4: 30228100000000 | D4: 243, rue de chavanne ZAC de Chavanne | E4: 69400 | F4: ARNAS | G4: RHONE | H4: RHONE-ALPES | I4: 783414 | J4: 2116604 | K4: 1396Z | L4: Fabrication d'autres textiles techniques et industriels
A5: 061.03547 | B5: HENKEL France Operations | C5: 82319100000000 | D5: 299 rue Grange Morin BP 438 | E5: 69400 | F5: ARNAS | G5: RHONE | H5: RHONE-ALPES | I5: 783414 | J5: 2116604 | K5: 2052Z | L5: Fabrication de colles
A6: 061.03862 | B6: C2P | C6: 34223900000000 | D6: ZI NORD ARNAS BP451 155 Avenue de Beaujeu | E6: 69400 | F6: ARNAS | G6: RHONE | H6: RHONE-ALPES | I6: 783414 | J6: 2116604 | K6: 2016Z | L6: Fabrication de matiÃ¨res plastiques de base
A7: 061.03539 | B7: SOLUSTIL | C7: 39814200000000 | D7: 508 rue de l'abbaye | E7: 69400 | F7: ARNAS | G7: RHONE | H7: RHONE-ALPES | I7: 783414 | J7: 2116604 | K7: 2511Z | L7: Fabrication de structures mÃ©talliques et de parties de structures | M7: 2.(f) | N7: Installations de traitement de surface de mÃ©taux et des matiÃ¨res plastiques utilisant un procÃ©dÃ© Ã©lectrolytique ou chimique lorsque le volume des cuves affectÃ©es au traitement est Ã©gal Ã 30 m3
A8: 061.07336 | B8: SYTRAIVAL COMPOSTAGE | C8: 25690100000000 | D8: lieudit Ave Maria | E8: 69400 | F8: ARNAS | G8: RHONE | H8: RHONE-ALPES | I8: 783414 | J8: 2116604 | K8: 3821Z | L8: Traitement et Ã©limination des dÃ©chets non dangereux
A9: 061.03549 | B9: QUARON | C9: 30125300000000 | D9: 235 Rue Grange Morin - ZI Nord Arnas | E9: 69400 | F9: ARNAS | G9: RHONE | H9: RHONE-ALPES | I9: 783414 | J9: 2116604 | K9: 4675Z | L9: Commerce de gros (commerce interentreprises) de produits chimiques | M9: 4.(a).(xi) | N9: tensioactifs et agents de surface
A10: 061.03550 | B10: Chimirec Centre Est | C10: 39390300000000 | E10: 69220 | F10: BELLEVILLE | G10: RHONE | H10: RHONE-ALPES | I10: 786200 | J10: 2126100 | K10: 3812Z | L10: Collecte des dÃ©chets dangereux
A11: 061.01338 | B11: Lafarge Ciment carriÃ¨re Belmont | C11: 30213600000000 | E11: 69380 | F11: BELMONT | G11: RHONE | H11: RHONE-ALPES | I11: 781292 | J11: 2099193 | K11: 2351Z | L11: Fabrication de ciment
A12: 061.03556 | B12: AVERY DENNISON MATERIALS France | C12: 78159700000000 | D12: 7, Rue Pierre POIZAT | E12: 69240 | F12: BOURG-DE-THIZY | G12: RHONE | H12: RHONE-ALPES | I12: 751919 | J12: 2116886 | K12: 1729Z | L12: Fabrication d'autres articles en papier ou en carton | M12: 9.(c) | N12: Installations destinÃ©es au traitement de surface de matiÃ¨res, d'objets ou de produits Ã l'aide de solvants organiques, notamment pour les opÃ©rations d'apprÃªt, d'impression, de revÃªtement, de dÃ©graissage, d'impermÃ©abilisation, de collage, de peinture, de nettoyage ou d'imprÃ©gnation d'une capacitÃ© de consommation de 150 kg par heures ou 200 tonnes par an
A13: 106.00879 | B13: SOGRAP RECYCLAGE (le Four Ã Chaux) | C13: 39912600000000 | E13: 69570 | F13: BOURG-DE-THIZY | G13: RHONE | H13: RHONE-ALPES | I13: 751919 | J13: 2116886 | K13: 3821Z | L13: Traitement et Ã©limination des dÃ©chets non dangereux
A14: 106.00579 | B14: MOINE INDUSTRIES | C14: 41431000000000 | E14: 69530 | F14: BRIGNAIS | G14: RHONE | H14: RHONE-ALPES | I14: 788267 | J14: 2077711 | K14: 2561Z | L14: Traitement et revÃªtement des mÃ©taux
A15: 061.03570 | B15: Chaufferie Urbaine de BRON-PARILLY | C15: 47918300000000 | D15: 17 rue Marcel Sembat | E15: 69500 | F15: BRON | G15: RHONE | H15: RHONE-ALPES | I15: 800848 | J15: 2084505 | K15: 2530Z | L15: Fabrication de gÃ©nÃ©rateurs de vapeur, Ã l'exception des chaudiÃ¨res pour le chauffage central
A16: 061.03567 | B16: Bobst Lyon | C16: 30116600000000 | D16: 35 rue du 35e rÃ©giment d'aviation | E16: 69500 | F16: BRON | G16: RHONE | H16: RHONE-ALPES | I16: 800848 | J16: 2084505 | K16: 2895Z | L16: Fabrication de machines pour les industries du papier et du carton
A17: 061.04158 | B17: HCL GHE (HOPITAL NEURO-CARDIOLOGIQUE-HFME) | C17: 26690000000000 | D17: 59 BOULEVARD PINEL | E17: 69500 | F17: BRON | G17: RHONE | H17: RHONE-ALPES | I17: 800848 | J17: 2084505 | K17: 8610Z | L17: ActivitÃ©s hospitaliÃ¨res
A18: 061.03571 | B18: CENTRE HOSPITALIER 'LE VINATIER' | C18: 26690000000000 | D18: 95 boulevard Pinel | E18: 69500 | F18: BRON | G18: RHONE | H18: RHONE-ALPES | I18: 800848 | J18: 2084505 | K18: 8610Z | L18: ActivitÃ©s hospitaliÃ¨res
A19: 061.03574 | B19: Contitech Anoflex SAS | C19: 41028000000000 | D19: 2-12 avenue BarthÃ©lÃ©my Thimonnier | E19: 69300 | F19: CALUIRE-ET-CUIRE | G19: RHONE | H19: RHONE-ALPES | I19: 795462 | J19: 2091740 | K19: 2814Z | L19: Fabrication d'autres articles de robinetterie
A20: 569.00040 | B20: AUCHAN CALUIRE | C20: 41040900000000 | D20: 10 chemin petit | E20: 69300 | F20: CALUIRE-ET-CUIRE | G20: RHONE | H20: RHONE-ALPES | I20: 795462 | J20: 2091740 | K20: 4711F | L20: HypermarchÃ©s
A21: 061.01343 | B21: VIANNAY FILS ETABLISSEMENTS ISDI | C21: 32886100000000 | E21: 69770 | F21: CHAMBOST-LONGESSAIGNE | G21: RHONE | H21: RHONE-ALPES | I21: 757885 | J21: 2087937 | K21: 4312A | L21: Travaux de terrassement courants et travaux prÃ©paratoires
A22: 061.04280 | B22: Chaufferie de La DuchÃ¨re | C22: 51513000000000 | D22: 565 avenue d'Ecully | E22: 69410 | F22: CHAMPAGNE-AU-MONT-D'OR | G22: RHONE | H22: RHONE-ALPES | I22: 790871 | J22: 2091363 | K22: 3530Z | L22: Production et distribution de vapeur et d'air conditionnÃ© | M22: 1.(c) | N22: Centrales thermiques et autres installations de combustion avec un apport thermiques de 50 MW
A23: 061.08521 | B23: SLBR (SociÃ©tÃ© Lyonnaise et Bressane de Rechapage) | C23: 33421700000000 | D23: Zone Industrielle Les Troques | E23: 69630 | F23: CHAPONOST | G23: RHONE | H23: RHONE-ALPES | I23: 787018 | J23: 2081804 | K23: 2211Z | L23: Fabrication et rechapage de pneumatiques
A24: 061.03585 | B24: ALDER | C24: 97350500000000 | E24: 69700 | F24: CHASSAGNY | G24: RHONE | H24: RHONE-ALPES | I24: 786918 | J24: 2070215 | K24: 2932Z | L24: Fabrication d'autres Ã©quipements automobiles
A25: 106.00204 | B25: VERDOLINI Recyclage | C25: 44017200000000 | D25: Rue Blaise Pascal | E25: 69280 | F25: CHASSIEU | G25: RHONE | H25: RHONE-ALPES | I25: 804628 | J25: 2085014 | K25: 3832Z | L25: RÃ©cupÃ©ration de dÃ©chets triÃ©s
A26: 106.00148 | B26: ONYX ARA - CHASSIEU | C26: 30259100000000 | E26: 69680 | F26: CHASSIEU | G26: RHONE | H26: RHONE-ALPES | I26: 804628 | J26: 2085014 | K26: 3811Z | L26: Collecte des dÃ©chets non dangereux
A27: 061.10436 | B27: PAPREC RESEAU | C27: 95450600000000 | E27: 69680 | F27: CHASSIEU | G27: RHONE | H27: RHONE-ALPES | I27: 804628 | J27: 2085014 | K27: 3832Z | L27: RÃ©cupÃ©ration de dÃ©chets triÃ©s
A28: 061.03932 | B28: chromelec Industries | C28: 53102800000000 | E28: 69680 | F28: CHASSIEU | G28: RHONE | H28: RHONE-ALPES | I28: 804628 | J28: 2085014 | K28: 2561Z | L28: Traitement et revÃªtement des mÃ©taux
A29: 061.09514 | B29: CHIMIMECA | C29: 31623800000000 | E29: 69680 | F29: CHASSIEU | G29: RHONE | H29: RHONE-ALPES | I29: 804628 | J29: 2085014 | K29: 2561Z | L29: Traitement et revÃªtement des mÃ©taux
A30: 061.03933 | B30: HIT | C30: 47988600000000 | D30: 4 RUE LAVOISIER | E30: 69680 | F30: CHASSIEU | G30: RHONE | H30: RHONE-ALPES | I30: 804628 | J30: 2085014 | K30: 2561Z | L30: Traitement et revÃªtement des mÃ©taux | M30: 2.(f) | N30: Installations de traitement de surface de mÃ©taux et des matiÃ¨res plastiques utilisant un procÃ©dÃ© Ã©lectrolytique ou chimique lorsque le volume des cuves affectÃ©es au traitement est Ã©gal Ã 30 m3
A31: 061.07337 | B31: BODYCOTE | C31: 69678000000000 | D31: 4, RUE LAVOISIER CS50032 | E31: 69680 | F31: CHASSIEU | G31: RHONE | H31: RHONE-ALPES | I31: 804628 | J31: 2085014 | K31: 2561Z | L31: Traitement et revÃªtement des mÃ©taux
A32: 061.09435 | B32: TRIADE ELECTRONIQUE | C32: 39195600000000 | D32: Z.I. Champ Dolin 20 rue Bernard Palissy | E32: 69680 | F32: CHASSIEU | G32: RHONE | H32: RHONE-ALPES | I32: 804628 | J32: 2085014 | K32: 3832Z | L32: RÃ©cupÃ©ration de dÃ©chets triÃ©s
A33: 061.03931 | B33: EnrobÃ©s Lyon Est | C33: 31752600000000 | D33: 77 avenue du progrÃ¨s | E33: 69680 | F33: CHASSIEU | G33: RHONE | H33: RHONE-ALPES | I33: 804628 | J33: 2085014 | K33: 2399Z | L33: Fabrication d'autres produits minÃ©raux non mÃ©talliques n.c.a.
A34: 061.03596 | B34: RHODIA OPERATIONS - Etablissement secondaire de Collonges | C34: 62203700000000 | D34: 15 rue Pierre PAYS BP52 | E34: 69660 | F34: COLLONGES-AU-MONT-D'OR | G34: RHONE | H34: RHONE-ALPES | I34: 793893 | J34: 2094500 | K34: 2013B | L34: Fabrication d'autres produits chimiques inorganiques de base n.c.a. | M34: 3.(f) | N34: Installations destinÃ©es Ã la fusion de matiÃ¨res minÃ©rales, y compris celles destinÃ©es Ã la production de fibres minÃ©rales d'une capacitÃ© de fusion de 20 tonnes par jour
A35: 061.03593 | B35: APPIA LIANTS EMULSIONS RAA | C35: 39928000000000 | D35: 3 rue des sabliÃ¨res | E35: 69660 | F35: COLLONGES-AU-MONT-D'OR | G35: RHONE | H35: RHONE-ALPES | I35: 793893 | J35: 2094500 | K35: 2399Z | L35: Fabrication d'autres produits minÃ©raux non mÃ©talliques n.c.a.
A36: 061.04123 | B36: ECO METAL RECYCLAGE INDUSTRIE | C36: 80855600000000 | E36: 69124 | F36: COLOMBIER-SAUGNIEU | G36: RHONE | H36: RHONE-ALPES | I36: 816000 | J36: 2083000 | K36: 3832Z | L36: RÃ©cupÃ©ration de dÃ©chets triÃ©s
A37: 061.04127 | B37: GALYS | C37: 30360100000000 | D37: bp 116 AEROPORT LYON SAINT EXUPERY | E37: 69125 | F37: COLOMBIER-SAUGNIEU | G37: RHONE | H37: RHONE-ALPES | I37: 816000 | J37: 2083000 | K37: 4612B | L37: Autres intermÃ©diaires du commerce en combustibles, mÃ©taux, minÃ©raux et produits chimiques
A38: 106.00304 | B38: GDE Corbas | C38: 65382100000000 | D38: 13 bis avenue de l'industrie | E38: 69960 | F38: CORBAS | G38: RHONE | H38: RHONE-ALPES | I38: 799759 | J38: 2076870 | K38: 3832Z | L38: RÃ©cupÃ©ration de dÃ©chets triÃ©s | M38: 5.(a) | N38: Installations pour la valorisation ou l'Ã©limination des dÃ©chets dangereux recevant 10 tonnes par jour
A39: 061.10750 | B39: Kerakoll France | C39: 80903200000000 | E39: 69960 | F39: CORBAS | G39: RHONE | H39: RHONE-ALPES | I39: 799759 | J39: 2076870 | K39: 2030Z | L39: Fabrication de peintures, vernis, encres et mastics
A40: 061.03948 | B40: LAVARHONE | C40: 33145600000000 | D40: 3 avenue de l'INDUSTRIE | E40: 69960 | F40: CORBAS | G40: RHONE | H40: RHONE-ALPES | I40: 799759 | J40: 2076870 | K40: 8129B | L40: Autres activitÃ©s de nettoyage n.c.a.
A41: 106.00353 | B41: STEF Logistique RhÃ´ne-Alpes site de Corbas | C41: 50087700000000 | D41: 14, Rue Marcel MÃ©rieux | E41: 69960 | F41: CORBAS | G41: RHONE | H41: RHONE-ALPES | I41: 799759 | J41: 2076870 | K41: 5210A | L41: Entreposage et stockage frigorifique
A42: 061.03954 | B42: APPIA LIANTS EMULSIONS RAA | C42: 39928000000000 | D42: 8 rue du DauphinÃ© | E42: 69960 | F42: CORBAS | G42: RHONE | H42: RHONE-ALPES | I42: 799759 | J42: 2076870 | K42: 2399Z | L42: Fabrication d'autres produits minÃ©raux non mÃ©talliques n.c.a.
A43: 061.03942 | B43: ACMET ALLIAGES | C43: 44254500000000 | E43: 69969 | F43: CORBAS | G43: RHONE | H43: RHONE-ALPES | I43: 799759 | J43: 2076870 | K43: 4672Z | L43: Commerce de gros (commerce interentreprises) de minerais et mÃ©taux
A44: 061.03602 | B44: USINES 2/3/5/7 | C44: 41456500000000 | D44: rue du 8 mai 1945 | E44: 69470 | F44: COURS-LA-VILLE | G44: RHONE | H44: RHONE-ALPES | I44: 753370 | J44: 2124038 | K44: 2512Z | L44: Fabrication de portes et fenÃªtres en mÃ©tal
A45: 061.03601 | B45: MALERBA USINE 4 | C45: 41456500000000 | D45: Rue de Lyon | E45: 69470 | F45: COURS-LA-VILLE | G45: RHONE | H45: RHONE-ALPES | I45: 753370 | J45: 2124038 | K45: 2512Z | L45: Fabrication de portes et fenÃªtres en mÃ©tal
A46: 106.00107 | B46: MILTEC SA | C46: 39160500000000 | D46: Rue du 8 mai 1945 - BP24 | E46: 69470 | F46: COURS-LA-VILLE | G46: RHONE | H46: RHONE-ALPES | I46: 753370 | J46: 2124038 | K46: 2562B | L46: MÃ©canique industrielle
A47: 106.00133 | B47: USINE 6 | C47: 41456500000000 | D47: ZI Le Moulin | E47: 69470 | F47: COURS-LA-VILLE | G47: RHONE | H47: RHONE-ALPES | I47: 753370 | J47: 2124038 | K47: 2512Z | L47: Fabrication de portes et fenÃªtres en mÃ©tal
A48: 106.00157 | B48: NJP | C48: 43420100000000 | D48: ZI LE MOULIN 2 B.P. 36 | E48: 69470 | F48: COURS-LA-VILLE | G48: RHONE | H48: RHONE-ALPES | I48: 753370 | J48: 2124038 | K48: 2561Z | L48: Traitement et revÃªtement des mÃ©taux
A49: 106.00187 | B49: AD majoris | C49: 43796100000000 | E49: 69550 | F49: CUBLIZE | G49: RHONE | H49: RHONE-ALPES | I49: 758019 | J49: 2115167 | K49: 2016Z | L49: Fabrication de matiÃ¨res plastiques de base
A50: 061.03607 | B50: FIA | C50: 38854500000000 | D50: 8 route du PÃ©rollier | E50: 69571 | F50: DARDILLY | G50: RHONE | H50: RHONE-ALPES | I50: 787800 | J50: 2092400 | K50: 3211Z | L50: Frappe de monnaie
A51: 569.00076 | B51: AUCHAN France DARDILLY | C51: 41040900000000 | D51: CENTRE COMMERCIAL Porte de Lyon R.N.6 - B.P. 23 | E51: 69571 | F51: DARDILLY | G51: RHONE | H51: RHONE-ALPES | I51: 787800 | J51: 2092400 | K51: 4711F | L51: HypermarchÃ©s
A52: 106.00172 | B52: ELIS RhÃ´ne-Alpes | C52: 77573400000000 | D52: Parc d'activitÃ© les Pivolles 3 rue de Barcelone | E52: 69120 | F52: DECINES-CHARPIEU | G52: RHONE | H52: RHONE-ALPES | I52: 803882 | J52: 2089030 | K52: 7729Z | L52: Location et location-bail d'autres biens personnels et domestiques
A53: 061.12901 | B53: METALDYNE INTERNATIONAL France | C53: 41267100000000 | E53: 69150 | F53: DECINES-CHARPIEU | G53: RHONE | H53: RHONE-ALPES | I53: 803882 | J53: 2089030 | K53: 2811Z | L53: Fabrication de moteurs et turbines, Ã l'exception des moteurs d'avions et de vÃ©hicules
A54: 106.00330 | B54: THB SAS | C54: 34383200000000 | E54: 69150 | F54: DECINES-CHARPIEU | G54: RHONE | H54: RHONE-ALPES | I54: 803882 | J54: 2089030 | K54: 3831Z | L54: DÃ©mantÃ¨lement d'Ã©paves
A55: 061.03805 | B55: RACINE - site de DECINES | C55: 38343500000000 | D55: Chemin des PÃ©piniÃ¨res | E55: 69150 | F55: DECINES-CHARPIEU | G55: RHONE | H55: RHONE-ALPES | I55: 803882 | J55: 2089030 | K55: 8130Z | L55: Services d'amÃ©nagement paysager | M55: 5.(c) | N55: Installations destinÃ©es Ã l'Ã©limination des dÃ©chets non dangereux d'une capacitÃ© de 50 tonnes par jour
A56: 061.03970 | B56: GIFRER BARBEZAT | C56: 77564600000000 | D56: 8-10 rue Paul Bert | E56: 69150 | F56: DECINES-CHARPIEU | G56: RHONE | H56: RHONE-ALPES | I56: 803882 | J56: 2089030 | K56: 2120Z | L56: Fabrication de prÃ©parations pharmaceutiques
A57: 106.00288 | B57: DESCOTE SAS | C57: 30204700000000 | E57: 69320 | F57: FEYZIN | G57: RHONE | H57: RHONE-ALPES | I57: 796518 | J57: 2077144 | K57: 2814Z | L57: Fabrication d'autres articles de robinetterie
A58: 061.03975 | B58: ALFI-LI | C58: 31412000000000 | D58: 2, Rue du SAUZAI | E58: 69320 | F58: FEYZIN | G58: RHONE | H58: RHONE-ALPES | I58: 796518 | J58: 2077144 | K58: 2011Z | L58: Fabrication de gaz industriels
A59: 061.03973 | B59: Raffinerie de Feyzin | C59: 52922200000000 | D59: BP6 | E59: 69551 | F59: FEYZIN | G59: RHONE | H59: RHONE-ALPES | I59: 796518 | J59: 2077144 | K59: 1920Z | L59: Raffinage du pÃ©trole | M59: 1.(a) | N59: Raffineries de pÃ©trole et de gaz
A60: 061.03974 | B60: RHONE GAZ | C60: 96950700000000 | D60: Rue de Sibelin, SOLAIZE BP31 | E60: 69552 | F60: FEYZIN | G60: RHONE | H60: RHONE-ALPES | I60: 796518 | J60: 2077144 | K60: 8292Z | L60: ActivitÃ©s de conditionnement
A61: 061.03988 | B61: TDS 69 | C61: 33413800000000 | D61: 6 chemin des Muriers | E61: 69740 | F61: GENAS | G61: RHONE | H61: RHONE-ALPES | I61: 807000 | J61: 2084800 | K61: 2561Z | L61: Traitement et revÃªtement des mÃ©taux | M61: 2.(f) | N61: Installations de traitement de surface de mÃ©taux et des matiÃ¨res plastiques utilisant un procÃ©dÃ© Ã©lectrolytique ou chimique lorsque le volume des cuves affectÃ©es au traitement est Ã©gal Ã 30 m3
A62: 106.00137 | B62: RHONE-ALPES ARGENT | C62: 41266200000000 | D62: 2, rue Henri Becquerel | E62: 69740 | F62: GENAS | G62: RHONE | H62: RHONE-ALPES | I62: 807000 | J62: 2084800 | K62: 3832Z | L62: RÃ©cupÃ©ration de dÃ©chets triÃ©s | M62: 5.(a) | N62: Installations pour la valorisation ou l'Ã©limination des dÃ©chets dangereux recevant 10 tonnes par jour
A63: 061.03984 | B63: LGL FRANCE DIVISION REFRIGERATION | C63: 30952800000000 | D63: 42 rue Roger Salengro BP 205 | E63: 69741 | F63: GENAS | G63: RHONE | H63: RHONE-ALPES | I63: 807000 | J63: 2084800 | K63: 2825Z | L63: Fabrication d'Ã©quipements aÃ©rauliques et frigorifiques industriels
A64: 061.03986 | B64: MLB OPERCULA | C64: 95450500000000 | D64: 44, rue Roger Salengro BP 216 | E64: 69743 | F64: GENAS | G64: RHONE | H64: RHONE-ALPES | I64: 807000 | J64: 2084800 | K64: 2592Z | L64: Fabrication d'emballages mÃ©talliques lÃ©gers
A65: 061.03990 | B65: ROBATEL Industries | C65: 43391100000000 | E65: 69747 | F65: GENAS | G65: RHONE | H65: RHONE-ALPES | I65: 807000 | J65: 2084800 | K65: 2829B | L65: Fabrication d'autres machines d'usage gÃ©nÃ©ral
A66: 061.03995 | B66: UNIVAR | C66: 56207100000000 | D66: rue Jacquard | E66: 69726 | F66: GENAY | G66: RHONE | H66: RHONE-ALPES | I66: 794300 | J66: 2102800 | K66: 4675Z | L66: Commerce de gros (commerce interentreprises) de produits chimiques
A67: 061.03994 | B67: EXTRASYNTHESE | C67: 33979400000000 | D67: CS 30062 Impasse Jacquard, Zone Industrielle LYON-Nord | E67: 69727 | F67: GENAY | G67: RHONE | H67: RHONE-ALPES | I67: 794300 | J67: 2102800 | K67: 2059Z | L67: Fabrication d'autres produits chimiques n.c.a. | M67: 4.(e) | N67: Installations utilisant un procÃ©dÃ© chimique ou biologique pour la fabrication industrielle de produits pharmaceutiques de base
A68: 061.03999 | B68: Coatex Usine 1 | C68: 97150900000000 | D68: avenue des frÃ¨res LumiÃ¨re | E68: 69730 | F68: GENAY | G68: RHONE | H68: RHONE-ALPES | I68: 794300 | J68: 2102800 | K68: 2014Z | L68: Fabrication d'autres produits chimiques organiques de base
A69: 061.03991 | B69: GENAY AUTO PIECES | C69: 44477600000000 | E69: 69730 | F69: GENAY | G69: RHONE | H69: RHONE-ALPES | I69: 794300 | J69: 2102800 | K69: 4511Z | L69: Commerce de voitures et de vÃ©hicules automobiles lÃ©gers
A70: 061.04000 | B70: BASF Agri-Production | C70: 34397900000000 | D70: ZI Lyon Nord - Rue Jacquard | E70: 69730 | F70: GENAY | G70: RHONE | H70: RHONE-ALPES | I70: 794300 | J70: 2102800 | K70: 2020Z | L70: Fabrication de pesticides et d'autres produits agrochimiques
A71: 061.03616 | B71: TOTAL Additifs et Carburants SpÃ©ciaux | C71: 95650100000000 | D71: 3, place du Bassin | E71: 69700 | F71: GIVORS | G71: RHONE | H71: RHONE-ALPES | I71: 790141 | J71: 2067686 | K71: 5210B | L71: Entreposage et stockage non frigorifique
A72: 061.03617 | B72: SUEZ RR IWS Chemicals France | C72: 44454800000000 | D72: Route de la centrale | E72: 69700 | F72: GIVORS | G72: RHONE | H72: RHONE-ALPES | I72: 790141 | J72: 2067686 | K72: 3812Z | L72: Collecte des dÃ©chets dangereux | M72: 5.(a) | N72: Installations pour la valorisation ou l'Ã©limination des dÃ©chets dangereux recevant 10 tonnes par jour
A73: 106.00036 | B73: GDE Givors | C73: 65382100000000 | D73: route de rive de gier | E73: 69700 | F73: GIVORS | G73: RHONE | H73: RHONE-ALPES | I73: 790141 | J73: 2067686 | K73: 3832Z | L73: RÃ©cupÃ©ration de dÃ©chets triÃ©s | M73: 5.(a) | N73: Installations pour la valorisation ou l'Ã©limination des dÃ©chets dangereux recevant 10 tonnes par jour
A74: 106.00037 | B74: KUEHNE-NAGEL | C74: 33358300000000 | D74: Rue de la dÃ©mocratie | E74: 69700 | F74: GIVORS | G74: RHONE | H74: RHONE-ALPES | I74: 790141 | J74: 2067686 | K74: 5210A | L74: Entreposage et stockage frigorifique
A75: 061.03613 | B75: SCORI | C75: 31525000000000 | D75: ZAC de l'Ile de Bans | E75: 69700 | F75: GIVORS | G75: RHONE | H75: RHONE-ALPES | I75: 790141 | J75: 2067686 | K75: 3822Z | L75: Traitement et Ã©limination des dÃ©chets dangereux | M75: 5.(a) | N75: Installations pour la valorisation ou l'Ã©limination des dÃ©chets dangereux recevant 10 tonnes par jour
A76: 061.10582 | B76: CARREFOUR | C76: 45132100000000 | E76: 69702 | F76: GIVORS | G76: RHONE | H76: RHONE-ALPES | I76: 790141 | J76: 2067686 | K76: 4711F | L76: HypermarchÃ©s
A77: 061.03638 | B77: EDF CPE Loire sur RhÃ´ne | C77: 55208100000000 | D77: Route de la centrale | E77: 69704 | F77: GIVORS | G77: RHONE | H77: RHONE-ALPES | I77: 790141 | J77: 2067686 | K77: 3511Z | L77: Production d'Ã©lectricitÃ©
A78: 061.03632 | B78: AEI | C78: 53520500000000 | D78: 55 Rue de la Mouche | E78: 69540 | F78: IRIGNY | G78: RHONE | H78: RHONE-ALPES | I78: 793600 | J78: 2077700 | K78: 1330Z | L78: Ennoblissement textile
A79: 061.03633 | B79: JTEKT Automotive Lyon | C79: 44456600000000 | D79: ZI - LE BROTEAU CS 70001 | E79: 69540 | F79: IRIGNY | G79: RHONE | H79: RHONE-ALPES | I79: 793600 | J79: 2077700 | K79: 2932Z | L79: Fabrication d'autres Ã©quipements automobiles
A80: 106.00466 | B80: KELLER DORIAN GRAPHICS | C80: 45046800000000 | E80: 69883 | F80: JONAGE | G80: RHONE | H80: RHONE-ALPES | I80: 810764 | J80: 2092085 | K80: 1813Z | L80: ActivitÃ©s de prÃ©-presse
A81: 061.03657 | B81: SNCF - Technicentre d'Oullins | C81: 55204900000000 | D81: 25 ter Quai Pierre SÃ©mard BP 85 | E81: 69350 | F81: LA MULATIERE | G81: RHONE | H81: RHONE-ALPES | I81: 792748 | J81: 2083589 | K81: 3317Z | L81: RÃ©paration et maintenance d'autres Ã©quipements de transport
A82: 106.00190 | B82: SAS SCHIED ENVIRONNEMENT RECYCLAGE | C82: 80946400000000 | E82: 69620 | F82: LE BOIS-D'OINGT | G82: RHONE | H82: RHONE-ALPES | I82: 774430 | J82: 2104756 | K82: 3832Z | L82: RÃ©cupÃ©ration de dÃ©chets triÃ©s
A83: 061.08695 | B83: CALPI COATING | C83: 75298100000000 | D83: ZA du Charpenay AllÃ©e des Boutons d'Or | E83: 69210 | F83: LENTILLY | G83: RHONE | H83: RHONE-ALPES | I83: 781107 | J83: 2093833 | K83: 2561Z | L83: Traitement et revÃªtement des mÃ©taux | M83: 2.(f) | N83: Installations de traitement de surface de mÃ©taux et des matiÃ¨res plastiques utilisant un procÃ©dÃ© Ã©lectrolytique ou chimique lorsque le volume des cuves affectÃ©es au traitement est Ã©gal Ã 30 m3
A84: 090.00236 | B84: Base aÃ©rienne 942 Lyon mont-Verdun | C84: 13001400000000 | D84: BP 69579 | E84: 69116 | F84: LIMONEST | G84: RHONE | H84: RHONE-ALPES | I84: 789100 | J84: 2095900 | K84: 8422Z | L84: DÃ©fense
A85: 061.05229 | B85: CARLY | C85: 95950000000000 | D85: ZI de BRAILLE | E85: 69380 | F85: LISSIEU | G85: RHONE | H85: RHONE-ALPES | I85: 786700 | J85: 2099000 | K85: 2825Z | L85: Fabrication d'Ã©quipements aÃ©rauliques et frigorifiques industriels
A86: 106.00070 | B86: DELABRE SAS | C86: 35301700000000 | E86: 69700 | F86: LOIRE-SUR-RHONE | G86: RHONE | H86: RHONE-ALPES | I86: 792700 | J86: 2065089 | K86: 3832Z | L86: RÃ©cupÃ©ration de dÃ©chets triÃ©s
A87: 061.03586 | B87: LAFARGE - USINE DU VAL D'AZERGUES | C87: 30213600000000 | D87: BP1 | E87: 69380 | F87: LOZANNE | G87: RHONE | H87: RHONE-ALPES | I87: 782370 | J87: 2098362 | K87: 2351Z | L87: Fabrication de ciment | M87: 3.(c).(i) | N87: de clinker (ciment) dans des fours rotatifs d'une capacitÃ© de production de 500 tonnes par jour
A88: 061.04159 | B88: Chaufferie de Lafayette | C88: 47918300000000 | D88: 192 cours Lafayette | E88: 69003 | F88: LYON | G88: RHONE | H88: RHONE-ALPES | I88: 796020 | J88: 2085439 | K88: 3530Z | L88: Production et distribution de vapeur et d'air conditionnÃ© | M88: 1.(c) | N88: Centrales thermiques et autres installations de combustion avec un apport thermiques de 50 MW
A89: 106.00303 | B89: PURFER | C89: 33262800000000 | E89: 69007 | F89: LYON | G89: RHONE | H89: RHONE-ALPES | I89: 796020 | J89: 2085439 | K89: 3832Z | L89: RÃ©cupÃ©ration de dÃ©chets triÃ©s
A90: 106.00112 | B90: Paprec RÃ©seau | C90: 95450600000000 | E90: 69007 | F90: LYON | G90: RHONE | H90: RHONE-ALPES | I90: 796020 | J90: 2085439 | K90: 3832Z | L90: RÃ©cupÃ©ration de dÃ©chets triÃ©s
A91: 169.00015 | B91: DELPHARM BIOTECH | C91: 78903100000000 | E91: 69007 | F91: LYON | G91: RHONE | H91: RHONE-ALPES | I91: 796020 | J91: 2085439 | K91: 7500Z | L91: ActivitÃ©s vÃ©tÃ©rinaires
A92: 061.04234 | B92: THERMI-LYON | C92: 32441900000000 | D92: 13 av du ChÃ¢teau de Gerland | E92: 69007 | F92: LYON | G92: RHONE | H92: RHONE-ALPES | I92: 796020 | J92: 2085439 | K92: 2561Z | L92: Traitement et revÃªtement des mÃ©taux
A93: 061.04241 | B93: Stockages PÃ©troliers du RhÃ´ne (SPR) | C93: 41938400000000 | D93: 8 rue d'Arles | E93: 69007 | F93: LYON | G93: RHONE | H93: RHONE-ALPES | I93: 796020 | J93: 2085439 | K93: 5210B | L93: Entreposage et stockage non frigorifique
A94: 061.07855 | B94: GENZYME POLYCLONALS SAS | C94: 41866100000000 | E94: 69007 | F94: LYON | G94: RHONE | H94: RHONE-ALPES | I94: 796020 | J94: 2085439 | K94: 2120Z | L94: Fabrication de prÃ©parations pharmaceutiques
A95: 061.04223 | B95: UnitÃ© de Traitement de de Valorisation EnergÃ©tique des dÃ©chets urbains de Lyon Sud | C95: 20004700000000 | D95: Port Edouard Herriot 7, rue de dole | E95: 69007 | F95: LYON | G95: RHONE | H95: RHONE-ALPES | I95: 796020 | J95: 2085439 | K95: 8411Z | L95: Administration publique gÃ©nÃ©rale | M95: 5.(b) | N95: Installations destinÃ©es Ã l'incinÃ©ration des dÃ©chets non dangereux dans le cadre de la directive 2000/76/CE du Parlement europÃ©en et du Conseil du 4 dÃ©cembre 2000 sur l'incinÃ©ration des dÃ©chets d'une capacitÃ© de 3 tonnes par heure
A96: 061.04232 | B96: MERIAL Laboratoire de Lyon Gerland | C96: 59080000000000 | D96: 254 rue Marcel MÃ©rieux | E96: 69007 | F96: LYON | G96: RHONE | H96: RHONE-ALPES | I96: 796020 | J96: 2085439 | K96: 2120Z | L96: Fabrication de prÃ©parations pharmaceutiques
A97: 061.13275 | B97: Pourquery DMP | C97: 43769900000000 | E97: 69007 | F97: LYON | G97: RHONE | H97: RHONE-ALPES | I97: 796020 | J97: 2085439 | K97: 7120B | L97: Analyses, essais et inspections techniques
A98: 106.00226 | B98: BOONE COMENOR METALIMPEX | C98: 31691700000000 | D98: 7, rue de ChÃ¢lon sur SaÃ´ne Port Edouard Herriot | E98: 69007 | F98: LYON | G98: RHONE | H98: RHONE-ALPES | I98: 796020 | J98: 2085439 | K98: 3832Z | L98: RÃ©cupÃ©ration de dÃ©chets triÃ©s
A99: 061.04238 | B99: NEXANS France Ã©tablissement de Lyon | C99: 42859300000000 | D99: 29 rue PrÃ© Gaudry BP 7153 | E99: 69007 | F99: LYON | G99: RHONE | H99: RHONE-ALPES | I99: 796020 | J99: 2085439 | K99: 2732Z | L99: Fabrication d'autres fils et cÃ¢bles Ã©lectroniques ou Ã©lectriques
A100: 061.04244 | B100: DÃ©pÃ´t PÃ©trolier de Lyon | C100: 40899900000000 | D100: 1, rue d'Arles Port Edouard Herriot | E100: 69007 | F100: LYON | G100: RHONE | H100: RHONE-ALPES | I100: 796020 | J100: 2085439 | K100: 5210B | L100: Entreposage et stockage non frigorifique
...

Sheet Feuil2
A1: Identifiant | B1: Nom_Etablissement | C1: Annee_Emission | D1: Milieu | E1: Polluant | F1: quantite | G1: unite | H1: Présent
A2: 01021035 | B2: SCEA DOMAINE DU MAS DE VILLENEUVE | C2: 2016 | D2: Air | E2: Ammoniac (NH3) | F2: 12500 | G2: kg/an | H2: =IF(COUNTIF(Feuil1!B:B,emissions[[#This Row],[Nom_Etablissement]])=0,"Absent","Présent") -> Absent
A3: 01021035 | B3: SCEA DOMAINE DU MAS DE VILLENEUVE | C3: 2016 | D3: Air | E3: Protoxyde d'azote (N2O) | F3: 16800 | G3: kg/an | H3: =IF(COUNTIF(Feuil1!B:B,emissions[[#This Row],[Nom_Etablissement]])=0,"Absent","Présent") -> Absent
A4: 01025281 | B4: EARL DE PRESSAUGE | C4: 2016 | D4: Air | E4: Ammoniac (NH3) | F4: 11100 | G4: kg/an | H4: =IF(COUNTIF(Feuil1!B:B,emissions[[#This Row],[Nom_Etablissement]])=0,"Absent","Présent") -> Absent
A5: 01046103 | B5: GAEC des Prelions | C5: 2016 | D5: Air | E5: Ammoniac (NH3) | F5: 25900 | G5: kg/an | H5: =IF(COUNTIF(Feuil1!B:B,emissions[[#This Row],[Nom_Etablissement]])=0,"Absent","Présent") -> Absent
A6: 01050004 | B6: EARL Les CornaliÃ¨res | C6: 2016 | D6: Air | E6: Ammoniac (NH3) | F6: 14000 | G6: kg/an | H6: =IF(COUNTIF(Feuil1!B:B,emissions[[#This Row],[Nom_Etablissement]])=0,"Absent","Présent") -> Absent
A7: 01074121 | B7: SAS EGGTEAM AVIPONTE | C7: 2016 | D7: Air | E7: Ammoniac (NH3) | F7: 24100 | G7: kg/an | H7: =IF(COUNTIF(Feuil1!B:B,emissions[[#This Row],[Nom_Etablissement]])=0,"Absent","Présent") -> Absent
A8: 01115003 | B8: SARL de Montburon | C8: 2016 | D8: Air | E8: Ammoniac (NH3) | F8: 17200 | G8: kg/an | H8: =IF(COUNTIF(Feuil1!B:B,emissions[[#This Row],[Nom_Etablissement]])=0,"Absent","Présent") -> Absent
A9: 01147112 | B9: SCEA ROBIN | C9: 2016 | D9: Air | E9: Ammoniac (NH3) | F9: 17400 | G9: kg/an | H9: =IF(COUNTIF(Feuil1!B:B,emissions[[#This Row],[Nom_Etablissement]])=0,"Absent","Présent") -> Absent
A10: 01163009 | B10: SARL ELEVAGE DES CHARMES | C10: 2016 | D10: Air | E10: Ammoniac (NH3) | F10: 21100 | G10: kg/an | H10: =IF(COUNTIF(Feuil1!B:B,emissions[[#This Row],[Nom_Etablissement]])=0,"Absent","Présent") -> Absent
A11: 01163177 | B11: EARL des Quatres Saisons | C11: 2016 | D11: Air | E11: Ammoniac (NH3) | F11: 24000 | G11: kg/an | H11: =IF(COUNTIF(Feuil1!B:B,emissions[[#This Row],[Nom_Etablissement]])=0,"Absent","Présent") -> Absent
A12: 01301084 | B12: SARL Elevage des Marais | C12: 2016 | D12: Air | E12: Ammoniac (NH3) | F12: 24100 | G12: kg/an | H12: =IF(COUNTIF(Feuil1!B:B,emissions[[#This Row],[Nom_Etablissement]])=0,"Absent","Présent") -> Absent
A13: 01312009 | B13: PROVENT SDPR - Elevage des 3 Monts | C13: 2016 | D13: Air | E13: Ammoniac (NH3) | F13: 30100 | G13: kg/an | H13: =IF(COUNTIF(Feuil1!B:B,emissions[[#This Row],[Nom_Etablissement]])=0,"Absent","Présent") -> Absent
... A8188: 98615050 | B8188: QUINEAU (S.C.E.A.) Pascal | C8188: 2016 | D8188: Air | E8188: Ammoniac (NH3) | F8188: 14600 | G8188: kg/an | H8188: =IF(COUNTIF(Feuil1!B:B,emissions[[#This Row],[Nom_Etablissement]])=0,"Absent","Présent") -> Absent
