Workbook

Sheet Feuil1
A1: 061.03533 | B1: Media6 production Metal | C1: 48432600000000 | D1: 15 rue Auguste VILLY | E1: 69550 | F1: AMPLEPUIS | G1: RHONE | H1: RHONE-ALPES | I1: 754797 | J1: 2110429 | K1: 3109B | L1: Fabrication d'autres meubles et industries connexes de l'ameublement
A2: 061.01328 | B2: SOREAL ANSE | C2: 34150000000000 | E2: 69480 | F2: ANSE | G2: RHONE | H2: RHONE-ALPES | I2: 784671 | J2: 2106877 | K2: 0812Z | L2: Exploitation de graviÃ¨res et sabliÃ¨res, extraction d'argiles et de kaolin
A3: 061.03546 | B3: RECYLEX | C3: 54209800000000 | D3: 155 avenue de Beaujeu | E3: 69400 | F3: ARNAS | G3: RHONE | H3: RHONE-ALPES | I3: 783414 | J3: 2116604 | K3: 3832Z | L3: RÃ©cupÃ©ration de dÃ©chets triÃ©s | M3: 5.(a) | N3: Installations pour la valorisation ou l'Ã©limination des dÃ©chets dangereux recevant 10 tonnes par jour
A4: 061.03538 | B4: ADESIA | C4: 30228100000000 | D4: 243, rue de chavanne ZAC de Chavanne | E4: 69400 | F4: ARNAS | G4: RHONE | H4: RHONE-ALPES | I4: 783414 | J4: 2116604 | K4: 1396Z | L4: Fabrication d'autres textiles techniques et industriels
A5: 061.03547 | B5: HENKEL France Operations | C5: 82319100000000 | D5: 299 rue Grange Morin BP 438 | E5: 69400 | F5: ARNAS | G5: RHONE | H5: RHONE-ALPES | I5: 783414 | J5: 2116604 | K5: 2052Z | L5: Fabrication de colles
A6: 061.03862 | B6: C2P | C6: 34223900000000 | D6: ZI NORD ARNAS BP451 155 Avenue de Beaujeu | E6: 69400 | F6: ARNAS | G6: RHONE | H6: RHONE-ALPES | I6: 783414 | J6: 2116604 | K6: 2016Z | L6: Fabrication de matiÃ¨res plastiques de base
A7: 061.03539 | B7: SOLUSTIL | C7: 39814200000000 | D7: 508 rue de l'abbaye | E7: 69400 | F7: ARNAS | G7: RHONE | H7: RHONE-ALPES | I7: 783414 | J7: 2116604 | K7: 2511Z | L7: Fabrication de structures mÃ©talliques et de parties de structures | M7: 2.(f) | N7: Installations de traitement de surface de mÃ©taux et des matiÃ¨res plastiques utilisant un procÃ©dÃ© Ã©lectrolytique ou chimique lorsque le volume des cuves affectÃ©es au traitement est Ã©gal Ã 30 m3
A8: 061.07336 | B8: SYTRAIVAL COMPOSTAGE | C8: 25690100000000 | D8: lieudit Ave Maria | E8: 69400 | F8: ARNAS | G8: RHONE | H8: RHONE-ALPES | I8: 783414 | J8: 2116604 | K8: 3821Z | L8: Traitement et Ã©limination des dÃ©chets non dangereux
A9: 061.03549 | B9: QUARON | C9: 30125300000000 | D9: 235 Rue Grange Morin - ZI Nord Arnas | E9: 69400 | F9: ARNAS | G9: RHONE | H9: RHONE-ALPES | I9: 783414 | J9: 2116604 | K9: 4675Z | L9: Commerce de gros (commerce interentreprises) de produits chimiques | M9: 4.(a).(xi) | N9: tensioactifs et agents de surface
A10: 061.03550 | B10: Chimirec Centre Est | C10: 39390300000000 | E10: 69220 | F10: BELLEVILLE | G10: RHONE | H10: RHONE-ALPES | I10: 786200 | J10: 2126100 | K10: 3812Z | L10: Collecte des dÃ©chets dangereux
A11: 061.01338 | B11: Lafarge Ciment carriÃ¨re Belmont | C11: 30213600000000 | E11: 69380 | F11: BELMONT | G11: RHONE | H11: RHONE-ALPES | I11: 781292 | J11: 2099193 | K11: 2351Z | L11: Fabrication de ciment
A12: 061.03556 | B12: AVERY DENNISON MATERIALS France | C12: 78159700000000 | D12: 7, Rue Pierre POIZAT | E12: 69240 | F12: BOURG-DE-THIZY | G12: RHONE | H12: RHONE-ALPES | I12: 751919 | J12: 2116886 | K12: 1729Z | L12: Fabrication d'autres articles en papier ou en carton | M12: 9.(c) | N12: Installations destinÃ©es au traitement de surface de matiÃ¨res, d'objets ou de produits Ã l'aide de solvants organiques, notamment pour les opÃ©rations d'apprÃªt, d'impression, de revÃªtement, de dÃ©graissage, d'impermÃ©abilisation, de collage, de peinture, de nettoyage ou d'imprÃ©gnation d'une capacitÃ© de consommation de 150 kg par heures ou 200 tonnes par an
A13: 106.00879 | B13: SOGRAP RECYCLAGE (le Four Ã Chaux) | C13: 39912600000000 | E13: 69570 | F13: BOURG-DE-THIZY | G13: RHONE | H13: RHONE-ALPES | I13: 751919 | J13: 2116886 | K13: 3821Z | L13: Traitement et Ã©limination des dÃ©chets non dangereux
A14: 106.00579 | B14: MOINE INDUSTRIES | C14: 41431000000000 | E14: 69530 | F14: BRIGNAIS | G14: RHONE | H14: RHONE-ALPES | I14: 788267 | J14: 2077711 | K14: 2561Z | L14: Traitement et revÃªtement des mÃ©taux
A15: 061.03570 | B15: Chaufferie Urbaine de BRON-PARILLY | C15: 47918300000000 | D15: 17 rue Marcel Sembat | E15: 69500 | F15: BRON | G15: RHONE | H15: RHONE-ALPES | I15: 800848 | J15: 2084505 | K15: 2530Z | L15: Fabrication de gÃ©nÃ©rateurs de vapeur, Ã l'exception des chaudiÃ¨res pour le chauffage central
A16: 061.03567 | B16: Bobst Lyon | C16: 30116600000000 | D16: 35 rue du 35e rÃ©giment d'aviation | E16: 69500 | F16: BRON | G16: RHONE | H16: RHONE-ALPES | I16: 800848 | J16: 2084505 | K16: 2895Z | L16: Fabrication de machines pour les industries du papier et du carton
A17: 061.04158 | B17: HCL GHE (HOPITAL NEURO-CARDIOLOGIQUE-HFME) | C17: 26690000000000 | D17: 59 BOULEVARD PINEL | E17: 69500 | F17: BRON | G17: RHONE | H17: RHONE-ALPES | I17: 800848 | J17: 2084505 | K17: 8610Z | L17: ActivitÃ©s hospitaliÃ¨res
A18: 061.03571 | B18: CENTRE HOSPITALIER 'LE VINATIER' | C18: 26690000000000 | D18: 95 boulevard Pinel | E18: 69500 | F18: BRON | G18: RHONE | H18: RHONE-ALPES | I18: 800848 | J18: 2084505 | K18: 8610Z | L18: ActivitÃ©s hospitaliÃ¨res
A19: 061.03574 | B19: Contitech Anoflex SAS | C19: 41028000000000 | D19: 2-12 avenue BarthÃ©lÃ©my Thimonnier | E19: 69300 | F19: CALUIRE-ET-CUIRE | G19: RHONE | H19: RHONE-ALPES | I19: 795462 | J19: 2091740 | K19: 2814Z | L19: Fabrication d'autres articles de robinetterie
A20: 569.00040 | B20: AUCHAN CALUIRE | C20: 41040900000000 | D20: 10 chemin petit | E20: 69300 | F20: CALUIRE-ET-CUIRE | G20: RHONE | H20: RHONE-ALPES | I20: 795462 | J20: 2091740 | K20: 4711F | L20: HypermarchÃ©s
A21: 061.01343 | B21: VIANNAY FILS ETABLISSEMENTS ISDI | C21: 32886100000000 | E21: 69770 | F21: CHAMBOST-LONGESSAIGNE | G21: RHONE | H21: RHONE-ALPES | I21: 757885 | J21: 2087937 | K21: 4312A | L21: Travaux de terrassement courants et travaux prÃ©paratoires
A22: 061.04280 | B22: Chaufferie de La DuchÃ¨re | C22: 51513000000000 | D22: 565 avenue d'Ecully | E22: 69410 | F22: CHAMPAGNE-AU-MONT-D'OR | G22: RHONE | H22: RHONE-ALPES | I22: 790871 | J22: 2091363 | K22: 3530Z | L22: Production et distribution de vapeur et d'air conditionnÃ© | M22: 1.(c) | N22: Centrales thermiques et autres installations de combustion avec un apport thermiques de 50 MW
A23: 061.08521 | B23: SLBR (SociÃ©tÃ© Lyonnaise et Bressane de Rechapage) | C23: 33421700000000 | D23: Zone Industrielle Les Troques | E23: 69630 | F23: CHAPONOST | G23: RHONE | H23: RHONE-ALPES | I23: 787018 | J23: 2081804 | K23: 2211Z | L23: Fabrication et rechapage de pneumatiques
A24: 061.03585 | B24: ALDER | C24: 97350500000000 | E24: 69700 | F24: CHASSAGNY | G24: RHONE | H24: RHONE-ALPES | I24: 786918 | J24: 2070215 | K24: 2932Z | L24: Fabrication d'autres Ã©quipements automobiles
A25: 106.00204 | B25: VERDOLINI Recyclage | C25: 44017200000000 | D25: Rue Blaise Pascal | E25: 69280 | F25: CHASSIEU | G25: RHONE | H25: RHONE-ALPES | I25: 804628 | J25: 2085014 | K25: 3832Z | L25: RÃ©cupÃ©ration de dÃ©chets triÃ©s
A26: 106.00148 | B26: ONYX ARA - CHASSIEU | C26: 30259100000000 | E26: 69680 | F26: CHASSIEU | G26: RHONE | H26: RHONE-ALPES | I26: 804628 | J26: 2085014 | K26: 3811Z | L26: Collecte des dÃ©chets non dangereux
A27: 061.10436 | B27: PAPREC RESEAU | C27: 95450600000000 | E27: 69680 | F27: CHASSIEU | G27: RHONE | H27: RHONE-ALPES | I27: 804628 | J27: 2085014 | K27: 3832Z | L27: RÃ©cupÃ©ration de dÃ©chets triÃ©s
A28: 061.03932 | B28: chromelec Industries | C28: 53102800000000 | E28: 69680 | F28: CHASSIEU | G28: RHONE | H28: RHONE-ALPES | I28: 804628 | J28: 2085014 | K28: 2561Z | L28: Traitement et revÃªtement des mÃ©taux
A29: 061.09514 | B29: CHIMIMECA | C29: 31623800000000 | E29: 69680 | F29: CHASSIEU | G29: RHONE | H29: RHONE-ALPES | I29: 804628 | J29: 2085014 | K29: 2561Z | L29: Traitement et revÃªtement des mÃ©taux
A30: 061.03933 | B30: HIT | C30: 47988600000000 | D30: 4 RUE LAVOISIER | E30: 69680 | F30: CHASSIEU | G30: RHONE | H30: RHONE-ALPES | I30: 804628 | J30: 2085014 | K30: 2561Z | L30: Traitement et revÃªtement des mÃ©taux | M30: 2.(f) | N30: Installations de traitement de surface de mÃ©taux et des matiÃ¨res plastiques utilisant un procÃ©dÃ© Ã©lectrolytique ou chimique lorsque le volume des cuves affectÃ©es au traitement est Ã©gal Ã 30 m3
A31: 061.07337 | B31: BODYCOTE | C31: 69678000000000 | D31: 4, RUE LAVOISIER CS50032 | E31: 69680 | F31: CHASSIEU | G31: RHONE | H31: RHONE-ALPES | I31: 804628 | J31: 2085014 | K31: 2561Z | L31: Traitement et revÃªtement des mÃ©taux
A32: 061.09435 | B32: TRIADE ELECTRONIQUE | C32: 39195600000000 | D32: Z.I. Champ Dolin 20 rue Bernard Palissy | E32: 69680 | F32: CHASSIEU | G32: RHONE | H32: RHONE-ALPES | I32: 804628 | J32: 2085014 | K32: 3832Z | L32: RÃ©cupÃ©ration de dÃ©chets triÃ©s
A33: 061.03931 | B33: EnrobÃ©s Lyon Est | C33: 31752600000000 | D33: 77 avenue du progrÃ¨s | E33: 69680 | F33: CHASSIEU | G33: RHONE | H33: RHONE-ALPES | I33: 804628 | J33: 2085014 | K33: 2399Z | L33: Fabrication d'autres produits minÃ©raux non mÃ©talliques n.c.a.
A34: 061.03596 | B34: RHODIA OPERATIONS - Etablissement secondaire de Collonges | C34: 62203700000000 | D34: 15 rue Pierre PAYS BP52 | E34: 69660 | F34: COLLONGES-AU-MONT-D'OR | G34: RHONE | H34: RHONE-ALPES | I34: 793893 | J34: 2094500 | K34: 2013B | L34: Fabrication d'autres produits chimiques inorganiques de base n.c.a. | M34: 3.(f) | N34: Installations destinÃ©es Ã la fusion de matiÃ¨res minÃ©rales, y compris celles destinÃ©es Ã la production de fibres minÃ©rales d'une capacitÃ© de fusion de 20 tonnes par jour
A35: 061.03593 | B35: APPIA LIANTS EMULSIONS RAA | C35: 39928000000000 | D35: 3 rue des sabliÃ¨res | E35: 69660 | F35: COLLONGES-AU-MONT-D'OR | G35: RHONE | H35: RHONE-ALPES | I35: 793893 | J35: 2094500 | K35: 2399Z | L35: Fabrication d'autres produits minÃ©raux non mÃ©talliques n.c.a.
A36: 061.04123 | B36: ECO METAL RECYCLAGE INDUSTRIE | C36: 80855600000000 | E36: 69124 | F36: COLOMBIER-SAUGNIEU | G36: RHONE | H36: RHONE-ALPES | I36: 816000 | J36: 2083000 | K36: 3832Z | L36: RÃ©cupÃ©ration de dÃ©chets triÃ©s
A37: 061.04127 | B37: GALYS | C37: 30360100000000 | D37: bp 116 AEROPORT LYON SAINT EXUPERY | E37: 69125 | F37: COLOMBIER-SAUGNIEU | G37: RHONE | H37: RHONE-ALPES | I37: 816000 | J37: 2083000 | K37: 4612B | L37: Autres intermÃ©diaires du commerce en combustibles, mÃ©taux, minÃ©raux et produits chimiques
A38: 106.00304 | B38: GDE Corbas | C38: 65382100000000 | D38: 13 bis avenue de l'industrie | E38: 69960 | F38: CORBAS | G38: RHONE | H38: RHONE-ALPES | I38: 799759 | J38: 2076870 | K38: 3832Z | L38: RÃ©cupÃ©ration de dÃ©chets triÃ©s | M38: 5.(a) | N38: Installations pour la valorisation ou l'Ã©limination des dÃ©chets dangereux recevant 10 tonnes par jour
A39: 061.10750 | B39: Kerakoll France | C39: 80903200000000 | E39: 69960 | F39: CORBAS | G39: RHONE | H39: RHONE-ALPES | I39: 799759 | J39: 2076870 | K39: 2030Z | L39: Fabrication de peintures, vernis, encres et mastics
A40: 061.03948 | B40: LAVARHONE | C40: 33145600000000 | D40: 3 avenue de l'INDUSTRIE | E40: 69960 | F40: CORBAS | G40: RHONE | H40: RHONE-ALPES | I40: 799759 | J40: 2076870 | K40: 8129B | L40: Autres activitÃ©s de nettoyage n.c.a.
...

Sheet Feuil2
A1: Identifiant | B1: Nom_Etablissement | C1: Annee_Emission | D1: Milieu | E1: Polluant | F1: quantite | G1: unite | H1: Présent
A2: 01021035 | B2: SCEA DOMAINE DU MAS DE VILLENEUVE | C2: 2016 | D2: Air | E2: Ammoniac (NH3) | F2: 12500 | G2: kg/an | H2: =IF(COUNTIF(Feuil1!B:B,emissions[[#This Row],[Nom_Etablissement]])=0,"Absent","Présent") -> Absent
A3: 01021035 | B3: SCEA DOMAINE DU MAS DE VILLENEUVE | C3: 2016 | D3: Air | E3: Protoxyde d'azote (N2O) | F3: 16800 | G3: kg/an | H3: =IF(COUNTIF(Feuil1!B:B,emissions[[#This Row],[Nom_Etablissement]])=0,"Absent","Présent") -> Absent
A4: 01025281 | B4: EARL DE PRESSAUGE | C4: 2016 | D4: Air | E4: Ammoniac (NH3) | F4: 11100 | G4: kg/an | H4: =IF(COUNTIF(Feuil1!B:B,emissions[[#This Row],[Nom_Etablissement]])=0,"Absent","Présent") -> Absent
A5: 01046103 | B5: GAEC des Prelions | C5: 2016 | D5: Air | E5: Ammoniac (NH3) | F5: 25900 | G5: kg/an | H5: =IF(COUNTIF(Feuil1!B:B,emissions[[#This Row],[Nom_Etablissement]])=0,"Absent","Présent") -> Absent
A6: 01050004 | B6: EARL Les CornaliÃ¨res | C6: 2016 | D6: Air | E6: Ammoniac (NH3) | F6: 14000 | G6: kg/an | H6: =IF(COUNTIF(Feuil1!B:B,emissions[[#This Row],[Nom_Etablissement]])=0,"Absent","Présent") -> Absent
A7: 01074121 | B7: SAS EGGTEAM AVIPONTE | C7: 2016 | D7: Air | E7: Ammoniac (NH3) | F7: 24100 | G7: kg/an | H7: =IF(COUNTIF(Feuil1!B:B,emissions[[#This Row],[Nom_Etablissement]])=0,"Absent","Présent") -> Absent
A8: 01115003 | B8: SARL de Montburon | C8: 2016 | D8: Air | E8: Ammoniac (NH3) | F8: 17200 | G8: kg/an | H8: =IF(COUNTIF(Feuil1!B:B,emissions[[#This Row],[Nom_Etablissement]])=0,"Absent","Présent") -> Absent
A9: 01147112 | B9: SCEA ROBIN | C9: 2016 | D9: Air | E9: Ammoniac (NH3) | F9: 17400 | G9: kg/an | H9: =IF(COUNTIF(Feuil1!B:B,emissions[[#This Row],[Nom_Etablissement]])=0,"Absent","Présent") -> Absent
A10: 01163009 | B10: SARL ELEVAGE DES CHARMES | C10: 2016 | D10: Air | E10: Ammoniac (NH3) | F10: 21100 | G10: kg/an | H10: =IF(COUNTIF(Feuil1!B:B,emissions[[#This Row],[Nom_Etablissement]])=0,"Absent","Présent") -> Absent
A11: 01163177 | B11: EARL des Quatres Saisons | C11: 2016 | D11: Air | E11: Ammoniac (NH3) | F11: 24000 | G11: kg/an | H11: =IF(COUNTIF(Feuil1!B:B,emissions[[#This Row],[Nom_Etablissement]])=0,"Absent","Présent") -> Absent
A12: 01301084 | B12: SARL Elevage des Marais | C12: 2016 | D12: Air | E12: Ammoniac (NH3) | F12: 24100 | G12: kg/an | H12: =IF(COUNTIF(Feuil1!B:B,emissions[[#This Row],[Nom_Etablissement]])=0,"Absent","Présent") -> Absent
A13: 01312009 | B13: PROVENT SDPR - Elevage des 3 Monts | C13: 2016 | D13: Air | E13: Ammoniac (NH3) | F13: 30100 | G13: kg/an | H13: =IF(COUNTIF(Feuil1!B:B,emissions[[#This Row],[Nom_Etablissement]])=0,"Absent","Présent") -> Absent
... A8188: 98615050 | B8188: QUINEAU (S.C.E.A.) Pascal | C8188: 2016 | D8188: Air | E8188: Ammoniac (NH3) | F8188: 14600 | G8188: kg/an | H8188: =IF(COUNTIF(Feuil1!B:B,emissions[[#This Row],[Nom_Etablissement]])=0,"Absent","Présent") -> Absent
