Workbook

Sheet Feuil1
A3: Étiquettes de lignes | B3: Compte | C3: LIBELLES | D3: Somme de Montant
A4: 43283 | B4: 47100000 | C4: Avance A | D4: -150
A5: Total 02/07/2018 | D5: -150
A6: 43285 | B6: 47100000 | C6: Avance B | D6: -25
A7: Total 04/07/2018 | D7: -25
A8: 43293 | B8: 47100000 | C8: Retour avance A | D8: 150
B9: 60750000 | C9: Achats marchandises | D9: -50
A10: Total 12/07/2018 | D10: 100
A11: Total général | D11: -75

Sheet Feuil2
A1: Nombre | B1: DATETITRE
A2: -150 | B2: SOLDE AU 02/07/2018
A3: -25 | B3: SOLDE AU 04/07/2018
A4: 100 | B4: SOLDE AU 12/07/2018

Sheet Base
A1: DATE | B1: N° Pièce | C1: LIBELLES | D1: Compte | E1: RECETTES | F1: DEPENSES | G1: SOLDES | H1: Montant | I1: SENS | J1: Alerte date | L1: MOIS CAISSE | M1: ANNEE CAISSE
A2: 43283 | C2: Avance A | D2: 47100000 | F2: 150 | G2: 220.67 | H2: =IF(AND(Base_caisse[[#This Row],[RECETTES ]]="",Base_caisse[[#This Row],[DEPENSES]]=""),"ERREUR",IF(Base_caisse[[#This Row],[RECETTES ]]>0,Base_caisse[[#This Row],[RECETTES ]],-Base_caisse[[#This Row],[DEPENSES]])) -> -150 | I2: =IF(AND(Base_caisse[[#This Row],[RECETTES ]]="",Base_caisse[[#This Row],[DEPENSES]]=""),"ERREUR",IF(OR(Base_caisse[[#This Row],[RECETTES ]]="",Base_caisse[[#This Row],[RECETTES ]]=0),"D","C")) -> D | J2: =IF(AND(MONTH(Base_caisse[[#This Row],[DATE]])=$L$2,YEAR(Base_caisse[[#This Row],[DATE]])=$M$2),"","ALERTE") | L2: 7 | M2: 2018
A3: 43285 | C3: Avance B | D3: 47100000 | F3: 25 | G3: 195.67 | H3: =IF(AND(Base_caisse[[#This Row],[RECETTES ]]="",Base_caisse[[#This Row],[DEPENSES]]=""),"ERREUR",IF(Base_caisse[[#This Row],[RECETTES ]]>0,Base_caisse[[#This Row],[RECETTES ]],-Base_caisse[[#This Row],[DEPENSES]])) -> -25 | I3: =IF(AND(Base_caisse[[#This Row],[RECETTES ]]="",Base_caisse[[#This Row],[DEPENSES]]=""),"ERREUR",IF(OR(Base_caisse[[#This Row],[RECETTES ]]="",Base_caisse[[#This Row],[RECETTES ]]=0),"D","C")) -> D | J3: =IF(AND(MONTH(Base_caisse[[#This Row],[DATE]])=$L$2,YEAR(Base_caisse[[#This Row],[DATE]])=$M$2),"","ALERTE")
A4: 43293 | C4: Retour avance A | D4: 47100000 | E4: 150 | G4: 345.67 | H4: =IF(AND(Base_caisse[[#This Row],[RECETTES ]]="",Base_caisse[[#This Row],[DEPENSES]]=""),"ERREUR",IF(Base_caisse[[#This Row],[RECETTES ]]>0,Base_caisse[[#This Row],[RECETTES ]],-Base_caisse[[#This Row],[DEPENSES]])) -> 150 | I4: =IF(AND(Base_caisse[[#This Row],[RECETTES ]]="",Base_caisse[[#This Row],[DEPENSES]]=""),"ERREUR",IF(OR(Base_caisse[[#This Row],[RECETTES ]]="",Base_caisse[[#This Row],[RECETTES ]]=0),"D","C")) -> C | J4: =IF(AND(MONTH(Base_caisse[[#This Row],[DATE]])=$L$2,YEAR(Base_caisse[[#This Row],[DATE]])=$M$2),"","ALERTE")
A5: 43293 | C5: Achats marchandises | D5: 60750000 | F5: 50 | G5: 295.67 | H5: =IF(AND(Base_caisse[[#This Row],[RECETTES ]]="",Base_caisse[[#This Row],[DEPENSES]]=""),"ERREUR",IF(Base_caisse[[#This Row],[RECETTES ]]>0,Base_caisse[[#This Row],[RECETTES ]],-Base_caisse[[#This Row],[DEPENSES]])) -> -50 | I5: =IF(AND(Base_caisse[[#This Row],[RECETTES ]]="",Base_caisse[[#This Row],[DEPENSES]]=""),"ERREUR",IF(OR(Base_caisse[[#This Row],[RECETTES ]]="",Base_caisse[[#This Row],[RECETTES ]]=0),"D","C")) -> D | J5: =IF(AND(MONTH(Base_caisse[[#This Row],[DATE]])=$L$2,YEAR(Base_caisse[[#This Row],[DATE]])=$M$2),"","ALERTE")
C9: =Feuil2!B2 -> SOLDE AU 02/07/2018 | H9: =Feuil2!A2 -> -150
C10: =Feuil2!B3 -> SOLDE AU 04/07/2018 | H10: =Feuil2!A3 -> -25
C11: =Feuil2!B4 -> SOLDE AU 12/07/2018 | H11: =Feuil2!A4 -> 100
C12: =Feuil2!B5 -> 0 | H12: =Feuil2!A5 -> 0
C13: =Feuil2!B6 -> 0 | H13: =Feuil2!A6 -> 0
C14: =Feuil2!B7 -> 0 | H14: =Feuil2!A7 -> 0
C15: =Feuil2!B8 -> 0 | H15: =Feuil2!A8 -> 0
C16: =Feuil2!B9 -> 0 | H16: =Feuil2!A9 -> 0
C17: =Feuil2!B10 -> 0 | H17: =Feuil2!A10 -> 0
C18: =Feuil2!B11 -> 0 | H18: =Feuil2!A11 -> 0

Sheet Résultat
A1: Code | B1: Date | C1: N° pièce | D1: 4 | E1: Jal | F1: Type de Cpte | G1: Cpte | H1: Libellés | I1: Montant | J1: Sens | K1: Résutat attendu
A2: 99 | B2: 43283 | C2: 7 | E2: 57 | F2: 1 | G2: 47100000 | H2: Avance A | I2: 150 | J2: D
A3: 99 | B3: 43283 | C3: 7 | E3: 57 | F3: 1 | G3: 53110000 | H3: caisse au 02/07/2018 | I3: 150 | J3: C
A4: 99 | B4: 43285 | C4: 7 | E4: 57 | F4: 1 | G4: 47100000 | H4: Avance B | I4: 25 | J4: D
A5: 99 | B5: 43285 | C5: 7 | E5: 57 | F5: 1 | G5: 53110000 | H5: caisse au 04/07/2018 | I5: 25 | J5: C
A6: 99 | B6: 43293 | C6: 7 | E6: 57 | F6: 1 | G6: 47100000 | H6: Retour avance A | I6: 150 | J6: C
A7: 99 | B7: 43293 | C7: 7 | E7: 57 | F7: 1 | G7: 60750000 | H7: Achats marchandises | I7: 50 | J7: D
A8: 99 | B8: 43293 | C8: 7 | E8: 57 | F8: 1 | G8: 53110000 | H8: caisse au 12/07/2018 | I8: 100 | J8: D
