Workbook
Name JoursDeSemaine: JoursDeSemaine!$A$1:$B$7

Sheet Saisie Jour
A7: CODE | B7: NOM | C7: VEHICULE | D7: LIEU | E7: HEURE ARRIVEE | F7: PAUSE DEJEUNER | H7: HEURE DEPART | I7: DUREE TRAVAIL | J7: KM | M7: RAISON SI ABSENCE | N7: TEMPS DE PAUSE DEJEUNER
J8: DEBUT JOURNEE | K8: FIN JOURNEE | L8: TOTAL
A10: 1 | B10: COURSIER | E10: 0.33333333 | F10: 0.5 | G10: 0.54166667 | H10: 0.79166667 | I10: =(H10-(G10-F10)-E10) -> 0.41666667 | J10: 0 | K10: 123 | L10: =(K10-J10) -> 123 | N10: =G10-F10 -> 0.041666667
A11: 2 | B11: COURSIER | E11: 0.33333333 | F11: 0.47916667 | G11: 0.52083333 | H11: 0.75 | I11: =(H11-(G11-F11)-E11) -> 0.375 | L11: =(K11-J11) -> 0 | N11: =G11-F11 -> 0.041666667
A12: 3 | B12: COURSIER | I12: =(H12-(G12-F12)-E12) -> 0 | L12: =(K12-J12) -> 0 | N12: =G12-F12 -> 0
A13: 4 | B13: COURSIER | I13: =(H13-(G13-F13)-E13) -> 0 | L13: =(K13-J13) -> 0 | N13: =G13-F13 -> 0
A14: 5 | B14: COURSIER | I14: =(H14-(G14-F14)-E14) -> 0 | L14: =(K14-J14) -> 0 | N14: =G14-F14 -> 0
A15: 6 | B15: COURSIER | I15: =(H15-(G15-F15)-E15) -> 0 | L15: =(K15-J15) -> 0 | N15: =G15-F15 -> 0
A16: 7 | B16: COURSIER | I16: =(H16-(G16-F16)-E16) -> 0 | L16: =(K16-J16) -> 0 | N16: =G16-F16 -> 0
A17: 8 | B17: COURSIER | I17: =(H17-(G17-F17)-E17) -> 0 | L17: =(K17-J17) -> 0 | N17: =G17-F17 -> 0
A18: 9 | B18: COURSIER | I18: =(H18-(G18-F18)-E18) -> 0 | L18: =(K18-J18) -> 0 | N18: =G18-F18 -> 0
A19: 10 | B19: COURSIER | I19: =(H19-(G19-F19)-E19) -> 0 | L19: =(K19-J19) -> 0 | N19: =G19-F19 -> 0

Sheet COURSIER 1
F2: COURSIER
M3: 151.67
A6: ANNEE : | B6: ='Année-Mois'!B1 -> 2017 | C6: DUREES DE TRAVAIL | L6: VEHICULE | N6: KM/HEURE | O6: RAISON SI ABSENCE
C7: Heure début | D7: Heure fin | E7: Pause repas | F7: Panier dû | G7: Durée du travail journalier (2) | H7: Heures réalisées | K7: Amplitude journalière (1) | L7: Immat | M7: Km
A8: MOIS : | B8: ='Année-Mois'!B2 -> 5 | I8: HS 125 % | J8: HS 150%
A10: =DATE(YEAR(TODAY()),MONTH(TODAY()),1) -> 42856 | B10: =VLOOKUP(WEEKDAY(A10),JoursDeSemaine,2,FALSE) -> Lundi | C10: ='Saisie Jour'!E10 -> 0.33333333 | D10: ='Saisie Jour'!H10 -> 0.79166667 | E10: ='Saisie Jour'!G10-'Saisie Jour'!F10 -> 0.041666667 | F10: =IF(C10>0,1,"0") -> 1 | G10: =D10-C10-E10 -> 0.41666667 | K10: =D10-C10 -> 0.45833333 | M10: ='Saisie Jour'!L10 -> 123
A11: =A10+1 -> 42857 | B11: =VLOOKUP(WEEKDAY(A11),JoursDeSemaine,2,FALSE) -> Mardi
A12: =A11+1 -> 42858 | B12: =VLOOKUP(WEEKDAY(A12),JoursDeSemaine,2,FALSE) -> Mercredi
A13: =A12+1 -> 42859 | B13: =VLOOKUP(WEEKDAY(A13),JoursDeSemaine,2,FALSE) -> Jeudi
A14: =A13+1 -> 42860 | B14: =VLOOKUP(WEEKDAY(A14),JoursDeSemaine,2,FALSE) -> Vendredi
A15: =A14+1 -> 42861 | B15: =VLOOKUP(WEEKDAY(A15),JoursDeSemaine,2,FALSE) -> Samedi | N15: =M15/G15 -> #DIV/0!
A16: =A15+1 -> 42862 | B16: =VLOOKUP(WEEKDAY(A16),JoursDeSemaine,2,FALSE) -> Dimanche | N16: =M16/G16 -> #DIV/0!
A17: =A16+1 -> 42863 | B17: =VLOOKUP(WEEKDAY(A17),JoursDeSemaine,2,FALSE) -> Lundi
A18: =A17+1 -> 42864 | B18: =VLOOKUP(WEEKDAY(A18),JoursDeSemaine,2,FALSE) -> Mardi
A19: =A18+1 -> 42865 | B19: =VLOOKUP(WEEKDAY(A19),JoursDeSemaine,2,FALSE) -> Mercredi | N19: =M19/G19 -> #DIV/0!
A20: =A19+1 -> 42866 | B20: =VLOOKUP(WEEKDAY(A20),JoursDeSemaine,2,FALSE) -> Jeudi | N20: =M20/G20 -> #DIV/0!
A21: =A20+1 -> 42867 | B21: =VLOOKUP(WEEKDAY(A21),JoursDeSemaine,2,FALSE) -> Vendredi | N21: =M21/G21 -> #DIV/0!
A22: =A21+1 -> 42868 | B22: =VLOOKUP(WEEKDAY(A22),JoursDeSemaine,2,FALSE) -> Samedi | N22: =M22/G22 -> #DIV/0!
A23: =A22+1 -> 42869 | B23: =VLOOKUP(WEEKDAY(A23),JoursDeSemaine,2,FALSE) -> Dimanche | N23: =M23/G23 -> #DIV/0!
A24: =A23+1 -> 42870 | B24: =VLOOKUP(WEEKDAY(A24),JoursDeSemaine,2,FALSE) -> Lundi
A25: =A24+1 -> 42871 | B25: =VLOOKUP(WEEKDAY(A25),JoursDeSemaine,2,FALSE) -> Mardi
A26: =A25+1 -> 42872 | B26: =VLOOKUP(WEEKDAY(A26),JoursDeSemaine,2,FALSE) -> Mercredi | N26: =M26/G26 -> #DIV/0!
A27: =A26+1 -> 42873 | B27: =VLOOKUP(WEEKDAY(A27),JoursDeSemaine,2,FALSE) -> Jeudi | N27: =M27/G27 -> #DIV/0!
A28: =A27+1 -> 42874 | B28: =VLOOKUP(WEEKDAY(A28),JoursDeSemaine,2,FALSE) -> Vendredi | N28: =M28/G28 -> #DIV/0!
A29: =A28+1 -> 42875 | B29: =VLOOKUP(WEEKDAY(A29),JoursDeSemaine,2,FALSE) -> Samedi | N29: =M29/G29 -> #DIV/0!
A30: =A29+1 -> 42876 | B30: =VLOOKUP(WEEKDAY(A30),JoursDeSemaine,2,FALSE) -> Dimanche | N30: =M30/G30 -> #DIV/0!
A31: =A30+1 -> 42877 | B31: =VLOOKUP(WEEKDAY(A31),JoursDeSemaine,2,FALSE) -> Lundi
A32: =A31+1 -> 42878 | B32: =VLOOKUP(WEEKDAY(A32),JoursDeSemaine,2,FALSE) -> Mardi
A33: =A32+1 -> 42879 | B33: =VLOOKUP(WEEKDAY(A33),JoursDeSemaine,2,FALSE) -> Mercredi | N33: =M33/G33 -> #DIV/0!
A34: =A33+1 -> 42880 | B34: =VLOOKUP(WEEKDAY(A34),JoursDeSemaine,2,FALSE) -> Jeudi | N34: =M34/G34 -> #DIV/0!
A35: =A34+1 -> 42881 | B35: =VLOOKUP(WEEKDAY(A35),JoursDeSemaine,2,FALSE) -> Vendredi | N35: =M35/G35 -> #DIV/0!
A36: =A35+1 -> 42882 | B36: =VLOOKUP(WEEKDAY(A36),JoursDeSemaine,2,FALSE) -> Samedi | N36: =M36/G36 -> #DIV/0!
A37: =A36+1 -> 42883 | B37: =VLOOKUP(WEEKDAY(A37),JoursDeSemaine,2,FALSE) -> Dimanche | N37: =M37/G37 -> #DIV/0!
A38: =A37+1 -> 42884 | B38: =VLOOKUP(WEEKDAY(A38),JoursDeSemaine,2,FALSE) -> Lundi
A39: =A38+1 -> 42885 | B39: =VLOOKUP(WEEKDAY(A39),JoursDeSemaine,2,FALSE) -> Mardi
A40: =A39+1 -> 42886 | B40: =VLOOKUP(WEEKDAY(A40),JoursDeSemaine,2,FALSE) -> Mercredi
F41: =SUM(F10:F40) -> 1 | I41: =SUM(I10:I40) -> 0 | J41: =SUM(J10:J40) -> 0 | L41: total | M41: =SUM(M10:M40) -> 123
L42: taux
L43: ik | M43: =M41*M42 -> 0
A44: (1) L'amplitude journalière est limitée à 10 heures (temps de pause compris), elle peut être prolongée à 11 heures 2 fois par semaine quand les conditions d'exploitation le rendent nécessaire.
...

Sheet COURSIER 2
F2: COURSIER
M3: 151.67
A6: ANNEE : | B6: ='Année-Mois'!B1 -> 2017 | C6: DUREES DE TRAVAIL | L6: VEHICULE | N6: KM/HEURE | O6: RAISON SI ABSENCE
C7: Heure début | D7: Heure fin | E7: Pause repas | F7: Panier dû | G7: Durée du travail journalier (2) | H7: Heures réalisées | K7: Amplitude journalière (1) | L7: Immat | M7: Km
A8: MOIS : | B8: ='Année-Mois'!B2 -> 5 | I8: HS 125 % | J8: HS 150%
A10: =DATE(B6,B8,1) -> 42856 | B10: =VLOOKUP(WEEKDAY(A10),JoursDeSemaine,2,FALSE) -> Lundi | C10: =INDIRECT("J"&ROW()-9&"!E11") -> #REF! | D10: =INDIRECT("J"&ROW()-9&"!H11") -> #REF! | E10: =INDIRECT("J"&ROW()-9&"!N11") -> #REF! | F10: =IF(C10>0,1,0) -> #REF! | G10: =D10-C10-E10 -> #REF! | H10: =IF(B10="Dimanche",SUM(G4:G9),"") | I10: =IFERROR(IF(H10>35,H10-35,0)-J10,"") | J10: =IFERROR(IF(H10>43,H10-43,0),"") | K10: =D10-C10 -> #REF! | M10: =INDIRECT("J"&ROW()-9&"!L11") -> #REF!
A11: =A10+1 -> 42857 | B11: =VLOOKUP(WEEKDAY(A11),JoursDeSemaine,2,FALSE) -> Mardi | C11: =INDIRECT("J"&ROW()-9&"!E11") -> #REF! | D11: =INDIRECT("J"&ROW()-9&"!H11") -> #REF! | E11: =INDIRECT("J"&ROW()-9&"!N11") -> #REF! | F11: =IF(C11>0,1,0) -> #REF! | G11: =D11-C11-E11 -> #REF! | H11: =IF(B11="Dimanche",SUM(G5:G10),"") | I11: =IFERROR(IF(H11>35,H11-35,0)-J11,"") | J11: =IFERROR(IF(H11>43,H11-43,0),"") | K11: =D11-C11 -> #REF! | M11: =INDIRECT("J"&ROW()-9&"!L11") -> #REF!
A12: =A11+1 -> 42858 | B12: =VLOOKUP(WEEKDAY(A12),JoursDeSemaine,2,FALSE) -> Mercredi | C12: =INDIRECT("J"&ROW()-9&"!E11") -> #REF! | D12: =INDIRECT("J"&ROW()-9&"!H11") -> #REF! | E12: =INDIRECT("J"&ROW()-9&"!N11") -> #REF! | F12: =IF(C12>0,1,0) -> #REF! | G12: =D12-C12-E12 -> #REF! | H12: =IF(B12="Dimanche",SUM(G6:G11),"") | I12: =IFERROR(IF(H12>35,H12-35,0)-J12,"") | J12: =IFERROR(IF(H12>43,H12-43,0),"") | K12: =D12-C12 -> #REF! | M12: =INDIRECT("J"&ROW()-9&"!L11") -> #REF!
A13: =A12+1 -> 42859 | B13: =VLOOKUP(WEEKDAY(A13),JoursDeSemaine,2,FALSE) -> Jeudi | C13: =INDIRECT("J"&ROW()-9&"!E11") -> #REF! | D13: =INDIRECT("J"&ROW()-9&"!H11") -> #REF! | E13: =INDIRECT("J"&ROW()-9&"!N11") -> #REF! | F13: =IF(C13>0,1,0) -> #REF! | G13: =D13-C13-E13 -> #REF! | H13: =IF(B13="Dimanche",SUM(G7:G12),"") | I13: =IFERROR(IF(H13>35,H13-35,0)-J13,"") | J13: =IFERROR(IF(H13>43,H13-43,0),"") | K13: =D13-C13 -> #REF! | M13: =INDIRECT("J"&ROW()-9&"!L11") -> #REF!
A14: =A13+1 -> 42860 | B14: =VLOOKUP(WEEKDAY(A14),JoursDeSemaine,2,FALSE) -> Vendredi | C14: =INDIRECT("J"&ROW()-9&"!E11") -> #REF! | D14: =INDIRECT("J"&ROW()-9&"!H11") -> #REF! | E14: =INDIRECT("J"&ROW()-9&"!N11") -> #REF! | F14: =IF(C14>0,1,0) -> #REF! | G14: =D14-C14-E14 -> #REF! | H14: =IF(B14="Dimanche",SUM(G8:G13),"") | I14: =IFERROR(IF(H14>35,H14-35,0)-J14,"") | J14: =IFERROR(IF(H14>43,H14-43,0),"") | K14: =D14-C14 -> #REF! | M14: =INDIRECT("J"&ROW()-9&"!L11") -> #REF!
A15: =A14+1 -> 42861 | B15: =VLOOKUP(WEEKDAY(A15),JoursDeSemaine,2,FALSE) -> Samedi | C15: =INDIRECT("J"&ROW()-9&"!E11") -> #REF! | D15: =INDIRECT("J"&ROW()-9&"!H11") -> #REF! | E15: =INDIRECT("J"&ROW()-9&"!N11") -> #REF! | F15: =IF(C15>0,1,0) -> #REF! | G15: =D15-C15-E15 -> #REF! | H15: =IF(B15="Dimanche",SUM(G9:G14),"") | I15: =IFERROR(IF(H15>35,H15-35,0)-J15,"") | J15: =IFERROR(IF(H15>43,H15-43,0),"") | K15: =D15-C15 -> #REF! | M15: =INDIRECT("J"&ROW()-9&"!L11") -> #REF! | N15: =M15/G15 -> #REF!
A16: =A15+1 -> 42862 | B16: =VLOOKUP(WEEKDAY(A16),JoursDeSemaine,2,FALSE) -> Dimanche | C16: =INDIRECT("J"&ROW()-9&"!E11") -> #REF! | D16: =INDIRECT("J"&ROW()-9&"!H11") -> #REF! | E16: =INDIRECT("J"&ROW()-9&"!N11") -> #REF! | F16: =IF(C16>0,1,0) -> #REF! | G16: =D16-C16-E16 -> #REF! | H16: =IF(B16="Dimanche",SUM(G10:G15),"") -> #REF! | I16: =IFERROR(IF(H16>35,H16-35,0)-J16,"") | J16: =IFERROR(IF(H16>43,H16-43,0),"") | K16: =D16-C16 -> #REF! | M16: =INDIRECT("J"&ROW()-9&"!L11") -> #REF! | N16: =M16/G16 -> #REF!
A17: =A16+1 -> 42863 | B17: =VLOOKUP(WEEKDAY(A17),JoursDeSemaine,2,FALSE) -> Lundi | C17: =INDIRECT("J"&ROW()-9&"!E11") -> #REF! | D17: =INDIRECT("J"&ROW()-9&"!H11") -> #REF! | E17: =INDIRECT("J"&ROW()-9&"!N11") -> #REF! | F17: =IF(C17>0,1,0) -> #REF! | G17: =D17-C17-E17 -> #REF! | H17: =IF(B17="Dimanche",SUM(G11:G16),"") | I17: =IFERROR(IF(H17>35,H17-35,0)-J17,"") | J17: =IFERROR(IF(H17>43,H17-43,0),"") | K17: =D17-C17 -> #REF! | M17: =INDIRECT("J"&ROW()-9&"!L11") -> #REF!
A18: =A17+1 -> 42864 | B18: =VLOOKUP(WEEKDAY(A18),JoursDeSemaine,2,FALSE) -> Mardi | C18: =INDIRECT("J"&ROW()-9&"!E11") -> #REF! | D18: =INDIRECT("J"&ROW()-9&"!H11") -> #REF! | E18: =INDIRECT("J"&ROW()-9&"!N11") -> #REF! | F18: =IF(C18>0,1,0) -> #REF! | G18: =D18-C18-E18 -> #REF! | H18: =IF(B18="Dimanche",SUM(G12:G17),"") | I18: =IFERROR(IF(H18>35,H18-35,0)-J18,"") | J18: =IFERROR(IF(H18>43,H18-43,0),"") | K18: =D18-C18 -> #REF! | M18: =INDIRECT("J"&ROW()-9&"!L11") -> #REF!
A19: =A18+1 -> 42865 | B19: =VLOOKUP(WEEKDAY(A19),JoursDeSemaine,2,FALSE) -> Mercredi | C19: =INDIRECT("J"&ROW()-9&"!E11") -> #REF! | D19: =INDIRECT("J"&ROW()-9&"!H11") -> #REF! | E19: =INDIRECT("J"&ROW()-9&"!N11") -> #REF! | F19: =IF(C19>0,1,0) -> #REF! | G19: =D19-C19-E19 -> #REF! | H19: =IF(B19="Dimanche",SUM(G13:G18),"") | I19: =IFERROR(IF(H19>35,H19-35,0)-J19,"") | J19: =IFERROR(IF(H19>43,H19-43,0),"") | K19: =D19-C19 -> #REF! | M19: =INDIRECT("J"&ROW()-9&"!L11") -> #REF! | N19: =M19/G19 -> #REF!
A20: =A19+1 -> 42866 | B20: =VLOOKUP(WEEKDAY(A20),JoursDeSemaine,2,FALSE) -> Jeudi | C20: =INDIRECT("J"&ROW()-9&"!E11") -> #REF! | D20: =INDIRECT("J"&ROW()-9&"!H11") -> #REF! | E20: =INDIRECT("J"&ROW()-9&"!N11") -> #REF! | F20: =IF(C20>0,1,0) -> #REF! | G20: =D20-C20-E20 -> #REF! | H20: =IF(B20="Dimanche",SUM(G14:G19),"") | I20: =IFERROR(IF(H20>35,H20-35,0)-J20,"") | J20: =IFERROR(IF(H20>43,H20-43,0),"") | K20: =D20-C20 -> #REF! | M20: =INDIRECT("J"&ROW()-9&"!L11") -> #REF! | N20: =M20/G20 -> #REF!
A21: =A20+1 -> 42867 | B21: =VLOOKUP(WEEKDAY(A21),JoursDeSemaine,2,FALSE) -> Vendredi | C21: =INDIRECT("J"&ROW()-9&"!E11") -> #REF! | D21: =INDIRECT("J"&ROW()-9&"!H11") -> #REF! | E21: =INDIRECT("J"&ROW()-9&"!N11") -> #REF! | F21: =IF(C21>0,1,0) -> #REF! | G21: =D21-C21-E21 -> #REF! | H21: =IF(B21="Dimanche",SUM(G15:G20),"") | I21: =IFERROR(IF(H21>35,H21-35,0)-J21,"") | J21: =IFERROR(IF(H21>43,H21-43,0),"") | K21: =D21-C21 -> #REF! | M21: =INDIRECT("J"&ROW()-9&"!L11") -> #REF! | N21: =M21/G21 -> #REF!
A22: =A21+1 -> 42868 | B22: =VLOOKUP(WEEKDAY(A22),JoursDeSemaine,2,FALSE) -> Samedi | C22: =INDIRECT("J"&ROW()-9&"!E11") -> #REF! | D22: =INDIRECT("J"&ROW()-9&"!H11") -> #REF! | E22: =INDIRECT("J"&ROW()-9&"!N11") -> #REF! | F22: =IF(C22>0,1,0) -> #REF! | G22: =D22-C22-E22 -> #REF! | H22: =IF(B22="Dimanche",SUM(G16:G21),"") | I22: =IFERROR(IF(H22>35,H22-35,0)-J22,"") | J22: =IFERROR(IF(H22>43,H22-43,0),"") | K22: =D22-C22 -> #REF! | M22: =INDIRECT("J"&ROW()-9&"!L11") -> #REF! | N22: =M22/G22 -> #REF!
A23: =A22+1 -> 42869 | B23: =VLOOKUP(WEEKDAY(A23),JoursDeSemaine,2,FALSE) -> Dimanche | C23: =INDIRECT("J"&ROW()-9&"!E11") -> #REF! | D23: =INDIRECT("J"&ROW()-9&"!H11") -> #REF! | E23: =INDIRECT("J"&ROW()-9&"!N11") -> #REF! | F23: =IF(C23>0,1,0) -> #REF! | G23: =D23-C23-E23 -> #REF! | H23: =IF(B23="Dimanche",SUM(G17:G22),"") -> #REF! | I23: =IFERROR(IF(H23>35,H23-35,0)-J23,"") | J23: =IFERROR(IF(H23>43,H23-43,0),"") | K23: =D23-C23 -> #REF! | M23: =INDIRECT("J"&ROW()-9&"!L11") -> #REF! | N23: =M23/G23 -> #REF!
A24: =A23+1 -> 42870 | B24: =VLOOKUP(WEEKDAY(A24),JoursDeSemaine,2,FALSE) -> Lundi | C24: =INDIRECT("J"&ROW()-9&"!E11") -> #REF! | D24: =INDIRECT("J"&ROW()-9&"!H11") -> #REF! | E24: =INDIRECT("J"&ROW()-9&"!N11") -> #REF! | F24: =IF(C24>0,1,0) -> #REF! | G24: =D24-C24-E24 -> #REF! | H24: =IF(B24="Dimanche",SUM(G18:G23),"") | I24: =IFERROR(IF(H24>35,H24-35,0)-J24,"") | J24: =IFERROR(IF(H24>43,H24-43,0),"") | K24: =D24-C24 -> #REF! | M24: =INDIRECT("J"&ROW()-9&"!L11") -> #REF!
A25: =A24+1 -> 42871 | B25: =VLOOKUP(WEEKDAY(A25),JoursDeSemaine,2,FALSE) -> Mardi | C25: =INDIRECT("J"&ROW()-9&"!E11") -> #REF! | D25: =INDIRECT("J"&ROW()-9&"!H11") -> #REF! | E25: =INDIRECT("J"&ROW()-9&"!N11") -> #REF! | F25: =IF(C25>0,1,0) -> #REF! | G25: =D25-C25-E25 -> #REF! | H25: =IF(B25="Dimanche",SUM(G19:G24),"") | I25: =IFERROR(IF(H25>35,H25-35,0)-J25,"") | J25: =IFERROR(IF(H25>43,H25-43,0),"") | K25: =D25-C25 -> #REF! | M25: =INDIRECT("J"&ROW()-9&"!L11") -> #REF!
A26: =A25+1 -> 42872 | B26: =VLOOKUP(WEEKDAY(A26),JoursDeSemaine,2,FALSE) -> Mercredi | C26: =INDIRECT("J"&ROW()-9&"!E11") -> #REF! | D26: =INDIRECT("J"&ROW()-9&"!H11") -> #REF! | E26: =INDIRECT("J"&ROW()-9&"!N11") -> #REF! | F26: =IF(C26>0,1,0) -> #REF! | G26: =D26-C26-E26 -> #REF! | H26: =IF(B26="Dimanche",SUM(G20:G25),"") | I26: =IFERROR(IF(H26>35,H26-35,0)-J26,"") | J26: =IFERROR(IF(H26>43,H26-43,0),"") | K26: =D26-C26 -> #REF! | M26: =INDIRECT("J"&ROW()-9&"!L11") -> #REF! | N26: =M26/G26 -> #REF!
A27: =A26+1 -> 42873 | B27: =VLOOKUP(WEEKDAY(A27),JoursDeSemaine,2,FALSE) -> Jeudi | C27: =INDIRECT("J"&ROW()-9&"!E11") -> #REF! | D27: =INDIRECT("J"&ROW()-9&"!H11") -> #REF! | E27: =INDIRECT("J"&ROW()-9&"!N11") -> #REF! | F27: =IF(C27>0,1,0) -> #REF! | G27: =D27-C27-E27 -> #REF! | H27: =IF(B27="Dimanche",SUM(G21:G26),"") | I27: =IFERROR(IF(H27>35,H27-35,0)-J27,"") | J27: =IFERROR(IF(H27>43,H27-43,0),"") | K27: =D27-C27 -> #REF! | M27: =INDIRECT("J"&ROW()-9&"!L11") -> #REF! | N27: =M27/G27 -> #REF!
A28: =A27+1 -> 42874 | B28: =VLOOKUP(WEEKDAY(A28),JoursDeSemaine,2,FALSE) -> Vendredi | C28: =INDIRECT("J"&ROW()-9&"!E11") -> #REF! | D28: =INDIRECT("J"&ROW()-9&"!H11") -> #REF! | E28: =INDIRECT("J"&ROW()-9&"!N11") -> #REF! | F28: =IF(C28>0,1,0) -> #REF! | G28: =D28-C28-E28 -> #REF! | H28: =IF(B28="Dimanche",SUM(G22:G27),"") | I28: =IFERROR(IF(H28>35,H28-35,0)-J28,"") | J28: =IFERROR(IF(H28>43,H28-43,0),"") | K28: =D28-C28 -> #REF! | M28: =INDIRECT("J"&ROW()-9&"!L11") -> #REF! | N28: =M28/G28 -> #REF!
A29: =A28+1 -> 42875 | B29: =VLOOKUP(WEEKDAY(A29),JoursDeSemaine,2,FALSE) -> Samedi | C29: =INDIRECT("J"&ROW()-9&"!E11") -> #REF! | D29: =INDIRECT("J"&ROW()-9&"!H11") -> #REF! | E29: =INDIRECT("J"&ROW()-9&"!N11") -> #REF! | F29: =IF(C29>0,1,0) -> #REF! | G29: =D29-C29-E29 -> #REF! | H29: =IF(B29="Dimanche",SUM(G23:G28),"") | I29: =IFERROR(IF(H29>35,H29-35,0)-J29,"") | J29: =IFERROR(IF(H29>43,H29-43,0),"") | K29: =D29-C29 -> #REF! | M29: =INDIRECT("J"&ROW()-9&"!L11") -> #REF! | N29: =M29/G29 -> #REF!
A30: =A29+1 -> 42876 | B30: =VLOOKUP(WEEKDAY(A30),JoursDeSemaine,2,FALSE) -> Dimanche | C30: =INDIRECT("J"&ROW()-9&"!E11") -> #REF! | D30: =INDIRECT("J"&ROW()-9&"!H11") -> #REF! | E30: =INDIRECT("J"&ROW()-9&"!N11") -> #REF! | F30: =IF(C30>0,1,0) -> #REF! | G30: =D30-C30-E30 -> #REF! | H30: =IF(B30="Dimanche",SUM(G24:G29),"") -> #REF! | I30: =IFERROR(IF(H30>35,H30-35,0)-J30,"") | J30: =IFERROR(IF(H30>43,H30-43,0),"") | K30: =D30-C30 -> #REF! | M30: =INDIRECT("J"&ROW()-9&"!L11") -> #REF! | N30: =M30/G30 -> #REF!
A31: =A30+1 -> 42877 | B31: =VLOOKUP(WEEKDAY(A31),JoursDeSemaine,2,FALSE) -> Lundi | C31: =INDIRECT("J"&ROW()-9&"!E11") -> #REF! | D31: =INDIRECT("J"&ROW()-9&"!H11") -> #REF! | E31: =INDIRECT("J"&ROW()-9&"!N11") -> #REF! | F31: =IF(C31>0,1,0) -> #REF! | G31: =D31-C31-E31 -> #REF! | H31: =IF(B31="Dimanche",SUM(G25:G30),"") | I31: =IFERROR(IF(H31>35,H31-35,0)-J31,"") | J31: =IFERROR(IF(H31>43,H31-43,0),"") | K31: =D31-C31 -> #REF! | M31: =INDIRECT("J"&ROW()-9&"!L11") -> #REF!
A32: =A31+1 -> 42878 | B32: =VLOOKUP(WEEKDAY(A32),JoursDeSemaine,2,FALSE) -> Mardi | C32: =INDIRECT("J"&ROW()-9&"!E11") -> #REF! | D32: =INDIRECT("J"&ROW()-9&"!H11") -> #REF! | E32: =INDIRECT("J"&ROW()-9&"!N11") -> #REF! | F32: =IF(C32>0,1,0) -> #REF! | G32: =D32-C32-E32 -> #REF! | H32: =IF(B32="Dimanche",SUM(G26:G31),"") | I32: =IFERROR(IF(H32>35,H32-35,0)-J32,"") | J32: =IFERROR(IF(H32>43,H32-43,0),"") | K32: =D32-C32 -> #REF! | M32: =INDIRECT("J"&ROW()-9&"!L11") -> #REF!
A33: =A32+1 -> 42879 | B33: =VLOOKUP(WEEKDAY(A33),JoursDeSemaine,2,FALSE) -> Mercredi | C33: =INDIRECT("J"&ROW()-9&"!E11") -> #REF! | D33: =INDIRECT("J"&ROW()-9&"!H11") -> #REF! | E33: =INDIRECT("J"&ROW()-9&"!N11") -> #REF! | F33: =IF(C33>0,1,0) -> #REF! | G33: =D33-C33-E33 -> #REF! | H33: =IF(B33="Dimanche",SUM(G27:G32),"") | I33: =IFERROR(IF(H33>35,H33-35,0)-J33,"") | J33: =IFERROR(IF(H33>43,H33-43,0),"") | K33: =D33-C33 -> #REF! | M33: =INDIRECT("J"&ROW()-9&"!L11") -> #REF! | N33: =M33/G33 -> #REF!
A34: =A33+1 -> 42880 | B34: =VLOOKUP(WEEKDAY(A34),JoursDeSemaine,2,FALSE) -> Jeudi | C34: =INDIRECT("J"&ROW()-9&"!E11") -> #REF! | D34: =INDIRECT("J"&ROW()-9&"!H11") -> #REF! | E34: =INDIRECT("J"&ROW()-9&"!N11") -> #REF! | F34: =IF(C34>0,1,0) -> #REF! | G34: =D34-C34-E34 -> #REF! | H34: =IF(B34="Dimanche",SUM(G28:G33),"") | I34: =IFERROR(IF(H34>35,H34-35,0)-J34,"") | J34: =IFERROR(IF(H34>43,H34-43,0),"") | K34: =D34-C34 -> #REF! | M34: =INDIRECT("J"&ROW()-9&"!L11") -> #REF! | N34: =M34/G34 -> #REF!
A35: =A34+1 -> 42881 | B35: =VLOOKUP(WEEKDAY(A35),JoursDeSemaine,2,FALSE) -> Vendredi | C35: =INDIRECT("J"&ROW()-9&"!E11") -> #REF! | D35: =INDIRECT("J"&ROW()-9&"!H11") -> #REF! | E35: =INDIRECT("J"&ROW()-9&"!N11") -> #REF! | F35: =IF(C35>0,1,0) -> #REF! | G35: =D35-C35-E35 -> #REF! | H35: =IF(B35="Dimanche",SUM(G29:G34),"") | I35: =IFERROR(IF(H35>35,H35-35,0)-J35,"") | J35: =IFERROR(IF(H35>43,H35-43,0),"") | K35: =D35-C35 -> #REF! | M35: =INDIRECT("J"&ROW()-9&"!L11") -> #REF! | N35: =M35/G35 -> #REF!
A36: =A35+1 -> 42882 | B36: =VLOOKUP(WEEKDAY(A36),JoursDeSemaine,2,FALSE) -> Samedi | C36: =INDIRECT("J"&ROW()-9&"!E11") -> #REF! | D36: =INDIRECT("J"&ROW()-9&"!H11") -> #REF! | E36: =INDIRECT("J"&ROW()-9&"!N11") -> #REF! | F36: =IF(C36>0,1,0) -> #REF! | G36: =D36-C36-E36 -> #REF! | H36: =IF(B36="Dimanche",SUM(G30:G35),"") | I36: =IFERROR(IF(H36>35,H36-35,0)-J36,"") | J36: =IFERROR(IF(H36>43,H36-43,0),"") | K36: =D36-C36 -> #REF! | M36: =INDIRECT("J"&ROW()-9&"!L11") -> #REF! | N36: =M36/G36 -> #REF!
A37: =A36+1 -> 42883 | B37: =VLOOKUP(WEEKDAY(A37),JoursDeSemaine,2,FALSE) -> Dimanche | C37: =INDIRECT("J"&ROW()-9&"!E11") -> #REF! | D37: =INDIRECT("J"&ROW()-9&"!H11") -> #REF! | E37: =INDIRECT("J"&ROW()-9&"!N11") -> #REF! | F37: =IF(C37>0,1,0) -> #REF! | G37: =D37-C37-E37 -> #REF! | H37: =IF(B37="Dimanche",SUM(G31:G36),"") -> #REF! | I37: =IFERROR(IF(H37>35,H37-35,0)-J37,"") | J37: =IFERROR(IF(H37>43,H37-43,0),"") | K37: =D37-C37 -> #REF! | M37: =INDIRECT("J"&ROW()-9&"!L11") -> #REF! | N37: =M37/G37 -> #REF!
A38: =A37+1 -> 42884 | B38: =VLOOKUP(WEEKDAY(A38),JoursDeSemaine,2,FALSE) -> Lundi | C38: =INDIRECT("J"&ROW()-9&"!E11") -> #REF! | D38: =INDIRECT("J"&ROW()-9&"!H11") -> #REF! | E38: =INDIRECT("J"&ROW()-9&"!N11") -> #REF! | F38: =IF(C38>0,1,0) -> #REF! | G38: =D38-C38-E38 -> #REF! | H38: =IF(B38="Dimanche",SUM(G32:G37),"") | I38: =IFERROR(IF(H38>35,H38-35,0)-J38,"") | J38: =IFERROR(IF(H38>43,H38-43,0),"") | K38: =D38-C38 -> #REF! | M38: =INDIRECT("J"&ROW()-9&"!L11") -> #REF!
A39: =A38+1 -> 42885 | B39: =VLOOKUP(WEEKDAY(A39),JoursDeSemaine,2,FALSE) -> Mardi | C39: =INDIRECT("J"&ROW()-9&"!E11") -> #REF! | D39: =INDIRECT("J"&ROW()-9&"!H11") -> #REF! | E39: =INDIRECT("J"&ROW()-9&"!N11") -> #REF! | F39: =IF(C39>0,1,0) -> #REF! | G39: =D39-C39-E39 -> #REF! | H39: =IF(B39="Dimanche",SUM(G33:G38),"") | I39: =IFERROR(IF(H39>35,H39-35,0)-J39,"") | J39: =IFERROR(IF(H39>43,H39-43,0),"") | K39: =D39-C39 -> #REF! | M39: =INDIRECT("J"&ROW()-9&"!L11") -> #REF!
A40: =A39+1 -> 42886 | B40: =VLOOKUP(WEEKDAY(A40),JoursDeSemaine,2,FALSE) -> Mercredi | C40: =INDIRECT("J"&ROW()-9&"!E11") -> #REF! | D40: =INDIRECT("J"&ROW()-9&"!H11") -> #REF! | E40: =INDIRECT("J"&ROW()-9&"!N11") -> #REF! | F40: =IF(C40>0,1,0) -> #REF! | G40: =D40-C40-E40 -> #REF! | H40: =IF(B40="Dimanche",SUM(G34:G39),"") | I40: =IFERROR(IF(H40>35,H40-35,0)-J40,"") | J40: =IFERROR(IF(H40>43,H40-43,0),"") | K40: =D40-C40 -> #REF! | M40: =INDIRECT("J"&ROW()-9&"!L11") -> #REF!
F41: =SUM(F10:F40) -> #REF! | I41: =SUM(I10:I40) -> 0 | J41: =SUM(J10:J40) -> 0 | L41: total | M41: =SUM(M10:M40) -> #REF!
L42: taux
L43: ik | M43: =M41*M42 -> #REF!
A44: (1) L'amplitude journalière est limitée à 10 heures (temps de pause compris), elle peut être prolongée à 11 heures 2 fois par semaine quand les conditions d'exploitation le rendent nécessaire.
...

Sheet COURSIER 3
F2: COURSIER
M3: 151.67
A6: ANNEE : | B6: ='Année-Mois'!B1 -> 2017 | C6: DUREES DE TRAVAIL | L6: VEHICULE | N6: KM/HEURE | O6: RAISON SI ABSENCE
C7: Heure début | D7: Heure fin | E7: Pause repas | F7: Panier dû | G7: Durée du travail journalier (2) | H7: Heures réalisées | K7: Amplitude journalière (1) | L7: Immat | M7: Km
A8: MOIS : | B8: ='Année-Mois'!B2 -> 5 | I8: HS 125 % | J8: HS 150%
A10: =DATE(B6,B8,1) -> 42856 | B10: =VLOOKUP(WEEKDAY(A10),JoursDeSemaine,2,FALSE) -> Lundi | C10: =INDIRECT("J"&ROW()-9&"!E12") -> #REF! | D10: =INDIRECT("J"&ROW()-9&"!H12") -> #REF! | E10: =INDIRECT("J"&ROW()-9&"!N12") -> #REF! | F10: =IF(C10>0,1,0) -> #REF! | G10: =D10-C10-E10 -> #REF! | H10: =IF(B10="Dimanche",SUM(G4:G9),"") | I10: =IFERROR(IF(H10>35,H10-35,0)-J10,"") | J10: =IFERROR(IF(H10>43,H10-43,0),"") | K10: =D10-C10 -> #REF! | M10: =INDIRECT("J"&ROW()-9&"!L12") -> #REF!
A11: =A10+1 -> 42857 | B11: =VLOOKUP(WEEKDAY(A11),JoursDeSemaine,2,FALSE) -> Mardi | C11: =INDIRECT("J"&ROW()-9&"!E12") -> #REF! | D11: =INDIRECT("J"&ROW()-9&"!H12") -> #REF! | E11: =INDIRECT("J"&ROW()-9&"!N12") -> #REF! | F11: =IF(C11>0,1,0) -> #REF! | G11: =D11-C11-E11 -> #REF! | H11: =IF(B11="Dimanche",SUM(G5:G10),"") | I11: =IFERROR(IF(H11>35,H11-35,0)-J11,"") | J11: =IFERROR(IF(H11>43,H11-43,0),"") | K11: =D11-C11 -> #REF! | M11: =INDIRECT("J"&ROW()-9&"!L12") -> #REF!
A12: =A11+1 -> 42858 | B12: =VLOOKUP(WEEKDAY(A12),JoursDeSemaine,2,FALSE) -> Mercredi | C12: =INDIRECT("J"&ROW()-9&"!E12") -> #REF! | D12: =INDIRECT("J"&ROW()-9&"!H12") -> #REF! | E12: =INDIRECT("J"&ROW()-9&"!N12") -> #REF! | F12: =IF(C12>0,1,0) -> #REF! | G12: =D12-C12-E12 -> #REF! | H12: =IF(B12="Dimanche",SUM(G6:G11),"") | I12: =IFERROR(IF(H12>35,H12-35,0)-J12,"") | J12: =IFERROR(IF(H12>43,H12-43,0),"") | K12: =D12-C12 -> #REF! | M12: =INDIRECT("J"&ROW()-9&"!L12") -> #REF!
A13: =A12+1 -> 42859 | B13: =VLOOKUP(WEEKDAY(A13),JoursDeSemaine,2,FALSE) -> Jeudi | C13: =INDIRECT("J"&ROW()-9&"!E12") -> #REF! | D13: =INDIRECT("J"&ROW()-9&"!H12") -> #REF! | E13: =INDIRECT("J"&ROW()-9&"!N12") -> #REF! | F13: =IF(C13>0,1,0) -> #REF! | G13: =D13-C13-E13 -> #REF! | H13: =IF(B13="Dimanche",SUM(G7:G12),"") | I13: =IFERROR(IF(H13>35,H13-35,0)-J13,"") | J13: =IFERROR(IF(H13>43,H13-43,0),"") | K13: =D13-C13 -> #REF! | M13: =INDIRECT("J"&ROW()-9&"!L12") -> #REF!
A14: =A13+1 -> 42860 | B14: =VLOOKUP(WEEKDAY(A14),JoursDeSemaine,2,FALSE) -> Vendredi | C14: =INDIRECT("J"&ROW()-9&"!E12") -> #REF! | D14: =INDIRECT("J"&ROW()-9&"!H12") -> #REF! | E14: =INDIRECT("J"&ROW()-9&"!N12") -> #REF! | F14: =IF(C14>0,1,0) -> #REF! | G14: =D14-C14-E14 -> #REF! | H14: =IF(B14="Dimanche",SUM(G8:G13),"") | I14: =IFERROR(IF(H14>35,H14-35,0)-J14,"") | J14: =IFERROR(IF(H14>43,H14-43,0),"") | K14: =D14-C14 -> #REF! | M14: =INDIRECT("J"&ROW()-9&"!L12") -> #REF!
A15: =A14+1 -> 42861 | B15: =VLOOKUP(WEEKDAY(A15),JoursDeSemaine,2,FALSE) -> Samedi | C15: =INDIRECT("J"&ROW()-9&"!E12") -> #REF! | D15: =INDIRECT("J"&ROW()-9&"!H12") -> #REF! | E15: =INDIRECT("J"&ROW()-9&"!N12") -> #REF! | F15: =IF(C15>0,1,0) -> #REF! | G15: =D15-C15-E15 -> #REF! | H15: =IF(B15="Dimanche",SUM(G9:G14),"") | I15: =IFERROR(IF(H15>35,H15-35,0)-J15,"") | J15: =IFERROR(IF(H15>43,H15-43,0),"") | K15: =D15-C15 -> #REF! | M15: =INDIRECT("J"&ROW()-9&"!L12") -> #REF! | N15: =M15/G15 -> #REF!
A16: =A15+1 -> 42862 | B16: =VLOOKUP(WEEKDAY(A16),JoursDeSemaine,2,FALSE) -> Dimanche | C16: =INDIRECT("J"&ROW()-9&"!E12") -> #REF! | D16: =INDIRECT("J"&ROW()-9&"!H12") -> #REF! | E16: =INDIRECT("J"&ROW()-9&"!N12") -> #REF! | F16: =IF(C16>0,1,0) -> #REF! | G16: =D16-C16-E16 -> #REF! | H16: =IF(B16="Dimanche",SUM(G10:G15),"") -> #REF! | I16: =IFERROR(IF(H16>35,H16-35,0)-J16,"") | J16: =IFERROR(IF(H16>43,H16-43,0),"") | K16: =D16-C16 -> #REF! | M16: =INDIRECT("J"&ROW()-9&"!L12") -> #REF! | N16: =M16/G16 -> #REF!
A17: =A16+1 -> 42863 | B17: =VLOOKUP(WEEKDAY(A17),JoursDeSemaine,2,FALSE) -> Lundi | C17: =INDIRECT("J"&ROW()-9&"!E12") -> #REF! | D17: =INDIRECT("J"&ROW()-9&"!H12") -> #REF! | E17: =INDIRECT("J"&ROW()-9&"!N12") -> #REF! | F17: =IF(C17>0,1,0) -> #REF! | G17: =D17-C17-E17 -> #REF! | H17: =IF(B17="Dimanche",SUM(G11:G16),"") | I17: =IFERROR(IF(H17>35,H17-35,0)-J17,"") | J17: =IFERROR(IF(H17>43,H17-43,0),"") | K17: =D17-C17 -> #REF! | M17: =INDIRECT("J"&ROW()-9&"!L12") -> #REF!
A18: =A17+1 -> 42864 | B18: =VLOOKUP(WEEKDAY(A18),JoursDeSemaine,2,FALSE) -> Mardi | C18: =INDIRECT("J"&ROW()-9&"!E12") -> #REF! | D18: =INDIRECT("J"&ROW()-9&"!H12") -> #REF! | E18: =INDIRECT("J"&ROW()-9&"!N12") -> #REF! | F18: =IF(C18>0,1,0) -> #REF! | G18: =D18-C18-E18 -> #REF! | H18: =IF(B18="Dimanche",SUM(G12:G17),"") | I18: =IFERROR(IF(H18>35,H18-35,0)-J18,"") | J18: =IFERROR(IF(H18>43,H18-43,0),"") | K18: =D18-C18 -> #REF! | M18: =INDIRECT("J"&ROW()-9&"!L12") -> #REF!
A19: =A18+1 -> 42865 | B19: =VLOOKUP(WEEKDAY(A19),JoursDeSemaine,2,FALSE) -> Mercredi | C19: =INDIRECT("J"&ROW()-9&"!E12") -> #REF! | D19: =INDIRECT("J"&ROW()-9&"!H12") -> #REF! | E19: =INDIRECT("J"&ROW()-9&"!N12") -> #REF! | F19: =IF(C19>0,1,0) -> #REF! | G19: =D19-C19-E19 -> #REF! | H19: =IF(B19="Dimanche",SUM(G13:G18),"") | I19: =IFERROR(IF(H19>35,H19-35,0)-J19,"") | J19: =IFERROR(IF(H19>43,H19-43,0),"") | K19: =D19-C19 -> #REF! | M19: =INDIRECT("J"&ROW()-9&"!L12") -> #REF! | N19: =M19/G19 -> #REF!
A20: =A19+1 -> 42866 | B20: =VLOOKUP(WEEKDAY(A20),JoursDeSemaine,2,FALSE) -> Jeudi | C20: =INDIRECT("J"&ROW()-9&"!E12") -> #REF! | D20: =INDIRECT("J"&ROW()-9&"!H12") -> #REF! | E20: =INDIRECT("J"&ROW()-9&"!N12") -> #REF! | F20: =IF(C20>0,1,0) -> #REF! | G20: =D20-C20-E20 -> #REF! | H20: =IF(B20="Dimanche",SUM(G14:G19),"") | I20: =IFERROR(IF(H20>35,H20-35,0)-J20,"") | J20: =IFERROR(IF(H20>43,H20-43,0),"") | K20: =D20-C20 -> #REF! | M20: =INDIRECT("J"&ROW()-9&"!L12") -> #REF! | N20: =M20/G20 -> #REF!
A21: =A20+1 -> 42867 | B21: =VLOOKUP(WEEKDAY(A21),JoursDeSemaine,2,FALSE) -> Vendredi | C21: =INDIRECT("J"&ROW()-9&"!E12") -> #REF! | D21: =INDIRECT("J"&ROW()-9&"!H12") -> #REF! | E21: =INDIRECT("J"&ROW()-9&"!N12") -> #REF! | F21: =IF(C21>0,1,0) -> #REF! | G21: =D21-C21-E21 -> #REF! | H21: =IF(B21="Dimanche",SUM(G15:G20),"") | I21: =IFERROR(IF(H21>35,H21-35,0)-J21,"") | J21: =IFERROR(IF(H21>43,H21-43,0),"") | K21: =D21-C21 -> #REF! | M21: =INDIRECT("J"&ROW()-9&"!L12") -> #REF! | N21: =M21/G21 -> #REF!
A22: =A21+1 -> 42868 | B22: =VLOOKUP(WEEKDAY(A22),JoursDeSemaine,2,FALSE) -> Samedi | C22: =INDIRECT("J"&ROW()-9&"!E12") -> #REF! | D22: =INDIRECT("J"&ROW()-9&"!H12") -> #REF! | E22: =INDIRECT("J"&ROW()-9&"!N12") -> #REF! | F22: =IF(C22>0,1,0) -> #REF! | G22: =D22-C22-E22 -> #REF! | H22: =IF(B22="Dimanche",SUM(G16:G21),"") | I22: =IFERROR(IF(H22>35,H22-35,0)-J22,"") | J22: =IFERROR(IF(H22>43,H22-43,0),"") | K22: =D22-C22 -> #REF! | M22: =INDIRECT("J"&ROW()-9&"!L12") -> #REF! | N22: =M22/G22 -> #REF!
A23: =A22+1 -> 42869 | B23: =VLOOKUP(WEEKDAY(A23),JoursDeSemaine,2,FALSE) -> Dimanche | C23: =INDIRECT("J"&ROW()-9&"!E12") -> #REF! | D23: =INDIRECT("J"&ROW()-9&"!H12") -> #REF! | E23: =INDIRECT("J"&ROW()-9&"!N12") -> #REF! | F23: =IF(C23>0,1,0) -> #REF! | G23: =D23-C23-E23 -> #REF! | H23: =IF(B23="Dimanche",SUM(G17:G22),"") -> #REF! | I23: =IFERROR(IF(H23>35,H23-35,0)-J23,"") | J23: =IFERROR(IF(H23>43,H23-43,0),"") | K23: =D23-C23 -> #REF! | M23: =INDIRECT("J"&ROW()-9&"!L12") -> #REF! | N23: =M23/G23 -> #REF!
A24: =A23+1 -> 42870 | B24: =VLOOKUP(WEEKDAY(A24),JoursDeSemaine,2,FALSE) -> Lundi | C24: =INDIRECT("J"&ROW()-9&"!E12") -> #REF! | D24: =INDIRECT("J"&ROW()-9&"!H12") -> #REF! | E24: =INDIRECT("J"&ROW()-9&"!N12") -> #REF! | F24: =IF(C24>0,1,0) -> #REF! | G24: =D24-C24-E24 -> #REF! | H24: =IF(B24="Dimanche",SUM(G18:G23),"") | I24: =IFERROR(IF(H24>35,H24-35,0)-J24,"") | J24: =IFERROR(IF(H24>43,H24-43,0),"") | K24: =D24-C24 -> #REF! | M24: =INDIRECT("J"&ROW()-9&"!L12") -> #REF!
A25: =A24+1 -> 42871 | B25: =VLOOKUP(WEEKDAY(A25),JoursDeSemaine,2,FALSE) -> Mardi | C25: =INDIRECT("J"&ROW()-9&"!E12") -> #REF! | D25: =INDIRECT("J"&ROW()-9&"!H12") -> #REF! | E25: =INDIRECT("J"&ROW()-9&"!N12") -> #REF! | F25: =IF(C25>0,1,0) -> #REF! | G25: =D25-C25-E25 -> #REF! | H25: =IF(B25="Dimanche",SUM(G19:G24),"") | I25: =IFERROR(IF(H25>35,H25-35,0)-J25,"") | J25: =IFERROR(IF(H25>43,H25-43,0),"") | K25: =D25-C25 -> #REF! | M25: =INDIRECT("J"&ROW()-9&"!L12") -> #REF!
A26: =A25+1 -> 42872 | B26: =VLOOKUP(WEEKDAY(A26),JoursDeSemaine,2,FALSE) -> Mercredi | C26: =INDIRECT("J"&ROW()-9&"!E12") -> #REF! | D26: =INDIRECT("J"&ROW()-9&"!H12") -> #REF! | E26: =INDIRECT("J"&ROW()-9&"!N12") -> #REF! | F26: =IF(C26>0,1,0) -> #REF! | G26: =D26-C26-E26 -> #REF! | H26: =IF(B26="Dimanche",SUM(G20:G25),"") | I26: =IFERROR(IF(H26>35,H26-35,0)-J26,"") | J26: =IFERROR(IF(H26>43,H26-43,0),"") | K26: =D26-C26 -> #REF! | M26: =INDIRECT("J"&ROW()-9&"!L12") -> #REF! | N26: =M26/G26 -> #REF!
A27: =A26+1 -> 42873 | B27: =VLOOKUP(WEEKDAY(A27),JoursDeSemaine,2,FALSE) -> Jeudi | C27: =INDIRECT("J"&ROW()-9&"!E12") -> #REF! | D27: =INDIRECT("J"&ROW()-9&"!H12") -> #REF! | E27: =INDIRECT("J"&ROW()-9&"!N12") -> #REF! | F27: =IF(C27>0,1,0) -> #REF! | G27: =D27-C27-E27 -> #REF! | H27: =IF(B27="Dimanche",SUM(G21:G26),"") | I27: =IFERROR(IF(H27>35,H27-35,0)-J27,"") | J27: =IFERROR(IF(H27>43,H27-43,0),"") | K27: =D27-C27 -> #REF! | M27: =INDIRECT("J"&ROW()-9&"!L12") -> #REF! | N27: =M27/G27 -> #REF!
A28: =A27+1 -> 42874 | B28: =VLOOKUP(WEEKDAY(A28),JoursDeSemaine,2,FALSE) -> Vendredi | C28: =INDIRECT("J"&ROW()-9&"!E12") -> #REF! | D28: =INDIRECT("J"&ROW()-9&"!H12") -> #REF! | E28: =INDIRECT("J"&ROW()-9&"!N12") -> #REF! | F28: =IF(C28>0,1,0) -> #REF! | G28: =D28-C28-E28 -> #REF! | H28: =IF(B28="Dimanche",SUM(G22:G27),"") | I28: =IFERROR(IF(H28>35,H28-35,0)-J28,"") | J28: =IFERROR(IF(H28>43,H28-43,0),"") | K28: =D28-C28 -> #REF! | M28: =INDIRECT("J"&ROW()-9&"!L12") -> #REF! | N28: =M28/G28 -> #REF!
A29: =A28+1 -> 42875 | B29: =VLOOKUP(WEEKDAY(A29),JoursDeSemaine,2,FALSE) -> Samedi | C29: =INDIRECT("J"&ROW()-9&"!E12") -> #REF! | D29: =INDIRECT("J"&ROW()-9&"!H12") -> #REF! | E29: =INDIRECT("J"&ROW()-9&"!N12") -> #REF! | F29: =IF(C29>0,1,0) -> #REF! | G29: =D29-C29-E29 -> #REF! | H29: =IF(B29="Dimanche",SUM(G23:G28),"") | I29: =IFERROR(IF(H29>35,H29-35,0)-J29,"") | J29: =IFERROR(IF(H29>43,H29-43,0),"") | K29: =D29-C29 -> #REF! | M29: =INDIRECT("J"&ROW()-9&"!L12") -> #REF! | N29: =M29/G29 -> #REF!
A30: =A29+1 -> 42876 | B30: =VLOOKUP(WEEKDAY(A30),JoursDeSemaine,2,FALSE) -> Dimanche | C30: =INDIRECT("J"&ROW()-9&"!E12") -> #REF! | D30: =INDIRECT("J"&ROW()-9&"!H12") -> #REF! | E30: =INDIRECT("J"&ROW()-9&"!N12") -> #REF! | F30: =IF(C30>0,1,0) -> #REF! | G30: =D30-C30-E30 -> #REF! | H30: =IF(B30="Dimanche",SUM(G24:G29),"") -> #REF! | I30: =IFERROR(IF(H30>35,H30-35,0)-J30,"") | J30: =IFERROR(IF(H30>43,H30-43,0),"") | K30: =D30-C30 -> #REF! | M30: =INDIRECT("J"&ROW()-9&"!L12") -> #REF! | N30: =M30/G30 -> #REF!
A31: =A30+1 -> 42877 | B31: =VLOOKUP(WEEKDAY(A31),JoursDeSemaine,2,FALSE) -> Lundi | C31: =INDIRECT("J"&ROW()-9&"!E12") -> #REF! | D31: =INDIRECT("J"&ROW()-9&"!H12") -> #REF! | E31: =INDIRECT("J"&ROW()-9&"!N12") -> #REF! | F31: =IF(C31>0,1,0) -> #REF! | G31: =D31-C31-E31 -> #REF! | H31: =IF(B31="Dimanche",SUM(G25:G30),"") | I31: =IFERROR(IF(H31>35,H31-35,0)-J31,"") | J31: =IFERROR(IF(H31>43,H31-43,0),"") | K31: =D31-C31 -> #REF! | M31: =INDIRECT("J"&ROW()-9&"!L12") -> #REF!
A32: =A31+1 -> 42878 | B32: =VLOOKUP(WEEKDAY(A32),JoursDeSemaine,2,FALSE) -> Mardi | C32: =INDIRECT("J"&ROW()-9&"!E12") -> #REF! | D32: =INDIRECT("J"&ROW()-9&"!H12") -> #REF! | E32: =INDIRECT("J"&ROW()-9&"!N12") -> #REF! | F32: =IF(C32>0,1,0) -> #REF! | G32: =D32-C32-E32 -> #REF! | H32: =IF(B32="Dimanche",SUM(G26:G31),"") | I32: =IFERROR(IF(H32>35,H32-35,0)-J32,"") | J32: =IFERROR(IF(H32>43,H32-43,0),"") | K32: =D32-C32 -> #REF! | M32: =INDIRECT("J"&ROW()-9&"!L12") -> #REF!
A33: =A32+1 -> 42879 | B33: =VLOOKUP(WEEKDAY(A33),JoursDeSemaine,2,FALSE) -> Mercredi | C33: =INDIRECT("J"&ROW()-9&"!E12") -> #REF! | D33: =INDIRECT("J"&ROW()-9&"!H12") -> #REF! | E33: =INDIRECT("J"&ROW()-9&"!N12") -> #REF! | F33: =IF(C33>0,1,0) -> #REF! | G33: =D33-C33-E33 -> #REF! | H33: =IF(B33="Dimanche",SUM(G27:G32),"") | I33: =IFERROR(IF(H33>35,H33-35,0)-J33,"") | J33: =IFERROR(IF(H33>43,H33-43,0),"") | K33: =D33-C33 -> #REF! | M33: =INDIRECT("J"&ROW()-9&"!L12") -> #REF! | N33: =M33/G33 -> #REF!
A34: =A33+1 -> 42880 | B34: =VLOOKUP(WEEKDAY(A34),JoursDeSemaine,2,FALSE) -> Jeudi | C34: =INDIRECT("J"&ROW()-9&"!E12") -> #REF! | D34: =INDIRECT("J"&ROW()-9&"!H12") -> #REF! | E34: =INDIRECT("J"&ROW()-9&"!N12") -> #REF! | F34: =IF(C34>0,1,0) -> #REF! | G34: =D34-C34-E34 -> #REF! | H34: =IF(B34="Dimanche",SUM(G28:G33),"") | I34: =IFERROR(IF(H34>35,H34-35,0)-J34,"") | J34: =IFERROR(IF(H34>43,H34-43,0),"") | K34: =D34-C34 -> #REF! | M34: =INDIRECT("J"&ROW()-9&"!L12") -> #REF! | N34: =M34/G34 -> #REF!
A35: =A34+1 -> 42881 | B35: =VLOOKUP(WEEKDAY(A35),JoursDeSemaine,2,FALSE) -> Vendredi | C35: =INDIRECT("J"&ROW()-9&"!E12") -> #REF! | D35: =INDIRECT("J"&ROW()-9&"!H12") -> #REF! | E35: =INDIRECT("J"&ROW()-9&"!N12") -> #REF! | F35: =IF(C35>0,1,0) -> #REF! | G35: =D35-C35-E35 -> #REF! | H35: =IF(B35="Dimanche",SUM(G29:G34),"") | I35: =IFERROR(IF(H35>35,H35-35,0)-J35,"") | J35: =IFERROR(IF(H35>43,H35-43,0),"") | K35: =D35-C35 -> #REF! | M35: =INDIRECT("J"&ROW()-9&"!L12") -> #REF! | N35: =M35/G35 -> #REF!
A36: =A35+1 -> 42882 | B36: =VLOOKUP(WEEKDAY(A36),JoursDeSemaine,2,FALSE) -> Samedi | C36: =INDIRECT("J"&ROW()-9&"!E12") -> #REF! | D36: =INDIRECT("J"&ROW()-9&"!H12") -> #REF! | E36: =INDIRECT("J"&ROW()-9&"!N12") -> #REF! | F36: =IF(C36>0,1,0) -> #REF! | G36: =D36-C36-E36 -> #REF! | H36: =IF(B36="Dimanche",SUM(G30:G35),"") | I36: =IFERROR(IF(H36>35,H36-35,0)-J36,"") | J36: =IFERROR(IF(H36>43,H36-43,0),"") | K36: =D36-C36 -> #REF! | M36: =INDIRECT("J"&ROW()-9&"!L12") -> #REF! | N36: =M36/G36 -> #REF!
A37: =A36+1 -> 42883 | B37: =VLOOKUP(WEEKDAY(A37),JoursDeSemaine,2,FALSE) -> Dimanche | C37: =INDIRECT("J"&ROW()-9&"!E12") -> #REF! | D37: =INDIRECT("J"&ROW()-9&"!H12") -> #REF! | E37: =INDIRECT("J"&ROW()-9&"!N12") -> #REF! | F37: =IF(C37>0,1,0) -> #REF! | G37: =D37-C37-E37 -> #REF! | H37: =IF(B37="Dimanche",SUM(G31:G36),"") -> #REF! | I37: =IFERROR(IF(H37>35,H37-35,0)-J37,"") | J37: =IFERROR(IF(H37>43,H37-43,0),"") | K37: =D37-C37 -> #REF! | M37: =INDIRECT("J"&ROW()-9&"!L12") -> #REF! | N37: =M37/G37 -> #REF!
A38: =A37+1 -> 42884 | B38: =VLOOKUP(WEEKDAY(A38),JoursDeSemaine,2,FALSE) -> Lundi | C38: =INDIRECT("J"&ROW()-9&"!E12") -> #REF! | D38: =INDIRECT("J"&ROW()-9&"!H12") -> #REF! | E38: =INDIRECT("J"&ROW()-9&"!N12") -> #REF! | F38: =IF(C38>0,1,0) -> #REF! | G38: =D38-C38-E38 -> #REF! | H38: =IF(B38="Dimanche",SUM(G32:G37),"") | I38: =IFERROR(IF(H38>35,H38-35,0)-J38,"") | J38: =IFERROR(IF(H38>43,H38-43,0),"") | K38: =D38-C38 -> #REF! | M38: =INDIRECT("J"&ROW()-9&"!L12") -> #REF!
A39: =A38+1 -> 42885 | B39: =VLOOKUP(WEEKDAY(A39),JoursDeSemaine,2,FALSE) -> Mardi | C39: =INDIRECT("J"&ROW()-9&"!E12") -> #REF! | D39: =INDIRECT("J"&ROW()-9&"!H12") -> #REF! | E39: =INDIRECT("J"&ROW()-9&"!N12") -> #REF! | F39: =IF(C39>0,1,0) -> #REF! | G39: =D39-C39-E39 -> #REF! | H39: =IF(B39="Dimanche",SUM(G33:G38),"") | I39: =IFERROR(IF(H39>35,H39-35,0)-J39,"") | J39: =IFERROR(IF(H39>43,H39-43,0),"") | K39: =D39-C39 -> #REF! | M39: =INDIRECT("J"&ROW()-9&"!L12") -> #REF!
A40: =A39+1 -> 42886 | B40: =VLOOKUP(WEEKDAY(A40),JoursDeSemaine,2,FALSE) -> Mercredi | C40: =INDIRECT("J"&ROW()-9&"!E12") -> #REF! | D40: =INDIRECT("J"&ROW()-9&"!H12") -> #REF! | E40: =INDIRECT("J"&ROW()-9&"!N12") -> #REF! | F40: =IF(C40>0,1,0) -> #REF! | G40: =D40-C40-E40 -> #REF! | H40: =IF(B40="Dimanche",SUM(G34:G39),"") | I40: =IFERROR(IF(H40>35,H40-35,0)-J40,"") | J40: =IFERROR(IF(H40>43,H40-43,0),"") | K40: =D40-C40 -> #REF! | M40: =INDIRECT("J"&ROW()-9&"!L12") -> #REF!
F41: =SUM(F10:F40) -> #REF! | I41: =SUM(I10:I40) -> 0 | J41: =SUM(J10:J40) -> 0 | L41: total | M41: =SUM(M10:M40) -> #REF!
L42: ik | M42: =M40*M41 -> #REF!
A43: (1) L'amplitude journalière est limitée à 10 heures (temps de pause compris), elle peut être prolongée à 11 heures 2 fois par semaine quand les conditions d'exploitation le rendent nécessaire.
A44: (2) Correspond à l'amplitude journalière diminuée d'une durée forfaitaire d'une heure (article 2.2 Avenant n° 44).
...

Sheet COURSIER 4
F2: COURSIER
M3: 151.67
A6: ANNEE : | B6: ='Année-Mois'!B1 -> 2017 | C6: DUREES DE TRAVAIL | L6: VEHICULE | N6: KM/HEURE | O6: RAISON SI ABSENCE
C7: Heure début | D7: Heure fin | E7: Pause repas | F7: Panier dû | G7: Durée du travail journalier (2) | H7: Heures réalisées | K7: Amplitude journalière (1) | L7: Immat | M7: Km
A8: MOIS : | B8: ='Année-Mois'!B2 -> 5 | I8: HS 125 % | J8: HS 150%
A10: =DATE(B6,B8,1) -> 42856 | B10: =VLOOKUP(WEEKDAY(A10),JoursDeSemaine,2,FALSE) -> Lundi | C10: =INDIRECT("J"&ROW()-9&"!E13") -> #REF! | D10: =INDIRECT("J"&ROW()-9&"!H13") -> #REF! | E10: =INDIRECT("J"&ROW()-9&"!N13") -> #REF! | F10: =IF(C10>0,1,0) -> #REF! | G10: =D10-C10-E10 -> #REF! | H10: =IF(B10="Dimanche",SUM(G4:G9),"") | I10: =IFERROR(IF(H10>35,H10-35,0)-J10,"") | J10: =IFERROR(IF(H10>43,H10-43,0),"") | K10: =D10-C10 -> #REF! | M10: =INDIRECT("J"&ROW()-9&"!L13") -> #REF!
A11: =A10+1 -> 42857 | B11: =VLOOKUP(WEEKDAY(A11),JoursDeSemaine,2,FALSE) -> Mardi | C11: =INDIRECT("J"&ROW()-9&"!E13") -> #REF! | D11: =INDIRECT("J"&ROW()-9&"!H13") -> #REF! | E11: =INDIRECT("J"&ROW()-9&"!N13") -> #REF! | F11: =IF(C11>0,1,0) -> #REF! | G11: =D11-C11-E11 -> #REF! | H11: =IF(B11="Dimanche",SUM(G5:G10),"") | I11: =IFERROR(IF(H11>35,H11-35,0)-J11,"") | J11: =IFERROR(IF(H11>43,H11-43,0),"") | K11: =D11-C11 -> #REF! | M11: =INDIRECT("J"&ROW()-9&"!L13") -> #REF!
A12: =A11+1 -> 42858 | B12: =VLOOKUP(WEEKDAY(A12),JoursDeSemaine,2,FALSE) -> Mercredi | C12: =INDIRECT("J"&ROW()-9&"!E13") -> #REF! | D12: =INDIRECT("J"&ROW()-9&"!H13") -> #REF! | E12: =INDIRECT("J"&ROW()-9&"!N13") -> #REF! | F12: =IF(C12>0,1,0) -> #REF! | G12: =D12-C12-E12 -> #REF! | H12: =IF(B12="Dimanche",SUM(G6:G11),"") | I12: =IFERROR(IF(H12>35,H12-35,0)-J12,"") | J12: =IFERROR(IF(H12>43,H12-43,0),"") | K12: =D12-C12 -> #REF! | M12: =INDIRECT("J"&ROW()-9&"!L13") -> #REF!
A13: =A12+1 -> 42859 | B13: =VLOOKUP(WEEKDAY(A13),JoursDeSemaine,2,FALSE) -> Jeudi | C13: =INDIRECT("J"&ROW()-9&"!E13") -> #REF! | D13: =INDIRECT("J"&ROW()-9&"!H13") -> #REF! | E13: =INDIRECT("J"&ROW()-9&"!N13") -> #REF! | F13: =IF(C13>0,1,0) -> #REF! | G13: =D13-C13-E13 -> #REF! | H13: =IF(B13="Dimanche",SUM(G7:G12),"") | I13: =IFERROR(IF(H13>35,H13-35,0)-J13,"") | J13: =IFERROR(IF(H13>43,H13-43,0),"") | K13: =D13-C13 -> #REF! | M13: =INDIRECT("J"&ROW()-9&"!L13") -> #REF!
A14: =A13+1 -> 42860 | B14: =VLOOKUP(WEEKDAY(A14),JoursDeSemaine,2,FALSE) -> Vendredi | C14: =INDIRECT("J"&ROW()-9&"!E13") -> #REF! | D14: =INDIRECT("J"&ROW()-9&"!H13") -> #REF! | E14: =INDIRECT("J"&ROW()-9&"!N13") -> #REF! | F14: =IF(C14>0,1,0) -> #REF! | G14: =D14-C14-E14 -> #REF! | H14: =IF(B14="Dimanche",SUM(G8:G13),"") | I14: =IFERROR(IF(H14>35,H14-35,0)-J14,"") | J14: =IFERROR(IF(H14>43,H14-43,0),"") | K14: =D14-C14 -> #REF! | M14: =INDIRECT("J"&ROW()-9&"!L13") -> #REF!
A15: =A14+1 -> 42861 | B15: =VLOOKUP(WEEKDAY(A15),JoursDeSemaine,2,FALSE) -> Samedi | C15: =INDIRECT("J"&ROW()-9&"!E13") -> #REF! | D15: =INDIRECT("J"&ROW()-9&"!H13") -> #REF! | E15: =INDIRECT("J"&ROW()-9&"!N13") -> #REF! | F15: =IF(C15>0,1,0) -> #REF! | G15: =D15-C15-E15 -> #REF! | H15: =IF(B15="Dimanche",SUM(G9:G14),"") | I15: =IFERROR(IF(H15>35,H15-35,0)-J15,"") | J15: =IFERROR(IF(H15>43,H15-43,0),"") | K15: =D15-C15 -> #REF! | M15: =INDIRECT("J"&ROW()-9&"!L13") -> #REF! | N15: =M15/G15 -> #REF!
A16: =A15+1 -> 42862 | B16: =VLOOKUP(WEEKDAY(A16),JoursDeSemaine,2,FALSE) -> Dimanche | C16: =INDIRECT("J"&ROW()-9&"!E13") -> #REF! | D16: =INDIRECT("J"&ROW()-9&"!H13") -> #REF! | E16: =INDIRECT("J"&ROW()-9&"!N13") -> #REF! | F16: =IF(C16>0,1,0) -> #REF! | G16: =D16-C16-E16 -> #REF! | H16: =IF(B16="Dimanche",SUM(G10:G15),"") -> #REF! | I16: =IFERROR(IF(H16>35,H16-35,0)-J16,"") | J16: =IFERROR(IF(H16>43,H16-43,0),"") | K16: =D16-C16 -> #REF! | M16: =INDIRECT("J"&ROW()-9&"!L13") -> #REF! | N16: =M16/G16 -> #REF!
A17: =A16+1 -> 42863 | B17: =VLOOKUP(WEEKDAY(A17),JoursDeSemaine,2,FALSE) -> Lundi | C17: =INDIRECT("J"&ROW()-9&"!E13") -> #REF! | D17: =INDIRECT("J"&ROW()-9&"!H13") -> #REF! | E17: =INDIRECT("J"&ROW()-9&"!N13") -> #REF! | F17: =IF(C17>0,1,0) -> #REF! | G17: =D17-C17-E17 -> #REF! | H17: =IF(B17="Dimanche",SUM(G11:G16),"") | I17: =IFERROR(IF(H17>35,H17-35,0)-J17,"") | J17: =IFERROR(IF(H17>43,H17-43,0),"") | K17: =D17-C17 -> #REF! | M17: =INDIRECT("J"&ROW()-9&"!L13") -> #REF!
A18: =A17+1 -> 42864 | B18: =VLOOKUP(WEEKDAY(A18),JoursDeSemaine,2,FALSE) -> Mardi | C18: =INDIRECT("J"&ROW()-9&"!E13") -> #REF! | D18: =INDIRECT("J"&ROW()-9&"!H13") -> #REF! | E18: =INDIRECT("J"&ROW()-9&"!N13") -> #REF! | F18: =IF(C18>0,1,0) -> #REF! | G18: =D18-C18-E18 -> #REF! | H18: =IF(B18="Dimanche",SUM(G12:G17),"") | I18: =IFERROR(IF(H18>35,H18-35,0)-J18,"") | J18: =IFERROR(IF(H18>43,H18-43,0),"") | K18: =D18-C18 -> #REF! | M18: =INDIRECT("J"&ROW()-9&"!L13") -> #REF!
A19: =A18+1 -> 42865 | B19: =VLOOKUP(WEEKDAY(A19),JoursDeSemaine,2,FALSE) -> Mercredi | C19: =INDIRECT("J"&ROW()-9&"!E13") -> #REF! | D19: =INDIRECT("J"&ROW()-9&"!H13") -> #REF! | E19: =INDIRECT("J"&ROW()-9&"!N13") -> #REF! | F19: =IF(C19>0,1,0) -> #REF! | G19: =D19-C19-E19 -> #REF! | H19: =IF(B19="Dimanche",SUM(G13:G18),"") | I19: =IFERROR(IF(H19>35,H19-35,0)-J19,"") | J19: =IFERROR(IF(H19>43,H19-43,0),"") | K19: =D19-C19 -> #REF! | M19: =INDIRECT("J"&ROW()-9&"!L13") -> #REF! | N19: =M19/G19 -> #REF!
A20: =A19+1 -> 42866 | B20: =VLOOKUP(WEEKDAY(A20),JoursDeSemaine,2,FALSE) -> Jeudi | C20: =INDIRECT("J"&ROW()-9&"!E13") -> #REF! | D20: =INDIRECT("J"&ROW()-9&"!H13") -> #REF! | E20: =INDIRECT("J"&ROW()-9&"!N13") -> #REF! | F20: =IF(C20>0,1,0) -> #REF! | G20: =D20-C20-E20 -> #REF! | H20: =IF(B20="Dimanche",SUM(G14:G19),"") | I20: =IFERROR(IF(H20>35,H20-35,0)-J20,"") | J20: =IFERROR(IF(H20>43,H20-43,0),"") | K20: =D20-C20 -> #REF! | M20: =INDIRECT("J"&ROW()-9&"!L13") -> #REF! | N20: =M20/G20 -> #REF!
A21: =A20+1 -> 42867 | B21: =VLOOKUP(WEEKDAY(A21),JoursDeSemaine,2,FALSE) -> Vendredi | C21: =INDIRECT("J"&ROW()-9&"!E13") -> #REF! | D21: =INDIRECT("J"&ROW()-9&"!H13") -> #REF! | E21: =INDIRECT("J"&ROW()-9&"!N13") -> #REF! | F21: =IF(C21>0,1,0) -> #REF! | G21: =D21-C21-E21 -> #REF! | H21: =IF(B21="Dimanche",SUM(G15:G20),"") | I21: =IFERROR(IF(H21>35,H21-35,0)-J21,"") | J21: =IFERROR(IF(H21>43,H21-43,0),"") | K21: =D21-C21 -> #REF! | M21: =INDIRECT("J"&ROW()-9&"!L13") -> #REF! | N21: =M21/G21 -> #REF!
A22: =A21+1 -> 42868 | B22: =VLOOKUP(WEEKDAY(A22),JoursDeSemaine,2,FALSE) -> Samedi | C22: =INDIRECT("J"&ROW()-9&"!E13") -> #REF! | D22: =INDIRECT("J"&ROW()-9&"!H13") -> #REF! | E22: =INDIRECT("J"&ROW()-9&"!N13") -> #REF! | F22: =IF(C22>0,1,0) -> #REF! | G22: =D22-C22-E22 -> #REF! | H22: =IF(B22="Dimanche",SUM(G16:G21),"") | I22: =IFERROR(IF(H22>35,H22-35,0)-J22,"") | J22: =IFERROR(IF(H22>43,H22-43,0),"") | K22: =D22-C22 -> #REF! | M22: =INDIRECT("J"&ROW()-9&"!L13") -> #REF! | N22: =M22/G22 -> #REF!
A23: =A22+1 -> 42869 | B23: =VLOOKUP(WEEKDAY(A23),JoursDeSemaine,2,FALSE) -> Dimanche | C23: =INDIRECT("J"&ROW()-9&"!E13") -> #REF! | D23: =INDIRECT("J"&ROW()-9&"!H13") -> #REF! | E23: =INDIRECT("J"&ROW()-9&"!N13") -> #REF! | F23: =IF(C23>0,1,0) -> #REF! | G23: =D23-C23-E23 -> #REF! | H23: =IF(B23="Dimanche",SUM(G17:G22),"") -> #REF! | I23: =IFERROR(IF(H23>35,H23-35,0)-J23,"") | J23: =IFERROR(IF(H23>43,H23-43,0),"") | K23: =D23-C23 -> #REF! | M23: =INDIRECT("J"&ROW()-9&"!L13") -> #REF! | N23: =M23/G23 -> #REF!
A24: =A23+1 -> 42870 | B24: =VLOOKUP(WEEKDAY(A24),JoursDeSemaine,2,FALSE) -> Lundi | C24: =INDIRECT("J"&ROW()-9&"!E13") -> #REF! | D24: =INDIRECT("J"&ROW()-9&"!H13") -> #REF! | E24: =INDIRECT("J"&ROW()-9&"!N13") -> #REF! | F24: =IF(C24>0,1,0) -> #REF! | G24: =D24-C24-E24 -> #REF! | H24: =IF(B24="Dimanche",SUM(G18:G23),"") | I24: =IFERROR(IF(H24>35,H24-35,0)-J24,"") | J24: =IFERROR(IF(H24>43,H24-43,0),"") | K24: =D24-C24 -> #REF! | M24: =INDIRECT("J"&ROW()-9&"!L13") -> #REF!
A25: =A24+1 -> 42871 | B25: =VLOOKUP(WEEKDAY(A25),JoursDeSemaine,2,FALSE) -> Mardi | C25: =INDIRECT("J"&ROW()-9&"!E13") -> #REF! | D25: =INDIRECT("J"&ROW()-9&"!H13") -> #REF! | E25: =INDIRECT("J"&ROW()-9&"!N13") -> #REF! | F25: =IF(C25>0,1,0) -> #REF! | G25: =D25-C25-E25 -> #REF! | H25: =IF(B25="Dimanche",SUM(G19:G24),"") | I25: =IFERROR(IF(H25>35,H25-35,0)-J25,"") | J25: =IFERROR(IF(H25>43,H25-43,0),"") | K25: =D25-C25 -> #REF! | M25: =INDIRECT("J"&ROW()-9&"!L13") -> #REF!
A26: =A25+1 -> 42872 | B26: =VLOOKUP(WEEKDAY(A26),JoursDeSemaine,2,FALSE) -> Mercredi | C26: =INDIRECT("J"&ROW()-9&"!E13") -> #REF! | D26: =INDIRECT("J"&ROW()-9&"!H13") -> #REF! | E26: =INDIRECT("J"&ROW()-9&"!N13") -> #REF! | F26: =IF(C26>0,1,0) -> #REF! | G26: =D26-C26-E26 -> #REF! | H26: =IF(B26="Dimanche",SUM(G20:G25),"") | I26: =IFERROR(IF(H26>35,H26-35,0)-J26,"") | J26: =IFERROR(IF(H26>43,H26-43,0),"") | K26: =D26-C26 -> #REF! | M26: =INDIRECT("J"&ROW()-9&"!L13") -> #REF! | N26: =M26/G26 -> #REF!
A27: =A26+1 -> 42873 | B27: =VLOOKUP(WEEKDAY(A27),JoursDeSemaine,2,FALSE) -> Jeudi | C27: =INDIRECT("J"&ROW()-9&"!E13") -> #REF! | D27: =INDIRECT("J"&ROW()-9&"!H13") -> #REF! | E27: =INDIRECT("J"&ROW()-9&"!N13") -> #REF! | F27: =IF(C27>0,1,0) -> #REF! | G27: =D27-C27-E27 -> #REF! | H27: =IF(B27="Dimanche",SUM(G21:G26),"") | I27: =IFERROR(IF(H27>35,H27-35,0)-J27,"") | J27: =IFERROR(IF(H27>43,H27-43,0),"") | K27: =D27-C27 -> #REF! | M27: =INDIRECT("J"&ROW()-9&"!L13") -> #REF! | N27: =M27/G27 -> #REF!
A28: =A27+1 -> 42874 | B28: =VLOOKUP(WEEKDAY(A28),JoursDeSemaine,2,FALSE) -> Vendredi | C28: =INDIRECT("J"&ROW()-9&"!E13") -> #REF! | D28: =INDIRECT("J"&ROW()-9&"!H13") -> #REF! | E28: =INDIRECT("J"&ROW()-9&"!N13") -> #REF! | F28: =IF(C28>0,1,0) -> #REF! | G28: =D28-C28-E28 -> #REF! | H28: =IF(B28="Dimanche",SUM(G22:G27),"") | I28: =IFERROR(IF(H28>35,H28-35,0)-J28,"") | J28: =IFERROR(IF(H28>43,H28-43,0),"") | K28: =D28-C28 -> #REF! | M28: =INDIRECT("J"&ROW()-9&"!L13") -> #REF! | N28: =M28/G28 -> #REF!
A29: =A28+1 -> 42875 | B29: =VLOOKUP(WEEKDAY(A29),JoursDeSemaine,2,FALSE) -> Samedi | C29: =INDIRECT("J"&ROW()-9&"!E13") -> #REF! | D29: =INDIRECT("J"&ROW()-9&"!H13") -> #REF! | E29: =INDIRECT("J"&ROW()-9&"!N13") -> #REF! | F29: =IF(C29>0,1,0) -> #REF! | G29: =D29-C29-E29 -> #REF! | H29: =IF(B29="Dimanche",SUM(G23:G28),"") | I29: =IFERROR(IF(H29>35,H29-35,0)-J29,"") | J29: =IFERROR(IF(H29>43,H29-43,0),"") | K29: =D29-C29 -> #REF! | M29: =INDIRECT("J"&ROW()-9&"!L13") -> #REF! | N29: =M29/G29 -> #REF!
A30: =A29+1 -> 42876 | B30: =VLOOKUP(WEEKDAY(A30),JoursDeSemaine,2,FALSE) -> Dimanche | C30: =INDIRECT("J"&ROW()-9&"!E13") -> #REF! | D30: =INDIRECT("J"&ROW()-9&"!H13") -> #REF! | E30: =INDIRECT("J"&ROW()-9&"!N13") -> #REF! | F30: =IF(C30>0,1,0) -> #REF! | G30: =D30-C30-E30 -> #REF! | H30: =IF(B30="Dimanche",SUM(G24:G29),"") -> #REF! | I30: =IFERROR(IF(H30>35,H30-35,0)-J30,"") | J30: =IFERROR(IF(H30>43,H30-43,0),"") | K30: =D30-C30 -> #REF! | M30: =INDIRECT("J"&ROW()-9&"!L13") -> #REF! | N30: =M30/G30 -> #REF!
A31: =A30+1 -> 42877 | B31: =VLOOKUP(WEEKDAY(A31),JoursDeSemaine,2,FALSE) -> Lundi | C31: =INDIRECT("J"&ROW()-9&"!E13") -> #REF! | D31: =INDIRECT("J"&ROW()-9&"!H13") -> #REF! | E31: =INDIRECT("J"&ROW()-9&"!N13") -> #REF! | F31: =IF(C31>0,1,0) -> #REF! | G31: =D31-C31-E31 -> #REF! | H31: =IF(B31="Dimanche",SUM(G25:G30),"") | I31: =IFERROR(IF(H31>35,H31-35,0)-J31,"") | J31: =IFERROR(IF(H31>43,H31-43,0),"") | K31: =D31-C31 -> #REF! | M31: =INDIRECT("J"&ROW()-9&"!L13") -> #REF!
A32: =A31+1 -> 42878 | B32: =VLOOKUP(WEEKDAY(A32),JoursDeSemaine,2,FALSE) -> Mardi | C32: =INDIRECT("J"&ROW()-9&"!E13") -> #REF! | D32: =INDIRECT("J"&ROW()-9&"!H13") -> #REF! | E32: =INDIRECT("J"&ROW()-9&"!N13") -> #REF! | F32: =IF(C32>0,1,0) -> #REF! | G32: =D32-C32-E32 -> #REF! | H32: =IF(B32="Dimanche",SUM(G26:G31),"") | I32: =IFERROR(IF(H32>35,H32-35,0)-J32,"") | J32: =IFERROR(IF(H32>43,H32-43,0),"") | K32: =D32-C32 -> #REF! | M32: =INDIRECT("J"&ROW()-9&"!L13") -> #REF!
A33: =A32+1 -> 42879 | B33: =VLOOKUP(WEEKDAY(A33),JoursDeSemaine,2,FALSE) -> Mercredi | C33: =INDIRECT("J"&ROW()-9&"!E13") -> #REF! | D33: =INDIRECT("J"&ROW()-9&"!H13") -> #REF! | E33: =INDIRECT("J"&ROW()-9&"!N13") -> #REF! | F33: =IF(C33>0,1,0) -> #REF! | G33: =D33-C33-E33 -> #REF! | H33: =IF(B33="Dimanche",SUM(G27:G32),"") | I33: =IFERROR(IF(H33>35,H33-35,0)-J33,"") | J33: =IFERROR(IF(H33>43,H33-43,0),"") | K33: =D33-C33 -> #REF! | M33: =INDIRECT("J"&ROW()-9&"!L13") -> #REF! | N33: =M33/G33 -> #REF!
A34: =A33+1 -> 42880 | B34: =VLOOKUP(WEEKDAY(A34),JoursDeSemaine,2,FALSE) -> Jeudi | C34: =INDIRECT("J"&ROW()-9&"!E13") -> #REF! | D34: =INDIRECT("J"&ROW()-9&"!H13") -> #REF! | E34: =INDIRECT("J"&ROW()-9&"!N13") -> #REF! | F34: =IF(C34>0,1,0) -> #REF! | G34: =D34-C34-E34 -> #REF! | H34: =IF(B34="Dimanche",SUM(G28:G33),"") | I34: =IFERROR(IF(H34>35,H34-35,0)-J34,"") | J34: =IFERROR(IF(H34>43,H34-43,0),"") | K34: =D34-C34 -> #REF! | M34: =INDIRECT("J"&ROW()-9&"!L13") -> #REF! | N34: =M34/G34 -> #REF!
A35: =A34+1 -> 42881 | B35: =VLOOKUP(WEEKDAY(A35),JoursDeSemaine,2,FALSE) -> Vendredi | C35: =INDIRECT("J"&ROW()-9&"!E13") -> #REF! | D35: =INDIRECT("J"&ROW()-9&"!H13") -> #REF! | E35: =INDIRECT("J"&ROW()-9&"!N13") -> #REF! | F35: =IF(C35>0,1,0) -> #REF! | G35: =D35-C35-E35 -> #REF! | H35: =IF(B35="Dimanche",SUM(G29:G34),"") | I35: =IFERROR(IF(H35>35,H35-35,0)-J35,"") | J35: =IFERROR(IF(H35>43,H35-43,0),"") | K35: =D35-C35 -> #REF! | M35: =INDIRECT("J"&ROW()-9&"!L13") -> #REF! | N35: =M35/G35 -> #REF!
A36: =A35+1 -> 42882 | B36: =VLOOKUP(WEEKDAY(A36),JoursDeSemaine,2,FALSE) -> Samedi | C36: =INDIRECT("J"&ROW()-9&"!E13") -> #REF! | D36: =INDIRECT("J"&ROW()-9&"!H13") -> #REF! | E36: =INDIRECT("J"&ROW()-9&"!N13") -> #REF! | F36: =IF(C36>0,1,0) -> #REF! | G36: =D36-C36-E36 -> #REF! | H36: =IF(B36="Dimanche",SUM(G30:G35),"") | I36: =IFERROR(IF(H36>35,H36-35,0)-J36,"") | J36: =IFERROR(IF(H36>43,H36-43,0),"") | K36: =D36-C36 -> #REF! | M36: =INDIRECT("J"&ROW()-9&"!L13") -> #REF! | N36: =M36/G36 -> #REF!
A37: =A36+1 -> 42883 | B37: =VLOOKUP(WEEKDAY(A37),JoursDeSemaine,2,FALSE) -> Dimanche | C37: =INDIRECT("J"&ROW()-9&"!E13") -> #REF! | D37: =INDIRECT("J"&ROW()-9&"!H13") -> #REF! | E37: =INDIRECT("J"&ROW()-9&"!N13") -> #REF! | F37: =IF(C37>0,1,0) -> #REF! | G37: =D37-C37-E37 -> #REF! | H37: =IF(B37="Dimanche",SUM(G31:G36),"") -> #REF! | I37: =IFERROR(IF(H37>35,H37-35,0)-J37,"") | J37: =IFERROR(IF(H37>43,H37-43,0),"") | K37: =D37-C37 -> #REF! | M37: =INDIRECT("J"&ROW()-9&"!L13") -> #REF! | N37: =M37/G37 -> #REF!
A38: =A37+1 -> 42884 | B38: =VLOOKUP(WEEKDAY(A38),JoursDeSemaine,2,FALSE) -> Lundi | C38: =INDIRECT("J"&ROW()-9&"!E13") -> #REF! | D38: =INDIRECT("J"&ROW()-9&"!H13") -> #REF! | E38: =INDIRECT("J"&ROW()-9&"!N13") -> #REF! | F38: =IF(C38>0,1,0) -> #REF! | G38: =D38-C38-E38 -> #REF! | H38: =IF(B38="Dimanche",SUM(G32:G37),"") | I38: =IFERROR(IF(H38>35,H38-35,0)-J38,"") | J38: =IFERROR(IF(H38>43,H38-43,0),"") | K38: =D38-C38 -> #REF! | M38: =INDIRECT("J"&ROW()-9&"!L13") -> #REF!
A39: =A38+1 -> 42885 | B39: =VLOOKUP(WEEKDAY(A39),JoursDeSemaine,2,FALSE) -> Mardi | C39: =INDIRECT("J"&ROW()-9&"!E13") -> #REF! | D39: =INDIRECT("J"&ROW()-9&"!H13") -> #REF! | E39: =INDIRECT("J"&ROW()-9&"!N13") -> #REF! | F39: =IF(C39>0,1,0) -> #REF! | G39: =D39-C39-E39 -> #REF! | H39: =IF(B39="Dimanche",SUM(G33:G38),"") | I39: =IFERROR(IF(H39>35,H39-35,0)-J39,"") | J39: =IFERROR(IF(H39>43,H39-43,0),"") | K39: =D39-C39 -> #REF! | M39: =INDIRECT("J"&ROW()-9&"!L13") -> #REF!
A40: =A39+1 -> 42886 | B40: =VLOOKUP(WEEKDAY(A40),JoursDeSemaine,2,FALSE) -> Mercredi | C40: =INDIRECT("J"&ROW()-9&"!E13") -> #REF! | D40: =INDIRECT("J"&ROW()-9&"!H13") -> #REF! | E40: =INDIRECT("J"&ROW()-9&"!N13") -> #REF! | F40: =IF(C40>0,1,0) -> #REF! | G40: =D40-C40-E40 -> #REF! | H40: =IF(B40="Dimanche",SUM(G34:G39),"") | I40: =IFERROR(IF(H40>35,H40-35,0)-J40,"") | J40: =IFERROR(IF(H40>43,H40-43,0),"") | K40: =D40-C40 -> #REF! | M40: =INDIRECT("J"&ROW()-9&"!L13") -> #REF!
F41: =SUM(F10:F40) -> #REF! | I41: =SUM(I10:I40) -> 0 | J41: =SUM(J10:J40) -> 0 | L41: total | M41: =SUM(M10:M40) -> #REF!
L42: ik | M42: =M40*M41 -> #REF!
A44: (1) L'amplitude journalière est limitée à 10 heures (temps de pause compris), elle peut être prolongée à 11 heures 2 fois par semaine quand les conditions d'exploitation le rendent nécessaire.
A46: (2) Correspond à l'amplitude journalière diminuée d'une durée forfaitaire d'une heure (article 2.2 Avenant n° 44).
...

Sheet COURSIER 5
F2: COURSIER
M3: 151.67
A6: ANNEE : | B6: ='Année-Mois'!B1 -> 2017 | C6: DUREES DE TRAVAIL | L6: VEHICULE | N6: KM/HEURE | O6: RAISON SI ABSENCE
C7: Heure début | D7: Heure fin | E7: Pause repas | F7: Panier dû | G7: Durée du travail journalier (2) | H7: Heures réalisées | K7: Amplitude journalière (1) | L7: Immat | M7: Km
A8: MOIS : | B8: ='Année-Mois'!B2 -> 5 | I8: HS 125 % | J8: HS 150%
A10: =DATE(B6,B8,1) -> 42856 | B10: =VLOOKUP(WEEKDAY(A10),JoursDeSemaine,2,FALSE) -> Lundi | C10: =INDIRECT("J"&ROW()-9&"!E14") -> #REF! | D10: =INDIRECT("J"&ROW()-9&"!H14") -> #REF! | E10: =INDIRECT("J"&ROW()-9&"!N14") -> #REF! | F10: =IF(C10>0,1,0) -> #REF! | G10: =D10-C10-E10 -> #REF! | H10: =IF(B10="Dimanche",SUM(G4:G9),"") | I10: =IFERROR(IF(H10>35,H10-35,0)-J10,"") | J10: =IFERROR(IF(H10>43,H10-43,0),"") | K10: =D10-C10 -> #REF! | M10: =INDIRECT("J"&ROW()-9&"!L14") -> #REF!
A11: =A10+1 -> 42857 | B11: =VLOOKUP(WEEKDAY(A11),JoursDeSemaine,2,FALSE) -> Mardi | C11: =INDIRECT("J"&ROW()-9&"!E14") -> #REF! | D11: =INDIRECT("J"&ROW()-9&"!H14") -> #REF! | E11: =INDIRECT("J"&ROW()-9&"!N14") -> #REF! | F11: =IF(C11>0,1,0) -> #REF! | G11: =D11-C11-E11 -> #REF! | H11: =IF(B11="Dimanche",SUM(G5:G10),"") | I11: =IFERROR(IF(H11>35,H11-35,0)-J11,"") | J11: =IFERROR(IF(H11>43,H11-43,0),"") | K11: =D11-C11 -> #REF! | M11: =INDIRECT("J"&ROW()-9&"!L14") -> #REF!
A12: =A11+1 -> 42858 | B12: =VLOOKUP(WEEKDAY(A12),JoursDeSemaine,2,FALSE) -> Mercredi | C12: =INDIRECT("J"&ROW()-9&"!E14") -> #REF! | D12: =INDIRECT("J"&ROW()-9&"!H14") -> #REF! | E12: =INDIRECT("J"&ROW()-9&"!N14") -> #REF! | F12: =IF(C12>0,1,0) -> #REF! | G12: =D12-C12-E12 -> #REF! | H12: =IF(B12="Dimanche",SUM(G6:G11),"") | I12: =IFERROR(IF(H12>35,H12-35,0)-J12,"") | J12: =IFERROR(IF(H12>43,H12-43,0),"") | K12: =D12-C12 -> #REF! | M12: =INDIRECT("J"&ROW()-9&"!L14") -> #REF!
A13: =A12+1 -> 42859 | B13: =VLOOKUP(WEEKDAY(A13),JoursDeSemaine,2,FALSE) -> Jeudi | C13: =INDIRECT("J"&ROW()-9&"!E14") -> #REF! | D13: =INDIRECT("J"&ROW()-9&"!H14") -> #REF! | E13: =INDIRECT("J"&ROW()-9&"!N14") -> #REF! | F13: =IF(C13>0,1,0) -> #REF! | G13: =D13-C13-E13 -> #REF! | H13: =IF(B13="Dimanche",SUM(G7:G12),"") | I13: =IFERROR(IF(H13>35,H13-35,0)-J13,"") | J13: =IFERROR(IF(H13>43,H13-43,0),"") | K13: =D13-C13 -> #REF! | M13: =INDIRECT("J"&ROW()-9&"!L14") -> #REF!
A14: =A13+1 -> 42860 | B14: =VLOOKUP(WEEKDAY(A14),JoursDeSemaine,2,FALSE) -> Vendredi | C14: =INDIRECT("J"&ROW()-9&"!E14") -> #REF! | D14: =INDIRECT("J"&ROW()-9&"!H14") -> #REF! | E14: =INDIRECT("J"&ROW()-9&"!N14") -> #REF! | F14: =IF(C14>0,1,0) -> #REF! | G14: =D14-C14-E14 -> #REF! | H14: =IF(B14="Dimanche",SUM(G8:G13),"") | I14: =IFERROR(IF(H14>35,H14-35,0)-J14,"") | J14: =IFERROR(IF(H14>43,H14-43,0),"") | K14: =D14-C14 -> #REF! | M14: =INDIRECT("J"&ROW()-9&"!L14") -> #REF!
A15: =A14+1 -> 42861 | B15: =VLOOKUP(WEEKDAY(A15),JoursDeSemaine,2,FALSE) -> Samedi | C15: =INDIRECT("J"&ROW()-9&"!E14") -> #REF! | D15: =INDIRECT("J"&ROW()-9&"!H14") -> #REF! | E15: =INDIRECT("J"&ROW()-9&"!N14") -> #REF! | F15: =IF(C15>0,1,0) -> #REF! | G15: =D15-C15-E15 -> #REF! | H15: =IF(B15="Dimanche",SUM(G9:G14),"") | I15: =IFERROR(IF(H15>35,H15-35,0)-J15,"") | J15: =IFERROR(IF(H15>43,H15-43,0),"") | K15: =D15-C15 -> #REF! | M15: =INDIRECT("J"&ROW()-9&"!L14") -> #REF! | N15: =M15/G15 -> #REF!
A16: =A15+1 -> 42862 | B16: =VLOOKUP(WEEKDAY(A16),JoursDeSemaine,2,FALSE) -> Dimanche | C16: =INDIRECT("J"&ROW()-9&"!E14") -> #REF! | D16: =INDIRECT("J"&ROW()-9&"!H14") -> #REF! | E16: =INDIRECT("J"&ROW()-9&"!N14") -> #REF! | F16: =IF(C16>0,1,0) -> #REF! | G16: =D16-C16-E16 -> #REF! | H16: =IF(B16="Dimanche",SUM(G10:G15),"") -> #REF! | I16: =IFERROR(IF(H16>35,H16-35,0)-J16,"") | J16: =IFERROR(IF(H16>43,H16-43,0),"") | K16: =D16-C16 -> #REF! | M16: =INDIRECT("J"&ROW()-9&"!L14") -> #REF! | N16: =M16/G16 -> #REF!
A17: =A16+1 -> 42863 | B17: =VLOOKUP(WEEKDAY(A17),JoursDeSemaine,2,FALSE) -> Lundi | C17: =INDIRECT("J"&ROW()-9&"!E14") -> #REF! | D17: =INDIRECT("J"&ROW()-9&"!H14") -> #REF! | E17: =INDIRECT("J"&ROW()-9&"!N14") -> #REF! | F17: =IF(C17>0,1,0) -> #REF! | G17: =D17-C17-E17 -> #REF! | H17: =IF(B17="Dimanche",SUM(G11:G16),"") | I17: =IFERROR(IF(H17>35,H17-35,0)-J17,"") | J17: =IFERROR(IF(H17>43,H17-43,0),"") | K17: =D17-C17 -> #REF! | M17: =INDIRECT("J"&ROW()-9&"!L14") -> #REF!
A18: =A17+1 -> 42864 | B18: =VLOOKUP(WEEKDAY(A18),JoursDeSemaine,2,FALSE) -> Mardi | C18: =INDIRECT("J"&ROW()-9&"!E14") -> #REF! | D18: =INDIRECT("J"&ROW()-9&"!H14") -> #REF! | E18: =INDIRECT("J"&ROW()-9&"!N14") -> #REF! | F18: =IF(C18>0,1,0) -> #REF! | G18: =D18-C18-E18 -> #REF! | H18: =IF(B18="Dimanche",SUM(G12:G17),"") | I18: =IFERROR(IF(H18>35,H18-35,0)-J18,"") | J18: =IFERROR(IF(H18>43,H18-43,0),"") | K18: =D18-C18 -> #REF! | M18: =INDIRECT("J"&ROW()-9&"!L14") -> #REF!
A19: =A18+1 -> 42865 | B19: =VLOOKUP(WEEKDAY(A19),JoursDeSemaine,2,FALSE) -> Mercredi | C19: =INDIRECT("J"&ROW()-9&"!E14") -> #REF! | D19: =INDIRECT("J"&ROW()-9&"!H14") -> #REF! | E19: =INDIRECT("J"&ROW()-9&"!N14") -> #REF! | F19: =IF(C19>0,1,0) -> #REF! | G19: =D19-C19-E19 -> #REF! | H19: =IF(B19="Dimanche",SUM(G13:G18),"") | I19: =IFERROR(IF(H19>35,H19-35,0)-J19,"") | J19: =IFERROR(IF(H19>43,H19-43,0),"") | K19: =D19-C19 -> #REF! | M19: =INDIRECT("J"&ROW()-9&"!L14") -> #REF! | N19: =M19/G19 -> #REF!
