Workbook

Sheet Sélection véhicule
B8: CALCUL DEVIS : SELECTION DU VEHICULE
B9: Constructeur : | C9: Véhicule | D9: Silhouette | E9: Pack de base : | F9: Puissance moteur | G9: Moteurs | H9: Prix de base :
B10: Peugeot | C10: Nouvel Expert | D10: Long | E10: Nouvel Expert Pro | F10: 120 CV | G10: 2.0L BlueHDI SES BVM6 | H10: =IFERROR(__xludf.DUMMYFUNCTION("FILTER('Paramètre Données Constructeurs'!H3:H40,'Paramètre Données Constructeurs'!B3:B40=B10,'Paramètre Données Constructeurs'!C3:C40=C10,'Paramètre Données Constructeurs'!D3:D40=D10,'Paramètre Données Constructeurs'!E3:E40=E10,'Paramètre Données Construc"&"teurs'!F3:F40=F10,'Paramètre Données Constructeurs'!G3:G40=G10)")," 26,550.00 € ") -> 26,550.00 €

Sheet Sélection options
B2: RAPPEL VEHICULE SELECTIONNE : | K2: LEGENDE
B3: =('Sélection véhicule'!B10&", "&'Sélection véhicule'!C10&", "&'Sélection véhicule'!D10&", "&'Sélection véhicule'!E10&", "&'Sélection véhicule'!F10&", "&'Sélection véhicule'!G10&" "&"pour la somme de"&" "&'Sélection véhicule'!H10&" euros") -> Peugeot, Nouvel Expert, Long, Nouvel Expert Pro, 120 CV, 2.0L BlueHDI SES BVM6 pour la somme de 26,550.00 € euros | K3: Attention moteur :
B5: CALCUL DEVIS : SELECTION DES OPTIONS | K5: Implique autre option :
B6: Option(s) incluse(s) : | C6: Prix de l'option : | F6: Option(s) supplémentaire(s) possible(s) : | G6: Prix : | H6: Choix : | I6: Cout :
B7: =IFERROR(__xludf.DUMMYFUNCTION("FILTER('Paramètre Données Options'!A1:A985,'Paramètre Données Options'!C1:C985='Sélection véhicule'!B10,'Paramètre Données Options'!D1:D985='Sélection véhicule'!C10,'Paramètre Données Options'!E1:E985='Sélection véhicule'!E10,'Paramètre Données Options'!G"&"1:G985='Sélection véhicule'!D10)"),"ABS ESC") -> ABS ESC | C7: Incluse | D7: =IF(B7="","",VLOOKUP(B7,'Paramètre Données Options'!$A$2:$B$197,2)) -> 0 | F7: =IFERROR(__xludf.DUMMYFUNCTION("FILTER('Paramètre Données Options'!A1:A985,'Paramètre Données Options'!C1:C985='Sélection véhicule'!B10,'Paramètre Données Options'!D1:D985='Sélection véhicule'!C10,'Paramètre Données Options'!F1:F985='Sélection véhicule'!E10,'Paramètre Données Options'!G"&"1:G985='Sélection véhicule'!D10)"),"Air conditionné manuel") -> Air conditionné manuel | G7: =IF(F7="","",VLOOKUP(F7,'Paramètre Données Options'!$A$2:$B$197,2)) -> 0 | H7: Non | K7: Impossible avec autres options :
B8: Aide au démarrage en côte | C8: Incluse | D8: =IF(B8="","",VLOOKUP(B8,'Paramètre Données Options'!$A$2:$B$197,2)) -> 0 | F8: Airbags latéraux conducteurs et passagers | G8: =IF(F8="","",VLOOKUP(F8,'Paramètre Données Options'!$A$2:$B$197,2)) -> 0 | H8: Non | I8: =IF(H8="Oui",G8,"")
B9: Airbags conducteur et passager | C9: Incluse | D9: =IF(B9="","",VLOOKUP(B9,'Paramètre Données Options'!$A$2:$B$197,2)) -> 0 | F9: Alarmes + supercondamnation | G9: =IF(F9="","",VLOOKUP(F9,'Paramètre Données Options'!$A$2:$B$197,2)) -> 0 | H9: Non | I9: =IF(H9="Oui",G9,"")
B10: Boucliers avant et arrière noirs teintés masse | C10: Incluse | D10: =IF(B10="","",VLOOKUP(B10,'Paramètre Données Options'!$A$2:$B$197,2)) -> 0 | F10: Attelage avec crochet mixte | G10: =IF(F10="","",VLOOKUP(F10,'Paramètre Données Options'!$A$2:$B$197,2)) -> 0 | H10: Non | I10: =IF(H10="Oui",G10,"")
B11: Charge utile majorée sur silhouette long et BlueHDI 120 | C11: Incluse | D11: =IF(B11="","",VLOOKUP(B11,'Paramètre Données Options'!$A$2:$B$197,2)) -> 0 | F11: Attelage avec rotule sur platine | G11: =IF(F11="","",VLOOKUP(F11,'Paramètre Données Options'!$A$2:$B$197,2)) -> 0 | H11: Non | I11: =IF(H11="Oui",G11,"")
B12: Cloison de séparation tôlée | C12: Incluse | D12: =IF(B12="","",VLOOKUP(B12,'Paramètre Données Options'!$A$2:$B$197,2)) -> 0 | F12: Banquettes Moduwork + Siège conducteur avec réhausse + réglage lombaires | G12: =IF(F12="","",VLOOKUP(F12,'Paramètre Données Options'!$A$2:$B$197,2)) -> 0 | H12: Non | I12: =IF(H12="Oui",G12,"")
B13: Condamnation centralisées des portes avec Plip | C13: Incluse | D13: =IF(B13="","",VLOOKUP(B13,'Paramètre Données Options'!$A$2:$B$197,2)) -> 0 | F13: Charge Utile majorée | G13: =IF(F13="","",VLOOKUP(F13,'Paramètre Données Options'!$A$2:$B$197,2)) -> 0 | H13: Non | I13: =IF(H13="Oui",G13,"")
B14: Enjoliveur 16" avec cabochons noirs | C14: Incluse | D14: =IF(B14="","",VLOOKUP(B14,'Paramètre Données Options'!$A$2:$B$197,2)) -> 0 | F14: Cloison de séparation vitrée | G14: =IF(F14="","",VLOOKUP(F14,'Paramètre Données Options'!$A$2:$B$197,2)) -> 0 | H14: Non | I14: =IF(H14="Oui",G14,"")
B15: Garnissage Tissu | C15: Incluse | D15: =IF(B15="","",VLOOKUP(B15,'Paramètre Données Options'!$A$2:$B$197,2)) -> 0 | F15: Cloison de séparation vitrée isolante | G15: =IF(F15="","",VLOOKUP(F15,'Paramètre Données Options'!$A$2:$B$197,2)) -> 0 | H15: Non | I15: =IF(H15="Oui",G15,"")
B16: Lèves vitres électriques séquentiels | C16: Incluse | D16: =IF(B16="","",VLOOKUP(B16,'Paramètre Données Options'!$A$2:$B$197,2)) -> 0 | F16: Détection de sous-gonflage directe | G16: =IF(F16="","",VLOOKUP(F16,'Paramètre Données Options'!$A$2:$B$197,2)) -> 0 | H16: Non | I16: =IF(H16="Oui",G16,"")
B17: Porte coulissante droite tôlée | C17: Incluse | D17: =IF(B17="","",VLOOKUP(B17,'Paramètre Données Options'!$A$2:$B$197,2)) -> 0 | F17: Equipement électronique renforcé | G17: =IF(F17="","",VLOOKUP(F17,'Paramètre Données Options'!$A$2:$B$197,2)) -> 0 | H17: Non | I17: =IF(H17="Oui",G17,"")
B18: Portes battantes arrières tôlées 50/50 | C18: Incluse | D18: =IF(B18="","",VLOOKUP(B18,'Paramètre Données Options'!$A$2:$B$197,2)) -> 0 | F18: Garnissage Tep noir | G18: =IF(F18="","",VLOOKUP(F18,'Paramètre Données Options'!$A$2:$B$197,2)) -> 0 | H18: Non | I18: =IF(H18="Oui",G18,"")
B19: Préequipement Radio | C19: Incluse | D19: =IF(B19="","",VLOOKUP(B19,'Paramètre Données Options'!$A$2:$B$197,2)) -> 0 | F19: Habillage bois : Plancher bois antidérapant et protections latérales standard | G19: =IF(F19="","",VLOOKUP(F19,'Paramètre Données Options'!$A$2:$B$197,2)) -> 0 | H19: Non | I19: =IF(H19="Oui",G19,"")
... B27: Volant réglabe en hauteur et profondeur | C27: Incluse | D27: =IF(B27="","",VLOOKUP(B27,'Paramètre Données Options'!$A$2:$B$197,2)) -> 0 | F27: Pack motricité Long ou BlueHDI 150 SES BVM6 | G27: =IF(F27="","",VLOOKUP(F27,'Paramètre Données Options'!$A$2:$B$197,2)) -> 0 | H27: Non | I27: =IF(H27="Oui",G27,"")
C28: Incluse | D28: =IF(B28="","",VLOOKUP(B28,'Paramètre Données Options'!$A$2:$B$197,2)) | F28: Pack visibilité (Allumage auto des feux + capteur de pluie) | G28: =IF(F28="","",VLOOKUP(F28,'Paramètre Données Options'!$A$2:$B$197,2)) -> 0 | H28: Non | I28: =IF(H28="Oui",G28,"")
C29: Incluse | D29: =IF(B29="","",VLOOKUP(B29,'Paramètre Données Options'!$A$2:$B$197,2)) | F29: Peinture métallisée | G29: =IF(F29="","",VLOOKUP(F29,'Paramètre Données Options'!$A$2:$B$197,2)) -> 0 | H29: Non | I29: =IF(H29="Oui",G29,"")
C30: Incluse | D30: =IF(B30="","",VLOOKUP(B30,'Paramètre Données Options'!$A$2:$B$197,2)) | F30: Peinture opaque Noir Onyx | G30: =IF(F30="","",VLOOKUP(F30,'Paramètre Données Options'!$A$2:$B$197,2)) -> 0 | H30: Non | I30: =IF(H30="Oui",G30,"")
C31: Incluse | D31: =IF(B31="","",VLOOKUP(B31,'Paramètre Données Options'!$A$2:$B$197,2)) | F31: Peinture opaque Rouge Ardent | G31: =IF(F31="","",VLOOKUP(F31,'Paramètre Données Options'!$A$2:$B$197,2)) -> 0 | H31: Non | I31: =IF(H31="Oui",G31,"")
C32: Incluse | D32: =IF(B32="","",VLOOKUP(B32,'Paramètre Données Options'!$A$2:$B$197,2)) | F32: Peintures teintes spéciales | G32: =IF(F32="","",VLOOKUP(F32,'Paramètre Données Options'!$A$2:$B$197,2)) -> 0 | H32: Non | I32: =IF(H32="Oui",G32,"")
C33: Incluse | D33: =IF(B33="","",VLOOKUP(B33,'Paramètre Données Options'!$A$2:$B$197,2)) | F33: Peugeot Connect SOS et assistance | G33: =IF(F33="","",VLOOKUP(F33,'Paramètre Données Options'!$A$2:$B$197,2)) -> 0 | H33: Non | I33: =IF(H33="Oui",G33,"")
C34: Incluse | D34: =IF(B34="","",VLOOKUP(B34,'Paramètre Données Options'!$A$2:$B$197,2)) | F34: Peugeot connect SOS et assistance / Teleservices | G34: =IF(F34="","",VLOOKUP(F34,'Paramètre Données Options'!$A$2:$B$197,2)) -> 0 | H34: Non | I34: =IF(H34="Oui",G34,"")
C35: Incluse | D35: =IF(B35="","",VLOOKUP(B35,'Paramètre Données Options'!$A$2:$B$197,2)) | F35: Plancher bois antidérapant | G35: =IF(F35="","",VLOOKUP(F35,'Paramètre Données Options'!$A$2:$B$197,2)) -> 0 | H35: Non | I35: =IF(H35="Oui",G35,"")
C36: Incluse | D36: =IF(B36="","",VLOOKUP(B36,'Paramètre Données Options'!$A$2:$B$197,2)) | F36: Plancher bois standard | G36: =IF(F36="","",VLOOKUP(F36,'Paramètre Données Options'!$A$2:$B$197,2)) -> 0 | H36: Non | I36: =IF(H36="Oui",G36,"")
C37: Incluse | D37: =IF(B37="","",VLOOKUP(B37,'Paramètre Données Options'!$A$2:$B$197,2)) | F37: Porte latérale coulissante gauche | G37: =IF(F37="","",VLOOKUP(F37,'Paramètre Données Options'!$A$2:$B$197,2)) -> 0 | H37: Non | I37: =IF(H37="Oui",G37,"")
C38: Incluse | D38: =IF(B38="","",VLOOKUP(B38,'Paramètre Données Options'!$A$2:$B$197,2)) | F38: Portes arrières battantes vitrées ouverture 180° sans essui-vitre et lunette chauffante | G38: =IF(F38="","",VLOOKUP(F38,'Paramètre Données Options'!$A$2:$B$197,2)) -> 0 | H38: Non | I38: =IF(H38="Oui",G38,"")
C39: Incluse | D39: =IF(B39="","",VLOOKUP(B39,'Paramètre Données Options'!$A$2:$B$197,2)) | F39: Portes arrières battantes vitrées ouverture 180° sans essui-vitre sans lunette chauffante | G39: =IF(F39="","",VLOOKUP(F39,'Paramètre Données Options'!$A$2:$B$197,2)) -> 0 | H39: Non | I39: =IF(H39="Oui",G39,"")
... C51: Incluse | D51: =IF(B51="","",VLOOKUP(B51,'Paramètre Données Options'!$A$2:$B$197,2)) | F51: Vitres fixes gauche et droite en R3 | G51: =IF(F51="","",VLOOKUP(F51,'Paramètre Données Options'!$A$2:$B$197,2)) -> 0 | H51: Non | I51: =IF(H51="Oui",G51,"")
C52: Incluse | D52: =IF(B52="","",VLOOKUP(B52,'Paramètre Données Options'!$A$2:$B$197,2)) | G52: =IF(F52="","",VLOOKUP(F52,'Paramètre Données Options'!$A$2:$B$197,2)) | H52: Non | I52: =IF(H52="Oui",G52,"")
C53: Incluse | D53: =IF(B53="","",VLOOKUP(B53,'Paramètre Données Options'!$A$2:$B$197,2)) | G53: =IF(F53="","",VLOOKUP(F53,'Paramètre Données Options'!$A$2:$B$197,2)) | H53: Non | I53: =IF(H53="Oui",G53,"")
C54: Incluse | D54: =IF(B54="","",VLOOKUP(B54,'Paramètre Données Options'!$A$2:$B$197,2)) | G54: =IF(F54="","",VLOOKUP(F54,'Paramètre Données Options'!$A$2:$B$197,2)) | H54: Non | I54: =IF(H54="Oui",G54,"")
C55: Incluse | D55: =IF(B55="","",VLOOKUP(B55,'Paramètre Données Options'!$A$2:$B$197,2)) | G55: =IF(F55="","",VLOOKUP(F55,'Paramètre Données Options'!$A$2:$B$197,2)) | H55: Non | I55: =IF(H55="Oui",G55,"")
C56: Incluse | D56: =IF(B56="","",VLOOKUP(B56,'Paramètre Données Options'!$A$2:$B$197,2)) | G56: =IF(F56="","",VLOOKUP(F56,'Paramètre Données Options'!$A$2:$B$197,2)) | H56: Non | I56: =IF(H56="Oui",G56,"")
C57: Incluse | D57: =IF(B57="","",VLOOKUP(B57,'Paramètre Données Options'!$A$2:$B$197,2)) | G57: =IF(F57="","",VLOOKUP(F57,'Paramètre Données Options'!$A$2:$B$197,2)) | H57: Non | I57: =IF(H57="Oui",G57,"")
C58: Incluse | D58: =IF(B58="","",VLOOKUP(B58,'Paramètre Données Options'!$A$2:$B$197,2)) | G58: =IF(F58="","",VLOOKUP(F58,'Paramètre Données Options'!$A$2:$B$197,2)) | H58: Non | I58: =IF(H58="Oui",G58,"")
C59: Incluse | D59: =IF(B59="","",VLOOKUP(B59,'Paramètre Données Options'!$A$2:$B$197,2)) | G59: =IF(F59="","",VLOOKUP(F59,'Paramètre Données Options'!$A$2:$B$197,2)) | H59: Non | I59: =IF(H59="Oui",G59,"")
C60: Incluse | D60: =IF(B60="","",VLOOKUP(B60,'Paramètre Données Options'!$A$2:$B$197,2)) | G60: =IF(F60="","",VLOOKUP(F60,'Paramètre Données Options'!$A$2:$B$197,2)) | H60: Non | I60: =IF(H60="Oui",G60,"")
C61: Incluse | D61: =IF(B61="","",VLOOKUP(B61,'Paramètre Données Options'!$A$2:$B$197,2)) | G61: =IF(F61="","",VLOOKUP(F61,'Paramètre Données Options'!$A$2:$B$197,2)) | H61: Non | I61: =IF(H61="Oui",G61,"")
C62: Incluse | D62: =IF(B62="","",VLOOKUP(B62,'Paramètre Données Options'!$A$2:$B$197,2)) | G62: =IF(F62="","",VLOOKUP(F62,'Paramètre Données Options'!$A$2:$B$197,2)) | H62: Non | I62: =IF(H62="Oui",G62,"")
C63: Incluse | D63: =IF(B63="","",VLOOKUP(B63,'Paramètre Données Options'!$A$2:$B$197,2)) | G63: =IF(F63="","",VLOOKUP(F63,'Paramètre Données Options'!$A$2:$B$197,2)) | H63: Non | I63: =IF(H63="Oui",G63,"")
... C73: Incluse | D73: =IF(B73="","",VLOOKUP(B73,'Paramètre Données Options'!$A$2:$B$197,2)) | G73: =IF(F73="","",VLOOKUP(F73,'Paramètre Données Options'!$A$2:$B$197,2)) | H73: Non | I73: =IF(H73="Oui",G73,"")
B74: TOTAL OPTIONS INCLUSES | C74: =IFERROR(SUM(C7:E73),"0") -> 0 | F74: TOTAL OPTIONS : | G74: =SUM(G7:G73) -> 0 | I74: =SUM(I7:I73) -> 0

Sheet Total et résumé
B2: RAPPEL VEHICULE SELECTIONNE : | K2: COUT DU VEHICULE :
B3: =('Sélection véhicule'!B10&", "&'Sélection véhicule'!C10&", "&'Sélection véhicule'!D10&", "&'Sélection véhicule'!E10&", "&'Sélection véhicule'!F10&", "&'Sélection véhicule'!G10&" ") -> Peugeot, Nouvel Expert, Long, Nouvel Expert Pro, 120 CV, 2.0L BlueHDI SES BVM6 | K3: Prix du véhicule de base : | M3: ='Sélection véhicule'!H10 -> 26,550.00 €
K4: Prix des différentes options : | M4: ='Sélection options'!I74 -> 0
B5: RAPPEL OPTION(S) SELECTIONNE(S) : | K5: PRIX TOTAL : | M5: =M3+M4 -> #VALUE!
B6: Options selectionnées : | E6: Options incluses :
B7: =IFERROR(__xludf.DUMMYFUNCTION("FILTER('Sélection options'!F7:F73,'Sélection options'!H7:H73=""oui"")"),"#N/A") -> #N/A | E7: =IFERROR(__xludf.DUMMYFUNCTION("FILTER('Sélection options'!B7:B73,'Sélection options'!C7:C73=""incluse"")"),"ABS ESC") -> ABS ESC
E8: Aide au démarrage en côte
E9: Airbags conducteur et passager
E10: Boucliers avant et arrière noirs teintés masse
E11: Charge utile majorée sur silhouette long et BlueHDI 120
E12: Cloison de séparation tôlée
E13: Condamnation centralisées des portes avec Plip
E14: Enjoliveur 16" avec cabochons noirs
E15: Garnissage Tissu
E16: Lèves vitres électriques séquentiels
E17: Porte coulissante droite tôlée
E18: Portes battantes arrières tôlées 50/50
E19: Préequipement Radio
... E27: Volant réglabe en hauteur et profondeur

Sheet Paramètre Données Options
A2: Option | B2: Prix | C2: Constructeur | D2: Véhicule | E2: Pack de série | F2: Pack en option | G2: Silhouette
A3: 2 portes latérales coulissantes droites et gauches motorisées | C3: Peugeot | D3: Nouvel Expert | E3: / | F3: Nouvel Expert Premium | G3: Standard
A4: 2 portes latérales coulissantes droites et gauches motorisées | C4: Peugeot | D4: Nouvel Expert | E4: / | F4: Nouvel Expert Premium Pack | G4: Standard
A5: 2 portes latérales coulissantes droites et gauches motorisées | C5: Peugeot | D5: Nouvel Expert | E5: / | F5: Nouvel Expert Premium | G5: Long
A6: 2 portes latérales coulissantes droites et gauches motorisées | C6: Peugeot | D6: Nouvel Expert | E6: / | F6: Nouvel Expert Premium Pack | G6: Long
A7: ABS ESC | C7: Peugeot | D7: Nouvel Expert | E7: Nouvel expert pro | G7: Standard
A8: ABS ESC | C8: Peugeot | D8: Nouvel Expert | E8: Nouvel Expert Premium | G8: Standard
A9: ABS ESC | C9: Peugeot | D9: Nouvel Expert | E9: Nouvel Expert Premium Pack | G9: Standard
A10: ABS ESC | C10: Peugeot | D10: Nouvel Expert | E10: Nouvel expert pro | G10: Long
A11: ABS ESC | C11: Peugeot | D11: Nouvel Expert | E11: Nouvel Expert Premium | G11: Long
A12: ABS ESC | C12: Peugeot | D12: Nouvel Expert | E12: Nouvel Expert Premium Pack | G12: Long
A13: Accès et démarrage mains libres | C13: Peugeot | D13: Nouvel Expert | E13: / | F13: Nouvel Expert Premium | G13: Standard
A14: Accès et démarrage mains libres | C14: Peugeot | D14: Nouvel Expert | E14: / | F14: Nouvel Expert Premium Pack | G14: Standard
A15: Accès et démarrage mains libres | C15: Peugeot | D15: Nouvel Expert | E15: / | F15: Nouvel Expert Premium | G15: Long
A16: Accès et démarrage mains libres | C16: Peugeot | D16: Nouvel Expert | E16: / | F16: Nouvel Expert Premium Pack | G16: Long
A17: Aide au démarrage en côte | C17: Peugeot | D17: Nouvel Expert | E17: Nouvel expert pro | G17: Standard
A18: Aide au démarrage en côte | C18: Peugeot | D18: Nouvel Expert | E18: Nouvel Expert Premium | G18: Standard
A19: Aide au démarrage en côte | C19: Peugeot | D19: Nouvel Expert | E19: Nouvel Expert Premium Pack | G19: Standard
A20: Aide au démarrage en côte | C20: Peugeot | D20: Nouvel Expert | E20: Nouvel expert pro | G20: Long
A21: Aide au démarrage en côte | C21: Peugeot | D21: Nouvel Expert | E21: Nouvel Expert Premium | G21: Long
A22: Aide au démarrage en côte | C22: Peugeot | D22: Nouvel Expert | E22: Nouvel Expert Premium Pack | G22: Long
A23: Aide au stationnement arrière | C23: Peugeot | D23: Nouvel Expert | E23: Nouvel Expert Premium Pack | F23: / | G23: Standard
A24: Aide au stationnement arrière | C24: Peugeot | D24: Nouvel Expert | E24: / | F24: Nouvel Expert Premium | G24: Standard
A25: Aide au stationnement arrière | C25: Peugeot | D25: Nouvel Expert | E25: Nouvel Expert Premium Pack | F25: / | G25: Long
A26: Aide au stationnement arrière | C26: Peugeot | D26: Nouvel Expert | E26: / | F26: Nouvel Expert Premium | G26: Long
A27: Air conditionné bizone | C27: Peugeot | D27: Nouvel Expert | E27: / | F27: Nouvel Expert Premium | G27: Standard
A28: Air conditionné bizone | C28: Peugeot | D28: Nouvel Expert | E28: / | F28: Nouvel Expert Premium Pack | G28: Standard
A29: Air conditionné bizone | C29: Peugeot | D29: Nouvel Expert | E29: / | F29: Nouvel Expert Premium | G29: Long
A30: Air conditionné bizone | C30: Peugeot | D30: Nouvel Expert | E30: / | F30: Nouvel Expert Premium Pack | G30: Long
A31: Air conditionné manuel | C31: Peugeot | D31: Nouvel Expert | E31: / | F31: Nouvel expert pro | G31: Standard
A32: Air conditionné manuel | C32: Peugeot | D32: Nouvel Expert | E32: / | F32: Nouvel expert pro | G32: Long
A33: Air conditionnée manuel régulé en température | C33: Peugeot | D33: Nouvel Expert | E33: Nouvel Expert Premium | G33: Standard
A34: Air conditionnée manuel régulé en température | C34: Peugeot | D34: Nouvel Expert | E34: Nouvel Expert Premium Pack | G34: Standard
A35: Air conditionnée manuel régulé en température | C35: Peugeot | D35: Nouvel Expert | E35: Nouvel Expert Premium | G35: Long
A36: Air conditionnée manuel régulé en température | C36: Peugeot | D36: Nouvel Expert | E36: Nouvel Expert Premium Pack | G36: Long
A37: Airbags conducteur et passager | C37: Peugeot | D37: Nouvel Expert | E37: Nouvel expert pro | G37: Standard
A38: Airbags conducteur et passager | C38: Peugeot | D38: Nouvel Expert | E38: Nouvel Expert Premium | G38: Standard
A39: Airbags conducteur et passager | C39: Peugeot | D39: Nouvel Expert | E39: Nouvel Expert Premium Pack | G39: Standard
A40: Airbags conducteur et passager | C40: Peugeot | D40: Nouvel Expert | E40: Nouvel expert pro | G40: Long
A41: Airbags conducteur et passager | C41: Peugeot | D41: Nouvel Expert | E41: Nouvel Expert Premium | G41: Long
A42: Airbags conducteur et passager | C42: Peugeot | D42: Nouvel Expert | E42: Nouvel Expert Premium Pack | G42: Long
A43: Airbags latéraux conducteurs et passagers | C43: Peugeot | D43: Nouvel Expert | E43: / | F43: Nouvel expert pro | G43: Standard
A44: Airbags latéraux conducteurs et passagers | C44: Peugeot | D44: Nouvel Expert | E44: / | F44: Nouvel Expert Premium | G44: Standard
A45: Airbags latéraux conducteurs et passagers | C45: Peugeot | D45: Nouvel Expert | E45: / | F45: Nouvel Expert Premium Pack | G45: Standard
A46: Airbags latéraux conducteurs et passagers | C46: Peugeot | D46: Nouvel Expert | E46: / | F46: Nouvel expert pro | G46: Long
A47: Airbags latéraux conducteurs et passagers | C47: Peugeot | D47: Nouvel Expert | E47: / | F47: Nouvel Expert Premium | G47: Long
A48: Airbags latéraux conducteurs et passagers | C48: Peugeot | D48: Nouvel Expert | E48: / | F48: Nouvel Expert Premium Pack | G48: Long
A49: Alarmes + supercondamnation | C49: Peugeot | D49: Nouvel Expert | E49: / | F49: Nouvel expert pro | G49: Standard
A50: Alarmes + supercondamnation | C50: Peugeot | D50: Nouvel Expert | E50: / | F50: Nouvel Expert Premium | G50: Standard
A51: Alarmes + supercondamnation | C51: Peugeot | D51: Nouvel Expert | E51: / | F51: Nouvel Expert Premium Pack | G51: Standard
A52: Alarmes + supercondamnation | C52: Peugeot | D52: Nouvel Expert | E52: / | F52: Nouvel expert pro | G52: Long
A53: Alarmes + supercondamnation | C53: Peugeot | D53: Nouvel Expert | E53: / | F53: Nouvel Expert Premium | G53: Long
A54: Alarmes + supercondamnation | C54: Peugeot | D54: Nouvel Expert | E54: / | F54: Nouvel Expert Premium Pack | G54: Long
A55: Alerte de temps de conduite | C55: Peugeot | D55: Nouvel Expert | E55: Nouvel Expert Premium | G55: Standard
A56: Alerte de temps de conduite | C56: Peugeot | D56: Nouvel Expert | E56: Nouvel Expert Premium Pack | G56: Standard
A57: Alerte de temps de conduite | C57: Peugeot | D57: Nouvel Expert | E57: Nouvel Expert Premium | G57: Long
A58: Alerte de temps de conduite | C58: Peugeot | D58: Nouvel Expert | E58: Nouvel Expert Premium Pack | G58: Long
A59: Attelage avec crochet mixte | C59: Peugeot | D59: Nouvel Expert | E59: / | F59: Nouvel expert pro | G59: Standard
A60: Attelage avec crochet mixte | C60: Peugeot | D60: Nouvel Expert | E60: / | F60: Nouvel Expert Premium | G60: Standard
A61: Attelage avec crochet mixte | C61: Peugeot | D61: Nouvel Expert | E61: / | F61: Nouvel Expert Premium Pack | G61: Standard
A62: Attelage avec crochet mixte | C62: Peugeot | D62: Nouvel Expert | E62: / | F62: Nouvel expert pro | G62: Long
A63: Attelage avec crochet mixte | C63: Peugeot | D63: Nouvel Expert | E63: / | F63: Nouvel Expert Premium | G63: Long
A64: Attelage avec crochet mixte | C64: Peugeot | D64: Nouvel Expert | E64: / | F64: Nouvel Expert Premium Pack | G64: Long
A65: Attelage avec rotule sur platine | C65: Peugeot | D65: Nouvel Expert | E65: / | F65: Nouvel expert pro | G65: Standard
A66: Attelage avec rotule sur platine | C66: Peugeot | D66: Nouvel Expert | E66: / | F66: Nouvel Expert Premium | G66: Standard
A67: Attelage avec rotule sur platine | C67: Peugeot | D67: Nouvel Expert | E67: / | F67: Nouvel Expert Premium Pack | G67: Standard
A68: Attelage avec rotule sur platine | C68: Peugeot | D68: Nouvel Expert | E68: / | F68: Nouvel expert pro | G68: Long
A69: Attelage avec rotule sur platine | C69: Peugeot | D69: Nouvel Expert | E69: / | F69: Nouvel Expert Premium | G69: Long
A70: Attelage avec rotule sur platine | C70: Peugeot | D70: Nouvel Expert | E70: / | F70: Nouvel Expert Premium Pack | G70: Long
... A76: Banquettes Moduwork + Siège conducteur avec réhausse + réglage lombaires | C76: Peugeot | D76: Nouvel Expert | E76: / | F76: Nouvel Expert Premium Pack | G76: Long
A77: Boucliers avant et arrière noirs teintés masse | C77: Peugeot | D77: Nouvel Expert | E77: Nouvel expert pro | G77: Standard
A78: Boucliers avant et arrière noirs teintés masse | C78: Peugeot | D78: Nouvel Expert | E78: Nouvel Expert Premium | G78: Standard
A79: Boucliers avant et arrière noirs teintés masse | C79: Peugeot | D79: Nouvel Expert | E79: Nouvel Expert Premium Pack | G79: Standard
A80: Boucliers avant et arrière noirs teintés masse | C80: Peugeot | D80: Nouvel Expert | E80: Nouvel expert pro | G80: Long
A81: Boucliers avant et arrière noirs teintés masse | C81: Peugeot | D81: Nouvel Expert | E81: Nouvel Expert Premium | G81: Long
A82: Boucliers avant et arrière noirs teintés masse | C82: Peugeot | D82: Nouvel Expert | E82: Nouvel Expert Premium Pack | G82: Long
A83: Capteur de pluie + Rétroviseur intérieur électrochrome + Pack éléctrique) | C83: Peugeot | D83: Nouvel Expert | E83: Nouvel Expert Premium | G83: Standard
A84: Capteur de pluie + Rétroviseur intérieur électrochrome + Pack éléctrique) | C84: Peugeot | D84: Nouvel Expert | E84: Nouvel Expert Premium Pack | G84: Standard
A85: Capteur de pluie + Rétroviseur intérieur électrochrome + Pack éléctrique) | C85: Peugeot | D85: Nouvel Expert | E85: Nouvel Expert Premium | G85: Long
A86: Capteur de pluie + Rétroviseur intérieur électrochrome + Pack éléctrique) | C86: Peugeot | D86: Nouvel Expert | E86: Nouvel Expert Premium Pack | G86: Long
A87: Charge Utile majorée | C87: Peugeot | D87: Nouvel Expert | E87: / | F87: Nouvel expert pro | G87: Standard
A88: Charge Utile majorée | C88: Peugeot | D88: Nouvel Expert | E88: / | F88: Nouvel Expert Premium | G88: Standard
A89: Charge Utile majorée | C89: Peugeot | D89: Nouvel Expert | E89: / | F89: Nouvel Expert Premium Pack | G89: Standard
A90: Charge Utile majorée | C90: Peugeot | D90: Nouvel Expert | E90: / | F90: Nouvel expert pro | G90: Long
A91: Charge Utile majorée | C91: Peugeot | D91: Nouvel Expert | E91: / | F91: Nouvel Expert Premium | G91: Long
A92: Charge Utile majorée | C92: Peugeot | D92: Nouvel Expert | E92: / | F92: Nouvel Expert Premium Pack | G92: Long
A93: Charge utile majorée à 1400 kg | C93: Peugeot | D93: Nouvel Expert | E93: / | F93: Nouvel Expert Premium Pack | G93: Standard
A94: Charge utile majorée à 1400 kg | C94: Peugeot | D94: Nouvel Expert | E94: / | F94: Nouvel Expert Premium Pack | G94: Long
A95: Charge utile majorée sur silhouette long et BlueHDI 120 | C95: Peugeot | D95: Nouvel Expert | E95: Nouvel expert pro | G95: Standard
A96: Charge utile majorée sur silhouette long et BlueHDI 120 | C96: Peugeot | D96: Nouvel Expert | E96: Nouvel expert pro | G96: Long
A97: Charge utile majorée sur silhouette long et BlueHDI 120 | C97: Peugeot | D97: Nouvel Expert | E97: Nouvel Expert Premium | G97: Standard
A98: Charge utile majorée sur silhouette long et BlueHDI 120 | C98: Peugeot | D98: Nouvel Expert | E98: Nouvel Expert Premium | G98: Long
A99: Charge utile majorée sur silhouette long et BlueHDI 120 | C99: Peugeot | D99: Nouvel Expert | E99: Nouvel Expert Premium Pack | G99: Standard
A100: Charge utile majorée sur silhouette long et BlueHDI 120 | C100: Peugeot | D100: Nouvel Expert | E100: Nouvel Expert Premium Pack | G100: Long
A101: Chauffage additionnel Webasto programmable avec telecommande | C101: Peugeot | D101: Nouvel Expert | E101: / | F101: Nouvel Expert Premium | G101: Standard
A102: Chauffage additionnel Webasto programmable avec telecommande | C102: Peugeot | D102: Nouvel Expert | E102: / | F102: Nouvel Expert Premium Pack | G102: Standard
A103: Chauffage additionnel Webasto programmable avec telecommande | C103: Peugeot | D103: Nouvel Expert | E103: / | F103: Nouvel Expert Premium | G103: Long
A104: Chauffage additionnel Webasto programmable avec telecommande | C104: Peugeot | D104: Nouvel Expert | E104: / | F104: Nouvel Expert Premium Pack | G104: Long
A105: Cloison de séparation tôlée | C105: Peugeot | D105: Nouvel Expert | E105: Nouvel expert pro | G105: Standard
A106: Cloison de séparation tôlée | C106: Peugeot | D106: Nouvel Expert | E106: Nouvel Expert Premium | G106: Standard
...

Sheet Paramètre Données Constructeurs
B2: Constructeurs | C2: Véhicule | D2: Silhouette | E2: Pack | F2: Puissance moteur | G2: Type moteur | H2: Prix du pack
B3: Peugeot | C3: Nouvel Expert | D3: Standard | E3: Nouvel Expert Pro | F3: 95 CV | G3: 1.6L BlueHDI BVM5
B4: Peugeot | C4: Nouvel Expert | D4: Standard | E4: Nouvel Expert Pro | F4: 115 CV | G4: 1.6L BlueHDI SES BVM6
B5: Peugeot | C5: Nouvel Expert | D5: Standard | E5: Nouvel Expert Pro | F5: 120 CV | G5: 2.0L BlueHDI SES BVM6
B6: Peugeot | C6: Nouvel Expert | D6: Long | E6: Nouvel Expert Pro | F6: 95 CV | G6: 1.6L BlueHDI BVM5
B7: Peugeot | C7: Nouvel Expert | D7: Long | E7: Nouvel Expert Pro | F7: 120 CV | G7: 2.0L BlueHDI SES BVM6
B8: Peugeot | C8: Nouvel Expert | D8: Standard | E8: Nouvel Expert Premium | F8: 95 CV | G8: 1.6L BlueHDI BVM5
B9: Peugeot | C9: Nouvel Expert | D9: Standard | E9: Nouvel Expert Premium | F9: 95 CV | G9: 1.6L BlueHDI SES ETG6
B10: Peugeot | C10: Nouvel Expert | D10: Standard | E10: Nouvel Expert Premium | F10: 115 CV | G10: 1.6L BlueHDI SES BVM6
B11: Peugeot | C11: Nouvel Expert | D11: Standard | E11: Nouvel Expert Premium | F11: 120 CV | G11: 2.0L BlueHDI SES BVM6
B12: Peugeot | C12: Nouvel Expert | D12: Long | E12: Nouvel Expert Premium | F12: 95 CV | G12: 1.6L BlueHDI BVM5
B13: Peugeot | C13: Nouvel Expert | D13: Long | E13: Nouvel Expert Premium | F13: 120 CV | G13: 2.0L BlueHDI SES BVM6
B14: Peugeot | C14: Nouvel Expert | D14: Standard | E14: Nouvel Expert Premium Pack | F14: 95 CV | G14: 1.6L BlueHDI BVM5
... B23: Peugeot | C23: Nouvel Expert | D23: Long | E23: Nouvel Expert Premium Pack | F23: 180 CV | G23: 2.0L BlueHDI SES EAT6
B24: Peugeot
B25: Peugeot
B26: Peugeot
B27: Peugeot
B28: Peugeot
B29: Peugeot
B30: Peugeot
B31: Peugeot
B32: Peugeot

Sheet Paramètre calcul
B2: Véhicule | C2: Silhouette | D2: Pack de base | E2: Puissance moteur | F2: Moteurs
B3: =IFERROR(__xludf.DUMMYFUNCTION("FILTER('Paramètre Données Constructeurs'!C3:C190,'Paramètre Données Constructeurs'!B3:B190='Sélection véhicule'!B10)"),"Nouvel Expert") -> Nouvel Expert | C3: =IFERROR(__xludf.DUMMYFUNCTION("FILTER('Paramètre Données Constructeurs'!D3:D190,'Paramètre Données Constructeurs'!B3:B190='Sélection véhicule'!B10,'Paramètre Données Constructeurs'!C3:C190='Sélection véhicule'!C10)"),"Standard") -> Standard | D3: =IFERROR(__xludf.DUMMYFUNCTION("FILTER('Paramètre Données Constructeurs'!E3:E190,'Paramètre Données Constructeurs'!B3:B190='Sélection véhicule'!B10,'Paramètre Données Constructeurs'!C3:C190='Sélection véhicule'!C10,'Paramètre Données Constructeurs'!D3:D190='Sélection véhicule'!D10)"),"Nouvel Expert Pro") -> Nouvel Expert Pro | E3: =IFERROR(__xludf.DUMMYFUNCTION("FILTER('Paramètre Données Constructeurs'!F3:F190,'Paramètre Données Constructeurs'!B3:B190='Sélection véhicule'!B10,'Paramètre Données Constructeurs'!C3:C190='Sélection véhicule'!C10,'Paramètre Données Constructeurs'!D3:D190='Sélection véhicule'!D10,'Para"&"mètre Données Constructeurs'!E3:E190='Sélection véhicule'!E10)"),"95 CV") -> 95 CV | F3: =IFERROR(__xludf.DUMMYFUNCTION("FILTER('Paramètre Données Constructeurs'!G3:G190,'Paramètre Données Constructeurs'!B3:B190='Sélection véhicule'!B10,'Paramètre Données Constructeurs'!C3:C190='Sélection véhicule'!C10,'Paramètre Données Constructeurs'!D3:D190='Sélection véhicule'!D10,'Para"&"mètre Données Constructeurs'!E3:E190='Sélection véhicule'!E10,'Paramètre Données Constructeurs'!F3:F190='Sélection véhicule'!F10)"),"2.0L BlueHDI SES BVM6") -> 2.0L BlueHDI SES BVM6
B4: Nouvel Expert | C4: Standard | D4: Nouvel Expert Pro | E4: 120 CV
B5: Nouvel Expert | C5: Standard | D5: Nouvel Expert Premium
B6: Nouvel Expert | C6: Long | D6: Nouvel Expert Premium
B7: Nouvel Expert | C7: Long | D7: Nouvel Expert Premium Pack
B8: Nouvel Expert | C8: Standard | D8: Nouvel Expert Premium Pack
B9: Nouvel Expert | C9: Standard | D9: Nouvel Expert Premium Pack
B10: Nouvel Expert | C10: Standard | D10: Nouvel Expert Premium Pack
B11: Nouvel Expert | C11: Standard
B12: Nouvel Expert | C12: Long
B13: Nouvel Expert | C13: Long
B14: Nouvel Expert | C14: Standard
B15: Nouvel Expert | C15: Standard
B16: Nouvel Expert | C16: Standard
B17: Nouvel Expert | C17: Standard
B18: Nouvel Expert | C18: Standard
B19: Nouvel Expert | C19: Standard
B20: Nouvel Expert | C20: Long
B21: Nouvel Expert | C21: Long
B22: Nouvel Expert | C22: Long
B23: Nouvel Expert | C23: Long
