Workbook

Sheet M entree
A1: References | B1: Désignation | C1: Quantités | D1: P.U | E1: Montant | F1: Date | G1: FRNS
B2: =IF(A2="","",VLOOKUP(A2,base!A:B,2,0)) | E2: =+C2*D2 -> 0
B3: =IF(A3="","",VLOOKUP(A3,base!A:B,2,0)) | E3: =+C3*D3 -> 0
B4: =IF(A4="","",VLOOKUP(A4,base!A:B,2,0)) | E4: =+C4*D4 -> 0
B5: =IF(A5="","",VLOOKUP(A5,base!A:B,2,0)) | E5: =+C5*D5 -> 0
B6: =IF(A6="","",VLOOKUP(A6,base!A:B,2,0)) | E6: =+C6*D6 -> 0
B7: =IF(A7="","",VLOOKUP(A7,base!A:B,2,0)) | E7: =+C7*D7 -> 0
B8: =IF(A8="","",VLOOKUP(A8,base!A:B,2,0)) | E8: =+C8*D8 -> 0
B9: =IF(A9="","",VLOOKUP(A9,base!A:B,2,0)) | E9: =+C9*D9 -> 0
B10: =IF(A10="","",VLOOKUP(A10,base!A:B,2,0)) | E10: =+C10*D10 -> 0
B11: =IF(A11="","",VLOOKUP(A11,base!A:B,2,0)) | E11: =+C11*D11 -> 0
B12: =IF(A12="","",VLOOKUP(A12,base!A:B,2,0)) | E12: =+C12*D12 -> 0
B13: =IF(A13="","",VLOOKUP(A13,base!A:B,2,0)) | E13: =+C13*D13 -> 0
... B91: =IF(A91="","",VLOOKUP(A91,base!A:B,2,0)) | E91: =+C91*D91 -> 0
B92: VALEUR ENTREES AVRIL 2017 | E92: =SUM(E2:E91) -> 0

Sheet M sortie
A1: References | B1: Désignation | C1: Quantités | D1: P.U moyen | E1: Montant | F1: Date
B2: =IF(A2="","",VLOOKUP(A2,base!A:B,2,0)) | D2: =IFERROR(VLOOKUP(A2,'Etat de stocks'!A:H,7,0),"0,00") -> 0,00 | E2: =IF(C2="","",C2*D2)
B3: =IF(A3="","",VLOOKUP(A3,base!A:B,2,0)) | D3: =IFERROR(VLOOKUP(A3,'Etat de stocks'!A:H,7,0),"0,00") -> 0,00 | E3: =IF(C3="","",C3*D3)
B4: =IF(A4="","",VLOOKUP(A4,base!A:B,2,0)) | D4: =IFERROR(VLOOKUP(A4,'Etat de stocks'!A:H,7,0),"0,00") -> 0,00 | E4: =IF(C4="","",C4*D4)
B5: =IF(A5="","",VLOOKUP(A5,base!A:B,2,0)) | D5: =IFERROR(VLOOKUP(A5,'Etat de stocks'!A:H,7,0),"0,00") -> 0,00 | E5: =IF(C5="","",C5*D5)
B6: =IF(A6="","",VLOOKUP(A6,base!A:B,2,0)) | D6: =IFERROR(VLOOKUP(A6,'Etat de stocks'!A:H,7,0),"0,00") -> 0,00 | E6: =IF(C6="","",C6*D6)
B7: =IF(A7="","",VLOOKUP(A7,base!A:B,2,0)) | D7: =IFERROR(VLOOKUP(A7,'Etat de stocks'!A:H,7,0),"0,00") -> 0,00 | E7: =IF(C7="","",C7*D7)
B8: =IF(A8="","",VLOOKUP(A8,base!A:B,2,0)) | D8: =IFERROR(VLOOKUP(A8,'Etat de stocks'!A:H,7,0),"0,00") -> 0,00 | E8: =IF(C8="","",C8*D8)
B9: =IF(A9="","",VLOOKUP(A9,base!A:B,2,0)) | D9: =IFERROR(VLOOKUP(A9,'Etat de stocks'!A:H,7,0),"0,00") -> 0,00 | E9: =IF(C9="","",C9*D9)
B10: =IF(A10="","",VLOOKUP(A10,base!A:B,2,0)) | D10: =IFERROR(VLOOKUP(A10,'Etat de stocks'!A:H,7,0),"0,00") -> 0,00 | E10: =IF(C10="","",C10*D10)
B11: =IF(A11="","",VLOOKUP(A11,base!A:B,2,0)) | D11: =IFERROR(VLOOKUP(A11,'Etat de stocks'!A:H,7,0),"0,00") -> 0,00 | E11: =IF(C11="","",C11*D11)
B12: =IF(A12="","",VLOOKUP(A12,base!A:B,2,0)) | D12: =IFERROR(VLOOKUP(A12,'Etat de stocks'!A:H,7,0),"0,00") -> 0,00 | E12: =IF(C12="","",C12*D12)
B13: =IF(A13="","",VLOOKUP(A13,base!A:B,2,0)) | D13: =IFERROR(VLOOKUP(A13,'Etat de stocks'!A:H,7,0),"0,00") -> 0,00 | E13: =IF(C13="","",C13*D13)
... B35: =IF(A35="","",VLOOKUP(A35,base!A:B,2,0)) | D35: =IFERROR(VLOOKUP(A35,'Etat de stocks'!A:H,7,0),"0,00") -> 0,00 | E35: =IF(C35="","",C35*D35)
B36: VALEUR SORTIES AVRIL 2017 | E36: =SUM(E2:E35) -> 0

Sheet Etat de stocks
A1: Mois: | B1: Avril 2017 | C1: STOCK INITIAL | F1: MOUVEMENT D'ENTREES | I1: MOUVEMENT DE SORTIES | K1: STOCK FINAL
A2: Ref | B2: Articles | C2: SI | D2: P.U Si | E2: Valeur Si | F2: Qté E | G2: P.U Moyen | H2: Val entrée | I2: Qté S | J2: Val sortie | K2: FI | L2: VAL Stock FI
A3: =+base!A2 -> CHARB | B3: =+base!B2 -> CHARBON | C3: 9 | D3: =IF(C3=0,"0",E3/C3) -> 2500 | E3: 22500 | F3: =SUMIF('M entree'!A:A,A3,'M entree'!C:C) -> 0 | G3: =IFERROR((H3+E3)/(C3+F3),"0") -> 2500 | H3: =SUMIFS('M entree'!E:E,'M entree'!A:A,'Etat de stocks'!A3) -> 0 | I3: =IFERROR(SUMIF('M sortie'!A:A,'Etat de stocks'!A3,'M sortie'!C:C),"0") -> 0 | J3: =SUMIF('M sortie'!A:A,'Etat de stocks'!A3,'M sortie'!E:E) -> 0 | K3: =+C3+F3-I3 -> 9 | L3: =+K3*G3 -> 22500
A4: =+base!A3 -> POULE | B4: =+base!B3 -> POULET | C4: 1 | D4: 12000 | E4: 12000 | F4: =SUMIF('M entree'!A:A,A4,'M entree'!C:C) -> 0 | G4: =IFERROR((H4+E4)/(C4+F4),"0") -> 12000 | H4: =SUMIFS('M entree'!E:E,'M entree'!A:A,'Etat de stocks'!A4) -> 0 | I4: =IFERROR(SUMIF('M sortie'!A:A,'Etat de stocks'!A4,'M sortie'!C:C),"0") -> 0 | J4: =SUMIFS('M sortie'!E:E,'M sortie'!A:A,'Etat de stocks'!A4) -> 0 | K4: =+C4+F4-I4 -> 1 | L4: =+K4*G4 -> 12000
A5: =+base!A4 -> FANAN | B5: =+base!B4 -> FANANGANY | C5: 0 | D5: =IF(C5=0,"0",E5/C5) -> 0 | E5: 0 | F5: =SUMIF('M entree'!A:A,A5,'M entree'!C:C) -> 0 | G5: =IFERROR((H5+E5)/(C5+F5),"0") -> 0 | H5: =SUMIFS('M entree'!E:E,'M entree'!A:A,'Etat de stocks'!A5) -> 0 | I5: =IFERROR(SUMIF('M sortie'!A:A,'Etat de stocks'!A5,'M sortie'!C:C),"0") -> 0 | J5: =SUMIFS('M sortie'!E:E,'M sortie'!A:A,'Etat de stocks'!A5) -> 0 | K5: =+C5+F5-I5 -> 0 | L5: =+K5*G5 -> 0
A6: =+base!A5 -> TRANF | B6: =+base!B5 -> TRANCHE FINE | C6: 0 | D6: =IF(C6=0,"0",E6/C6) -> 0 | E6: 0 | F6: =SUMIF('M entree'!A:A,A6,'M entree'!C:C) -> 0 | G6: =IFERROR((H6+E6)/(C6+F6),"0") -> 0 | H6: =SUMIFS('M entree'!E:E,'M entree'!A:A,'Etat de stocks'!A6) -> 0 | I6: =IFERROR(SUMIF('M sortie'!A:A,'Etat de stocks'!A6,'M sortie'!C:C),"0") -> 0 | J6: =SUMIFS('M sortie'!E:E,'M sortie'!A:A,'Etat de stocks'!A6) -> 0 | K6: =+C6+F6-I6 -> 0 | L6: =+K6*G6 -> 0
A7: =+base!A6 -> VIAHA | B7: =+base!B6 -> VIANDE HACHEE | C7: 0 | D7: =IF(C7=0,"0",E7/C7) -> 0 | E7: 0 | F7: =SUMIF('M entree'!A:A,A7,'M entree'!C:C) -> 0 | G7: =IFERROR((H7+E7)/(C7+F7),"0") -> 0 | H7: =SUMIFS('M entree'!E:E,'M entree'!A:A,'Etat de stocks'!A7) -> 0 | I7: =IFERROR(SUMIF('M sortie'!A:A,'Etat de stocks'!A7,'M sortie'!C:C),"0") -> 0 | J7: =SUMIFS('M sortie'!E:E,'M sortie'!A:A,'Etat de stocks'!A7) -> 0 | K7: =+C7+F7-I7 -> 0 | L7: =+K7*G7 -> 0
A8: =+base!A7 -> ZEBUP | B8: =+base!B7 -> ZEBU PARRURE | C8: 0 | D8: =IF(C8=0,"0",E8/C8) -> 0 | E8: 0 | F8: =SUMIF('M entree'!A:A,A8,'M entree'!C:C) -> 0 | G8: =IFERROR((H8+E8)/(C8+F8),"0") -> 0 | H8: =SUMIFS('M entree'!E:E,'M entree'!A:A,'Etat de stocks'!A8) -> 0 | I8: =IFERROR(SUMIF('M sortie'!A:A,'Etat de stocks'!A8,'M sortie'!C:C),"0") -> 0 | J8: =SUMIFS('M sortie'!E:E,'M sortie'!A:A,'Etat de stocks'!A8) -> 0 | K8: =+C8+F8-I8 -> 0 | L8: =+K8*G8 -> 0
A9: =+base!A8 -> FILET | B9: =+base!B8 -> FILET DE ZEBU | C9: 0 | D9: =IF(C9=0,"0",E9/C9) -> 0 | E9: 0 | F9: =SUMIF('M entree'!A:A,A9,'M entree'!C:C) -> 0 | G9: =IFERROR((H9+E9)/(C9+F9),"0") -> 0 | H9: =SUMIFS('M entree'!E:E,'M entree'!A:A,'Etat de stocks'!A9) -> 0 | I9: =IFERROR(SUMIF('M sortie'!A:A,'Etat de stocks'!A9,'M sortie'!C:C),"0") -> 0 | J9: =SUMIFS('M sortie'!E:E,'M sortie'!A:A,'Etat de stocks'!A9) -> 0 | K9: =+C9+F9-I9 -> 0 | L9: =+K9*G9 -> 0
A10: =+base!A9 -> SAUCI | B10: =+base!B9 -> SAUCISSON | C10: 0.05 | D10: =IF(C10=0,"0",E10/C10) -> 2874.9696 | E10: 143.74848 | F10: =SUMIF('M entree'!A:A,A10,'M entree'!C:C) -> 0 | G10: =IFERROR((H10+E10)/(C10+F10),"0") -> 2874.9696 | H10: =SUMIFS('M entree'!E:E,'M entree'!A:A,'Etat de stocks'!A10) -> 0 | I10: =IFERROR(SUMIF('M sortie'!A:A,'Etat de stocks'!A10,'M sortie'!C:C),"0") -> 0 | J10: =SUMIFS('M sortie'!E:E,'M sortie'!A:A,'Etat de stocks'!A10) -> 0 | K10: =+C10+F10-I10 -> 0.05 | L10: =+K10*G10 -> 143.74848
A11: =+base!A10 -> COTEP | B11: =+base!B10 -> COTE DE PORC | C11: 0 | D11: =IF(C11=0,"0",E11/C11) -> 0 | E11: 0 | F11: =SUMIF('M entree'!A:A,A11,'M entree'!C:C) -> 0 | G11: =IFERROR((H11+E11)/(C11+F11),"0") -> 0 | H11: =SUMIFS('M entree'!E:E,'M entree'!A:A,'Etat de stocks'!A11) -> 0 | I11: =IFERROR(SUMIF('M sortie'!A:A,'Etat de stocks'!A11,'M sortie'!C:C),"0") -> 0 | J11: =SUMIFS('M sortie'!E:E,'M sortie'!A:A,'Etat de stocks'!A11) -> 0 | K11: =+C11+F11-I11 -> 0 | L11: =+K11*G11 -> 0
A12: =+base!A11 -> CANAR | B12: =+base!B11 -> CANARD | C12: 0 | D12: =IF(C12=0,"0",E12/C12) -> 0 | E12: 0 | F12: =SUMIF('M entree'!A:A,A12,'M entree'!C:C) -> 0 | G12: =IFERROR((H12+E12)/(C12+F12),"0") -> 0 | H12: =SUMIFS('M entree'!E:E,'M entree'!A:A,'Etat de stocks'!A12) -> 0 | I12: =IFERROR(SUMIF('M sortie'!A:A,'Etat de stocks'!A12,'M sortie'!C:C),"0") -> 0 | J12: =SUMIFS('M sortie'!E:E,'M sortie'!A:A,'Etat de stocks'!A12) -> 0 | K12: =+C12+F12-I12 -> 0 | L12: =+K12*G12 -> 0
A13: =+base!A12 -> THONN | B13: =+base!B12 -> THON NATURE | C13: 0 | D13: =IF(C13=0,"0",E13/C13) -> 0 | E13: 0 | F13: =SUMIF('M entree'!A:A,A13,'M entree'!C:C) -> 0 | G13: =IFERROR((H13+E13)/(C13+F13),"0") -> 0 | H13: =SUMIFS('M entree'!E:E,'M entree'!A:A,'Etat de stocks'!A13) -> 0 | I13: =IFERROR(SUMIF('M sortie'!A:A,'Etat de stocks'!A13,'M sortie'!C:C),"0") -> 0 | J13: =SUMIFS('M sortie'!E:E,'M sortie'!A:A,'Etat de stocks'!A13) -> 0 | K13: =+C13+F13-I13 -> 0 | L13: =+K13*G13 -> 0
A14: =+base!A13 -> MORTA | B14: =+base!B13 -> MORTADELLE | C14: 0 | D14: =IF(C14=0,"0",E14/C14) -> 0 | E14: 0 | F14: =SUMIF('M entree'!A:A,A14,'M entree'!C:C) -> 0 | G14: =IFERROR((H14+E14)/(C14+F14),"0") -> 0 | H14: =SUMIFS('M entree'!E:E,'M entree'!A:A,'Etat de stocks'!A14) -> 0 | I14: =IFERROR(SUMIF('M sortie'!A:A,'Etat de stocks'!A14,'M sortie'!C:C),"0") -> 0 | J14: =SUMIFS('M sortie'!E:E,'M sortie'!A:A,'Etat de stocks'!A14) -> 0 | K14: =+C14+F14-I14 -> 0 | L14: =+K14*G14 -> 0
A15: =+base!A14 -> ŒUFS | B15: =+base!B14 -> ŒUFS | C15: 33 | D15: =IF(C15=0,"0",E15/C15) -> 471.5812 | E15: 15562.18 | F15: =SUMIF('M entree'!A:A,A15,'M entree'!C:C) -> 0 | G15: =IFERROR((H15+E15)/(C15+F15),"0") -> 471.5812 | H15: =SUMIFS('M entree'!E:E,'M entree'!A:A,'Etat de stocks'!A15) -> 0 | I15: =IFERROR(SUMIF('M sortie'!A:A,'Etat de stocks'!A15,'M sortie'!C:C),"0") -> 0 | J15: =SUMIFS('M sortie'!E:E,'M sortie'!A:A,'Etat de stocks'!A15) -> 0 | K15: =+C15+F15-I15 -> 33 | L15: =+K15*G15 -> 15562.18
A16: =+base!A15 -> TOMAT | B16: =+base!B15 -> TOMATE | C16: 0 | D16: =IF(C16=0,"0",E16/C16) -> 0 | E16: 0 | F16: =SUMIF('M entree'!A:A,A16,'M entree'!C:C) -> 0 | G16: =IFERROR((H16+E16)/(C16+F16),"0") -> 0 | H16: =SUMIFS('M entree'!E:E,'M entree'!A:A,'Etat de stocks'!A16) -> 0 | I16: =IFERROR(SUMIF('M sortie'!A:A,'Etat de stocks'!A16,'M sortie'!C:C),"0") -> 0 | J16: =SUMIFS('M sortie'!E:E,'M sortie'!A:A,'Etat de stocks'!A16) -> 0 | K16: =+C16+F16-I16 -> 0 | L16: =+K16*G16 -> 0
... A248: =+base!A247 -> RAISE | B248: =+base!B247 -> RAISIN SEC | C248: 0.5 | D248: =IF(C248=0,"0",E248/C248) -> 11200 | E248: 5600 | F248: =SUMIF('M entree'!A:A,A248,'M entree'!C:C) -> 0 | G248: =IFERROR((H248+E248)/(C248+F248),"0") -> 11200 | H248: =SUMIFS('M entree'!E:E,'M entree'!A:A,'Etat de stocks'!A248) -> 0 | I248: =IFERROR(SUMIF('M sortie'!A:A,'Etat de stocks'!A248,'M sortie'!C:C),"0") -> 0 | J248: =SUMIFS('M sortie'!E:E,'M sortie'!A:A,'Etat de stocks'!A248) -> 0 | K248: =+C248+F248-I248 -> 0.5 | L248: =+K248*G248 -> 5600
A249: =+base!A248 -> VODKA | B249: =+base!B248 -> VODKA | C249: 11 | D249: =IF(C249=0,"0",E249/C249) -> 4500 | E249: =11*4500 -> 49500 | F249: =SUMIF('M entree'!A:A,A249,'M entree'!C:C) -> 0 | G249: =IFERROR((H249+E249)/(C249+F249),"0") -> 4500 | H249: =SUMIFS('M entree'!E:E,'M entree'!A:A,'Etat de stocks'!A249) -> 0 | I249: =IFERROR(SUMIF('M sortie'!A:A,'Etat de stocks'!A249,'M sortie'!C:C),"0") -> 0 | J249: =SUMIFS('M sortie'!E:E,'M sortie'!A:A,'Etat de stocks'!A249) -> 0 | K249: =+C249+F249-I249 -> 11 | L249: =+K249*G249 -> 49500
A250: =+base!A249 -> HSOJA | B250: =+base!B249 -> HUILE SOJA | C250: 0.5 | D250: =IF(C250=0,"0",E250/C250) -> 7000 | E250: 3500 | F250: =SUMIF('M entree'!A:A,A250,'M entree'!C:C) -> 0 | G250: =IFERROR((H250+E250)/(C250+F250),"0") -> 7000 | H250: =SUMIFS('M entree'!E:E,'M entree'!A:A,'Etat de stocks'!A250) -> 0 | I250: =IFERROR(SUMIF('M sortie'!A:A,'Etat de stocks'!A250,'M sortie'!C:C),"0") -> 0 | J250: =SUMIFS('M sortie'!E:E,'M sortie'!A:A,'Etat de stocks'!A250) -> 0 | K250: =+C250+F250-I250 -> 0.5 | L250: =+K250*G250 -> 3500
A251: =+base!A250 -> SKOL0 | B251: =+base!B250 -> SKOL | C251: 3 | D251: =IF(C251=0,"0",E251/C251) -> 1800 | E251: 5400 | F251: =SUMIF('M entree'!A:A,A251,'M entree'!C:C) -> 0 | G251: =IFERROR((H251+E251)/(C251+F251),"0") -> 1800 | H251: =SUMIFS('M entree'!E:E,'M entree'!A:A,'Etat de stocks'!A251) -> 0 | I251: =IFERROR(SUMIF('M sortie'!A:A,'Etat de stocks'!A251,'M sortie'!C:C),"0") -> 0 | J251: =SUMIFS('M sortie'!E:E,'M sortie'!A:A,'Etat de stocks'!A251) -> 0 | K251: =+C251+F251-I251 -> 3 | L251: =+K251*G251 -> 5400
A252: =+base!A251 -> EMASS | B252: =+base!B251 -> EPICE MASSALA | C252: 0.1 | D252: =IF(C252=0,"0",E252/C252) -> 2000 | E252: 200 | F252: =SUMIF('M entree'!A:A,A252,'M entree'!C:C) -> 0 | G252: =IFERROR((H252+E252)/(C252+F252),"0") -> 2000 | H252: =SUMIFS('M entree'!E:E,'M entree'!A:A,'Etat de stocks'!A252) -> 0 | I252: =IFERROR(SUMIF('M sortie'!A:A,'Etat de stocks'!A252,'M sortie'!C:C),"0") -> 0 | J252: =SUMIFS('M sortie'!E:E,'M sortie'!A:A,'Etat de stocks'!A252) -> 0 | K252: =+C252+F252-I252 -> 0.1 | L252: =+K252*G252 -> 200
A253: =+base!A252 -> VFRBD | B253: =+base!B252 -> VIN FRONTERA BLANC DOUX | C253: 2 | D253: =IF(C253=0,"0",E253/C253) -> 2500 | E253: 5000 | F253: =SUMIF('M entree'!A:A,A253,'M entree'!C:C) -> 0 | G253: =IFERROR((H253+E253)/(C253+F253),"0") -> 2500 | H253: =SUMIFS('M entree'!E:E,'M entree'!A:A,'Etat de stocks'!A253) -> 0 | I253: =IFERROR(SUMIF('M sortie'!A:A,'Etat de stocks'!A253,'M sortie'!C:C),"0") -> 0 | J253: =SUMIFS('M sortie'!E:E,'M sortie'!A:A,'Etat de stocks'!A253) -> 0 | K253: =+C253+F253-I253 -> 2 | L253: =+K253*G253 -> 5000
A254: =+base!A253 -> VNABS | B254: =+base!B253 -> VIN NAMAQUA BLANC SEC | C254: 2 | D254: =IF(C254=0,"0",E254/C254) -> 2500 | E254: 5000 | F254: =SUMIF('M entree'!A:A,A254,'M entree'!C:C) -> 0 | G254: =IFERROR((H254+E254)/(C254+F254),"0") -> 2500 | H254: =SUMIFS('M entree'!E:E,'M entree'!A:A,'Etat de stocks'!A254) -> 0 | I254: =IFERROR(SUMIF('M sortie'!A:A,'Etat de stocks'!A254,'M sortie'!C:C),"0") -> 0 | J254: =SUMIFS('M sortie'!E:E,'M sortie'!A:A,'Etat de stocks'!A254) -> 0 | K254: =+C254+F254-I254 -> 2 | L254: =+K254*G254 -> 5000
B255: TOTAL GENERAL | E255: =SUM(E3:E254) -> 1619689.5 | H255: =SUM(H3:H254) -> 0 | J255: =SUM(J3:J254) -> 0 | L255: =SUM(L3:L254) -> 1619689.5
E257: Vérif Valeur Entrées/Sorties/S final | H257: =IF(H255='M entree'!E92,"OK","ERRONEE") -> OK | J257: =IF(J255='M sortie'!E36,"OK","ERRONEE") -> OK | L257: =IF((E255+H255-J255)=L255,"OK","ERRONEE") -> OK

Sheet base
A1: CODE | B1: ARTICLES
A2: CHARB | B2: CHARBON
A3: POULE | B3: POULET
A4: FANAN | B4: FANANGANY
A5: TRANF | B5: TRANCHE FINE
A6: VIAHA | B6: VIANDE HACHEE
A7: ZEBUP | B7: ZEBU PARRURE
A8: FILET | B8: FILET DE ZEBU
A9: SAUCI | B9: SAUCISSON
A10: COTEP | B10: COTE DE PORC
A11: CANAR | B11: CANARD
A12: THONN | B12: THON NATURE
... A253: VNABS | B253: VIN NAMAQUA BLANC SEC
