Workbook

Sheet Grandes Affiches
B2: MERCREDI | D2: 42851 | F2: 10H00 | H2: -
B3: JEUDI | D3: 42852 | F3: 10H00 | H3: -
B4: VENDREDI | D4: 42853 | F4: 10H00 | H4: -
B5: SAMEDI | D5: 42854 | F5: 10H00 | H5: -
B6: DIMANCHE | D6: 42855 | F6: 10H00 | H6: -
B7: LUNDI | D7: 42856 | F7: 18H45 | H7: -
B8: MARDI | D8: 42857 | F8: 15H15 | H8: -
B10: Cin'Étoile St Bonnet le Château : "FILM" | H10: -
B19: MERCREDI | D19: 42851 | F19: 10H00 | H19: -
B20: JEUDI | D20: 42852 | F20: 10H00 | H20: -
B21: VENDREDI | D21: 42853 | F21: 10H00 | H21: -
B22: SAMEDI | D22: 42854 | F22: 10H00 | H22: -
B23: DIMANCHE | D23: 42855 | F23: 10H00 | H23: -
B24: LUNDI | D24: 42856 | F24: 10H00 | H24: -
B25: MARDI | D25: 42857 | F25: 10H00 | H25: -
B27: Cin'Étoile St Bonnet le Château : "The Young Lady" | H27: 2D
B36: MERCREDI | D36: 42851 | F36: 10H00 | H36: -
B37: JEUDI | D37: 42852 | F37: 10H00 | H37: -
B38: VENDREDI | D38: 42853 | F38: 10H00 | H38: -
B39: SAMEDI | D39: 42854 | F39: 10H00 | H39: -
B40: DIMANCHE | D40: 42855 | F40: 10H00 | H40: -
B41: LUNDI | D41: 42856 | F41: 10H00 | H41: -
B42: MARDI | D42: 42857 | F42: 10H00 | H42: -
B44: Cin'Étoile St Bonnet le Château : "The Young Lady" | H44: 2D
B53: MERCREDI | D53: 42851 | F53: 10H00 | H53: -
B54: JEUDI | D54: 42852 | F54: 10H00 | H54: -
B55: VENDREDI | D55: 42853 | F55: 10H00 | H55: -
B56: SAMEDI | D56: 42854 | F56: 10H00 | H56: -
B57: DIMANCHE | D57: 42855 | F57: 10H00 | H57: -
B58: LUNDI | D58: 42856 | F58: 10H00 | H58: -
B59: MARDI | D59: 42857 | F59: 10H00 | H59: -
B61: Cin'Étoile St Bonnet le Château : "The Young Lady" | H61: 2D
B70: MERCREDI | D70: 42851 | F70: 10H00 | H70: -
B71: JEUDI | D71: 42852 | F71: 10H00 | H71: -
B72: VENDREDI | D72: 42853 | F72: 10H00 | H72: -
B73: SAMEDI | D73: 42854 | F73: 10H00 | H73: -
B74: DIMANCHE | D74: 42855 | F74: 10H00 | H74: -
B75: LUNDI | D75: 42856 | F75: 10H00 | H75: -
B76: MARDI | D76: 42857 | F76: 10H00 | H76: -
B78: Cin'Étoile St Bonnet le Château : "The Young Lady" | H78: 2D
B87: MERCREDI | D87: 42851 | F87: 10H00 | H87: -
B88: JEUDI | D88: 42852 | F88: 10H00 | H88: -
B89: VENDREDI | D89: 42853 | F89: 10H00 | H89: -
B90: SAMEDI | D90: 42854 | F90: 10H00 | H90: -
B91: DIMANCHE | D91: 42855 | F91: 10H00 | H91: -
B92: LUNDI | D92: 42856 | F92: 10H00 | H92: -
B93: MARDI | D93: 42857 | F93: 10H00 | H93: -
B95: Cin'Étoile St Bonnet le Château : "The Young Lady" | H95: 2D
B104: MERCREDI | D104: 42851 | F104: 10H00 | H104: -
B105: JEUDI | D105: 42852 | F105: 10H00 | H105: -
B106: VENDREDI | D106: 42853 | F106: 10H00 | H106: -
B107: SAMEDI | D107: 42854 | F107: 10H00 | H107: -
B108: DIMANCHE | D108: 42855 | F108: 10H00 | H108: -
B109: LUNDI | D109: 42856 | F109: 10H00 | H109: -
B110: MARDI | D110: 42857 | F110: 10H00 | H110: -
B112: Cin'Étoile St Bonnet le Château : "The Young Lady" | H112: 2D
B121: MERCREDI | D121: 42851 | F121: 10H00 | H121: -
B122: JEUDI | D122: 42852 | F122: 10H00 | H122: -
B123: VENDREDI | D123: 42853 | F123: 10H00 | H123: -
B124: SAMEDI | D124: 42854 | F124: 10H00 | H124: -
B125: DIMANCHE | D125: 42855 | F125: 10H00 | H125: -
B126: LUNDI | D126: 42856 | F126: 10H00 | H126: -
B127: MARDI | D127: 42857 | F127: 10H00 | H127: -
B129: Cin'Étoile St Bonnet le Château : "The Young Lady" | H129: 2D
B138: MERCREDI | D138: 42851 | F138: 10H00 | H138: -
B139: JEUDI | D139: 42852 | F139: 10H00 | H139: -
B140: VENDREDI | D140: 42853 | F140: 10H00 | H140: -
B141: SAMEDI | D141: 42854 | F141: 10H00 | H141: -
B142: DIMANCHE | D142: 42855 | F142: 10H00 | H142: -
B143: LUNDI | D143: 42856 | F143: 10H00 | H143: -
B144: MARDI | D144: 42857 | F144: 10H00 | H144: -
B146: Cin'Étoile St Bonnet le Château : "The Young Lady" | H146: 2D
B155: MERCREDI | D155: 42851 | F155: 10H00 | H155: -
B156: JEUDI | D156: 42852 | F156: 10H00 | H156: -
B157: VENDREDI | D157: 42853 | F157: 10H00 | H157: -
B158: SAMEDI | D158: 42854 | F158: 10H00 | H158: -
B159: DIMANCHE | D159: 42855 | F159: 10H00 | H159: -
B160: LUNDI | D160: 42856 | F160: 10H00 | H160: -
B161: MARDI | D161: 42857 | F161: 10H00 | H161: -
B163: Cin'Étoile St Bonnet le Château : "The Young Lady" | H163: 2D
B172: MERCREDI | D172: 42851 | F172: 10H00 | H172: -
B173: JEUDI | D173: 42852 | F173: 10H00 | H173: -
B174: VENDREDI | D174: 42853 | F174: 10H00 | H174: -
B175: SAMEDI | D175: 42854 | F175: 10H00 | H175: -
B176: DIMANCHE | D176: 42855 | F176: 10H00 | H176: -
B177: LUNDI | D177: 42856 | F177: 10H00 | H177: -
B178: MARDI | D178: 42857 | F178: 10H00 | H178: -
B180: Cin'Étoile St Bonnet le Château : "The Young Lady" | H180: 2D
B189: MERCREDI | D189: 42851 | F189: 10H00 | H189: -
B190: JEUDI | D190: 42852 | F190: 10H00 | H190: -
B191: VENDREDI | D191: 42853 | F191: 10H00 | H191: -
B192: SAMEDI | D192: 42854 | F192: 10H00 | H192: -
B193: DIMANCHE | D193: 42855 | F193: 10H00 | H193: -
B194: LUNDI | D194: 42856 | F194: 10H00 | H194: -
B195: MARDI | D195: 42857 | F195: 10H00 | H195: -
B197: Cin'Étoile St Bonnet le Château : "The Young Lady" | H197: 2D
B206: MERCREDI | D206: 42851 | F206: 10H00 | H206: -
B207: JEUDI | D207: 42852 | F207: 10H00 | H207: -
B208: VENDREDI | D208: 42853 | F208: 10H00 | H208: -
B209: SAMEDI | D209: 42854 | F209: 10H00 | H209: -
...

Sheet Petites Affiches
B2: MERCREDI | D2: ='Grandes Affiches'!D2 -> 42851 | F2: ='Grandes Affiches'!F2 -> 10H00 | H2: ='Grandes Affiches'!H2 -> -
B3: JEUDI | D3: ='Grandes Affiches'!D3 -> 42852 | F3: ='Grandes Affiches'!F3 -> 10H00 | H3: ='Grandes Affiches'!H3 -> -
B4: VENDREDI | D4: ='Grandes Affiches'!D4 -> 42853 | F4: ='Grandes Affiches'!F4 -> 10H00 | H4: ='Grandes Affiches'!H4 -> -
B5: SAMEDI | D5: ='Grandes Affiches'!D5 -> 42854 | F5: ='Grandes Affiches'!F5 -> 10H00 | H5: ='Grandes Affiches'!H5 -> -
B6: DIMANCHE | D6: ='Grandes Affiches'!D6 -> 42855 | F6: ='Grandes Affiches'!F6 -> 10H00 | H6: ='Grandes Affiches'!H6 -> -
B7: LUNDI | D7: ='Grandes Affiches'!D7 -> 42856 | F7: ='Grandes Affiches'!F7 -> 18H45 | H7: ='Grandes Affiches'!H7 -> -
B8: MARDI | D8: ='Grandes Affiches'!D8 -> 42857 | F8: ='Grandes Affiches'!F8 -> 15H15 | H8: ='Grandes Affiches'!H8 -> -
B10: ='Grandes Affiches'!B10 -> Cin'Étoile St Bonnet le Château : "FILM" | H10: ='Grandes Affiches'!H10 -> -
