Workbook

Sheet Grandes Affiches
B2: MERCREDI | D2: 42851 | F2: 10H00 | H2: -
B3: JEUDI | D3: 42852 | F3: 10H00 | H3: -
B4: VENDREDI | D4: 42853 | F4: 10H00 | H4: -
B5: SAMEDI | D5: 42854 | F5: 10H00 | H5: -
B6: DIMANCHE | D6: 42855 | F6: 10H00 | H6: -
B7: LUNDI | D7: 42856 | F7: 18H45 | H7: -
B8: MARDI | D8: 42857 | F8: 15H15 | H8: -
B10: Cin'Étoile St Bonnet le Château : "FILM" | H10: -
B19: MERCREDI | D19: 42851 | F19: 10H00 | H19: -
B20: JEUDI | D20: 42852 | F20: 10H00 | H20: -
B21: VENDREDI | D21: 42853 | F21: 10H00 | H21: -
B22: SAMEDI | D22: 42854 | F22: 10H00 | H22: -
B23: DIMANCHE | D23: 42855 | F23: 10H00 | H23: -
B24: LUNDI | D24: 42856 | F24: 10H00 | H24: -
B25: MARDI | D25: 42857 | F25: 10H00 | H25: -
B27: Cin'Étoile St Bonnet le Château : "The Young Lady" | H27: 2D
B36: MERCREDI | D36: 42851 | F36: 10H00 | H36: -
B37: JEUDI | D37: 42852 | F37: 10H00 | H37: -
B38: VENDREDI | D38: 42853 | F38: 10H00 | H38: -
B39: SAMEDI | D39: 42854 | F39: 10H00 | H39: -
B40: DIMANCHE | D40: 42855 | F40: 10H00 | H40: -
B41: LUNDI | D41: 42856 | F41: 10H00 | H41: -
B42: MARDI | D42: 42857 | F42: 10H00 | H42: -
B44: Cin'Étoile St Bonnet le Château : "The Young Lady" | H44: 2D
B53: MERCREDI | D53: 42851 | F53: 10H00 | H53: -
B54: JEUDI | D54: 42852 | F54: 10H00 | H54: -
B55: VENDREDI | D55: 42853 | F55: 10H00 | H55: -
B56: SAMEDI | D56: 42854 | F56: 10H00 | H56: -
B57: DIMANCHE | D57: 42855 | F57: 10H00 | H57: -
B58: LUNDI | D58: 42856 | F58: 10H00 | H58: -
B59: MARDI | D59: 42857 | F59: 10H00 | H59: -
B61: Cin'Étoile St Bonnet le Château : "The Young Lady" | H61: 2D
B70: MERCREDI | D70: 42851 | F70: 10H00 | H70: -
B71: JEUDI | D71: 42852 | F71: 10H00 | H71: -
B72: VENDREDI | D72: 42853 | F72: 10H00 | H72: -
B73: SAMEDI | D73: 42854 | F73: 10H00 | H73: -
B74: DIMANCHE | D74: 42855 | F74: 10H00 | H74: -
B75: LUNDI | D75: 42856 | F75: 10H00 | H75: -
B76: MARDI | D76: 42857 | F76: 10H00 | H76: -
B78: Cin'Étoile St Bonnet le Château : "The Young Lady" | H78: 2D
...

Sheet Petites Affiches
B2: MERCREDI | D2: ='Grandes Affiches'!D2 -> 42851 | F2: ='Grandes Affiches'!F2 -> 10H00 | H2: ='Grandes Affiches'!H2 -> -
B3: JEUDI | D3: ='Grandes Affiches'!D3 -> 42852 | F3: ='Grandes Affiches'!F3 -> 10H00 | H3: ='Grandes Affiches'!H3 -> -
B4: VENDREDI | D4: ='Grandes Affiches'!D4 -> 42853 | F4: ='Grandes Affiches'!F4 -> 10H00 | H4: ='Grandes Affiches'!H4 -> -
B5: SAMEDI | D5: ='Grandes Affiches'!D5 -> 42854 | F5: ='Grandes Affiches'!F5 -> 10H00 | H5: ='Grandes Affiches'!H5 -> -
B6: DIMANCHE | D6: ='Grandes Affiches'!D6 -> 42855 | F6: ='Grandes Affiches'!F6 -> 10H00 | H6: ='Grandes Affiches'!H6 -> -
B7: LUNDI | D7: ='Grandes Affiches'!D7 -> 42856 | F7: ='Grandes Affiches'!F7 -> 18H45 | H7: ='Grandes Affiches'!H7 -> -
B8: MARDI | D8: ='Grandes Affiches'!D8 -> 42857 | F8: ='Grandes Affiches'!F8 -> 15H15 | H8: ='Grandes Affiches'!H8 -> -
B10: ='Grandes Affiches'!B10 -> Cin'Étoile St Bonnet le Château : "FILM" | H10: ='Grandes Affiches'!H10 -> -
