Workbook

Sheet ACTION
B10: Name | C10: Compagny | D10: Work function | E10: Phone # | F10: Email | G10: Estimated sale | H10: Last contact | I10: Follow | J10: Next contact | K10: Lead Status | L10: Lead Source
A11: 1 | C11: PWO Canada inc | H11: Apr 21 2017 | I11: N | J11: Apr 25 2017 | K11: Warm | L11: Company Website
A12: 2 | I12: N | Q12: Bonjour,
A13: 3 | I13: N | Q13: Dans Excel, afficher votre barre d'outils contrôles (affichage/barre d'outils/contrôles).
A14: 4 | I14: N | Q14: Cliquer sur l'icône "bouton de commande".
A15: 5 | I15: N | Q15: Dessiner à l'endroit souhaité le bouton.
A16: 6 | I16: N | Q16: Clic droit sur le bouton/ objet du bouton de commande/ Edition ---> changer le texte du bouton.
A17: 7 | I17: N | Q17: Clic droit sur le bouton/ Propriétés vous permet d'accéder à plein de petites choses comme la couleur (Backcolor), la police etc...
A18: 8 | I18: N | Q18: Double clic sur le bouton une fenêtre (VBA) s'ouvre avec inscrit :
A19: 9 | I19: N | Q19: Private Sub CommandButton1_Click()
A20: 10 | I20: N | Q20: End Sub
A21: 11 | I21: N
A22: 12 | I22: N | Q22: inscrire entre ces 2 lignes : Sheets("nom de la feuille").select comme ceci :
A23: 13 | I23: N | Q23: Private Sub CommandButton1_Click()
A24: 14 | I24: N | Q24: Sheets("nom de la feuille").select
A25: 15 | I25: N | Q25: End Sub
A26: 16 | I26: N
A27: 17 | I27: N | Q27: Dans la barre d'outils contrôle cliquer sur l'icône : "désactiver le mode création"
A28: 18 | I28: N | Q28: et voilà
A29: 19 | I29: N
A30: 20 | I30: N
A31: 21 | I31: N
A32: 22 | I32: N
A33: 23 | I33: N
A34: 24 | I34: N

Sheet FOLLOW UP
B1: FOLLOW UP | K1: ←BACK
B2: Name | C2: Compagny | D2: Work function | E2: Phone # | F2: Email | G2: Estimated sale | H2: Last contact | I2: Next contact | J2: Lead Status | K2: Lead Source
A3: =ACTION!A11 -> 1 | B3: =PROPER(ACTION!B11) | C3: =ACTION!C11 -> PWO Canada inc | D3: =ACTION!D11 -> 0 | E3: =ACTION!E11 -> 0 | F3: =ACTION!F11 -> 0 | G3: =ACTION!G11 -> 0 | H3: =ACTION!H11 -> Apr 21 2017 | I3: =ACTION!J11 -> Apr 25 2017 | J3: =ACTION!K11 -> Warm | K3: =ACTION!L11 -> Company Website
A4: =ACTION!A12 -> 2 | B4: =PROPER(ACTION!B12) | C4: =ACTION!C12 -> 0 | D4: =ACTION!D12 -> 0 | E4: =ACTION!E12 -> 0 | F4: =ACTION!F12 -> 0 | G4: =ACTION!G12 -> 0 | J4: =ACTION!K12 -> 0 | K4: =ACTION!L12 -> 0
A5: =ACTION!A13 -> 3 | B5: =PROPER(ACTION!B13) | C5: =ACTION!C13 -> 0 | D5: =ACTION!D13 -> 0 | E5: =ACTION!E13 -> 0 | F5: =ACTION!F13 -> 0 | G5: =ACTION!G13 -> 0 | J5: =ACTION!K13 -> 0 | K5: =ACTION!L13 -> 0
A6: =ACTION!A14 -> 4 | B6: =PROPER(ACTION!B14) | C6: =ACTION!C14 -> 0 | D6: =ACTION!D14 -> 0 | E6: =ACTION!E14 -> 0 | F6: =ACTION!F14 -> 0 | G6: =ACTION!G14 -> 0 | J6: =ACTION!K14 -> 0 | K6: =ACTION!L14 -> 0
A7: =ACTION!A15 -> 5 | B7: =PROPER(ACTION!B15) | C7: =ACTION!C15 -> 0 | D7: =ACTION!D15 -> 0 | E7: =ACTION!E15 -> 0 | F7: =ACTION!F15 -> 0 | G7: =ACTION!G15 -> 0 | J7: =ACTION!K15 -> 0 | K7: =ACTION!L15 -> 0
A8: =ACTION!A16 -> 6 | B8: =PROPER(ACTION!B16) | C8: =ACTION!C16 -> 0 | D8: =ACTION!D16 -> 0 | E8: =ACTION!E16 -> 0 | F8: =ACTION!F16 -> 0 | G8: =ACTION!G16 -> 0 | J8: =ACTION!K16 -> 0 | K8: =ACTION!L16 -> 0
A9: =ACTION!A17 -> 7 | B9: =PROPER(ACTION!B17) | C9: =ACTION!C17 -> 0 | D9: =ACTION!D17 -> 0 | E9: =ACTION!E17 -> 0 | F9: =ACTION!F17 -> 0 | G9: =ACTION!G17 -> 0 | J9: =ACTION!K17 -> 0 | K9: =ACTION!L17 -> 0
A10: =ACTION!A18 -> 8 | B10: =PROPER(ACTION!B18) | C10: =ACTION!C18 -> 0 | D10: =ACTION!D18 -> 0 | E10: =ACTION!E18 -> 0 | F10: =ACTION!F18 -> 0 | G10: =ACTION!G18 -> 0 | J10: =ACTION!K18 -> 0 | K10: =ACTION!L18 -> 0
A11: =ACTION!A19 -> 9 | B11: =PROPER(ACTION!B19) | C11: =ACTION!C19 -> 0 | D11: =ACTION!D19 -> 0 | E11: =ACTION!E19 -> 0 | F11: =ACTION!F19 -> 0 | G11: =ACTION!G19 -> 0 | J11: =ACTION!K19 -> 0 | K11: =ACTION!L19 -> 0
A12: =ACTION!A20 -> 10 | B12: =PROPER(ACTION!B20) | C12: =ACTION!C20 -> 0 | D12: =ACTION!D20 -> 0 | E12: =ACTION!E20 -> 0 | F12: =ACTION!F20 -> 0 | G12: =ACTION!G20 -> 0 | J12: =ACTION!K20 -> 0 | K12: =ACTION!L20 -> 0
A13: =ACTION!A21 -> 11 | B13: =PROPER(ACTION!B21) | C13: =ACTION!C21 -> 0 | D13: =ACTION!D21 -> 0 | E13: =ACTION!E21 -> 0 | F13: =ACTION!F21 -> 0 | G13: =ACTION!G21 -> 0 | J13: =ACTION!K21 -> 0 | K13: =ACTION!L21 -> 0
A14: =ACTION!A22 -> 12 | B14: =PROPER(ACTION!B22) | C14: =ACTION!C22 -> 0 | D14: =ACTION!D22 -> 0 | E14: =ACTION!E22 -> 0 | F14: =ACTION!F22 -> 0 | G14: =ACTION!G22 -> 0 | J14: =ACTION!K22 -> 0 | K14: =ACTION!L22 -> 0
A15: =ACTION!A23 -> 13 | B15: =PROPER(ACTION!B23) | C15: =ACTION!C23 -> 0 | D15: =ACTION!D23 -> 0 | E15: =ACTION!E23 -> 0 | F15: =ACTION!F23 -> 0 | G15: =ACTION!G23 -> 0 | J15: =ACTION!K23 -> 0 | K15: =ACTION!L23 -> 0
... A26: =ACTION!A34 -> 24 | B26: =PROPER(ACTION!B34) | C26: =ACTION!C34 -> 0 | D26: =ACTION!D34 -> 0 | E26: =ACTION!E34 -> 0 | F26: =ACTION!F34 -> 0 | G26: =ACTION!G34 -> 0 | J26: =ACTION!K34 -> 0 | K26: =ACTION!L34 -> 0

Sheet Contacts
A4: Name | B4: Compagny | C4: Work function | D4: Phone # | E4: Email | F4: NOTES
A5: =PROPER(ACTION!B11) | B5: =PROPER(ACTION!C11) -> Pwo Canada Inc | C5: =ACTION!D11 -> 0 | D5: =ACTION!E11 -> 0 | E5: =ACTION!F11 -> 0
A6: =PROPER(ACTION!B12) | B6: =PROPER(ACTION!C12) | C6: =ACTION!D12 -> 0 | D6: =ACTION!E12 -> 0 | E6: =ACTION!F12 -> 0
A7: =PROPER(ACTION!B13) | B7: =PROPER(ACTION!C13) | C7: =ACTION!D13 -> 0 | D7: =ACTION!E13 -> 0 | E7: =ACTION!F13 -> 0
A8: =PROPER(ACTION!B14) | B8: =PROPER(ACTION!C14) | C8: =ACTION!D14 -> 0 | D8: =ACTION!E14 -> 0 | E8: =ACTION!F14 -> 0
A9: =PROPER(ACTION!B15) | B9: =PROPER(ACTION!C15) | C9: =ACTION!D15 -> 0 | D9: =ACTION!E15 -> 0 | E9: =ACTION!F15 -> 0
A10: =PROPER(ACTION!B16) | B10: =PROPER(ACTION!C16) | C10: =ACTION!D16 -> 0 | D10: =ACTION!E16 -> 0 | E10: =ACTION!F16 -> 0
A11: =PROPER(ACTION!B17) | B11: =PROPER(ACTION!C17) | C11: =ACTION!D17 -> 0 | D11: =ACTION!E17 -> 0 | E11: =ACTION!F17 -> 0
A12: =PROPER(ACTION!B18) | B12: =PROPER(ACTION!C18) | C12: =ACTION!D18 -> 0 | D12: =ACTION!E18 -> 0 | E12: =ACTION!F18 -> 0
A13: =PROPER(ACTION!B19) | B13: =PROPER(ACTION!C19) | C13: =ACTION!D19 -> 0 | D13: =ACTION!E19 -> 0 | E13: =ACTION!F19 -> 0
A14: =PROPER(ACTION!B20) | B14: =PROPER(ACTION!C20) | C14: =ACTION!D20 -> 0 | D14: =ACTION!E20 -> 0 | E14: =ACTION!F20 -> 0
A15: =PROPER(ACTION!B21) | B15: =PROPER(ACTION!C21) | C15: =ACTION!D21 -> 0 | D15: =ACTION!E21 -> 0 | E15: =ACTION!F21 -> 0
A16: =PROPER(ACTION!B22) | B16: =PROPER(ACTION!C22) | C16: =ACTION!D22 -> 0 | D16: =ACTION!E22 -> 0 | E16: =ACTION!F22 -> 0
... A28: =PROPER(ACTION!B34) | B28: =PROPER(ACTION!C34) | C28: =ACTION!D34 -> 0 | D28: =ACTION!E34 -> 0 | E28: =ACTION!F34 -> 0
