Workbook
Name Mois: Extraction!$A$4:$A9910
Name Société: Extraction!$B$4:$B9910

Sheet Extraction
H1: Extraction totale
A3: Mois | B3: Société | C3: Etablissement | F3: Département | G3: Matricule | H3: Nom | I3: Prénom | J3: Sexe | K3: Naissance | L3: Code postal domicile | M3: Situation famille | N3: Nb Enfants | O3: Unité | Q3: Activité | R3: Zone SAGE | S3: Zone Timedisc | T3: Profil Timedisc | U3: Garantie Contrat | V3: DFS | W3: Catégorie | X3: Qualification | Y3: Emploi | Z3: Groupe | AA3: Coefficient | AB3: Embauche | AC3: Ancien. | AD3: Contrat | AE3: Fin Période Essai | AF3: Fin cont. | AG3: Code motif départ | AH3: Motif départ | AI3: Horaire | AJ3: Type | AK3: Val. Sal. | AL3: T0 Moy. 12 mois | AM3: T0 M-3 | AN3: T0 M-2 | AO3: T0 M-1 | AP3: T0 | AQ3: TSEG | AR3: TSE | AS3: Conduite | AT3: Travail | AU3: Dispo | AV3: Dispo DE | AW3: Amplitude | AX3: Heures de nuit | AY3: Nb découchés | AZ3: Moyenne 12 mois nb découchés | BA3: Nb jours disque | BB3: Frais déplacement TDISC | BC3: Frais professionnel TDISC | BD3: CP | BE3: JF | BF3: EVF | BG3: RM | BH3: RE | BI3: RO | BJ3: RC | BK3: RCRA | BL3: RCRM | BM3: RCN | BN3: TPA | BO3: TM | BP3: DISK | BQ3: DEL | BR3: DP | BS3: FORM | BT3: APPR | BU3: CPJS | BV3: RCJS | BW3: ROJS | BX3: RCRS | BY3: CPC | BZ3: CPRE | CA3: AAR | CB3: REXT | CC3: RTT | CD3: MAL | CE3: ATMP | CF3: CPN | CG3: CMAT | CH3: TERA | CI3: CPAR | CJ3: GREV | CK3: CSS | CL3: ABS | CM3: MAP | CN3: DCIF | CO3: Absence NON REM SAGE | CP3: Frais déplacement SAGE | CQ3: Frais professionnel SAGE | CR3: Compteur CP N-1 Sage | CS3: Compteur CP Sage | CT3: Nb jours acquisiton CP | CU3: Compteur RCRA M-1 | CV3: Compteur RCRA M | CW3: Compteur RCRM M-1 | CX3: RCRM acquis | CY3: Compteur RCRM M | CZ3: Compteur RO M-1 | DA3: Compteur RO M | DB3: Compteur RC M-1 | DC3: Compteur RC M | DD3: Compteur modulation M-1 | DE3: Compteur modulation M | DF3: Prime Activité spécifique | DG3: Indemnités Kms | DH3: Vu avec Responsable | DI3: Heures à payer | DJ3: Profil à appliquer | DK3: Commentaires | DL3: Nb découchés M-3 | DM3: Nb découchés M-2 | DN3: Nb découchés M-1 | DO3: Amplitude M-3 | DP3: Amplitude M-2 | DQ3: Amplitude M-1 | DR3: Moyenne 12 mois amplitude | DS3: TSEG M-3 | DT3: TSEG M-2 | DU3: TSEG M-1 | DV3: TSE M-3 | DW3: TSE M-2 | DX3: TSE M-1 | DY3: Kilomètres effectués | DZ3: Téléphone professionnel | EA3: Sorti | EB3: Prime Gazole | EC3: Visite Médicale | ED3: Visite Permis | EE3: FCO | EF3: ADR | EG3: Départ | EH3: Adresse | EI3: Complément | EJ3: Commune | EK3: SST | EL3: Autorisation Conduite | EM3: CACES Grue R390 | EN3: Incendie | EO3: CHSCT | EP3: Electrique | EQ3: RPS | ER3: CACES R389 | ES3: Autres CACES | ET3: Salarié Protégé | EU3: Conduite continue illégale M-3 | EV3: Conduite continue illégale M-2 | EW3: Conduite continue illégale M-1 | EX3: Conduite continue illégale | EY3: Conduite journalière excessive M-3 | EZ3: Conduite journalière excessive M-2 | FA3: Conduite journalière excessive M-1 | FB3: Conduite journalière excessive | FC3: Extension conduite journalière impossible M-3 | FD3: Extension conduite journalière impossible M-2 | FE3: Extension conduite journalière impossible M-1 | FF3: Extension conduite journalière impossible | FG3: Conduite hebdomadaire excessive M-3 | FH3: Conduite hebdomadaire excessive M-2 | FI3: Conduite hebdomadaire excessive M-1 | FJ3: Conduite hebdomadaire excessive | FK3: Conduite bihebdomadaire excessive M-3 | FL3: Conduite bihebdomadaire excessive M-2 | FM3: Conduite bihebdomadaire excessive M-1 | FN3: Conduite bihebdomadaire excessive | FO3: Repos journalier continu insuffisant M-3 | FP3: Repos journalier continu insuffisant M-2 | FQ3: Repos journalier continu insuffisant M-1 | FR3: Repos journalier continu insuffisant | FS3: Réduction repos journalier impossible M-3 | FT3: Réduction repos journalier impossible M-2 | FU3: Réduction repos journalier impossible M-1 | FV3: Réduction repos journalier impossible | FW3: Temps entre 2 repos hebdomadaires excessif M-3 | FX3: Temps entre 2 repos hebdomadaires excessif M-2 | FY3: Temps entre 2 repos hebdomadaires excessif M-1 | FZ3: Temps entre 2 repos hebdomadaires excessif | GA3: Réduction temps de repos hebdomadaire impossible M-3 | GB3: Réduction temps de repos hebdomadaire impossible M-2 | GC3: Réduction temps de repos hebdomadaire impossible M-1 | GD3: Réduction temps de repos hebdomadaire impossible | GE3: Repos hebdomadaire sur 2 semaines insuffisant M-3 | GF3: Repos hebdomadaire sur 2 semaines insuffisant M-2 | GG3: Repos hebdomadaire sur 2 semaines insuffisant M-1 | GH3: Repos hebdomadaire sur 2 semaines insuffisant | GI3: Temps service nuit excessif M-3 | GJ3: Temps service nuit excessif M-2 | GK3: Temps service nuit excessif M-1 | GL3: Temps service nuit excessif | GM3: Repos insuffisant sur service>6H M-3 | GN3: Repos insuffisant sur service>6H M-2 | GO3: Repos insuffisant sur service>6H M-1 | GP3: Repos insuffisant sur service>6H | GQ3: Repos insuffisant sur service>9H M-3 | GR3: Repos insuffisant sur service>9H M-2 | GS3: Repos insuffisant sur service>9H M-1 | GT3: Repos insuffisant sur service>9H | GU3: Temps service journalier excessif M-3 | GV3: Temps service journalier excessif M-2 | GW3: Temps service journalier excessif M-1 | GX3: Temps service journalier excessif | GY3: Service hebdomadaire sur semaine isolée excessif M-3 | GZ3: Service hebdomadaire sur semaine isolée excessif M-2 | HA3: Service hebdomadaire sur semaine isolée excessif M-1 | HB3: Service hebdomadaire sur semaine isolée excessif | HC3: Vitesse >= 95km/h M-3 | HD3: Vitesse >= 95km/h M-2 | HE3: Vitesse >= 95km/h M-1 | HF3: Vitesse >= 95km/h | HG3: Moyenne 12 mois Conduite continue illégale | HH3: Moyenne 12 mois Conduite journalière excessive | HI3: Moyenne 12 mois Extension conduite journalière impossible | HJ3: Moyenne 12 mois Conduite hebdomadaire excessive | HK3: Moyenne 12 mois Conduite bihebdomadaire excessive | HL3: Moyenne 12 mois Repos journalier continu insuffisant | HM3: Moyenne 12 mois Réduction repos journalier impossible | HN3: Moyenne 12 mois Temps entre 2 repos hebdomadaires excessif | HO3: Moyenne 12 mois Réduction temps de repos hebdomadaire impossible | HP3: Moyenne 12 mois Repos hebdomadaire sur 2 semaines insuffisant | HQ3: Moyenne 12 mois Temps service nuit excessif | HR3: Moyenne 12 mois Repos insuffisant sur service>6H | HS3: Moyenne 12 mois Repos insuffisant sur service>9H | HT3: Moyenne 12 mois Temps service journalier excessif | HU3: Moyenne 12 mois Service hebdomadaire sur semaine isolée excessif | HV3: Moyenne 12 mois Vitesse >= 95km/h | HW3: Téléphone | HX3: Téléphone 2 | HY3: Total primes | HZ3: Travailleur handicapé | IA3: Taux invalidité | IB3: Date de fin Cotorep | IC3: Kilomètres effectués M-3 | ID3: Kilomètres effectués M-2 | IE3: Kilomètres effectués M-1 | IF3: Heures payées M-3 | IG3: Heures payées M-2 | IH3: Heures payées M-1 | II3: Heures payées | IJ3: Moyenne 12 mois Heures payées | IK3: Nb jours Pénibilité M-3 | IL3: Nb jours Pénibilité M-2 | IM3: Nb jours Pénibilité M-1 | IN3: Nb jours Pénibilité | IO3: Nb jours Pénibilité 2017 | IP3: Moyenne 12 mois Nb jours Pénibilité | IQ3: Heures de nuit 2017 | IR3: Clause de non concurrence | IS3: Aide à l'embauche | IT3: Délégation de pouvoir | IU3: Rendez-vous FCO | IV3: Commentaire Visite Médicale | IW3: Commentaire Visite Permis | IX3: EX | IY3: Besoin ponctuel | IZ3: Prime Gazole M-3 | JA3: Prime Gazole M-2 | JB3: Prime Gazole M-1
A4: Mars | B4: S01 MASIFOC | H4: SAMSON | I4: MORGAN | K4: 24456 | BD4: 0 j | BE4: 0 j | BF4: 0 j | BG4: 0 h | BH4: 0 h | BI4: 0 j | BJ4: 0 j | BK4: 0 h | BL4: 0 h | BM4: 0 h | BN4: 0 h | BO4: 0 h | BP4: 0 h | BQ4: 0 h | BR4: 0 h | BS4: 0 h | BT4: 0 j | BU4: 0 j | BV4: 0 h | BW4: 0 h | BX4: 0 h | BY4: 0 j | BZ4: 0 j | CA4: 0 j | CB4: 0 j | CC4: 0 j | CD4: 0 j | CE4: 0 j | CF4: 0 j | CG4: 0 j | CH4: 0 h | CI4: 0 j | CJ4: 0 h | CK4: 0 j | CL4: 0 j | CM4: 0 j | CN4: 0 j
A5: Mars | B5: S08 SAMIDOC BUTION | H5: COUTINHO | I5: FERNANDO | K5: 26849 | BD5: 0 j | BE5: 0 j | BF5: 4 j | BG5: 0 h | BH5: 0 h | BI5: 0 j | BJ5: 0 j | BK5: 0 h | BL5: 0 h | BM5: 0 h | BN5: 0 h | BO5: 0 h | BP5: 0 h | BQ5: 0 h | BR5: 0 h | BS5: 0 h | BT5: 0 j | BU5: 0 j | BV5: 0 h | BW5: 0 h | BX5: 0 h | BY5: 0 j | BZ5: 0 j | CA5: 0 j | CB5: 0 j | CC5: 0 j | CD5: 0 j | CE5: 0 j | CF5: 0 j | CG5: 0 j | CH5: 0 h | CI5: 0 j | CJ5: 0 h | CK5: 0 j | CL5: 0 j | CM5: 0 j | CN5: 0 j
A6: Mars | B6: S08 SAMIDOC BUTION | H6: DRIF | I6: T | K6: 26414 | BD6: 0 j | BE6: 0 j | BF6: 0 j | BG6: 0 h | BH6: 0 h | BI6: 0 j | BJ6: 0 j | BK6: 0 h | BL6: 0 h | BM6: 0 h | BN6: 0 h | BO6: 0 h | BP6: 0 h | BQ6: 0 h | BR6: 0 h | BS6: 0 h | BT6: 0 j | BU6: 0 j | BV6: 0 h | BW6: 0 h | BX6: 0 h | BY6: 0 j | BZ6: 0 j | CA6: 0 j | CB6: 0 j | CC6: 0 j | CD6: 0 j | CE6: 0 j | CF6: 0 j | CG6: 0 j | CH6: 0 h | CI6: 0 j | CJ6: 0 h | CK6: 0 j | CL6: 0 j | CM6: 0 j | CN6: 0 j
A7: Mars | B7: S08 SAMIDOC BUTION | H7: FOFANA | I7: GUEIDA | K7: 25875 | BD7: 0 j | BE7: 0 j | BF7: 0 j | BG7: 0 h | BH7: 0 h | BI7: 0 j | BJ7: 0 j | BK7: 0 h | BL7: 0 h | BM7: 0 h | BN7: 0 h | BO7: 0 h | BP7: 0 h | BQ7: 0 h | BR7: 0 h | BS7: 0 h | BT7: 0 j | BU7: 0 j | BV7: 0 h | BW7: 0 h | BX7: 0 h | BY7: 0 j | BZ7: 0 j | CA7: 0 j | CB7: 0 j | CC7: 0 j | CD7: 0 j | CE7: 0 j | CF7: 0 j | CG7: 0 j | CH7: 0 h | CI7: 0 j | CJ7: 0 h | CK7: 0 j | CL7: 0 j | CM7: 0 j | CN7: 0 j
A8: Avril | B8: S01 MASIFOC | H8: SAMSON | I8: MORGAN | K8: 24456 | BD8: 0 j | BE8: 0 j | BF8: 0 j | BG8: 0 h | BH8: 0 h | BI8: 0 j | BJ8: 0 j | BK8: 0 h | BL8: 0 h | BM8: 0 h | BN8: 0 h | BO8: 0 h | BP8: 0 h | BQ8: 0 h | BR8: 0 h | BS8: 0 h | BT8: 0 j | BU8: 0 j | BV8: 0 h | BW8: 0 h | BX8: 0 h | BY8: 0 j | BZ8: 0 j | CA8: 0 j | CB8: 0 j | CC8: 0 j | CD8: 0 j | CE8: 0 j | CF8: 0 j | CG8: 0 j | CH8: 0 h | CI8: 0 j | CJ8: 0 h | CK8: 0 j | CL8: 0 j | CM8: 0 j | CN8: 0 j
A9: Avril | B9: S06 BONFOUIN | H9: BOURDON | I9: ABEILLE | K9: 31935 | BD9: 0 j | BE9: 1 j | BF9: 0 j | BG9: 0 h | BH9: 0 h | BI9: 0 j | BJ9: 0 j | BK9: 0 h | BL9: 0 h | BM9: 0 h | BN9: 0 h | BO9: 95,6 h | BP9: 0 h | BQ9: 23,4 h | BR9: 0 h | BS9: 0 h | BT9: 0 j | BU9: 0 j | BV9: 0 h | BW9: 0 h | BX9: 0 h | BY9: 0 j | BZ9: 0 j | CA9: 0 j | CB9: 0 j | CC9: 0 j | CD9: 0 j | CE9: 0 j | CF9: 0 j | CG9: 0 j | CH9: 0 h | CI9: 0 j | CJ9: 0 h | CK9: 0 j | CL9: 0 j | CM9: 0 j | CN9: 0 j
A10: Avril | B10: S06 BONFOUIN | H10: ROCHETEAU | I10: DOMINIQUE | K10: 23755 | BD10: 0 j | BE10: 1 j | BF10: 0 j | BG10: 0 h | BH10: 0 h | BI10: 0 j | BJ10: 0 j | BK10: 0 h | BL10: 0 h | BM10: 0 h | BN10: 0 h | BO10: 2 h | BP10: 0 h | BQ10: 42,92 h | BR10: 0 h | BS10: 0 h | BT10: 0 j | BU10: 0 j | BV10: 0 h | BW10: 0 h | BX10: 0 h | BY10: 0 j | BZ10: 0 j | CA10: 0 j | CB10: 0 j | CC10: 0 j | CD10: 0 j | CE10: 0 j | CF10: 0 j | CG10: 0 j | CH10: 0 h | CI10: 0 j | CJ10: 0 h | CK10: 0 j | CL10: 0 j | CM10: 0 j | CN10: 0 j
A11: Avril | B11: S06 BONFOUIN | H11: GARCIA | I11: RUDY | K11: 26117 | BD11: 0 j | BE11: 1 j | BF11: 0 j | BG11: 0 h | BH11: 0 h | BI11: 0 j | BJ11: 0 j | BK11: 0 h | BL11: 0 h | BM11: 0 h | BN11: 0 h | BO11: 0 h | BP11: 0 h | BQ11: 0 h | BR11: 0 h | BS11: 0 h | BT11: 0 j | BU11: 0 j | BV11: 0 h | BW11: 0 h | BX11: 0 h | BY11: 0 j | BZ11: 0 j | CA11: 0 j | CB11: 0 j | CC11: 0 j | CD11: 0 j | CE11: 0 j | CF11: 0 j | CG11: 0 j | CH11: 0 h | CI11: 0 j | CJ11: 0 h | CK11: 0 j | CL11: 0 j | CM11: 0 j | CN11: 0 j
A12: Avril | B12: S06 BONFOUIN | H12: FOURNIER | I12: LAURENT | K12: 34185 | BD12: 0 j | BE12: 1 j | BF12: 0 j | BG12: 0 h | BH12: 0 h | BI12: 0 j | BJ12: 0 j | BK12: 0 h | BL12: 0 h | BM12: 0 h | BN12: 0 h | BO12: 0 h | BP12: 0 h | BQ12: 0 h | BR12: 0 h | BS12: 0 h | BT12: 0 j | BU12: 0 j | BV12: 0 h | BW12: 0 h | BX12: 0 h | BY12: 0 j | BZ12: 0 j | CA12: 0 j | CB12: 0 j | CC12: 0 j | CD12: 0 j | CE12: 0 j | CF12: 0 j | CG12: 0 j | CH12: 0 h | CI12: 0 j | CJ12: 0 h | CK12: 0 j | CL12: 0 j | CM12: 0 j | CN12: 0 j

Sheet Absence par société
B3: ABSENCE NON IMPACTANTES | AB3: ABSENCE IMPACTANTES
A4: Mars
B5: CP | C5: JF | D5: EVF | E5: RM | F5: RE | G5: RO | H5: RC | I5: RCRA | J5: RCRM | K5: RCN | L5: TPA | M5: TM | N5: DISK | O5: DEL | P5: DP | Q5: FORM | R5: APPR | S5: CPJS | T5: RCJS | U5: ROJS | V5: RCRS | W5: CPC | X5: CPRE | Y5: AAR | Z5: REXT | AA5: RTT | AB5: MAL | AC5: ATMP | AD5: CPN | AE5: CMAT | AF5: TERA | AG5: CPAR | AH5: GREV | AI5: CSS | AJ5: ABS | AK5: MAP | AL5: DCIF | AM5: Total jours | AN5: Total heures | AO5: Effectif des entreprises
A6: MASIFOC | B6: =SUMPRODUCT((LEFT(Extraction!$BD4:$BD7,LEN(Extraction!BD4:BD7)-1))*(Extraction!$B4:$B7="S01 MASIFOC")*(Extraction!$A$4:$A7="Mars")) -> 0 | C6: =SUMPRODUCT((LEFT(Extraction!$BD4:$BD7,LEN(Extraction!BE4:BE7)-1))*(Extraction!$B4:$B7="S01 MASIFOC")*(Extraction!$A$4:$A7="Mars")) -> 0 | D6: =SUMPRODUCT((LEFT(Extraction!$BD4:$BD7,LEN(Extraction!BF4:BF7)-1))*(Extraction!$B4:$B7="S01 MASIFOC")*(Extraction!$A$4:$A7="Mars")) -> 0 | E6: =SUMPRODUCT((LEFT(Extraction!$BD4:$BD7,LEN(Extraction!BG4:BG7)-1))*(Extraction!$B4:$B7="S01 MASIFOC")*(Extraction!$A$4:$A7="Mars")) -> 0 | F6: =SUMPRODUCT((LEFT(Extraction!$BD4:$BD7,LEN(Extraction!BH4:BH7)-1))*(Extraction!$B4:$B7="S01 MASIFOC")*(Extraction!$A$4:$A7="Mars")) -> 0 | G6: =SUMPRODUCT((LEFT(Extraction!$BD4:$BD7,LEN(Extraction!BI4:BI7)-1))*(Extraction!$B4:$B7="S01 MASIFOC")*(Extraction!$A$4:$A7="Mars")) -> 0 | H6: =SUMPRODUCT((LEFT(Extraction!$BD4:$BD7,LEN(Extraction!BJ4:BJ7)-1))*(Extraction!$B4:$B7="S01 MASIFOC")*(Extraction!$A$4:$A7="Mars")) -> 0 | I6: =SUMPRODUCT((LEFT(Extraction!$BD4:$BD7,LEN(Extraction!BK4:BK7)-1))*(Extraction!$B4:$B7="S01 MASIFOC")*(Extraction!$A$4:$A7="Mars")) -> 0 | ... AL6: =SUMPRODUCT((LEFT(Extraction!$BD4:$BD7,LEN(Extraction!CN4:CN7)-1))*(Extraction!$B4:$B7="S01 MASIFOC")*(Extraction!$A$4:$A7="Mars")) -> 0 | AM6: =SUM(B6:D6,G6:H6,R6:S6,W6:AE6,AG6,AI6:AL6) -> 0 | AN6: =SUM(E6:F6,I6:Q6,T6:V6,AF6,AH6) -> 0
A7: BONFOUIN | B7: =SUMPRODUCT((LEFT(Extraction!BD4:BD7,LEN(Extraction!BD4:BD7)-1))*(Extraction!$B4:$B7="S06 BONFOUIN")*(Extraction!$A$4:$A7="Mars")) -> 0 | C7: =SUMPRODUCT((LEFT(Extraction!BE4:BE7,LEN(Extraction!BE4:BE7)-1))*(Extraction!$B4:$B7="S06 BONFOUIN")*(Extraction!$A$4:$A7="Mars")) -> 0 | D7: =SUMPRODUCT((LEFT(Extraction!BF4:BF7,LEN(Extraction!BF4:BF7)-1))*(Extraction!$B4:$B7="S06 BONFOUIN")*(Extraction!$A$4:$A7="Mars")) -> 0 | E7: =SUMPRODUCT((LEFT(Extraction!BG4:BG7,LEN(Extraction!BG4:BG7)-1))*(Extraction!$B4:$B7="S06 BONFOUIN")*(Extraction!$A$4:$A7="Mars")) -> 0 | F7: =SUMPRODUCT((LEFT(Extraction!BH4:BH7,LEN(Extraction!BH4:BH7)-1))*(Extraction!$B4:$B7="S06 BONFOUIN")*(Extraction!$A$4:$A7="Mars")) -> 0 | G7: =SUMPRODUCT((LEFT(Extraction!BI4:BI7,LEN(Extraction!BI4:BI7)-1))*(Extraction!$B4:$B7="S06 BONFOUIN")*(Extraction!$A$4:$A7="Mars")) -> 0 | H7: =SUMPRODUCT((LEFT(Extraction!BJ4:BJ7,LEN(Extraction!BJ4:BJ7)-1))*(Extraction!$B4:$B7="S06 BONFOUIN")*(Extraction!$A$4:$A7="Mars")) -> 0 | I7: =SUMPRODUCT((LEFT(Extraction!BK4:BK7,LEN(Extraction!BK4:BK7)-1))*(Extraction!$B4:$B7="S06 BONFOUIN")*(Extraction!$A$4:$A7="Mars")) -> 0 | ... AL7: =SUMPRODUCT((LEFT(Extraction!CN4:CN7,LEN(Extraction!CN4:CN7)-1))*(Extraction!$B4:$B7="S06 BONFOUIN")*(Extraction!$A$4:$A7="Mars")) -> 0 | AM7: =SUM(B7:D7,G7:H7,R7:S7,W7:AE7,AG7,AI7:AL7) -> 0 | AN7: =SUM(E7:F7,I7:Q7,T7:V7,AF7,AH7) -> 0
A8: SAMIDOC BUTION | B8: =SUMPRODUCT((LEFT(Extraction!BD4:BD7,LEN(Extraction!BD4:BD7)-1))*(Extraction!$B$4:$B7="S08 SAMIDOC BUTION")*(Extraction!$A$4:$A7="Mars")) -> 0 | C8: =SUMPRODUCT((LEFT(Extraction!BE4:BE7,LEN(Extraction!BE4:BE7)-1))*(Extraction!$B$4:$B7="S08 SAMIDOC BUTION")*(Extraction!$A$4:$A7="Mars")) -> 0 | D8: =SUMPRODUCT((LEFT(Extraction!BF4:BF7,LEN(Extraction!BF4:BF7)-1))*(Extraction!$B$4:$B7="S08 SAMIDOC BUTION")*(Extraction!$A$4:$A7="Mars")) -> 4 | E8: =SUMPRODUCT((LEFT(Extraction!BG4:BG7,LEN(Extraction!BG4:BG7)-1))*(Extraction!$B$4:$B7="S08 SAMIDOC BUTION")*(Extraction!$A$4:$A7="Mars")) -> 0 | F8: =SUMPRODUCT((LEFT(Extraction!BH4:BH7,LEN(Extraction!BH4:BH7)-1))*(Extraction!$B$4:$B7="S08 SAMIDOC BUTION")*(Extraction!$A$4:$A7="Mars")) -> 0 | G8: =SUMPRODUCT((LEFT(Extraction!BI4:BI7,LEN(Extraction!BI4:BI7)-1))*(Extraction!$B$4:$B7="S08 SAMIDOC BUTION")*(Extraction!$A$4:$A7="Mars")) -> 0 | H8: =SUMPRODUCT((LEFT(Extraction!BJ4:BJ7,LEN(Extraction!BJ4:BJ7)-1))*(Extraction!$B$4:$B7="S08 SAMIDOC BUTION")*(Extraction!$A$4:$A7="Mars")) -> 0 | I8: =SUMPRODUCT((LEFT(Extraction!BK4:BK7,LEN(Extraction!BK4:BK7)-1))*(Extraction!$B$4:$B7="S08 SAMIDOC BUTION")*(Extraction!$A$4:$A7="Mars")) -> 0 | ... AL8: =SUMPRODUCT((LEFT(Extraction!CN4:CN7,LEN(Extraction!CN4:CN7)-1))*(Extraction!$B$4:$B7="S08 SAMIDOC BUTION")*(Extraction!$A$4:$A7="Mars")) -> 0 | AM8: =SUM(B8:D8,G8:H8,R8:S8,W8:AE8,AG8,AI8:AL8) -> 4 | AN8: =SUM(E8:F8,I8:Q8,T8:V8,AF8,AH8) -> 0
A28: Total | B28: =SUM(B6:B27) -> 0 | C28: =SUM(C6:C27) -> 0 | D28: =SUM(D6:D27) -> 4 | E28: =SUM(E6:E27) -> 0 | F28: =SUM(F6:F27) -> 0 | G28: =SUM(G6:G27) -> 0 | H28: =SUM(H6:H27) -> 0 | I28: =SUM(I6:I27) -> 0 | ... AL28: =SUM(AL6:AL27) -> 0 | AM28: =SUM(B28:D28,G28:H28,R28:S28,W28:AE28,AG28,AI28:AL28) -> 4 | AN28: =SUM(E28:F28,I28:Q28,T28:V28,AF28,AH28) -> 0
B31: ABSENCE NON IMPACTANTES | AB31: ABSENCE IMPACTANTES
A32: Avril
B33: CP | C33: JF | D33: EVF | E33: RM | F33: RE | G33: RO | H33: RC | I33: RCRA | J33: RCRM | K33: RCN | L33: TPA | M33: TM | N33: DISK | O33: DEL | P33: DP | Q33: FORM | R33: APPR | S33: CPJS | T33: RCJS | U33: ROJS | V33: RCRS | W33: CPC | X33: CPRE | Y33: AAR | Z33: REXT | AA33: RTT | AB33: MAL | AC33: ATMP | AD33: CPN | AE33: CMAT | AF33: TERA | AG33: CPAR | AH33: GREV | AI33: CSS | AJ33: ABS | AK33: MAP | AL33: DCIF | AM33: Total jours | AN33: Total heures
A34: MASIFOC | B34: =SUMPRODUCT((LEFT(Extraction!BD4:BD7,LEN(Extraction!BD4:BD7)-1))*(Extraction!$B4:$B7="S01 MASIFOC")*(Extraction!$A$4:$A7="Avril")) -> 0 | C34: =SUMPRODUCT((LEFT(Extraction!BE4:BE7,LEN(Extraction!BE4:BE7)-1))*(Extraction!$B4:$B7="S01 MASIFOC")*(Extraction!$A$4:$A7="Avril")) -> 0 | D34: =SUMPRODUCT((LEFT(Extraction!BF4:BF7,LEN(Extraction!BF4:BF7)-1))*(Extraction!$B4:$B7="S01 MASIFOC")*(Extraction!$A$4:$A7="Avril")) -> 0 | E34: =SUMPRODUCT((LEFT(Extraction!BG4:BG7,LEN(Extraction!BG4:BG7)-1))*(Extraction!$B4:$B7="S01 MASIFOC")*(Extraction!$A$4:$A7="Avril")) -> 0 | F34: =SUMPRODUCT((LEFT(Extraction!BH4:BH7,LEN(Extraction!BH4:BH7)-1))*(Extraction!$B4:$B7="S01 MASIFOC")*(Extraction!$A$4:$A7="Avril")) -> 0 | G34: =SUMPRODUCT((LEFT(Extraction!BI4:BI7,LEN(Extraction!BI4:BI7)-1))*(Extraction!$B4:$B7="S01 MASIFOC")*(Extraction!$A$4:$A7="Avril")) -> 0 | H34: =SUMPRODUCT((LEFT(Extraction!BJ4:BJ7,LEN(Extraction!BJ4:BJ7)-1))*(Extraction!$B4:$B7="S01 MASIFOC")*(Extraction!$A$4:$A7="Avril")) -> 0 | I34: =SUMPRODUCT((LEFT(Extraction!BK4:BK7,LEN(Extraction!BK4:BK7)-1))*(Extraction!$B4:$B7="S01 MASIFOC")*(Extraction!$A$4:$A7="Avril")) -> 0 | ... AL34: =SUMPRODUCT((LEFT(Extraction!CN4:CN7,LEN(Extraction!CN4:CN7)-1))*(Extraction!$B4:$B7="S01 MASIFOC")*(Extraction!$A$4:$A7="Avril")) -> 0 | AM34: =SUM(B34:D34,G34:H34,R34:S34,W34:AE34,AG34,AI34:AL34) -> 0 | AN34: =SUM(E34:F34,I34:Q34,T34:V34,AF34,AH34) -> 0
A35: BONFOUIN | B35: =SUMPRODUCT((LEFT(Extraction!BD4:BD7,LEN(Extraction!BD4:BD7)-1))*(Extraction!$B4:$B7="S06 BONFOUIN")*(Extraction!$A$4:$A7="Avril")) -> 0 | C35: =SUMPRODUCT((LEFT(Extraction!BE4:BE7,LEN(Extraction!BE4:BE7)-1))*(Extraction!$B4:$B7="S06 BONFOUIN")*(Extraction!$A$4:$A7="Avril")) -> 0 | D35: =SUMPRODUCT((LEFT(Extraction!BF4:BF7,LEN(Extraction!BF4:BF7)-1))*(Extraction!$B4:$B7="S06 BONFOUIN")*(Extraction!$A$4:$A7="Avril")) -> 0 | E35: =SUMPRODUCT((LEFT(Extraction!BG4:BG7,LEN(Extraction!BG4:BG7)-1))*(Extraction!$B4:$B7="S06 BONFOUIN")*(Extraction!$A$4:$A7="Avril")) -> 0 | F35: =SUMPRODUCT((LEFT(Extraction!BH4:BH7,LEN(Extraction!BH4:BH7)-1))*(Extraction!$B4:$B7="S06 BONFOUIN")*(Extraction!$A$4:$A7="Avril")) -> 0 | G35: =SUMPRODUCT((LEFT(Extraction!BI4:BI7,LEN(Extraction!BI4:BI7)-1))*(Extraction!$B4:$B7="S06 BONFOUIN")*(Extraction!$A$4:$A7="Avril")) -> 0 | H35: =SUMPRODUCT((LEFT(Extraction!BJ4:BJ7,LEN(Extraction!BJ4:BJ7)-1))*(Extraction!$B4:$B7="S06 BONFOUIN")*(Extraction!$A$4:$A7="Avril")) -> 0 | I35: =SUMPRODUCT((LEFT(Extraction!BK4:BK7,LEN(Extraction!BK4:BK7)-1))*(Extraction!$B4:$B7="S06 BONFOUIN")*(Extraction!$A$4:$A7="Avril")) -> 0 | ... AL35: =SUMPRODUCT((LEFT(Extraction!CN4:CN7,LEN(Extraction!CN4:CN7)-1))*(Extraction!$B4:$B7="S06 BONFOUIN")*(Extraction!$A$4:$A7="Avril")) -> 0 | AM35: =SUM(B35:D35,G35:H35,R35:S35,W35:AE35,AG35,AI35:AL35) -> 0 | AN35: =SUM(E35:F35,I35:Q35,T35:V35,AF35,AH35) -> 0
A36: SAMIDOC BUTION | B36: =SUMPRODUCT((LEFT(Extraction!BD4:BD7,LEN(Extraction!BD4:BD7)-1))*(Extraction!$B4:$B7="S08 SAMIDOC BUTION")*(Extraction!$A$4:$A7="Avril")) -> 0 | C36: =SUMPRODUCT((LEFT(Extraction!BE4:BE7,LEN(Extraction!BE4:BE7)-1))*(Extraction!$B4:$B7="S08 SAMIDOC BUTION")*(Extraction!$A$4:$A7="Avril")) -> 0 | D36: =SUMPRODUCT((LEFT(Extraction!BF4:BF7,LEN(Extraction!BF4:BF7)-1))*(Extraction!$B4:$B7="S08 SAMIDOC BUTION")*(Extraction!$A$4:$A7="Avril")) -> 0 | E36: =SUMPRODUCT((LEFT(Extraction!BG4:BG7,LEN(Extraction!BG4:BG7)-1))*(Extraction!$B4:$B7="S08 SAMIDOC BUTION")*(Extraction!$A$4:$A7="Avril")) -> 0 | F36: =SUMPRODUCT((LEFT(Extraction!BH4:BH7,LEN(Extraction!BH4:BH7)-1))*(Extraction!$B4:$B7="S08 SAMIDOC BUTION")*(Extraction!$A$4:$A7="Avril")) -> 0 | G36: =SUMPRODUCT((LEFT(Extraction!BI4:BI7,LEN(Extraction!BI4:BI7)-1))*(Extraction!$B4:$B7="S08 SAMIDOC BUTION")*(Extraction!$A$4:$A7="Avril")) -> 0 | H36: =SUMPRODUCT((LEFT(Extraction!BJ4:BJ7,LEN(Extraction!BJ4:BJ7)-1))*(Extraction!$B4:$B7="S08 SAMIDOC BUTION")*(Extraction!$A$4:$A7="Avril")) -> 0 | I36: =SUMPRODUCT((LEFT(Extraction!BK4:BK7,LEN(Extraction!BK4:BK7)-1))*(Extraction!$B4:$B7="S08 SAMIDOC BUTION")*(Extraction!$A$4:$A7="Avril")) -> 0 | ... AL36: =SUMPRODUCT((LEFT(Extraction!CN4:CN7,LEN(Extraction!CN4:CN7)-1))*(Extraction!$B4:$B7="S08 SAMIDOC BUTION")*(Extraction!$A$4:$A7="Avril")) -> 0 | AM36: =SUM(B36:D36,G36:H36,R36:S36,W36:AE36,AG36,AI36:AL36) -> 0 | AN36: =SUM(E36:F36,I36:Q36,T36:V36,AF36,AH36) -> 0
A56: Total | B56: =SUM(B34:B55) -> 0 | C56: =SUM(C34:C55) -> 0 | D56: =SUM(D34:D55) -> 0 | E56: =SUM(E34:E55) -> 0 | F56: =SUM(F34:F55) -> 0 | G56: =SUM(G34:G55) -> 0 | H56: =SUM(H34:H55) -> 0 | I56: =SUM(I34:I55) -> 0 | ... AL56: =SUM(AL34:AL55) -> 0 | AM56: =SUM(B56:D56,G56:H56,R56:S56,W56:AE56,AG56,AI56:AL56) -> 0 | AN56: =SUM(E56:F56,I56:Q56,T56:V56,AF56,AH56) -> 0
B59: ABSENCE NON IMPACTANTES | AB59: ABSENCE IMPACTANTES
A60: Mai
B61: CP | C61: JF | D61: EVF | E61: RM | F61: RE | G61: RO | H61: RC | I61: RCRA | J61: RCRM | K61: RCN | L61: TPA | M61: TM | N61: DISK | O61: DEL | P61: DP | Q61: FORM | R61: APPR | S61: CPJS | T61: RCJS | U61: ROJS | V61: RCRS | W61: CPC | X61: CPRE | Y61: AAR | Z61: REXT | AA61: RTT | AB61: MAL | AC61: ATMP | AD61: CPN | AE61: CMAT | AF61: TERA | AG61: CPAR | AH61: GREV | AI61: CSS | AJ61: ABS | AK61: MAP | AL61: DCIF | AM61: Total jours | AN61: Total heures
B62: =SUMPRODUCT((LEFT(Extraction!BD4:BD7,LEN(Extraction!BD4:BD7)-1))*(Extraction!$B4:$B7="S01 COFISAM")*(Extraction!$A$4:$A7="Mai")) -> 0 | C62: =SUMPRODUCT((LEFT(Extraction!BE4:BE7,LEN(Extraction!BE4:BE7)-1))*(Extraction!$B4:$B7="S01 COFISAM")*(Extraction!$A$4:$A7="Mai")) -> 0 | D62: =SUMPRODUCT((LEFT(Extraction!BF4:BF7,LEN(Extraction!BF4:BF7)-1))*(Extraction!$B4:$B7="S01 COFISAM")*(Extraction!$A$4:$A7="Mai")) -> 0 | E62: =SUMPRODUCT((LEFT(Extraction!BG4:BG7,LEN(Extraction!BG4:BG7)-1))*(Extraction!$B4:$B7="S01 COFISAM")*(Extraction!$A$4:$A7="Mai")) -> 0 | F62: =SUMPRODUCT((LEFT(Extraction!BH4:BH7,LEN(Extraction!BH4:BH7)-1))*(Extraction!$B4:$B7="S01 COFISAM")*(Extraction!$A$4:$A7="Mai")) -> 0 | G62: =SUMPRODUCT((LEFT(Extraction!BI4:BI7,LEN(Extraction!BI4:BI7)-1))*(Extraction!$B4:$B7="S01 COFISAM")*(Extraction!$A$4:$A7="Mai")) -> 0 | H62: =SUMPRODUCT((LEFT(Extraction!BJ4:BJ7,LEN(Extraction!BJ4:BJ7)-1))*(Extraction!$B4:$B7="S01 COFISAM")*(Extraction!$A$4:$A7="Mai")) -> 0 | I62: =SUMPRODUCT((LEFT(Extraction!BK4:BK7,LEN(Extraction!BK4:BK7)-1))*(Extraction!$B4:$B7="S01 COFISAM")*(Extraction!$A$4:$A7="Mai")) -> 0 | ... AL62: =SUMPRODUCT((LEFT(Extraction!CN4:CN7,LEN(Extraction!CN4:CN7)-1))*(Extraction!$B4:$B7="S01 COFISAM")*(Extraction!$A$4:$A7="Mai")) -> 0 | AM62: =SUM(B62:D62,G62:H62,R62:S62,W62:AE62,AG62,AI62:AL62) -> 0 | AN62: =SUM(E62:F62,I62:Q62,T62:V62,AF62,AH62) -> 0
B63: =SUMPRODUCT((LEFT(Extraction!BD4:BD7,LEN(Extraction!BD4:BD7)-1))*(Extraction!$B4:$B7="S06 MALHERBE NORD")*(Extraction!$A$4:$A7="Mai")) -> 0 | C63: =SUMPRODUCT((LEFT(Extraction!BE4:BE7,LEN(Extraction!BE4:BE7)-1))*(Extraction!$B4:$B7="S06 MALHERBE NORD")*(Extraction!$A$4:$A7="Mai")) -> 0 | D63: =SUMPRODUCT((LEFT(Extraction!BF4:BF7,LEN(Extraction!BF4:BF7)-1))*(Extraction!$B4:$B7="S06 MALHERBE NORD")*(Extraction!$A$4:$A7="Mai")) -> 0 | E63: =SUMPRODUCT((LEFT(Extraction!BG4:BG7,LEN(Extraction!BG4:BG7)-1))*(Extraction!$B4:$B7="S06 MALHERBE NORD")*(Extraction!$A$4:$A7="Mai")) -> 0 | F63: =SUMPRODUCT((LEFT(Extraction!BH4:BH7,LEN(Extraction!BH4:BH7)-1))*(Extraction!$B4:$B7="S06 MALHERBE NORD")*(Extraction!$A$4:$A7="Mai")) -> 0 | G63: =SUMPRODUCT((LEFT(Extraction!BI4:BI7,LEN(Extraction!BI4:BI7)-1))*(Extraction!$B4:$B7="S06 MALHERBE NORD")*(Extraction!$A$4:$A7="Mai")) -> 0 | H63: =SUMPRODUCT((LEFT(Extraction!BJ4:BJ7,LEN(Extraction!BJ4:BJ7)-1))*(Extraction!$B4:$B7="S06 MALHERBE NORD")*(Extraction!$A$4:$A7="Mai")) -> 0 | I63: =SUMPRODUCT((LEFT(Extraction!BK4:BK7,LEN(Extraction!BK4:BK7)-1))*(Extraction!$B4:$B7="S06 MALHERBE NORD")*(Extraction!$A$4:$A7="Mai")) -> 0 | ... AL63: =SUMPRODUCT((LEFT(Extraction!CN4:CN7,LEN(Extraction!CN4:CN7)-1))*(Extraction!$B4:$B7="S06 MALHERBE NORD")*(Extraction!$A$4:$A7="Mai")) -> 0 | AM63: =SUM(B63:D63,G63:H63,R63:S63,W63:AE63,AG63,AI63:AL63) -> 0 | AN63: =SUM(E63:F63,I63:Q63,T63:V63,AF63,AH63) -> 0
B64: =SUMPRODUCT((LEFT(Extraction!BD4:BD7,LEN(Extraction!BD4:BD7)-1))*(Extraction!$B4:$B7="S08 MALHERBE FROID")*(Extraction!$A$4:$A7="Mai")) -> 0 | C64: =SUMPRODUCT((LEFT(Extraction!BE4:BE7,LEN(Extraction!BE4:BE7)-1))*(Extraction!$B$4:$B7="S08 MALHERBE FROID")*(Extraction!$A$4:$A7="Mai")) -> 0 | D64: =SUMPRODUCT((LEFT(Extraction!BF4:BF7,LEN(Extraction!BF4:BF7)-1))*(Extraction!$B$4:$B7="S08 MALHERBE FROID")*(Extraction!$A$4:$A7="Mai")) -> 0 | E64: =SUMPRODUCT((LEFT(Extraction!BG4:BG7,LEN(Extraction!BG4:BG7)-1))*(Extraction!$B$4:$B7="S08 MALHERBE FROID")*(Extraction!$A$4:$A7="Mai")) -> 0 | F64: =SUMPRODUCT((LEFT(Extraction!BH4:BH7,LEN(Extraction!BH4:BH7)-1))*(Extraction!$B$4:$B7="S08 MALHERBE FROID")*(Extraction!$A$4:$A7="Mai")) -> 0 | G64: =SUMPRODUCT((LEFT(Extraction!BI4:BI7,LEN(Extraction!BI4:BI7)-1))*(Extraction!$B$4:$B7="S08 MALHERBE FROID")*(Extraction!$A$4:$A7="Mai")) -> 0 | H64: =SUMPRODUCT((LEFT(Extraction!BJ4:BJ7,LEN(Extraction!BJ4:BJ7)-1))*(Extraction!$B$4:$B7="S08 MALHERBE FROID")*(Extraction!$A$4:$A7="Mai")) -> 0 | I64: =SUMPRODUCT((LEFT(Extraction!BK4:BK7,LEN(Extraction!BK4:BK7)-1))*(Extraction!$B$4:$B7="S08 MALHERBE FROID")*(Extraction!$A$4:$A7="Mai")) -> 0 | J64: =SUMPRODUCT((LEFT(Extraction!BL4:BL7,LEN(Extraction!BL4:BL7)-1))*(Extraction!$B$4:$B7="S08 MALHERBE FROID")*(Extraction!$A$4:$A7="Mai")) -> 0 | ... AL64: =SUMPRODUCT((LEFT(Extraction!CN4:CN7,LEN(Extraction!CN4:CN7)-1))*(Extraction!$B$4:$B7="S08 MALHERBE FROID")*(Extraction!$A$4:$A7="Mai")) -> 0 | AM64: =SUM(B64:D64,G64:H64,R64:S64,W64:AE64,AG64,AI64:AL64) -> 0 | AN64: =SUM(E64:F64,I64:Q64,T64:V64,AF64,AH64) -> 0 | AR64: en attente
B65: =SUMPRODUCT((LEFT(Extraction!BD4:BD7,LEN(Extraction!BD4:BD7)-1))*(Extraction!$B4:$B7="S14 EURALIS NORMANDIE")*(Extraction!$A$4:$A7="Mai")) -> 0 | C65: =SUMPRODUCT((LEFT(Extraction!BE4:BE7,LEN(Extraction!BE4:BE7)-1))*(Extraction!$B$4:$B7="S14 EURALIS NORMANDIE")*(Extraction!$A$4:$A7="Mai")) -> 0 | D65: =SUMPRODUCT((LEFT(Extraction!BF4:BF7,LEN(Extraction!BF4:BF7)-1))*(Extraction!$B$4:$B7="S14 EURALIS NORMANDIE")*(Extraction!$A$4:$A7="Mai")) -> 0 | E65: =SUMPRODUCT((LEFT(Extraction!BG4:BG7,LEN(Extraction!BG4:BG7)-1))*(Extraction!$B$4:$B7="S14 EURALIS NORMANDIE")*(Extraction!$A$4:$A7="Mai")) -> 0 | F65: =SUMPRODUCT((LEFT(Extraction!BH4:BH7,LEN(Extraction!BH4:BH7)-1))*(Extraction!$B$4:$B7="S14 EURALIS NORMANDIE")*(Extraction!$A$4:$A7="Mai")) -> 0 | G65: =SUMPRODUCT((LEFT(Extraction!BI4:BI7,LEN(Extraction!BI4:BI7)-1))*(Extraction!$B$4:$B7="S14 EURALIS NORMANDIE")*(Extraction!$A$4:$A7="Mai")) -> 0 | H65: =SUMPRODUCT((LEFT(Extraction!BJ4:BJ7,LEN(Extraction!BJ4:BJ7)-1))*(Extraction!$B$4:$B7="S14 EURALIS NORMANDIE")*(Extraction!$A$4:$A7="Mai")) -> 0 | I65: =SUMPRODUCT((LEFT(Extraction!BK4:BK7,LEN(Extraction!BK4:BK7)-1))*(Extraction!$B$4:$B7="S14 EURALIS NORMANDIE")*(Extraction!$A$4:$A7="Mai")) -> 0 | J65: =SUMPRODUCT((LEFT(Extraction!BL4:BL7,LEN(Extraction!BL4:BL7)-1))*(Extraction!$B$4:$B7="S14 EURALIS NORMANDIE")*(Extraction!$A$4:$A7="Mai")) -> 0 | ... AL65: =SUMPRODUCT((LEFT(Extraction!CN4:CN7,LEN(Extraction!CN4:CN7)-1))*(Extraction!$B$4:$B7="S14 EURALIS NORMANDIE")*(Extraction!$A$4:$A7="Mai")) -> 0 | AM65: =SUM(B65:D65,G65:H65,R65:S65,W65:AE65,AG65,AI65:AL65) -> 0 | AN65: =SUM(E65:F65,I65:Q65,T65:V65,AF65,AH65) -> 0
B66: =SUMPRODUCT((LEFT(Extraction!BD4:BD7,LEN(Extraction!BD4:BD7)-1))*(Extraction!$B4:$B7="S15 TRANSAGRIAL")*(Extraction!$A$4:$A7="Mai")) -> 0 | C66: =SUMPRODUCT((LEFT(Extraction!BE4:BE7,LEN(Extraction!BE4:BE7)-1))*(Extraction!$B$4:$B7="S15 TRANSAGRIAL")*(Extraction!$A$4:$A7="Mai")) -> 0 | D66: =SUMPRODUCT((LEFT(Extraction!BF4:BF7,LEN(Extraction!BF4:BF7)-1))*(Extraction!$B$4:$B7="S15 TRANSAGRIAL")*(Extraction!$A$4:$A7="Mai")) -> 0 | E66: =SUMPRODUCT((LEFT(Extraction!BG4:BG7,LEN(Extraction!BG4:BG7)-1))*(Extraction!$B$4:$B7="S15 TRANSAGRIAL")*(Extraction!$A$4:$A7="Mai")) -> 0 | F66: =SUMPRODUCT((LEFT(Extraction!BH4:BH7,LEN(Extraction!BH4:BH7)-1))*(Extraction!$B$4:$B7="S15 TRANSAGRIAL")*(Extraction!$A$4:$A7="Mai")) -> 0 | G66: =SUMPRODUCT((LEFT(Extraction!BI4:BI7,LEN(Extraction!BI4:BI7)-1))*(Extraction!$B$4:$B7="S15 TRANSAGRIAL")*(Extraction!$A$4:$A7="Mai")) -> 0 | H66: =SUMPRODUCT((LEFT(Extraction!BJ4:BJ7,LEN(Extraction!BJ4:BJ7)-1))*(Extraction!$B$4:$B7="S15 TRANSAGRIAL")*(Extraction!$A$4:$A7="Mai")) -> 0 | I66: =SUMPRODUCT((LEFT(Extraction!BK4:BK7,LEN(Extraction!BK4:BK7)-1))*(Extraction!$B$4:$B7="S15 TRANSAGRIAL")*(Extraction!$A$4:$A7="Mai")) -> 0 | J66: =SUMPRODUCT((LEFT(Extraction!BL4:BL7,LEN(Extraction!BL4:BL7)-1))*(Extraction!$B$4:$B7="S15 TRANSAGRIAL")*(Extraction!$A$4:$A7="Mai")) -> 0 | ... AL66: =SUMPRODUCT((LEFT(Extraction!CN4:CN7,LEN(Extraction!CN4:CN7)-1))*(Extraction!$B$4:$B7="S15 TRANSAGRIAL")*(Extraction!$A$4:$A7="Mai")) -> 0 | AM66: =SUM(B66:D66,G66:H66,R66:S66,W66:AE66,AG66,AI66:AL66) -> 0 | AN66: =SUM(E66:F66,I66:Q66,T66:V66,AF66,AH66) -> 0
B67: =SUMPRODUCT((LEFT(Extraction!BD4:BD7,LEN(Extraction!BD4:BD7)-1))*(Extraction!$B4:$B7="S28 PROXILOG")*(Extraction!$A$4:$A7="Mai")) -> 0 | C67: =SUMPRODUCT((LEFT(Extraction!BE4:BE7,LEN(Extraction!BE4:BE7)-1))*(Extraction!$B$4:$B7="S28 PROXILOG")*(Extraction!$A$4:$A7="Mai")) -> 0 | D67: =SUMPRODUCT((LEFT(Extraction!BF4:BF7,LEN(Extraction!BF4:BF7)-1))*(Extraction!$B$4:$B7="S28 PROXILOG")*(Extraction!$A$4:$A7="Mai")) -> 0 | E67: =SUMPRODUCT((LEFT(Extraction!BG4:BG7,LEN(Extraction!BG4:BG7)-1))*(Extraction!$B$4:$B7="S28 PROXILOG")*(Extraction!$A$4:$A7="Mai")) -> 0 | F67: =SUMPRODUCT((LEFT(Extraction!BH4:BH7,LEN(Extraction!BH4:BH7)-1))*(Extraction!$B$4:$B7="S28 PROXILOG")*(Extraction!$A$4:$A7="Mai")) -> 0 | G67: =SUMPRODUCT((LEFT(Extraction!BI4:BI7,LEN(Extraction!BI4:BI7)-1))*(Extraction!$B$4:$B7="S28 PROXILOG")*(Extraction!$A$4:$A7="Mai")) -> 0 | H67: =SUMPRODUCT((LEFT(Extraction!BJ4:BJ7,LEN(Extraction!BJ4:BJ7)-1))*(Extraction!$B$4:$B7="S28 PROXILOG")*(Extraction!$A$4:$A7="Mai")) -> 0 | I67: =SUMPRODUCT((LEFT(Extraction!BK4:BK7,LEN(Extraction!BK4:BK7)-1))*(Extraction!$B$4:$B7="S28 PROXILOG")*(Extraction!$A$4:$A7="Mai")) -> 0 | J67: =SUMPRODUCT((LEFT(Extraction!BL4:BL7,LEN(Extraction!BL4:BL7)-1))*(Extraction!$B$4:$B7="S28 PROXILOG")*(Extraction!$A$4:$A7="Mai")) -> 0 | ... AL67: =SUMPRODUCT((LEFT(Extraction!CN4:CN7,LEN(Extraction!CN4:CN7)-1))*(Extraction!$B$4:$B7="S28 PROXILOG")*(Extraction!$A$4:$A7="Mai")) -> 0 | AM67: =SUM(B67:D67,G67:H67,R67:S67,W67:AE67,AG67,AI67:AL67) -> 0 | AN67: =SUM(E67:F67,I67:Q67,T67:V67,AF67,AH67) -> 0
B68: =SUMPRODUCT((LEFT(Extraction!BD4:BD7,LEN(Extraction!BD4:BD7)-1))*(Extraction!$B4:$B7="S34 GARAGE MALHERBE")*(Extraction!$A$4:$A7="Mai")) -> 0 | C68: =SUMPRODUCT((LEFT(Extraction!BE4:BE7,LEN(Extraction!BE4:BE7)-1))*(Extraction!$B$4:$B7="S34 GARAGE MALHERBE")*(Extraction!$A$4:$A7="Mai")) -> 0 | D68: =SUMPRODUCT((LEFT(Extraction!BF4:BF7,LEN(Extraction!BF4:BF7)-1))*(Extraction!$B$4:$B7="S34 GARAGE MALHERBE")*(Extraction!$A$4:$A7="Mai")) -> 0 | E68: =SUMPRODUCT((LEFT(Extraction!BG4:BG7,LEN(Extraction!BG4:BG7)-1))*(Extraction!$B$4:$B7="S34 GARAGE MALHERBE")*(Extraction!$A$4:$A7="Mai")) -> 0 | F68: =SUMPRODUCT((LEFT(Extraction!BH4:BH7,LEN(Extraction!BH4:BH7)-1))*(Extraction!$B$4:$B7="S34 GARAGE MALHERBE")*(Extraction!$A$4:$A7="Mai")) -> 0 | G68: =SUMPRODUCT((LEFT(Extraction!BI4:BI7,LEN(Extraction!BI4:BI7)-1))*(Extraction!$B$4:$B7="S34 GARAGE MALHERBE")*(Extraction!$A$4:$A7="Mai")) -> 0 | H68: =SUMPRODUCT((LEFT(Extraction!BJ4:BJ7,LEN(Extraction!BJ4:BJ7)-1))*(Extraction!$B$4:$B7="S34 GARAGE MALHERBE")*(Extraction!$A$4:$A7="Mai")) -> 0 | I68: =SUMPRODUCT((LEFT(Extraction!BK4:BK7,LEN(Extraction!BK4:BK7)-1))*(Extraction!$B$4:$B7="S34 GARAGE MALHERBE")*(Extraction!$A$4:$A7="Mai")) -> 0 | J68: =SUMPRODUCT((LEFT(Extraction!BL4:BL7,LEN(Extraction!BL4:BL7)-1))*(Extraction!$B$4:$B7="S34 GARAGE MALHERBE")*(Extraction!$A$4:$A7="Mai")) -> 0 | ... AL68: =SUMPRODUCT((LEFT(Extraction!CN4:CN7,LEN(Extraction!CN4:CN7)-1))*(Extraction!$B$4:$B7="S34 GARAGE MALHERBE")*(Extraction!$A$4:$A7="Mai")) -> 0 | AM68: =SUM(B68:D68,G68:H68,R68:S68,W68:AE68,AG68,AI68:AL68) -> 0 | AN68: =SUM(E68:F68,I68:Q68,T68:V68,AF68,AH68) -> 0
B69: =SUMPRODUCT((LEFT(Extraction!BD4:BD7,LEN(Extraction!BD4:BD7)-1))*(Extraction!$B4:$B7="S38 MALHERBE TRANSPORTS")*(Extraction!$A$4:$A7="Mai")) -> 0 | C69: =SUMPRODUCT((LEFT(Extraction!BE4:BE7,LEN(Extraction!BE4:BE7)-1))*(Extraction!$B$4:$B7="S38 MALHERBE TRANSPORTS")*(Extraction!$A$4:$A7="Mai")) -> 0 | D69: =SUMPRODUCT((LEFT(Extraction!BF4:BF7,LEN(Extraction!BF4:BF7)-1))*(Extraction!$B$4:$B7="S38 MALHERBE TRANSPORTS")*(Extraction!$A$4:$A7="Mai")) -> 0 | E69: =SUMPRODUCT((LEFT(Extraction!BG4:BG7,LEN(Extraction!BG4:BG7)-1))*(Extraction!$B$4:$B7="S38 MALHERBE TRANSPORTS")*(Extraction!$A$4:$A7="Mai")) -> 0 | F69: =SUMPRODUCT((LEFT(Extraction!BH4:BH7,LEN(Extraction!BH4:BH7)-1))*(Extraction!$B$4:$B7="S38 MALHERBE TRANSPORTS")*(Extraction!$A$4:$A7="Mai")) -> 0 | G69: =SUMPRODUCT((LEFT(Extraction!BI4:BI7,LEN(Extraction!BI4:BI7)-1))*(Extraction!$B$4:$B7="S38 MALHERBE TRANSPORTS")*(Extraction!$A$4:$A7="Mai")) -> 0 | H69: =SUMPRODUCT((LEFT(Extraction!BJ4:BJ7,LEN(Extraction!BJ4:BJ7)-1))*(Extraction!$B$4:$B7="S38 MALHERBE TRANSPORTS")*(Extraction!$A$4:$A7="Mai")) -> 0 | I69: =SUMPRODUCT((LEFT(Extraction!BK4:BK7,LEN(Extraction!BK4:BK7)-1))*(Extraction!$B$4:$B7="S38 MALHERBE TRANSPORTS")*(Extraction!$A$4:$A7="Mai")) -> 0 | J69: =SUMPRODUCT((LEFT(Extraction!BL4:BL7,LEN(Extraction!BL4:BL7)-1))*(Extraction!$B$4:$B7="S38 MALHERBE TRANSPORTS")*(Extraction!$A$4:$A7="Mai")) -> 0 | ... AL69: =SUMPRODUCT((LEFT(Extraction!CN4:CN7,LEN(Extraction!CN4:CN7)-1))*(Extraction!$B$4:$B7="S38 MALHERBE TRANSPORTS")*(Extraction!$A$4:$A7="Mai")) -> 0 | AM69: =SUM(B69:D69,G69:H69,R69:S69,W69:AE69,AG69,AI69:AL69) -> 0 | AN69: =SUM(E69:F69,I69:Q69,T69:V69,AF69,AH69) -> 0
B70: =SUMPRODUCT((LEFT(Extraction!BD4:BD7,LEN(Extraction!BD4:BD7)-1))*(Extraction!$B4:$B7="S49 MALHERBE PRESTINDUS")*(Extraction!$A$4:$A7="Mai")) -> 0 | C70: =SUMPRODUCT((LEFT(Extraction!BE4:BE7,LEN(Extraction!BE4:BE7)-1))*(Extraction!$B$4:$B7="S49 MALHERBE PRESTINDUS")*(Extraction!$A$4:$A7="Mai")) -> 0 | D70: =SUMPRODUCT((LEFT(Extraction!BF4:BF7,LEN(Extraction!BF4:BF7)-1))*(Extraction!$B$4:$B7="S49 MALHERBE PRESTINDUS")*(Extraction!$A$4:$A7="Mai")) -> 0 | E70: =SUMPRODUCT((LEFT(Extraction!BG4:BG7,LEN(Extraction!BG4:BG7)-1))*(Extraction!$B$4:$B7="S49 MALHERBE PRESTINDUS")*(Extraction!$A$4:$A7="Mai")) -> 0 | F70: =SUMPRODUCT((LEFT(Extraction!BH4:BH7,LEN(Extraction!BH4:BH7)-1))*(Extraction!$B$4:$B7="S49 MALHERBE PRESTINDUS")*(Extraction!$A$4:$A7="Mai")) -> 0 | G70: =SUMPRODUCT((LEFT(Extraction!BI4:BI7,LEN(Extraction!BI4:BI7)-1))*(Extraction!$B$4:$B7="S49 MALHERBE PRESTINDUS")*(Extraction!$A$4:$A7="Mai")) -> 0 | H70: =SUMPRODUCT((LEFT(Extraction!BJ4:BJ7,LEN(Extraction!BJ4:BJ7)-1))*(Extraction!$B$4:$B7="S49 MALHERBE PRESTINDUS")*(Extraction!$A$4:$A7="Mai")) -> 0 | I70: =SUMPRODUCT((LEFT(Extraction!BK4:BK7,LEN(Extraction!BK4:BK7)-1))*(Extraction!$B$4:$B7="S49 MALHERBE PRESTINDUS")*(Extraction!$A$4:$A7="Mai")) -> 0 | J70: =SUMPRODUCT((LEFT(Extraction!BL4:BL7,LEN(Extraction!BL4:BL7)-1))*(Extraction!$B$4:$B7="S49 MALHERBE PRESTINDUS")*(Extraction!$A$4:$A7="Mai")) -> 0 | ... AL70: =SUMPRODUCT((LEFT(Extraction!CN4:CN7,LEN(Extraction!CN4:CN7)-1))*(Extraction!$B$4:$B7="S49 MALHERBE PRESTINDUS")*(Extraction!$A$4:$A7="Mai")) -> 0 | AM70: =SUM(B70:D70,G70:H70,R70:S70,W70:AE70,AG70,AI70:AL70) -> 0 | AN70: =SUM(E70:F70,I70:Q70,T70:V70,AF70,AH70) -> 0
B71: =SUMPRODUCT((LEFT(Extraction!BD4:BD7,LEN(Extraction!BD4:BD7)-1))*(Extraction!$B4:$B7="S57 MALHERBE RHONE ALPES")*(Extraction!$A$4:$A7="Mai")) -> 0 | C71: =SUMPRODUCT((LEFT(Extraction!BE4:BE7,LEN(Extraction!BE4:BE7)-1))*(Extraction!$B$4:$B7="S57 MALHERBE RHONE ALPES")*(Extraction!$A$4:$A7="Mai")) -> 0 | D71: =SUMPRODUCT((LEFT(Extraction!BF4:BF7,LEN(Extraction!BF4:BF7)-1))*(Extraction!$B$4:$B7="S57 MALHERBE RHONE ALPES")*(Extraction!$A$4:$A7="Mai")) -> 0 | E71: =SUMPRODUCT((LEFT(Extraction!BG4:BG7,LEN(Extraction!BG4:BG7)-1))*(Extraction!$B$4:$B7="S57 MALHERBE RHONE ALPES")*(Extraction!$A$4:$A7="Mai")) -> 0 | F71: =SUMPRODUCT((LEFT(Extraction!BH4:BH7,LEN(Extraction!BH4:BH7)-1))*(Extraction!$B$4:$B7="S57 MALHERBE RHONE ALPES")*(Extraction!$A$4:$A7="Mai")) -> 0 | G71: =SUMPRODUCT((LEFT(Extraction!BI4:BI7,LEN(Extraction!BI4:BI7)-1))*(Extraction!$B$4:$B7="S57 MALHERBE RHONE ALPES")*(Extraction!$A$4:$A7="Mai")) -> 0 | H71: =SUMPRODUCT((LEFT(Extraction!BJ4:BJ7,LEN(Extraction!BJ4:BJ7)-1))*(Extraction!$B$4:$B7="S57 MALHERBE RHONE ALPES")*(Extraction!$A$4:$A7="Mai")) -> 0 | I71: =SUMPRODUCT((LEFT(Extraction!BK4:BK7,LEN(Extraction!BK4:BK7)-1))*(Extraction!$B$4:$B7="S57 MALHERBE RHONE ALPES")*(Extraction!$A$4:$A7="Mai")) -> 0 | J71: =SUMPRODUCT((LEFT(Extraction!BL4:BL7,LEN(Extraction!BL4:BL7)-1))*(Extraction!$B$4:$B7="S57 MALHERBE RHONE ALPES")*(Extraction!$A$4:$A7="Mai")) -> 0 | ... AL71: =SUMPRODUCT((LEFT(Extraction!CN4:CN7,LEN(Extraction!CN4:CN7)-1))*(Extraction!$B$4:$B7="S57 MALHERBE RHONE ALPES")*(Extraction!$A$4:$A7="Mai")) -> 0 | AM71: =SUM(B71:D71,G71:H71,R71:S71,W71:AE71,AG71,AI71:AL71) -> 0 | AN71: =SUM(E71:F71,I71:Q71,T71:V71,AF71,AH71) -> 0
B72: =SUMPRODUCT((LEFT(Extraction!BD4:BD7,LEN(Extraction!BD4:BD7)-1))*(Extraction!$B4:$B7="S58 MALHERBE BRETAGNE")*(Extraction!$A$4:$A7="Mai")) -> 0 | C72: =SUMPRODUCT((LEFT(Extraction!BE4:BE7,LEN(Extraction!BE4:BE7)-1))*(Extraction!$B$4:$B7="S58 MALHERBE BRETAGNE")*(Extraction!$A$4:$A7="Mai")) -> 0 | D72: =SUMPRODUCT((LEFT(Extraction!BF4:BF7,LEN(Extraction!BF4:BF7)-1))*(Extraction!$B$4:$B7="S58 MALHERBE BRETAGNE")*(Extraction!$A$4:$A7="Mai")) -> 0 | E72: =SUMPRODUCT((LEFT(Extraction!BG4:BG7,LEN(Extraction!BG4:BG7)-1))*(Extraction!$B$4:$B7="S58 MALHERBE BRETAGNE")*(Extraction!$A$4:$A7="Mai")) -> 0 | F72: =SUMPRODUCT((LEFT(Extraction!BH4:BH7,LEN(Extraction!BH4:BH7)-1))*(Extraction!$B$4:$B7="S58 MALHERBE BRETAGNE")*(Extraction!$A$4:$A7="Mai")) -> 0 | G72: =SUMPRODUCT((LEFT(Extraction!BI4:BI7,LEN(Extraction!BI4:BI7)-1))*(Extraction!$B$4:$B7="S58 MALHERBE BRETAGNE")*(Extraction!$A$4:$A7="Mai")) -> 0 | H72: =SUMPRODUCT((LEFT(Extraction!BJ4:BJ7,LEN(Extraction!BJ4:BJ7)-1))*(Extraction!$B$4:$B7="S58 MALHERBE BRETAGNE")*(Extraction!$A$4:$A7="Mai")) -> 0 | I72: =SUMPRODUCT((LEFT(Extraction!BK4:BK7,LEN(Extraction!BK4:BK7)-1))*(Extraction!$B$4:$B7="S58 MALHERBE BRETAGNE")*(Extraction!$A$4:$A7="Mai")) -> 0 | J72: =SUMPRODUCT((LEFT(Extraction!BL4:BL7,LEN(Extraction!BL4:BL7)-1))*(Extraction!$B$4:$B7="S58 MALHERBE BRETAGNE")*(Extraction!$A$4:$A7="Mai")) -> 0 | ... AL72: =SUMPRODUCT((LEFT(Extraction!CN4:CN7,LEN(Extraction!CN4:CN7)-1))*(Extraction!$B$4:$B7="S58 MALHERBE BRETAGNE")*(Extraction!$A$4:$A7="Mai")) -> 0 | AM72: =SUM(B72:D72,G72:H72,R72:S72,W72:AE72,AG72,AI72:AL72) -> 0 | AN72: =SUM(E72:F72,I72:Q72,T72:V72,AF72,AH72) -> 0
B73: =SUMPRODUCT((LEFT(Extraction!BD4:BD7,LEN(Extraction!BD4:BD7)-1))*(Extraction!$B4:$B7="S64 MALHERBE EST")*(Extraction!$A$4:$A7="Mai")) -> 0 | C73: =SUMPRODUCT((LEFT(Extraction!BE4:BE7,LEN(Extraction!BE4:BE7)-1))*(Extraction!$B$4:$B7="S64 MALHERBE EST")*(Extraction!$A$4:$A7="Mai")) -> 0 | D73: =SUMPRODUCT((LEFT(Extraction!BF4:BF7,LEN(Extraction!BF4:BF7)-1))*(Extraction!$B$4:$B7="S64 MALHERBE EST")*(Extraction!$A$4:$A7="Mai")) -> 0 | E73: =SUMPRODUCT((LEFT(Extraction!BG4:BG7,LEN(Extraction!BG4:BG7)-1))*(Extraction!$B$4:$B7="S64 MALHERBE EST")*(Extraction!$A$4:$A7="Mai")) -> 0 | F73: =SUMPRODUCT((LEFT(Extraction!BH4:BH7,LEN(Extraction!BH4:BH7)-1))*(Extraction!$B$4:$B7="S64 MALHERBE EST")*(Extraction!$A$4:$A7="Mai")) -> 0 | G73: =SUMPRODUCT((LEFT(Extraction!BI4:BI7,LEN(Extraction!BI4:BI7)-1))*(Extraction!$B$4:$B7="S64 MALHERBE EST")*(Extraction!$A$4:$A7="Mai")) -> 0 | H73: =SUMPRODUCT((LEFT(Extraction!BJ4:BJ7,LEN(Extraction!BJ4:BJ7)-1))*(Extraction!$B$4:$B7="S64 MALHERBE EST")*(Extraction!$A$4:$A7="Mai")) -> 0 | I73: =SUMPRODUCT((LEFT(Extraction!BK4:BK7,LEN(Extraction!BK4:BK7)-1))*(Extraction!$B$4:$B7="S64 MALHERBE EST")*(Extraction!$A$4:$A7="Mai")) -> 0 | J73: =SUMPRODUCT((LEFT(Extraction!BL4:BL7,LEN(Extraction!BL4:BL7)-1))*(Extraction!$B$4:$B7="S64 MALHERBE EST")*(Extraction!$A$4:$A7="Mai")) -> 0 | ... AL73: =SUMPRODUCT((LEFT(Extraction!CN4:CN7,LEN(Extraction!CN4:CN7)-1))*(Extraction!$B$4:$B7="S64 MALHERBE EST")*(Extraction!$A$4:$A7="Mai")) -> 0 | AM73: =SUM(B73:D73,G73:H73,R73:S73,W73:AE73,AG73,AI73:AL73) -> 0 | AN73: =SUM(E73:F73,I73:Q73,T73:V73,AF73,AH73) -> 0
B74: =SUMPRODUCT((LEFT(Extraction!BD4:BD7,LEN(Extraction!BD4:BD7)-1))*(Extraction!$B4:$B7="S76 MALHERBE SUD")*(Extraction!$A$4:$A7="Mai")) -> 0 | C74: =SUMPRODUCT((LEFT(Extraction!BE4:BE7,LEN(Extraction!BE4:BE7)-1))*(Extraction!$B$4:$B7="S76 MALHERBE SUD")*(Extraction!$A$4:$A7="Mai")) -> 0 | D74: =SUMPRODUCT((LEFT(Extraction!BF4:BF7,LEN(Extraction!BF4:BF7)-1))*(Extraction!$B$4:$B7="S76 MALHERBE SUD")*(Extraction!$A$4:$A7="Mai")) -> 0 | E74: =SUMPRODUCT((LEFT(Extraction!BG4:BG7,LEN(Extraction!BG4:BG7)-1))*(Extraction!$B$4:$B7="S76 MALHERBE SUD")*(Extraction!$A$4:$A7="Mai")) -> 0 | F74: =SUMPRODUCT((LEFT(Extraction!BH4:BH7,LEN(Extraction!BH4:BH7)-1))*(Extraction!$B$4:$B7="S76 MALHERBE SUD")*(Extraction!$A$4:$A7="Mai")) -> 0 | G74: =SUMPRODUCT((LEFT(Extraction!BI4:BI7,LEN(Extraction!BI4:BI7)-1))*(Extraction!$B$4:$B7="S76 MALHERBE SUD")*(Extraction!$A$4:$A7="Mai")) -> 0 | H74: =SUMPRODUCT((LEFT(Extraction!BJ4:BJ7,LEN(Extraction!BJ4:BJ7)-1))*(Extraction!$B$4:$B7="S76 MALHERBE SUD")*(Extraction!$A$4:$A7="Mai")) -> 0 | I74: =SUMPRODUCT((LEFT(Extraction!BK4:BK7,LEN(Extraction!BK4:BK7)-1))*(Extraction!$B$4:$B7="S76 MALHERBE SUD")*(Extraction!$A$4:$A7="Mai")) -> 0 | J74: =SUMPRODUCT((LEFT(Extraction!BL4:BL7,LEN(Extraction!BL4:BL7)-1))*(Extraction!$B$4:$B7="S76 MALHERBE SUD")*(Extraction!$A$4:$A7="Mai")) -> 0 | ... AL74: =SUMPRODUCT((LEFT(Extraction!CN4:CN7,LEN(Extraction!CN4:CN7)-1))*(Extraction!$B$4:$B7="S76 MALHERBE SUD")*(Extraction!$A$4:$A7="Mai")) -> 0 | AM74: =SUM(B74:D74,G74:H74,R74:S74,W74:AE74,AG74,AI74:AL74) -> 0 | AN74: =SUM(E74:F74,I74:Q74,T74:V74,AF74,AH74) -> 0
B75: =SUMPRODUCT((LEFT(Extraction!BD4:BD7,LEN(Extraction!BD4:BD7)-1))*(Extraction!$B4:$B7="S81 MALHERBE DISTRIBUTION")*(Extraction!$A$4:$A7="Mai")) -> 0 | C75: =SUMPRODUCT((LEFT(Extraction!BE4:BE7,LEN(Extraction!BE4:BE7)-1))*(Extraction!$B$4:$B7="S81 MALHERBE DISTRIBUTION")*(Extraction!$A$4:$A7="Mai")) -> 0 | D75: =SUMPRODUCT((LEFT(Extraction!BF4:BF7,LEN(Extraction!BF4:BF7)-1))*(Extraction!$B$4:$B7="S81 MALHERBE DISTRIBUTION")*(Extraction!$A$4:$A7="Mai")) -> 0 | E75: =SUMPRODUCT((LEFT(Extraction!BG4:BG7,LEN(Extraction!BG4:BG7)-1))*(Extraction!$B$4:$B7="S81 MALHERBE DISTRIBUTION")*(Extraction!$A$4:$A7="Mai")) -> 0 | F75: =SUMPRODUCT((LEFT(Extraction!BH4:BH7,LEN(Extraction!BH4:BH7)-1))*(Extraction!$B$4:$B7="S81 MALHERBE DISTRIBUTION")*(Extraction!$A$4:$A7="Mai")) -> 0 | G75: =SUMPRODUCT((LEFT(Extraction!BI4:BI7,LEN(Extraction!BI4:BI7)-1))*(Extraction!$B$4:$B7="S81 MALHERBE DISTRIBUTION")*(Extraction!$A$4:$A7="Mai")) -> 0 | H75: =SUMPRODUCT((LEFT(Extraction!BJ4:BJ7,LEN(Extraction!BJ4:BJ7)-1))*(Extraction!$B$4:$B7="S81 MALHERBE DISTRIBUTION")*(Extraction!$A$4:$A7="Mai")) -> 0 | I75: =SUMPRODUCT((LEFT(Extraction!BK4:BK7,LEN(Extraction!BK4:BK7)-1))*(Extraction!$B$4:$B7="S81 MALHERBE DISTRIBUTION")*(Extraction!$A$4:$A7="Mai")) -> 0 | J75: =SUMPRODUCT((LEFT(Extraction!BL4:BL7,LEN(Extraction!BL4:BL7)-1))*(Extraction!$B$4:$B7="S81 MALHERBE DISTRIBUTION")*(Extraction!$A$4:$A7="Mai")) -> 0 | ... AL75: =SUMPRODUCT((LEFT(Extraction!CN4:CN7,LEN(Extraction!CN4:CN7)-1))*(Extraction!$B$4:$B7="S81 MALHERBE DISTRIBUTION")*(Extraction!$A$4:$A7="Mai")) -> 0 | AM75: =SUM(B75:D75,G75:H75,R75:S75,W75:AE75,AG75,AI75:AL75) -> 0 | AN75: =SUM(E75:F75,I75:Q75,T75:V75,AF75,AH75) -> 0
B76: =SUMPRODUCT((LEFT(Extraction!BD4:BD7,LEN(Extraction!BD4:BD7)-1))*(Extraction!$B4:$B7="S85 M-SOLUTIONS")*(Extraction!$A$4:$A7="Mai")) -> 0 | C76: =SUMPRODUCT((LEFT(Extraction!BE4:BE7,LEN(Extraction!BE4:BE7)-1))*(Extraction!$B$4:$B7="S85 M-SOLUTIONS")*(Extraction!$A$4:$A7="Mai")) -> 0 | D76: =SUMPRODUCT((LEFT(Extraction!BF4:BF7,LEN(Extraction!BF4:BF7)-1))*(Extraction!$B$4:$B7="S85 M-SOLUTIONS")*(Extraction!$A$4:$A7="Mai")) -> 0 | E76: =SUMPRODUCT((LEFT(Extraction!BG4:BG7,LEN(Extraction!BG4:BG7)-1))*(Extraction!$B$4:$B7="S85 M-SOLUTIONS")*(Extraction!$A$4:$A7="Mai")) -> 0 | F76: =SUMPRODUCT((LEFT(Extraction!BH4:BH7,LEN(Extraction!BH4:BH7)-1))*(Extraction!$B$4:$B7="S85 M-SOLUTIONS")*(Extraction!$A$4:$A7="Mai")) -> 0 | G76: =SUMPRODUCT((LEFT(Extraction!BI4:BI7,LEN(Extraction!BI4:BI7)-1))*(Extraction!$B$4:$B7="S85 M-SOLUTIONS")*(Extraction!$A$4:$A7="Mai")) -> 0 | H76: =SUMPRODUCT((LEFT(Extraction!BJ4:BJ7,LEN(Extraction!BJ4:BJ7)-1))*(Extraction!$B$4:$B7="S85 M-SOLUTIONS")*(Extraction!$A$4:$A7="Mai")) -> 0 | I76: =SUMPRODUCT((LEFT(Extraction!BK4:BK7,LEN(Extraction!BK4:BK7)-1))*(Extraction!$B$4:$B7="S85 M-SOLUTIONS")*(Extraction!$A$4:$A7="Mai")) -> 0 | J76: =SUMPRODUCT((LEFT(Extraction!BL4:BL7,LEN(Extraction!BL4:BL7)-1))*(Extraction!$B$4:$B7="S85 M-SOLUTIONS")*(Extraction!$A$4:$A7="Mai")) -> 0 | ... AL76: =SUMPRODUCT((LEFT(Extraction!CN4:CN7,LEN(Extraction!CN4:CN7)-1))*(Extraction!$B$4:$B7="S85 M-SOLUTIONS")*(Extraction!$A$4:$A7="Mai")) -> 0 | AM76: =SUM(B76:D76,G76:H76,R76:S76,W76:AE76,AG76,AI76:AL76) -> 0 | AN76: =SUM(E76:F76,I76:Q76,T76:V76,AF76,AH76) -> 0
B77: =SUMPRODUCT((LEFT(Extraction!BD4:BD7,LEN(Extraction!BD4:BD7)-1))*(Extraction!$B4:$B7="S88 LEROLOC")*(Extraction!$A$4:$A7="Mai")) -> 0 | C77: =SUMPRODUCT((LEFT(Extraction!BE4:BE7,LEN(Extraction!BE4:BE7)-1))*(Extraction!$B$4:$B7="S88 LEROLOC")*(Extraction!$A$4:$A7="Mai")) -> 0 | D77: =SUMPRODUCT((LEFT(Extraction!BF4:BF7,LEN(Extraction!BF4:BF7)-1))*(Extraction!$B$4:$B7="S88 LEROLOC")*(Extraction!$A$4:$A7="Mai")) -> 0 | E77: =SUMPRODUCT((LEFT(Extraction!BG4:BG7,LEN(Extraction!BG4:BG7)-1))*(Extraction!$B$4:$B7="S88 LEROLOC")*(Extraction!$A$4:$A7="Mai")) -> 0 | F77: =SUMPRODUCT((LEFT(Extraction!BH4:BH7,LEN(Extraction!BH4:BH7)-1))*(Extraction!$B$4:$B7="S88 LEROLOC")*(Extraction!$A$4:$A7="Mai")) -> 0 | G77: =SUMPRODUCT((LEFT(Extraction!BI4:BI7,LEN(Extraction!BI4:BI7)-1))*(Extraction!$B$4:$B7="S88 LEROLOC")*(Extraction!$A$4:$A7="Mai")) -> 0 | H77: =SUMPRODUCT((LEFT(Extraction!BJ4:BJ7,LEN(Extraction!BJ4:BJ7)-1))*(Extraction!$B$4:$B7="S88 LEROLOC")*(Extraction!$A$4:$A7="Mai")) -> 0 | I77: =SUMPRODUCT((LEFT(Extraction!BK4:BK7,LEN(Extraction!BK4:BK7)-1))*(Extraction!$B$4:$B7="S88 LEROLOC")*(Extraction!$A$4:$A7="Mai")) -> 0 | J77: =SUMPRODUCT((LEFT(Extraction!BL4:BL7,LEN(Extraction!BL4:BL7)-1))*(Extraction!$B$4:$B7="S88 LEROLOC")*(Extraction!$A$4:$A7="Mai")) -> 0 | ... AL77: =SUMPRODUCT((LEFT(Extraction!CN4:CN7,LEN(Extraction!CN4:CN7)-1))*(Extraction!$B$4:$B7="S88 LEROLOC")*(Extraction!$A$4:$A7="Mai")) -> 0 | AM77: =SUM(B77:D77,G77:H77,R77:S77,W77:AE77,AG77,AI77:AL77) -> 0 | AN77: =SUM(E77:F77,I77:Q77,T77:V77,AF77,AH77) -> 0
B78: =SUMPRODUCT((LEFT(Extraction!BD4:BD7,LEN(Extraction!BD4:BD7)-1))*(Extraction!$B4:$B7="S89 LEROSEY")*(Extraction!$A$4:$A7="Mai")) -> 0 | C78: =SUMPRODUCT((LEFT(Extraction!BE4:BE7,LEN(Extraction!BE4:BE7)-1))*(Extraction!$B$4:$B7="S89 LEROSEY")*(Extraction!$A$4:$A7="Mai")) -> 0 | D78: =SUMPRODUCT((LEFT(Extraction!BF4:BF7,LEN(Extraction!BF4:BF7)-1))*(Extraction!$B$4:$B7="S89 LEROSEY")*(Extraction!$A$4:$A7="Mai")) -> 0 | E78: =SUMPRODUCT((LEFT(Extraction!BG4:BG7,LEN(Extraction!BG4:BG7)-1))*(Extraction!$B$4:$B7="S89 LEROSEY")*(Extraction!$A$4:$A7="Mai")) -> 0 | F78: =SUMPRODUCT((LEFT(Extraction!BH4:BH7,LEN(Extraction!BH4:BH7)-1))*(Extraction!$B$4:$B7="S89 LEROSEY")*(Extraction!$A$4:$A7="Mai")) -> 0 | G78: =SUMPRODUCT((LEFT(Extraction!BI4:BI7,LEN(Extraction!BI4:BI7)-1))*(Extraction!$B$4:$B7="S89 LEROSEY")*(Extraction!$A$4:$A7="Mai")) -> 0 | H78: =SUMPRODUCT((LEFT(Extraction!BJ4:BJ7,LEN(Extraction!BJ4:BJ7)-1))*(Extraction!$B$4:$B7="S89 LEROSEY")*(Extraction!$A$4:$A7="Mai")) -> 0 | I78: =SUMPRODUCT((LEFT(Extraction!BK4:BK7,LEN(Extraction!BK4:BK7)-1))*(Extraction!$B$4:$B7="S89 LEROSEY")*(Extraction!$A$4:$A7="Mai")) -> 0 | J78: =SUMPRODUCT((LEFT(Extraction!BL4:BL7,LEN(Extraction!BL4:BL7)-1))*(Extraction!$B$4:$B7="S89 LEROSEY")*(Extraction!$A$4:$A7="Mai")) -> 0 | ... AL78: =SUMPRODUCT((LEFT(Extraction!CN4:CN7,LEN(Extraction!CN4:CN7)-1))*(Extraction!$B$4:$B7="S89 LEROSEY")*(Extraction!$A$4:$A7="Mai")) -> 0 | AM78: =SUM(B78:D78,G78:H78,R78:S78,W78:AE78,AG78,AI78:AL78) -> 0 | AN78: =SUM(E78:F78,I78:Q78,T78:V78,AF78,AH78) -> 0
B79: =SUMPRODUCT((LEFT(Extraction!BD4:BD7,LEN(Extraction!BD4:BD7)-1))*(Extraction!$B4:$B7="S91 MALHERBE SERVICES")*(Extraction!$A$4:$A7="Mai")) -> 0 | C79: =SUMPRODUCT((LEFT(Extraction!BE4:BE7,LEN(Extraction!BE4:BE7)-1))*(Extraction!$B$4:$B7="S91 MALHERBE SERVICES")*(Extraction!$A$4:$A7="Mai")) -> 0 | D79: =SUMPRODUCT((LEFT(Extraction!BF4:BF7,LEN(Extraction!BF4:BF7)-1))*(Extraction!$B$4:$B7="S91 MALHERBE SERVICES")*(Extraction!$A$4:$A7="Mai")) -> 0 | E79: =SUMPRODUCT((LEFT(Extraction!BG4:BG7,LEN(Extraction!BG4:BG7)-1))*(Extraction!$B$4:$B7="S91 MALHERBE SERVICES")*(Extraction!$A$4:$A7="Mai")) -> 0 | F79: =SUMPRODUCT((LEFT(Extraction!BH4:BH7,LEN(Extraction!BH4:BH7)-1))*(Extraction!$B$4:$B7="S91 MALHERBE SERVICES")*(Extraction!$A$4:$A7="Mai")) -> 0 | G79: =SUMPRODUCT((LEFT(Extraction!BI4:BI7,LEN(Extraction!BI4:BI7)-1))*(Extraction!$B$4:$B7="S91 MALHERBE SERVICES")*(Extraction!$A$4:$A7="Mai")) -> 0 | H79: =SUMPRODUCT((LEFT(Extraction!BJ4:BJ7,LEN(Extraction!BJ4:BJ7)-1))*(Extraction!$B$4:$B7="S91 MALHERBE SERVICES")*(Extraction!$A$4:$A7="Mai")) -> 0 | I79: =SUMPRODUCT((LEFT(Extraction!BK4:BK7,LEN(Extraction!BK4:BK7)-1))*(Extraction!$B$4:$B7="S91 MALHERBE SERVICES")*(Extraction!$A$4:$A7="Mai")) -> 0 | J79: =SUMPRODUCT((LEFT(Extraction!BL4:BL7,LEN(Extraction!BL4:BL7)-1))*(Extraction!$B$4:$B7="S91 MALHERBE SERVICES")*(Extraction!$A$4:$A7="Mai")) -> 0 | ... AL79: =SUMPRODUCT((LEFT(Extraction!CN4:CN7,LEN(Extraction!CN4:CN7)-1))*(Extraction!$B$4:$B7="S91 MALHERBE SERVICES")*(Extraction!$A$4:$A7="Mai")) -> 0 | AM79: =SUM(B79:D79,G79:H79,R79:S79,W79:AE79,AG79,AI79:AL79) -> 0 | AN79: =SUM(E79:F79,I79:Q79,T79:V79,AF79,AH79) -> 0
B80: =SUMPRODUCT((LEFT(Extraction!BD4:BD7,LEN(Extraction!BD4:BD7)-1))*(Extraction!$B4:$B7="S92 FINANCIERE CATYLAIN")*(Extraction!$A$4:$A7="Mai")) -> 0 | C80: =SUMPRODUCT((LEFT(Extraction!BE4:BE7,LEN(Extraction!BE4:BE7)-1))*(Extraction!$B$4:$B7="S92 FINANCIERE CATYLAIN")*(Extraction!$A$4:$A7="Mai")) -> 0 | D80: =SUMPRODUCT((LEFT(Extraction!BF4:BF7,LEN(Extraction!BF4:BF7)-1))*(Extraction!$B$4:$B7="S92 FINANCIERE CATYLAIN")*(Extraction!$A$4:$A7="Mai")) -> 0 | E80: =SUMPRODUCT((LEFT(Extraction!BG4:BG7,LEN(Extraction!BG4:BG7)-1))*(Extraction!$B$4:$B7="S92 FINANCIERE CATYLAIN")*(Extraction!$A$4:$A7="Mai")) -> 0 | F80: =SUMPRODUCT((LEFT(Extraction!BH4:BH7,LEN(Extraction!BH4:BH7)-1))*(Extraction!$B$4:$B7="S92 FINANCIERE CATYLAIN")*(Extraction!$A$4:$A7="Mai")) -> 0 | G80: =SUMPRODUCT((LEFT(Extraction!BI4:BI7,LEN(Extraction!BI4:BI7)-1))*(Extraction!$B$4:$B7="S92 FINANCIERE CATYLAIN")*(Extraction!$A$4:$A7="Mai")) -> 0 | H80: =SUMPRODUCT((LEFT(Extraction!BJ4:BJ7,LEN(Extraction!BJ4:BJ7)-1))*(Extraction!$B$4:$B7="S92 FINANCIERE CATYLAIN")*(Extraction!$A$4:$A7="Mai")) -> 0 | I80: =SUMPRODUCT((LEFT(Extraction!BK4:BK7,LEN(Extraction!BK4:BK7)-1))*(Extraction!$B$4:$B7="S92 FINANCIERE CATYLAIN")*(Extraction!$A$4:$A7="Mai")) -> 0 | J80: =SUMPRODUCT((LEFT(Extraction!BL4:BL7,LEN(Extraction!BL4:BL7)-1))*(Extraction!$B$4:$B7="S92 FINANCIERE CATYLAIN")*(Extraction!$A$4:$A7="Mai")) -> 0 | ... AL80: =SUMPRODUCT((LEFT(Extraction!CN4:CN7,LEN(Extraction!CN4:CN7)-1))*(Extraction!$B$4:$B7="S92 FINANCIERE CATYLAIN")*(Extraction!$A$4:$A7="Mai")) -> 0 | AM80: =SUM(B80:D80,G80:H80,R80:S80,W80:AE80,AG80,AI80:AL80) -> 0 | AN80: =SUM(E80:F80,I80:Q80,T80:V80,AF80,AH80) -> 0
B81: =SUMPRODUCT((LEFT(Extraction!BD4:BD7,LEN(Extraction!BD4:BD7)-1))*(Extraction!$B4:$B7="S93 RASCHETTI TRANSPORT")*(Extraction!$A$4:$A7="Mai")) -> 0 | C81: =SUMPRODUCT((LEFT(Extraction!BE4:BE7,LEN(Extraction!BE4:BE7)-1))*(Extraction!$B$4:$B7="S93 RASCHETTI TRANSPORT")*(Extraction!$A$4:$A7="Mai")) -> 0 | D81: =SUMPRODUCT((LEFT(Extraction!BF4:BF7,LEN(Extraction!BF4:BF7)-1))*(Extraction!$B$4:$B7="S93 RASCHETTI TRANSPORT")*(Extraction!$A$4:$A7="Mai")) -> 0 | E81: =SUMPRODUCT((LEFT(Extraction!BG4:BG7,LEN(Extraction!BG4:BG7)-1))*(Extraction!$B$4:$B7="S93 RASCHETTI TRANSPORT")*(Extraction!$A$4:$A7="Mai")) -> 0 | F81: =SUMPRODUCT((LEFT(Extraction!BH4:BH7,LEN(Extraction!BH4:BH7)-1))*(Extraction!$B$4:$B7="S93 RASCHETTI TRANSPORT")*(Extraction!$A$4:$A7="Mai")) -> 0 | G81: =SUMPRODUCT((LEFT(Extraction!BI4:BI7,LEN(Extraction!BI4:BI7)-1))*(Extraction!$B$4:$B7="S93 RASCHETTI TRANSPORT")*(Extraction!$A$4:$A7="Mai")) -> 0 | H81: =SUMPRODUCT((LEFT(Extraction!BJ4:BJ7,LEN(Extraction!BJ4:BJ7)-1))*(Extraction!$B$4:$B7="S93 RASCHETTI TRANSPORT")*(Extraction!$A$4:$A7="Mai")) -> 0 | I81: =SUMPRODUCT((LEFT(Extraction!BK4:BK7,LEN(Extraction!BK4:BK7)-1))*(Extraction!$B$4:$B7="S93 RASCHETTI TRANSPORT")*(Extraction!$A$4:$A7="Mai")) -> 0 | J81: =SUMPRODUCT((LEFT(Extraction!BL4:BL7,LEN(Extraction!BL4:BL7)-1))*(Extraction!$B$4:$B7="S93 RASCHETTI TRANSPORT")*(Extraction!$A$4:$A7="Mai")) -> 0 | ... AL81: =SUMPRODUCT((LEFT(Extraction!CN4:CN7,LEN(Extraction!CN4:CN7)-1))*(Extraction!$B$4:$B7="S93 RASCHETTI TRANSPORT")*(Extraction!$A$4:$A7="Mai")) -> 0 | AM81: =SUM(B81:D81,G81:H81,R81:S81,W81:AE81,AG81,AI81:AL81) -> 0 | AN81: =SUM(E81:F81,I81:Q81,T81:V81,AF81,AH81) -> 0
B82: =SUMPRODUCT((LEFT(Extraction!BD4:BD7,LEN(Extraction!BD4:BD7)-1))*(Extraction!$B4:$B7="S97 CODIMAS")*(Extraction!$A$4:$A7="Mai")) -> 0 | C82: =SUMPRODUCT((LEFT(Extraction!BE4:BE7,LEN(Extraction!BE4:BE7)-1))*(Extraction!$B$4:$B7="S97 CODIMAS")*(Extraction!$A$4:$A7="Mai")) -> 0 | D82: =SUMPRODUCT((LEFT(Extraction!BF4:BF7,LEN(Extraction!BF4:BF7)-1))*(Extraction!$B$4:$B7="S97 CODIMAS")*(Extraction!$A$4:$A7="Mai")) -> 0 | E82: =SUMPRODUCT((LEFT(Extraction!BG4:BG7,LEN(Extraction!BG4:BG7)-1))*(Extraction!$B$4:$B7="S97 CODIMAS")*(Extraction!$A$4:$A7="Mai")) -> 0 | F82: =SUMPRODUCT((LEFT(Extraction!BH4:BH7,LEN(Extraction!BH4:BH7)-1))*(Extraction!$B$4:$B7="S97 CODIMAS")*(Extraction!$A$4:$A7="Mai")) -> 0 | G82: =SUMPRODUCT((LEFT(Extraction!BI4:BI7,LEN(Extraction!BI4:BI7)-1))*(Extraction!$B$4:$B7="S97 CODIMAS")*(Extraction!$A$4:$A7="Mai")) -> 0 | H82: =SUMPRODUCT((LEFT(Extraction!BJ4:BJ7,LEN(Extraction!BJ4:BJ7)-1))*(Extraction!$B$4:$B7="S97 CODIMAS")*(Extraction!$A$4:$A7="Mai")) -> 0 | I82: =SUMPRODUCT((LEFT(Extraction!BK4:BK7,LEN(Extraction!BK4:BK7)-1))*(Extraction!$B$4:$B7="S97 CODIMAS")*(Extraction!$A$4:$A7="Mai")) -> 0 | J82: =SUMPRODUCT((LEFT(Extraction!BL4:BL7,LEN(Extraction!BL4:BL7)-1))*(Extraction!$B$4:$B7="S97 CODIMAS")*(Extraction!$A$4:$A7="Mai")) -> 0 | ... AL82: =SUMPRODUCT((LEFT(Extraction!CN4:CN7,LEN(Extraction!CN4:CN7)-1))*(Extraction!$B$4:$B7="S97 CODIMAS")*(Extraction!$A$4:$A7="Mai")) -> 0 | AM82: =SUM(B82:D82,G82:H82,R82:S82,W82:AE82,AG82,AI82:AL82) -> 0 | AN82: =SUM(E82:F82,I82:Q82,T82:V82,AF82,AH82) -> 0
B83: =SUMPRODUCT((LEFT(Extraction!BD4:BD7,LEN(Extraction!BD4:BD7)-1))*(Extraction!$B4:$B7="S98 CODIMAS DISTRIBUTION")*(Extraction!$A$4:$A7="Mai")) -> 0 | C83: =SUMPRODUCT((LEFT(Extraction!BE4:BE7,LEN(Extraction!BE4:BE7)-1))*(Extraction!$B$4:$B7="S98 CODIMAS DISTRIBUTION")*(Extraction!$A$4:$A7="Mai")) -> 0 | D83: =SUMPRODUCT((LEFT(Extraction!BF4:BF7,LEN(Extraction!BF4:BF7)-1))*(Extraction!$B$4:$B7="S98 CODIMAS DISTRIBUTION")*(Extraction!$A$4:$A7="Mai")) -> 0 | E83: =SUMPRODUCT((LEFT(Extraction!BG4:BG7,LEN(Extraction!BG4:BG7)-1))*(Extraction!$B$4:$B7="S98 CODIMAS DISTRIBUTION")*(Extraction!$A$4:$A7="Mai")) -> 0 | F83: =SUMPRODUCT((LEFT(Extraction!BH4:BH7,LEN(Extraction!BH4:BH7)-1))*(Extraction!$B$4:$B7="S98 CODIMAS DISTRIBUTION")*(Extraction!$A$4:$A7="Mai")) -> 0 | G83: =SUMPRODUCT((LEFT(Extraction!BI4:BI7,LEN(Extraction!BI4:BI7)-1))*(Extraction!$B$4:$B7="S98 CODIMAS DISTRIBUTION")*(Extraction!$A$4:$A7="Mai")) -> 0 | H83: =SUMPRODUCT((LEFT(Extraction!BJ4:BJ7,LEN(Extraction!BJ4:BJ7)-1))*(Extraction!$B$4:$B7="S98 CODIMAS DISTRIBUTION")*(Extraction!$A$4:$A7="Mai")) -> 0 | I83: =SUMPRODUCT((LEFT(Extraction!BK4:BK7,LEN(Extraction!BK4:BK7)-1))*(Extraction!$B$4:$B7="S98 CODIMAS DISTRIBUTION")*(Extraction!$A$4:$A7="Mai")) -> 0 | J83: =SUMPRODUCT((LEFT(Extraction!BL4:BL7,LEN(Extraction!BL4:BL7)-1))*(Extraction!$B$4:$B7="S98 CODIMAS DISTRIBUTION")*(Extraction!$A$4:$A7="Mai")) -> 0 | ... AL83: =SUMPRODUCT((LEFT(Extraction!CN4:CN7,LEN(Extraction!CN4:CN7)-1))*(Extraction!$B$4:$B7="S98 CODIMAS DISTRIBUTION")*(Extraction!$A$4:$A7="Mai")) -> 0 | AM83: =SUM(B83:D83,G83:H83,R83:S83,W83:AE83,AG83,AI83:AL83) -> 0 | AN83: =SUM(E83:F83,I83:Q83,T83:V83,AF83,AH83) -> 0
A84: Total | B84: =SUM(B62:B83) -> 0 | C84: =SUM(C62:C83) -> 0 | D84: =SUM(D62:D83) -> 0 | E84: =SUM(E62:E83) -> 0 | F84: =SUM(F62:F83) -> 0 | G84: =SUM(G62:G83) -> 0 | H84: =SUM(H62:H83) -> 0 | I84: =SUM(I62:I83) -> 0 | ... AL84: =SUM(AL62:AL83) -> 0 | AM84: =SUM(B84:D84,G84:H84,R84:S84,W84:AE84,AG84,AI84:AL84) -> 0 | AN84: =SUM(E84:F84,I84:Q84,T84:V84,AF84,AH84) -> 0

Sheet Absence mensuelle
A2: Mois | C2: Janvier | D2: Février | E2: Mars | F2: Avril | G2: Mai | H2: Juin | I2: Juillet | J2: Août | K2: Septembre | L2: Octobre | M2: Novembre | N2: Décembre | O2: Total | P2: Moyenne
A3: Types d'absences
A4: NON IMPACTANTES | B4: CP | C4: =SUMPRODUCT((LEFT(Extraction!$BD$4:$BD7,LEN(Extraction!$BD$4:$BD7)-1))*(Extraction!$A$4:$A7="Janvier")) -> 0 | D4: =SUMPRODUCT((LEFT(Extraction!$BD$4:$BD7,LEN(Extraction!$BD$4:$BD7)-1))*(Extraction!$A$4:$A7="Février")) -> 0 | E4: =SUMPRODUCT((LEFT(Extraction!$BD$4:$BD7,LEN(Extraction!$BD$4:$BD7)-1))*(Extraction!$A$4:$A7="Mars")) -> 0 | F4: =SUMPRODUCT((LEFT(Extraction!$BD$4:$BD7,LEN(Extraction!$BD$4:$BD7)-1))*(Extraction!$A$4:$A7="Avril")) -> 0 | G4: =SUMPRODUCT((LEFT(Extraction!$BD$4:$BD7,LEN(Extraction!$BD$4:$BD7)-1))*(Extraction!$A$4:$A7="Mai")) -> 0 | H4: =SUMPRODUCT((LEFT(Extraction!$BD$4:$BD7,LEN(Extraction!$BD$4:$BD7)-1))*(Extraction!$A$4:$A7="Juin")) -> 0 | I4: =SUMPRODUCT((LEFT(Extraction!$BD$4:$BD7,LEN(Extraction!$BD$4:$BD7)-1))*(Extraction!$A$4:$A7="Juillet")) -> 0 | J4: =SUMPRODUCT((LEFT(Extraction!$BD$4:$BD7,LEN(Extraction!$BD$4:$BD7)-1))*(Extraction!$A$4:$A7="Août")) -> 0 | K4: =SUMPRODUCT((LEFT(Extraction!$BD$4:$BD7,LEN(Extraction!$BD$4:$BD7)-1))*(Extraction!$A$4:$A7="Septembre")) -> 0 | L4: =SUMPRODUCT((LEFT(Extraction!$BD$4:$BD7,LEN(Extraction!$BD$4:$BD7)-1))*(Extraction!$A$4:$A7="Octobre")) -> 0 | M4: =SUMPRODUCT((LEFT(Extraction!$BD$4:$BD7,LEN(Extraction!$BD$4:$BD7)-1))*(Extraction!$A$4:$A7="Novembre")) -> 0 | N4: =SUMPRODUCT((LEFT(Extraction!$BD$4:$BD7,LEN(Extraction!$BD$4:$BD7)-1))*(Extraction!$A$4:$A7="Décembre")) -> 0 | O4: =SUM(C4:N4) -> 0 | P4: =AVERAGE(O4) -> 0
B5: JF | C5: =SUMPRODUCT((LEFT(Extraction!$BE$4:$BE7,LEN(Extraction!$BE$4:$BE7)-1))*(Extraction!$A$4:$A7="Janvier")) -> 0 | D5: =SUMPRODUCT((LEFT(Extraction!$BE$4:$BE7,LEN(Extraction!$BE$4:$BE7)-1))*(Extraction!$A$4:$A7="Février")) -> 0 | E5: =SUMPRODUCT((LEFT(Extraction!$BE$4:$BE7,LEN(Extraction!$BE$4:$BE7)-1))*(Extraction!$A$4:$A7="Mars")) -> 0 | F5: =SUMPRODUCT((LEFT(Extraction!$BE$4:$BE7,LEN(Extraction!$BE$4:$BE7)-1))*(Extraction!$A$4:$A7="Avril")) -> 0 | G5: =SUMPRODUCT((LEFT(Extraction!$BE$4:$BE7,LEN(Extraction!$BE$4:$BE7)-1))*(Extraction!$A$4:$A7="Mai")) -> 0 | H5: =SUMPRODUCT((LEFT(Extraction!$BE$4:$BE7,LEN(Extraction!$BE$4:$BE7)-1))*(Extraction!$A$4:$A7="Juin")) -> 0 | I5: =SUMPRODUCT((LEFT(Extraction!$BE$4:$BE7,LEN(Extraction!$BE$4:$BE7)-1))*(Extraction!$A$4:$A7="Juillet")) -> 0 | J5: =SUMPRODUCT((LEFT(Extraction!$BE$4:$BE7,LEN(Extraction!$BE$4:$BE7)-1))*(Extraction!$A$4:$A7="Août")) -> 0 | K5: =SUMPRODUCT((LEFT(Extraction!$BE$4:$BE7,LEN(Extraction!$BE$4:$BE7)-1))*(Extraction!$A$4:$A7="Septembre")) -> 0 | L5: =SUMPRODUCT((LEFT(Extraction!$BE$4:$BE7,LEN(Extraction!$BE$4:$BE7)-1))*(Extraction!$A$4:$A7="Octobre")) -> 0 | M5: =SUMPRODUCT((LEFT(Extraction!$BE$4:$BE7,LEN(Extraction!$BE$4:$BE7)-1))*(Extraction!$A$4:$A7="Novembre")) -> 0 | N5: =SUMPRODUCT((LEFT(Extraction!$BE$4:$BE7,LEN(Extraction!$BE$4:$BE7)-1))*(Extraction!$A$4:$A7="Décembre")) -> 0 | O5: =SUM(C5:N5) -> 0 | P5: =AVERAGE(O5) -> 0
B6: EVF | C6: =SUMPRODUCT((LEFT(Extraction!$BF$4:$BF7,LEN(Extraction!$BF$4:$BF7)-1))*(Extraction!$A$4:$A7="Janvier")) -> 0 | D6: =SUMPRODUCT((LEFT(Extraction!$BF$4:$BF7,LEN(Extraction!$BF$4:$BF7)-1))*(Extraction!$A$4:$A7="Février")) -> 0 | E6: =SUMPRODUCT((LEFT(Extraction!$BF$4:$BF7,LEN(Extraction!$BF$4:$BF7)-1))*(Extraction!$A$4:$A7="Mars")) -> 4 | F6: =SUMPRODUCT((LEFT(Extraction!$BF$4:$BF7,LEN(Extraction!$BF$4:$BF7)-1))*(Extraction!$A$4:$A7="Avril")) -> 0 | G6: =SUMPRODUCT((LEFT(Extraction!$BF$4:$BF7,LEN(Extraction!$BF$4:$BF7)-1))*(Extraction!$A$4:$A7="Mai")) -> 0 | H6: =SUMPRODUCT((LEFT(Extraction!$BF$4:$BF7,LEN(Extraction!$BF$4:$BF7)-1))*(Extraction!$A$4:$A7="Juin")) -> 0 | I6: =SUMPRODUCT((LEFT(Extraction!$BF$4:$BF7,LEN(Extraction!$BF$4:$BF7)-1))*(Extraction!$A$4:$A7="Juillet")) -> 0 | J6: =SUMPRODUCT((LEFT(Extraction!$BF$4:$BF7,LEN(Extraction!$BF$4:$BF7)-1))*(Extraction!$A$4:$A7="Août")) -> 0 | K6: =SUMPRODUCT((LEFT(Extraction!$BF$4:$BF7,LEN(Extraction!$BF$4:$BF7)-1))*(Extraction!$A$4:$A7="Septembre")) -> 0 | L6: =SUMPRODUCT((LEFT(Extraction!$BF$4:$BF7,LEN(Extraction!$BF$4:$BF7)-1))*(Extraction!$A$4:$A7="Octobre")) -> 0 | M6: =SUMPRODUCT((LEFT(Extraction!$BF$4:$BF7,LEN(Extraction!$BF$4:$BF7)-1))*(Extraction!$A$4:$A7="Novembre")) -> 0 | N6: =SUMPRODUCT((LEFT(Extraction!$BF$4:$BF7,LEN(Extraction!$BF$4:$BF7)-1))*(Extraction!$A$4:$A7="Décembre")) -> 0 | O6: =SUM(C6:N6) -> 4 | P6: =AVERAGE(O6) -> 4
B7: RM | C7: =SUMPRODUCT((LEFT(Extraction!$BG$4:$BG7,LEN(Extraction!$BG$4:$BG7)-1))*(Extraction!$A$4:$A7="Janvier")) -> 0 | D7: =SUMPRODUCT((LEFT(Extraction!$BG$4:$BG7,LEN(Extraction!$BG$4:$BG7)-1))*(Extraction!$A$4:$A7="Février")) -> 0 | E7: =SUMPRODUCT((LEFT(Extraction!$BG$4:$BG7,LEN(Extraction!$BG$4:$BG7)-1))*(Extraction!$A$4:$A7="Mars")) -> 0 | F7: =SUMPRODUCT((LEFT(Extraction!$BG$4:$BG7,LEN(Extraction!$BG$4:$BG7)-1))*(Extraction!$A$4:$A7="Avril")) -> 0 | G7: =SUMPRODUCT((LEFT(Extraction!$BG$4:$BG7,LEN(Extraction!$BG$4:$BG7)-1))*(Extraction!$A$4:$A7="Mai")) -> 0 | H7: =SUMPRODUCT((LEFT(Extraction!$BG$4:$BG7,LEN(Extraction!$BG$4:$BG7)-1))*(Extraction!$A$4:$A7="Juin")) -> 0 | I7: =SUMPRODUCT((LEFT(Extraction!$BG$4:$BG7,LEN(Extraction!$BG$4:$BG7)-1))*(Extraction!$A$4:$A7="Juillet")) -> 0 | J7: =SUMPRODUCT((LEFT(Extraction!$BG$4:$BG7,LEN(Extraction!$BG$4:$BG7)-1))*(Extraction!$A$4:$A7="Août")) -> 0 | K7: =SUMPRODUCT((LEFT(Extraction!$BG$4:$BG7,LEN(Extraction!$BG$4:$BG7)-1))*(Extraction!$A$4:$A7="Septembre")) -> 0 | L7: =SUMPRODUCT((LEFT(Extraction!$BG$4:$BG7,LEN(Extraction!$BG$4:$BG7)-1))*(Extraction!$A$4:$A7="Octobre")) -> 0 | M7: =SUMPRODUCT((LEFT(Extraction!$BG$4:$BG7,LEN(Extraction!$BG$4:$BG7)-1))*(Extraction!$A$4:$A7="Novembre")) -> 0 | N7: =SUMPRODUCT((LEFT(Extraction!$BG$4:$BG7,LEN(Extraction!$BG$4:$BG7)-1))*(Extraction!$A$4:$A7="Décembre")) -> 0 | O7: =SUM(C7:N7) -> 0 | P7: =AVERAGE(O7) -> 0
B8: RE | C8: =SUMPRODUCT((LEFT(Extraction!$BH$4:$BH7,LEN(Extraction!$BH$4:$BH7)-1))*(Extraction!$A$4:$A7="Janvier")) -> 0 | D8: =SUMPRODUCT((LEFT(Extraction!$BH$4:$BH7,LEN(Extraction!$BH$4:$BH7)-1))*(Extraction!$A$4:$A7="Février")) -> 0 | E8: =SUMPRODUCT((LEFT(Extraction!$BH$4:$BH7,LEN(Extraction!$BH$4:$BH7)-1))*(Extraction!$A$4:$A7="Mars")) -> 0 | F8: =SUMPRODUCT((LEFT(Extraction!$BH$4:$BH7,LEN(Extraction!$BH$4:$BH7)-1))*(Extraction!$A$4:$A7="Avril")) -> 0 | G8: =SUMPRODUCT((LEFT(Extraction!$BH$4:$BH7,LEN(Extraction!$BH$4:$BH7)-1))*(Extraction!$A$4:$A7="Mai")) -> 0 | H8: =SUMPRODUCT((LEFT(Extraction!$BH$4:$BH7,LEN(Extraction!$BH$4:$BH7)-1))*(Extraction!$A$4:$A7="Juin")) -> 0 | I8: =SUMPRODUCT((LEFT(Extraction!$BH$4:$BH7,LEN(Extraction!$BH$4:$BH7)-1))*(Extraction!$A$4:$A7="Juillet")) -> 0 | J8: =SUMPRODUCT((LEFT(Extraction!$BH$4:$BH7,LEN(Extraction!$BH$4:$BH7)-1))*(Extraction!$A$4:$A7="Août")) -> 0 | K8: =SUMPRODUCT((LEFT(Extraction!$BH$4:$BH7,LEN(Extraction!$BH$4:$BH7)-1))*(Extraction!$A$4:$A7="Septembre")) -> 0 | L8: =SUMPRODUCT((LEFT(Extraction!$BH$4:$BH7,LEN(Extraction!$BH$4:$BH7)-1))*(Extraction!$A$4:$A7="Octobre")) -> 0 | M8: =SUMPRODUCT((LEFT(Extraction!$BH$4:$BH7,LEN(Extraction!$BH$4:$BH7)-1))*(Extraction!$A$4:$A7="Novembre")) -> 0 | N8: =SUMPRODUCT((LEFT(Extraction!$BH$4:$BH7,LEN(Extraction!$BH$4:$BH7)-1))*(Extraction!$A$4:$A7="Décembre")) -> 0 | O8: =SUM(C8:N8) -> 0 | P8: =AVERAGE(O8) -> 0
B9: RO | C9: =SUMPRODUCT((LEFT(Extraction!$BI$4:$BI7,LEN(Extraction!$BI$4:$BI7)-1))*(Extraction!$A$4:$A7="Janvier")) -> 0 | D9: =SUMPRODUCT((LEFT(Extraction!$BI$4:$BI7,LEN(Extraction!$BI$4:$BI7)-1))*(Extraction!$A$4:$A7="Février")) -> 0 | E9: =SUMPRODUCT((LEFT(Extraction!$BI$4:$BI7,LEN(Extraction!$BI$4:$BI7)-1))*(Extraction!$A$4:$A7="Mars")) -> 0 | F9: =SUMPRODUCT((LEFT(Extraction!$BI$4:$BI7,LEN(Extraction!$BI$4:$BI7)-1))*(Extraction!$A$4:$A7="Avril")) -> 0 | G9: =SUMPRODUCT((LEFT(Extraction!$BI$4:$BI7,LEN(Extraction!$BI$4:$BI7)-1))*(Extraction!$A$4:$A7="Mai")) -> 0 | H9: =SUMPRODUCT((LEFT(Extraction!$BI$4:$BI7,LEN(Extraction!$BI$4:$BI7)-1))*(Extraction!$A$4:$A7="Juin")) -> 0 | I9: =SUMPRODUCT((LEFT(Extraction!$BI$4:$BI7,LEN(Extraction!$BI$4:$BI7)-1))*(Extraction!$A$4:$A7="Juillet")) -> 0 | J9: =SUMPRODUCT((LEFT(Extraction!$BI$4:$BI7,LEN(Extraction!$BI$4:$BI7)-1))*(Extraction!$A$4:$A7="Août")) -> 0 | K9: =SUMPRODUCT((LEFT(Extraction!$BI$4:$BI7,LEN(Extraction!$BI$4:$BI7)-1))*(Extraction!$A$4:$A7="Septembre")) -> 0 | L9: =SUMPRODUCT((LEFT(Extraction!$BI$4:$BI7,LEN(Extraction!$BI$4:$BI7)-1))*(Extraction!$A$4:$A7="Octobre")) -> 0 | M9: =SUMPRODUCT((LEFT(Extraction!$BI$4:$BI7,LEN(Extraction!$BI$4:$BI7)-1))*(Extraction!$A$4:$A7="Novembre")) -> 0 | N9: =SUMPRODUCT((LEFT(Extraction!$BI$4:$BI7,LEN(Extraction!$BI$4:$BI7)-1))*(Extraction!$A$4:$A7="Décembre")) -> 0 | O9: =SUM(C9:N9) -> 0 | P9: =AVERAGE(O9) -> 0
B10: RC | C10: =SUMPRODUCT((LEFT(Extraction!$BJ$4:$BJ7,LEN(Extraction!$BJ$4:$BJ7)-1))*(Extraction!$A$4:$A7="Janvier")) -> 0 | D10: =SUMPRODUCT((LEFT(Extraction!$BJ$4:$BJ7,LEN(Extraction!$BJ$4:$BJ7)-1))*(Extraction!$A$4:$A7="Février")) -> 0 | E10: =SUMPRODUCT((LEFT(Extraction!$BJ$4:$BJ7,LEN(Extraction!$BJ$4:$BJ7)-1))*(Extraction!$A$4:$A7="Mars")) -> 0 | F10: =SUMPRODUCT((LEFT(Extraction!$BJ$4:$BJ7,LEN(Extraction!$BJ$4:$BJ7)-1))*(Extraction!$A$4:$A7="Avril")) -> 0 | G10: =SUMPRODUCT((LEFT(Extraction!$BJ$4:$BJ7,LEN(Extraction!$BJ$4:$BJ7)-1))*(Extraction!$A$4:$A7="Mai")) -> 0 | H10: =SUMPRODUCT((LEFT(Extraction!$BJ$4:$BJ7,LEN(Extraction!$BJ$4:$BJ7)-1))*(Extraction!$A$4:$A7="Juin")) -> 0 | I10: =SUMPRODUCT((LEFT(Extraction!$BJ$4:$BJ7,LEN(Extraction!$BJ$4:$BJ7)-1))*(Extraction!$A$4:$A7="Juillet")) -> 0 | J10: =SUMPRODUCT((LEFT(Extraction!$BJ$4:$BJ7,LEN(Extraction!$BJ$4:$BJ7)-1))*(Extraction!$A$4:$A7="Août")) -> 0 | K10: =SUMPRODUCT((LEFT(Extraction!$BJ$4:$BJ7,LEN(Extraction!$BJ$4:$BJ7)-1))*(Extraction!$A$4:$A7="Septembre")) -> 0 | L10: =SUMPRODUCT((LEFT(Extraction!$BJ$4:$BJ7,LEN(Extraction!$BJ$4:$BJ7)-1))*(Extraction!$A$4:$A7="Octobre")) -> 0 | M10: =SUMPRODUCT((LEFT(Extraction!$BJ$4:$BJ7,LEN(Extraction!$BJ$4:$BJ7)-1))*(Extraction!$A$4:$A7="Novembre")) -> 0 | N10: =SUMPRODUCT((LEFT(Extraction!$BJ$4:$BJ7,LEN(Extraction!$BJ$4:$BJ7)-1))*(Extraction!$A$4:$A7="Décembre")) -> 0 | O10: =SUM(C10:N10) -> 0 | P10: =AVERAGE(O10) -> 0
B11: RCRA | C11: =SUMPRODUCT((LEFT(Extraction!$BK$4:$BK7,LEN(Extraction!$BK$4:$BK7)-1))*(Extraction!$A$4:$A7="Janvier")) -> 0 | D11: =SUMPRODUCT((LEFT(Extraction!$BK$4:$BK7,LEN(Extraction!$BK$4:$BK7)-1))*(Extraction!$A$4:$A7="Février")) -> 0 | E11: =SUMPRODUCT((LEFT(Extraction!$BK$4:$BK7,LEN(Extraction!$BK$4:$BK7)-1))*(Extraction!$A$4:$A7="Mars")) -> 0 | F11: =SUMPRODUCT((LEFT(Extraction!$BK$4:$BK7,LEN(Extraction!$BK$4:$BK7)-1))*(Extraction!$A$4:$A7="Avril")) -> 0 | G11: =SUMPRODUCT((LEFT(Extraction!$BK$4:$BK7,LEN(Extraction!$BK$4:$BK7)-1))*(Extraction!$A$4:$A7="Mai")) -> 0 | H11: =SUMPRODUCT((LEFT(Extraction!$BK$4:$BK7,LEN(Extraction!$BK$4:$BK7)-1))*(Extraction!$A$4:$A7="Juin")) -> 0 | I11: =SUMPRODUCT((LEFT(Extraction!$BK$4:$BK7,LEN(Extraction!$BK$4:$BK7)-1))*(Extraction!$A$4:$A7="Juillet")) -> 0 | J11: =SUMPRODUCT((LEFT(Extraction!$BK$4:$BK7,LEN(Extraction!$BK$4:$BK7)-1))*(Extraction!$A$4:$A7="Août")) -> 0 | K11: =SUMPRODUCT((LEFT(Extraction!$BK$4:$BK7,LEN(Extraction!$BK$4:$BK7)-1))*(Extraction!$A$4:$A7="Septembre")) -> 0 | L11: =SUMPRODUCT((LEFT(Extraction!$BK$4:$BK7,LEN(Extraction!$BK$4:$BK7)-1))*(Extraction!$A$4:$A7="Octobre")) -> 0 | M11: =SUMPRODUCT((LEFT(Extraction!$BK$4:$BK7,LEN(Extraction!$BK$4:$BK7)-1))*(Extraction!$A$4:$A7="Novembre")) -> 0 | N11: =SUMPRODUCT((LEFT(Extraction!$BK$4:$BK7,LEN(Extraction!$BK$4:$BK7)-1))*(Extraction!$A$4:$A7="Décembre")) -> 0 | O11: =SUM(C11:N11) -> 0 | P11: =AVERAGE(O11) -> 0
B12: RCRM | C12: =SUMPRODUCT((LEFT(Extraction!$BL$4:$BL7,LEN(Extraction!$BL4:$BL7)-1))*(Extraction!$A$4:$A7="Janvier")) -> 0 | D12: =SUMPRODUCT((LEFT(Extraction!$BL$4:$BL7,LEN(Extraction!$BL4:$BL7)-1))*(Extraction!$A$4:$A7="Février")) -> 0 | E12: =SUMPRODUCT((LEFT(Extraction!$BL$4:$BL7,LEN(Extraction!$BL4:$BL7)-1))*(Extraction!$A$4:$A7="Mars")) -> 0 | F12: =SUMPRODUCT((LEFT(Extraction!$BL$4:$BL7,LEN(Extraction!$BL4:$BL7)-1))*(Extraction!$A$4:$A7="Avril")) -> 0 | G12: =SUMPRODUCT((LEFT(Extraction!$BL$4:$BL7,LEN(Extraction!$BL4:$BL7)-1))*(Extraction!$A$4:$A7="Mai")) -> 0 | H12: =SUMPRODUCT((LEFT(Extraction!$BL$4:$BL7,LEN(Extraction!$BL4:$BL7)-1))*(Extraction!$A$4:$A7="Juin")) -> 0 | I12: =SUMPRODUCT((LEFT(Extraction!$BL$4:$BL7,LEN(Extraction!$BL4:$BL7)-1))*(Extraction!$A$4:$A7="Juillet")) -> 0 | J12: =SUMPRODUCT((LEFT(Extraction!$BL$4:$BL7,LEN(Extraction!$BL4:$BL7)-1))*(Extraction!$A$4:$A7="Août")) -> 0 | K12: =SUMPRODUCT((LEFT(Extraction!$BL$4:$BL7,LEN(Extraction!$BL4:$BL7)-1))*(Extraction!$A$4:$A7="Septembre")) -> 0 | L12: =SUMPRODUCT((LEFT(Extraction!$BL$4:$BL7,LEN(Extraction!$BL4:$BL7)-1))*(Extraction!$A$4:$A7="Octobre")) -> 0 | M12: =SUMPRODUCT((LEFT(Extraction!$BL$4:$BL7,LEN(Extraction!$BL4:$BL7)-1))*(Extraction!$A$4:$A7="Novembre")) -> 0 | N12: =SUMPRODUCT((LEFT(Extraction!$BL$4:$BL7,LEN(Extraction!$BL4:$BL7)-1))*(Extraction!$A$4:$A7="Décembre")) -> 0 | O12: =SUM(C12:N12) -> 0 | P12: =AVERAGE(O12) -> 0
B13: RCN | C13: =SUMPRODUCT((LEFT(Extraction!$BM$4:$BM7,LEN(Extraction!$BM$4:$BM7)-1))*(Extraction!$A$4:$A7="Janvier")) -> 0 | D13: =SUMPRODUCT((LEFT(Extraction!$BM$4:$BM7,LEN(Extraction!$BM$4:$BM7)-1))*(Extraction!$A$4:$A7="Février")) -> 0 | E13: =SUMPRODUCT((LEFT(Extraction!$BM$4:$BM7,LEN(Extraction!$BM$4:$BM7)-1))*(Extraction!$A$4:$A7="Mars")) -> 0 | F13: =SUMPRODUCT((LEFT(Extraction!$BM$4:$BM7,LEN(Extraction!$BM$4:$BM7)-1))*(Extraction!$A$4:$A7="Avril")) -> 0 | G13: =SUMPRODUCT((LEFT(Extraction!$BM$4:$BM7,LEN(Extraction!$BM$4:$BM7)-1))*(Extraction!$A$4:$A7="Mai")) -> 0 | H13: =SUMPRODUCT((LEFT(Extraction!$BM$4:$BM7,LEN(Extraction!$BM$4:$BM7)-1))*(Extraction!$A$4:$A7="Juin")) -> 0 | I13: =SUMPRODUCT((LEFT(Extraction!$BM$4:$BM7,LEN(Extraction!$BM$4:$BM7)-1))*(Extraction!$A$4:$A7="Juillet")) -> 0 | J13: =SUMPRODUCT((LEFT(Extraction!$BM$4:$BM7,LEN(Extraction!$BM$4:$BM7)-1))*(Extraction!$A$4:$A7="Août")) -> 0 | K13: =SUMPRODUCT((LEFT(Extraction!$BM$4:$BM7,LEN(Extraction!$BM$4:$BM7)-1))*(Extraction!$A$4:$A7="Septembre")) -> 0 | L13: =SUMPRODUCT((LEFT(Extraction!$BM$4:$BM7,LEN(Extraction!$BM$4:$BM7)-1))*(Extraction!$A$4:$A7="Octobre")) -> 0 | M13: =SUMPRODUCT((LEFT(Extraction!$BM$4:$BM7,LEN(Extraction!$BM$4:$BM7)-1))*(Extraction!$A$4:$A7="Novembre")) -> 0 | N13: =SUMPRODUCT((LEFT(Extraction!$BM$4:$BM7,LEN(Extraction!$BM$4:$BM7)-1))*(Extraction!$A$4:$A7="Décembre")) -> 0 | O13: =SUM(C13:N13) -> 0 | P13: =AVERAGE(O13) -> 0
B14: TPA | C14: =SUMPRODUCT((LEFT(Extraction!$BN$4:$BN7,LEN(Extraction!$BN$4:$BN7)-1))*(Extraction!$A$4:$A7="Janvier")) -> 0 | D14: =SUMPRODUCT((LEFT(Extraction!$BN$4:$BN7,LEN(Extraction!$BN$4:$BN7)-1))*(Extraction!$A$4:$A7="Février")) -> 0 | E14: =SUMPRODUCT((LEFT(Extraction!$BN$4:$BN7,LEN(Extraction!$BN$4:$BN7)-1))*(Extraction!$A$4:$A7="Mars")) -> 0 | F14: =SUMPRODUCT((LEFT(Extraction!$BN$4:$BN7,LEN(Extraction!$BN$4:$BN7)-1))*(Extraction!$A$4:$A7="Avril")) -> 0 | G14: =SUMPRODUCT((LEFT(Extraction!$BN$4:$BN7,LEN(Extraction!$BN$4:$BN7)-1))*(Extraction!$A$4:$A7="Mai")) -> 0 | H14: =SUMPRODUCT((LEFT(Extraction!$BN$4:$BN7,LEN(Extraction!$BN$4:$BN7)-1))*(Extraction!$A$4:$A7="Juin")) -> 0 | I14: =SUMPRODUCT((LEFT(Extraction!$BN$4:$BN7,LEN(Extraction!$BN$4:$BN7)-1))*(Extraction!$A$4:$A7="Juillet")) -> 0 | J14: =SUMPRODUCT((LEFT(Extraction!$BN$4:$BN7,LEN(Extraction!$BN$4:$BN7)-1))*(Extraction!$A$4:$A7="Août")) -> 0 | K14: =SUMPRODUCT((LEFT(Extraction!$BN$4:$BN7,LEN(Extraction!$BN$4:$BN7)-1))*(Extraction!$A$4:$A7="Septembre")) -> 0 | L14: =SUMPRODUCT((LEFT(Extraction!$BN$4:$BN7,LEN(Extraction!$BN$4:$BN7)-1))*(Extraction!$A$4:$A7="Octobre")) -> 0 | M14: =SUMPRODUCT((LEFT(Extraction!$BN$4:$BN7,LEN(Extraction!$BN$4:$BN7)-1))*(Extraction!$A$4:$A7="Novembre")) -> 0 | N14: =SUMPRODUCT((LEFT(Extraction!$BN$4:$BN7,LEN(Extraction!$BN$4:$BN7)-1))*(Extraction!$A$4:$A7="Décembre")) -> 0 | O14: =SUM(C14:N14) -> 0 | P14: =AVERAGE(O14) -> 0
B15: TM | C15: =SUMPRODUCT((LEFT(Extraction!$BO$4:$BO7,LEN(Extraction!$BO$4:$BO7)-1))*(Extraction!$A$4:$A7="Janvier")) -> 0 | D15: =SUMPRODUCT((LEFT(Extraction!$BO$4:$BO7,LEN(Extraction!$BO$4:$BO7)-1))*(Extraction!$A$4:$A7="Février")) -> 0 | E15: =SUMPRODUCT((LEFT(Extraction!$BO$4:$BO7,LEN(Extraction!$BO$4:$BO7)-1))*(Extraction!$A$4:$A7="Mars")) -> 0 | F15: =SUMPRODUCT((LEFT(Extraction!$BO$4:$BO7,LEN(Extraction!$BO$4:$BO7)-1))*(Extraction!$A$4:$A7="Avril")) -> 0 | G15: =SUMPRODUCT((LEFT(Extraction!$BO$4:$BO7,LEN(Extraction!$BO$4:$BO7)-1))*(Extraction!$A$4:$A7="Mai")) -> 0 | H15: =SUMPRODUCT((LEFT(Extraction!$BO$4:$BO7,LEN(Extraction!$BO$4:$BO7)-1))*(Extraction!$A$4:$A7="Juin")) -> 0 | I15: =SUMPRODUCT((LEFT(Extraction!$BO$4:$BO7,LEN(Extraction!$BO$4:$BO7)-1))*(Extraction!$A$4:$A7="Juillet")) -> 0 | J15: =SUMPRODUCT((LEFT(Extraction!$BO$4:$BO7,LEN(Extraction!$BO$4:$BO7)-1))*(Extraction!$A$4:$A7="Août")) -> 0 | K15: =SUMPRODUCT((LEFT(Extraction!$BO$4:$BO7,LEN(Extraction!$BO$4:$BO7)-1))*(Extraction!$A$4:$A7="Septembre")) -> 0 | L15: =SUMPRODUCT((LEFT(Extraction!$BO$4:$BO7,LEN(Extraction!$BO$4:$BO7)-1))*(Extraction!$A$4:$A7="Octobre")) -> 0 | M15: =SUMPRODUCT((LEFT(Extraction!$BO$4:$BO7,LEN(Extraction!$BO$4:$BO7)-1))*(Extraction!$A$4:$A7="Novembre")) -> 0 | N15: =SUMPRODUCT((LEFT(Extraction!$BO$4:$BO7,LEN(Extraction!$BO$4:$BO7)-1))*(Extraction!$A$4:$A7="Décembre")) -> 0 | O15: =SUM(C15:N15) -> 0 | P15: =AVERAGE(O15) -> 0
B16: DISK | C16: =SUMPRODUCT((LEFT(Extraction!$BP$4:$BP7,LEN(Extraction!$BP$4:$BP7)-1))*(Extraction!$A$4:$A7="Janvier")) -> 0 | D16: =SUMPRODUCT((LEFT(Extraction!$BP$4:$BP7,LEN(Extraction!$BP$4:$BP7)-1))*(Extraction!$A$4:$A7="Février")) -> 0 | E16: =SUMPRODUCT((LEFT(Extraction!$BP$4:$BP7,LEN(Extraction!$BP$4:$BP7)-1))*(Extraction!$A$4:$A7="Mars")) -> 0 | F16: =SUMPRODUCT((LEFT(Extraction!$BP$4:$BP7,LEN(Extraction!$BP$4:$BP7)-1))*(Extraction!$A$4:$A7="Avril")) -> 0 | G16: =SUMPRODUCT((LEFT(Extraction!$BP$4:$BP7,LEN(Extraction!$BP$4:$BP7)-1))*(Extraction!$A$4:$A7="Mai")) -> 0 | H16: =SUMPRODUCT((LEFT(Extraction!$BP$4:$BP7,LEN(Extraction!$BP$4:$BP7)-1))*(Extraction!$A$4:$A7="Juin")) -> 0 | I16: =SUMPRODUCT((LEFT(Extraction!$BP$4:$BP7,LEN(Extraction!$BP$4:$BP7)-1))*(Extraction!$A$4:$A7="Juillet")) -> 0 | J16: =SUMPRODUCT((LEFT(Extraction!$BP$4:$BP7,LEN(Extraction!$BP$4:$BP7)-1))*(Extraction!$A$4:$A7="Août")) -> 0 | K16: =SUMPRODUCT((LEFT(Extraction!$BP$4:$BP7,LEN(Extraction!$BP$4:$BP7)-1))*(Extraction!$A$4:$A7="Septembre")) -> 0 | L16: =SUMPRODUCT((LEFT(Extraction!$BP$4:$BP7,LEN(Extraction!$BP$4:$BP7)-1))*(Extraction!$A$4:$A7="Octobre")) -> 0 | M16: =SUMPRODUCT((LEFT(Extraction!$BP$4:$BP7,LEN(Extraction!$BP$4:$BP7)-1))*(Extraction!$A$4:$A7="Novembre")) -> 0 | N16: =SUMPRODUCT((LEFT(Extraction!$BP$4:$BP7,LEN(Extraction!$BP$4:$BP7)-1))*(Extraction!$A$4:$A7="Décembre")) -> 0 | O16: =SUM(C16:N16) -> 0 | P16: =AVERAGE(O16) -> 0
B17: DEL | C17: =SUMPRODUCT((LEFT(Extraction!$BQ$4:$BQ7,LEN(Extraction!$BQ4:$BQ7)-1))*(Extraction!$A$4:$A7="Janvier")) -> 0 | D17: =SUMPRODUCT((LEFT(Extraction!$BQ$4:$BQ7,LEN(Extraction!$BQ4:$BQ7)-1))*(Extraction!$A$4:$A7="Février")) -> 0 | E17: =SUMPRODUCT((LEFT(Extraction!$BQ$4:$BQ7,LEN(Extraction!$BQ4:$BQ7)-1))*(Extraction!$A$4:$A7="Mars")) -> 0 | F17: =SUMPRODUCT((LEFT(Extraction!$BQ$4:$BQ7,LEN(Extraction!$BQ4:$BQ7)-1))*(Extraction!$A$4:$A7="Avril")) -> 0 | G17: =SUMPRODUCT((LEFT(Extraction!$BQ$4:$BQ7,LEN(Extraction!$BQ4:$BQ7)-1))*(Extraction!$A$4:$A7="Mai")) -> 0 | H17: =SUMPRODUCT((LEFT(Extraction!$BQ$4:$BQ7,LEN(Extraction!$BQ4:$BQ7)-1))*(Extraction!$A$4:$A7="Juin")) -> 0 | I17: =SUMPRODUCT((LEFT(Extraction!$BQ$4:$BQ7,LEN(Extraction!$BQ4:$BQ7)-1))*(Extraction!$A$4:$A7="Juillet")) -> 0 | J17: =SUMPRODUCT((LEFT(Extraction!$BQ$4:$BQ7,LEN(Extraction!$BQ4:$BQ7)-1))*(Extraction!$A$4:$A7="Août")) -> 0 | K17: =SUMPRODUCT((LEFT(Extraction!$BQ$4:$BQ7,LEN(Extraction!$BQ4:$BQ7)-1))*(Extraction!$A$4:$A7="Septembre")) -> 0 | L17: =SUMPRODUCT((LEFT(Extraction!$BQ$4:$BQ7,LEN(Extraction!$BQ4:$BQ7)-1))*(Extraction!$A$4:$A7="Octobre")) -> 0 | M17: =SUMPRODUCT((LEFT(Extraction!$BQ$4:$BQ7,LEN(Extraction!$BQ4:$BQ7)-1))*(Extraction!$A$4:$A7="Novembre")) -> 0 | N17: =SUMPRODUCT((LEFT(Extraction!$BQ$4:$BQ7,LEN(Extraction!$BQ4:$BQ7)-1))*(Extraction!$A$4:$A7="Décembre")) -> 0 | O17: =SUM(C17:N17) -> 0 | P17: =AVERAGE(O17) -> 0
B18: DP | C18: =SUMPRODUCT((LEFT(Extraction!$BR$4:$BR7,LEN(Extraction!$BR$4:$BR7)-1))*(Extraction!$A$4:$A7="Janvier")) -> 0 | D18: =SUMPRODUCT((LEFT(Extraction!$BR$4:$BR7,LEN(Extraction!$BR$4:$BR7)-1))*(Extraction!$A$4:$A7="Février")) -> 0 | E18: =SUMPRODUCT((LEFT(Extraction!$BR$4:$BR7,LEN(Extraction!$BR$4:$BR7)-1))*(Extraction!$A$4:$A7="Mars")) -> 0 | F18: =SUMPRODUCT((LEFT(Extraction!$BR$4:$BR7,LEN(Extraction!$BR$4:$BR7)-1))*(Extraction!$A$4:$A7="Avril")) -> 0 | G18: =SUMPRODUCT((LEFT(Extraction!$BR$4:$BR7,LEN(Extraction!$BR$4:$BR7)-1))*(Extraction!$A$4:$A7="Mai")) -> 0 | H18: =SUMPRODUCT((LEFT(Extraction!$BR$4:$BR7,LEN(Extraction!$BR$4:$BR7)-1))*(Extraction!$A$4:$A7="Juin")) -> 0 | I18: =SUMPRODUCT((LEFT(Extraction!$BR$4:$BR7,LEN(Extraction!$BR$4:$BR7)-1))*(Extraction!$A$4:$A7="Juillet")) -> 0 | J18: =SUMPRODUCT((LEFT(Extraction!$BR$4:$BR7,LEN(Extraction!$BR$4:$BR7)-1))*(Extraction!$A$4:$A7="Août")) -> 0 | K18: =SUMPRODUCT((LEFT(Extraction!$BR$4:$BR7,LEN(Extraction!$BR$4:$BR7)-1))*(Extraction!$A$4:$A7="Septembre")) -> 0 | L18: =SUMPRODUCT((LEFT(Extraction!$BR$4:$BR7,LEN(Extraction!$BR$4:$BR7)-1))*(Extraction!$A$4:$A7="Octobre")) -> 0 | M18: =SUMPRODUCT((LEFT(Extraction!$BR$4:$BR7,LEN(Extraction!$BR$4:$BR7)-1))*(Extraction!$A$4:$A7="Novembre")) -> 0 | N18: =SUMPRODUCT((LEFT(Extraction!$BR$4:$BR7,LEN(Extraction!$BR$4:$BR7)-1))*(Extraction!$A$4:$A7="Décembre")) -> 0 | O18: =SUM(C18:N18) -> 0 | P18: =AVERAGE(O18) -> 0
B19: FORM | C19: =SUMPRODUCT((LEFT(Extraction!$BS$4:$BS7,LEN(Extraction!$BS$4:$BS7)-1))*(Extraction!$A$4:$A7="Janvier")) -> 0 | D19: =SUMPRODUCT((LEFT(Extraction!$BS$4:$BS7,LEN(Extraction!$BS$4:$BS7)-1))*(Extraction!$A$4:$A7="Février")) -> 0 | E19: =SUMPRODUCT((LEFT(Extraction!$BS$4:$BS7,LEN(Extraction!$BS$4:$BS7)-1))*(Extraction!$A$4:$A7="Mars")) -> 0 | F19: =SUMPRODUCT((LEFT(Extraction!$BS$4:$BS7,LEN(Extraction!$BS$4:$BS7)-1))*(Extraction!$A$4:$A7="Avril")) -> 0 | G19: =SUMPRODUCT((LEFT(Extraction!$BS$4:$BS7,LEN(Extraction!$BS$4:$BS7)-1))*(Extraction!$A$4:$A7="Mai")) -> 0 | H19: =SUMPRODUCT((LEFT(Extraction!$BS$4:$BS7,LEN(Extraction!$BS$4:$BS7)-1))*(Extraction!$A$4:$A7="Juin")) -> 0 | I19: =SUMPRODUCT((LEFT(Extraction!$BS$4:$BS7,LEN(Extraction!$BS$4:$BS7)-1))*(Extraction!$A$4:$A7="Juillet")) -> 0 | J19: =SUMPRODUCT((LEFT(Extraction!$BS$4:$BS7,LEN(Extraction!$BS$4:$BS7)-1))*(Extraction!$A$4:$A7="Août")) -> 0 | K19: =SUMPRODUCT((LEFT(Extraction!$BS$4:$BS7,LEN(Extraction!$BS$4:$BS7)-1))*(Extraction!$A$4:$A7="Septembre")) -> 0 | L19: =SUMPRODUCT((LEFT(Extraction!$BS$4:$BS7,LEN(Extraction!$BS$4:$BS7)-1))*(Extraction!$A$4:$A7="Octobre")) -> 0 | M19: =SUMPRODUCT((LEFT(Extraction!$BS$4:$BS7,LEN(Extraction!$BS$4:$BS7)-1))*(Extraction!$A$4:$A7="Novembre")) -> 0 | N19: =SUMPRODUCT((LEFT(Extraction!$BS$4:$BS7,LEN(Extraction!$BS$4:$BS7)-1))*(Extraction!$A$4:$A7="Décembre")) -> 0 | O19: =SUM(C19:N19) -> 0 | P19: =AVERAGE(O19) -> 0
B20: APPR | C20: =SUMPRODUCT((LEFT(Extraction!$BT$4:$BT7,LEN(Extraction!$BT$4:$BT7)-1))*(Extraction!$A$4:$A7="Janvier")) -> 0 | D20: =SUMPRODUCT((LEFT(Extraction!$BT$4:$BT7,LEN(Extraction!$BT$4:$BT7)-1))*(Extraction!$A$4:$A7="Février")) -> 0 | E20: =SUMPRODUCT((LEFT(Extraction!$BT$4:$BT7,LEN(Extraction!$BT$4:$BT7)-1))*(Extraction!$A$4:$A7="Mars")) -> 0 | F20: =SUMPRODUCT((LEFT(Extraction!$BT$4:$BT7,LEN(Extraction!$BT$4:$BT7)-1))*(Extraction!$A$4:$A7="Avril")) -> 0 | G20: =SUMPRODUCT((LEFT(Extraction!$BT$4:$BT7,LEN(Extraction!$BT$4:$BT7)-1))*(Extraction!$A$4:$A7="Mai")) -> 0 | H20: =SUMPRODUCT((LEFT(Extraction!$BT$4:$BT7,LEN(Extraction!$BT$4:$BT7)-1))*(Extraction!$A$4:$A7="Juin")) -> 0 | I20: =SUMPRODUCT((LEFT(Extraction!$BT$4:$BT7,LEN(Extraction!$BT$4:$BT7)-1))*(Extraction!$A$4:$A7="Juillet")) -> 0 | J20: =SUMPRODUCT((LEFT(Extraction!$BT$4:$BT7,LEN(Extraction!$BT$4:$BT7)-1))*(Extraction!$A$4:$A7="Août")) -> 0 | K20: =SUMPRODUCT((LEFT(Extraction!$BT$4:$BT7,LEN(Extraction!$BT$4:$BT7)-1))*(Extraction!$A$4:$A7="Septembre")) -> 0 | L20: =SUMPRODUCT((LEFT(Extraction!$BT$4:$BT7,LEN(Extraction!$BT$4:$BT7)-1))*(Extraction!$A$4:$A7="Octobre")) -> 0 | M20: =SUMPRODUCT((LEFT(Extraction!$BT$4:$BT7,LEN(Extraction!$BT$4:$BT7)-1))*(Extraction!$A$4:$A7="Novembre")) -> 0 | N20: =SUMPRODUCT((LEFT(Extraction!$BT$4:$BT7,LEN(Extraction!$BT$4:$BT7)-1))*(Extraction!$A$4:$A7="Décembre")) -> 0 | O20: =SUM(C20:N20) -> 0 | P20: =AVERAGE(O20) -> 0
B21: CPJS | C21: =SUMPRODUCT((LEFT(Extraction!$BU$4:$BU7,LEN(Extraction!$BU$4:$BU7)-1))*(Extraction!$A$4:$A7="Janvier")) -> 0 | D21: =SUMPRODUCT((LEFT(Extraction!$BU$4:$BU7,LEN(Extraction!$BU$4:$BU7)-1))*(Extraction!$A$4:$A7="Février")) -> 0 | E21: =SUMPRODUCT((LEFT(Extraction!$BU$4:$BU7,LEN(Extraction!$BU$4:$BU7)-1))*(Extraction!$A$4:$A7="Mars")) -> 0 | F21: =SUMPRODUCT((LEFT(Extraction!$BU$4:$BU7,LEN(Extraction!$BU$4:$BU7)-1))*(Extraction!$A$4:$A7="Avril")) -> 0 | G21: =SUMPRODUCT((LEFT(Extraction!$BU$4:$BU7,LEN(Extraction!$BU$4:$BU7)-1))*(Extraction!$A$4:$A7="Mai")) -> 0 | H21: =SUMPRODUCT((LEFT(Extraction!$BU$4:$BU7,LEN(Extraction!$BU$4:$BU7)-1))*(Extraction!$A$4:$A7="Juin")) -> 0 | I21: =SUMPRODUCT((LEFT(Extraction!$BU$4:$BU7,LEN(Extraction!$BU$4:$BU7)-1))*(Extraction!$A$4:$A7="Juillet")) -> 0 | J21: =SUMPRODUCT((LEFT(Extraction!$BU$4:$BU7,LEN(Extraction!$BU$4:$BU7)-1))*(Extraction!$A$4:$A7="Août")) -> 0 | K21: =SUMPRODUCT((LEFT(Extraction!$BU$4:$BU7,LEN(Extraction!$BU$4:$BU7)-1))*(Extraction!$A$4:$A7="Septembre")) -> 0 | L21: =SUMPRODUCT((LEFT(Extraction!$BU$4:$BU7,LEN(Extraction!$BU$4:$BU7)-1))*(Extraction!$A$4:$A7="Octobre")) -> 0 | M21: =SUMPRODUCT((LEFT(Extraction!$BU$4:$BU7,LEN(Extraction!$BU$4:$BU7)-1))*(Extraction!$A$4:$A7="Novembre")) -> 0 | N21: =SUMPRODUCT((LEFT(Extraction!$BU$4:$BU7,LEN(Extraction!$BU$4:$BU7)-1))*(Extraction!$A$4:$A7="Décembre")) -> 0 | O21: =SUM(C21:N21) -> 0 | P21: =AVERAGE(O21) -> 0
B22: RCJS | C22: =SUMPRODUCT((LEFT(Extraction!$BV$4:$BV7,LEN(Extraction!$BV$4:$BV7)-1))*(Extraction!$A$4:$A7="Janvier")) -> 0 | D22: =SUMPRODUCT((LEFT(Extraction!$BV$4:$BV7,LEN(Extraction!$BV$4:$BV7)-1))*(Extraction!$A$4:$A7="Février")) -> 0 | E22: =SUMPRODUCT((LEFT(Extraction!$BV$4:$BV7,LEN(Extraction!$BV$4:$BV7)-1))*(Extraction!$A$4:$A7="Mars")) -> 0 | F22: =SUMPRODUCT((LEFT(Extraction!$BV$4:$BV7,LEN(Extraction!$BV$4:$BV7)-1))*(Extraction!$A$4:$A7="Avril")) -> 0 | G22: =SUMPRODUCT((LEFT(Extraction!$BV$4:$BV7,LEN(Extraction!$BV$4:$BV7)-1))*(Extraction!$A$4:$A7="Mai")) -> 0 | H22: =SUMPRODUCT((LEFT(Extraction!$BV$4:$BV7,LEN(Extraction!$BV$4:$BV7)-1))*(Extraction!$A$4:$A7="Juin")) -> 0 | I22: =SUMPRODUCT((LEFT(Extraction!$BV$4:$BV7,LEN(Extraction!$BV$4:$BV7)-1))*(Extraction!$A$4:$A7="Juillet")) -> 0 | J22: =SUMPRODUCT((LEFT(Extraction!$BV$4:$BV7,LEN(Extraction!$BV$4:$BV7)-1))*(Extraction!$A$4:$A7="Août")) -> 0 | K22: =SUMPRODUCT((LEFT(Extraction!$BV$4:$BV7,LEN(Extraction!$BV$4:$BV7)-1))*(Extraction!$A$4:$A7="Septembre")) -> 0 | L22: =SUMPRODUCT((LEFT(Extraction!$BV$4:$BV7,LEN(Extraction!$BV$4:$BV7)-1))*(Extraction!$A$4:$A7="Octobre")) -> 0 | M22: =SUMPRODUCT((LEFT(Extraction!$BV$4:$BV7,LEN(Extraction!$BV$4:$BV7)-1))*(Extraction!$A$4:$A7="Novembre")) -> 0 | N22: =SUMPRODUCT((LEFT(Extraction!$BV$4:$BV7,LEN(Extraction!$BV$4:$BV7)-1))*(Extraction!$A$4:$A7="Décembre")) -> 0 | O22: =SUM(C22:N22) -> 0 | P22: =AVERAGE(O22) -> 0
B23: ROJS | C23: =SUMPRODUCT((LEFT(Extraction!$BW$4:$BW7,LEN(Extraction!$BW$4:$BW7)-1))*(Extraction!$A$4:$A7="Janvier")) -> 0 | D23: =SUMPRODUCT((LEFT(Extraction!$BW$4:$BW7,LEN(Extraction!$BW$4:$BW7)-1))*(Extraction!$A$4:$A7="Février")) -> 0 | E23: =SUMPRODUCT((LEFT(Extraction!$BW$4:$BW7,LEN(Extraction!$BW$4:$BW7)-1))*(Extraction!$A$4:$A7="Mars")) -> 0 | F23: =SUMPRODUCT((LEFT(Extraction!$BW$4:$BW7,LEN(Extraction!$BW$4:$BW7)-1))*(Extraction!$A$4:$A7="Avril")) -> 0 | G23: =SUMPRODUCT((LEFT(Extraction!$BW$4:$BW7,LEN(Extraction!$BW$4:$BW7)-1))*(Extraction!$A$4:$A7="Mai")) -> 0 | H23: =SUMPRODUCT((LEFT(Extraction!$BW$4:$BW7,LEN(Extraction!$BW$4:$BW7)-1))*(Extraction!$A$4:$A7="Juin")) -> 0 | I23: =SUMPRODUCT((LEFT(Extraction!$BW$4:$BW7,LEN(Extraction!$BW$4:$BW7)-1))*(Extraction!$A$4:$A7="Juillet")) -> 0 | J23: =SUMPRODUCT((LEFT(Extraction!$BW$4:$BW7,LEN(Extraction!$BW$4:$BW7)-1))*(Extraction!$A$4:$A7="Août")) -> 0 | K23: =SUMPRODUCT((LEFT(Extraction!$BW$4:$BW7,LEN(Extraction!$BW$4:$BW7)-1))*(Extraction!$A$4:$A7="Septembre")) -> 0 | L23: =SUMPRODUCT((LEFT(Extraction!$BW$4:$BW7,LEN(Extraction!$BW$4:$BW7)-1))*(Extraction!$A$4:$A7="Octobre")) -> 0 | M23: =SUMPRODUCT((LEFT(Extraction!$BW$4:$BW7,LEN(Extraction!$BW$4:$BW7)-1))*(Extraction!$A$4:$A7="Novembre")) -> 0 | N23: =SUMPRODUCT((LEFT(Extraction!$BW$4:$BW7,LEN(Extraction!$BW$4:$BW7)-1))*(Extraction!$A$4:$A7="Décembre")) -> 0 | O23: =SUM(C23:N23) -> 0 | P23: =AVERAGE(O23) -> 0
B24: RCRS | C24: =SUMPRODUCT((LEFT(Extraction!$BX$4:$BX7,LEN(Extraction!$BX$4:$BX7)-1))*(Extraction!$A$4:$A7="Janvier")) -> 0 | D24: =SUMPRODUCT((LEFT(Extraction!$BX$4:$BX7,LEN(Extraction!$BX$4:$BX7)-1))*(Extraction!$A$4:$A7="Février")) -> 0 | E24: =SUMPRODUCT((LEFT(Extraction!$BX$4:$BX7,LEN(Extraction!$BX$4:$BX7)-1))*(Extraction!$A$4:$A7="Mars")) -> 0 | F24: =SUMPRODUCT((LEFT(Extraction!$BX$4:$BX7,LEN(Extraction!$BX$4:$BX7)-1))*(Extraction!$A$4:$A7="Avril")) -> 0 | G24: =SUMPRODUCT((LEFT(Extraction!$BX$4:$BX7,LEN(Extraction!$BX$4:$BX7)-1))*(Extraction!$A$4:$A7="Mai")) -> 0 | H24: =SUMPRODUCT((LEFT(Extraction!$BX$4:$BX7,LEN(Extraction!$BX$4:$BX7)-1))*(Extraction!$A$4:$A7="Juin")) -> 0 | I24: =SUMPRODUCT((LEFT(Extraction!$BX$4:$BX7,LEN(Extraction!$BX$4:$BX7)-1))*(Extraction!$A$4:$A7="Juillet")) -> 0 | J24: =SUMPRODUCT((LEFT(Extraction!$BX$4:$BX7,LEN(Extraction!$BX$4:$BX7)-1))*(Extraction!$A$4:$A7="Août")) -> 0 | K24: =SUMPRODUCT((LEFT(Extraction!$BX$4:$BX7,LEN(Extraction!$BX$4:$BX7)-1))*(Extraction!$A$4:$A7="Septembre")) -> 0 | L24: =SUMPRODUCT((LEFT(Extraction!$BX$4:$BX7,LEN(Extraction!$BX$4:$BX7)-1))*(Extraction!$A$4:$A7="Octobre")) -> 0 | M24: =SUMPRODUCT((LEFT(Extraction!$BX$4:$BX7,LEN(Extraction!$BX$4:$BX7)-1))*(Extraction!$A$4:$A7="Novembre")) -> 0 | N24: =SUMPRODUCT((LEFT(Extraction!$BX$4:$BX7,LEN(Extraction!$BX$4:$BX7)-1))*(Extraction!$A$4:$A7="Décembre")) -> 0 | O24: =SUM(C24:N24) -> 0 | P24: =AVERAGE(O24) -> 0
B25: CPC | C25: =SUMPRODUCT((LEFT(Extraction!$BY$4:$BY7,LEN(Extraction!$BY$4:$BY7)-1))*(Extraction!$A$4:$A7="Janvier")) -> 0 | D25: =SUMPRODUCT((LEFT(Extraction!$BY$4:$BY7,LEN(Extraction!$BY$4:$BY7)-1))*(Extraction!$A$4:$A7="Février")) -> 0 | E25: =SUMPRODUCT((LEFT(Extraction!$BY$4:$BY7,LEN(Extraction!$BY$4:$BY7)-1))*(Extraction!$A$4:$A7="Mars")) -> 0 | F25: =SUMPRODUCT((LEFT(Extraction!$BY$4:$BY7,LEN(Extraction!$BY$4:$BY7)-1))*(Extraction!$A$4:$A7="Avril")) -> 0 | G25: =SUMPRODUCT((LEFT(Extraction!$BY$4:$BY7,LEN(Extraction!$BY$4:$BY7)-1))*(Extraction!$A$4:$A7="Mai")) -> 0 | H25: =SUMPRODUCT((LEFT(Extraction!$BY$4:$BY7,LEN(Extraction!$BY$4:$BY7)-1))*(Extraction!$A$4:$A7="Juin")) -> 0 | I25: =SUMPRODUCT((LEFT(Extraction!$BY$4:$BY7,LEN(Extraction!$BY$4:$BY7)-1))*(Extraction!$A$4:$A7="Juillet")) -> 0 | J25: =SUMPRODUCT((LEFT(Extraction!$BY$4:$BY7,LEN(Extraction!$BY$4:$BY7)-1))*(Extraction!$A$4:$A7="Août")) -> 0 | K25: =SUMPRODUCT((LEFT(Extraction!$BY$4:$BY7,LEN(Extraction!$BY$4:$BY7)-1))*(Extraction!$A$4:$A7="Septembre")) -> 0 | L25: =SUMPRODUCT((LEFT(Extraction!$BY$4:$BY7,LEN(Extraction!$BY$4:$BY7)-1))*(Extraction!$A$4:$A7="Octobre")) -> 0 | M25: =SUMPRODUCT((LEFT(Extraction!$BY$4:$BY7,LEN(Extraction!$BY$4:$BY7)-1))*(Extraction!$A$4:$A7="Novembre")) -> 0 | N25: =SUMPRODUCT((LEFT(Extraction!$BY$4:$BY7,LEN(Extraction!$BY$4:$BY7)-1))*(Extraction!$A$4:$A7="Décembre")) -> 0 | O25: =SUM(C25:N25) -> 0 | P25: =AVERAGE(O25) -> 0
B26: CPRE | C26: =SUMPRODUCT((LEFT(Extraction!$BZ$4:$BZ7,LEN(Extraction!$BZ$4:$BZ7)-1))*(Extraction!$A$4:$A7="Janvier")) -> 0 | D26: =SUMPRODUCT((LEFT(Extraction!$BZ$4:$BZ7,LEN(Extraction!$BZ$4:$BZ7)-1))*(Extraction!$A$4:$A7="Février")) -> 0 | E26: =SUMPRODUCT((LEFT(Extraction!$BZ$4:$BZ7,LEN(Extraction!$BZ$4:$BZ7)-1))*(Extraction!$A$4:$A7="Mars")) -> 0 | F26: =SUMPRODUCT((LEFT(Extraction!$BZ$4:$BZ7,LEN(Extraction!$BZ$4:$BZ7)-1))*(Extraction!$A$4:$A7="Avril")) -> 0 | G26: =SUMPRODUCT((LEFT(Extraction!$BZ$4:$BZ7,LEN(Extraction!$BZ$4:$BZ7)-1))*(Extraction!$A$4:$A7="Mai")) -> 0 | H26: =SUMPRODUCT((LEFT(Extraction!$BZ$4:$BZ7,LEN(Extraction!$BZ$4:$BZ7)-1))*(Extraction!$A$4:$A7="Juin")) -> 0 | I26: =SUMPRODUCT((LEFT(Extraction!$BZ$4:$BZ7,LEN(Extraction!$BZ$4:$BZ7)-1))*(Extraction!$A$4:$A7="Juillet")) -> 0 | J26: =SUMPRODUCT((LEFT(Extraction!$BZ$4:$BZ7,LEN(Extraction!$BZ$4:$BZ7)-1))*(Extraction!$A$4:$A7="Août")) -> 0 | K26: =SUMPRODUCT((LEFT(Extraction!$BZ$4:$BZ7,LEN(Extraction!$BZ$4:$BZ7)-1))*(Extraction!$A$4:$A7="Septembre")) -> 0 | L26: =SUMPRODUCT((LEFT(Extraction!$BZ$4:$BZ7,LEN(Extraction!$BZ$4:$BZ7)-1))*(Extraction!$A$4:$A7="Octobre")) -> 0 | M26: =SUMPRODUCT((LEFT(Extraction!$BZ$4:$BZ7,LEN(Extraction!$BZ$4:$BZ7)-1))*(Extraction!$A$4:$A7="Novembre")) -> 0 | N26: =SUMPRODUCT((LEFT(Extraction!$BZ$4:$BZ7,LEN(Extraction!$BZ$4:$BZ7)-1))*(Extraction!$A$4:$A7="Décembre")) -> 0 | O26: =SUM(C26:N26) -> 0 | P26: =AVERAGE(O26) -> 0
B27: AAR | C27: =SUMPRODUCT((LEFT(Extraction!$CA$4:$CA7,LEN(Extraction!$CA$4:$CA7)-1))*(Extraction!$A$4:$A7="Janvier")) -> 0 | D27: =SUMPRODUCT((LEFT(Extraction!$CA$4:$CA7,LEN(Extraction!$CA$4:$CA7)-1))*(Extraction!$A$4:$A7="Février")) -> 0 | E27: =SUMPRODUCT((LEFT(Extraction!$CA$4:$CA7,LEN(Extraction!$CA$4:$CA7)-1))*(Extraction!$A$4:$A7="Mars")) -> 0 | F27: =SUMPRODUCT((LEFT(Extraction!$CA$4:$CA7,LEN(Extraction!$CA$4:$CA7)-1))*(Extraction!$A$4:$A7="Avril")) -> 0 | G27: =SUMPRODUCT((LEFT(Extraction!$CA$4:$CA7,LEN(Extraction!$CA$4:$CA7)-1))*(Extraction!$A$4:$A7="Mai")) -> 0 | H27: =SUMPRODUCT((LEFT(Extraction!$CA$4:$CA7,LEN(Extraction!$CA$4:$CA7)-1))*(Extraction!$A$4:$A7="Juin")) -> 0 | I27: =SUMPRODUCT((LEFT(Extraction!$CA$4:$CA7,LEN(Extraction!$CA$4:$CA7)-1))*(Extraction!$A$4:$A7="Juillet")) -> 0 | J27: =SUMPRODUCT((LEFT(Extraction!$CA$4:$CA7,LEN(Extraction!$CA$4:$CA7)-1))*(Extraction!$A$4:$A7="Août")) -> 0 | K27: =SUMPRODUCT((LEFT(Extraction!$CA$4:$CA7,LEN(Extraction!$CA$4:$CA7)-1))*(Extraction!$A$4:$A7="Septembre")) -> 0 | L27: =SUMPRODUCT((LEFT(Extraction!$CA$4:$CA7,LEN(Extraction!$CA$4:$CA7)-1))*(Extraction!$A$4:$A7="Octobre")) -> 0 | M27: =SUMPRODUCT((LEFT(Extraction!$CA$4:$CA7,LEN(Extraction!$CA$4:$CA7)-1))*(Extraction!$A$4:$A7="Novembre")) -> 0 | N27: =SUMPRODUCT((LEFT(Extraction!$CA$4:$CA7,LEN(Extraction!$CA$4:$CA7)-1))*(Extraction!$A$4:$A7="Décembre")) -> 0 | O27: =SUM(C27:N27) -> 0 | P27: =AVERAGE(O27) -> 0
B28: REXT | C28: =SUMPRODUCT((LEFT(Extraction!$CB$4:$CB7,LEN(Extraction!$CB$4:$CB7)-1))*(Extraction!$A$4:$A7="Janvier")) -> 0 | D28: =SUMPRODUCT((LEFT(Extraction!$CB$4:$CB7,LEN(Extraction!$CB$4:$CB7)-1))*(Extraction!$A$4:$A7="Février")) -> 0 | E28: =SUMPRODUCT((LEFT(Extraction!$CB$4:$CB7,LEN(Extraction!$CB$4:$CB7)-1))*(Extraction!$A$4:$A7="Mars")) -> 0 | F28: =SUMPRODUCT((LEFT(Extraction!$CB$4:$CB7,LEN(Extraction!$CB$4:$CB7)-1))*(Extraction!$A$4:$A7="Avril")) -> 0 | G28: =SUMPRODUCT((LEFT(Extraction!$CB$4:$CB7,LEN(Extraction!$CB$4:$CB7)-1))*(Extraction!$A$4:$A7="Mai")) -> 0 | H28: =SUMPRODUCT((LEFT(Extraction!$CB$4:$CB7,LEN(Extraction!$CB$4:$CB7)-1))*(Extraction!$A$4:$A7="Juin")) -> 0 | I28: =SUMPRODUCT((LEFT(Extraction!$CB$4:$CB7,LEN(Extraction!$CB$4:$CB7)-1))*(Extraction!$A$4:$A7="Juillet")) -> 0 | J28: =SUMPRODUCT((LEFT(Extraction!$CB$4:$CB7,LEN(Extraction!$CB$4:$CB7)-1))*(Extraction!$A$4:$A7="Août")) -> 0 | K28: =SUMPRODUCT((LEFT(Extraction!$CB$4:$CB7,LEN(Extraction!$CB$4:$CB7)-1))*(Extraction!$A$4:$A7="Septembre")) -> 0 | L28: =SUMPRODUCT((LEFT(Extraction!$CB$4:$CB7,LEN(Extraction!$CB$4:$CB7)-1))*(Extraction!$A$4:$A7="Octobre")) -> 0 | M28: =SUMPRODUCT((LEFT(Extraction!$CB$4:$CB7,LEN(Extraction!$CB$4:$CB7)-1))*(Extraction!$A$4:$A7="Novembre")) -> 0 | N28: =SUMPRODUCT((LEFT(Extraction!$CB$4:$CB7,LEN(Extraction!$CB$4:$CB7)-1))*(Extraction!$A$4:$A7="Décembre")) -> 0 | O28: =SUM(C28:N28) -> 0 | P28: =AVERAGE(O28) -> 0
B29: RTT | C29: =SUMPRODUCT((LEFT(Extraction!$CC$4:$CC7,LEN(Extraction!$CC$4:$CC7)-1))*(Extraction!$A$4:$A7="Janvier")) -> 0 | D29: =SUMPRODUCT((LEFT(Extraction!$CC$4:$CC7,LEN(Extraction!$CC$4:$CC7)-1))*(Extraction!$A$4:$A7="Février")) -> 0 | E29: =SUMPRODUCT((LEFT(Extraction!$CC$4:$CC7,LEN(Extraction!$CC$4:$CC7)-1))*(Extraction!$A$4:$A7="Mars")) -> 0 | F29: =SUMPRODUCT((LEFT(Extraction!$CC$4:$CC7,LEN(Extraction!$CC$4:$CC7)-1))*(Extraction!$A$4:$A7="Avril")) -> 0 | G29: =SUMPRODUCT((LEFT(Extraction!$CC$4:$CC7,LEN(Extraction!$CC$4:$CC7)-1))*(Extraction!$A$4:$A7="Mai")) -> 0 | H29: =SUMPRODUCT((LEFT(Extraction!$CC$4:$CC7,LEN(Extraction!$CC$4:$CC7)-1))*(Extraction!$A$4:$A7="Juin")) -> 0 | I29: =SUMPRODUCT((LEFT(Extraction!$CC$4:$CC7,LEN(Extraction!$CC$4:$CC7)-1))*(Extraction!$A$4:$A7="Juillet")) -> 0 | J29: =SUMPRODUCT((LEFT(Extraction!$CC$4:$CC7,LEN(Extraction!$CC$4:$CC7)-1))*(Extraction!$A$4:$A7="Août")) -> 0 | K29: =SUMPRODUCT((LEFT(Extraction!$CC$4:$CC7,LEN(Extraction!$CC$4:$CC7)-1))*(Extraction!$A$4:$A7="Septembre")) -> 0 | L29: =SUMPRODUCT((LEFT(Extraction!$CC$4:$CC7,LEN(Extraction!$CC$4:$CC7)-1))*(Extraction!$A$4:$A7="Octobre")) -> 0 | M29: =SUMPRODUCT((LEFT(Extraction!$CC$4:$CC7,LEN(Extraction!$CC$4:$CC7)-1))*(Extraction!$A$4:$A7="Novembre")) -> 0 | N29: =SUMPRODUCT((LEFT(Extraction!$CC$4:$CC7,LEN(Extraction!$CC$4:$CC7)-1))*(Extraction!$A$4:$A7="Décembre")) -> 0 | O29: =SUM(C29:N29) -> 0 | P29: =AVERAGE(O29) -> 0
A30: IMPACTANTES | B30: MAL | C30: =SUMPRODUCT((LEFT(Extraction!$CD$4:$CD7,LEN(Extraction!$CD$4:$CD7)-1))*(Extraction!$A$4:$A7="Janvier")) -> 0 | D30: =SUMPRODUCT((LEFT(Extraction!$CD$4:$CD7,LEN(Extraction!$CD$4:$CD7)-1))*(Extraction!$A$4:$A7="Février")) -> 0 | E30: =SUMPRODUCT((LEFT(Extraction!$CD$4:$CD7,LEN(Extraction!$CD$4:$CD7)-1))*(Extraction!$A$4:$A7="Mars")) -> 0 | F30: =SUMPRODUCT((LEFT(Extraction!$CD$4:$CD7,LEN(Extraction!$CD$4:$CD7)-1))*(Extraction!$A$4:$A7="Avril")) -> 0 | G30: =SUMPRODUCT((LEFT(Extraction!$CD$4:$CD7,LEN(Extraction!$CD$4:$CD7)-1))*(Extraction!$A$4:$A7="Mai")) -> 0 | H30: =SUMPRODUCT((LEFT(Extraction!$CD$4:$CD7,LEN(Extraction!$CD$4:$CD7)-1))*(Extraction!$A$4:$A7="Juin")) -> 0 | I30: =SUMPRODUCT((LEFT(Extraction!$CD$4:$CD7,LEN(Extraction!$CD$4:$CD7)-1))*(Extraction!$A$4:$A7="Juillet")) -> 0 | J30: =SUMPRODUCT((LEFT(Extraction!$CD$4:$CD7,LEN(Extraction!$CD$4:$CD7)-1))*(Extraction!$A$4:$A7="Août")) -> 0 | K30: =SUMPRODUCT((LEFT(Extraction!$CD$4:$CD7,LEN(Extraction!$CD$4:$CD7)-1))*(Extraction!$A$4:$A7="Septembre")) -> 0 | L30: =SUMPRODUCT((LEFT(Extraction!$CD$4:$CD7,LEN(Extraction!$CD$4:$CD7)-1))*(Extraction!$A$4:$A7="Octobre")) -> 0 | M30: =SUMPRODUCT((LEFT(Extraction!$CD$4:$CD7,LEN(Extraction!$CD$4:$CD7)-1))*(Extraction!$A$4:$A7="Novembre")) -> 0 | N30: =SUMPRODUCT((LEFT(Extraction!$CD$4:$CD7,LEN(Extraction!$CD$4:$CD7)-1))*(Extraction!$A$4:$A7="Décembre")) -> 0 | O30: =SUM(C30:N30) -> 0 | P30: =AVERAGE(O30) -> 0
B31: ATMP | C31: =SUMPRODUCT((LEFT(Extraction!$CE$4:$CE7,LEN(Extraction!$CE$4:$CE7)-1))*(Extraction!$A$4:$A7="Janvier")) -> 0 | D31: =SUMPRODUCT((LEFT(Extraction!$CE$4:$CE7,LEN(Extraction!$CE$4:$CE7)-1))*(Extraction!$A$4:$A7="Février")) -> 0 | E31: =SUMPRODUCT((LEFT(Extraction!$CE$4:$CE7,LEN(Extraction!$CE$4:$CE7)-1))*(Extraction!$A$4:$A7="Mars")) -> 0 | F31: =SUMPRODUCT((LEFT(Extraction!$CE$4:$CE7,LEN(Extraction!$CE$4:$CE7)-1))*(Extraction!$A$4:$A7="Avril")) -> 0 | G31: =SUMPRODUCT((LEFT(Extraction!$CE$4:$CE7,LEN(Extraction!$CE$4:$CE7)-1))*(Extraction!$A$4:$A7="Mai")) -> 0 | H31: =SUMPRODUCT((LEFT(Extraction!$CE$4:$CE7,LEN(Extraction!$CE$4:$CE7)-1))*(Extraction!$A$4:$A7="Juin")) -> 0 | I31: =SUMPRODUCT((LEFT(Extraction!$CE$4:$CE7,LEN(Extraction!$CE$4:$CE7)-1))*(Extraction!$A$4:$A7="Juillet")) -> 0 | J31: =SUMPRODUCT((LEFT(Extraction!$CE$4:$CE7,LEN(Extraction!$CE$4:$CE7)-1))*(Extraction!$A$4:$A7="Août")) -> 0 | K31: =SUMPRODUCT((LEFT(Extraction!$CE$4:$CE7,LEN(Extraction!$CE$4:$CE7)-1))*(Extraction!$A$4:$A7="Septembre")) -> 0 | L31: =SUMPRODUCT((LEFT(Extraction!$CE$4:$CE7,LEN(Extraction!$CE$4:$CE7)-1))*(Extraction!$A$4:$A7="Octobre")) -> 0 | M31: =SUMPRODUCT((LEFT(Extraction!$CE$4:$CE7,LEN(Extraction!$CE$4:$CE7)-1))*(Extraction!$A$4:$A7="Novembre")) -> 0 | N31: =SUMPRODUCT((LEFT(Extraction!$CE$4:$CE7,LEN(Extraction!$CE$4:$CE7)-1))*(Extraction!$A$4:$A7="Décembre")) -> 0 | O31: =SUM(C31:N31) -> 0 | P31: =AVERAGE(O31) -> 0
B32: CPN | C32: =SUMPRODUCT((LEFT(Extraction!$CF$4:$CF7,LEN(Extraction!$CF$4:$CF7)-1))*(Extraction!$A$4:$A7="Janvier")) -> 0 | D32: =SUMPRODUCT((LEFT(Extraction!$CF$4:$CF7,LEN(Extraction!$CF$4:$CF7)-1))*(Extraction!$A$4:$A7="Février")) -> 0 | E32: =SUMPRODUCT((LEFT(Extraction!$CF$4:$CF7,LEN(Extraction!$CF$4:$CF7)-1))*(Extraction!$A$4:$A7="Mars")) -> 0 | F32: =SUMPRODUCT((LEFT(Extraction!$CF$4:$CF7,LEN(Extraction!$CF$4:$CF7)-1))*(Extraction!$A$4:$A7="Avril")) -> 0 | G32: =SUMPRODUCT((LEFT(Extraction!$CF$4:$CF7,LEN(Extraction!$CF$4:$CF7)-1))*(Extraction!$A$4:$A7="Mai")) -> 0 | H32: =SUMPRODUCT((LEFT(Extraction!$CF$4:$CF7,LEN(Extraction!$CF$4:$CF7)-1))*(Extraction!$A$4:$A7="Juin")) -> 0 | I32: =SUMPRODUCT((LEFT(Extraction!$CF$4:$CF7,LEN(Extraction!$CF$4:$CF7)-1))*(Extraction!$A$4:$A7="Juillet")) -> 0 | J32: =SUMPRODUCT((LEFT(Extraction!$CF$4:$CF7,LEN(Extraction!$CF$4:$CF7)-1))*(Extraction!$A$4:$A7="Août")) -> 0 | K32: =SUMPRODUCT((LEFT(Extraction!$CF$4:$CF7,LEN(Extraction!$CF$4:$CF7)-1))*(Extraction!$A$4:$A7="Septembre")) -> 0 | L32: =SUMPRODUCT((LEFT(Extraction!$CF$4:$CF7,LEN(Extraction!$CF$4:$CF7)-1))*(Extraction!$A$4:$A7="Octobre")) -> 0 | M32: =SUMPRODUCT((LEFT(Extraction!$CF$4:$CF7,LEN(Extraction!$CF$4:$CF7)-1))*(Extraction!$A$4:$A7="Novembre")) -> 0 | N32: =SUMPRODUCT((LEFT(Extraction!$CF$4:$CF7,LEN(Extraction!$CF$4:$CF7)-1))*(Extraction!$A$4:$A7="Décembre")) -> 0 | O32: =SUM(C32:N32) -> 0 | P32: =AVERAGE(O32) -> 0
B33: CMAT | C33: =SUMPRODUCT((LEFT(Extraction!$CG$4:$CG7,LEN(Extraction!$CG$4:$CG7)-1))*(Extraction!$A$4:$A7="Janvier")) -> 0 | D33: =SUMPRODUCT((LEFT(Extraction!$CG$4:$CG7,LEN(Extraction!$CG$4:$CG7)-1))*(Extraction!$A$4:$A7="Février")) -> 0 | E33: =SUMPRODUCT((LEFT(Extraction!$CG$4:$CG7,LEN(Extraction!$CG$4:$CG7)-1))*(Extraction!$A$4:$A7="Mars")) -> 0 | F33: =SUMPRODUCT((LEFT(Extraction!$CG$4:$CG7,LEN(Extraction!$CG$4:$CG7)-1))*(Extraction!$A$4:$A7="Avril")) -> 0 | G33: =SUMPRODUCT((LEFT(Extraction!$CG$4:$CG7,LEN(Extraction!$CG$4:$CG7)-1))*(Extraction!$A$4:$A7="Mai")) -> 0 | H33: =SUMPRODUCT((LEFT(Extraction!$CG$4:$CG7,LEN(Extraction!$CG$4:$CG7)-1))*(Extraction!$A$4:$A7="Juin")) -> 0 | I33: =SUMPRODUCT((LEFT(Extraction!$CG$4:$CG7,LEN(Extraction!$CG$4:$CG7)-1))*(Extraction!$A$4:$A7="Juillet")) -> 0 | J33: =SUMPRODUCT((LEFT(Extraction!$CG$4:$CG7,LEN(Extraction!$CG$4:$CG7)-1))*(Extraction!$A$4:$A7="Août")) -> 0 | K33: =SUMPRODUCT((LEFT(Extraction!$CG$4:$CG7,LEN(Extraction!$CG$4:$CG7)-1))*(Extraction!$A$4:$A7="Septembre")) -> 0 | L33: =SUMPRODUCT((LEFT(Extraction!$CG$4:$CG7,LEN(Extraction!$CG$4:$CG7)-1))*(Extraction!$A$4:$A7="Octobre")) -> 0 | M33: =SUMPRODUCT((LEFT(Extraction!$CG$4:$CG7,LEN(Extraction!$CG$4:$CG7)-1))*(Extraction!$A$4:$A7="Novembre")) -> 0 | N33: =SUMPRODUCT((LEFT(Extraction!$CG$4:$CG7,LEN(Extraction!$CG$4:$CG7)-1))*(Extraction!$A$4:$A7="Décembre")) -> 0 | O33: =SUM(C33:N33) -> 0 | P33: =AVERAGE(O33) -> 0
B34: TERA | C34: =SUMPRODUCT((LEFT(Extraction!$CH$4:$CH7,LEN(Extraction!$CH$4:$CH7)-1))*(Extraction!$A$4:$A7="Janvier")) -> 0 | D34: =SUMPRODUCT((LEFT(Extraction!$CH$4:$CH7,LEN(Extraction!$CH$4:$CH7)-1))*(Extraction!$A$4:$A7="Février")) -> 0 | E34: =SUMPRODUCT((LEFT(Extraction!$CH$4:$CH7,LEN(Extraction!$CH$4:$CH7)-1))*(Extraction!$A$4:$A7="Mars")) -> 0 | F34: =SUMPRODUCT((LEFT(Extraction!$CH$4:$CH7,LEN(Extraction!$CH$4:$CH7)-1))*(Extraction!$A$4:$A7="Avril")) -> 0 | G34: =SUMPRODUCT((LEFT(Extraction!$CH$4:$CH7,LEN(Extraction!$CH$4:$CH7)-1))*(Extraction!$A$4:$A7="Mai")) -> 0 | H34: =SUMPRODUCT((LEFT(Extraction!$CH$4:$CH7,LEN(Extraction!$CH$4:$CH7)-1))*(Extraction!$A$4:$A7="Juin")) -> 0 | I34: =SUMPRODUCT((LEFT(Extraction!$CH$4:$CH7,LEN(Extraction!$CH$4:$CH7)-1))*(Extraction!$A$4:$A7="Juillet")) -> 0 | J34: =SUMPRODUCT((LEFT(Extraction!$CH$4:$CH7,LEN(Extraction!$CH$4:$CH7)-1))*(Extraction!$A$4:$A7="Août")) -> 0 | K34: =SUMPRODUCT((LEFT(Extraction!$CH$4:$CH7,LEN(Extraction!$CH$4:$CH7)-1))*(Extraction!$A$4:$A7="Septembre")) -> 0 | L34: =SUMPRODUCT((LEFT(Extraction!$CH$4:$CH7,LEN(Extraction!$CH$4:$CH7)-1))*(Extraction!$A$4:$A7="Octobre")) -> 0 | M34: =SUMPRODUCT((LEFT(Extraction!$CH$4:$CH7,LEN(Extraction!$CH$4:$CH7)-1))*(Extraction!$A$4:$A7="Novembre")) -> 0 | N34: =SUMPRODUCT((LEFT(Extraction!$CH$4:$CH7,LEN(Extraction!$CH$4:$CH7)-1))*(Extraction!$A$4:$A7="Décembre")) -> 0 | O34: =SUM(C34:N34) -> 0 | P34: =AVERAGE(O34) -> 0
B35: CPAR | C35: =SUMPRODUCT((LEFT(Extraction!$CI$4:$CI7,LEN(Extraction!$CI$4:$CI7)-1))*(Extraction!$A$4:$A7="Janvier")) -> 0 | D35: =SUMPRODUCT((LEFT(Extraction!$CI$4:$CI7,LEN(Extraction!$CI$4:$CI7)-1))*(Extraction!$A$4:$A7="Février")) -> 0 | E35: =SUMPRODUCT((LEFT(Extraction!$CI$4:$CI7,LEN(Extraction!$CI$4:$CI7)-1))*(Extraction!$A$4:$A7="Mars")) -> 0 | F35: =SUMPRODUCT((LEFT(Extraction!$CI$4:$CI7,LEN(Extraction!$CI$4:$CI7)-1))*(Extraction!$A$4:$A7="Avril")) -> 0 | G35: =SUMPRODUCT((LEFT(Extraction!$CI$4:$CI7,LEN(Extraction!$CI$4:$CI7)-1))*(Extraction!$A$4:$A7="Mai")) -> 0 | H35: =SUMPRODUCT((LEFT(Extraction!$CI$4:$CI7,LEN(Extraction!$CI$4:$CI7)-1))*(Extraction!$A$4:$A7="Juin")) -> 0 | I35: =SUMPRODUCT((LEFT(Extraction!$CI$4:$CI7,LEN(Extraction!$CI$4:$CI7)-1))*(Extraction!$A$4:$A7="Juillet")) -> 0 | J35: =SUMPRODUCT((LEFT(Extraction!$CI$4:$CI7,LEN(Extraction!$CI$4:$CI7)-1))*(Extraction!$A$4:$A7="Août")) -> 0 | K35: =SUMPRODUCT((LEFT(Extraction!$CI$4:$CI7,LEN(Extraction!$CI$4:$CI7)-1))*(Extraction!$A$4:$A7="Septembre")) -> 0 | L35: =SUMPRODUCT((LEFT(Extraction!$CI$4:$CI7,LEN(Extraction!$CI$4:$CI7)-1))*(Extraction!$A$4:$A7="Octobre")) -> 0 | M35: =SUMPRODUCT((LEFT(Extraction!$CI$4:$CI7,LEN(Extraction!$CI$4:$CI7)-1))*(Extraction!$A$4:$A7="Novembre")) -> 0 | N35: =SUMPRODUCT((LEFT(Extraction!$CI$4:$CI7,LEN(Extraction!$CI$4:$CI7)-1))*(Extraction!$A$4:$A7="Décembre")) -> 0 | O35: =SUM(C35:N35) -> 0 | P35: =AVERAGE(O35) -> 0
B36: GREV | C36: =SUMPRODUCT((LEFT(Extraction!$CJ$4:$CJ7,LEN(Extraction!$CJ$4:$CJ7)-1))*(Extraction!$A$4:$A7="Janvier")) -> 0 | D36: =SUMPRODUCT((LEFT(Extraction!$CJ$4:$CJ7,LEN(Extraction!$CJ$4:$CJ7)-1))*(Extraction!$A$4:$A7="Février")) -> 0 | E36: =SUMPRODUCT((LEFT(Extraction!$CJ$4:$CJ7,LEN(Extraction!$CJ$4:$CJ7)-1))*(Extraction!$A$4:$A7="Mars")) -> 0 | F36: =SUMPRODUCT((LEFT(Extraction!$CJ$4:$CJ7,LEN(Extraction!$CJ$4:$CJ7)-1))*(Extraction!$A$4:$A7="Avril")) -> 0 | G36: =SUMPRODUCT((LEFT(Extraction!$CJ$4:$CJ7,LEN(Extraction!$CJ$4:$CJ7)-1))*(Extraction!$A$4:$A7="Mai")) -> 0 | H36: =SUMPRODUCT((LEFT(Extraction!$CJ$4:$CJ7,LEN(Extraction!$CJ$4:$CJ7)-1))*(Extraction!$A$4:$A7="Juin")) -> 0 | I36: =SUMPRODUCT((LEFT(Extraction!$CJ$4:$CJ7,LEN(Extraction!$CJ$4:$CJ7)-1))*(Extraction!$A$4:$A7="Juillet")) -> 0 | J36: =SUMPRODUCT((LEFT(Extraction!$CJ$4:$CJ7,LEN(Extraction!$CJ$4:$CJ7)-1))*(Extraction!$A$4:$A7="Août")) -> 0 | K36: =SUMPRODUCT((LEFT(Extraction!$CJ$4:$CJ7,LEN(Extraction!$CJ$4:$CJ7)-1))*(Extraction!$A$4:$A7="Septembre")) -> 0 | L36: =SUMPRODUCT((LEFT(Extraction!$CJ$4:$CJ7,LEN(Extraction!$CJ$4:$CJ7)-1))*(Extraction!$A$4:$A7="Octobre")) -> 0 | M36: =SUMPRODUCT((LEFT(Extraction!$CJ$4:$CJ7,LEN(Extraction!$CJ$4:$CJ7)-1))*(Extraction!$A$4:$A7="Novembre")) -> 0 | N36: =SUMPRODUCT((LEFT(Extraction!$CJ$4:$CJ7,LEN(Extraction!$CJ$4:$CJ7)-1))*(Extraction!$A$4:$A7="Décembre")) -> 0 | O36: =SUM(C36:N36) -> 0 | P36: =AVERAGE(O36) -> 0
B37: CSS | C37: =SUMPRODUCT((LEFT(Extraction!$CK$4:$CK7,LEN(Extraction!$CK$4:$CK7)-1))*(Extraction!$A$4:$A7="Janvier")) -> 0 | D37: =SUMPRODUCT((LEFT(Extraction!$CK$4:$CK7,LEN(Extraction!$CK$4:$CK7)-1))*(Extraction!$A$4:$A7="Février")) -> 0 | E37: =SUMPRODUCT((LEFT(Extraction!$CK$4:$CK7,LEN(Extraction!$CK$4:$CK7)-1))*(Extraction!$A$4:$A7="Mars")) -> 0 | F37: =SUMPRODUCT((LEFT(Extraction!$CK$4:$CK7,LEN(Extraction!$CK$4:$CK7)-1))*(Extraction!$A$4:$A7="Avril")) -> 0 | G37: =SUMPRODUCT((LEFT(Extraction!$CK$4:$CK7,LEN(Extraction!$CK$4:$CK7)-1))*(Extraction!$A$4:$A7="Mai")) -> 0 | H37: =SUMPRODUCT((LEFT(Extraction!$CK$4:$CK7,LEN(Extraction!$CK$4:$CK7)-1))*(Extraction!$A$4:$A7="Juin")) -> 0 | I37: =SUMPRODUCT((LEFT(Extraction!$CK$4:$CK7,LEN(Extraction!$CK$4:$CK7)-1))*(Extraction!$A$4:$A7="Juillet")) -> 0 | J37: =SUMPRODUCT((LEFT(Extraction!$CK$4:$CK7,LEN(Extraction!$CK$4:$CK7)-1))*(Extraction!$A$4:$A7="Août")) -> 0 | K37: =SUMPRODUCT((LEFT(Extraction!$CK$4:$CK7,LEN(Extraction!$CK$4:$CK7)-1))*(Extraction!$A$4:$A7="Septembre")) -> 0 | L37: =SUMPRODUCT((LEFT(Extraction!$CK$4:$CK7,LEN(Extraction!$CK$4:$CK7)-1))*(Extraction!$A$4:$A7="Octobre")) -> 0 | M37: =SUMPRODUCT((LEFT(Extraction!$CK$4:$CK7,LEN(Extraction!$CK$4:$CK7)-1))*(Extraction!$A$4:$A7="Novembre")) -> 0 | N37: =SUMPRODUCT((LEFT(Extraction!$CK$4:$CK7,LEN(Extraction!$CK$4:$CK7)-1))*(Extraction!$A$4:$A7="Décembre")) -> 0 | O37: =SUM(C37:N37) -> 0 | P37: =AVERAGE(O37) -> 0
B38: ABS | C38: =SUMPRODUCT((LEFT(Extraction!$CL$4:$CL7,LEN(Extraction!$CL$4:$CL7)-1))*(Extraction!$A$4:$A7="Janvier")) -> 0 | D38: =SUMPRODUCT((LEFT(Extraction!$CL$4:$CL7,LEN(Extraction!$CL$4:$CL7)-1))*(Extraction!$A$4:$A7="Février")) -> 0 | E38: =SUMPRODUCT((LEFT(Extraction!$CL$4:$CL7,LEN(Extraction!$CL$4:$CL7)-1))*(Extraction!$A$4:$A7="Mars")) -> 0 | F38: =SUMPRODUCT((LEFT(Extraction!$CL$4:$CL7,LEN(Extraction!$CL$4:$CL7)-1))*(Extraction!$A$4:$A7="Avril")) -> 0 | G38: =SUMPRODUCT((LEFT(Extraction!$CL$4:$CL7,LEN(Extraction!$CL$4:$CL7)-1))*(Extraction!$A$4:$A7="Mai")) -> 0 | H38: =SUMPRODUCT((LEFT(Extraction!$CL$4:$CL7,LEN(Extraction!$CL$4:$CL7)-1))*(Extraction!$A$4:$A7="Juin")) -> 0 | I38: =SUMPRODUCT((LEFT(Extraction!$CL$4:$CL7,LEN(Extraction!$CL$4:$CL7)-1))*(Extraction!$A$4:$A7="Juillet")) -> 0 | J38: =SUMPRODUCT((LEFT(Extraction!$CL$4:$CL7,LEN(Extraction!$CL$4:$CL7)-1))*(Extraction!$A$4:$A7="Août")) -> 0 | K38: =SUMPRODUCT((LEFT(Extraction!$CL$4:$CL7,LEN(Extraction!$CL$4:$CL7)-1))*(Extraction!$A$4:$A7="Septembre")) -> 0 | L38: =SUMPRODUCT((LEFT(Extraction!$CL$4:$CL7,LEN(Extraction!$CL$4:$CL7)-1))*(Extraction!$A$4:$A7="Octobre")) -> 0 | M38: =SUMPRODUCT((LEFT(Extraction!$CL$4:$CL7,LEN(Extraction!$CL$4:$CL7)-1))*(Extraction!$A$4:$A7="Novembre")) -> 0 | N38: =SUMPRODUCT((LEFT(Extraction!$CL$4:$CL7,LEN(Extraction!$CL$4:$CL7)-1))*(Extraction!$A$4:$A7="Décembre")) -> 0 | O38: =SUM(C38:N38) -> 0 | P38: =AVERAGE(O38) -> 0
B39: MAP | C39: =SUMPRODUCT((LEFT(Extraction!$CM$4:$CM7,LEN(Extraction!$CM$4:$CM7)-1))*(Extraction!$A$4:$A7="Janvier")) -> 0 | D39: =SUMPRODUCT((LEFT(Extraction!$CM$4:$CM7,LEN(Extraction!$CM$4:$CM7)-1))*(Extraction!$A$4:$A7="Février")) -> 0 | E39: =SUMPRODUCT((LEFT(Extraction!$CM$4:$CM7,LEN(Extraction!$CM$4:$CM7)-1))*(Extraction!$A$4:$A7="Mars")) -> 0 | F39: =SUMPRODUCT((LEFT(Extraction!$CM$4:$CM7,LEN(Extraction!$CM$4:$CM7)-1))*(Extraction!$A$4:$A7="Avril")) -> 0 | G39: =SUMPRODUCT((LEFT(Extraction!$CM$4:$CM7,LEN(Extraction!$CM$4:$CM7)-1))*(Extraction!$A$4:$A7="Mai")) -> 0 | H39: =SUMPRODUCT((LEFT(Extraction!$CM$4:$CM7,LEN(Extraction!$CM$4:$CM7)-1))*(Extraction!$A$4:$A7="Juin")) -> 0 | I39: =SUMPRODUCT((LEFT(Extraction!$CM$4:$CM7,LEN(Extraction!$CM$4:$CM7)-1))*(Extraction!$A$4:$A7="Juillet")) -> 0 | J39: =SUMPRODUCT((LEFT(Extraction!$CM$4:$CM7,LEN(Extraction!$CM$4:$CM7)-1))*(Extraction!$A$4:$A7="Août")) -> 0 | K39: =SUMPRODUCT((LEFT(Extraction!$CM$4:$CM7,LEN(Extraction!$CM$4:$CM7)-1))*(Extraction!$A$4:$A7="Septembre")) -> 0 | L39: =SUMPRODUCT((LEFT(Extraction!$CM$4:$CM7,LEN(Extraction!$CM$4:$CM7)-1))*(Extraction!$A$4:$A7="Octobre")) -> 0 | M39: =SUMPRODUCT((LEFT(Extraction!$CM$4:$CM7,LEN(Extraction!$CM$4:$CM7)-1))*(Extraction!$A$4:$A7="Novembre")) -> 0 | N39: =SUMPRODUCT((LEFT(Extraction!$CM$4:$CM7,LEN(Extraction!$CM$4:$CM7)-1))*(Extraction!$A$4:$A7="Décembre")) -> 0 | O39: =SUM(C39:N39) -> 0 | P39: =AVERAGE(O39) -> 0
B40: DCIF | C40: =SUMPRODUCT((LEFT(Extraction!$CN$4:$CN7,LEN(Extraction!$CN$4:$CN7)-1))*(Extraction!$A$4:$A7="Janvier")) -> 0 | D40: =SUMPRODUCT((LEFT(Extraction!$CN$4:$CN7,LEN(Extraction!$CN$4:$CN7)-1))*(Extraction!$A$4:$A7="Février")) -> 0 | E40: =SUMPRODUCT((LEFT(Extraction!$CN$4:$CN7,LEN(Extraction!$CN$4:$CN7)-1))*(Extraction!$A$4:$A7="Mars")) -> 0 | F40: =SUMPRODUCT((LEFT(Extraction!$CN$4:$CN7,LEN(Extraction!$CN$4:$CN7)-1))*(Extraction!$A$4:$A7="Avril")) -> 0 | G40: =SUMPRODUCT((LEFT(Extraction!$CN$4:$CN7,LEN(Extraction!$CN$4:$CN7)-1))*(Extraction!$A$4:$A7="Mai")) -> 0 | H40: =SUMPRODUCT((LEFT(Extraction!$CN$4:$CN7,LEN(Extraction!$CN$4:$CN7)-1))*(Extraction!$A$4:$A7="Juin")) -> 0 | I40: =SUMPRODUCT((LEFT(Extraction!$CN$4:$CN7,LEN(Extraction!$CN$4:$CN7)-1))*(Extraction!$A$4:$A7="Juillet")) -> 0 | J40: =SUMPRODUCT((LEFT(Extraction!$CN$4:$CN7,LEN(Extraction!$CN$4:$CN7)-1))*(Extraction!$A$4:$A7="Août")) -> 0 | K40: =SUMPRODUCT((LEFT(Extraction!$CN$4:$CN7,LEN(Extraction!$CN$4:$CN7)-1))*(Extraction!$A$4:$A7="Septembre")) -> 0 | L40: =SUMPRODUCT((LEFT(Extraction!$CN$4:$CN7,LEN(Extraction!$CN$4:$CN7)-1))*(Extraction!$A$4:$A7="Octobre")) -> 0 | M40: =SUMPRODUCT((LEFT(Extraction!$CN$4:$CN7,LEN(Extraction!$CN$4:$CN7)-1))*(Extraction!$A$4:$A7="Novembre")) -> 0 | N40: =SUMPRODUCT((LEFT(Extraction!$CN$4:$CN7,LEN(Extraction!$CN$4:$CN7)-1))*(Extraction!$A$4:$A7="Décembre")) -> 0 | O40: =SUM(C40:N40) -> 0 | P40: =AVERAGE(O40) -> 0

Sheet Type d'absence
A1: Motif d'absence | B1: Abréviation | C1: Type
A2: Congé payés | B2: CP | C2: Absence non impactantes
A3: Jour fériés | B3: JF | C3: Absence non impactantes
A4: Evenements familiaux | B4: EVF | C4: Absence non impactantes
A5: Repos de modulation | B5: RM | C5: Absence non impactantes
A6: Repos d'exploitation | B6: RE | C6: Absence non impactantes
A7: Repos d'organisation | B7: RO | C7: Absence non impactantes
A8: Repos compensateur | B8: RC | C8: Absence non impactantes
A9: Repos compensateur de remplacement annuel | B9: RCRA | C9: Absence non impactantes
A10: Repos compensateur de remplacement mensuel | B10: RCRM | C10: Absence non impactantes
A11: Repos compensateur nuit | B11: RCN | C11: Absence non impactantes
A12: Temps partiel | B12: TPA | C12: Absence non impactantes
... A38: Droit individuel/Congé individuel formation | B38: DCIF | C38: Absence impactantes

Sheet Mode d'emploi
F3: Extraction
F7: Absence par société
F11: Absence mensuelle
AQ51: Total en jours | AR51: Nb de jours d'absences moyen par employé | AS51: Nb j abs pour 100 personnes | AT51: Absence impactantes jours | AU51: absence impactantes heures | AV51: Absence non impactantes j | AW51: Absence non impactantes h
AQ52: ='Absence par société'!#REF!+'Absence par société'!#REF!/24 -> #REF! | AR52: =AQ52/'Absence par société'!#REF! -> #REF! | AS52: =(AQ52*100)/'Absence par société'!#REF! -> #REF! | AT52: =SUM('Absence par société'!#REF!,'Absence par société'!#REF!,'Absence par société'!#REF!) -> #REF! | AU52: =SUM('Absence par société'!#REF!,'Absence par société'!#REF!) -> #REF!
AQ53: ='Absence par société'!#REF!+'Absence par société'!#REF!/24 -> #REF! | AR53: =AQ53/'Absence par société'!#REF! -> #REF! | AS53: =(AQ53*100)/'Absence par société'!#REF! -> #REF! | AT53: =SUM('Absence par société'!#REF!,'Absence par société'!#REF!,'Absence par société'!#REF!) -> #REF! | AU53: =SUM('Absence par société'!#REF!,'Absence par société'!#REF!) -> #REF! | AV53: =SUM('Absence par société'!#REF!,'Absence par société'!#REF!,'Absence par société'!#REF!,'Absence par société'!#REF!) -> #REF! | AW53: =SUM('Absence par société'!#REF!,'Absence par société'!#REF!,'Absence par société'!#REF!) -> #REF!
AQ54: ='Absence par société'!#REF!+'Absence par société'!#REF!/24 -> #REF! | AR54: =AQ54/'Absence par société'!#REF! -> #REF! | AS54: =(AQ54*100)/'Absence par société'!#REF! -> #REF! | AT54: =SUM('Absence par société'!#REF!,'Absence par société'!#REF!,'Absence par société'!#REF!) -> #REF! | AU54: =SUM('Absence par société'!#REF!,'Absence par société'!#REF!) -> #REF! | AV54: =SUM('Absence par société'!#REF!,'Absence par société'!#REF!,'Absence par société'!#REF!,'Absence par société'!#REF!) -> #REF! | AW54: =SUM('Absence par société'!#REF!,'Absence par société'!#REF!,'Absence par société'!#REF!) -> #REF!
AQ55: ='Absence par société'!#REF!+'Absence par société'!#REF!/24 -> #REF! | AR55: =AQ55/'Absence par société'!#REF! -> #REF! | AS55: =(AQ55*100)/'Absence par société'!#REF! -> #REF! | AT55: =SUM('Absence par société'!#REF!,'Absence par société'!#REF!,'Absence par société'!#REF!) -> #REF! | AU55: =SUM('Absence par société'!#REF!,'Absence par société'!#REF!) -> #REF! | AV55: =SUM('Absence par société'!#REF!,'Absence par société'!#REF!,'Absence par société'!#REF!,'Absence par société'!#REF!) -> #REF! | AW55: =SUM('Absence par société'!#REF!,'Absence par société'!#REF!,'Absence par société'!#REF!) -> #REF!
AQ56: ='Absence par société'!#REF!+'Absence par société'!#REF!/24 -> #REF! | AR56: =AQ56/'Absence par société'!#REF! -> #REF! | AS56: =(AQ56*100)/'Absence par société'!#REF! -> #REF! | AT56: =SUM('Absence par société'!#REF!,'Absence par société'!#REF!,'Absence par société'!#REF!) -> #REF! | AU56: =SUM('Absence par société'!#REF!,'Absence par société'!#REF!) -> #REF! | AV56: =SUM('Absence par société'!#REF!,'Absence par société'!#REF!,'Absence par société'!#REF!,'Absence par société'!#REF!) -> #REF! | AW56: =SUM('Absence par société'!#REF!,'Absence par société'!#REF!,'Absence par société'!#REF!) -> #REF!
AQ57: ='Absence par société'!#REF!+'Absence par société'!#REF!/24 -> #REF! | AR57: =AQ57/'Absence par société'!#REF! -> #REF! | AS57: =(AQ57*100)/'Absence par société'!#REF! -> #REF! | AT57: =SUM('Absence par société'!#REF!,'Absence par société'!#REF!,'Absence par société'!#REF!) -> #REF! | AU57: =SUM('Absence par société'!#REF!,'Absence par société'!#REF!) -> #REF! | AV57: =SUM('Absence par société'!#REF!,'Absence par société'!#REF!,'Absence par société'!#REF!,'Absence par société'!#REF!) -> #REF! | AW57: =SUM('Absence par société'!#REF!,'Absence par société'!#REF!,'Absence par société'!#REF!) -> #REF!
AQ58: ='Absence par société'!#REF!+'Absence par société'!#REF!/24 -> #REF! | AR58: =AQ58/'Absence par société'!#REF! -> #REF! | AS58: =(AQ58*100)/'Absence par société'!#REF! -> #REF! | AT58: =SUM('Absence par société'!#REF!,'Absence par société'!#REF!,'Absence par société'!#REF!) -> #REF! | AU58: =SUM('Absence par société'!#REF!,'Absence par société'!#REF!) -> #REF! | AV58: =SUM('Absence par société'!#REF!,'Absence par société'!#REF!,'Absence par société'!#REF!,'Absence par société'!#REF!) -> #REF! | AW58: =SUM('Absence par société'!#REF!,'Absence par société'!#REF!,'Absence par société'!#REF!) -> #REF!
AQ59: ='Absence par société'!#REF!+'Absence par société'!#REF!/24 -> #REF! | AR59: =AQ59/'Absence par société'!#REF! -> #REF! | AS59: =(AQ59*100)/'Absence par société'!#REF! -> #REF! | AT59: =SUM('Absence par société'!#REF!,'Absence par société'!#REF!,'Absence par société'!#REF!) -> #REF! | AU59: =SUM('Absence par société'!#REF!,'Absence par société'!#REF!) -> #REF! | AV59: =SUM('Absence par société'!#REF!,'Absence par société'!#REF!,'Absence par société'!#REF!,'Absence par société'!#REF!) -> #REF! | AW59: =SUM('Absence par société'!#REF!,'Absence par société'!#REF!,'Absence par société'!#REF!) -> #REF!
AQ60: ='Absence par société'!#REF!+'Absence par société'!#REF!/24 -> #REF! | AR60: =IFERROR(AQ60/'Absence par société'!#REF!,"") | AS60: =IFERROR((AQ60*100)/'Absence par société'!#REF!,"") | AT60: =SUM('Absence par société'!#REF!,'Absence par société'!#REF!,'Absence par société'!#REF!) -> #REF! | AU60: =SUM('Absence par société'!#REF!,'Absence par société'!#REF!) -> #REF! | AV60: =SUM('Absence par société'!#REF!,'Absence par société'!#REF!,'Absence par société'!#REF!,'Absence par société'!#REF!) -> #REF! | AW60: =SUM('Absence par société'!#REF!,'Absence par société'!#REF!,'Absence par société'!#REF!) -> #REF!
AQ61: ='Absence par société'!#REF!+'Absence par société'!#REF!/24 -> #REF! | AR61: =AQ61/'Absence par société'!#REF! -> #REF! | AS61: =(AQ61*100)/'Absence par société'!#REF! -> #REF! | AT61: =SUM('Absence par société'!#REF!,'Absence par société'!#REF!,'Absence par société'!#REF!) -> #REF! | AU61: =SUM('Absence par société'!#REF!,'Absence par société'!#REF!) -> #REF! | AV61: =SUM('Absence par société'!#REF!,'Absence par société'!#REF!,'Absence par société'!#REF!,'Absence par société'!#REF!) -> #REF! | AW61: =SUM('Absence par société'!#REF!,'Absence par société'!#REF!,'Absence par société'!#REF!) -> #REF!
AQ62: ='Absence par société'!#REF!+'Absence par société'!#REF!/24 -> #REF! | AR62: =AQ62/'Absence par société'!#REF! -> #REF! | AS62: =(AQ62*100)/'Absence par société'!#REF! -> #REF! | AT62: =SUM('Absence par société'!#REF!,'Absence par société'!#REF!,'Absence par société'!#REF!) -> #REF! | AU62: =SUM('Absence par société'!#REF!,'Absence par société'!#REF!) -> #REF! | AV62: =SUM('Absence par société'!#REF!,'Absence par société'!#REF!,'Absence par société'!#REF!,'Absence par société'!#REF!) -> #REF! | AW62: =SUM('Absence par société'!#REF!,'Absence par société'!#REF!,'Absence par société'!#REF!) -> #REF!
AQ63: ='Absence par société'!#REF!+'Absence par société'!#REF!/24 -> #REF! | AR63: =AQ63/'Absence par société'!#REF! -> #REF! | AS63: =(AQ63*100)/'Absence par société'!#REF! -> #REF! | AT63: =SUM('Absence par société'!#REF!,'Absence par société'!#REF!,'Absence par société'!#REF!) -> #REF! | AU63: =SUM('Absence par société'!#REF!,'Absence par société'!#REF!) -> #REF! | AV63: =SUM('Absence par société'!#REF!,'Absence par société'!#REF!,'Absence par société'!#REF!,'Absence par société'!#REF!) -> #REF! | AW63: =SUM('Absence par société'!#REF!,'Absence par société'!#REF!,'Absence par société'!#REF!) -> #REF!
AQ64: ='Absence par société'!#REF!+'Absence par société'!#REF!/24 -> #REF! | AR64: =AQ64/'Absence par société'!#REF! -> #REF! | AS64: =(AQ64*100)/'Absence par société'!#REF! -> #REF! | AT64: =SUM('Absence par société'!#REF!,'Absence par société'!#REF!,'Absence par société'!#REF!) -> #REF! | AU64: =SUM('Absence par société'!#REF!,'Absence par société'!#REF!) -> #REF! | AV64: =SUM('Absence par société'!#REF!,'Absence par société'!#REF!,'Absence par société'!#REF!,'Absence par société'!#REF!) -> #REF! | AW64: =SUM('Absence par société'!#REF!,'Absence par société'!#REF!,'Absence par société'!#REF!) -> #REF!
AQ65: ='Absence par société'!#REF!+'Absence par société'!#REF!/24 -> #REF! | AR65: =AQ65/'Absence par société'!#REF! -> #REF! | AS65: =(AQ65*100)/'Absence par société'!#REF! -> #REF! | AT65: =SUM('Absence par société'!#REF!,'Absence par société'!#REF!,'Absence par société'!#REF!) -> #REF! | AU65: =SUM('Absence par société'!#REF!,'Absence par société'!#REF!) -> #REF! | AV65: =SUM('Absence par société'!#REF!,'Absence par société'!#REF!,'Absence par société'!#REF!,'Absence par société'!#REF!) -> #REF! | AW65: =SUM('Absence par société'!#REF!,'Absence par société'!#REF!,'Absence par société'!#REF!) -> #REF!
AQ66: ='Absence par société'!#REF!+'Absence par société'!#REF!/24 -> #REF! | AR66: =AQ66/'Absence par société'!#REF! -> #REF! | AS66: =(AQ66*100)/'Absence par société'!#REF! -> #REF! | AT66: =SUM('Absence par société'!#REF!,'Absence par société'!#REF!,'Absence par société'!#REF!) -> #REF! | AU66: =SUM('Absence par société'!#REF!,'Absence par société'!#REF!) -> #REF! | AV66: =SUM('Absence par société'!#REF!,'Absence par société'!#REF!,'Absence par société'!#REF!,'Absence par société'!#REF!) -> #REF! | AW66: =SUM('Absence par société'!#REF!,'Absence par société'!#REF!,'Absence par société'!#REF!) -> #REF!
AQ67: ='Absence par société'!#REF!+'Absence par société'!#REF!/24 -> #REF! | AR67: =AQ67/'Absence par société'!#REF! -> #REF! | AS67: =(AQ67*100)/'Absence par société'!#REF! -> #REF! | AT67: =SUM('Absence par société'!#REF!,'Absence par société'!#REF!,'Absence par société'!#REF!) -> #REF! | AU67: =SUM('Absence par société'!#REF!,'Absence par société'!#REF!) -> #REF! | AV67: =SUM('Absence par société'!#REF!,'Absence par société'!#REF!,'Absence par société'!#REF!,'Absence par société'!#REF!) -> #REF! | AW67: =SUM('Absence par société'!#REF!,'Absence par société'!#REF!,'Absence par société'!#REF!) -> #REF!
AQ68: ='Absence par société'!#REF!+'Absence par société'!#REF!/24 -> #REF! | AR68: =AQ68/'Absence par société'!#REF! -> #REF! | AS68: =(AQ68*100)/'Absence par société'!#REF! -> #REF! | AT68: =SUM('Absence par société'!#REF!,'Absence par société'!#REF!,'Absence par société'!#REF!) -> #REF! | AU68: =SUM('Absence par société'!#REF!,'Absence par société'!#REF!) -> #REF! | AV68: =SUM('Absence par société'!#REF!,'Absence par société'!#REF!,'Absence par société'!#REF!,'Absence par société'!#REF!) -> #REF! | AW68: =SUM('Absence par société'!#REF!,'Absence par société'!#REF!,'Absence par société'!#REF!) -> #REF!
AQ69: ='Absence par société'!#REF!+'Absence par société'!#REF!/24 -> #REF! | AR69: =AQ69/'Absence par société'!#REF! -> #REF! | AS69: =(AQ69*100)/'Absence par société'!#REF! -> #REF! | AT69: =SUM('Absence par société'!#REF!,'Absence par société'!#REF!,'Absence par société'!#REF!) -> #REF! | AU69: =SUM('Absence par société'!#REF!,'Absence par société'!#REF!) -> #REF! | AV69: =SUM('Absence par société'!#REF!,'Absence par société'!#REF!,'Absence par société'!#REF!,'Absence par société'!#REF!) -> #REF! | AW69: =SUM('Absence par société'!#REF!,'Absence par société'!#REF!,'Absence par société'!#REF!) -> #REF!
AQ70: ='Absence par société'!#REF!+'Absence par société'!#REF!/24 -> #REF! | AR70: =AQ70/'Absence par société'!#REF! -> #REF! | AS70: =(AQ70*100)/'Absence par société'!#REF! -> #REF! | AT70: =SUM('Absence par société'!#REF!,'Absence par société'!#REF!,'Absence par société'!#REF!) -> #REF! | AU70: =SUM('Absence par société'!#REF!,'Absence par société'!#REF!) -> #REF! | AV70: =SUM('Absence par société'!#REF!,'Absence par société'!#REF!,'Absence par société'!#REF!,'Absence par société'!#REF!) -> #REF! | AW70: =SUM('Absence par société'!#REF!,'Absence par société'!#REF!,'Absence par société'!#REF!) -> #REF!
AQ71: ='Absence par société'!#REF!+'Absence par société'!#REF!/24 -> #REF! | AR71: =AQ71/'Absence par société'!#REF! -> #REF! | AS71: =(AQ71*100)/'Absence par société'!#REF! -> #REF! | AT71: =SUM('Absence par société'!#REF!,'Absence par société'!#REF!,'Absence par société'!#REF!) -> #REF! | AU71: =SUM('Absence par société'!#REF!,'Absence par société'!#REF!) -> #REF! | AV71: =SUM('Absence par société'!#REF!,'Absence par société'!#REF!,'Absence par société'!#REF!,'Absence par société'!#REF!) -> #REF! | AW71: =SUM('Absence par société'!#REF!,'Absence par société'!#REF!,'Absence par société'!#REF!) -> #REF!
AQ72: ='Absence par société'!#REF!+'Absence par société'!#REF!/24 -> #REF! | AR72: =AQ72/'Absence par société'!#REF! -> #REF! | AS72: =(AQ72*100)/'Absence par société'!#REF! -> #REF! | AT72: =SUM('Absence par société'!#REF!,'Absence par société'!#REF!,'Absence par société'!#REF!) -> #REF! | AU72: =SUM('Absence par société'!#REF!,'Absence par société'!#REF!) -> #REF! | AV72: =SUM('Absence par société'!#REF!,'Absence par société'!#REF!,'Absence par société'!#REF!,'Absence par société'!#REF!) -> #REF! | AW72: =SUM('Absence par société'!#REF!,'Absence par société'!#REF!,'Absence par société'!#REF!) -> #REF!
AQ73: ='Absence par société'!#REF!+'Absence par société'!#REF!/24 -> #REF! | AR73: =AQ73/'Absence par société'!#REF! -> #REF! | AS73: =(AQ73*100)/'Absence par société'!#REF! -> #REF! | AT73: =SUM('Absence par société'!#REF!,'Absence par société'!#REF!,'Absence par société'!#REF!) -> #REF! | AU73: =SUM('Absence par société'!#REF!,'Absence par société'!#REF!) -> #REF! | AV73: =SUM('Absence par société'!#REF!,'Absence par société'!#REF!,'Absence par société'!#REF!,'Absence par société'!#REF!) -> #REF! | AW73: =SUM('Absence par société'!#REF!,'Absence par société'!#REF!,'Absence par société'!#REF!) -> #REF!
AQ74: ='Absence par société'!#REF!+'Absence par société'!#REF!/24 -> #REF! | AR74: =AQ74/'Absence par société'!#REF! -> #REF! | AT74: =SUM(AT53:AT73) -> #REF! | AU74: =SUM(AU53:AU73) -> #REF! | AV74: =SUM(AV53:AV73) -> #REF! | AW74: =SUM(AW53:AW73) -> #REF!
AT75: =AT74+AU74/24 -> #REF! | AV75: =AV74+AW74/24 -> #REF!
