Workbook

Sheet Données
A2: 00-01_XB | B2: 0.01 | C2: 200
A3: 00-01_XB | B3: 0.02 | C3: 300
A4: 00-01_XB | B4: 0.03 | C4: 400
A5: 00-01_XB | B5: 0.04 | C5: 500
A6: 02-03_XB | B6: 5 | C6: 1
A7: 02-03_XB | B7: 10 | C7: 2
A8: 02-03_XB | B8: 4 | C8: 3
A9: 02-03_XB | B9: 3 | C9: 4
A10: 03-04_XB | B10: 69 | C10: 10
A11: 03-04_XB | B11: 14 | C11: 20
A12: 03-04_XB | B12: 23 | C12: 30
A13: 03-04_XB | B13: 58 | C13: 40
... A17: 04-05_XB | B17: 169 | C17: 130

Sheet Données ranger en tableau
A1: H1 | D1: H2 | G1: H3 | J1: H4 | M1: H5
A2: =IF(Données!$A$2:$A$17="00-01_XB",Données!$B$2:$B$17,) -> 0.01 | B2: =IF(Données!$A$2:$A$17="00-01_XB",Données!$C$2:$C$17,) -> 200 | D2: =IF(Données!$A$2:$A$17="01-02_XB",Données!$B$2:$B$17,) -> 0 | E2: =IF(Données!$A$2:$A$17="01-02_XB",Données!$C$2:$C$17,) -> 0 | G2: =IF(Données!$A$2:$A$17="02-03_XB",Données!$B$2:$B$17,) -> 0 | H2: =IF(Données!$A$2:$A$17="02-03_XB",Données!$C$2:$C$17,) -> 0 | J2: =IF(Données!$A$2:$A$17="03-04_XB",Données!$B$2:$B$17,) -> 0 | K2: =IF(Données!$A$2:$A$17="03-04_XB",Données!$C$2:$C$17,) -> 0 | M2: =IF(Données!$A$2:$A$17="04-05_XB",Données!$B$2:$B$17,) -> 0 | N2: =IF(Données!$A$2:$A$17="04-05_XB",Données!$C$2:$C$17,) -> 0
A3: =IF(Données!$A$2:$A$17="00-01_XB",Données!$B$2:$B$17,) -> 0.02 | B3: =IF(Données!$A$2:$A$17="00-01_XB",Données!$C$2:$C$17,) -> 300 | D3: =IF(Données!$A$2:$A$17="01-02_XB",Données!$B$2:$B$17,) -> 0 | E3: =IF(Données!$A$2:$A$17="01-02_XB",Données!$C$2:$C$17,) -> 0 | G3: =IF(Données!$A$2:$A$17="02-03_XB",Données!$B$2:$B$17,) -> 0 | H3: =IF(Données!$A$2:$A$17="02-03_XB",Données!$C$2:$C$17,) -> 0 | J3: =IF(Données!$A$2:$A$17="03-04_XB",Données!$B$2:$B$17,) -> 0 | K3: =IF(Données!$A$2:$A$17="03-04_XB",Données!$C$2:$C$17,) -> 0 | M3: =IF(Données!$A$2:$A$17="04-05_XB",Données!$B$2:$B$17,) -> 0 | N3: =IF(Données!$A$2:$A$17="04-05_XB",Données!$C$2:$C$17,) -> 0
A4: =IF(Données!$A$2:$A$17="00-01_XB",Données!$B$2:$B$17,) -> 0.03 | B4: =IF(Données!$A$2:$A$17="00-01_XB",Données!$C$2:$C$17,) -> 400 | D4: =IF(Données!$A$2:$A$17="01-02_XB",Données!$B$2:$B$17,) -> 0 | E4: =IF(Données!$A$2:$A$17="01-02_XB",Données!$C$2:$C$17,) -> 0 | G4: =IF(Données!$A$2:$A$17="02-03_XB",Données!$B$2:$B$17,) -> 0 | H4: =IF(Données!$A$2:$A$17="02-03_XB",Données!$C$2:$C$17,) -> 0 | J4: =IF(Données!$A$2:$A$17="03-04_XB",Données!$B$2:$B$17,) -> 0 | K4: =IF(Données!$A$2:$A$17="03-04_XB",Données!$C$2:$C$17,) -> 0 | M4: =IF(Données!$A$2:$A$17="04-05_XB",Données!$B$2:$B$17,) -> 0 | N4: =IF(Données!$A$2:$A$17="04-05_XB",Données!$C$2:$C$17,) -> 0
A5: =IF(Données!$A$2:$A$17="00-01_XB",Données!$B$2:$B$17,) -> 0.04 | B5: =IF(Données!$A$2:$A$17="00-01_XB",Données!$C$2:$C$17,) -> 500 | D5: =IF(Données!$A$2:$A$17="01-02_XB",Données!$B$2:$B$17,) -> 0 | E5: =IF(Données!$A$2:$A$17="01-02_XB",Données!$C$2:$C$17,) -> 0 | G5: =IF(Données!$A$2:$A$17="02-03_XB",Données!$B$2:$B$17,) -> 0 | H5: =IF(Données!$A$2:$A$17="02-03_XB",Données!$C$2:$C$17,) -> 0 | J5: =IF(Données!$A$2:$A$17="03-04_XB",Données!$B$2:$B$17,) -> 0 | K5: =IF(Données!$A$2:$A$17="03-04_XB",Données!$C$2:$C$17,) -> 0 | M5: =IF(Données!$A$2:$A$17="04-05_XB",Données!$B$2:$B$17,) -> 0 | N5: =IF(Données!$A$2:$A$17="04-05_XB",Données!$C$2:$C$17,) -> 0
A6: =IF(Données!$A$2:$A$17="00-01_XB",Données!$B$2:$B$17,) -> 0 | B6: =IF(Données!$A$2:$A$17="00-01_XB",Données!$C$2:$C$17,) -> 0 | D6: =IF(Données!$A$2:$A$17="01-02_XB",Données!$B$2:$B$17,) -> 0 | E6: =IF(Données!$A$2:$A$17="01-02_XB",Données!$C$2:$C$17,) -> 0 | G6: =IF(Données!$A$2:$A$17="02-03_XB",Données!$B$2:$B$17,) -> 5 | H6: =IF(Données!$A$2:$A$17="02-03_XB",Données!$C$2:$C$17,) -> 1 | J6: =IF(Données!$A$2:$A$17="03-04_XB",Données!$B$2:$B$17,) -> 0 | K6: =IF(Données!$A$2:$A$17="03-04_XB",Données!$C$2:$C$17,) -> 0 | M6: =IF(Données!$A$2:$A$17="04-05_XB",Données!$B$2:$B$17,) -> 0 | N6: =IF(Données!$A$2:$A$17="04-05_XB",Données!$C$2:$C$17,) -> 0
A7: =IF(Données!$A$2:$A$17="00-01_XB",Données!$B$2:$B$17,) -> 0 | B7: =IF(Données!$A$2:$A$17="00-01_XB",Données!$C$2:$C$17,) -> 0 | D7: =IF(Données!$A$2:$A$17="01-02_XB",Données!$B$2:$B$17,) -> 0 | E7: =IF(Données!$A$2:$A$17="01-02_XB",Données!$C$2:$C$17,) -> 0 | G7: =IF(Données!$A$2:$A$17="02-03_XB",Données!$B$2:$B$17,) -> 10 | H7: =IF(Données!$A$2:$A$17="02-03_XB",Données!$C$2:$C$17,) -> 2 | J7: =IF(Données!$A$2:$A$17="03-04_XB",Données!$B$2:$B$17,) -> 0 | K7: =IF(Données!$A$2:$A$17="03-04_XB",Données!$C$2:$C$17,) -> 0 | M7: =IF(Données!$A$2:$A$17="04-05_XB",Données!$B$2:$B$17,) -> 0 | N7: =IF(Données!$A$2:$A$17="04-05_XB",Données!$C$2:$C$17,) -> 0
A8: =IF(Données!$A$2:$A$17="00-01_XB",Données!$B$2:$B$17,) -> 0 | B8: =IF(Données!$A$2:$A$17="00-01_XB",Données!$C$2:$C$17,) -> 0 | D8: =IF(Données!$A$2:$A$17="01-02_XB",Données!$B$2:$B$17,) -> 0 | E8: =IF(Données!$A$2:$A$17="01-02_XB",Données!$C$2:$C$17,) -> 0 | G8: =IF(Données!$A$2:$A$17="02-03_XB",Données!$B$2:$B$17,) -> 4 | H8: =IF(Données!$A$2:$A$17="02-03_XB",Données!$C$2:$C$17,) -> 3 | J8: =IF(Données!$A$2:$A$17="03-04_XB",Données!$B$2:$B$17,) -> 0 | K8: =IF(Données!$A$2:$A$17="03-04_XB",Données!$C$2:$C$17,) -> 0 | M8: =IF(Données!$A$2:$A$17="04-05_XB",Données!$B$2:$B$17,) -> 0 | N8: =IF(Données!$A$2:$A$17="04-05_XB",Données!$C$2:$C$17,) -> 0
A9: =IF(Données!$A$2:$A$17="00-01_XB",Données!$B$2:$B$17,) -> 0 | B9: =IF(Données!$A$2:$A$17="00-01_XB",Données!$C$2:$C$17,) -> 0 | D9: =IF(Données!$A$2:$A$17="01-02_XB",Données!$B$2:$B$17,) -> 0 | E9: =IF(Données!$A$2:$A$17="01-02_XB",Données!$C$2:$C$17,) -> 0 | G9: =IF(Données!$A$2:$A$17="02-03_XB",Données!$B$2:$B$17,) -> 3 | H9: =IF(Données!$A$2:$A$17="02-03_XB",Données!$C$2:$C$17,) -> 4 | J9: =IF(Données!$A$2:$A$17="03-04_XB",Données!$B$2:$B$17,) -> 0 | K9: =IF(Données!$A$2:$A$17="03-04_XB",Données!$C$2:$C$17,) -> 0 | M9: =IF(Données!$A$2:$A$17="04-05_XB",Données!$B$2:$B$17,) -> 0 | N9: =IF(Données!$A$2:$A$17="04-05_XB",Données!$C$2:$C$17,) -> 0
A10: =IF(Données!$A$2:$A$17="00-01_XB",Données!$B$2:$B$17,) -> 0 | B10: =IF(Données!$A$2:$A$17="00-01_XB",Données!$C$2:$C$17,) -> 0 | D10: =IF(Données!$A$2:$A$17="01-02_XB",Données!$B$2:$B$17,) -> 0 | E10: =IF(Données!$A$2:$A$17="01-02_XB",Données!$C$2:$C$17,) -> 0 | G10: =IF(Données!$A$2:$A$17="02-03_XB",Données!$B$2:$B$17,) -> 0 | H10: =IF(Données!$A$2:$A$17="02-03_XB",Données!$C$2:$C$17,) -> 0 | J10: =IF(Données!$A$2:$A$17="03-04_XB",Données!$B$2:$B$17,) -> 69 | K10: =IF(Données!$A$2:$A$17="03-04_XB",Données!$C$2:$C$17,) -> 10 | M10: =IF(Données!$A$2:$A$17="04-05_XB",Données!$B$2:$B$17,) -> 0 | N10: =IF(Données!$A$2:$A$17="04-05_XB",Données!$C$2:$C$17,) -> 0
A11: =IF(Données!$A$2:$A$17="00-01_XB",Données!$B$2:$B$17,) -> 0 | B11: =IF(Données!$A$2:$A$17="00-01_XB",Données!$C$2:$C$17,) -> 0 | D11: =IF(Données!$A$2:$A$17="01-02_XB",Données!$B$2:$B$17,) -> 0 | E11: =IF(Données!$A$2:$A$17="01-02_XB",Données!$C$2:$C$17,) -> 0 | G11: =IF(Données!$A$2:$A$17="02-03_XB",Données!$B$2:$B$17,) -> 0 | H11: =IF(Données!$A$2:$A$17="02-03_XB",Données!$C$2:$C$17,) -> 0 | J11: =IF(Données!$A$2:$A$17="03-04_XB",Données!$B$2:$B$17,) -> 14 | K11: =IF(Données!$A$2:$A$17="03-04_XB",Données!$C$2:$C$17,) -> 20 | M11: =IF(Données!$A$2:$A$17="04-05_XB",Données!$B$2:$B$17,) -> 0 | N11: =IF(Données!$A$2:$A$17="04-05_XB",Données!$C$2:$C$17,) -> 0
A12: =IF(Données!$A$2:$A$17="00-01_XB",Données!$B$2:$B$17,) -> 0 | B12: =IF(Données!$A$2:$A$17="00-01_XB",Données!$C$2:$C$17,) -> 0 | D12: =IF(Données!$A$2:$A$17="01-02_XB",Données!$B$2:$B$17,) -> 0 | E12: =IF(Données!$A$2:$A$17="01-02_XB",Données!$C$2:$C$17,) -> 0 | G12: =IF(Données!$A$2:$A$17="02-03_XB",Données!$B$2:$B$17,) -> 0 | H12: =IF(Données!$A$2:$A$17="02-03_XB",Données!$C$2:$C$17,) -> 0 | J12: =IF(Données!$A$2:$A$17="03-04_XB",Données!$B$2:$B$17,) -> 23 | K12: =IF(Données!$A$2:$A$17="03-04_XB",Données!$C$2:$C$17,) -> 30 | M12: =IF(Données!$A$2:$A$17="04-05_XB",Données!$B$2:$B$17,) -> 0 | N12: =IF(Données!$A$2:$A$17="04-05_XB",Données!$C$2:$C$17,) -> 0
A13: =IF(Données!$A$2:$A$17="00-01_XB",Données!$B$2:$B$17,) -> 0 | B13: =IF(Données!$A$2:$A$17="00-01_XB",Données!$C$2:$C$17,) -> 0 | D13: =IF(Données!$A$2:$A$17="01-02_XB",Données!$B$2:$B$17,) -> 0 | E13: =IF(Données!$A$2:$A$17="01-02_XB",Données!$C$2:$C$17,) -> 0 | G13: =IF(Données!$A$2:$A$17="02-03_XB",Données!$B$2:$B$17,) -> 0 | H13: =IF(Données!$A$2:$A$17="02-03_XB",Données!$C$2:$C$17,) -> 0 | J13: =IF(Données!$A$2:$A$17="03-04_XB",Données!$B$2:$B$17,) -> 58 | K13: =IF(Données!$A$2:$A$17="03-04_XB",Données!$C$2:$C$17,) -> 40 | M13: =IF(Données!$A$2:$A$17="04-05_XB",Données!$B$2:$B$17,) -> 0 | N13: =IF(Données!$A$2:$A$17="04-05_XB",Données!$C$2:$C$17,) -> 0
... A17: =IF(Données!$A$2:$A$17="00-01_XB",Données!$B$2:$B$17,) -> 0 | B17: =IF(Données!$A$2:$A$17="00-01_XB",Données!$C$2:$C$17,) -> 0 | D17: =IF(Données!$A$2:$A$17="01-02_XB",Données!$B$2:$B$17,) -> 0 | E17: =IF(Données!$A$2:$A$17="01-02_XB",Données!$C$2:$C$17,) -> 0 | G17: =IF(Données!$A$2:$A$17="02-03_XB",Données!$B$2:$B$17,) -> 0 | H17: =IF(Données!$A$2:$A$17="02-03_XB",Données!$C$2:$C$17,) -> 0 | J17: =IF(Données!$A$2:$A$17="03-04_XB",Données!$B$2:$B$17,) -> 0 | K17: =IF(Données!$A$2:$A$17="03-04_XB",Données!$C$2:$C$17,) -> 0 | M17: =IF(Données!$A$2:$A$17="04-05_XB",Données!$B$2:$B$17,) -> 169 | N17: =IF(Données!$A$2:$A$17="04-05_XB",Données!$C$2:$C$17,) -> 130
