Workbook

Sheet Fériés
C4: Jour | D4: Mois | E4: Date
B5: 1er Janvier | C5: 1 | D5: 1 | E5: =TEXT(CONCATENATE(C5,"/",D5,"/",Janvier!$A$3),"jj/mm/aaaa") -> 01/01/2021
B6: Fête du travail | C6: 1 | D6: 5 | E6: =TEXT(CONCATENATE(C6,"/",D6,"/",Janvier!$A$3),"jj/mm/aaaa") -> 01/05/2021
B7: Libération 1945 | C7: 8 | D7: 5 | E7: =TEXT(CONCATENATE(C7,"/",D7,"/",Janvier!$A$3),"jj/mm/aaaa") -> 08/05/2021
B8: Fête Nationale | C8: 14 | D8: 7 | E8: =TEXT(CONCATENATE(C8,"/",D8,"/",Janvier!$A$3),"jj/mm/aaaa") -> 14/07/2021
B9: 15 Août | C9: 15 | D9: 8 | E9: =TEXT(CONCATENATE(C9,"/",D9,"/",Janvier!$A$3),"jj/mm/aaaa") -> 15/08/2021
B10: Toussaint | C10: 1 | D10: 11 | E10: =TEXT(CONCATENATE(C10,"/",D10,"/",Janvier!$A$3),"jj/mm/aaaa") -> 01/11/2021
B11: Armistice 1918 | C11: 11 | D11: 11 | E11: =TEXT(CONCATENATE(C11,"/",D11,"/",Janvier!$A$3),"jj/mm/aaaa") -> 11/11/2021
B12: Nöel | C12: 25 | D12: 12 | E12: =TEXT(CONCATENATE(C12,"/",D12,"/",Janvier!$A$3),"jj/mm/aaaa") -> 25/12/2021
B13: Pâques | C13: =DAY(E13) -> 4 | D13: =MONTH(E13) -> 4 | E13: =ROUND(DATE(Janvier!A3,4,MOD(234-11*MOD(Janvier!A3,19),30))/7,0)*7-6 -> 44290
B14: Lundi de Pâques | C14: =DAY(E14) -> 5 | D14: =MONTH(E14) -> 4 | E14: =E13+1 -> 44291
B15: Ascension | C15: =DAY(E15) -> 13 | D15: =MONTH(E15) -> 5 | E15: =E13+39 -> 44329
B16: Pentecôte | C16: =DAY(E16) -> 23 | D16: =MONTH(E16) -> 5 | E16: =E13+49 -> 44339
B17: Lundi de Pentecôte | C17: =DAY(E17) -> 24 | D17: =MONTH(E17) -> 5 | E17: =E13+50 -> 44340
B20: https://www.excel-exercice.com/creation-dun-calendrier-automatique/
B21: https://www.excel-exercice.com/changer-la-couleur-des-jours-feries/

Sheet Recap
A2: Personnel : | B2: Anna | C2: =Janvier!$A$8 -> Janvier | G2: =Février!$A$8 -> Février | K2: =Mars!$A$8 -> Mars | O2: =Avril!$A$8 -> Avril | S2: =Mai!$A$8 -> Mai | W2: =Juin!$A$8 -> Juin | AA2: =Juillet!$A$8 -> Juillet | AE2: =Août!$A$8 -> Août | AI2: =Septembre!$A$8 -> Septembre | AM2: =Octobre!$A$8 -> Octobre | AQ2: =Novembre!$A$8 -> Novembre | AU2: =Décembre!$A$8 -> Décembre
A3: Année : | B3: =Janvier!A3 -> 2021
A4: Jours : | B4: 1 | C4: =VLOOKUP($C$2,Janvier!$A$8:$AK$8,$B4+1) -> ven | D4: =VLOOKUP($B$2,Janvier!$A$8:$AK$31,B4+1,FALSE) -> 0 | E4: =OFFSET(INDEX(Janvier!$A$8:$AK$31,MATCH($B$2,Janvier!$A$8:$A$31),$B4+1),1,0) -> #N/A | G4: =VLOOKUP($C$2,Février!$A$8:$AK$8,$B4+1) -> lun | H4: =VLOOKUP($B$2,Février!$A$8:$AK$31,B4+1,FALSE) -> 0 | I4: =OFFSET(INDEX(Février!$A$8:$AK$31,MATCH($B$2,Février!$A$8:$A$31),$B4+1),1,0) -> #N/A | K4: =VLOOKUP(K$2,Mars!$A$8:$AK$8,$B4+1) -> lun | L4: =VLOOKUP($B$2,Mars!$A$8:$AK$31,B4+1,FALSE) -> 0 | M4: =OFFSET(INDEX(Mars!$A$8:$AK$31,MATCH($B$2,Mars!$A$8:$A$31),$B4+1),1,0) -> #N/A | O4: =VLOOKUP(O$2,Avril!$A$8:$AK$8,$B4+1) -> jeu | P4: =INDEX(Avril!$A$8:$AK$31,MATCH($B$2,Avril!$A$8:$A$31),$B4+1) -> #N/A | Q4: =OFFSET(INDEX(Avril!$A$8:$AK$31,MATCH($B$2,Avril!$A$8:$A$31),$B4+1),1,0) -> #N/A | S4: =VLOOKUP(S$2,Mai!$A$8:$AK$8,$B4+1) -> sam | T4: =INDEX(Mai!$A$8:$AK$31,MATCH($B$2,Mai!$A$8:$A$31),$B4+1) -> #N/A | U4: =OFFSET(INDEX(Mai!$A$8:$AK$31,MATCH($B$2,Mai!$A$8:$A$31),$B4+1),1,0) -> #N/A | W4: =VLOOKUP(W$2,Juin!$A$8:$AK$8,$B4+1) -> mar | X4: =INDEX(Juin!$A$8:$AK$31,MATCH($B$2,Juin!$A$8:$A$31),$B4+1) -> #N/A | Y4: =OFFSET(INDEX(Juin!$A$8:$AK$31,MATCH($B$2,Juin!$A$8:$A$31),$B4+1),1,0) -> #N/A | AA4: =VLOOKUP(AA$2,Juillet!$A$8:$AK$8,$B4+1) -> jeu | AB4: =INDEX(Juillet!$A$8:$AK$31,MATCH($B$2,Juillet!$A$8:$A$31),$B4+1) -> #N/A | AC4: =OFFSET(INDEX(Juillet!$A$8:$AK$31,MATCH($B$2,Juillet!$A$8:$A$31),$B4+1),1,0) -> #N/A | AE4: =VLOOKUP(AE$2,Août!$A$8:$AK$8,$B4+1) -> dim | AF4: =INDEX(Août!$A$8:$AK$31,MATCH($B$2,Août!$A$8:$A$31),$B4+1) -> #N/A | AG4: =OFFSET(INDEX(Août!$A$8:$AK$31,MATCH($B$2,Août!$A$8:$A$31),$B4+1),1,0) -> #N/A | AI4: =VLOOKUP(AI$2,Septembre!$A$8:$AK$8,$B4+1) -> mer | AJ4: =INDEX(Septembre!$A$8:$AK$31,MATCH($B$2,Septembre!$A$8:$A$31),$B4+1) -> #N/A | AK4: =OFFSET(INDEX(Septembre!$A$8:$AK$31,MATCH($B$2,Septembre!$A$8:$A$31),$B4+1),1,0) -> #N/A | AM4: =VLOOKUP(AM$2,Octobre!$A$8:$AK$8,$B4+1) -> ven | AN4: =INDEX(Octobre!$A$8:$AK$31,MATCH($B$2,Octobre!$A$8:$A$31),$B4+1) -> #N/A | AO4: =OFFSET(INDEX(Octobre!$A$8:$AK$31,MATCH($B$2,Octobre!$A$8:$A$31),$B4+1),1,0) -> #N/A | AQ4: =VLOOKUP(AQ$2,Novembre!$A$8:$AK$8,$B4+1) -> lun | AR4: =INDEX(Novembre!$A$8:$AK$31,MATCH($B$2,Novembre!$A$8:$A$31),$B4+1) -> #N/A | AS4: =OFFSET(INDEX(Novembre!$A$8:$AK$31,MATCH($B$2,Novembre!$A$8:$A$31),$B4+1),1,0) -> #N/A | AU4: =VLOOKUP(AU$2,Décembre!$A$8:$AK$8,$B4+1) -> mer | AV4: =INDEX(Décembre!$A$8:$AK$31,MATCH($B$2,Décembre!$A$8:$A$31),$B4+1) -> #N/A | AW4: =OFFSET(INDEX(Décembre!$A$8:$AK$31,MATCH($B$2,Décembre!$A$8:$A$31),$B4+1),1,0) -> #N/A
B5: 2 | C5: =VLOOKUP($C$2,Janvier!$A$8:$AK$8,$B5+1) -> sam | D5: =VLOOKUP($B$2,Janvier!$A$8:$AK$31,B5+1,FALSE) -> 0 | E5: =OFFSET(INDEX(Janvier!$A$8:$AK$31,MATCH($B$2,Janvier!$A$8:$A$31),$B5+1),1,0) -> #N/A | G5: =VLOOKUP($C$2,Février!$A$8:$AK$8,$B5+1) -> mar | H5: =VLOOKUP($B$2,Février!$A$8:$AK$31,B5+1,FALSE) -> A | I5: =OFFSET(INDEX(Février!$A$8:$AK$31,MATCH($B$2,Février!$A$8:$A$31),$B5+1),1,0) -> #N/A | K5: =VLOOKUP(K$2,Mars!$A$8:$AK$8,$B5+1) -> mar | L5: =VLOOKUP($B$2,Mars!$A$8:$AK$31,B5+1,FALSE) -> 0 | M5: =OFFSET(INDEX(Mars!$A$8:$AK$31,MATCH($B$2,Mars!$A$8:$A$31),$B5+1),1,0) -> #N/A | O5: =VLOOKUP(O$2,Avril!$A$8:$AK$8,$B5+1) -> ven | P5: =INDEX(Avril!$A$8:$AK$31,MATCH($B$2,Avril!$A$8:$A$31),$B5+1) -> #N/A | Q5: =OFFSET(INDEX(Avril!$A$8:$AK$31,MATCH($B$2,Avril!$A$8:$A$31),$B5+1),1,0) -> #N/A | S5: =VLOOKUP(S$2,Mai!$A$8:$AK$8,$B5+1) -> dim | T5: =INDEX(Mai!$A$8:$AK$31,MATCH($B$2,Mai!$A$8:$A$31),$B5+1) -> #N/A | U5: =OFFSET(INDEX(Mai!$A$8:$AK$31,MATCH($B$2,Mai!$A$8:$A$31),$B5+1),1,0) -> #N/A | W5: =VLOOKUP(W$2,Juin!$A$8:$AK$8,$B5+1) -> mer | X5: =INDEX(Juin!$A$8:$AK$31,MATCH($B$2,Juin!$A$8:$A$31),$B5+1) -> #N/A | Y5: =OFFSET(INDEX(Juin!$A$8:$AK$31,MATCH($B$2,Juin!$A$8:$A$31),$B5+1),1,0) -> #N/A | AA5: =VLOOKUP(AA$2,Juillet!$A$8:$AK$8,$B5+1) -> ven | AB5: =INDEX(Juillet!$A$8:$AK$31,MATCH($B$2,Juillet!$A$8:$A$31),$B5+1) -> #N/A | AC5: =OFFSET(INDEX(Juillet!$A$8:$AK$31,MATCH($B$2,Juillet!$A$8:$A$31),$B5+1),1,0) -> #N/A | AE5: =VLOOKUP(AE$2,Août!$A$8:$AK$8,$B5+1) -> lun | AF5: =INDEX(Août!$A$8:$AK$31,MATCH($B$2,Août!$A$8:$A$31),$B5+1) -> #N/A | AG5: =OFFSET(INDEX(Août!$A$8:$AK$31,MATCH($B$2,Août!$A$8:$A$31),$B5+1),1,0) -> #N/A | AI5: =VLOOKUP(AI$2,Septembre!$A$8:$AK$8,$B5+1) -> jeu | AJ5: =INDEX(Septembre!$A$8:$AK$31,MATCH($B$2,Septembre!$A$8:$A$31),$B5+1) -> #N/A | AK5: =OFFSET(INDEX(Septembre!$A$8:$AK$31,MATCH($B$2,Septembre!$A$8:$A$31),$B5+1),1,0) -> #N/A | AM5: =VLOOKUP(AM$2,Octobre!$A$8:$AK$8,$B5+1) -> sam | AN5: =INDEX(Octobre!$A$8:$AK$31,MATCH($B$2,Octobre!$A$8:$A$31),$B5+1) -> #N/A | AO5: =OFFSET(INDEX(Octobre!$A$8:$AK$31,MATCH($B$2,Octobre!$A$8:$A$31),$B5+1),1,0) -> #N/A | AQ5: =VLOOKUP(AQ$2,Novembre!$A$8:$AK$8,$B5+1) -> mar | AR5: =INDEX(Novembre!$A$8:$AK$31,MATCH($B$2,Novembre!$A$8:$A$31),$B5+1) -> #N/A | AS5: =OFFSET(INDEX(Novembre!$A$8:$AK$31,MATCH($B$2,Novembre!$A$8:$A$31),$B5+1),1,0) -> #N/A | AU5: =VLOOKUP(AU$2,Décembre!$A$8:$AK$8,$B5+1) -> jeu | AV5: =INDEX(Décembre!$A$8:$AK$31,MATCH($B$2,Décembre!$A$8:$A$31),$B5+1) -> #N/A | AW5: =OFFSET(INDEX(Décembre!$A$8:$AK$31,MATCH($B$2,Décembre!$A$8:$A$31),$B5+1),1,0) -> #N/A
B6: 3 | C6: =VLOOKUP($C$2,Janvier!$A$8:$AK$8,$B6+1) -> dim | D6: =VLOOKUP($B$2,Janvier!$A$8:$AK$31,B6+1,FALSE) -> 0 | E6: =OFFSET(INDEX(Janvier!$A$8:$AK$31,MATCH($B$2,Janvier!$A$8:$A$31),$B6+1),1,0) -> #N/A | G6: =VLOOKUP($C$2,Février!$A$8:$AK$8,$B6+1) -> mer | H6: =VLOOKUP($B$2,Février!$A$8:$AK$31,B6+1,FALSE) -> A | I6: =OFFSET(INDEX(Février!$A$8:$AK$31,MATCH($B$2,Février!$A$8:$A$31),$B6+1),1,0) -> #N/A | K6: =VLOOKUP(K$2,Mars!$A$8:$AK$8,$B6+1) -> mer | L6: =VLOOKUP($B$2,Mars!$A$8:$AK$31,B6+1,FALSE) -> 0 | M6: =OFFSET(INDEX(Mars!$A$8:$AK$31,MATCH($B$2,Mars!$A$8:$A$31),$B6+1),1,0) -> #N/A | O6: =VLOOKUP(O$2,Avril!$A$8:$AK$8,$B6+1) -> sam | P6: =INDEX(Avril!$A$8:$AK$31,MATCH($B$2,Avril!$A$8:$A$31),$B6+1) -> #N/A | Q6: =OFFSET(INDEX(Avril!$A$8:$AK$31,MATCH($B$2,Avril!$A$8:$A$31),$B6+1),1,0) -> #N/A | S6: =VLOOKUP(S$2,Mai!$A$8:$AK$8,$B6+1) -> lun | T6: =INDEX(Mai!$A$8:$AK$31,MATCH($B$2,Mai!$A$8:$A$31),$B6+1) -> #N/A | U6: =OFFSET(INDEX(Mai!$A$8:$AK$31,MATCH($B$2,Mai!$A$8:$A$31),$B6+1),1,0) -> #N/A | W6: =VLOOKUP(W$2,Juin!$A$8:$AK$8,$B6+1) -> jeu | X6: =INDEX(Juin!$A$8:$AK$31,MATCH($B$2,Juin!$A$8:$A$31),$B6+1) -> #N/A | Y6: =OFFSET(INDEX(Juin!$A$8:$AK$31,MATCH($B$2,Juin!$A$8:$A$31),$B6+1),1,0) -> #N/A | AA6: =VLOOKUP(AA$2,Juillet!$A$8:$AK$8,$B6+1) -> sam | AB6: =INDEX(Juillet!$A$8:$AK$31,MATCH($B$2,Juillet!$A$8:$A$31),$B6+1) -> #N/A | AC6: =OFFSET(INDEX(Juillet!$A$8:$AK$31,MATCH($B$2,Juillet!$A$8:$A$31),$B6+1),1,0) -> #N/A | AE6: =VLOOKUP(AE$2,Août!$A$8:$AK$8,$B6+1) -> mar | AF6: =INDEX(Août!$A$8:$AK$31,MATCH($B$2,Août!$A$8:$A$31),$B6+1) -> #N/A | AG6: =OFFSET(INDEX(Août!$A$8:$AK$31,MATCH($B$2,Août!$A$8:$A$31),$B6+1),1,0) -> #N/A | AI6: =VLOOKUP(AI$2,Septembre!$A$8:$AK$8,$B6+1) -> ven | AJ6: =INDEX(Septembre!$A$8:$AK$31,MATCH($B$2,Septembre!$A$8:$A$31),$B6+1) -> #N/A | AK6: =OFFSET(INDEX(Septembre!$A$8:$AK$31,MATCH($B$2,Septembre!$A$8:$A$31),$B6+1),1,0) -> #N/A | AM6: =VLOOKUP(AM$2,Octobre!$A$8:$AK$8,$B6+1) -> dim | AN6: =INDEX(Octobre!$A$8:$AK$31,MATCH($B$2,Octobre!$A$8:$A$31),$B6+1) -> #N/A | AO6: =OFFSET(INDEX(Octobre!$A$8:$AK$31,MATCH($B$2,Octobre!$A$8:$A$31),$B6+1),1,0) -> #N/A | AQ6: =VLOOKUP(AQ$2,Novembre!$A$8:$AK$8,$B6+1) -> mer | AR6: =INDEX(Novembre!$A$8:$AK$31,MATCH($B$2,Novembre!$A$8:$A$31),$B6+1) -> #N/A | AS6: =OFFSET(INDEX(Novembre!$A$8:$AK$31,MATCH($B$2,Novembre!$A$8:$A$31),$B6+1),1,0) -> #N/A | AU6: =VLOOKUP(AU$2,Décembre!$A$8:$AK$8,$B6+1) -> ven | AV6: =INDEX(Décembre!$A$8:$AK$31,MATCH($B$2,Décembre!$A$8:$A$31),$B6+1) -> #N/A | AW6: =OFFSET(INDEX(Décembre!$A$8:$AK$31,MATCH($B$2,Décembre!$A$8:$A$31),$B6+1),1,0) -> #N/A
B7: 4 | C7: =VLOOKUP($C$2,Janvier!$A$8:$AK$8,$B7+1) -> lun | D7: =VLOOKUP($B$2,Janvier!$A$8:$AK$31,B7+1,FALSE) -> A | E7: =OFFSET(INDEX(Janvier!$A$8:$AK$31,MATCH($B$2,Janvier!$A$8:$A$31),$B7+1),1,0) -> #N/A | G7: =VLOOKUP($C$2,Février!$A$8:$AK$8,$B7+1) -> jeu | H7: =VLOOKUP($B$2,Février!$A$8:$AK$31,B7+1,FALSE) -> A | I7: =OFFSET(INDEX(Février!$A$8:$AK$31,MATCH($B$2,Février!$A$8:$A$31),$B7+1),1,0) -> #N/A | K7: =VLOOKUP(K$2,Mars!$A$8:$AK$8,$B7+1) -> jeu | L7: =VLOOKUP($B$2,Mars!$A$8:$AK$31,B7+1,FALSE) -> 0 | M7: =OFFSET(INDEX(Mars!$A$8:$AK$31,MATCH($B$2,Mars!$A$8:$A$31),$B7+1),1,0) -> #N/A | O7: =VLOOKUP(O$2,Avril!$A$8:$AK$8,$B7+1) -> dim | P7: =INDEX(Avril!$A$8:$AK$31,MATCH($B$2,Avril!$A$8:$A$31),$B7+1) -> #N/A | Q7: =OFFSET(INDEX(Avril!$A$8:$AK$31,MATCH($B$2,Avril!$A$8:$A$31),$B7+1),1,0) -> #N/A | S7: =VLOOKUP(S$2,Mai!$A$8:$AK$8,$B7+1) -> mar | T7: =INDEX(Mai!$A$8:$AK$31,MATCH($B$2,Mai!$A$8:$A$31),$B7+1) -> #N/A | U7: =OFFSET(INDEX(Mai!$A$8:$AK$31,MATCH($B$2,Mai!$A$8:$A$31),$B7+1),1,0) -> #N/A | W7: =VLOOKUP(W$2,Juin!$A$8:$AK$8,$B7+1) -> ven | X7: =INDEX(Juin!$A$8:$AK$31,MATCH($B$2,Juin!$A$8:$A$31),$B7+1) -> #N/A | Y7: =OFFSET(INDEX(Juin!$A$8:$AK$31,MATCH($B$2,Juin!$A$8:$A$31),$B7+1),1,0) -> #N/A | AA7: =VLOOKUP(AA$2,Juillet!$A$8:$AK$8,$B7+1) -> dim | AB7: =INDEX(Juillet!$A$8:$AK$31,MATCH($B$2,Juillet!$A$8:$A$31),$B7+1) -> #N/A | AC7: =OFFSET(INDEX(Juillet!$A$8:$AK$31,MATCH($B$2,Juillet!$A$8:$A$31),$B7+1),1,0) -> #N/A | AE7: =VLOOKUP(AE$2,Août!$A$8:$AK$8,$B7+1) -> mer | AF7: =INDEX(Août!$A$8:$AK$31,MATCH($B$2,Août!$A$8:$A$31),$B7+1) -> #N/A | AG7: =OFFSET(INDEX(Août!$A$8:$AK$31,MATCH($B$2,Août!$A$8:$A$31),$B7+1),1,0) -> #N/A | AI7: =VLOOKUP(AI$2,Septembre!$A$8:$AK$8,$B7+1) -> sam | AJ7: =INDEX(Septembre!$A$8:$AK$31,MATCH($B$2,Septembre!$A$8:$A$31),$B7+1) -> #N/A | AK7: =OFFSET(INDEX(Septembre!$A$8:$AK$31,MATCH($B$2,Septembre!$A$8:$A$31),$B7+1),1,0) -> #N/A | AM7: =VLOOKUP(AM$2,Octobre!$A$8:$AK$8,$B7+1) -> lun | AN7: =INDEX(Octobre!$A$8:$AK$31,MATCH($B$2,Octobre!$A$8:$A$31),$B7+1) -> #N/A | AO7: =OFFSET(INDEX(Octobre!$A$8:$AK$31,MATCH($B$2,Octobre!$A$8:$A$31),$B7+1),1,0) -> #N/A | AQ7: =VLOOKUP(AQ$2,Novembre!$A$8:$AK$8,$B7+1) -> jeu | AR7: =INDEX(Novembre!$A$8:$AK$31,MATCH($B$2,Novembre!$A$8:$A$31),$B7+1) -> #N/A | AS7: =OFFSET(INDEX(Novembre!$A$8:$AK$31,MATCH($B$2,Novembre!$A$8:$A$31),$B7+1),1,0) -> #N/A | AU7: =VLOOKUP(AU$2,Décembre!$A$8:$AK$8,$B7+1) -> sam | AV7: =INDEX(Décembre!$A$8:$AK$31,MATCH($B$2,Décembre!$A$8:$A$31),$B7+1) -> #N/A | AW7: =OFFSET(INDEX(Décembre!$A$8:$AK$31,MATCH($B$2,Décembre!$A$8:$A$31),$B7+1),1,0) -> #N/A
B8: 5 | C8: =VLOOKUP($C$2,Janvier!$A$8:$AK$8,$B8+1) -> mar | D8: =VLOOKUP($B$2,Janvier!$A$8:$AK$31,B8+1,FALSE) -> 0 | E8: =OFFSET(INDEX(Janvier!$A$8:$AK$31,MATCH($B$2,Janvier!$A$8:$A$31),$B8+1),1,0) -> #N/A | G8: =VLOOKUP($C$2,Février!$A$8:$AK$8,$B8+1) -> ven | H8: =VLOOKUP($B$2,Février!$A$8:$AK$31,B8+1,FALSE) -> 0 | I8: =OFFSET(INDEX(Février!$A$8:$AK$31,MATCH($B$2,Février!$A$8:$A$31),$B8+1),1,0) -> #N/A | K8: =VLOOKUP(K$2,Mars!$A$8:$AK$8,$B8+1) -> ven | L8: =VLOOKUP($B$2,Mars!$A$8:$AK$31,B8+1,FALSE) -> 0 | M8: =OFFSET(INDEX(Mars!$A$8:$AK$31,MATCH($B$2,Mars!$A$8:$A$31),$B8+1),1,0) -> #N/A | O8: =VLOOKUP(O$2,Avril!$A$8:$AK$8,$B8+1) -> lun | P8: =INDEX(Avril!$A$8:$AK$31,MATCH($B$2,Avril!$A$8:$A$31),$B8+1) -> #N/A | Q8: =OFFSET(INDEX(Avril!$A$8:$AK$31,MATCH($B$2,Avril!$A$8:$A$31),$B8+1),1,0) -> #N/A | S8: =VLOOKUP(S$2,Mai!$A$8:$AK$8,$B8+1) -> mer | T8: =INDEX(Mai!$A$8:$AK$31,MATCH($B$2,Mai!$A$8:$A$31),$B8+1) -> #N/A | U8: =OFFSET(INDEX(Mai!$A$8:$AK$31,MATCH($B$2,Mai!$A$8:$A$31),$B8+1),1,0) -> #N/A | W8: =VLOOKUP(W$2,Juin!$A$8:$AK$8,$B8+1) -> sam | X8: =INDEX(Juin!$A$8:$AK$31,MATCH($B$2,Juin!$A$8:$A$31),$B8+1) -> #N/A | Y8: =OFFSET(INDEX(Juin!$A$8:$AK$31,MATCH($B$2,Juin!$A$8:$A$31),$B8+1),1,0) -> #N/A | AA8: =VLOOKUP(AA$2,Juillet!$A$8:$AK$8,$B8+1) -> lun | AB8: =INDEX(Juillet!$A$8:$AK$31,MATCH($B$2,Juillet!$A$8:$A$31),$B8+1) -> #N/A | AC8: =OFFSET(INDEX(Juillet!$A$8:$AK$31,MATCH($B$2,Juillet!$A$8:$A$31),$B8+1),1,0) -> #N/A | AE8: =VLOOKUP(AE$2,Août!$A$8:$AK$8,$B8+1) -> jeu | AF8: =INDEX(Août!$A$8:$AK$31,MATCH($B$2,Août!$A$8:$A$31),$B8+1) -> #N/A | AG8: =OFFSET(INDEX(Août!$A$8:$AK$31,MATCH($B$2,Août!$A$8:$A$31),$B8+1),1,0) -> #N/A | AI8: =VLOOKUP(AI$2,Septembre!$A$8:$AK$8,$B8+1) -> dim | AJ8: =INDEX(Septembre!$A$8:$AK$31,MATCH($B$2,Septembre!$A$8:$A$31),$B8+1) -> #N/A | AK8: =OFFSET(INDEX(Septembre!$A$8:$AK$31,MATCH($B$2,Septembre!$A$8:$A$31),$B8+1),1,0) -> #N/A | AM8: =VLOOKUP(AM$2,Octobre!$A$8:$AK$8,$B8+1) -> mar | AN8: =INDEX(Octobre!$A$8:$AK$31,MATCH($B$2,Octobre!$A$8:$A$31),$B8+1) -> #N/A | AO8: =OFFSET(INDEX(Octobre!$A$8:$AK$31,MATCH($B$2,Octobre!$A$8:$A$31),$B8+1),1,0) -> #N/A | AQ8: =VLOOKUP(AQ$2,Novembre!$A$8:$AK$8,$B8+1) -> ven | AR8: =INDEX(Novembre!$A$8:$AK$31,MATCH($B$2,Novembre!$A$8:$A$31),$B8+1) -> #N/A | AS8: =OFFSET(INDEX(Novembre!$A$8:$AK$31,MATCH($B$2,Novembre!$A$8:$A$31),$B8+1),1,0) -> #N/A | AU8: =VLOOKUP(AU$2,Décembre!$A$8:$AK$8,$B8+1) -> dim | AV8: =INDEX(Décembre!$A$8:$AK$31,MATCH($B$2,Décembre!$A$8:$A$31),$B8+1) -> #N/A | AW8: =OFFSET(INDEX(Décembre!$A$8:$AK$31,MATCH($B$2,Décembre!$A$8:$A$31),$B8+1),1,0) -> #N/A
B9: 6 | C9: =VLOOKUP($C$2,Janvier!$A$8:$AK$8,$B9+1) -> mer | D9: =VLOOKUP($B$2,Janvier!$A$8:$AK$31,B9+1,FALSE) -> A | E9: =OFFSET(INDEX(Janvier!$A$8:$AK$31,MATCH($B$2,Janvier!$A$8:$A$31),$B9+1),1,0) -> #N/A | G9: =VLOOKUP($C$2,Février!$A$8:$AK$8,$B9+1) -> sam | H9: =VLOOKUP($B$2,Février!$A$8:$AK$31,B9+1,FALSE) -> 0 | I9: =OFFSET(INDEX(Février!$A$8:$AK$31,MATCH($B$2,Février!$A$8:$A$31),$B9+1),1,0) -> #N/A | K9: =VLOOKUP(K$2,Mars!$A$8:$AK$8,$B9+1) -> sam | L9: =VLOOKUP($B$2,Mars!$A$8:$AK$31,B9+1,FALSE) -> 0 | M9: =OFFSET(INDEX(Mars!$A$8:$AK$31,MATCH($B$2,Mars!$A$8:$A$31),$B9+1),1,0) -> #N/A | O9: =VLOOKUP(O$2,Avril!$A$8:$AK$8,$B9+1) -> mar | P9: =INDEX(Avril!$A$8:$AK$31,MATCH($B$2,Avril!$A$8:$A$31),$B9+1) -> #N/A | Q9: =OFFSET(INDEX(Avril!$A$8:$AK$31,MATCH($B$2,Avril!$A$8:$A$31),$B9+1),1,0) -> #N/A | S9: =VLOOKUP(S$2,Mai!$A$8:$AK$8,$B9+1) -> jeu | T9: =INDEX(Mai!$A$8:$AK$31,MATCH($B$2,Mai!$A$8:$A$31),$B9+1) -> #N/A | U9: =OFFSET(INDEX(Mai!$A$8:$AK$31,MATCH($B$2,Mai!$A$8:$A$31),$B9+1),1,0) -> #N/A | W9: =VLOOKUP(W$2,Juin!$A$8:$AK$8,$B9+1) -> dim | X9: =INDEX(Juin!$A$8:$AK$31,MATCH($B$2,Juin!$A$8:$A$31),$B9+1) -> #N/A | Y9: =OFFSET(INDEX(Juin!$A$8:$AK$31,MATCH($B$2,Juin!$A$8:$A$31),$B9+1),1,0) -> #N/A | AA9: =VLOOKUP(AA$2,Juillet!$A$8:$AK$8,$B9+1) -> mar | AB9: =INDEX(Juillet!$A$8:$AK$31,MATCH($B$2,Juillet!$A$8:$A$31),$B9+1) -> #N/A | AC9: =OFFSET(INDEX(Juillet!$A$8:$AK$31,MATCH($B$2,Juillet!$A$8:$A$31),$B9+1),1,0) -> #N/A | AE9: =VLOOKUP(AE$2,Août!$A$8:$AK$8,$B9+1) -> ven | AF9: =INDEX(Août!$A$8:$AK$31,MATCH($B$2,Août!$A$8:$A$31),$B9+1) -> #N/A | AG9: =OFFSET(INDEX(Août!$A$8:$AK$31,MATCH($B$2,Août!$A$8:$A$31),$B9+1),1,0) -> #N/A | AI9: =VLOOKUP(AI$2,Septembre!$A$8:$AK$8,$B9+1) -> lun | AJ9: =INDEX(Septembre!$A$8:$AK$31,MATCH($B$2,Septembre!$A$8:$A$31),$B9+1) -> #N/A | AK9: =OFFSET(INDEX(Septembre!$A$8:$AK$31,MATCH($B$2,Septembre!$A$8:$A$31),$B9+1),1,0) -> #N/A | AM9: =VLOOKUP(AM$2,Octobre!$A$8:$AK$8,$B9+1) -> mer | AN9: =INDEX(Octobre!$A$8:$AK$31,MATCH($B$2,Octobre!$A$8:$A$31),$B9+1) -> #N/A | AO9: =OFFSET(INDEX(Octobre!$A$8:$AK$31,MATCH($B$2,Octobre!$A$8:$A$31),$B9+1),1,0) -> #N/A | AQ9: =VLOOKUP(AQ$2,Novembre!$A$8:$AK$8,$B9+1) -> sam | AR9: =INDEX(Novembre!$A$8:$AK$31,MATCH($B$2,Novembre!$A$8:$A$31),$B9+1) -> #N/A | AS9: =OFFSET(INDEX(Novembre!$A$8:$AK$31,MATCH($B$2,Novembre!$A$8:$A$31),$B9+1),1,0) -> #N/A | AU9: =VLOOKUP(AU$2,Décembre!$A$8:$AK$8,$B9+1) -> lun | AV9: =INDEX(Décembre!$A$8:$AK$31,MATCH($B$2,Décembre!$A$8:$A$31),$B9+1) -> #N/A | AW9: =OFFSET(INDEX(Décembre!$A$8:$AK$31,MATCH($B$2,Décembre!$A$8:$A$31),$B9+1),1,0) -> #N/A
B10: 7 | C10: =VLOOKUP($C$2,Janvier!$A$8:$AK$8,$B10+1) -> jeu | D10: =VLOOKUP($B$2,Janvier!$A$8:$AK$31,B10+1,FALSE) -> 0 | E10: =OFFSET(INDEX(Janvier!$A$8:$AK$31,MATCH($B$2,Janvier!$A$8:$A$31),$B10+1),1,0) -> #N/A | G10: =VLOOKUP($C$2,Février!$A$8:$AK$8,$B10+1) -> dim | H10: =VLOOKUP($B$2,Février!$A$8:$AK$31,B10+1,FALSE) -> 0 | I10: =OFFSET(INDEX(Février!$A$8:$AK$31,MATCH($B$2,Février!$A$8:$A$31),$B10+1),1,0) -> #N/A | K10: =VLOOKUP(K$2,Mars!$A$8:$AK$8,$B10+1) -> dim | L10: =VLOOKUP($B$2,Mars!$A$8:$AK$31,B10+1,FALSE) -> 0 | M10: =OFFSET(INDEX(Mars!$A$8:$AK$31,MATCH($B$2,Mars!$A$8:$A$31),$B10+1),1,0) -> #N/A | O10: =VLOOKUP(O$2,Avril!$A$8:$AK$8,$B10+1) -> mer | P10: =INDEX(Avril!$A$8:$AK$31,MATCH($B$2,Avril!$A$8:$A$31),$B10+1) -> #N/A | Q10: =OFFSET(INDEX(Avril!$A$8:$AK$31,MATCH($B$2,Avril!$A$8:$A$31),$B10+1),1,0) -> #N/A | S10: =VLOOKUP(S$2,Mai!$A$8:$AK$8,$B10+1) -> ven | T10: =INDEX(Mai!$A$8:$AK$31,MATCH($B$2,Mai!$A$8:$A$31),$B10+1) -> #N/A | U10: =OFFSET(INDEX(Mai!$A$8:$AK$31,MATCH($B$2,Mai!$A$8:$A$31),$B10+1),1,0) -> #N/A | W10: =VLOOKUP(W$2,Juin!$A$8:$AK$8,$B10+1) -> lun | X10: =INDEX(Juin!$A$8:$AK$31,MATCH($B$2,Juin!$A$8:$A$31),$B10+1) -> #N/A | Y10: =OFFSET(INDEX(Juin!$A$8:$AK$31,MATCH($B$2,Juin!$A$8:$A$31),$B10+1),1,0) -> #N/A | AA10: =VLOOKUP(AA$2,Juillet!$A$8:$AK$8,$B10+1) -> mer | AB10: =INDEX(Juillet!$A$8:$AK$31,MATCH($B$2,Juillet!$A$8:$A$31),$B10+1) -> #N/A | AC10: =OFFSET(INDEX(Juillet!$A$8:$AK$31,MATCH($B$2,Juillet!$A$8:$A$31),$B10+1),1,0) -> #N/A | AE10: =VLOOKUP(AE$2,Août!$A$8:$AK$8,$B10+1) -> sam | AF10: =INDEX(Août!$A$8:$AK$31,MATCH($B$2,Août!$A$8:$A$31),$B10+1) -> #N/A | AG10: =OFFSET(INDEX(Août!$A$8:$AK$31,MATCH($B$2,Août!$A$8:$A$31),$B10+1),1,0) -> #N/A | AI10: =VLOOKUP(AI$2,Septembre!$A$8:$AK$8,$B10+1) -> mar | AJ10: =INDEX(Septembre!$A$8:$AK$31,MATCH($B$2,Septembre!$A$8:$A$31),$B10+1) -> #N/A | AK10: =OFFSET(INDEX(Septembre!$A$8:$AK$31,MATCH($B$2,Septembre!$A$8:$A$31),$B10+1),1,0) -> #N/A | AM10: =VLOOKUP(AM$2,Octobre!$A$8:$AK$8,$B10+1) -> jeu | AN10: =INDEX(Octobre!$A$8:$AK$31,MATCH($B$2,Octobre!$A$8:$A$31),$B10+1) -> #N/A | AO10: =OFFSET(INDEX(Octobre!$A$8:$AK$31,MATCH($B$2,Octobre!$A$8:$A$31),$B10+1),1,0) -> #N/A | AQ10: =VLOOKUP(AQ$2,Novembre!$A$8:$AK$8,$B10+1) -> dim | AR10: =INDEX(Novembre!$A$8:$AK$31,MATCH($B$2,Novembre!$A$8:$A$31),$B10+1) -> #N/A | AS10: =OFFSET(INDEX(Novembre!$A$8:$AK$31,MATCH($B$2,Novembre!$A$8:$A$31),$B10+1),1,0) -> #N/A | AU10: =VLOOKUP(AU$2,Décembre!$A$8:$AK$8,$B10+1) -> mar | AV10: =INDEX(Décembre!$A$8:$AK$31,MATCH($B$2,Décembre!$A$8:$A$31),$B10+1) -> #N/A | AW10: =OFFSET(INDEX(Décembre!$A$8:$AK$31,MATCH($B$2,Décembre!$A$8:$A$31),$B10+1),1,0) -> #N/A
B11: 8 | C11: =VLOOKUP($C$2,Janvier!$A$8:$AK$8,$B11+1) -> ven | D11: =VLOOKUP($B$2,Janvier!$A$8:$AK$31,B11+1,FALSE) -> A | E11: =OFFSET(INDEX(Janvier!$A$8:$AK$31,MATCH($B$2,Janvier!$A$8:$A$31),$B11+1),1,0) -> #N/A | G11: =VLOOKUP($C$2,Février!$A$8:$AK$8,$B11+1) -> lun | H11: =VLOOKUP($B$2,Février!$A$8:$AK$31,B11+1,FALSE) -> 0 | I11: =OFFSET(INDEX(Février!$A$8:$AK$31,MATCH($B$2,Février!$A$8:$A$31),$B11+1),1,0) -> #N/A | K11: =VLOOKUP(K$2,Mars!$A$8:$AK$8,$B11+1) -> lun | L11: =VLOOKUP($B$2,Mars!$A$8:$AK$31,B11+1,FALSE) -> 0 | M11: =OFFSET(INDEX(Mars!$A$8:$AK$31,MATCH($B$2,Mars!$A$8:$A$31),$B11+1),1,0) -> #N/A | O11: =VLOOKUP(O$2,Avril!$A$8:$AK$8,$B11+1) -> jeu | P11: =INDEX(Avril!$A$8:$AK$31,MATCH($B$2,Avril!$A$8:$A$31),$B11+1) -> #N/A | Q11: =OFFSET(INDEX(Avril!$A$8:$AK$31,MATCH($B$2,Avril!$A$8:$A$31),$B11+1),1,0) -> #N/A | S11: =VLOOKUP(S$2,Mai!$A$8:$AK$8,$B11+1) -> sam | T11: =INDEX(Mai!$A$8:$AK$31,MATCH($B$2,Mai!$A$8:$A$31),$B11+1) -> #N/A | U11: =OFFSET(INDEX(Mai!$A$8:$AK$31,MATCH($B$2,Mai!$A$8:$A$31),$B11+1),1,0) -> #N/A | W11: =VLOOKUP(W$2,Juin!$A$8:$AK$8,$B11+1) -> mar | X11: =INDEX(Juin!$A$8:$AK$31,MATCH($B$2,Juin!$A$8:$A$31),$B11+1) -> #N/A | Y11: =OFFSET(INDEX(Juin!$A$8:$AK$31,MATCH($B$2,Juin!$A$8:$A$31),$B11+1),1,0) -> #N/A | AA11: =VLOOKUP(AA$2,Juillet!$A$8:$AK$8,$B11+1) -> jeu | AB11: =INDEX(Juillet!$A$8:$AK$31,MATCH($B$2,Juillet!$A$8:$A$31),$B11+1) -> #N/A | AC11: =OFFSET(INDEX(Juillet!$A$8:$AK$31,MATCH($B$2,Juillet!$A$8:$A$31),$B11+1),1,0) -> #N/A | AE11: =VLOOKUP(AE$2,Août!$A$8:$AK$8,$B11+1) -> dim | AF11: =INDEX(Août!$A$8:$AK$31,MATCH($B$2,Août!$A$8:$A$31),$B11+1) -> #N/A | AG11: =OFFSET(INDEX(Août!$A$8:$AK$31,MATCH($B$2,Août!$A$8:$A$31),$B11+1),1,0) -> #N/A | AI11: =VLOOKUP(AI$2,Septembre!$A$8:$AK$8,$B11+1) -> mer | AJ11: =INDEX(Septembre!$A$8:$AK$31,MATCH($B$2,Septembre!$A$8:$A$31),$B11+1) -> #N/A | AK11: =OFFSET(INDEX(Septembre!$A$8:$AK$31,MATCH($B$2,Septembre!$A$8:$A$31),$B11+1),1,0) -> #N/A | AM11: =VLOOKUP(AM$2,Octobre!$A$8:$AK$8,$B11+1) -> ven | AN11: =INDEX(Octobre!$A$8:$AK$31,MATCH($B$2,Octobre!$A$8:$A$31),$B11+1) -> #N/A | AO11: =OFFSET(INDEX(Octobre!$A$8:$AK$31,MATCH($B$2,Octobre!$A$8:$A$31),$B11+1),1,0) -> #N/A | AQ11: =VLOOKUP(AQ$2,Novembre!$A$8:$AK$8,$B11+1) -> lun | AR11: =INDEX(Novembre!$A$8:$AK$31,MATCH($B$2,Novembre!$A$8:$A$31),$B11+1) -> #N/A | AS11: =OFFSET(INDEX(Novembre!$A$8:$AK$31,MATCH($B$2,Novembre!$A$8:$A$31),$B11+1),1,0) -> #N/A | AU11: =VLOOKUP(AU$2,Décembre!$A$8:$AK$8,$B11+1) -> mer | AV11: =INDEX(Décembre!$A$8:$AK$31,MATCH($B$2,Décembre!$A$8:$A$31),$B11+1) -> #N/A | AW11: =OFFSET(INDEX(Décembre!$A$8:$AK$31,MATCH($B$2,Décembre!$A$8:$A$31),$B11+1),1,0) -> #N/A
B12: 9 | C12: =VLOOKUP($C$2,Janvier!$A$8:$AK$8,$B12+1) -> sam | D12: =VLOOKUP($B$2,Janvier!$A$8:$AK$31,B12+1,FALSE) -> 0 | E12: =OFFSET(INDEX(Janvier!$A$8:$AK$31,MATCH($B$2,Janvier!$A$8:$A$31),$B12+1),1,0) -> #N/A | G12: =VLOOKUP($C$2,Février!$A$8:$AK$8,$B12+1) -> mar | H12: =VLOOKUP($B$2,Février!$A$8:$AK$31,B12+1,FALSE) -> M | I12: =OFFSET(INDEX(Février!$A$8:$AK$31,MATCH($B$2,Février!$A$8:$A$31),$B12+1),1,0) -> #N/A | K12: =VLOOKUP(K$2,Mars!$A$8:$AK$8,$B12+1) -> mar | L12: =VLOOKUP($B$2,Mars!$A$8:$AK$31,B12+1,FALSE) -> 0 | M12: =OFFSET(INDEX(Mars!$A$8:$AK$31,MATCH($B$2,Mars!$A$8:$A$31),$B12+1),1,0) -> #N/A | O12: =VLOOKUP(O$2,Avril!$A$8:$AK$8,$B12+1) -> ven | P12: =INDEX(Avril!$A$8:$AK$31,MATCH($B$2,Avril!$A$8:$A$31),$B12+1) -> #N/A | Q12: =OFFSET(INDEX(Avril!$A$8:$AK$31,MATCH($B$2,Avril!$A$8:$A$31),$B12+1),1,0) -> #N/A | S12: =VLOOKUP(S$2,Mai!$A$8:$AK$8,$B12+1) -> dim | T12: =INDEX(Mai!$A$8:$AK$31,MATCH($B$2,Mai!$A$8:$A$31),$B12+1) -> #N/A | U12: =OFFSET(INDEX(Mai!$A$8:$AK$31,MATCH($B$2,Mai!$A$8:$A$31),$B12+1),1,0) -> #N/A | W12: =VLOOKUP(W$2,Juin!$A$8:$AK$8,$B12+1) -> mer | X12: =INDEX(Juin!$A$8:$AK$31,MATCH($B$2,Juin!$A$8:$A$31),$B12+1) -> #N/A | Y12: =OFFSET(INDEX(Juin!$A$8:$AK$31,MATCH($B$2,Juin!$A$8:$A$31),$B12+1),1,0) -> #N/A | AA12: =VLOOKUP(AA$2,Juillet!$A$8:$AK$8,$B12+1) -> ven | AB12: =INDEX(Juillet!$A$8:$AK$31,MATCH($B$2,Juillet!$A$8:$A$31),$B12+1) -> #N/A | AC12: =OFFSET(INDEX(Juillet!$A$8:$AK$31,MATCH($B$2,Juillet!$A$8:$A$31),$B12+1),1,0) -> #N/A | AE12: =VLOOKUP(AE$2,Août!$A$8:$AK$8,$B12+1) -> lun | AF12: =INDEX(Août!$A$8:$AK$31,MATCH($B$2,Août!$A$8:$A$31),$B12+1) -> #N/A | AG12: =OFFSET(INDEX(Août!$A$8:$AK$31,MATCH($B$2,Août!$A$8:$A$31),$B12+1),1,0) -> #N/A | AI12: =VLOOKUP(AI$2,Septembre!$A$8:$AK$8,$B12+1) -> jeu | AJ12: =INDEX(Septembre!$A$8:$AK$31,MATCH($B$2,Septembre!$A$8:$A$31),$B12+1) -> #N/A | AK12: =OFFSET(INDEX(Septembre!$A$8:$AK$31,MATCH($B$2,Septembre!$A$8:$A$31),$B12+1),1,0) -> #N/A | AM12: =VLOOKUP(AM$2,Octobre!$A$8:$AK$8,$B12+1) -> sam | AN12: =INDEX(Octobre!$A$8:$AK$31,MATCH($B$2,Octobre!$A$8:$A$31),$B12+1) -> #N/A | AO12: =OFFSET(INDEX(Octobre!$A$8:$AK$31,MATCH($B$2,Octobre!$A$8:$A$31),$B12+1),1,0) -> #N/A | AQ12: =VLOOKUP(AQ$2,Novembre!$A$8:$AK$8,$B12+1) -> mar | AR12: =INDEX(Novembre!$A$8:$AK$31,MATCH($B$2,Novembre!$A$8:$A$31),$B12+1) -> #N/A | AS12: =OFFSET(INDEX(Novembre!$A$8:$AK$31,MATCH($B$2,Novembre!$A$8:$A$31),$B12+1),1,0) -> #N/A | AU12: =VLOOKUP(AU$2,Décembre!$A$8:$AK$8,$B12+1) -> jeu | AV12: =INDEX(Décembre!$A$8:$AK$31,MATCH($B$2,Décembre!$A$8:$A$31),$B12+1) -> #N/A | AW12: =OFFSET(INDEX(Décembre!$A$8:$AK$31,MATCH($B$2,Décembre!$A$8:$A$31),$B12+1),1,0) -> #N/A
B13: 10 | C13: =VLOOKUP($C$2,Janvier!$A$8:$AK$8,$B13+1) -> dim | D13: =VLOOKUP($B$2,Janvier!$A$8:$AK$31,B13+1,FALSE) -> 0 | E13: =OFFSET(INDEX(Janvier!$A$8:$AK$31,MATCH($B$2,Janvier!$A$8:$A$31),$B13+1),1,0) -> #N/A | G13: =VLOOKUP($C$2,Février!$A$8:$AK$8,$B13+1) -> mer | H13: =VLOOKUP($B$2,Février!$A$8:$AK$31,B13+1,FALSE) -> M | I13: =OFFSET(INDEX(Février!$A$8:$AK$31,MATCH($B$2,Février!$A$8:$A$31),$B13+1),1,0) -> #N/A | K13: =VLOOKUP(K$2,Mars!$A$8:$AK$8,$B13+1) -> mer | L13: =VLOOKUP($B$2,Mars!$A$8:$AK$31,B13+1,FALSE) -> 0 | M13: =OFFSET(INDEX(Mars!$A$8:$AK$31,MATCH($B$2,Mars!$A$8:$A$31),$B13+1),1,0) -> #N/A | O13: =VLOOKUP(O$2,Avril!$A$8:$AK$8,$B13+1) -> sam | P13: =INDEX(Avril!$A$8:$AK$31,MATCH($B$2,Avril!$A$8:$A$31),$B13+1) -> #N/A | Q13: =OFFSET(INDEX(Avril!$A$8:$AK$31,MATCH($B$2,Avril!$A$8:$A$31),$B13+1),1,0) -> #N/A | S13: =VLOOKUP(S$2,Mai!$A$8:$AK$8,$B13+1) -> lun | T13: =INDEX(Mai!$A$8:$AK$31,MATCH($B$2,Mai!$A$8:$A$31),$B13+1) -> #N/A | U13: =OFFSET(INDEX(Mai!$A$8:$AK$31,MATCH($B$2,Mai!$A$8:$A$31),$B13+1),1,0) -> #N/A | W13: =VLOOKUP(W$2,Juin!$A$8:$AK$8,$B13+1) -> jeu | X13: =INDEX(Juin!$A$8:$AK$31,MATCH($B$2,Juin!$A$8:$A$31),$B13+1) -> #N/A | Y13: =OFFSET(INDEX(Juin!$A$8:$AK$31,MATCH($B$2,Juin!$A$8:$A$31),$B13+1),1,0) -> #N/A | AA13: =VLOOKUP(AA$2,Juillet!$A$8:$AK$8,$B13+1) -> sam | AB13: =INDEX(Juillet!$A$8:$AK$31,MATCH($B$2,Juillet!$A$8:$A$31),$B13+1) -> #N/A | AC13: =OFFSET(INDEX(Juillet!$A$8:$AK$31,MATCH($B$2,Juillet!$A$8:$A$31),$B13+1),1,0) -> #N/A | AE13: =VLOOKUP(AE$2,Août!$A$8:$AK$8,$B13+1) -> mar | AF13: =INDEX(Août!$A$8:$AK$31,MATCH($B$2,Août!$A$8:$A$31),$B13+1) -> #N/A | AG13: =OFFSET(INDEX(Août!$A$8:$AK$31,MATCH($B$2,Août!$A$8:$A$31),$B13+1),1,0) -> #N/A | AI13: =VLOOKUP(AI$2,Septembre!$A$8:$AK$8,$B13+1) -> ven | AJ13: =INDEX(Septembre!$A$8:$AK$31,MATCH($B$2,Septembre!$A$8:$A$31),$B13+1) -> #N/A | AK13: =OFFSET(INDEX(Septembre!$A$8:$AK$31,MATCH($B$2,Septembre!$A$8:$A$31),$B13+1),1,0) -> #N/A | AM13: =VLOOKUP(AM$2,Octobre!$A$8:$AK$8,$B13+1) -> dim | AN13: =INDEX(Octobre!$A$8:$AK$31,MATCH($B$2,Octobre!$A$8:$A$31),$B13+1) -> #N/A | AO13: =OFFSET(INDEX(Octobre!$A$8:$AK$31,MATCH($B$2,Octobre!$A$8:$A$31),$B13+1),1,0) -> #N/A | AQ13: =VLOOKUP(AQ$2,Novembre!$A$8:$AK$8,$B13+1) -> mer | AR13: =INDEX(Novembre!$A$8:$AK$31,MATCH($B$2,Novembre!$A$8:$A$31),$B13+1) -> #N/A | AS13: =OFFSET(INDEX(Novembre!$A$8:$AK$31,MATCH($B$2,Novembre!$A$8:$A$31),$B13+1),1,0) -> #N/A | AU13: =VLOOKUP(AU$2,Décembre!$A$8:$AK$8,$B13+1) -> ven | AV13: =INDEX(Décembre!$A$8:$AK$31,MATCH($B$2,Décembre!$A$8:$A$31),$B13+1) -> #N/A | AW13: =OFFSET(INDEX(Décembre!$A$8:$AK$31,MATCH($B$2,Décembre!$A$8:$A$31),$B13+1),1,0) -> #N/A
B14: 11 | C14: =VLOOKUP($C$2,Janvier!$A$8:$AK$8,$B14+1) -> lun | D14: =VLOOKUP($B$2,Janvier!$A$8:$AK$31,B14+1,FALSE) -> 0 | E14: =OFFSET(INDEX(Janvier!$A$8:$AK$31,MATCH($B$2,Janvier!$A$8:$A$31),$B14+1),1,0) -> #N/A | G14: =VLOOKUP($C$2,Février!$A$8:$AK$8,$B14+1) -> jeu | H14: =VLOOKUP($B$2,Février!$A$8:$AK$31,B14+1,FALSE) -> 0 | I14: =OFFSET(INDEX(Février!$A$8:$AK$31,MATCH($B$2,Février!$A$8:$A$31),$B14+1),1,0) -> #N/A | K14: =VLOOKUP(K$2,Mars!$A$8:$AK$8,$B14+1) -> jeu | L14: =VLOOKUP($B$2,Mars!$A$8:$AK$31,B14+1,FALSE) -> 0 | M14: =OFFSET(INDEX(Mars!$A$8:$AK$31,MATCH($B$2,Mars!$A$8:$A$31),$B14+1),1,0) -> #N/A | O14: =VLOOKUP(O$2,Avril!$A$8:$AK$8,$B14+1) -> dim | P14: =INDEX(Avril!$A$8:$AK$31,MATCH($B$2,Avril!$A$8:$A$31),$B14+1) -> #N/A | Q14: =OFFSET(INDEX(Avril!$A$8:$AK$31,MATCH($B$2,Avril!$A$8:$A$31),$B14+1),1,0) -> #N/A | S14: =VLOOKUP(S$2,Mai!$A$8:$AK$8,$B14+1) -> mar | T14: =INDEX(Mai!$A$8:$AK$31,MATCH($B$2,Mai!$A$8:$A$31),$B14+1) -> #N/A | U14: =OFFSET(INDEX(Mai!$A$8:$AK$31,MATCH($B$2,Mai!$A$8:$A$31),$B14+1),1,0) -> #N/A | W14: =VLOOKUP(W$2,Juin!$A$8:$AK$8,$B14+1) -> ven | X14: =INDEX(Juin!$A$8:$AK$31,MATCH($B$2,Juin!$A$8:$A$31),$B14+1) -> #N/A | Y14: =OFFSET(INDEX(Juin!$A$8:$AK$31,MATCH($B$2,Juin!$A$8:$A$31),$B14+1),1,0) -> #N/A | AA14: =VLOOKUP(AA$2,Juillet!$A$8:$AK$8,$B14+1) -> dim | AB14: =INDEX(Juillet!$A$8:$AK$31,MATCH($B$2,Juillet!$A$8:$A$31),$B14+1) -> #N/A | AC14: =OFFSET(INDEX(Juillet!$A$8:$AK$31,MATCH($B$2,Juillet!$A$8:$A$31),$B14+1),1,0) -> #N/A | AE14: =VLOOKUP(AE$2,Août!$A$8:$AK$8,$B14+1) -> mer | AF14: =INDEX(Août!$A$8:$AK$31,MATCH($B$2,Août!$A$8:$A$31),$B14+1) -> #N/A | AG14: =OFFSET(INDEX(Août!$A$8:$AK$31,MATCH($B$2,Août!$A$8:$A$31),$B14+1),1,0) -> #N/A | AI14: =VLOOKUP(AI$2,Septembre!$A$8:$AK$8,$B14+1) -> sam | AJ14: =INDEX(Septembre!$A$8:$AK$31,MATCH($B$2,Septembre!$A$8:$A$31),$B14+1) -> #N/A | AK14: =OFFSET(INDEX(Septembre!$A$8:$AK$31,MATCH($B$2,Septembre!$A$8:$A$31),$B14+1),1,0) -> #N/A | AM14: =VLOOKUP(AM$2,Octobre!$A$8:$AK$8,$B14+1) -> lun | AN14: =INDEX(Octobre!$A$8:$AK$31,MATCH($B$2,Octobre!$A$8:$A$31),$B14+1) -> #N/A | AO14: =OFFSET(INDEX(Octobre!$A$8:$AK$31,MATCH($B$2,Octobre!$A$8:$A$31),$B14+1),1,0) -> #N/A | AQ14: =VLOOKUP(AQ$2,Novembre!$A$8:$AK$8,$B14+1) -> jeu | AR14: =INDEX(Novembre!$A$8:$AK$31,MATCH($B$2,Novembre!$A$8:$A$31),$B14+1) -> #N/A | AS14: =OFFSET(INDEX(Novembre!$A$8:$AK$31,MATCH($B$2,Novembre!$A$8:$A$31),$B14+1),1,0) -> #N/A | AU14: =VLOOKUP(AU$2,Décembre!$A$8:$AK$8,$B14+1) -> sam | AV14: =INDEX(Décembre!$A$8:$AK$31,MATCH($B$2,Décembre!$A$8:$A$31),$B14+1) -> #N/A | AW14: =OFFSET(INDEX(Décembre!$A$8:$AK$31,MATCH($B$2,Décembre!$A$8:$A$31),$B14+1),1,0) -> #N/A
B15: 12 | C15: =VLOOKUP($C$2,Janvier!$A$8:$AK$8,$B15+1) -> mar | D15: =VLOOKUP($B$2,Janvier!$A$8:$AK$31,B15+1,FALSE) -> M | E15: =OFFSET(INDEX(Janvier!$A$8:$AK$31,MATCH($B$2,Janvier!$A$8:$A$31),$B15+1),1,0) -> #N/A | G15: =VLOOKUP($C$2,Février!$A$8:$AK$8,$B15+1) -> ven | H15: =VLOOKUP($B$2,Février!$A$8:$AK$31,B15+1,FALSE) -> 0 | I15: =OFFSET(INDEX(Février!$A$8:$AK$31,MATCH($B$2,Février!$A$8:$A$31),$B15+1),1,0) -> #N/A | K15: =VLOOKUP(K$2,Mars!$A$8:$AK$8,$B15+1) -> ven | L15: =VLOOKUP($B$2,Mars!$A$8:$AK$31,B15+1,FALSE) -> 0 | M15: =OFFSET(INDEX(Mars!$A$8:$AK$31,MATCH($B$2,Mars!$A$8:$A$31),$B15+1),1,0) -> #N/A | O15: =VLOOKUP(O$2,Avril!$A$8:$AK$8,$B15+1) -> lun | P15: =INDEX(Avril!$A$8:$AK$31,MATCH($B$2,Avril!$A$8:$A$31),$B15+1) -> #N/A | Q15: =OFFSET(INDEX(Avril!$A$8:$AK$31,MATCH($B$2,Avril!$A$8:$A$31),$B15+1),1,0) -> #N/A | S15: =VLOOKUP(S$2,Mai!$A$8:$AK$8,$B15+1) -> mer | T15: =INDEX(Mai!$A$8:$AK$31,MATCH($B$2,Mai!$A$8:$A$31),$B15+1) -> #N/A | U15: =OFFSET(INDEX(Mai!$A$8:$AK$31,MATCH($B$2,Mai!$A$8:$A$31),$B15+1),1,0) -> #N/A | W15: =VLOOKUP(W$2,Juin!$A$8:$AK$8,$B15+1) -> sam | X15: =INDEX(Juin!$A$8:$AK$31,MATCH($B$2,Juin!$A$8:$A$31),$B15+1) -> #N/A | Y15: =OFFSET(INDEX(Juin!$A$8:$AK$31,MATCH($B$2,Juin!$A$8:$A$31),$B15+1),1,0) -> #N/A | AA15: =VLOOKUP(AA$2,Juillet!$A$8:$AK$8,$B15+1) -> lun | AB15: =INDEX(Juillet!$A$8:$AK$31,MATCH($B$2,Juillet!$A$8:$A$31),$B15+1) -> #N/A | AC15: =OFFSET(INDEX(Juillet!$A$8:$AK$31,MATCH($B$2,Juillet!$A$8:$A$31),$B15+1),1,0) -> #N/A | AE15: =VLOOKUP(AE$2,Août!$A$8:$AK$8,$B15+1) -> jeu | AF15: =INDEX(Août!$A$8:$AK$31,MATCH($B$2,Août!$A$8:$A$31),$B15+1) -> #N/A | AG15: =OFFSET(INDEX(Août!$A$8:$AK$31,MATCH($B$2,Août!$A$8:$A$31),$B15+1),1,0) -> #N/A | AI15: =VLOOKUP(AI$2,Septembre!$A$8:$AK$8,$B15+1) -> dim | AJ15: =INDEX(Septembre!$A$8:$AK$31,MATCH($B$2,Septembre!$A$8:$A$31),$B15+1) -> #N/A | AK15: =OFFSET(INDEX(Septembre!$A$8:$AK$31,MATCH($B$2,Septembre!$A$8:$A$31),$B15+1),1,0) -> #N/A | AM15: =VLOOKUP(AM$2,Octobre!$A$8:$AK$8,$B15+1) -> mar | AN15: =INDEX(Octobre!$A$8:$AK$31,MATCH($B$2,Octobre!$A$8:$A$31),$B15+1) -> #N/A | AO15: =OFFSET(INDEX(Octobre!$A$8:$AK$31,MATCH($B$2,Octobre!$A$8:$A$31),$B15+1),1,0) -> #N/A | AQ15: =VLOOKUP(AQ$2,Novembre!$A$8:$AK$8,$B15+1) -> ven | AR15: =INDEX(Novembre!$A$8:$AK$31,MATCH($B$2,Novembre!$A$8:$A$31),$B15+1) -> #N/A | AS15: =OFFSET(INDEX(Novembre!$A$8:$AK$31,MATCH($B$2,Novembre!$A$8:$A$31),$B15+1),1,0) -> #N/A | AU15: =VLOOKUP(AU$2,Décembre!$A$8:$AK$8,$B15+1) -> dim | AV15: =INDEX(Décembre!$A$8:$AK$31,MATCH($B$2,Décembre!$A$8:$A$31),$B15+1) -> #N/A | AW15: =OFFSET(INDEX(Décembre!$A$8:$AK$31,MATCH($B$2,Décembre!$A$8:$A$31),$B15+1),1,0) -> #N/A
B16: 13 | C16: =VLOOKUP($C$2,Janvier!$A$8:$AK$8,$B16+1) -> mer | D16: =VLOOKUP($B$2,Janvier!$A$8:$AK$31,B16+1,FALSE) -> M | E16: =OFFSET(INDEX(Janvier!$A$8:$AK$31,MATCH($B$2,Janvier!$A$8:$A$31),$B16+1),1,0) -> #N/A | G16: =VLOOKUP($C$2,Février!$A$8:$AK$8,$B16+1) -> sam | H16: =VLOOKUP($B$2,Février!$A$8:$AK$31,B16+1,FALSE) -> 0 | I16: =OFFSET(INDEX(Février!$A$8:$AK$31,MATCH($B$2,Février!$A$8:$A$31),$B16+1),1,0) -> #N/A | K16: =VLOOKUP(K$2,Mars!$A$8:$AK$8,$B16+1) -> sam | L16: =VLOOKUP($B$2,Mars!$A$8:$AK$31,B16+1,FALSE) -> 0 | M16: =OFFSET(INDEX(Mars!$A$8:$AK$31,MATCH($B$2,Mars!$A$8:$A$31),$B16+1),1,0) -> #N/A | O16: =VLOOKUP(O$2,Avril!$A$8:$AK$8,$B16+1) -> mar | P16: =INDEX(Avril!$A$8:$AK$31,MATCH($B$2,Avril!$A$8:$A$31),$B16+1) -> #N/A | Q16: =OFFSET(INDEX(Avril!$A$8:$AK$31,MATCH($B$2,Avril!$A$8:$A$31),$B16+1),1,0) -> #N/A | S16: =VLOOKUP(S$2,Mai!$A$8:$AK$8,$B16+1) -> jeu | T16: =INDEX(Mai!$A$8:$AK$31,MATCH($B$2,Mai!$A$8:$A$31),$B16+1) -> #N/A | U16: =OFFSET(INDEX(Mai!$A$8:$AK$31,MATCH($B$2,Mai!$A$8:$A$31),$B16+1),1,0) -> #N/A | W16: =VLOOKUP(W$2,Juin!$A$8:$AK$8,$B16+1) -> dim | X16: =INDEX(Juin!$A$8:$AK$31,MATCH($B$2,Juin!$A$8:$A$31),$B16+1) -> #N/A | Y16: =OFFSET(INDEX(Juin!$A$8:$AK$31,MATCH($B$2,Juin!$A$8:$A$31),$B16+1),1,0) -> #N/A | AA16: =VLOOKUP(AA$2,Juillet!$A$8:$AK$8,$B16+1) -> mar | AB16: =INDEX(Juillet!$A$8:$AK$31,MATCH($B$2,Juillet!$A$8:$A$31),$B16+1) -> #N/A | AC16: =OFFSET(INDEX(Juillet!$A$8:$AK$31,MATCH($B$2,Juillet!$A$8:$A$31),$B16+1),1,0) -> #N/A | AE16: =VLOOKUP(AE$2,Août!$A$8:$AK$8,$B16+1) -> ven | AF16: =INDEX(Août!$A$8:$AK$31,MATCH($B$2,Août!$A$8:$A$31),$B16+1) -> #N/A | AG16: =OFFSET(INDEX(Août!$A$8:$AK$31,MATCH($B$2,Août!$A$8:$A$31),$B16+1),1,0) -> #N/A | AI16: =VLOOKUP(AI$2,Septembre!$A$8:$AK$8,$B16+1) -> lun | AJ16: =INDEX(Septembre!$A$8:$AK$31,MATCH($B$2,Septembre!$A$8:$A$31),$B16+1) -> #N/A | AK16: =OFFSET(INDEX(Septembre!$A$8:$AK$31,MATCH($B$2,Septembre!$A$8:$A$31),$B16+1),1,0) -> #N/A | AM16: =VLOOKUP(AM$2,Octobre!$A$8:$AK$8,$B16+1) -> mer | AN16: =INDEX(Octobre!$A$8:$AK$31,MATCH($B$2,Octobre!$A$8:$A$31),$B16+1) -> #N/A | AO16: =OFFSET(INDEX(Octobre!$A$8:$AK$31,MATCH($B$2,Octobre!$A$8:$A$31),$B16+1),1,0) -> #N/A | AQ16: =VLOOKUP(AQ$2,Novembre!$A$8:$AK$8,$B16+1) -> sam | AR16: =INDEX(Novembre!$A$8:$AK$31,MATCH($B$2,Novembre!$A$8:$A$31),$B16+1) -> #N/A | AS16: =OFFSET(INDEX(Novembre!$A$8:$AK$31,MATCH($B$2,Novembre!$A$8:$A$31),$B16+1),1,0) -> #N/A | AU16: =VLOOKUP(AU$2,Décembre!$A$8:$AK$8,$B16+1) -> lun | AV16: =INDEX(Décembre!$A$8:$AK$31,MATCH($B$2,Décembre!$A$8:$A$31),$B16+1) -> #N/A | AW16: =OFFSET(INDEX(Décembre!$A$8:$AK$31,MATCH($B$2,Décembre!$A$8:$A$31),$B16+1),1,0) -> #N/A
... B33: 30 | C33: =VLOOKUP($C$2,Janvier!$A$8:$AK$8,$B33+1) -> sam | D33: =VLOOKUP($B$2,Janvier!$A$8:$AK$31,B33+1,FALSE) -> 0 | E33: =OFFSET(INDEX(Janvier!$A$8:$AK$31,MATCH($B$2,Janvier!$A$8:$A$31),$B33+1),1,0) -> #N/A | G33: =VLOOKUP($C$2,Février!$A$8:$AK$8,$B33+1) -> 0 | H33: =VLOOKUP($B$2,Février!$A$8:$AK$31,B33+1,FALSE) -> 0 | I33: =OFFSET(INDEX(Février!$A$8:$AK$31,MATCH($B$2,Février!$A$8:$A$31),$B33+1),1,0) -> #N/A | K33: =VLOOKUP(K$2,Mars!$A$8:$AK$8,$B33+1) -> mar | L33: =VLOOKUP($B$2,Mars!$A$8:$AK$31,B33+1,FALSE) -> 0 | M33: =OFFSET(INDEX(Mars!$A$8:$AK$31,MATCH($B$2,Mars!$A$8:$A$31),$B33+1),1,0) -> #N/A | O33: =VLOOKUP(O$2,Avril!$A$8:$AK$8,$B33+1) -> ven | P33: =INDEX(Avril!$A$8:$AK$31,MATCH($B$2,Avril!$A$8:$A$31),$B33+1) -> #N/A | Q33: =OFFSET(INDEX(Avril!$A$8:$AK$31,MATCH($B$2,Avril!$A$8:$A$31),$B33+1),1,0) -> #N/A | S33: =VLOOKUP(S$2,Mai!$A$8:$AK$8,$B33+1) -> dim | T33: =INDEX(Mai!$A$8:$AK$31,MATCH($B$2,Mai!$A$8:$A$31),$B33+1) -> #N/A | U33: =OFFSET(INDEX(Mai!$A$8:$AK$31,MATCH($B$2,Mai!$A$8:$A$31),$B33+1),1,0) -> #N/A | W33: =VLOOKUP(W$2,Juin!$A$8:$AK$8,$B33+1) -> mer | X33: =INDEX(Juin!$A$8:$AK$31,MATCH($B$2,Juin!$A$8:$A$31),$B33+1) -> #N/A | Y33: =OFFSET(INDEX(Juin!$A$8:$AK$31,MATCH($B$2,Juin!$A$8:$A$31),$B33+1),1,0) -> #N/A | AA33: =VLOOKUP(AA$2,Juillet!$A$8:$AK$8,$B33+1) -> ven | AB33: =INDEX(Juillet!$A$8:$AK$31,MATCH($B$2,Juillet!$A$8:$A$31),$B33+1) -> #N/A | AC33: =OFFSET(INDEX(Juillet!$A$8:$AK$31,MATCH($B$2,Juillet!$A$8:$A$31),$B33+1),1,0) -> #N/A | AE33: =VLOOKUP(AE$2,Août!$A$8:$AK$8,$B33+1) -> lun | AF33: =INDEX(Août!$A$8:$AK$31,MATCH($B$2,Août!$A$8:$A$31),$B33+1) -> #N/A | AG33: =OFFSET(INDEX(Août!$A$8:$AK$31,MATCH($B$2,Août!$A$8:$A$31),$B33+1),1,0) -> #N/A | AI33: =VLOOKUP(AI$2,Septembre!$A$8:$AK$8,$B33+1) -> jeu | AJ33: =INDEX(Septembre!$A$8:$AK$31,MATCH($B$2,Septembre!$A$8:$A$31),$B33+1) -> #N/A | AK33: =OFFSET(INDEX(Septembre!$A$8:$AK$31,MATCH($B$2,Septembre!$A$8:$A$31),$B33+1),1,0) -> #N/A | AM33: =VLOOKUP(AM$2,Octobre!$A$8:$AK$8,$B33+1) -> sam | AN33: =INDEX(Octobre!$A$8:$AK$31,MATCH($B$2,Octobre!$A$8:$A$31),$B33+1) -> #N/A | AO33: =OFFSET(INDEX(Octobre!$A$8:$AK$31,MATCH($B$2,Octobre!$A$8:$A$31),$B33+1),1,0) -> #N/A | AQ33: =VLOOKUP(AQ$2,Novembre!$A$8:$AK$8,$B33+1) -> mar | AR33: =INDEX(Novembre!$A$8:$AK$31,MATCH($B$2,Novembre!$A$8:$A$31),$B33+1) -> #N/A | AS33: =OFFSET(INDEX(Novembre!$A$8:$AK$31,MATCH($B$2,Novembre!$A$8:$A$31),$B33+1),1,0) -> #N/A | AU33: =VLOOKUP(AU$2,Décembre!$A$8:$AK$8,$B33+1) -> jeu | AV33: =INDEX(Décembre!$A$8:$AK$31,MATCH($B$2,Décembre!$A$8:$A$31),$B33+1) -> #N/A | AW33: =OFFSET(INDEX(Décembre!$A$8:$AK$31,MATCH($B$2,Décembre!$A$8:$A$31),$B33+1),1,0) -> #N/A
B34: 31 | C34: =VLOOKUP($C$2,Janvier!$A$8:$AK$8,$B34+1) -> dim | D34: =VLOOKUP($B$2,Janvier!$A$8:$AK$31,B34+1,FALSE) -> 0 | E34: =OFFSET(INDEX(Janvier!$A$8:$AK$31,MATCH($B$2,Janvier!$A$8:$A$31),$B34+1),1,0) -> #N/A | G34: =VLOOKUP($C$2,Février!$A$8:$AK$8,$B34+1) -> 0 | H34: =VLOOKUP($B$2,Février!$A$8:$AK$31,B34+1,FALSE) -> 0 | I34: =OFFSET(INDEX(Février!$A$8:$AK$31,MATCH($B$2,Février!$A$8:$A$31),$B34+1),1,0) -> #N/A | K34: =VLOOKUP(K$2,Mars!$A$8:$AK$8,$B34+1) -> mer | L34: =VLOOKUP($B$2,Mars!$A$8:$AK$31,B34+1,FALSE) -> 0 | M34: =OFFSET(INDEX(Mars!$A$8:$AK$31,MATCH($B$2,Mars!$A$8:$A$31),$B34+1),1,0) -> #N/A | P34: =INDEX(Avril!$A$8:$AK$31,MATCH($B$2,Avril!$A$8:$A$31),$B34+1) -> #N/A | Q34: =OFFSET(INDEX(Avril!$A$8:$AK$31,MATCH($B$2,Avril!$A$8:$A$31),$B34+1),1,0) -> #N/A | S34: =VLOOKUP(S$2,Mai!$A$8:$AK$8,$B34+1) -> lun | T34: =INDEX(Mai!$A$8:$AK$31,MATCH($B$2,Mai!$A$8:$A$31),$B34+1) -> #N/A | U34: =OFFSET(INDEX(Mai!$A$8:$AK$31,MATCH($B$2,Mai!$A$8:$A$31),$B34+1),1,0) -> #N/A | X34: =INDEX(Juin!$A$8:$AK$31,MATCH($B$2,Juin!$A$8:$A$31),$B34+1) -> #N/A | Y34: =OFFSET(INDEX(Juin!$A$8:$AK$31,MATCH($B$2,Juin!$A$8:$A$31),$B34+1),1,0) -> #N/A | AB34: =INDEX(Juillet!$A$8:$AK$31,MATCH($B$2,Juillet!$A$8:$A$31),$B34+1) -> #N/A | AC34: =OFFSET(INDEX(Juillet!$A$8:$AK$31,MATCH($B$2,Juillet!$A$8:$A$31),$B34+1),1,0) -> #N/A | AF34: =INDEX(Août!$A$8:$AK$31,MATCH($B$2,Août!$A$8:$A$31),$B34+1) -> #N/A | AG34: =OFFSET(INDEX(Août!$A$8:$AK$31,MATCH($B$2,Août!$A$8:$A$31),$B34+1),1,0) -> #N/A | AJ34: =INDEX(Septembre!$A$8:$AK$31,MATCH($B$2,Septembre!$A$8:$A$31),$B34+1) -> #N/A | AK34: =OFFSET(INDEX(Septembre!$A$8:$AK$31,MATCH($B$2,Septembre!$A$8:$A$31),$B34+1),1,0) -> #N/A | AN34: =INDEX(Octobre!$A$8:$AK$31,MATCH($B$2,Octobre!$A$8:$A$31),$B34+1) -> #N/A | AO34: =OFFSET(INDEX(Octobre!$A$8:$AK$31,MATCH($B$2,Octobre!$A$8:$A$31),$B34+1),1,0) -> #N/A | AR34: =INDEX(Novembre!$A$8:$AK$31,MATCH($B$2,Novembre!$A$8:$A$31),$B34+1) -> #N/A | AS34: =OFFSET(INDEX(Novembre!$A$8:$AK$31,MATCH($B$2,Novembre!$A$8:$A$31),$B34+1),1,0) -> #N/A | AV34: =INDEX(Décembre!$A$8:$AK$31,MATCH($B$2,Décembre!$A$8:$A$31),$B34+1) -> #N/A | AW34: =OFFSET(INDEX(Décembre!$A$8:$AK$31,MATCH($B$2,Décembre!$A$8:$A$31),$B34+1),1,0) -> #N/A
E35: =OFFSET(INDEX(Janvier!$A$8:$AK$31,MATCH($B$2,Janvier!$A$8:$A$31),$B35+1),1,0) -> #N/A
B36: 32 | C36: =VLOOKUP($C$2,Janvier!$A$8:$AK$8,$B36+1) -> Théoriques | D36: =VLOOKUP($B$2,Janvier!$A$8:$AK$31,B36+1,FALSE) -> 0 | E36: =OFFSET(INDEX(Janvier!$A$8:$AK$31,MATCH($B$2,Janvier!$A$8:$A$31),$B36+1),1,0) -> #N/A | H36: =INDEX(Février!$A$8:$AK$31,MATCH($B$2,Février!$A$8:$A$31),$B36+1) -> #N/A | I36: =OFFSET(INDEX(Février!$A$8:$AK$31,MATCH($B$2,Février!$A$8:$A$31),$B36+1),1,0) -> #N/A | M36: =OFFSET(INDEX(Mars!$A$8:$AK$31,MATCH($B$2,Mars!$A$8:$A$31),$B36+1),1,0) -> #N/A | Q36: =OFFSET(INDEX(Avril!$A$8:$AK$31,MATCH($B$2,Avril!$A$8:$A$31),$B36+1),1,0) -> #N/A | U36: =OFFSET(INDEX(Mai!$A$8:$AK$31,MATCH($B$2,Mai!$A$8:$A$31),$B36+1),1,0) -> #N/A | Y36: =OFFSET(INDEX(Juin!$A$8:$AK$31,MATCH($B$2,Juin!$A$8:$A$31),$B36+1),1,0) -> #N/A | AC36: =OFFSET(INDEX(Juillet!$A$8:$AK$31,MATCH($B$2,Juillet!$A$8:$A$31),$B36+1),1,0) -> #N/A | AG36: =OFFSET(INDEX(Août!$A$8:$AK$31,MATCH($B$2,Août!$A$8:$A$31),$B36+1),1,0) -> #N/A | AK36: =OFFSET(INDEX(Septembre!$A$8:$AK$31,MATCH($B$2,Septembre!$A$8:$A$31),$B36+1),1,0) -> #N/A | AO36: =OFFSET(INDEX(Octobre!$A$8:$AK$31,MATCH($B$2,Octobre!$A$8:$A$31),$B36+1),1,0) -> #N/A | AS36: =OFFSET(INDEX(Novembre!$A$8:$AK$31,MATCH($B$2,Novembre!$A$8:$A$31),$B36+1),1,0) -> #N/A | AW36: =OFFSET(INDEX(Décembre!$A$8:$AK$31,MATCH($B$2,Décembre!$A$8:$A$31),$B36+1),1,0) -> #N/A
B37: 33 | C37: =VLOOKUP($C$2,Janvier!$A$8:$AK$8,$B37+1) -> Réalisées | D37: =VLOOKUP($B$2,Janvier!$A$8:$AK$31,B37+1,FALSE) -> 0 | E37: =OFFSET(INDEX(Janvier!$A$8:$AK$31,MATCH($B$2,Janvier!$A$8:$A$31),$B37+1),1,0) -> #N/A | H37: =INDEX(Février!$A$8:$AK$31,MATCH($B$2,Février!$A$8:$A$31),$B37+1) -> #N/A | I37: =OFFSET(INDEX(Février!$A$8:$AK$31,MATCH($B$2,Février!$A$8:$A$31),$B37+1),1,0) -> #N/A | M37: =OFFSET(INDEX(Mars!$A$8:$AK$31,MATCH($B$2,Mars!$A$8:$A$31),$B37+1),1,0) -> #N/A | Q37: =OFFSET(INDEX(Avril!$A$8:$AK$31,MATCH($B$2,Avril!$A$8:$A$31),$B37+1),1,0) -> #N/A | U37: =OFFSET(INDEX(Mai!$A$8:$AK$31,MATCH($B$2,Mai!$A$8:$A$31),$B37+1),1,0) -> #N/A | Y37: =OFFSET(INDEX(Juin!$A$8:$AK$31,MATCH($B$2,Juin!$A$8:$A$31),$B37+1),1,0) -> #N/A | AC37: =OFFSET(INDEX(Juillet!$A$8:$AK$31,MATCH($B$2,Juillet!$A$8:$A$31),$B37+1),1,0) -> #N/A | AG37: =OFFSET(INDEX(Août!$A$8:$AK$31,MATCH($B$2,Août!$A$8:$A$31),$B37+1),1,0) -> #N/A | AK37: =OFFSET(INDEX(Septembre!$A$8:$AK$31,MATCH($B$2,Septembre!$A$8:$A$31),$B37+1),1,0) -> #N/A | AO37: =OFFSET(INDEX(Octobre!$A$8:$AK$31,MATCH($B$2,Octobre!$A$8:$A$31),$B37+1),1,0) -> #N/A | AS37: =OFFSET(INDEX(Novembre!$A$8:$AK$31,MATCH($B$2,Novembre!$A$8:$A$31),$B37+1),1,0) -> #N/A | AW37: =OFFSET(INDEX(Décembre!$A$8:$AK$31,MATCH($B$2,Décembre!$A$8:$A$31),$B37+1),1,0) -> #N/A
B38: 34 | C38: =VLOOKUP($C$2,Janvier!$A$8:$AK$8,$B38+1) -> Différences | D38: =VLOOKUP($B$2,Janvier!$A$8:$AK$31,B38+1,FALSE) -> 0 | E38: =OFFSET(INDEX(Janvier!$A$8:$AK$31,MATCH($B$2,Janvier!$A$8:$A$31),$B38+1),1,0) -> #N/A | H38: =INDEX(Février!$A$8:$AK$31,MATCH($B$2,Février!$A$8:$A$31),$B38+1) -> #N/A | I38: =OFFSET(INDEX(Février!$A$8:$AK$31,MATCH($B$2,Février!$A$8:$A$31),$B38+1),1,0) -> #N/A | M38: =OFFSET(INDEX(Mars!$A$8:$AK$31,MATCH($B$2,Mars!$A$8:$A$31),$B38+1),1,0) -> #N/A | Q38: =OFFSET(INDEX(Avril!$A$8:$AK$31,MATCH($B$2,Avril!$A$8:$A$31),$B38+1),1,0) -> #N/A | U38: =OFFSET(INDEX(Mai!$A$8:$AK$31,MATCH($B$2,Mai!$A$8:$A$31),$B38+1),1,0) -> #N/A | Y38: =OFFSET(INDEX(Juin!$A$8:$AK$31,MATCH($B$2,Juin!$A$8:$A$31),$B38+1),1,0) -> #N/A | AC38: =OFFSET(INDEX(Juillet!$A$8:$AK$31,MATCH($B$2,Juillet!$A$8:$A$31),$B38+1),1,0) -> #N/A | AG38: =OFFSET(INDEX(Août!$A$8:$AK$31,MATCH($B$2,Août!$A$8:$A$31),$B38+1),1,0) -> #N/A | AK38: =OFFSET(INDEX(Septembre!$A$8:$AK$31,MATCH($B$2,Septembre!$A$8:$A$31),$B38+1),1,0) -> #N/A | AO38: =OFFSET(INDEX(Octobre!$A$8:$AK$31,MATCH($B$2,Octobre!$A$8:$A$31),$B38+1),1,0) -> #N/A | AS38: =OFFSET(INDEX(Novembre!$A$8:$AK$31,MATCH($B$2,Novembre!$A$8:$A$31),$B38+1),1,0) -> #N/A | AW38: =OFFSET(INDEX(Décembre!$A$8:$AK$31,MATCH($B$2,Décembre!$A$8:$A$31),$B38+1),1,0) -> #N/A
B39: 35 | C39: =VLOOKUP($C$2,Janvier!$A$8:$AK$8,$B39+1) -> Soldes | D39: =VLOOKUP($B$2,Janvier!$A$8:$AK$31,B39+1,FALSE) -> 0 | E39: =OFFSET(INDEX(Janvier!$A$8:$AK$31,MATCH($B$2,Janvier!$A$8:$A$31),$B39+1),1,0) -> #N/A | H39: =INDEX(Février!$A$8:$AK$31,MATCH($B$2,Février!$A$8:$A$31),$B39+1) -> #N/A | I39: =OFFSET(INDEX(Février!$A$8:$AK$31,MATCH($B$2,Février!$A$8:$A$31),$B39+1),1,0) -> #N/A | M39: =OFFSET(INDEX(Mars!$A$8:$AK$31,MATCH($B$2,Mars!$A$8:$A$31),$B39+1),1,0) -> #N/A | Q39: =OFFSET(INDEX(Avril!$A$8:$AK$31,MATCH($B$2,Avril!$A$8:$A$31),$B39+1),1,0) -> #N/A | U39: =OFFSET(INDEX(Mai!$A$8:$AK$31,MATCH($B$2,Mai!$A$8:$A$31),$B39+1),1,0) -> #N/A | Y39: =OFFSET(INDEX(Juin!$A$8:$AK$31,MATCH($B$2,Juin!$A$8:$A$31),$B39+1),1,0) -> #N/A | AC39: =OFFSET(INDEX(Juillet!$A$8:$AK$31,MATCH($B$2,Juillet!$A$8:$A$31),$B39+1),1,0) -> #N/A | AG39: =OFFSET(INDEX(Août!$A$8:$AK$31,MATCH($B$2,Août!$A$8:$A$31),$B39+1),1,0) -> #N/A | AK39: =OFFSET(INDEX(Septembre!$A$8:$AK$31,MATCH($B$2,Septembre!$A$8:$A$31),$B39+1),1,0) -> #N/A | AO39: =OFFSET(INDEX(Octobre!$A$8:$AK$31,MATCH($B$2,Octobre!$A$8:$A$31),$B39+1),1,0) -> #N/A | AS39: =OFFSET(INDEX(Novembre!$A$8:$AK$31,MATCH($B$2,Novembre!$A$8:$A$31),$B39+1),1,0) -> #N/A | AW39: =OFFSET(INDEX(Décembre!$A$8:$AK$31,MATCH($B$2,Décembre!$A$8:$A$31),$B39+1),1,0) -> #N/A
B40: 36 | D40: =VLOOKUP($B$2,Janvier!$A$8:$AK$31,B40+1,FALSE) -> 0 | E40: =OFFSET(INDEX(Janvier!$A$8:$AK$31,MATCH($B$2,Janvier!$A$8:$A$31),$B40+1),1,0) -> #N/A | H40: =INDEX(Février!$A$8:$AK$31,MATCH($B$2,Février!$A$8:$A$31),$B40+1) -> #N/A | I40: =OFFSET(INDEX(Février!$A$8:$AK$31,MATCH($B$2,Février!$A$8:$A$31),$B40+1),1,0) -> #N/A | M40: =OFFSET(INDEX(Mars!$A$8:$AK$31,MATCH($B$2,Mars!$A$8:$A$31),$B40+1),1,0) -> #N/A | Q40: =OFFSET(INDEX(Avril!$A$8:$AK$31,MATCH($B$2,Avril!$A$8:$A$31),$B40+1),1,0) -> #N/A | U40: =OFFSET(INDEX(Mai!$A$8:$AK$31,MATCH($B$2,Mai!$A$8:$A$31),$B40+1),1,0) -> #N/A | Y40: =OFFSET(INDEX(Juin!$A$8:$AK$31,MATCH($B$2,Juin!$A$8:$A$31),$B40+1),1,0) -> #N/A | AC40: =OFFSET(INDEX(Juillet!$A$8:$AK$31,MATCH($B$2,Juillet!$A$8:$A$31),$B40+1),1,0) -> #N/A | AG40: =OFFSET(INDEX(Août!$A$8:$AK$31,MATCH($B$2,Août!$A$8:$A$31),$B40+1),1,0) -> #N/A | AK40: =OFFSET(INDEX(Septembre!$A$8:$AK$31,MATCH($B$2,Septembre!$A$8:$A$31),$B40+1),1,0) -> #N/A | AO40: =OFFSET(INDEX(Octobre!$A$8:$AK$31,MATCH($B$2,Octobre!$A$8:$A$31),$B40+1),1,0) -> #N/A | AS40: =OFFSET(INDEX(Novembre!$A$8:$AK$31,MATCH($B$2,Novembre!$A$8:$A$31),$B40+1),1,0) -> #N/A | AW40: =OFFSET(INDEX(Décembre!$A$8:$AK$31,MATCH($B$2,Décembre!$A$8:$A$31),$B40+1),1,0) -> #N/A

Sheet Listes
B2: =Janvier!A10 -> Infirmieres
B3: =Janvier!A12 -> Anna
B4: =Janvier!A14 -> Catherine
B5: =Janvier!A16 -> Denise
B6: =Janvier!A18 -> Hélène
B7: =Janvier!A20 -> Régine
B8: =Janvier!A22 -> Martine
B9: =Janvier!A24 -> Aides-soignantes
B10: =Janvier!A26 -> Claudia
B11: =Janvier!A28 -> Rachel
B12: =Janvier!A30 -> Sabine

Sheet Janvier
A2: Année
A3: 2021 | B3: =CONCATENATE("Planning prévisionnel de ",MID(CELL("nomfichier",A1),FIND("]",CELL("nomfichier",A1))+1,20)," ",A3) -> Planning prévisionnel de Janvier 2021
A6: =CONCATENATE(A8) -> Janvier | B6: =DATE($A$3,MONTH(1&$A$6),B9) -> 44197 | C6: =DATE($A$3,MONTH(1&$A$6),C9) -> 44198 | D6: =DATE($A$3,MONTH(1&$A$6),D9) -> 44199 | E6: =DATE($A$3,MONTH(1&$A$6),E9) -> 44200 | F6: =DATE($A$3,MONTH(1&$A$6),F9) -> 44201 | G6: =DATE($A$3,MONTH(1&$A$6),G9) -> 44202 | H6: =DATE($A$3,MONTH(1&$A$6),H9) -> 44203 | I6: =DATE($A$3,MONTH(1&$A$6),I9) -> 44204 | ... AF6: =DATE($A$3,MONTH(1&$A$6),AF9) -> 44227
B7: =COUNTIFS(Fériés!$E$5:$E$17,B6) -> 1 | C7: =COUNTIFS(Fériés!$E$5:$E$17,C6) -> 0 | D7: =COUNTIFS(Fériés!$E$5:$E$17,D6) -> 0 | E7: =COUNTIFS(Fériés!$E$5:$E$17,E6) -> 0 | F7: =COUNTIFS(Fériés!$E$5:$E$17,F6) -> 0 | G7: =COUNTIFS(Fériés!$E$5:$E$17,G6) -> 0 | H7: =COUNTIFS(Fériés!$E$5:$E$17,H6) -> 0 | I7: =COUNTIFS(Fériés!$E$5:$E$17,I6) -> 0 | ... AF7: =COUNTIFS(Fériés!$E$5:$E$17,AF6) -> 0
A8: =MID(CELL("nomfichier",A1),FIND("]",CELL("nomfichier",A1))+1,20) -> Janvier | B8: =TEXT(DATE($A$3,MONTH(1&TEXT($A$8,"")),B9),"jjj") -> ven | C8: =TEXT(DATE($A$3,MONTH(1&TEXT($A$8,"")),C9),"jjj") -> sam | D8: =TEXT(DATE($A$3,MONTH(1&TEXT($A$8,"")),D9),"jjj") -> dim | E8: =TEXT(DATE($A$3,MONTH(1&TEXT($A$8,"")),E9),"jjj") -> lun | F8: =TEXT(DATE($A$3,MONTH(1&TEXT($A$8,"")),F9),"jjj") -> mar | G8: =TEXT(DATE($A$3,MONTH(1&TEXT($A$8,"")),G9),"jjj") -> mer | H8: =TEXT(DATE($A$3,MONTH(1&TEXT($A$8,"")),H9),"jjj") -> jeu | I8: =TEXT(DATE($A$3,MONTH(1&TEXT($A$8,"")),I9),"jjj") -> ven | ... AF8: =TEXT(DATE($A$3,MONTH(1&TEXT($A$8,"")),AF9),"jjj") -> dim | AG8: Théoriques | AH8: Réalisées | AI8: Différences | AJ8: Soldes
B9: 1 | C9: =B9+1 -> 2 | D9: =C9+1 -> 3 | E9: =D9+1 -> 4 | F9: =E9+1 -> 5 | G9: =F9+1 -> 6 | H9: =G9+1 -> 7 | I9: =H9+1 -> 8 | J9: =I9+1 -> 9 | ... AF9: =AE9+1 -> 31 | AG9: 140 | AJ9: Ancien | AK9: Nouveau
A10: Infirmieres
A12: Anna | E12: A | G12: A | I12: A | M12: M | N12: M | T12: A | U12: M | W12: A
B13: =IF(B12="A",7.5,IF(B12="M",7.5,IF(OR(B12="C",B12="Mal"),7,""))) | C13: =IF(C12="A",7.5,IF(C12="M",7.5,IF(OR(C12="C",C12="Mal"),7,""))) | D13: =IF(D12="A",7.5,IF(D12="M",7.5,IF(OR(D12="C",D12="Mal"),7,""))) | E13: 7 | F13: =IF(F12="A",7.5,IF(F12="M",7.5,IF(OR(F12="C",F12="Mal"),7,""))) | G13: 7 | H13: =IF(H12="A",7.5,IF(H12="M",7.5,IF(OR(H12="C",H12="Mal"),7,""))) | I13: 7 | J13: =IF(J12="A",7.5,IF(J12="M",7.5,IF(OR(J12="C",J12="Mal"),7,""))) | K13: =IF(K12="A",7.5,IF(K12="M",7.5,IF(OR(K12="C",K12="Mal"),7,""))) | L13: =IF(L12="A",7.5,IF(L12="M",7.5,IF(OR(L12="C",L12="Mal"),7,""))) | M13: 6 | N13: 7.5 | O13: =IF(O12="A",7.5,IF(O12="M",7.5,IF(OR(O12="C",O12="Mal"),7,""))) | P13: =IF(P12="A",7.5,IF(P12="M",7.5,IF(OR(P12="C",P12="Mal"),7,""))) | Q13: =IF(Q12="A",7.5,IF(Q12="M",7.5,IF(OR(Q12="C",Q12="Mal"),7,""))) | R13: =IF(R12="A",7.5,IF(R12="M",7.5,IF(OR(R12="C",R12="Mal"),7,""))) | S13: =IF(S12="A",7.5,IF(S12="M",7.5,IF(OR(S12="C",S12="Mal"),7,""))) | T13: 5 | U13: 5.5 | V13: =IF(V12="A",7.5,IF(V12="M",7.5,IF(OR(V12="C",V12="Mal"),7,""))) | W13: 7 | X13: =IF(X12="A",7.5,IF(X12="M",7.5,IF(OR(X12="C",X12="Mal"),7,""))) | Y13: =IF(Y12="A",7.5,IF(Y12="M",7.5,IF(OR(Y12="C",Y12="Mal"),7,""))) | Z13: 3.5 | AA13: 3.5 | AB13: 3.5 | AC13: 3.5 | AD13: 3.5 | AE13: =IF(AE12="A",7.5,IF(AE12="M",7.5,IF(OR(AE12="C",AE12="Mal"),7,""))) | AF13: =IF(AF12="A",7.5,IF(AF12="M",7.5,IF(OR(AF12="C",AF12="Mal"),7,""))) | AG13: 70 | AH13: =SUM(B13:AF13) -> 69.5 | AI13: =AH13-AG13 -> -0.5 | AJ13: 218.75 | AK13: =AJ13+AI13 -> 218.25
A14: Catherine | B14: M | C14: M | D14: M | E14: M | F14: RH | G14: A | H14: A | I14: A | J14: RH | K14: RH | S14: RH | T14: M | U14: M | V14: M | W14: RH | X14: A | Y14: A | Z14: A | AA14: A | AB14: RH | AC14: RH | AD14: M | AE14: M | AF14: M
B15: =IF(B14="A",7.5,IF(B14="M",7.5,IF(OR(B14="C",B14="Mal"),7,""))) -> 7.5 | C15: =IF(C14="A",7.5,IF(C14="M",7.5,IF(OR(C14="C",C14="Mal"),7,""))) -> 7.5 | D15: =IF(D14="A",7.5,IF(D14="M",7.5,IF(OR(D14="C",D14="Mal"),7,""))) -> 7.5 | E15: =IF(E14="A",7.5,IF(E14="M",7.5,IF(OR(E14="C",E14="Mal"),7,""))) -> 7.5 | F15: =IF(F14="A",7.5,IF(F14="M",7.5,IF(OR(F14="C",F14="Mal"),7,""))) | G15: =IF(G14="A",7.5,IF(G14="M",7.5,IF(OR(G14="C",G14="Mal"),7,""))) -> 7.5 | H15: =IF(H14="A",7.5,IF(H14="M",7.5,IF(OR(H14="C",H14="Mal"),7,""))) -> 7.5 | I15: =IF(I14="A",7.5,IF(I14="M",7.5,IF(OR(I14="C",I14="Mal"),7,""))) -> 7.5 | ... AF15: =IF(AF14="A",7.5,IF(AF14="M",7.5,IF(OR(AF14="C",AF14="Mal"),7,""))) -> 7.5 | AG15: =$AG$9 -> 140 | AH15: =SUM(B15:AF15) -> 127.5 | AI15: =AH15-AG15 -> -12.5 | AJ15: 69.25 | AK15: =AJ15+AI15 -> 56.75
A16: Denise | B16: RH | C16: A | D16: A | E16: RH | G16: M | H16: M | I16: RH | J16: A | K16: A | L16: A | M16: A | N16: RH | O16: RH | P16: M | Q16: M | R16: M | S16: M | T16: RH | U16: A | V16: A | W16: A | X16: RH | Y16: RH
B17: =IF(B16="A",7.5,IF(B16="M",7.5,IF(OR(B16="C",B16="Mal"),7,""))) | C17: =IF(C16="A",7.5,IF(C16="M",7.5,IF(OR(C16="C",C16="Mal"),7,""))) -> 7.5 | D17: =IF(D16="A",7.5,IF(D16="M",7.5,IF(OR(D16="C",D16="Mal"),7,""))) -> 7.5 | E17: =IF(E16="A",7.5,IF(E16="M",7.5,IF(OR(E16="C",E16="Mal"),7,""))) | F17: =IF(F16="A",7.5,IF(F16="M",7.5,IF(OR(F16="C",F16="Mal"),7,""))) | G17: =IF(G16="A",7.5,IF(G16="M",7.5,IF(OR(G16="C",G16="Mal"),7,""))) -> 7.5 | H17: =IF(H16="A",7.5,IF(H16="M",7.5,IF(OR(H16="C",H16="Mal"),7,""))) -> 7.5 | I17: =IF(I16="A",7.5,IF(I16="M",7.5,IF(OR(I16="C",I16="Mal"),7,""))) | ... AF17: =IF(AF16="A",7.5,IF(AF16="M",7.5,IF(OR(AF16="C",AF16="Mal"),7,""))) | AG17: =$AG$9 -> 140 | AH17: =SUM(B17:AF17) -> 112.5 | AI17: =AH17-AG17 -> -27.5 | AJ17: 74.25 | AK17: =AJ17+AI17 -> 46.75
A18: Hélène | B18: A | C18: RH | D18: RH | F18: A | L18: RH | M18: M | N18: M | O18: M | P18: RH | Q18: A | R18: A | S18: A | T18: A | U18: RH | V18: RH | W18: M | X18: M | Y18: M | Z18: M | AA18: RH | AB18: A | AC18: A | AD18: A | AE18: RH | AF18: RH
B19: =IF(B18="A",7.5,IF(B18="M",7.5,IF(OR(B18="C",B18="Mal"),7,""))) -> 7.5 | C19: =IF(C18="A",7.5,IF(C18="M",7.5,IF(OR(C18="C",C18="Mal"),7,""))) | D19: =IF(D18="A",7.5,IF(D18="M",7.5,IF(OR(D18="C",D18="Mal"),7,""))) | E19: =IF(E18="A",7.5,IF(E18="M",7.5,IF(OR(E18="C",E18="Mal"),7,""))) | F19: =IF(F18="A",7.5,IF(F18="M",7.5,IF(OR(F18="C",F18="Mal"),7,""))) -> 7.5 | G19: =IF(G18="A",7.5,IF(G18="M",7.5,IF(OR(G18="C",G18="Mal"),7,""))) | H19: =IF(H18="A",7.5,IF(H18="M",7.5,IF(OR(H18="C",H18="Mal"),7,""))) | I19: =IF(I18="A",7.5,IF(I18="M",7.5,IF(OR(I18="C",I18="Mal"),7,""))) | ... AF19: =IF(AF18="A",7.5,IF(AF18="M",7.5,IF(OR(AF18="C",AF18="Mal"),7,""))) | AG19: =$AG$9 -> 140 | AH19: =SUM(B19:AF19) -> 120 | AI19: =AH19-AG19 -> -20 | AJ19: 126.75 | AK19: =AJ19+AI19 -> 106.75
A20: Régine | C20: A | D20: A | E20: A | F20: M | G20: RH | H20: RH | I20: M | J20: M | K20: M | L20: M | M20: RH | N20: C | O20: C | P20: C | Q20: RH | R20: RH | S20: A | T20: A | W20: M | Z20: RH | AA20: M | AB20: M | AC20: M | AD20: RH | AE20: A | AF20: A
B21: =IF(B20="A",7.5,IF(B20="M",7.5,IF(OR(B20="C",B20="Mal"),7,""))) | C21: =IF(C20="A",7.5,IF(C20="M",7.5,IF(OR(C20="C",C20="Mal"),7,""))) -> 7.5 | D21: =IF(D20="A",7.5,IF(D20="M",7.5,IF(OR(D20="C",D20="Mal"),7,""))) -> 7.5 | E21: =IF(E20="A",7.5,IF(E20="M",7.5,IF(OR(E20="C",E20="Mal"),7,""))) -> 7.5 | F21: =IF(F20="A",7.5,IF(F20="M",7.5,IF(OR(F20="C",F20="Mal"),7,""))) -> 7.5 | G21: =IF(G20="A",7.5,IF(G20="M",7.5,IF(OR(G20="C",G20="Mal"),7,""))) | H21: =IF(H20="A",7.5,IF(H20="M",7.5,IF(OR(H20="C",H20="Mal"),7,""))) | I21: =IF(I20="A",7.5,IF(I20="M",7.5,IF(OR(I20="C",I20="Mal"),7,""))) -> 7.5 | ... AF21: =IF(AF20="A",7.5,IF(AF20="M",7.5,IF(OR(AF20="C",AF20="Mal"),7,""))) -> 7.5 | AG21: =$AG$9 -> 140 | AH21: =SUM(B21:AF21) -> 141 | AI21: =AH21-AG21 -> 1 | AJ21: 20.5 | AK21: =AJ21+AI21 -> 21.5
A22: Martine | E22: MAL | F22: MAL | G22: MAL | H22: MAL | I22: MAL | L22: MAL | M22: MAL | N22: MAL | O22: MAL | P22: MAL | S22: MAL | T22: MAL | U22: MAL | V22: MAL | W22: MAL | Z22: MAL | AA22: MAL | AB22: MAL | AC22: MAL | AD22: MAL
B23: =IF(B22="A",7.5,IF(B22="M",7.5,IF(OR(B22="C",B22="Mal"),7,""))) | C23: =IF(C22="A",7.5,IF(C22="M",7.5,IF(OR(C22="C",C22="Mal"),7,""))) | D23: =IF(D22="A",7.5,IF(D22="M",7.5,IF(OR(D22="C",D22="Mal"),7,""))) | E23: =IF(E22="A",7.5,IF(E22="M",7.5,IF(OR(E22="C",E22="Mal"),7,""))) -> 7 | F23: =IF(F22="A",7.5,IF(F22="M",7.5,IF(OR(F22="C",F22="Mal"),7,""))) -> 7 | G23: =IF(G22="A",7.5,IF(G22="M",7.5,IF(OR(G22="C",G22="Mal"),7,""))) -> 7 | H23: =IF(H22="A",7.5,IF(H22="M",7.5,IF(OR(H22="C",H22="Mal"),7,""))) -> 7 | I23: =IF(I22="A",7.5,IF(I22="M",7.5,IF(OR(I22="C",I22="Mal"),7,""))) -> 7 | ... AF23: =IF(AF22="A",7.5,IF(AF22="M",7.5,IF(OR(AF22="C",AF22="Mal"),7,""))) | AG23: =$AG$9 -> 140 | AH23: =SUM(B23:AF23) -> 140 | AI23: =AH23-AG23 -> 0 | AJ23: 477.25 | AK23: =AJ23+AI23 -> 477.25
A24: Aides-soignantes
A26: Claudia | F26: J | J26: J | K26: J | N26: J | O26: J | T26: J | W26: J | Z26: J | AE26: J | AF26: J
B27: =IF(B26="J",12,(IF(B26="A",7.5,IF(B26="M",7.5,IF(OR(B26="C",B26="Mal"),7,""))))) | C27: =IF(C26="J",12,(IF(C26="A",7.5,IF(C26="M",7.5,IF(OR(C26="C",C26="Mal"),7,""))))) | D27: =IF(D26="J",12,(IF(D26="A",7.5,IF(D26="M",7.5,IF(OR(D26="C",D26="Mal"),7,""))))) | E27: 7 | F27: =IF(F26="J",12,(IF(F26="A",7.5,IF(F26="M",7.5,IF(OR(F26="C",F26="Mal"),7,""))))) -> 12 | G27: =IF(G26="J",12,(IF(G26="A",7.5,IF(G26="M",7.5,IF(OR(G26="C",G26="Mal"),7,""))))) | H27: =IF(H26="J",12,(IF(H26="A",7.5,IF(H26="M",7.5,IF(OR(H26="C",H26="Mal"),7,""))))) | I27: =IF(I26="J",12,(IF(I26="A",7.5,IF(I26="M",7.5,IF(OR(I26="C",I26="Mal"),7,""))))) | J27: =IF(J26="J",12,(IF(J26="A",7.5,IF(J26="M",7.5,IF(OR(J26="C",J26="Mal"),7,""))))) -> 12 | K27: =IF(K26="J",12,(IF(K26="A",7.5,IF(K26="M",7.5,IF(OR(K26="C",K26="Mal"),7,""))))) -> 12 | M27: =IF(M26="J",12,(IF(M26="A",7.5,IF(M26="M",7.5,IF(OR(M26="C",M26="Mal"),7,""))))) | N27: =IF(N26="J",12,(IF(N26="A",7.5,IF(N26="M",7.5,IF(OR(N26="C",N26="Mal"),7,""))))) -> 12 | O27: =IF(O26="J",12,(IF(O26="A",7.5,IF(O26="M",7.5,IF(OR(O26="C",O26="Mal"),7,""))))) -> 12 | P27: =IF(P26="J",12,(IF(P26="A",7.5,IF(P26="M",7.5,IF(OR(P26="C",P26="Mal"),7,""))))) | Q27: =IF(Q26="J",12,(IF(Q26="A",7.5,IF(Q26="M",7.5,IF(OR(Q26="C",Q26="Mal"),7,""))))) | R27: =IF(R26="J",12,(IF(R26="A",7.5,IF(R26="M",7.5,IF(OR(R26="C",R26="Mal"),7,""))))) | S27: 7 | T27: =IF(T26="J",12,(IF(T26="A",7.5,IF(T26="M",7.5,IF(OR(T26="C",T26="Mal"),7,""))))) -> 12 | U27: =IF(U26="J",12,(IF(U26="A",7.5,IF(U26="M",7.5,IF(OR(U26="C",U26="Mal"),7,""))))) | V27: =IF(V26="J",12,(IF(V26="A",7.5,IF(V26="M",7.5,IF(OR(V26="C",V26="Mal"),7,""))))) | W27: =IF(W26="J",12,(IF(W26="A",7.5,IF(W26="M",7.5,IF(OR(W26="C",W26="Mal"),7,""))))) -> 12 | X27: =IF(X26="J",12,(IF(X26="A",7.5,IF(X26="M",7.5,IF(OR(X26="C",X26="Mal"),7,""))))) | Y27: =IF(Y26="J",12,(IF(Y26="A",7.5,IF(Y26="M",7.5,IF(OR(Y26="C",Y26="Mal"),7,""))))) | Z27: =IF(Z26="J",12,(IF(Z26="A",7.5,IF(Z26="M",7.5,IF(OR(Z26="C",Z26="Mal"),7,""))))) -> 12 | AA27: 7 | AB27: =IF(AB26="J",12,(IF(AB26="A",7.5,IF(AB26="M",7.5,IF(OR(AB26="C",AB26="Mal"),7,""))))) | AC27: =IF(AC26="J",12,(IF(AC26="A",7.5,IF(AC26="M",7.5,IF(OR(AC26="C",AC26="Mal"),7,""))))) | AD27: =IF(AD26="J",12,(IF(AD26="A",7.5,IF(AD26="M",7.5,IF(OR(AD26="C",AD26="Mal"),7,""))))) | AE27: =IF(AE26="J",12,(IF(AE26="A",7.5,IF(AE26="M",7.5,IF(OR(AE26="C",AE26="Mal"),7,""))))) -> 12 | AF27: =IF(AF26="J",12,(IF(AF26="A",7.5,IF(AF26="M",7.5,IF(OR(AF26="C",AF26="Mal"),7,""))))) -> 12 | AG27: =$AG$9 -> 140 | AH27: =SUM(B27:AF27) -> 141 | AI27: =AH27-AG27 -> 1 | AJ27: 62.25 | AK27: =AJ27+AI27 -> 63.25
A28: Rachel | C28: J | D28: J | G28: J | I28: J | L28: C | P28: J | S28: J | U28: J | V28: J | AA28: J | AD28: j
