Workbook

Sheet Fériés
C4: Jour | D4: Mois | E4: Date
B5: 1er Janvier | C5: 1 | D5: 1 | E5: =TEXT(CONCATENATE(C5,"/",D5,"/",Janvier!$A$3),"jj/mm/aaaa") -> 01/01/2021
B6: Fête du travail | C6: 1 | D6: 5 | E6: =TEXT(CONCATENATE(C6,"/",D6,"/",Janvier!$A$3),"jj/mm/aaaa") -> 01/05/2021
B7: Libération 1945 | C7: 8 | D7: 5 | E7: =TEXT(CONCATENATE(C7,"/",D7,"/",Janvier!$A$3),"jj/mm/aaaa") -> 08/05/2021
B8: Fête Nationale | C8: 14 | D8: 7 | E8: =TEXT(CONCATENATE(C8,"/",D8,"/",Janvier!$A$3),"jj/mm/aaaa") -> 14/07/2021
B9: 15 Août | C9: 15 | D9: 8 | E9: =TEXT(CONCATENATE(C9,"/",D9,"/",Janvier!$A$3),"jj/mm/aaaa") -> 15/08/2021
B10: Toussaint | C10: 1 | D10: 11 | E10: =TEXT(CONCATENATE(C10,"/",D10,"/",Janvier!$A$3),"jj/mm/aaaa") -> 01/11/2021
B11: Armistice 1918 | C11: 11 | D11: 11 | E11: =TEXT(CONCATENATE(C11,"/",D11,"/",Janvier!$A$3),"jj/mm/aaaa") -> 11/11/2021
B12: Nöel | C12: 25 | D12: 12 | E12: =TEXT(CONCATENATE(C12,"/",D12,"/",Janvier!$A$3),"jj/mm/aaaa") -> 25/12/2021
B13: Pâques | C13: =DAY(E13) -> 4 | D13: =MONTH(E13) -> 4 | E13: =ROUND(DATE(Janvier!A3,4,MOD(234-11*MOD(Janvier!A3,19),30))/7,0)*7-6 -> 44290
B14: Lundi de Pâques | C14: =DAY(E14) -> 5 | D14: =MONTH(E14) -> 4 | E14: =E13+1 -> 44291
B15: Ascension | C15: =DAY(E15) -> 13 | D15: =MONTH(E15) -> 5 | E15: =E13+39 -> 44329
B16: Pentecôte | C16: =DAY(E16) -> 23 | D16: =MONTH(E16) -> 5 | E16: =E13+49 -> 44339
B17: Lundi de Pentecôte | C17: =DAY(E17) -> 24 | D17: =MONTH(E17) -> 5 | E17: =E13+50 -> 44340
B20: https://www.excel-exercice.com/creation-dun-calendrier-automatique/
B21: https://www.excel-exercice.com/changer-la-couleur-des-jours-feries/

Sheet Recap
A2: Personnel : | B2: Anna | C2: =Janvier!$A$8 -> Janvier | G2: =Février!$A$8 -> Février | K2: =Mars!$A$8 -> Mars | O2: =Avril!$A$8 -> Avril | S2: =Mai!$A$8 -> Mai | W2: =Juin!$A$8 -> Juin | AA2: =Juillet!$A$8 -> Juillet | AE2: =Août!$A$8 -> Août | AI2: =Septembre!$A$8 -> Septembre | AM2: =Octobre!$A$8 -> Octobre | AQ2: =Novembre!$A$8 -> Novembre | AU2: =Décembre!$A$8 -> Décembre
A3: Année : | B3: =Janvier!A3 -> 2021
A4: Jours : | B4: 1 | C4: =VLOOKUP($C$2,Janvier!$A$8:$AK$8,$B4+1) -> ven | D4: =VLOOKUP($B$2,Janvier!$A$8:$AK$31,B4+1,FALSE) -> 0 | E4: =OFFSET(INDEX(Janvier!$A$8:$AK$31,MATCH($B$2,Janvier!$A$8:$A$31),$B4+1),1,0) -> #N/A | G4: =VLOOKUP($C$2,Février!$A$8:$AK$8,$B4+1) -> lun | H4: =VLOOKUP($B$2,Février!$A$8:$AK$31,B4+1,FALSE) -> 0 | I4: =OFFSET(INDEX(Février!$A$8:$AK$31,MATCH($B$2,Février!$A$8:$A$31),$B4+1),1,0) -> #N/A | K4: =VLOOKUP(K$2,Mars!$A$8:$AK$8,$B4+1) -> lun | L4: =VLOOKUP($B$2,Mars!$A$8:$AK$31,B4+1,FALSE) -> 0 | M4: =OFFSET(INDEX(Mars!$A$8:$AK$31,MATCH($B$2,Mars!$A$8:$A$31),$B4+1),1,0) -> #N/A | O4: =VLOOKUP(O$2,Avril!$A$8:$AK$8,$B4+1) -> jeu | P4: =INDEX(Avril!$A$8:$AK$31,MATCH($B$2,Avril!$A$8:$A$31),$B4+1) -> #N/A | Q4: =OFFSET(INDEX(Avril!$A$8:$AK$31,MATCH($B$2,Avril!$A$8:$A$31),$B4+1),1,0) -> #N/A | S4: =VLOOKUP(S$2,Mai!$A$8:$AK$8,$B4+1) -> sam | T4: =INDEX(Mai!$A$8:$AK$31,MATCH($B$2,Mai!$A$8:$A$31),$B4+1) -> #N/A | U4: =OFFSET(INDEX(Mai!$A$8:$AK$31,MATCH($B$2,Mai!$A$8:$A$31),$B4+1),1,0) -> #N/A | W4: =VLOOKUP(W$2,Juin!$A$8:$AK$8,$B4+1) -> mar | X4: =INDEX(Juin!$A$8:$AK$31,MATCH($B$2,Juin!$A$8:$A$31),$B4+1) -> #N/A | Y4: =OFFSET(INDEX(Juin!$A$8:$AK$31,MATCH($B$2,Juin!$A$8:$A$31),$B4+1),1,0) -> #N/A | AA4: =VLOOKUP(AA$2,Juillet!$A$8:$AK$8,$B4+1) -> jeu | AB4: =INDEX(Juillet!$A$8:$AK$31,MATCH($B$2,Juillet!$A$8:$A$31),$B4+1) -> #N/A | AC4: =OFFSET(INDEX(Juillet!$A$8:$AK$31,MATCH($B$2,Juillet!$A$8:$A$31),$B4+1),1,0) -> #N/A | AE4: =VLOOKUP(AE$2,Août!$A$8:$AK$8,$B4+1) -> dim | AF4: =INDEX(Août!$A$8:$AK$31,MATCH($B$2,Août!$A$8:$A$31),$B4+1) -> #N/A | AG4: =OFFSET(INDEX(Août!$A$8:$AK$31,MATCH($B$2,Août!$A$8:$A$31),$B4+1),1,0) -> #N/A | AI4: =VLOOKUP(AI$2,Septembre!$A$8:$AK$8,$B4+1) -> mer | AJ4: =INDEX(Septembre!$A$8:$AK$31,MATCH($B$2,Septembre!$A$8:$A$31),$B4+1) -> #N/A | AK4: =OFFSET(INDEX(Septembre!$A$8:$AK$31,MATCH($B$2,Septembre!$A$8:$A$31),$B4+1),1,0) -> #N/A | AM4: =VLOOKUP(AM$2,Octobre!$A$8:$AK$8,$B4+1) -> ven | AN4: =INDEX(Octobre!$A$8:$AK$31,MATCH($B$2,Octobre!$A$8:$A$31),$B4+1) -> #N/A | AO4: =OFFSET(INDEX(Octobre!$A$8:$AK$31,MATCH($B$2,Octobre!$A$8:$A$31),$B4+1),1,0) -> #N/A | AQ4: =VLOOKUP(AQ$2,Novembre!$A$8:$AK$8,$B4+1) -> lun | AR4: =INDEX(Novembre!$A$8:$AK$31,MATCH($B$2,Novembre!$A$8:$A$31),$B4+1) -> #N/A | AS4: =OFFSET(INDEX(Novembre!$A$8:$AK$31,MATCH($B$2,Novembre!$A$8:$A$31),$B4+1),1,0) -> #N/A | AU4: =VLOOKUP(AU$2,Décembre!$A$8:$AK$8,$B4+1) -> mer | AV4: =INDEX(Décembre!$A$8:$AK$31,MATCH($B$2,Décembre!$A$8:$A$31),$B4+1) -> #N/A | AW4: =OFFSET(INDEX(Décembre!$A$8:$AK$31,MATCH($B$2,Décembre!$A$8:$A$31),$B4+1),1,0) -> #N/A
B5: 2 | C5: =VLOOKUP($C$2,Janvier!$A$8:$AK$8,$B5+1) -> sam | D5: =VLOOKUP($B$2,Janvier!$A$8:$AK$31,B5+1,FALSE) -> 0 | E5: =OFFSET(INDEX(Janvier!$A$8:$AK$31,MATCH($B$2,Janvier!$A$8:$A$31),$B5+1),1,0) -> #N/A | G5: =VLOOKUP($C$2,Février!$A$8:$AK$8,$B5+1) -> mar | H5: =VLOOKUP($B$2,Février!$A$8:$AK$31,B5+1,FALSE) -> A | I5: =OFFSET(INDEX(Février!$A$8:$AK$31,MATCH($B$2,Février!$A$8:$A$31),$B5+1),1,0) -> #N/A | K5: =VLOOKUP(K$2,Mars!$A$8:$AK$8,$B5+1) -> mar | L5: =VLOOKUP($B$2,Mars!$A$8:$AK$31,B5+1,FALSE) -> 0 | M5: =OFFSET(INDEX(Mars!$A$8:$AK$31,MATCH($B$2,Mars!$A$8:$A$31),$B5+1),1,0) -> #N/A | O5: =VLOOKUP(O$2,Avril!$A$8:$AK$8,$B5+1) -> ven | P5: =INDEX(Avril!$A$8:$AK$31,MATCH($B$2,Avril!$A$8:$A$31),$B5+1) -> #N/A | Q5: =OFFSET(INDEX(Avril!$A$8:$AK$31,MATCH($B$2,Avril!$A$8:$A$31),$B5+1),1,0) -> #N/A | S5: =VLOOKUP(S$2,Mai!$A$8:$AK$8,$B5+1) -> dim | T5: =INDEX(Mai!$A$8:$AK$31,MATCH($B$2,Mai!$A$8:$A$31),$B5+1) -> #N/A | U5: =OFFSET(INDEX(Mai!$A$8:$AK$31,MATCH($B$2,Mai!$A$8:$A$31),$B5+1),1,0) -> #N/A | W5: =VLOOKUP(W$2,Juin!$A$8:$AK$8,$B5+1) -> mer | X5: =INDEX(Juin!$A$8:$AK$31,MATCH($B$2,Juin!$A$8:$A$31),$B5+1) -> #N/A | Y5: =OFFSET(INDEX(Juin!$A$8:$AK$31,MATCH($B$2,Juin!$A$8:$A$31),$B5+1),1,0) -> #N/A | AA5: =VLOOKUP(AA$2,Juillet!$A$8:$AK$8,$B5+1) -> ven | AB5: =INDEX(Juillet!$A$8:$AK$31,MATCH($B$2,Juillet!$A$8:$A$31),$B5+1) -> #N/A | AC5: =OFFSET(INDEX(Juillet!$A$8:$AK$31,MATCH($B$2,Juillet!$A$8:$A$31),$B5+1),1,0) -> #N/A | AE5: =VLOOKUP(AE$2,Août!$A$8:$AK$8,$B5+1) -> lun | AF5: =INDEX(Août!$A$8:$AK$31,MATCH($B$2,Août!$A$8:$A$31),$B5+1) -> #N/A | AG5: =OFFSET(INDEX(Août!$A$8:$AK$31,MATCH($B$2,Août!$A$8:$A$31),$B5+1),1,0) -> #N/A | AI5: =VLOOKUP(AI$2,Septembre!$A$8:$AK$8,$B5+1) -> jeu | AJ5: =INDEX(Septembre!$A$8:$AK$31,MATCH($B$2,Septembre!$A$8:$A$31),$B5+1) -> #N/A | AK5: =OFFSET(INDEX(Septembre!$A$8:$AK$31,MATCH($B$2,Septembre!$A$8:$A$31),$B5+1),1,0) -> #N/A | AM5: =VLOOKUP(AM$2,Octobre!$A$8:$AK$8,$B5+1) -> sam | AN5: =INDEX(Octobre!$A$8:$AK$31,MATCH($B$2,Octobre!$A$8:$A$31),$B5+1) -> #N/A | AO5: =OFFSET(INDEX(Octobre!$A$8:$AK$31,MATCH($B$2,Octobre!$A$8:$A$31),$B5+1),1,0) -> #N/A | AQ5: =VLOOKUP(AQ$2,Novembre!$A$8:$AK$8,$B5+1) -> mar | AR5: =INDEX(Novembre!$A$8:$AK$31,MATCH($B$2,Novembre!$A$8:$A$31),$B5+1) -> #N/A | AS5: =OFFSET(INDEX(Novembre!$A$8:$AK$31,MATCH($B$2,Novembre!$A$8:$A$31),$B5+1),1,0) -> #N/A | AU5: =VLOOKUP(AU$2,Décembre!$A$8:$AK$8,$B5+1) -> jeu | AV5: =INDEX(Décembre!$A$8:$AK$31,MATCH($B$2,Décembre!$A$8:$A$31),$B5+1) -> #N/A | AW5: =OFFSET(INDEX(Décembre!$A$8:$AK$31,MATCH($B$2,Décembre!$A$8:$A$31),$B5+1),1,0) -> #N/A
B6: 3 | C6: =VLOOKUP($C$2,Janvier!$A$8:$AK$8,$B6+1) -> dim | D6: =VLOOKUP($B$2,Janvier!$A$8:$AK$31,B6+1,FALSE) -> 0 | E6: =OFFSET(INDEX(Janvier!$A$8:$AK$31,MATCH($B$2,Janvier!$A$8:$A$31),$B6+1),1,0) -> #N/A | G6: =VLOOKUP($C$2,Février!$A$8:$AK$8,$B6+1) -> mer | H6: =VLOOKUP($B$2,Février!$A$8:$AK$31,B6+1,FALSE) -> A | I6: =OFFSET(INDEX(Février!$A$8:$AK$31,MATCH($B$2,Février!$A$8:$A$31),$B6+1),1,0) -> #N/A | K6: =VLOOKUP(K$2,Mars!$A$8:$AK$8,$B6+1) -> mer | L6: =VLOOKUP($B$2,Mars!$A$8:$AK$31,B6+1,FALSE) -> 0 | M6: =OFFSET(INDEX(Mars!$A$8:$AK$31,MATCH($B$2,Mars!$A$8:$A$31),$B6+1),1,0) -> #N/A | O6: =VLOOKUP(O$2,Avril!$A$8:$AK$8,$B6+1) -> sam | P6: =INDEX(Avril!$A$8:$AK$31,MATCH($B$2,Avril!$A$8:$A$31),$B6+1) -> #N/A | Q6: =OFFSET(INDEX(Avril!$A$8:$AK$31,MATCH($B$2,Avril!$A$8:$A$31),$B6+1),1,0) -> #N/A | S6: =VLOOKUP(S$2,Mai!$A$8:$AK$8,$B6+1) -> lun | T6: =INDEX(Mai!$A$8:$AK$31,MATCH($B$2,Mai!$A$8:$A$31),$B6+1) -> #N/A | U6: =OFFSET(INDEX(Mai!$A$8:$AK$31,MATCH($B$2,Mai!$A$8:$A$31),$B6+1),1,0) -> #N/A | W6: =VLOOKUP(W$2,Juin!$A$8:$AK$8,$B6+1) -> jeu | X6: =INDEX(Juin!$A$8:$AK$31,MATCH($B$2,Juin!$A$8:$A$31),$B6+1) -> #N/A | Y6: =OFFSET(INDEX(Juin!$A$8:$AK$31,MATCH($B$2,Juin!$A$8:$A$31),$B6+1),1,0) -> #N/A | AA6: =VLOOKUP(AA$2,Juillet!$A$8:$AK$8,$B6+1) -> sam | AB6: =INDEX(Juillet!$A$8:$AK$31,MATCH($B$2,Juillet!$A$8:$A$31),$B6+1) -> #N/A | AC6: =OFFSET(INDEX(Juillet!$A$8:$AK$31,MATCH($B$2,Juillet!$A$8:$A$31),$B6+1),1,0) -> #N/A | AE6: =VLOOKUP(AE$2,Août!$A$8:$AK$8,$B6+1) -> mar | AF6: =INDEX(Août!$A$8:$AK$31,MATCH($B$2,Août!$A$8:$A$31),$B6+1) -> #N/A | AG6: =OFFSET(INDEX(Août!$A$8:$AK$31,MATCH($B$2,Août!$A$8:$A$31),$B6+1),1,0) -> #N/A | AI6: =VLOOKUP(AI$2,Septembre!$A$8:$AK$8,$B6+1) -> ven | AJ6: =INDEX(Septembre!$A$8:$AK$31,MATCH($B$2,Septembre!$A$8:$A$31),$B6+1) -> #N/A | AK6: =OFFSET(INDEX(Septembre!$A$8:$AK$31,MATCH($B$2,Septembre!$A$8:$A$31),$B6+1),1,0) -> #N/A | AM6: =VLOOKUP(AM$2,Octobre!$A$8:$AK$8,$B6+1) -> dim | AN6: =INDEX(Octobre!$A$8:$AK$31,MATCH($B$2,Octobre!$A$8:$A$31),$B6+1) -> #N/A | AO6: =OFFSET(INDEX(Octobre!$A$8:$AK$31,MATCH($B$2,Octobre!$A$8:$A$31),$B6+1),1,0) -> #N/A | AQ6: =VLOOKUP(AQ$2,Novembre!$A$8:$AK$8,$B6+1) -> mer | AR6: =INDEX(Novembre!$A$8:$AK$31,MATCH($B$2,Novembre!$A$8:$A$31),$B6+1) -> #N/A | AS6: =OFFSET(INDEX(Novembre!$A$8:$AK$31,MATCH($B$2,Novembre!$A$8:$A$31),$B6+1),1,0) -> #N/A | AU6: =VLOOKUP(AU$2,Décembre!$A$8:$AK$8,$B6+1) -> ven | AV6: =INDEX(Décembre!$A$8:$AK$31,MATCH($B$2,Décembre!$A$8:$A$31),$B6+1) -> #N/A | AW6: =OFFSET(INDEX(Décembre!$A$8:$AK$31,MATCH($B$2,Décembre!$A$8:$A$31),$B6+1),1,0) -> #N/A
B7: 4 | C7: =VLOOKUP($C$2,Janvier!$A$8:$AK$8,$B7+1) -> lun | D7: =VLOOKUP($B$2,Janvier!$A$8:$AK$31,B7+1,FALSE) -> A | E7: =OFFSET(INDEX(Janvier!$A$8:$AK$31,MATCH($B$2,Janvier!$A$8:$A$31),$B7+1),1,0) -> #N/A | G7: =VLOOKUP($C$2,Février!$A$8:$AK$8,$B7+1) -> jeu | H7: =VLOOKUP($B$2,Février!$A$8:$AK$31,B7+1,FALSE) -> A | I7: =OFFSET(INDEX(Février!$A$8:$AK$31,MATCH($B$2,Février!$A$8:$A$31),$B7+1),1,0) -> #N/A | K7: =VLOOKUP(K$2,Mars!$A$8:$AK$8,$B7+1) -> jeu | L7: =VLOOKUP($B$2,Mars!$A$8:$AK$31,B7+1,FALSE) -> 0 | M7: =OFFSET(INDEX(Mars!$A$8:$AK$31,MATCH($B$2,Mars!$A$8:$A$31),$B7+1),1,0) -> #N/A | O7: =VLOOKUP(O$2,Avril!$A$8:$AK$8,$B7+1) -> dim | P7: =INDEX(Avril!$A$8:$AK$31,MATCH($B$2,Avril!$A$8:$A$31),$B7+1) -> #N/A | Q7: =OFFSET(INDEX(Avril!$A$8:$AK$31,MATCH($B$2,Avril!$A$8:$A$31),$B7+1),1,0) -> #N/A | S7: =VLOOKUP(S$2,Mai!$A$8:$AK$8,$B7+1) -> mar | T7: =INDEX(Mai!$A$8:$AK$31,MATCH($B$2,Mai!$A$8:$A$31),$B7+1) -> #N/A | U7: =OFFSET(INDEX(Mai!$A$8:$AK$31,MATCH($B$2,Mai!$A$8:$A$31),$B7+1),1,0) -> #N/A | W7: =VLOOKUP(W$2,Juin!$A$8:$AK$8,$B7+1) -> ven | X7: =INDEX(Juin!$A$8:$AK$31,MATCH($B$2,Juin!$A$8:$A$31),$B7+1) -> #N/A | Y7: =OFFSET(INDEX(Juin!$A$8:$AK$31,MATCH($B$2,Juin!$A$8:$A$31),$B7+1),1,0) -> #N/A | AA7: =VLOOKUP(AA$2,Juillet!$A$8:$AK$8,$B7+1) -> dim | AB7: =INDEX(Juillet!$A$8:$AK$31,MATCH($B$2,Juillet!$A$8:$A$31),$B7+1) -> #N/A | AC7: =OFFSET(INDEX(Juillet!$A$8:$AK$31,MATCH($B$2,Juillet!$A$8:$A$31),$B7+1),1,0) -> #N/A | AE7: =VLOOKUP(AE$2,Août!$A$8:$AK$8,$B7+1) -> mer | AF7: =INDEX(Août!$A$8:$AK$31,MATCH($B$2,Août!$A$8:$A$31),$B7+1) -> #N/A | AG7: =OFFSET(INDEX(Août!$A$8:$AK$31,MATCH($B$2,Août!$A$8:$A$31),$B7+1),1,0) -> #N/A | AI7: =VLOOKUP(AI$2,Septembre!$A$8:$AK$8,$B7+1) -> sam | AJ7: =INDEX(Septembre!$A$8:$AK$31,MATCH($B$2,Septembre!$A$8:$A$31),$B7+1) -> #N/A | AK7: =OFFSET(INDEX(Septembre!$A$8:$AK$31,MATCH($B$2,Septembre!$A$8:$A$31),$B7+1),1,0) -> #N/A | AM7: =VLOOKUP(AM$2,Octobre!$A$8:$AK$8,$B7+1) -> lun | AN7: =INDEX(Octobre!$A$8:$AK$31,MATCH($B$2,Octobre!$A$8:$A$31),$B7+1) -> #N/A | AO7: =OFFSET(INDEX(Octobre!$A$8:$AK$31,MATCH($B$2,Octobre!$A$8:$A$31),$B7+1),1,0) -> #N/A | AQ7: =VLOOKUP(AQ$2,Novembre!$A$8:$AK$8,$B7+1) -> jeu | AR7: =INDEX(Novembre!$A$8:$AK$31,MATCH($B$2,Novembre!$A$8:$A$31),$B7+1) -> #N/A | AS7: =OFFSET(INDEX(Novembre!$A$8:$AK$31,MATCH($B$2,Novembre!$A$8:$A$31),$B7+1),1,0) -> #N/A | AU7: =VLOOKUP(AU$2,Décembre!$A$8:$AK$8,$B7+1) -> sam | AV7: =INDEX(Décembre!$A$8:$AK$31,MATCH($B$2,Décembre!$A$8:$A$31),$B7+1) -> #N/A | AW7: =OFFSET(INDEX(Décembre!$A$8:$AK$31,MATCH($B$2,Décembre!$A$8:$A$31),$B7+1),1,0) -> #N/A
B8: 5 | C8: =VLOOKUP($C$2,Janvier!$A$8:$AK$8,$B8+1) -> mar | D8: =VLOOKUP($B$2,Janvier!$A$8:$AK$31,B8+1,FALSE) -> 0 | E8: =OFFSET(INDEX(Janvier!$A$8:$AK$31,MATCH($B$2,Janvier!$A$8:$A$31),$B8+1),1,0) -> #N/A | G8: =VLOOKUP($C$2,Février!$A$8:$AK$8,$B8+1) -> ven | H8: =VLOOKUP($B$2,Février!$A$8:$AK$31,B8+1,FALSE) -> 0 | I8: =OFFSET(INDEX(Février!$A$8:$AK$31,MATCH($B$2,Février!$A$8:$A$31),$B8+1),1,0) -> #N/A | K8: =VLOOKUP(K$2,Mars!$A$8:$AK$8,$B8+1) -> ven | L8: =VLOOKUP($B$2,Mars!$A$8:$AK$31,B8+1,FALSE) -> 0 | M8: =OFFSET(INDEX(Mars!$A$8:$AK$31,MATCH($B$2,Mars!$A$8:$A$31),$B8+1),1,0) -> #N/A | O8: =VLOOKUP(O$2,Avril!$A$8:$AK$8,$B8+1) -> lun | P8: =INDEX(Avril!$A$8:$AK$31,MATCH($B$2,Avril!$A$8:$A$31),$B8+1) -> #N/A | Q8: =OFFSET(INDEX(Avril!$A$8:$AK$31,MATCH($B$2,Avril!$A$8:$A$31),$B8+1),1,0) -> #N/A | S8: =VLOOKUP(S$2,Mai!$A$8:$AK$8,$B8+1) -> mer | T8: =INDEX(Mai!$A$8:$AK$31,MATCH($B$2,Mai!$A$8:$A$31),$B8+1) -> #N/A | U8: =OFFSET(INDEX(Mai!$A$8:$AK$31,MATCH($B$2,Mai!$A$8:$A$31),$B8+1),1,0) -> #N/A | W8: =VLOOKUP(W$2,Juin!$A$8:$AK$8,$B8+1) -> sam | X8: =INDEX(Juin!$A$8:$AK$31,MATCH($B$2,Juin!$A$8:$A$31),$B8+1) -> #N/A | Y8: =OFFSET(INDEX(Juin!$A$8:$AK$31,MATCH($B$2,Juin!$A$8:$A$31),$B8+1),1,0) -> #N/A | AA8: =VLOOKUP(AA$2,Juillet!$A$8:$AK$8,$B8+1) -> lun | AB8: =INDEX(Juillet!$A$8:$AK$31,MATCH($B$2,Juillet!$A$8:$A$31),$B8+1) -> #N/A | AC8: =OFFSET(INDEX(Juillet!$A$8:$AK$31,MATCH($B$2,Juillet!$A$8:$A$31),$B8+1),1,0) -> #N/A | AE8: =VLOOKUP(AE$2,Août!$A$8:$AK$8,$B8+1) -> jeu | AF8: =INDEX(Août!$A$8:$AK$31,MATCH($B$2,Août!$A$8:$A$31),$B8+1) -> #N/A | AG8: =OFFSET(INDEX(Août!$A$8:$AK$31,MATCH($B$2,Août!$A$8:$A$31),$B8+1),1,0) -> #N/A | AI8: =VLOOKUP(AI$2,Septembre!$A$8:$AK$8,$B8+1) -> dim | AJ8: =INDEX(Septembre!$A$8:$AK$31,MATCH($B$2,Septembre!$A$8:$A$31),$B8+1) -> #N/A | AK8: =OFFSET(INDEX(Septembre!$A$8:$AK$31,MATCH($B$2,Septembre!$A$8:$A$31),$B8+1),1,0) -> #N/A | AM8: =VLOOKUP(AM$2,Octobre!$A$8:$AK$8,$B8+1) -> mar | AN8: =INDEX(Octobre!$A$8:$AK$31,MATCH($B$2,Octobre!$A$8:$A$31),$B8+1) -> #N/A | AO8: =OFFSET(INDEX(Octobre!$A$8:$AK$31,MATCH($B$2,Octobre!$A$8:$A$31),$B8+1),1,0) -> #N/A | AQ8: =VLOOKUP(AQ$2,Novembre!$A$8:$AK$8,$B8+1) -> ven | AR8: =INDEX(Novembre!$A$8:$AK$31,MATCH($B$2,Novembre!$A$8:$A$31),$B8+1) -> #N/A | AS8: =OFFSET(INDEX(Novembre!$A$8:$AK$31,MATCH($B$2,Novembre!$A$8:$A$31),$B8+1),1,0) -> #N/A | AU8: =VLOOKUP(AU$2,Décembre!$A$8:$AK$8,$B8+1) -> dim | AV8: =INDEX(Décembre!$A$8:$AK$31,MATCH($B$2,Décembre!$A$8:$A$31),$B8+1) -> #N/A | AW8: =OFFSET(INDEX(Décembre!$A$8:$AK$31,MATCH($B$2,Décembre!$A$8:$A$31),$B8+1),1,0) -> #N/A
B9: 6 | C9: =VLOOKUP($C$2,Janvier!$A$8:$AK$8,$B9+1) -> mer | D9: =VLOOKUP($B$2,Janvier!$A$8:$AK$31,B9+1,FALSE) -> A | E9: =OFFSET(INDEX(Janvier!$A$8:$AK$31,MATCH($B$2,Janvier!$A$8:$A$31),$B9+1),1,0) -> #N/A | G9: =VLOOKUP($C$2,Février!$A$8:$AK$8,$B9+1) -> sam | H9: =VLOOKUP($B$2,Février!$A$8:$AK$31,B9+1,FALSE) -> 0 | I9: =OFFSET(INDEX(Février!$A$8:$AK$31,MATCH($B$2,Février!$A$8:$A$31),$B9+1),1,0) -> #N/A | K9: =VLOOKUP(K$2,Mars!$A$8:$AK$8,$B9+1) -> sam | L9: =VLOOKUP($B$2,Mars!$A$8:$AK$31,B9+1,FALSE) -> 0 | M9: =OFFSET(INDEX(Mars!$A$8:$AK$31,MATCH($B$2,Mars!$A$8:$A$31),$B9+1),1,0) -> #N/A | O9: =VLOOKUP(O$2,Avril!$A$8:$AK$8,$B9+1) -> mar | P9: =INDEX(Avril!$A$8:$AK$31,MATCH($B$2,Avril!$A$8:$A$31),$B9+1) -> #N/A | Q9: =OFFSET(INDEX(Avril!$A$8:$AK$31,MATCH($B$2,Avril!$A$8:$A$31),$B9+1),1,0) -> #N/A | S9: =VLOOKUP(S$2,Mai!$A$8:$AK$8,$B9+1) -> jeu | T9: =INDEX(Mai!$A$8:$AK$31,MATCH($B$2,Mai!$A$8:$A$31),$B9+1) -> #N/A | U9: =OFFSET(INDEX(Mai!$A$8:$AK$31,MATCH($B$2,Mai!$A$8:$A$31),$B9+1),1,0) -> #N/A | W9: =VLOOKUP(W$2,Juin!$A$8:$AK$8,$B9+1) -> dim | X9: =INDEX(Juin!$A$8:$AK$31,MATCH($B$2,Juin!$A$8:$A$31),$B9+1) -> #N/A | Y9: =OFFSET(INDEX(Juin!$A$8:$AK$31,MATCH($B$2,Juin!$A$8:$A$31),$B9+1),1,0) -> #N/A | AA9: =VLOOKUP(AA$2,Juillet!$A$8:$AK$8,$B9+1) -> mar | AB9: =INDEX(Juillet!$A$8:$AK$31,MATCH($B$2,Juillet!$A$8:$A$31),$B9+1) -> #N/A | AC9: =OFFSET(INDEX(Juillet!$A$8:$AK$31,MATCH($B$2,Juillet!$A$8:$A$31),$B9+1),1,0) -> #N/A | AE9: =VLOOKUP(AE$2,Août!$A$8:$AK$8,$B9+1) -> ven | AF9: =INDEX(Août!$A$8:$AK$31,MATCH($B$2,Août!$A$8:$A$31),$B9+1) -> #N/A | AG9: =OFFSET(INDEX(Août!$A$8:$AK$31,MATCH($B$2,Août!$A$8:$A$31),$B9+1),1,0) -> #N/A | AI9: =VLOOKUP(AI$2,Septembre!$A$8:$AK$8,$B9+1) -> lun | AJ9: =INDEX(Septembre!$A$8:$AK$31,MATCH($B$2,Septembre!$A$8:$A$31),$B9+1) -> #N/A | AK9: =OFFSET(INDEX(Septembre!$A$8:$AK$31,MATCH($B$2,Septembre!$A$8:$A$31),$B9+1),1,0) -> #N/A | AM9: =VLOOKUP(AM$2,Octobre!$A$8:$AK$8,$B9+1) -> mer | AN9: =INDEX(Octobre!$A$8:$AK$31,MATCH($B$2,Octobre!$A$8:$A$31),$B9+1) -> #N/A | AO9: =OFFSET(INDEX(Octobre!$A$8:$AK$31,MATCH($B$2,Octobre!$A$8:$A$31),$B9+1),1,0) -> #N/A | AQ9: =VLOOKUP(AQ$2,Novembre!$A$8:$AK$8,$B9+1) -> sam | AR9: =INDEX(Novembre!$A$8:$AK$31,MATCH($B$2,Novembre!$A$8:$A$31),$B9+1) -> #N/A | AS9: =OFFSET(INDEX(Novembre!$A$8:$AK$31,MATCH($B$2,Novembre!$A$8:$A$31),$B9+1),1,0) -> #N/A | AU9: =VLOOKUP(AU$2,Décembre!$A$8:$AK$8,$B9+1) -> lun | AV9: =INDEX(Décembre!$A$8:$AK$31,MATCH($B$2,Décembre!$A$8:$A$31),$B9+1) -> #N/A | AW9: =OFFSET(INDEX(Décembre!$A$8:$AK$31,MATCH($B$2,Décembre!$A$8:$A$31),$B9+1),1,0) -> #N/A
B10: 7 | C10: =VLOOKUP($C$2,Janvier!$A$8:$AK$8,$B10+1) -> jeu | D10: =VLOOKUP($B$2,Janvier!$A$8:$AK$31,B10+1,FALSE) -> 0 | E10: =OFFSET(INDEX(Janvier!$A$8:$AK$31,MATCH($B$2,Janvier!$A$8:$A$31),$B10+1),1,0) -> #N/A | G10: =VLOOKUP($C$2,Février!$A$8:$AK$8,$B10+1) -> dim | H10: =VLOOKUP($B$2,Février!$A$8:$AK$31,B10+1,FALSE) -> 0 | I10: =OFFSET(INDEX(Février!$A$8:$AK$31,MATCH($B$2,Février!$A$8:$A$31),$B10+1),1,0) -> #N/A | K10: =VLOOKUP(K$2,Mars!$A$8:$AK$8,$B10+1) -> dim | L10: =VLOOKUP($B$2,Mars!$A$8:$AK$31,B10+1,FALSE) -> 0 | M10: =OFFSET(INDEX(Mars!$A$8:$AK$31,MATCH($B$2,Mars!$A$8:$A$31),$B10+1),1,0) -> #N/A | O10: =VLOOKUP(O$2,Avril!$A$8:$AK$8,$B10+1) -> mer | P10: =INDEX(Avril!$A$8:$AK$31,MATCH($B$2,Avril!$A$8:$A$31),$B10+1) -> #N/A | Q10: =OFFSET(INDEX(Avril!$A$8:$AK$31,MATCH($B$2,Avril!$A$8:$A$31),$B10+1),1,0) -> #N/A | S10: =VLOOKUP(S$2,Mai!$A$8:$AK$8,$B10+1) -> ven | T10: =INDEX(Mai!$A$8:$AK$31,MATCH($B$2,Mai!$A$8:$A$31),$B10+1) -> #N/A | U10: =OFFSET(INDEX(Mai!$A$8:$AK$31,MATCH($B$2,Mai!$A$8:$A$31),$B10+1),1,0) -> #N/A | W10: =VLOOKUP(W$2,Juin!$A$8:$AK$8,$B10+1) -> lun | X10: =INDEX(Juin!$A$8:$AK$31,MATCH($B$2,Juin!$A$8:$A$31),$B10+1) -> #N/A | Y10: =OFFSET(INDEX(Juin!$A$8:$AK$31,MATCH($B$2,Juin!$A$8:$A$31),$B10+1),1,0) -> #N/A | AA10: =VLOOKUP(AA$2,Juillet!$A$8:$AK$8,$B10+1) -> mer | AB10: =INDEX(Juillet!$A$8:$AK$31,MATCH($B$2,Juillet!$A$8:$A$31),$B10+1) -> #N/A | AC10: =OFFSET(INDEX(Juillet!$A$8:$AK$31,MATCH($B$2,Juillet!$A$8:$A$31),$B10+1),1,0) -> #N/A | AE10: =VLOOKUP(AE$2,Août!$A$8:$AK$8,$B10+1) -> sam | AF10: =INDEX(Août!$A$8:$AK$31,MATCH($B$2,Août!$A$8:$A$31),$B10+1) -> #N/A | AG10: =OFFSET(INDEX(Août!$A$8:$AK$31,MATCH($B$2,Août!$A$8:$A$31),$B10+1),1,0) -> #N/A | AI10: =VLOOKUP(AI$2,Septembre!$A$8:$AK$8,$B10+1) -> mar | AJ10: =INDEX(Septembre!$A$8:$AK$31,MATCH($B$2,Septembre!$A$8:$A$31),$B10+1) -> #N/A | AK10: =OFFSET(INDEX(Septembre!$A$8:$AK$31,MATCH($B$2,Septembre!$A$8:$A$31),$B10+1),1,0) -> #N/A | AM10: =VLOOKUP(AM$2,Octobre!$A$8:$AK$8,$B10+1) -> jeu | AN10: =INDEX(Octobre!$A$8:$AK$31,MATCH($B$2,Octobre!$A$8:$A$31),$B10+1) -> #N/A | AO10: =OFFSET(INDEX(Octobre!$A$8:$AK$31,MATCH($B$2,Octobre!$A$8:$A$31),$B10+1),1,0) -> #N/A | AQ10: =VLOOKUP(AQ$2,Novembre!$A$8:$AK$8,$B10+1) -> dim | AR10: =INDEX(Novembre!$A$8:$AK$31,MATCH($B$2,Novembre!$A$8:$A$31),$B10+1) -> #N/A | AS10: =OFFSET(INDEX(Novembre!$A$8:$AK$31,MATCH($B$2,Novembre!$A$8:$A$31),$B10+1),1,0) -> #N/A | AU10: =VLOOKUP(AU$2,Décembre!$A$8:$AK$8,$B10+1) -> mar | AV10: =INDEX(Décembre!$A$8:$AK$31,MATCH($B$2,Décembre!$A$8:$A$31),$B10+1) -> #N/A | AW10: =OFFSET(INDEX(Décembre!$A$8:$AK$31,MATCH($B$2,Décembre!$A$8:$A$31),$B10+1),1,0) -> #N/A
B11: 8 | C11: =VLOOKUP($C$2,Janvier!$A$8:$AK$8,$B11+1) -> ven | D11: =VLOOKUP($B$2,Janvier!$A$8:$AK$31,B11+1,FALSE) -> A | E11: =OFFSET(INDEX(Janvier!$A$8:$AK$31,MATCH($B$2,Janvier!$A$8:$A$31),$B11+1),1,0) -> #N/A | G11: =VLOOKUP($C$2,Février!$A$8:$AK$8,$B11+1) -> lun | H11: =VLOOKUP($B$2,Février!$A$8:$AK$31,B11+1,FALSE) -> 0 | I11: =OFFSET(INDEX(Février!$A$8:$AK$31,MATCH($B$2,Février!$A$8:$A$31),$B11+1),1,0) -> #N/A | K11: =VLOOKUP(K$2,Mars!$A$8:$AK$8,$B11+1) -> lun | L11: =VLOOKUP($B$2,Mars!$A$8:$AK$31,B11+1,FALSE) -> 0 | M11: =OFFSET(INDEX(Mars!$A$8:$AK$31,MATCH($B$2,Mars!$A$8:$A$31),$B11+1),1,0) -> #N/A | O11: =VLOOKUP(O$2,Avril!$A$8:$AK$8,$B11+1) -> jeu | P11: =INDEX(Avril!$A$8:$AK$31,MATCH($B$2,Avril!$A$8:$A$31),$B11+1) -> #N/A | Q11: =OFFSET(INDEX(Avril!$A$8:$AK$31,MATCH($B$2,Avril!$A$8:$A$31),$B11+1),1,0) -> #N/A | S11: =VLOOKUP(S$2,Mai!$A$8:$AK$8,$B11+1) -> sam | T11: =INDEX(Mai!$A$8:$AK$31,MATCH($B$2,Mai!$A$8:$A$31),$B11+1) -> #N/A | U11: =OFFSET(INDEX(Mai!$A$8:$AK$31,MATCH($B$2,Mai!$A$8:$A$31),$B11+1),1,0) -> #N/A | W11: =VLOOKUP(W$2,Juin!$A$8:$AK$8,$B11+1) -> mar | X11: =INDEX(Juin!$A$8:$AK$31,MATCH($B$2,Juin!$A$8:$A$31),$B11+1) -> #N/A | Y11: =OFFSET(INDEX(Juin!$A$8:$AK$31,MATCH($B$2,Juin!$A$8:$A$31),$B11+1),1,0) -> #N/A | AA11: =VLOOKUP(AA$2,Juillet!$A$8:$AK$8,$B11+1) -> jeu | AB11: =INDEX(Juillet!$A$8:$AK$31,MATCH($B$2,Juillet!$A$8:$A$31),$B11+1) -> #N/A | AC11: =OFFSET(INDEX(Juillet!$A$8:$AK$31,MATCH($B$2,Juillet!$A$8:$A$31),$B11+1),1,0) -> #N/A | AE11: =VLOOKUP(AE$2,Août!$A$8:$AK$8,$B11+1) -> dim | AF11: =INDEX(Août!$A$8:$AK$31,MATCH($B$2,Août!$A$8:$A$31),$B11+1) -> #N/A | AG11: =OFFSET(INDEX(Août!$A$8:$AK$31,MATCH($B$2,Août!$A$8:$A$31),$B11+1),1,0) -> #N/A | AI11: =VLOOKUP(AI$2,Septembre!$A$8:$AK$8,$B11+1) -> mer | AJ11: =INDEX(Septembre!$A$8:$AK$31,MATCH($B$2,Septembre!$A$8:$A$31),$B11+1) -> #N/A | AK11: =OFFSET(INDEX(Septembre!$A$8:$AK$31,MATCH($B$2,Septembre!$A$8:$A$31),$B11+1),1,0) -> #N/A | AM11: =VLOOKUP(AM$2,Octobre!$A$8:$AK$8,$B11+1) -> ven | AN11: =INDEX(Octobre!$A$8:$AK$31,MATCH($B$2,Octobre!$A$8:$A$31),$B11+1) -> #N/A | AO11: =OFFSET(INDEX(Octobre!$A$8:$AK$31,MATCH($B$2,Octobre!$A$8:$A$31),$B11+1),1,0) -> #N/A | AQ11: =VLOOKUP(AQ$2,Novembre!$A$8:$AK$8,$B11+1) -> lun | AR11: =INDEX(Novembre!$A$8:$AK$31,MATCH($B$2,Novembre!$A$8:$A$31),$B11+1) -> #N/A | AS11: =OFFSET(INDEX(Novembre!$A$8:$AK$31,MATCH($B$2,Novembre!$A$8:$A$31),$B11+1),1,0) -> #N/A | AU11: =VLOOKUP(AU$2,Décembre!$A$8:$AK$8,$B11+1) -> mer | AV11: =INDEX(Décembre!$A$8:$AK$31,MATCH($B$2,Décembre!$A$8:$A$31),$B11+1) -> #N/A | AW11: =OFFSET(INDEX(Décembre!$A$8:$AK$31,MATCH($B$2,Décembre!$A$8:$A$31),$B11+1),1,0) -> #N/A
B12: 9 | C12: =VLOOKUP($C$2,Janvier!$A$8:$AK$8,$B12+1) -> sam | D12: =VLOOKUP($B$2,Janvier!$A$8:$AK$31,B12+1,FALSE) -> 0 | E12: =OFFSET(INDEX(Janvier!$A$8:$AK$31,MATCH($B$2,Janvier!$A$8:$A$31),$B12+1),1,0) -> #N/A | G12: =VLOOKUP($C$2,Février!$A$8:$AK$8,$B12+1) -> mar | H12: =VLOOKUP($B$2,Février!$A$8:$AK$31,B12+1,FALSE) -> M | I12: =OFFSET(INDEX(Février!$A$8:$AK$31,MATCH($B$2,Février!$A$8:$A$31),$B12+1),1,0) -> #N/A | K12: =VLOOKUP(K$2,Mars!$A$8:$AK$8,$B12+1) -> mar | L12: =VLOOKUP($B$2,Mars!$A$8:$AK$31,B12+1,FALSE) -> 0 | M12: =OFFSET(INDEX(Mars!$A$8:$AK$31,MATCH($B$2,Mars!$A$8:$A$31),$B12+1),1,0) -> #N/A | O12: =VLOOKUP(O$2,Avril!$A$8:$AK$8,$B12+1) -> ven | P12: =INDEX(Avril!$A$8:$AK$31,MATCH($B$2,Avril!$A$8:$A$31),$B12+1) -> #N/A | Q12: =OFFSET(INDEX(Avril!$A$8:$AK$31,MATCH($B$2,Avril!$A$8:$A$31),$B12+1),1,0) -> #N/A | S12: =VLOOKUP(S$2,Mai!$A$8:$AK$8,$B12+1) -> dim | T12: =INDEX(Mai!$A$8:$AK$31,MATCH($B$2,Mai!$A$8:$A$31),$B12+1) -> #N/A | U12: =OFFSET(INDEX(Mai!$A$8:$AK$31,MATCH($B$2,Mai!$A$8:$A$31),$B12+1),1,0) -> #N/A | W12: =VLOOKUP(W$2,Juin!$A$8:$AK$8,$B12+1) -> mer | X12: =INDEX(Juin!$A$8:$AK$31,MATCH($B$2,Juin!$A$8:$A$31),$B12+1) -> #N/A | Y12: =OFFSET(INDEX(Juin!$A$8:$AK$31,MATCH($B$2,Juin!$A$8:$A$31),$B12+1),1,0) -> #N/A | AA12: =VLOOKUP(AA$2,Juillet!$A$8:$AK$8,$B12+1) -> ven | AB12: =INDEX(Juillet!$A$8:$AK$31,MATCH($B$2,Juillet!$A$8:$A$31),$B12+1) -> #N/A | AC12: =OFFSET(INDEX(Juillet!$A$8:$AK$31,MATCH($B$2,Juillet!$A$8:$A$31),$B12+1),1,0) -> #N/A | AE12: =VLOOKUP(AE$2,Août!$A$8:$AK$8,$B12+1) -> lun | AF12: =INDEX(Août!$A$8:$AK$31,MATCH($B$2,Août!$A$8:$A$31),$B12+1) -> #N/A | AG12: =OFFSET(INDEX(Août!$A$8:$AK$31,MATCH($B$2,Août!$A$8:$A$31),$B12+1),1,0) -> #N/A | AI12: =VLOOKUP(AI$2,Septembre!$A$8:$AK$8,$B12+1) -> jeu | AJ12: =INDEX(Septembre!$A$8:$AK$31,MATCH($B$2,Septembre!$A$8:$A$31),$B12+1) -> #N/A | AK12: =OFFSET(INDEX(Septembre!$A$8:$AK$31,MATCH($B$2,Septembre!$A$8:$A$31),$B12+1),1,0) -> #N/A | AM12: =VLOOKUP(AM$2,Octobre!$A$8:$AK$8,$B12+1) -> sam | AN12: =INDEX(Octobre!$A$8:$AK$31,MATCH($B$2,Octobre!$A$8:$A$31),$B12+1) -> #N/A | AO12: =OFFSET(INDEX(Octobre!$A$8:$AK$31,MATCH($B$2,Octobre!$A$8:$A$31),$B12+1),1,0) -> #N/A | AQ12: =VLOOKUP(AQ$2,Novembre!$A$8:$AK$8,$B12+1) -> mar | AR12: =INDEX(Novembre!$A$8:$AK$31,MATCH($B$2,Novembre!$A$8:$A$31),$B12+1) -> #N/A | AS12: =OFFSET(INDEX(Novembre!$A$8:$AK$31,MATCH($B$2,Novembre!$A$8:$A$31),$B12+1),1,0) -> #N/A | AU12: =VLOOKUP(AU$2,Décembre!$A$8:$AK$8,$B12+1) -> jeu | AV12: =INDEX(Décembre!$A$8:$AK$31,MATCH($B$2,Décembre!$A$8:$A$31),$B12+1) -> #N/A | AW12: =OFFSET(INDEX(Décembre!$A$8:$AK$31,MATCH($B$2,Décembre!$A$8:$A$31),$B12+1),1,0) -> #N/A
B13: 10 | C13: =VLOOKUP($C$2,Janvier!$A$8:$AK$8,$B13+1) -> dim | D13: =VLOOKUP($B$2,Janvier!$A$8:$AK$31,B13+1,FALSE) -> 0 | E13: =OFFSET(INDEX(Janvier!$A$8:$AK$31,MATCH($B$2,Janvier!$A$8:$A$31),$B13+1),1,0) -> #N/A | G13: =VLOOKUP($C$2,Février!$A$8:$AK$8,$B13+1) -> mer | H13: =VLOOKUP($B$2,Février!$A$8:$AK$31,B13+1,FALSE) -> M | I13: =OFFSET(INDEX(Février!$A$8:$AK$31,MATCH($B$2,Février!$A$8:$A$31),$B13+1),1,0) -> #N/A | K13: =VLOOKUP(K$2,Mars!$A$8:$AK$8,$B13+1) -> mer | L13: =VLOOKUP($B$2,Mars!$A$8:$AK$31,B13+1,FALSE) -> 0 | M13: =OFFSET(INDEX(Mars!$A$8:$AK$31,MATCH($B$2,Mars!$A$8:$A$31),$B13+1),1,0) -> #N/A | O13: =VLOOKUP(O$2,Avril!$A$8:$AK$8,$B13+1) -> sam | P13: =INDEX(Avril!$A$8:$AK$31,MATCH($B$2,Avril!$A$8:$A$31),$B13+1) -> #N/A | Q13: =OFFSET(INDEX(Avril!$A$8:$AK$31,MATCH($B$2,Avril!$A$8:$A$31),$B13+1),1,0) -> #N/A | S13: =VLOOKUP(S$2,Mai!$A$8:$AK$8,$B13+1) -> lun | T13: =INDEX(Mai!$A$8:$AK$31,MATCH($B$2,Mai!$A$8:$A$31),$B13+1) -> #N/A | U13: =OFFSET(INDEX(Mai!$A$8:$AK$31,MATCH($B$2,Mai!$A$8:$A$31),$B13+1),1,0) -> #N/A | W13: =VLOOKUP(W$2,Juin!$A$8:$AK$8,$B13+1) -> jeu | X13: =INDEX(Juin!$A$8:$AK$31,MATCH($B$2,Juin!$A$8:$A$31),$B13+1) -> #N/A | Y13: =OFFSET(INDEX(Juin!$A$8:$AK$31,MATCH($B$2,Juin!$A$8:$A$31),$B13+1),1,0) -> #N/A | AA13: =VLOOKUP(AA$2,Juillet!$A$8:$AK$8,$B13+1) -> sam | AB13: =INDEX(Juillet!$A$8:$AK$31,MATCH($B$2,Juillet!$A$8:$A$31),$B13+1) -> #N/A | AC13: =OFFSET(INDEX(Juillet!$A$8:$AK$31,MATCH($B$2,Juillet!$A$8:$A$31),$B13+1),1,0) -> #N/A | AE13: =VLOOKUP(AE$2,Août!$A$8:$AK$8,$B13+1) -> mar | AF13: =INDEX(Août!$A$8:$AK$31,MATCH($B$2,Août!$A$8:$A$31),$B13+1) -> #N/A | AG13: =OFFSET(INDEX(Août!$A$8:$AK$31,MATCH($B$2,Août!$A$8:$A$31),$B13+1),1,0) -> #N/A | AI13: =VLOOKUP(AI$2,Septembre!$A$8:$AK$8,$B13+1) -> ven | AJ13: =INDEX(Septembre!$A$8:$AK$31,MATCH($B$2,Septembre!$A$8:$A$31),$B13+1) -> #N/A | AK13: =OFFSET(INDEX(Septembre!$A$8:$AK$31,MATCH($B$2,Septembre!$A$8:$A$31),$B13+1),1,0) -> #N/A | AM13: =VLOOKUP(AM$2,Octobre!$A$8:$AK$8,$B13+1) -> dim | AN13: =INDEX(Octobre!$A$8:$AK$31,MATCH($B$2,Octobre!$A$8:$A$31),$B13+1) -> #N/A | AO13: =OFFSET(INDEX(Octobre!$A$8:$AK$31,MATCH($B$2,Octobre!$A$8:$A$31),$B13+1),1,0) -> #N/A | AQ13: =VLOOKUP(AQ$2,Novembre!$A$8:$AK$8,$B13+1) -> mer | AR13: =INDEX(Novembre!$A$8:$AK$31,MATCH($B$2,Novembre!$A$8:$A$31),$B13+1) -> #N/A | AS13: =OFFSET(INDEX(Novembre!$A$8:$AK$31,MATCH($B$2,Novembre!$A$8:$A$31),$B13+1),1,0) -> #N/A | AU13: =VLOOKUP(AU$2,Décembre!$A$8:$AK$8,$B13+1) -> ven | AV13: =INDEX(Décembre!$A$8:$AK$31,MATCH($B$2,Décembre!$A$8:$A$31),$B13+1) -> #N/A | AW13: =OFFSET(INDEX(Décembre!$A$8:$AK$31,MATCH($B$2,Décembre!$A$8:$A$31),$B13+1),1,0) -> #N/A
B14: 11 | C14: =VLOOKUP($C$2,Janvier!$A$8:$AK$8,$B14+1) -> lun | D14: =VLOOKUP($B$2,Janvier!$A$8:$AK$31,B14+1,FALSE) -> 0 | E14: =OFFSET(INDEX(Janvier!$A$8:$AK$31,MATCH($B$2,Janvier!$A$8:$A$31),$B14+1),1,0) -> #N/A | G14: =VLOOKUP($C$2,Février!$A$8:$AK$8,$B14+1) -> jeu | H14: =VLOOKUP($B$2,Février!$A$8:$AK$31,B14+1,FALSE) -> 0 | I14: =OFFSET(INDEX(Février!$A$8:$AK$31,MATCH($B$2,Février!$A$8:$A$31),$B14+1),1,0) -> #N/A | K14: =VLOOKUP(K$2,Mars!$A$8:$AK$8,$B14+1) -> jeu | L14: =VLOOKUP($B$2,Mars!$A$8:$AK$31,B14+1,FALSE) -> 0 | M14: =OFFSET(INDEX(Mars!$A$8:$AK$31,MATCH($B$2,Mars!$A$8:$A$31),$B14+1),1,0) -> #N/A | O14: =VLOOKUP(O$2,Avril!$A$8:$AK$8,$B14+1) -> dim | P14: =INDEX(Avril!$A$8:$AK$31,MATCH($B$2,Avril!$A$8:$A$31),$B14+1) -> #N/A | Q14: =OFFSET(INDEX(Avril!$A$8:$AK$31,MATCH($B$2,Avril!$A$8:$A$31),$B14+1),1,0) -> #N/A | S14: =VLOOKUP(S$2,Mai!$A$8:$AK$8,$B14+1) -> mar | T14: =INDEX(Mai!$A$8:$AK$31,MATCH($B$2,Mai!$A$8:$A$31),$B14+1) -> #N/A | U14: =OFFSET(INDEX(Mai!$A$8:$AK$31,MATCH($B$2,Mai!$A$8:$A$31),$B14+1),1,0) -> #N/A | W14: =VLOOKUP(W$2,Juin!$A$8:$AK$8,$B14+1) -> ven | X14: =INDEX(Juin!$A$8:$AK$31,MATCH($B$2,Juin!$A$8:$A$31),$B14+1) -> #N/A | Y14: =OFFSET(INDEX(Juin!$A$8:$AK$31,MATCH($B$2,Juin!$A$8:$A$31),$B14+1),1,0) -> #N/A | AA14: =VLOOKUP(AA$2,Juillet!$A$8:$AK$8,$B14+1) -> dim | AB14: =INDEX(Juillet!$A$8:$AK$31,MATCH($B$2,Juillet!$A$8:$A$31),$B14+1) -> #N/A | AC14: =OFFSET(INDEX(Juillet!$A$8:$AK$31,MATCH($B$2,Juillet!$A$8:$A$31),$B14+1),1,0) -> #N/A | AE14: =VLOOKUP(AE$2,Août!$A$8:$AK$8,$B14+1) -> mer | AF14: =INDEX(Août!$A$8:$AK$31,MATCH($B$2,Août!$A$8:$A$31),$B14+1) -> #N/A | AG14: =OFFSET(INDEX(Août!$A$8:$AK$31,MATCH($B$2,Août!$A$8:$A$31),$B14+1),1,0) -> #N/A | AI14: =VLOOKUP(AI$2,Septembre!$A$8:$AK$8,$B14+1) -> sam | AJ14: =INDEX(Septembre!$A$8:$AK$31,MATCH($B$2,Septembre!$A$8:$A$31),$B14+1) -> #N/A | AK14: =OFFSET(INDEX(Septembre!$A$8:$AK$31,MATCH($B$2,Septembre!$A$8:$A$31),$B14+1),1,0) -> #N/A | AM14: =VLOOKUP(AM$2,Octobre!$A$8:$AK$8,$B14+1) -> lun | AN14: =INDEX(Octobre!$A$8:$AK$31,MATCH($B$2,Octobre!$A$8:$A$31),$B14+1) -> #N/A | AO14: =OFFSET(INDEX(Octobre!$A$8:$AK$31,MATCH($B$2,Octobre!$A$8:$A$31),$B14+1),1,0) -> #N/A | AQ14: =VLOOKUP(AQ$2,Novembre!$A$8:$AK$8,$B14+1) -> jeu | AR14: =INDEX(Novembre!$A$8:$AK$31,MATCH($B$2,Novembre!$A$8:$A$31),$B14+1) -> #N/A | AS14: =OFFSET(INDEX(Novembre!$A$8:$AK$31,MATCH($B$2,Novembre!$A$8:$A$31),$B14+1),1,0) -> #N/A | AU14: =VLOOKUP(AU$2,Décembre!$A$8:$AK$8,$B14+1) -> sam | AV14: =INDEX(Décembre!$A$8:$AK$31,MATCH($B$2,Décembre!$A$8:$A$31),$B14+1) -> #N/A | AW14: =OFFSET(INDEX(Décembre!$A$8:$AK$31,MATCH($B$2,Décembre!$A$8:$A$31),$B14+1),1,0) -> #N/A
B15: 12 | C15: =VLOOKUP($C$2,Janvier!$A$8:$AK$8,$B15+1) -> mar | D15: =VLOOKUP($B$2,Janvier!$A$8:$AK$31,B15+1,FALSE) -> M | E15: =OFFSET(INDEX(Janvier!$A$8:$AK$31,MATCH($B$2,Janvier!$A$8:$A$31),$B15+1),1,0) -> #N/A | G15: =VLOOKUP($C$2,Février!$A$8:$AK$8,$B15+1) -> ven | H15: =VLOOKUP($B$2,Février!$A$8:$AK$31,B15+1,FALSE) -> 0 | I15: =OFFSET(INDEX(Février!$A$8:$AK$31,MATCH($B$2,Février!$A$8:$A$31),$B15+1),1,0) -> #N/A | K15: =VLOOKUP(K$2,Mars!$A$8:$AK$8,$B15+1) -> ven | L15: =VLOOKUP($B$2,Mars!$A$8:$AK$31,B15+1,FALSE) -> 0 | M15: =OFFSET(INDEX(Mars!$A$8:$AK$31,MATCH($B$2,Mars!$A$8:$A$31),$B15+1),1,0) -> #N/A | O15: =VLOOKUP(O$2,Avril!$A$8:$AK$8,$B15+1) -> lun | P15: =INDEX(Avril!$A$8:$AK$31,MATCH($B$2,Avril!$A$8:$A$31),$B15+1) -> #N/A | Q15: =OFFSET(INDEX(Avril!$A$8:$AK$31,MATCH($B$2,Avril!$A$8:$A$31),$B15+1),1,0) -> #N/A | S15: =VLOOKUP(S$2,Mai!$A$8:$AK$8,$B15+1) -> mer | T15: =INDEX(Mai!$A$8:$AK$31,MATCH($B$2,Mai!$A$8:$A$31),$B15+1) -> #N/A | U15: =OFFSET(INDEX(Mai!$A$8:$AK$31,MATCH($B$2,Mai!$A$8:$A$31),$B15+1),1,0) -> #N/A | W15: =VLOOKUP(W$2,Juin!$A$8:$AK$8,$B15+1) -> sam | X15: =INDEX(Juin!$A$8:$AK$31,MATCH($B$2,Juin!$A$8:$A$31),$B15+1) -> #N/A | Y15: =OFFSET(INDEX(Juin!$A$8:$AK$31,MATCH($B$2,Juin!$A$8:$A$31),$B15+1),1,0) -> #N/A | AA15: =VLOOKUP(AA$2,Juillet!$A$8:$AK$8,$B15+1) -> lun | AB15: =INDEX(Juillet!$A$8:$AK$31,MATCH($B$2,Juillet!$A$8:$A$31),$B15+1) -> #N/A | AC15: =OFFSET(INDEX(Juillet!$A$8:$AK$31,MATCH($B$2,Juillet!$A$8:$A$31),$B15+1),1,0) -> #N/A | AE15: =VLOOKUP(AE$2,Août!$A$8:$AK$8,$B15+1) -> jeu | AF15: =INDEX(Août!$A$8:$AK$31,MATCH($B$2,Août!$A$8:$A$31),$B15+1) -> #N/A | AG15: =OFFSET(INDEX(Août!$A$8:$AK$31,MATCH($B$2,Août!$A$8:$A$31),$B15+1),1,0) -> #N/A | AI15: =VLOOKUP(AI$2,Septembre!$A$8:$AK$8,$B15+1) -> dim | AJ15: =INDEX(Septembre!$A$8:$AK$31,MATCH($B$2,Septembre!$A$8:$A$31),$B15+1) -> #N/A | AK15: =OFFSET(INDEX(Septembre!$A$8:$AK$31,MATCH($B$2,Septembre!$A$8:$A$31),$B15+1),1,0) -> #N/A | AM15: =VLOOKUP(AM$2,Octobre!$A$8:$AK$8,$B15+1) -> mar | AN15: =INDEX(Octobre!$A$8:$AK$31,MATCH($B$2,Octobre!$A$8:$A$31),$B15+1) -> #N/A | AO15: =OFFSET(INDEX(Octobre!$A$8:$AK$31,MATCH($B$2,Octobre!$A$8:$A$31),$B15+1),1,0) -> #N/A | AQ15: =VLOOKUP(AQ$2,Novembre!$A$8:$AK$8,$B15+1) -> ven | AR15: =INDEX(Novembre!$A$8:$AK$31,MATCH($B$2,Novembre!$A$8:$A$31),$B15+1) -> #N/A | AS15: =OFFSET(INDEX(Novembre!$A$8:$AK$31,MATCH($B$2,Novembre!$A$8:$A$31),$B15+1),1,0) -> #N/A | AU15: =VLOOKUP(AU$2,Décembre!$A$8:$AK$8,$B15+1) -> dim | AV15: =INDEX(Décembre!$A$8:$AK$31,MATCH($B$2,Décembre!$A$8:$A$31),$B15+1) -> #N/A | AW15: =OFFSET(INDEX(Décembre!$A$8:$AK$31,MATCH($B$2,Décembre!$A$8:$A$31),$B15+1),1,0) -> #N/A
B16: 13 | C16: =VLOOKUP($C$2,Janvier!$A$8:$AK$8,$B16+1) -> mer | D16: =VLOOKUP($B$2,Janvier!$A$8:$AK$31,B16+1,FALSE) -> M | E16: =OFFSET(INDEX(Janvier!$A$8:$AK$31,MATCH($B$2,Janvier!$A$8:$A$31),$B16+1),1,0) -> #N/A | G16: =VLOOKUP($C$2,Février!$A$8:$AK$8,$B16+1) -> sam | H16: =VLOOKUP($B$2,Février!$A$8:$AK$31,B16+1,FALSE) -> 0 | I16: =OFFSET(INDEX(Février!$A$8:$AK$31,MATCH($B$2,Février!$A$8:$A$31),$B16+1),1,0) -> #N/A | K16: =VLOOKUP(K$2,Mars!$A$8:$AK$8,$B16+1) -> sam | L16: =VLOOKUP($B$2,Mars!$A$8:$AK$31,B16+1,FALSE) -> 0 | M16: =OFFSET(INDEX(Mars!$A$8:$AK$31,MATCH($B$2,Mars!$A$8:$A$31),$B16+1),1,0) -> #N/A | O16: =VLOOKUP(O$2,Avril!$A$8:$AK$8,$B16+1) -> mar | P16: =INDEX(Avril!$A$8:$AK$31,MATCH($B$2,Avril!$A$8:$A$31),$B16+1) -> #N/A | Q16: =OFFSET(INDEX(Avril!$A$8:$AK$31,MATCH($B$2,Avril!$A$8:$A$31),$B16+1),1,0) -> #N/A | S16: =VLOOKUP(S$2,Mai!$A$8:$AK$8,$B16+1) -> jeu | T16: =INDEX(Mai!$A$8:$AK$31,MATCH($B$2,Mai!$A$8:$A$31),$B16+1) -> #N/A | U16: =OFFSET(INDEX(Mai!$A$8:$AK$31,MATCH($B$2,Mai!$A$8:$A$31),$B16+1),1,0) -> #N/A | W16: =VLOOKUP(W$2,Juin!$A$8:$AK$8,$B16+1) -> dim | X16: =INDEX(Juin!$A$8:$AK$31,MATCH($B$2,Juin!$A$8:$A$31),$B16+1) -> #N/A | Y16: =OFFSET(INDEX(Juin!$A$8:$AK$31,MATCH($B$2,Juin!$A$8:$A$31),$B16+1),1,0) -> #N/A | AA16: =VLOOKUP(AA$2,Juillet!$A$8:$AK$8,$B16+1) -> mar | AB16: =INDEX(Juillet!$A$8:$AK$31,MATCH($B$2,Juillet!$A$8:$A$31),$B16+1) -> #N/A | AC16: =OFFSET(INDEX(Juillet!$A$8:$AK$31,MATCH($B$2,Juillet!$A$8:$A$31),$B16+1),1,0) -> #N/A | AE16: =VLOOKUP(AE$2,Août!$A$8:$AK$8,$B16+1) -> ven | AF16: =INDEX(Août!$A$8:$AK$31,MATCH($B$2,Août!$A$8:$A$31),$B16+1) -> #N/A | AG16: =OFFSET(INDEX(Août!$A$8:$AK$31,MATCH($B$2,Août!$A$8:$A$31),$B16+1),1,0) -> #N/A | AI16: =VLOOKUP(AI$2,Septembre!$A$8:$AK$8,$B16+1) -> lun | AJ16: =INDEX(Septembre!$A$8:$AK$31,MATCH($B$2,Septembre!$A$8:$A$31),$B16+1) -> #N/A | AK16: =OFFSET(INDEX(Septembre!$A$8:$AK$31,MATCH($B$2,Septembre!$A$8:$A$31),$B16+1),1,0) -> #N/A | AM16: =VLOOKUP(AM$2,Octobre!$A$8:$AK$8,$B16+1) -> mer | AN16: =INDEX(Octobre!$A$8:$AK$31,MATCH($B$2,Octobre!$A$8:$A$31),$B16+1) -> #N/A | AO16: =OFFSET(INDEX(Octobre!$A$8:$AK$31,MATCH($B$2,Octobre!$A$8:$A$31),$B16+1),1,0) -> #N/A | AQ16: =VLOOKUP(AQ$2,Novembre!$A$8:$AK$8,$B16+1) -> sam | AR16: =INDEX(Novembre!$A$8:$AK$31,MATCH($B$2,Novembre!$A$8:$A$31),$B16+1) -> #N/A | AS16: =OFFSET(INDEX(Novembre!$A$8:$AK$31,MATCH($B$2,Novembre!$A$8:$A$31),$B16+1),1,0) -> #N/A | AU16: =VLOOKUP(AU$2,Décembre!$A$8:$AK$8,$B16+1) -> lun | AV16: =INDEX(Décembre!$A$8:$AK$31,MATCH($B$2,Décembre!$A$8:$A$31),$B16+1) -> #N/A | AW16: =OFFSET(INDEX(Décembre!$A$8:$AK$31,MATCH($B$2,Décembre!$A$8:$A$31),$B16+1),1,0) -> #N/A
... B33: 30 | C33: =VLOOKUP($C$2,Janvier!$A$8:$AK$8,$B33+1) -> sam | D33: =VLOOKUP($B$2,Janvier!$A$8:$AK$31,B33+1,FALSE) -> 0 | E33: =OFFSET(INDEX(Janvier!$A$8:$AK$31,MATCH($B$2,Janvier!$A$8:$A$31),$B33+1),1,0) -> #N/A | G33: =VLOOKUP($C$2,Février!$A$8:$AK$8,$B33+1) -> 0 | H33: =VLOOKUP($B$2,Février!$A$8:$AK$31,B33+1,FALSE) -> 0 | I33: =OFFSET(INDEX(Février!$A$8:$AK$31,MATCH($B$2,Février!$A$8:$A$31),$B33+1),1,0) -> #N/A | K33: =VLOOKUP(K$2,Mars!$A$8:$AK$8,$B33+1) -> mar | L33: =VLOOKUP($B$2,Mars!$A$8:$AK$31,B33+1,FALSE) -> 0 | M33: =OFFSET(INDEX(Mars!$A$8:$AK$31,MATCH($B$2,Mars!$A$8:$A$31),$B33+1),1,0) -> #N/A | O33: =VLOOKUP(O$2,Avril!$A$8:$AK$8,$B33+1) -> ven | P33: =INDEX(Avril!$A$8:$AK$31,MATCH($B$2,Avril!$A$8:$A$31),$B33+1) -> #N/A | Q33: =OFFSET(INDEX(Avril!$A$8:$AK$31,MATCH($B$2,Avril!$A$8:$A$31),$B33+1),1,0) -> #N/A | S33: =VLOOKUP(S$2,Mai!$A$8:$AK$8,$B33+1) -> dim | T33: =INDEX(Mai!$A$8:$AK$31,MATCH($B$2,Mai!$A$8:$A$31),$B33+1) -> #N/A | U33: =OFFSET(INDEX(Mai!$A$8:$AK$31,MATCH($B$2,Mai!$A$8:$A$31),$B33+1),1,0) -> #N/A | W33: =VLOOKUP(W$2,Juin!$A$8:$AK$8,$B33+1) -> mer | X33: =INDEX(Juin!$A$8:$AK$31,MATCH($B$2,Juin!$A$8:$A$31),$B33+1) -> #N/A | Y33: =OFFSET(INDEX(Juin!$A$8:$AK$31,MATCH($B$2,Juin!$A$8:$A$31),$B33+1),1,0) -> #N/A | AA33: =VLOOKUP(AA$2,Juillet!$A$8:$AK$8,$B33+1) -> ven | AB33: =INDEX(Juillet!$A$8:$AK$31,MATCH($B$2,Juillet!$A$8:$A$31),$B33+1) -> #N/A | AC33: =OFFSET(INDEX(Juillet!$A$8:$AK$31,MATCH($B$2,Juillet!$A$8:$A$31),$B33+1),1,0) -> #N/A | AE33: =VLOOKUP(AE$2,Août!$A$8:$AK$8,$B33+1) -> lun | AF33: =INDEX(Août!$A$8:$AK$31,MATCH($B$2,Août!$A$8:$A$31),$B33+1) -> #N/A | AG33: =OFFSET(INDEX(Août!$A$8:$AK$31,MATCH($B$2,Août!$A$8:$A$31),$B33+1),1,0) -> #N/A | AI33: =VLOOKUP(AI$2,Septembre!$A$8:$AK$8,$B33+1) -> jeu | AJ33: =INDEX(Septembre!$A$8:$AK$31,MATCH($B$2,Septembre!$A$8:$A$31),$B33+1) -> #N/A | AK33: =OFFSET(INDEX(Septembre!$A$8:$AK$31,MATCH($B$2,Septembre!$A$8:$A$31),$B33+1),1,0) -> #N/A | AM33: =VLOOKUP(AM$2,Octobre!$A$8:$AK$8,$B33+1) -> sam | AN33: =INDEX(Octobre!$A$8:$AK$31,MATCH($B$2,Octobre!$A$8:$A$31),$B33+1) -> #N/A | AO33: =OFFSET(INDEX(Octobre!$A$8:$AK$31,MATCH($B$2,Octobre!$A$8:$A$31),$B33+1),1,0) -> #N/A | AQ33: =VLOOKUP(AQ$2,Novembre!$A$8:$AK$8,$B33+1) -> mar | AR33: =INDEX(Novembre!$A$8:$AK$31,MATCH($B$2,Novembre!$A$8:$A$31),$B33+1) -> #N/A | AS33: =OFFSET(INDEX(Novembre!$A$8:$AK$31,MATCH($B$2,Novembre!$A$8:$A$31),$B33+1),1,0) -> #N/A | AU33: =VLOOKUP(AU$2,Décembre!$A$8:$AK$8,$B33+1) -> jeu | AV33: =INDEX(Décembre!$A$8:$AK$31,MATCH($B$2,Décembre!$A$8:$A$31),$B33+1) -> #N/A | AW33: =OFFSET(INDEX(Décembre!$A$8:$AK$31,MATCH($B$2,Décembre!$A$8:$A$31),$B33+1),1,0) -> #N/A
B34: 31 | C34: =VLOOKUP($C$2,Janvier!$A$8:$AK$8,$B34+1) -> dim | D34: =VLOOKUP($B$2,Janvier!$A$8:$AK$31,B34+1,FALSE) -> 0 | E34: =OFFSET(INDEX(Janvier!$A$8:$AK$31,MATCH($B$2,Janvier!$A$8:$A$31),$B34+1),1,0) -> #N/A | G34: =VLOOKUP($C$2,Février!$A$8:$AK$8,$B34+1) -> 0 | H34: =VLOOKUP($B$2,Février!$A$8:$AK$31,B34+1,FALSE) -> 0 | I34: =OFFSET(INDEX(Février!$A$8:$AK$31,MATCH($B$2,Février!$A$8:$A$31),$B34+1),1,0) -> #N/A | K34: =VLOOKUP(K$2,Mars!$A$8:$AK$8,$B34+1) -> mer | L34: =VLOOKUP($B$2,Mars!$A$8:$AK$31,B34+1,FALSE) -> 0 | M34: =OFFSET(INDEX(Mars!$A$8:$AK$31,MATCH($B$2,Mars!$A$8:$A$31),$B34+1),1,0) -> #N/A | P34: =INDEX(Avril!$A$8:$AK$31,MATCH($B$2,Avril!$A$8:$A$31),$B34+1) -> #N/A | Q34: =OFFSET(INDEX(Avril!$A$8:$AK$31,MATCH($B$2,Avril!$A$8:$A$31),$B34+1),1,0) -> #N/A | S34: =VLOOKUP(S$2,Mai!$A$8:$AK$8,$B34+1) -> lun | T34: =INDEX(Mai!$A$8:$AK$31,MATCH($B$2,Mai!$A$8:$A$31),$B34+1) -> #N/A | U34: =OFFSET(INDEX(Mai!$A$8:$AK$31,MATCH($B$2,Mai!$A$8:$A$31),$B34+1),1,0) -> #N/A | X34: =INDEX(Juin!$A$8:$AK$31,MATCH($B$2,Juin!$A$8:$A$31),$B34+1) -> #N/A | Y34: =OFFSET(INDEX(Juin!$A$8:$AK$31,MATCH($B$2,Juin!$A$8:$A$31),$B34+1),1,0) -> #N/A | AB34: =INDEX(Juillet!$A$8:$AK$31,MATCH($B$2,Juillet!$A$8:$A$31),$B34+1) -> #N/A | AC34: =OFFSET(INDEX(Juillet!$A$8:$AK$31,MATCH($B$2,Juillet!$A$8:$A$31),$B34+1),1,0) -> #N/A | AF34: =INDEX(Août!$A$8:$AK$31,MATCH($B$2,Août!$A$8:$A$31),$B34+1) -> #N/A | AG34: =OFFSET(INDEX(Août!$A$8:$AK$31,MATCH($B$2,Août!$A$8:$A$31),$B34+1),1,0) -> #N/A | AJ34: =INDEX(Septembre!$A$8:$AK$31,MATCH($B$2,Septembre!$A$8:$A$31),$B34+1) -> #N/A | AK34: =OFFSET(INDEX(Septembre!$A$8:$AK$31,MATCH($B$2,Septembre!$A$8:$A$31),$B34+1),1,0) -> #N/A | AN34: =INDEX(Octobre!$A$8:$AK$31,MATCH($B$2,Octobre!$A$8:$A$31),$B34+1) -> #N/A | AO34: =OFFSET(INDEX(Octobre!$A$8:$AK$31,MATCH($B$2,Octobre!$A$8:$A$31),$B34+1),1,0) -> #N/A | AR34: =INDEX(Novembre!$A$8:$AK$31,MATCH($B$2,Novembre!$A$8:$A$31),$B34+1) -> #N/A | AS34: =OFFSET(INDEX(Novembre!$A$8:$AK$31,MATCH($B$2,Novembre!$A$8:$A$31),$B34+1),1,0) -> #N/A | AV34: =INDEX(Décembre!$A$8:$AK$31,MATCH($B$2,Décembre!$A$8:$A$31),$B34+1) -> #N/A | AW34: =OFFSET(INDEX(Décembre!$A$8:$AK$31,MATCH($B$2,Décembre!$A$8:$A$31),$B34+1),1,0) -> #N/A
E35: =OFFSET(INDEX(Janvier!$A$8:$AK$31,MATCH($B$2,Janvier!$A$8:$A$31),$B35+1),1,0) -> #N/A
B36: 32 | C36: =VLOOKUP($C$2,Janvier!$A$8:$AK$8,$B36+1) -> Théoriques | D36: =VLOOKUP($B$2,Janvier!$A$8:$AK$31,B36+1,FALSE) -> 0 | E36: =OFFSET(INDEX(Janvier!$A$8:$AK$31,MATCH($B$2,Janvier!$A$8:$A$31),$B36+1),1,0) -> #N/A | H36: =INDEX(Février!$A$8:$AK$31,MATCH($B$2,Février!$A$8:$A$31),$B36+1) -> #N/A | I36: =OFFSET(INDEX(Février!$A$8:$AK$31,MATCH($B$2,Février!$A$8:$A$31),$B36+1),1,0) -> #N/A | M36: =OFFSET(INDEX(Mars!$A$8:$AK$31,MATCH($B$2,Mars!$A$8:$A$31),$B36+1),1,0) -> #N/A | Q36: =OFFSET(INDEX(Avril!$A$8:$AK$31,MATCH($B$2,Avril!$A$8:$A$31),$B36+1),1,0) -> #N/A | U36: =OFFSET(INDEX(Mai!$A$8:$AK$31,MATCH($B$2,Mai!$A$8:$A$31),$B36+1),1,0) -> #N/A | Y36: =OFFSET(INDEX(Juin!$A$8:$AK$31,MATCH($B$2,Juin!$A$8:$A$31),$B36+1),1,0) -> #N/A | AC36: =OFFSET(INDEX(Juillet!$A$8:$AK$31,MATCH($B$2,Juillet!$A$8:$A$31),$B36+1),1,0) -> #N/A | AG36: =OFFSET(INDEX(Août!$A$8:$AK$31,MATCH($B$2,Août!$A$8:$A$31),$B36+1),1,0) -> #N/A | AK36: =OFFSET(INDEX(Septembre!$A$8:$AK$31,MATCH($B$2,Septembre!$A$8:$A$31),$B36+1),1,0) -> #N/A | AO36: =OFFSET(INDEX(Octobre!$A$8:$AK$31,MATCH($B$2,Octobre!$A$8:$A$31),$B36+1),1,0) -> #N/A | AS36: =OFFSET(INDEX(Novembre!$A$8:$AK$31,MATCH($B$2,Novembre!$A$8:$A$31),$B36+1),1,0) -> #N/A | AW36: =OFFSET(INDEX(Décembre!$A$8:$AK$31,MATCH($B$2,Décembre!$A$8:$A$31),$B36+1),1,0) -> #N/A
B37: 33 | C37: =VLOOKUP($C$2,Janvier!$A$8:$AK$8,$B37+1) -> Réalisées | D37: =VLOOKUP($B$2,Janvier!$A$8:$AK$31,B37+1,FALSE) -> 0 | E37: =OFFSET(INDEX(Janvier!$A$8:$AK$31,MATCH($B$2,Janvier!$A$8:$A$31),$B37+1),1,0) -> #N/A | H37: =INDEX(Février!$A$8:$AK$31,MATCH($B$2,Février!$A$8:$A$31),$B37+1) -> #N/A | I37: =OFFSET(INDEX(Février!$A$8:$AK$31,MATCH($B$2,Février!$A$8:$A$31),$B37+1),1,0) -> #N/A | M37: =OFFSET(INDEX(Mars!$A$8:$AK$31,MATCH($B$2,Mars!$A$8:$A$31),$B37+1),1,0) -> #N/A | Q37: =OFFSET(INDEX(Avril!$A$8:$AK$31,MATCH($B$2,Avril!$A$8:$A$31),$B37+1),1,0) -> #N/A | U37: =OFFSET(INDEX(Mai!$A$8:$AK$31,MATCH($B$2,Mai!$A$8:$A$31),$B37+1),1,0) -> #N/A | Y37: =OFFSET(INDEX(Juin!$A$8:$AK$31,MATCH($B$2,Juin!$A$8:$A$31),$B37+1),1,0) -> #N/A | AC37: =OFFSET(INDEX(Juillet!$A$8:$AK$31,MATCH($B$2,Juillet!$A$8:$A$31),$B37+1),1,0) -> #N/A | AG37: =OFFSET(INDEX(Août!$A$8:$AK$31,MATCH($B$2,Août!$A$8:$A$31),$B37+1),1,0) -> #N/A | AK37: =OFFSET(INDEX(Septembre!$A$8:$AK$31,MATCH($B$2,Septembre!$A$8:$A$31),$B37+1),1,0) -> #N/A | AO37: =OFFSET(INDEX(Octobre!$A$8:$AK$31,MATCH($B$2,Octobre!$A$8:$A$31),$B37+1),1,0) -> #N/A | AS37: =OFFSET(INDEX(Novembre!$A$8:$AK$31,MATCH($B$2,Novembre!$A$8:$A$31),$B37+1),1,0) -> #N/A | AW37: =OFFSET(INDEX(Décembre!$A$8:$AK$31,MATCH($B$2,Décembre!$A$8:$A$31),$B37+1),1,0) -> #N/A
B38: 34 | C38: =VLOOKUP($C$2,Janvier!$A$8:$AK$8,$B38+1) -> Différences | D38: =VLOOKUP($B$2,Janvier!$A$8:$AK$31,B38+1,FALSE) -> 0 | E38: =OFFSET(INDEX(Janvier!$A$8:$AK$31,MATCH($B$2,Janvier!$A$8:$A$31),$B38+1),1,0) -> #N/A | H38: =INDEX(Février!$A$8:$AK$31,MATCH($B$2,Février!$A$8:$A$31),$B38+1) -> #N/A | I38: =OFFSET(INDEX(Février!$A$8:$AK$31,MATCH($B$2,Février!$A$8:$A$31),$B38+1),1,0) -> #N/A | M38: =OFFSET(INDEX(Mars!$A$8:$AK$31,MATCH($B$2,Mars!$A$8:$A$31),$B38+1),1,0) -> #N/A | Q38: =OFFSET(INDEX(Avril!$A$8:$AK$31,MATCH($B$2,Avril!$A$8:$A$31),$B38+1),1,0) -> #N/A | U38: =OFFSET(INDEX(Mai!$A$8:$AK$31,MATCH($B$2,Mai!$A$8:$A$31),$B38+1),1,0) -> #N/A | Y38: =OFFSET(INDEX(Juin!$A$8:$AK$31,MATCH($B$2,Juin!$A$8:$A$31),$B38+1),1,0) -> #N/A | AC38: =OFFSET(INDEX(Juillet!$A$8:$AK$31,MATCH($B$2,Juillet!$A$8:$A$31),$B38+1),1,0) -> #N/A | AG38: =OFFSET(INDEX(Août!$A$8:$AK$31,MATCH($B$2,Août!$A$8:$A$31),$B38+1),1,0) -> #N/A | AK38: =OFFSET(INDEX(Septembre!$A$8:$AK$31,MATCH($B$2,Septembre!$A$8:$A$31),$B38+1),1,0) -> #N/A | AO38: =OFFSET(INDEX(Octobre!$A$8:$AK$31,MATCH($B$2,Octobre!$A$8:$A$31),$B38+1),1,0) -> #N/A | AS38: =OFFSET(INDEX(Novembre!$A$8:$AK$31,MATCH($B$2,Novembre!$A$8:$A$31),$B38+1),1,0) -> #N/A | AW38: =OFFSET(INDEX(Décembre!$A$8:$AK$31,MATCH($B$2,Décembre!$A$8:$A$31),$B38+1),1,0) -> #N/A
B39: 35 | C39: =VLOOKUP($C$2,Janvier!$A$8:$AK$8,$B39+1) -> Soldes | D39: =VLOOKUP($B$2,Janvier!$A$8:$AK$31,B39+1,FALSE) -> 0 | E39: =OFFSET(INDEX(Janvier!$A$8:$AK$31,MATCH($B$2,Janvier!$A$8:$A$31),$B39+1),1,0) -> #N/A | H39: =INDEX(Février!$A$8:$AK$31,MATCH($B$2,Février!$A$8:$A$31),$B39+1) -> #N/A | I39: =OFFSET(INDEX(Février!$A$8:$AK$31,MATCH($B$2,Février!$A$8:$A$31),$B39+1),1,0) -> #N/A | M39: =OFFSET(INDEX(Mars!$A$8:$AK$31,MATCH($B$2,Mars!$A$8:$A$31),$B39+1),1,0) -> #N/A | Q39: =OFFSET(INDEX(Avril!$A$8:$AK$31,MATCH($B$2,Avril!$A$8:$A$31),$B39+1),1,0) -> #N/A | U39: =OFFSET(INDEX(Mai!$A$8:$AK$31,MATCH($B$2,Mai!$A$8:$A$31),$B39+1),1,0) -> #N/A | Y39: =OFFSET(INDEX(Juin!$A$8:$AK$31,MATCH($B$2,Juin!$A$8:$A$31),$B39+1),1,0) -> #N/A | AC39: =OFFSET(INDEX(Juillet!$A$8:$AK$31,MATCH($B$2,Juillet!$A$8:$A$31),$B39+1),1,0) -> #N/A | AG39: =OFFSET(INDEX(Août!$A$8:$AK$31,MATCH($B$2,Août!$A$8:$A$31),$B39+1),1,0) -> #N/A | AK39: =OFFSET(INDEX(Septembre!$A$8:$AK$31,MATCH($B$2,Septembre!$A$8:$A$31),$B39+1),1,0) -> #N/A | AO39: =OFFSET(INDEX(Octobre!$A$8:$AK$31,MATCH($B$2,Octobre!$A$8:$A$31),$B39+1),1,0) -> #N/A | AS39: =OFFSET(INDEX(Novembre!$A$8:$AK$31,MATCH($B$2,Novembre!$A$8:$A$31),$B39+1),1,0) -> #N/A | AW39: =OFFSET(INDEX(Décembre!$A$8:$AK$31,MATCH($B$2,Décembre!$A$8:$A$31),$B39+1),1,0) -> #N/A
B40: 36 | D40: =VLOOKUP($B$2,Janvier!$A$8:$AK$31,B40+1,FALSE) -> 0 | E40: =OFFSET(INDEX(Janvier!$A$8:$AK$31,MATCH($B$2,Janvier!$A$8:$A$31),$B40+1),1,0) -> #N/A | H40: =INDEX(Février!$A$8:$AK$31,MATCH($B$2,Février!$A$8:$A$31),$B40+1) -> #N/A | I40: =OFFSET(INDEX(Février!$A$8:$AK$31,MATCH($B$2,Février!$A$8:$A$31),$B40+1),1,0) -> #N/A | M40: =OFFSET(INDEX(Mars!$A$8:$AK$31,MATCH($B$2,Mars!$A$8:$A$31),$B40+1),1,0) -> #N/A | Q40: =OFFSET(INDEX(Avril!$A$8:$AK$31,MATCH($B$2,Avril!$A$8:$A$31),$B40+1),1,0) -> #N/A | U40: =OFFSET(INDEX(Mai!$A$8:$AK$31,MATCH($B$2,Mai!$A$8:$A$31),$B40+1),1,0) -> #N/A | Y40: =OFFSET(INDEX(Juin!$A$8:$AK$31,MATCH($B$2,Juin!$A$8:$A$31),$B40+1),1,0) -> #N/A | AC40: =OFFSET(INDEX(Juillet!$A$8:$AK$31,MATCH($B$2,Juillet!$A$8:$A$31),$B40+1),1,0) -> #N/A | AG40: =OFFSET(INDEX(Août!$A$8:$AK$31,MATCH($B$2,Août!$A$8:$A$31),$B40+1),1,0) -> #N/A | AK40: =OFFSET(INDEX(Septembre!$A$8:$AK$31,MATCH($B$2,Septembre!$A$8:$A$31),$B40+1),1,0) -> #N/A | AO40: =OFFSET(INDEX(Octobre!$A$8:$AK$31,MATCH($B$2,Octobre!$A$8:$A$31),$B40+1),1,0) -> #N/A | AS40: =OFFSET(INDEX(Novembre!$A$8:$AK$31,MATCH($B$2,Novembre!$A$8:$A$31),$B40+1),1,0) -> #N/A | AW40: =OFFSET(INDEX(Décembre!$A$8:$AK$31,MATCH($B$2,Décembre!$A$8:$A$31),$B40+1),1,0) -> #N/A

Sheet Listes
B2: =Janvier!A10 -> Infirmieres
B3: =Janvier!A12 -> Anna
B4: =Janvier!A14 -> Catherine
B5: =Janvier!A16 -> Denise
B6: =Janvier!A18 -> Hélène
B7: =Janvier!A20 -> Régine
B8: =Janvier!A22 -> Martine
B9: =Janvier!A24 -> Aides-soignantes
B10: =Janvier!A26 -> Claudia
B11: =Janvier!A28 -> Rachel
B12: =Janvier!A30 -> Sabine

Sheet Janvier
A2: Année
A3: 2021 | B3: =CONCATENATE("Planning prévisionnel de ",MID(CELL("nomfichier",A1),FIND("]",CELL("nomfichier",A1))+1,20)," ",A3) -> Planning prévisionnel de Janvier 2021
A6: =CONCATENATE(A8) -> Janvier | B6: =DATE($A$3,MONTH(1&$A$6),B9) -> 44197 | C6: =DATE($A$3,MONTH(1&$A$6),C9) -> 44198 | D6: =DATE($A$3,MONTH(1&$A$6),D9) -> 44199 | E6: =DATE($A$3,MONTH(1&$A$6),E9) -> 44200 | F6: =DATE($A$3,MONTH(1&$A$6),F9) -> 44201 | G6: =DATE($A$3,MONTH(1&$A$6),G9) -> 44202 | H6: =DATE($A$3,MONTH(1&$A$6),H9) -> 44203 | I6: =DATE($A$3,MONTH(1&$A$6),I9) -> 44204 | ... AF6: =DATE($A$3,MONTH(1&$A$6),AF9) -> 44227
B7: =COUNTIFS(Fériés!$E$5:$E$17,B6) -> 1 | C7: =COUNTIFS(Fériés!$E$5:$E$17,C6) -> 0 | D7: =COUNTIFS(Fériés!$E$5:$E$17,D6) -> 0 | E7: =COUNTIFS(Fériés!$E$5:$E$17,E6) -> 0 | F7: =COUNTIFS(Fériés!$E$5:$E$17,F6) -> 0 | G7: =COUNTIFS(Fériés!$E$5:$E$17,G6) -> 0 | H7: =COUNTIFS(Fériés!$E$5:$E$17,H6) -> 0 | I7: =COUNTIFS(Fériés!$E$5:$E$17,I6) -> 0 | ... AF7: =COUNTIFS(Fériés!$E$5:$E$17,AF6) -> 0
A8: =MID(CELL("nomfichier",A1),FIND("]",CELL("nomfichier",A1))+1,20) -> Janvier | B8: =TEXT(DATE($A$3,MONTH(1&TEXT($A$8,"")),B9),"jjj") -> ven | C8: =TEXT(DATE($A$3,MONTH(1&TEXT($A$8,"")),C9),"jjj") -> sam | D8: =TEXT(DATE($A$3,MONTH(1&TEXT($A$8,"")),D9),"jjj") -> dim | E8: =TEXT(DATE($A$3,MONTH(1&TEXT($A$8,"")),E9),"jjj") -> lun | F8: =TEXT(DATE($A$3,MONTH(1&TEXT($A$8,"")),F9),"jjj") -> mar | G8: =TEXT(DATE($A$3,MONTH(1&TEXT($A$8,"")),G9),"jjj") -> mer | H8: =TEXT(DATE($A$3,MONTH(1&TEXT($A$8,"")),H9),"jjj") -> jeu | I8: =TEXT(DATE($A$3,MONTH(1&TEXT($A$8,"")),I9),"jjj") -> ven | ... AF8: =TEXT(DATE($A$3,MONTH(1&TEXT($A$8,"")),AF9),"jjj") -> dim | AG8: Théoriques | AH8: Réalisées | AI8: Différences | AJ8: Soldes
B9: 1 | C9: =B9+1 -> 2 | D9: =C9+1 -> 3 | E9: =D9+1 -> 4 | F9: =E9+1 -> 5 | G9: =F9+1 -> 6 | H9: =G9+1 -> 7 | I9: =H9+1 -> 8 | J9: =I9+1 -> 9 | ... AF9: =AE9+1 -> 31 | AG9: 140 | AJ9: Ancien | AK9: Nouveau
A10: Infirmieres
A12: Anna | E12: A | G12: A | I12: A | M12: M | N12: M | T12: A | U12: M | W12: A
B13: =IF(B12="A",7.5,IF(B12="M",7.5,IF(OR(B12="C",B12="Mal"),7,""))) | C13: =IF(C12="A",7.5,IF(C12="M",7.5,IF(OR(C12="C",C12="Mal"),7,""))) | D13: =IF(D12="A",7.5,IF(D12="M",7.5,IF(OR(D12="C",D12="Mal"),7,""))) | E13: 7 | F13: =IF(F12="A",7.5,IF(F12="M",7.5,IF(OR(F12="C",F12="Mal"),7,""))) | G13: 7 | H13: =IF(H12="A",7.5,IF(H12="M",7.5,IF(OR(H12="C",H12="Mal"),7,""))) | I13: 7 | J13: =IF(J12="A",7.5,IF(J12="M",7.5,IF(OR(J12="C",J12="Mal"),7,""))) | K13: =IF(K12="A",7.5,IF(K12="M",7.5,IF(OR(K12="C",K12="Mal"),7,""))) | L13: =IF(L12="A",7.5,IF(L12="M",7.5,IF(OR(L12="C",L12="Mal"),7,""))) | M13: 6 | N13: 7.5 | O13: =IF(O12="A",7.5,IF(O12="M",7.5,IF(OR(O12="C",O12="Mal"),7,""))) | P13: =IF(P12="A",7.5,IF(P12="M",7.5,IF(OR(P12="C",P12="Mal"),7,""))) | Q13: =IF(Q12="A",7.5,IF(Q12="M",7.5,IF(OR(Q12="C",Q12="Mal"),7,""))) | R13: =IF(R12="A",7.5,IF(R12="M",7.5,IF(OR(R12="C",R12="Mal"),7,""))) | S13: =IF(S12="A",7.5,IF(S12="M",7.5,IF(OR(S12="C",S12="Mal"),7,""))) | T13: 5 | U13: 5.5 | V13: =IF(V12="A",7.5,IF(V12="M",7.5,IF(OR(V12="C",V12="Mal"),7,""))) | W13: 7 | X13: =IF(X12="A",7.5,IF(X12="M",7.5,IF(OR(X12="C",X12="Mal"),7,""))) | Y13: =IF(Y12="A",7.5,IF(Y12="M",7.5,IF(OR(Y12="C",Y12="Mal"),7,""))) | Z13: 3.5 | AA13: 3.5 | AB13: 3.5 | AC13: 3.5 | AD13: 3.5 | AE13: =IF(AE12="A",7.5,IF(AE12="M",7.5,IF(OR(AE12="C",AE12="Mal"),7,""))) | AF13: =IF(AF12="A",7.5,IF(AF12="M",7.5,IF(OR(AF12="C",AF12="Mal"),7,""))) | AG13: 70 | AH13: =SUM(B13:AF13) -> 69.5 | AI13: =AH13-AG13 -> -0.5 | AJ13: 218.75 | AK13: =AJ13+AI13 -> 218.25
A14: Catherine | B14: M | C14: M | D14: M | E14: M | F14: RH | G14: A | H14: A | I14: A | J14: RH | K14: RH | S14: RH | T14: M | U14: M | V14: M | W14: RH | X14: A | Y14: A | Z14: A | AA14: A | AB14: RH | AC14: RH | AD14: M | AE14: M | AF14: M
B15: =IF(B14="A",7.5,IF(B14="M",7.5,IF(OR(B14="C",B14="Mal"),7,""))) -> 7.5 | C15: =IF(C14="A",7.5,IF(C14="M",7.5,IF(OR(C14="C",C14="Mal"),7,""))) -> 7.5 | D15: =IF(D14="A",7.5,IF(D14="M",7.5,IF(OR(D14="C",D14="Mal"),7,""))) -> 7.5 | E15: =IF(E14="A",7.5,IF(E14="M",7.5,IF(OR(E14="C",E14="Mal"),7,""))) -> 7.5 | F15: =IF(F14="A",7.5,IF(F14="M",7.5,IF(OR(F14="C",F14="Mal"),7,""))) | G15: =IF(G14="A",7.5,IF(G14="M",7.5,IF(OR(G14="C",G14="Mal"),7,""))) -> 7.5 | H15: =IF(H14="A",7.5,IF(H14="M",7.5,IF(OR(H14="C",H14="Mal"),7,""))) -> 7.5 | I15: =IF(I14="A",7.5,IF(I14="M",7.5,IF(OR(I14="C",I14="Mal"),7,""))) -> 7.5 | ... AF15: =IF(AF14="A",7.5,IF(AF14="M",7.5,IF(OR(AF14="C",AF14="Mal"),7,""))) -> 7.5 | AG15: =$AG$9 -> 140 | AH15: =SUM(B15:AF15) -> 127.5 | AI15: =AH15-AG15 -> -12.5 | AJ15: 69.25 | AK15: =AJ15+AI15 -> 56.75
A16: Denise | B16: RH | C16: A | D16: A | E16: RH | G16: M | H16: M | I16: RH | J16: A | K16: A | L16: A | M16: A | N16: RH | O16: RH | P16: M | Q16: M | R16: M | S16: M | T16: RH | U16: A | V16: A | W16: A | X16: RH | Y16: RH
B17: =IF(B16="A",7.5,IF(B16="M",7.5,IF(OR(B16="C",B16="Mal"),7,""))) | C17: =IF(C16="A",7.5,IF(C16="M",7.5,IF(OR(C16="C",C16="Mal"),7,""))) -> 7.5 | D17: =IF(D16="A",7.5,IF(D16="M",7.5,IF(OR(D16="C",D16="Mal"),7,""))) -> 7.5 | E17: =IF(E16="A",7.5,IF(E16="M",7.5,IF(OR(E16="C",E16="Mal"),7,""))) | F17: =IF(F16="A",7.5,IF(F16="M",7.5,IF(OR(F16="C",F16="Mal"),7,""))) | G17: =IF(G16="A",7.5,IF(G16="M",7.5,IF(OR(G16="C",G16="Mal"),7,""))) -> 7.5 | H17: =IF(H16="A",7.5,IF(H16="M",7.5,IF(OR(H16="C",H16="Mal"),7,""))) -> 7.5 | I17: =IF(I16="A",7.5,IF(I16="M",7.5,IF(OR(I16="C",I16="Mal"),7,""))) | ... AF17: =IF(AF16="A",7.5,IF(AF16="M",7.5,IF(OR(AF16="C",AF16="Mal"),7,""))) | AG17: =$AG$9 -> 140 | AH17: =SUM(B17:AF17) -> 112.5 | AI17: =AH17-AG17 -> -27.5 | AJ17: 74.25 | AK17: =AJ17+AI17 -> 46.75
A18: Hélène | B18: A | C18: RH | D18: RH | F18: A | L18: RH | M18: M | N18: M | O18: M | P18: RH | Q18: A | R18: A | S18: A | T18: A | U18: RH | V18: RH | W18: M | X18: M | Y18: M | Z18: M | AA18: RH | AB18: A | AC18: A | AD18: A | AE18: RH | AF18: RH
B19: =IF(B18="A",7.5,IF(B18="M",7.5,IF(OR(B18="C",B18="Mal"),7,""))) -> 7.5 | C19: =IF(C18="A",7.5,IF(C18="M",7.5,IF(OR(C18="C",C18="Mal"),7,""))) | D19: =IF(D18="A",7.5,IF(D18="M",7.5,IF(OR(D18="C",D18="Mal"),7,""))) | E19: =IF(E18="A",7.5,IF(E18="M",7.5,IF(OR(E18="C",E18="Mal"),7,""))) | F19: =IF(F18="A",7.5,IF(F18="M",7.5,IF(OR(F18="C",F18="Mal"),7,""))) -> 7.5 | G19: =IF(G18="A",7.5,IF(G18="M",7.5,IF(OR(G18="C",G18="Mal"),7,""))) | H19: =IF(H18="A",7.5,IF(H18="M",7.5,IF(OR(H18="C",H18="Mal"),7,""))) | I19: =IF(I18="A",7.5,IF(I18="M",7.5,IF(OR(I18="C",I18="Mal"),7,""))) | ... AF19: =IF(AF18="A",7.5,IF(AF18="M",7.5,IF(OR(AF18="C",AF18="Mal"),7,""))) | AG19: =$AG$9 -> 140 | AH19: =SUM(B19:AF19) -> 120 | AI19: =AH19-AG19 -> -20 | AJ19: 126.75 | AK19: =AJ19+AI19 -> 106.75
A20: Régine | C20: A | D20: A | E20: A | F20: M | G20: RH | H20: RH | I20: M | J20: M | K20: M | L20: M | M20: RH | N20: C | O20: C | P20: C | Q20: RH | R20: RH | S20: A | T20: A | W20: M | Z20: RH | AA20: M | AB20: M | AC20: M | AD20: RH | AE20: A | AF20: A
B21: =IF(B20="A",7.5,IF(B20="M",7.5,IF(OR(B20="C",B20="Mal"),7,""))) | C21: =IF(C20="A",7.5,IF(C20="M",7.5,IF(OR(C20="C",C20="Mal"),7,""))) -> 7.5 | D21: =IF(D20="A",7.5,IF(D20="M",7.5,IF(OR(D20="C",D20="Mal"),7,""))) -> 7.5 | E21: =IF(E20="A",7.5,IF(E20="M",7.5,IF(OR(E20="C",E20="Mal"),7,""))) -> 7.5 | F21: =IF(F20="A",7.5,IF(F20="M",7.5,IF(OR(F20="C",F20="Mal"),7,""))) -> 7.5 | G21: =IF(G20="A",7.5,IF(G20="M",7.5,IF(OR(G20="C",G20="Mal"),7,""))) | H21: =IF(H20="A",7.5,IF(H20="M",7.5,IF(OR(H20="C",H20="Mal"),7,""))) | I21: =IF(I20="A",7.5,IF(I20="M",7.5,IF(OR(I20="C",I20="Mal"),7,""))) -> 7.5 | ... AF21: =IF(AF20="A",7.5,IF(AF20="M",7.5,IF(OR(AF20="C",AF20="Mal"),7,""))) -> 7.5 | AG21: =$AG$9 -> 140 | AH21: =SUM(B21:AF21) -> 141 | AI21: =AH21-AG21 -> 1 | AJ21: 20.5 | AK21: =AJ21+AI21 -> 21.5
A22: Martine | E22: MAL | F22: MAL | G22: MAL | H22: MAL | I22: MAL | L22: MAL | M22: MAL | N22: MAL | O22: MAL | P22: MAL | S22: MAL | T22: MAL | U22: MAL | V22: MAL | W22: MAL | Z22: MAL | AA22: MAL | AB22: MAL | AC22: MAL | AD22: MAL
B23: =IF(B22="A",7.5,IF(B22="M",7.5,IF(OR(B22="C",B22="Mal"),7,""))) | C23: =IF(C22="A",7.5,IF(C22="M",7.5,IF(OR(C22="C",C22="Mal"),7,""))) | D23: =IF(D22="A",7.5,IF(D22="M",7.5,IF(OR(D22="C",D22="Mal"),7,""))) | E23: =IF(E22="A",7.5,IF(E22="M",7.5,IF(OR(E22="C",E22="Mal"),7,""))) -> 7 | F23: =IF(F22="A",7.5,IF(F22="M",7.5,IF(OR(F22="C",F22="Mal"),7,""))) -> 7 | G23: =IF(G22="A",7.5,IF(G22="M",7.5,IF(OR(G22="C",G22="Mal"),7,""))) -> 7 | H23: =IF(H22="A",7.5,IF(H22="M",7.5,IF(OR(H22="C",H22="Mal"),7,""))) -> 7 | I23: =IF(I22="A",7.5,IF(I22="M",7.5,IF(OR(I22="C",I22="Mal"),7,""))) -> 7 | ... AF23: =IF(AF22="A",7.5,IF(AF22="M",7.5,IF(OR(AF22="C",AF22="Mal"),7,""))) | AG23: =$AG$9 -> 140 | AH23: =SUM(B23:AF23) -> 140 | AI23: =AH23-AG23 -> 0 | AJ23: 477.25 | AK23: =AJ23+AI23 -> 477.25
A24: Aides-soignantes
A26: Claudia | F26: J | J26: J | K26: J | N26: J | O26: J | T26: J | W26: J | Z26: J | AE26: J | AF26: J
B27: =IF(B26="J",12,(IF(B26="A",7.5,IF(B26="M",7.5,IF(OR(B26="C",B26="Mal"),7,""))))) | C27: =IF(C26="J",12,(IF(C26="A",7.5,IF(C26="M",7.5,IF(OR(C26="C",C26="Mal"),7,""))))) | D27: =IF(D26="J",12,(IF(D26="A",7.5,IF(D26="M",7.5,IF(OR(D26="C",D26="Mal"),7,""))))) | E27: 7 | F27: =IF(F26="J",12,(IF(F26="A",7.5,IF(F26="M",7.5,IF(OR(F26="C",F26="Mal"),7,""))))) -> 12 | G27: =IF(G26="J",12,(IF(G26="A",7.5,IF(G26="M",7.5,IF(OR(G26="C",G26="Mal"),7,""))))) | H27: =IF(H26="J",12,(IF(H26="A",7.5,IF(H26="M",7.5,IF(OR(H26="C",H26="Mal"),7,""))))) | I27: =IF(I26="J",12,(IF(I26="A",7.5,IF(I26="M",7.5,IF(OR(I26="C",I26="Mal"),7,""))))) | J27: =IF(J26="J",12,(IF(J26="A",7.5,IF(J26="M",7.5,IF(OR(J26="C",J26="Mal"),7,""))))) -> 12 | K27: =IF(K26="J",12,(IF(K26="A",7.5,IF(K26="M",7.5,IF(OR(K26="C",K26="Mal"),7,""))))) -> 12 | M27: =IF(M26="J",12,(IF(M26="A",7.5,IF(M26="M",7.5,IF(OR(M26="C",M26="Mal"),7,""))))) | N27: =IF(N26="J",12,(IF(N26="A",7.5,IF(N26="M",7.5,IF(OR(N26="C",N26="Mal"),7,""))))) -> 12 | O27: =IF(O26="J",12,(IF(O26="A",7.5,IF(O26="M",7.5,IF(OR(O26="C",O26="Mal"),7,""))))) -> 12 | P27: =IF(P26="J",12,(IF(P26="A",7.5,IF(P26="M",7.5,IF(OR(P26="C",P26="Mal"),7,""))))) | Q27: =IF(Q26="J",12,(IF(Q26="A",7.5,IF(Q26="M",7.5,IF(OR(Q26="C",Q26="Mal"),7,""))))) | R27: =IF(R26="J",12,(IF(R26="A",7.5,IF(R26="M",7.5,IF(OR(R26="C",R26="Mal"),7,""))))) | S27: 7 | T27: =IF(T26="J",12,(IF(T26="A",7.5,IF(T26="M",7.5,IF(OR(T26="C",T26="Mal"),7,""))))) -> 12 | U27: =IF(U26="J",12,(IF(U26="A",7.5,IF(U26="M",7.5,IF(OR(U26="C",U26="Mal"),7,""))))) | V27: =IF(V26="J",12,(IF(V26="A",7.5,IF(V26="M",7.5,IF(OR(V26="C",V26="Mal"),7,""))))) | W27: =IF(W26="J",12,(IF(W26="A",7.5,IF(W26="M",7.5,IF(OR(W26="C",W26="Mal"),7,""))))) -> 12 | X27: =IF(X26="J",12,(IF(X26="A",7.5,IF(X26="M",7.5,IF(OR(X26="C",X26="Mal"),7,""))))) | Y27: =IF(Y26="J",12,(IF(Y26="A",7.5,IF(Y26="M",7.5,IF(OR(Y26="C",Y26="Mal"),7,""))))) | Z27: =IF(Z26="J",12,(IF(Z26="A",7.5,IF(Z26="M",7.5,IF(OR(Z26="C",Z26="Mal"),7,""))))) -> 12 | AA27: 7 | AB27: =IF(AB26="J",12,(IF(AB26="A",7.5,IF(AB26="M",7.5,IF(OR(AB26="C",AB26="Mal"),7,""))))) | AC27: =IF(AC26="J",12,(IF(AC26="A",7.5,IF(AC26="M",7.5,IF(OR(AC26="C",AC26="Mal"),7,""))))) | AD27: =IF(AD26="J",12,(IF(AD26="A",7.5,IF(AD26="M",7.5,IF(OR(AD26="C",AD26="Mal"),7,""))))) | AE27: =IF(AE26="J",12,(IF(AE26="A",7.5,IF(AE26="M",7.5,IF(OR(AE26="C",AE26="Mal"),7,""))))) -> 12 | AF27: =IF(AF26="J",12,(IF(AF26="A",7.5,IF(AF26="M",7.5,IF(OR(AF26="C",AF26="Mal"),7,""))))) -> 12 | AG27: =$AG$9 -> 140 | AH27: =SUM(B27:AF27) -> 141 | AI27: =AH27-AG27 -> 1 | AJ27: 62.25 | AK27: =AJ27+AI27 -> 63.25
A28: Rachel | C28: J | D28: J | G28: J | I28: J | L28: C | P28: J | S28: J | U28: J | V28: J | AA28: J | AD28: j
B29: =IF(B28="J",12,(IF(B28="A",7.5,IF(B28="M",7.5,IF(OR(B28="C",B28="Mal"),7,""))))) | C29: =IF(C28="J",12,(IF(C28="A",7.5,IF(C28="M",7.5,IF(OR(C28="C",C28="Mal"),7,""))))) -> 12 | D29: =IF(D28="J",12,(IF(D28="A",7.5,IF(D28="M",7.5,IF(OR(D28="C",D28="Mal"),7,""))))) -> 12 | E29: =IF(E28="J",12,(IF(E28="A",7.5,IF(E28="M",7.5,IF(OR(E28="C",E28="Mal"),7,""))))) | F29: =IF(F28="J",12,(IF(F28="A",7.5,IF(F28="M",7.5,IF(OR(F28="C",F28="Mal"),7,""))))) | G29: =IF(G28="J",12,(IF(G28="A",7.5,IF(G28="M",7.5,IF(OR(G28="C",G28="Mal"),7,""))))) -> 12 | H29: =IF(H28="J",12,(IF(H28="A",7.5,IF(H28="M",7.5,IF(OR(H28="C",H28="Mal"),7,""))))) | I29: =IF(I28="J",12,(IF(I28="A",7.5,IF(I28="M",7.5,IF(OR(I28="C",I28="Mal"),7,""))))) -> 12 | ... N29: =IF(N28="J",12,(IF(N28="A",7.5,IF(N28="M",7.5,IF(OR(N28="C",N28="Mal"),7,""))))) | O29: 7 | P29: =IF(P28="J",12,(IF(P28="A",7.5,IF(P28="M",7.5,IF(OR(P28="C",P28="Mal"),7,""))))) -> 12 | Q29: =IF(Q28="J",12,(IF(Q28="A",7.5,IF(Q28="M",7.5,IF(OR(Q28="C",Q28="Mal"),7,""))))) | R29: =IF(R28="J",12,(IF(R28="A",7.5,IF(R28="M",7.5,IF(OR(R28="C",R28="Mal"),7,""))))) | S29: =IF(S28="J",12,(IF(S28="A",7.5,IF(S28="M",7.5,IF(OR(S28="C",S28="Mal"),7,""))))) -> 12 | T29: =IF(T28="J",12,(IF(T28="A",7.5,IF(T28="M",7.5,IF(OR(T28="C",T28="Mal"),7,""))))) | U29: =IF(U28="J",12,(IF(U28="A",7.5,IF(U28="M",7.5,IF(OR(U28="C",U28="Mal"),7,""))))) -> 12 | V29: =IF(V28="J",12,(IF(V28="A",7.5,IF(V28="M",7.5,IF(OR(V28="C",V28="Mal"),7,""))))) -> 12 | W29: =IF(W28="J",12,(IF(W28="A",7.5,IF(W28="M",7.5,IF(OR(W28="C",W28="Mal"),7,""))))) | ... AF29: =IF(AF28="J",12,(IF(AF28="A",7.5,IF(AF28="M",7.5,IF(OR(AF28="C",AF28="Mal"),7,""))))) | AG29: =$AG$9 -> 140 | AH29: =SUM(B29:AF29) -> 134 | AI29: =AH29-AG29 -> -6 | AJ29: 34.25 | AK29: =AJ29+AI29 -> 28.25
A30: Sabine | B30: J | E30: J | H30: J | L30: J | M30: J | Q30: J | R30: J | X30: J | Y30: J | AB30: J | AC30: J
B31: =IF(B30="J",12,(IF(B30="A",7.5,IF(B30="M",7.5,IF(OR(B30="C",B30="Mal"),7,""))))) -> 12 | C31: =IF(C30="J",12,(IF(C30="A",7.5,IF(C30="M",7.5,IF(OR(C30="C",C30="Mal"),7,""))))) | D31: =IF(D30="J",12,(IF(D30="A",7.5,IF(D30="M",7.5,IF(OR(D30="C",D30="Mal"),7,""))))) | E31: =IF(E30="J",12,(IF(E30="A",7.5,IF(E30="M",7.5,IF(OR(E30="C",E30="Mal"),7,""))))) -> 12 | F31: =IF(F30="J",12,(IF(F30="A",7.5,IF(F30="M",7.5,IF(OR(F30="C",F30="Mal"),7,""))))) | G31: 7 | H31: =IF(H30="J",12,(IF(H30="A",7.5,IF(H30="M",7.5,IF(OR(H30="C",H30="Mal"),7,""))))) -> 12 | I31: =IF(I30="J",12,(IF(I30="A",7.5,IF(I30="M",7.5,IF(OR(I30="C",I30="Mal"),7,""))))) | J31: =IF(J30="J",12,(IF(J30="A",7.5,IF(J30="M",7.5,IF(OR(J30="C",J30="Mal"),7,""))))) | K31: =IF(K30="J",12,(IF(K30="A",7.5,IF(K30="M",7.5,IF(OR(K30="C",K30="Mal"),7,""))))) | L31: =IF(L30="J",12,(IF(L30="A",7.5,IF(L30="M",7.5,IF(OR(L30="C",L30="Mal"),7,""))))) -> 12 | M31: =IF(M30="J",12,(IF(M30="A",7.5,IF(M30="M",7.5,IF(OR(M30="C",M30="Mal"),7,""))))) -> 12 | N31: =IF(N30="J",12,(IF(N30="A",7.5,IF(N30="M",7.5,IF(OR(N30="C",N30="Mal"),7,""))))) | O31: =IF(O30="J",12,(IF(O30="A",7.5,IF(O30="M",7.5,IF(OR(O30="C",O30="Mal"),7,""))))) | ... V31: =IF(V30="J",12,(IF(V30="A",7.5,IF(V30="M",7.5,IF(OR(V30="C",V30="Mal"),7,""))))) | W31: 7 | X31: =IF(X30="J",12,(IF(X30="A",7.5,IF(X30="M",7.5,IF(OR(X30="C",X30="Mal"),7,""))))) -> 12 | Y31: =IF(Y30="J",12,(IF(Y30="A",7.5,IF(Y30="M",7.5,IF(OR(Y30="C",Y30="Mal"),7,""))))) -> 12 | Z31: =IF(Z30="J",12,(IF(Z30="A",7.5,IF(Z30="M",7.5,IF(OR(Z30="C",Z30="Mal"),7,""))))) | AA31: =IF(AA30="J",12,(IF(AA30="A",7.5,IF(AA30="M",7.5,IF(OR(AA30="C",AA30="Mal"),7,""))))) | AB31: =IF(AB30="J",12,(IF(AB30="A",7.5,IF(AB30="M",7.5,IF(OR(AB30="C",AB30="Mal"),7,""))))) -> 12 | AC31: =IF(AC30="J",12,(IF(AC30="A",7.5,IF(AC30="M",7.5,IF(OR(AC30="C",AC30="Mal"),7,""))))) -> 12 | AD31: =IF(AD30="J",12,(IF(AD30="A",7.5,IF(AD30="M",7.5,IF(OR(AD30="C",AD30="Mal"),7,""))))) | AE31: =IF(AE30="J",12,(IF(AE30="A",7.5,IF(AE30="M",7.5,IF(OR(AE30="C",AE30="Mal"),7,""))))) | AF31: =IF(AF30="J",12,(IF(AF30="A",7.5,IF(AF30="M",7.5,IF(OR(AF30="C",AF30="Mal"),7,""))))) | AG31: =$AG$9 -> 140 | AH31: =SUM(B31:AF31) -> 146 | AI31: =AH31-AG31 -> 6 | AJ31: -14.5 | AK31: =AJ31+AI31 -> -8.5

Sheet Février
A2: =Janvier!A2 -> Année
A3: =Janvier!A3 -> 2021 | B3: Planning prévisionnel de Février 2021
A6: =CONCATENATE(A8) -> Février | B6: =DATE($A$3,MONTH(1&$A$6),B9) -> 44228 | C6: =DATE($A$3,MONTH(1&$A$6),C9) -> 44229 | D6: =DATE($A$3,MONTH(1&$A$6),D9) -> 44230 | E6: =DATE($A$3,MONTH(1&$A$6),E9) -> 44231 | F6: =DATE($A$3,MONTH(1&$A$6),F9) -> 44232 | G6: =DATE($A$3,MONTH(1&$A$6),G9) -> 44233 | H6: =DATE($A$3,MONTH(1&$A$6),H9) -> 44234 | I6: =DATE($A$3,MONTH(1&$A$6),I9) -> 44235 | ... AF6: =DATE($A$3,MONTH(1&$A$6),AF9) -> 44227
B7: =COUNTIFS(Fériés!$E$5:$E$17,B6) -> 0 | C7: =COUNTIFS(Fériés!$E$5:$E$17,C6) -> 0 | D7: =COUNTIFS(Fériés!$E$5:$E$17,D6) -> 0 | E7: =COUNTIFS(Fériés!$E$5:$E$17,E6) -> 0 | F7: =COUNTIFS(Fériés!$E$5:$E$17,F6) -> 0 | G7: =COUNTIFS(Fériés!$E$5:$E$17,G6) -> 0 | H7: =COUNTIFS(Fériés!$E$5:$E$17,H6) -> 0 | I7: =COUNTIFS(Fériés!$E$5:$E$17,I6) -> 0 | ... AF7: =COUNTIFS(Fériés!$E$5:$E$17,AF6) -> 0
A8: =MID(CELL("nomfichier",A1),FIND("]",CELL("nomfichier",A1))+1,20) -> Février | B8: =TEXT(DATE($A$3,MONTH(1&TEXT($A$8,"")),B9),"jjj") -> lun | C8: =TEXT(DATE($A$3,MONTH(1&TEXT($A$8,"")),C9),"jjj") -> mar | D8: =TEXT(DATE($A$3,MONTH(1&TEXT($A$8,"")),D9),"jjj") -> mer | E8: =TEXT(DATE($A$3,MONTH(1&TEXT($A$8,"")),E9),"jjj") -> jeu | F8: =TEXT(DATE($A$3,MONTH(1&TEXT($A$8,"")),F9),"jjj") -> ven | G8: =TEXT(DATE($A$3,MONTH(1&TEXT($A$8,"")),G9),"jjj") -> sam | H8: =TEXT(DATE($A$3,MONTH(1&TEXT($A$8,"")),H9),"jjj") -> dim | I8: =TEXT(DATE($A$3,MONTH(1&TEXT($A$8,"")),I9),"jjj") -> lun | ... AC8: =TEXT(DATE($A$3,MONTH(1&TEXT($A$8,"")),AC9),"jjj") -> dim | AG8: Théoriques | AH8: Réalisées | AI8: Différences | AJ8: Soldes
B9: 1 | C9: =B9+1 -> 2 | D9: =C9+1 -> 3 | E9: =D9+1 -> 4 | F9: =E9+1 -> 5 | G9: =F9+1 -> 6 | H9: =G9+1 -> 7 | I9: =H9+1 -> 8 | J9: =I9+1 -> 9 | ... AC9: =AB9+1 -> 28 | AG9: 140 | AJ9: Ancien | AK9: Nouveau
A10: Infirmieres
A12: Anna | C12: A | D12: A | E12: A | J12: M | K12: M | R12: A | S12: A | T12: A | Z12: M | AA12: M
B13: =IF(B12="A",7.5,IF(B12="M",7.5,IF(OR(B12="C",B12="Mal"),7,""))) | C13: 7 | D13: 7 | E13: 7 | F13: =IF(F12="A",7.5,IF(F12="M",7.5,IF(OR(F12="C",F12="Mal"),7,""))) | G13: =IF(G12="A",7.5,IF(G12="M",7.5,IF(OR(G12="C",G12="Mal"),7,""))) | H13: =IF(H12="A",7.5,IF(H12="M",7.5,IF(OR(H12="C",H12="Mal"),7,""))) | I13: =IF(I12="A",7.5,IF(I12="M",7.5,IF(OR(I12="C",I12="Mal"),7,""))) | J13: 7 | K13: 7 | L13: =IF(L12="A",7.5,IF(L12="M",7.5,IF(OR(L12="C",L12="Mal"),7,""))) | M13: =IF(M12="A",7.5,IF(M12="M",7.5,IF(OR(M12="C",M12="Mal"),7,""))) | N13: =IF(N12="A",7.5,IF(N12="M",7.5,IF(OR(N12="C",N12="Mal"),7,""))) | O13: =IF(O12="A",7.5,IF(O12="M",7.5,IF(OR(O12="C",O12="Mal"),7,""))) | P13: =IF(P12="A",7.5,IF(P12="M",7.5,IF(OR(P12="C",P12="Mal"),7,""))) | Q13: =IF(Q12="A",7.5,IF(Q12="M",7.5,IF(OR(Q12="C",Q12="Mal"),7,""))) | R13: 7 | S13: 7 | T13: 7 | U13: =IF(U12="A",7.5,IF(U12="M",7.5,IF(OR(U12="C",U12="Mal"),7,""))) | V13: =IF(V12="A",7.5,IF(V12="M",7.5,IF(OR(V12="C",V12="Mal"),7,""))) | W13: =IF(W12="A",7.5,IF(W12="M",7.5,IF(OR(W12="C",W12="Mal"),7,""))) | X13: =IF(X12="A",7.5,IF(X12="M",7.5,IF(OR(X12="C",X12="Mal"),7,""))) | Y13: =IF(Y12="A",7.5,IF(Y12="M",7.5,IF(OR(Y12="C",Y12="Mal"),7,""))) | Z13: 7 | AA13: 7 | AB13: =IF(AB12="A",7.5,IF(AB12="M",7.5,IF(OR(AB12="C",AB12="Mal"),7,""))) | AC13: =IF(AC12="A",7.5,IF(AC12="M",7.5,IF(OR(AC12="C",AC12="Mal"),7,""))) | AD13: =IF(AD12="A",7.5,IF(AD12="M",7.5,IF(OR(AD12="C",AD12="Mal"),7,""))) | AE13: =IF(AE12="A",7.5,IF(AE12="M",7.5,IF(OR(AE12="C",AE12="Mal"),7,""))) | AF13: =IF(AF12="A",7.5,IF(AF12="M",7.5,IF(OR(AF12="C",AF12="Mal"),7,""))) | AG13: =$AG$9 -> 140 | AH13: =SUM(B13:AF13) -> 70 | AI13: =AH13-AG13 -> -70 | AJ13: =Janvier!AK13 -> 218.25 | AK13: =AJ13+AI13 -> 148.25
A14: Catherine | B14: M | C14: RH | D14: A | E14: A | F14: A | G14: RH | H14: RH | P14: RH | Q14: M | R14: M | S14: M | T14: RH | U14: A | V14: A | W14: A | X14: A | Y14: RH | Z14: RH | AA14: M | AB14: M | AC14: M
B15: =IF(B14="A",7.5,IF(B14="M",7.5,IF(OR(B14="C",B14="Mal"),7,""))) -> 7.5 | C15: =IF(C14="A",7.5,IF(C14="M",7.5,IF(OR(C14="C",C14="Mal"),7,""))) | D15: =IF(D14="A",7.5,IF(D14="M",7.5,IF(OR(D14="C",D14="Mal"),7,""))) -> 7.5 | E15: =IF(E14="A",7.5,IF(E14="M",7.5,IF(OR(E14="C",E14="Mal"),7,""))) -> 7.5 | F15: =IF(F14="A",7.5,IF(F14="M",7.5,IF(OR(F14="C",F14="Mal"),7,""))) -> 7.5 | G15: =IF(G14="A",7.5,IF(G14="M",7.5,IF(OR(G14="C",G14="Mal"),7,""))) | H15: =IF(H14="A",7.5,IF(H14="M",7.5,IF(OR(H14="C",H14="Mal"),7,""))) | I15: =IF(I14="A",7.5,IF(I14="M",7.5,IF(OR(I14="C",I14="Mal"),7,""))) | ... AF15: =IF(AF14="A",7.5,IF(AF14="M",7.5,IF(OR(AF14="C",AF14="Mal"),7,""))) | AG15: =$AG$9 -> 140 | AH15: =SUM(B15:AF15) -> 105 | AI15: =AH15-AG15 -> -35 | AJ15: =Janvier!AK15 -> 56.75 | AK15: =AJ15+AI15 -> 21.75
A16: Denise | B16: RH | C16: M | D16: M | E16: M | F16: RH | G16: A | H16: A | I16: A | J16: A | K16: RH | L16: RH | M16: M | N16: M | O16: M | P16: M | Q16: RH | R16: A | S16: A | T16: A | U16: RH | V16: RH
B17: =IF(B16="A",7.5,IF(B16="M",7.5,IF(OR(B16="C",B16="Mal"),7,""))) | C17: =IF(C16="A",7.5,IF(C16="M",7.5,IF(OR(C16="C",C16="Mal"),7,""))) -> 7.5 | D17: =IF(D16="A",7.5,IF(D16="M",7.5,IF(OR(D16="C",D16="Mal"),7,""))) -> 7.5 | E17: =IF(E16="A",7.5,IF(E16="M",7.5,IF(OR(E16="C",E16="Mal"),7,""))) -> 7.5 | F17: =IF(F16="A",7.5,IF(F16="M",7.5,IF(OR(F16="C",F16="Mal"),7,""))) | G17: =IF(G16="A",7.5,IF(G16="M",7.5,IF(OR(G16="C",G16="Mal"),7,""))) -> 7.5 | H17: =IF(H16="A",7.5,IF(H16="M",7.5,IF(OR(H16="C",H16="Mal"),7,""))) -> 7.5 | I17: =IF(I16="A",7.5,IF(I16="M",7.5,IF(OR(I16="C",I16="Mal"),7,""))) -> 7.5 | ... AF17: =IF(AF16="A",7.5,IF(AF16="M",7.5,IF(OR(AF16="C",AF16="Mal"),7,""))) | AG17: =$AG$9 -> 140 | AH17: =SUM(B17:AF17) -> 105 | AI17: =AH17-AG17 -> -35 | AJ17: =Janvier!AK17 -> 46.75 | AK17: =AJ17+AI17 -> 11.75
A18: Hélène | I18: RH | J18: M | K18: M | L18: M | M18: RH | N18: A | O18: A | P18: A | Q18: A | R18: RH | S18: RH | T18: M | U18: M | V18: M | W18: M | X18: RH | Y18: A | Z18: A | AA18: A | AB18: RH | AC18: RH
B19: =IF(B18="A",7.5,IF(B18="M",7.5,IF(OR(B18="C",B18="Mal"),7,""))) | C19: =IF(C18="A",7.5,IF(C18="M",7.5,IF(OR(C18="C",C18="Mal"),7,""))) | D19: =IF(D18="A",7.5,IF(D18="M",7.5,IF(OR(D18="C",D18="Mal"),7,""))) | E19: =IF(E18="A",7.5,IF(E18="M",7.5,IF(OR(E18="C",E18="Mal"),7,""))) | F19: =IF(F18="A",7.5,IF(F18="M",7.5,IF(OR(F18="C",F18="Mal"),7,""))) | G19: =IF(G18="A",7.5,IF(G18="M",7.5,IF(OR(G18="C",G18="Mal"),7,""))) | H19: =IF(H18="A",7.5,IF(H18="M",7.5,IF(OR(H18="C",H18="Mal"),7,""))) | I19: =IF(I18="A",7.5,IF(I18="M",7.5,IF(OR(I18="C",I18="Mal"),7,""))) | ... AF19: =IF(AF18="A",7.5,IF(AF18="M",7.5,IF(OR(AF18="C",AF18="Mal"),7,""))) | AG19: =$AG$9 -> 140 | AH19: =SUM(B19:AF19) -> 105 | AI19: =AH19-AG19 -> -35 | AJ19: =Janvier!AK19 -> 106.75 | AK19: =AJ19+AI19 -> 71.75
A20: Régine | B20: A | C20: A | D20: RH | E20: RH | F20: M | G20: M | H20: M | I20: M | J20: RH | K20: A | L20: A | M20: A | N20: RH | O20: RH | R20: M | W20: RH | X20: M | Y20: M | Z20: M | AA20: RH | AB20: A | AC20: A
B21: =IF(B20="A",7.5,IF(B20="M",7.5,IF(OR(B20="C",B20="Mal"),7,""))) -> 7.5 | C21: =IF(C20="A",7.5,IF(C20="M",7.5,IF(OR(C20="C",C20="Mal"),7,""))) -> 7.5 | D21: =IF(D20="A",7.5,IF(D20="M",7.5,IF(OR(D20="C",D20="Mal"),7,""))) | E21: =IF(E20="A",7.5,IF(E20="M",7.5,IF(OR(E20="C",E20="Mal"),7,""))) | F21: =IF(F20="A",7.5,IF(F20="M",7.5,IF(OR(F20="C",F20="Mal"),7,""))) -> 7.5 | G21: =IF(G20="A",7.5,IF(G20="M",7.5,IF(OR(G20="C",G20="Mal"),7,""))) -> 7.5 | H21: =IF(H20="A",7.5,IF(H20="M",7.5,IF(OR(H20="C",H20="Mal"),7,""))) -> 7.5 | I21: =IF(I20="A",7.5,IF(I20="M",7.5,IF(OR(I20="C",I20="Mal"),7,""))) -> 7.5 | ... AF21: =IF(AF20="A",7.5,IF(AF20="M",7.5,IF(OR(AF20="C",AF20="Mal"),7,""))) | AG21: =$AG$9 -> 140 | AH21: =SUM(B21:AF21) -> 112.5 | AI21: =AH21-AG21 -> -27.5 | AJ21: =Janvier!AK21 -> 21.5 | AK21: =AJ21+AI21 -> -6
A22: Martine | B22: MAL | C22: MAL | D22: MAL | E22: MAL | F22: MAL | I22: MAL | J22: MAL | K22: MAL | L22: MAL | M22: MAL | P22: MAL | Q22: MAL | R22: MAL | S22: MAL | T22: MAL | W22: MAL | X22: MAL | Y22: MAL | Z22: MAL | AA22: MAL
B23: =IF(B22="A",7.5,IF(B22="M",7.5,IF(OR(B22="C",B22="Mal"),7,""))) -> 7 | C23: =IF(C22="A",7.5,IF(C22="M",7.5,IF(OR(C22="C",C22="Mal"),7,""))) -> 7 | D23: =IF(D22="A",7.5,IF(D22="M",7.5,IF(OR(D22="C",D22="Mal"),7,""))) -> 7 | E23: =IF(E22="A",7.5,IF(E22="M",7.5,IF(OR(E22="C",E22="Mal"),7,""))) -> 7 | F23: =IF(F22="A",7.5,IF(F22="M",7.5,IF(OR(F22="C",F22="Mal"),7,""))) -> 7 | G23: =IF(G22="A",7.5,IF(G22="M",7.5,IF(OR(G22="C",G22="Mal"),7,""))) | H23: =IF(H22="A",7.5,IF(H22="M",7.5,IF(OR(H22="C",H22="Mal"),7,""))) | I23: =IF(I22="A",7.5,IF(I22="M",7.5,IF(OR(I22="C",I22="Mal"),7,""))) -> 7 | ... AF23: =IF(AF22="A",7.5,IF(AF22="M",7.5,IF(OR(AF22="C",AF22="Mal"),7,""))) | AG23: =$AG$9 -> 140 | AH23: =SUM(B23:AF23) -> 140 | AI23: =AH23-AG23 -> 0 | AJ23: =Janvier!AK23 -> 477.25 | AK23: =AJ23+AI23 -> 477.25
A24: Aides-soignantes
A26: Claudia | D26: J | E26: J | J26: J | M26: J | P26: J | U26: J | V26: J | Y26: J | Z26: J
B27: =IF(B26="J",12,(IF(B26="A",7.5,IF(B26="M",7.5,IF(B26="C",7,""))))) | C27: =IF(C26="J",12,(IF(C26="A",7.5,IF(C26="M",7.5,IF(C26="C",7,""))))) | D27: =IF(D26="J",12,(IF(D26="A",7.5,IF(D26="M",7.5,IF(D26="C",7,""))))) -> 12 | E27: =IF(E26="J",12,(IF(E26="A",7.5,IF(E26="M",7.5,IF(E26="C",7,""))))) -> 12 | F27: =IF(F26="J",12,(IF(F26="A",7.5,IF(F26="M",7.5,IF(F26="C",7,""))))) | G27: =IF(G26="J",12,(IF(G26="A",7.5,IF(G26="M",7.5,IF(G26="C",7,""))))) | H27: =IF(H26="J",12,(IF(H26="A",7.5,IF(H26="M",7.5,IF(H26="C",7,""))))) | I27: 7 | J27: =IF(J26="J",12,(IF(J26="A",7.5,IF(J26="M",7.5,IF(J26="C",7,""))))) -> 12 | K27: =IF(K26="J",12,(IF(K26="A",7.5,IF(K26="M",7.5,IF(K26="C",7,""))))) | L27: =IF(L26="J",12,(IF(L26="A",7.5,IF(L26="M",7.5,IF(L26="C",7,""))))) | M27: =IF(M26="J",12,(IF(M26="A",7.5,IF(M26="M",7.5,IF(M26="C",7,""))))) -> 12 | N27: =IF(N26="J",12,(IF(N26="A",7.5,IF(N26="M",7.5,IF(N26="C",7,""))))) | O27: =IF(O26="J",12,(IF(O26="A",7.5,IF(O26="M",7.5,IF(O26="C",7,""))))) | P27: =IF(P26="J",12,(IF(P26="A",7.5,IF(P26="M",7.5,IF(P26="C",7,""))))) -> 12 | Q27: =IF(Q26="J",12,(IF(Q26="A",7.5,IF(Q26="M",7.5,IF(Q26="C",7,""))))) | R27: 7 | S27: 7 | T27: =IF(T26="J",12,(IF(T26="A",7.5,IF(T26="M",7.5,IF(T26="C",7,""))))) | U27: =IF(U26="J",12,(IF(U26="A",7.5,IF(U26="M",7.5,IF(U26="C",7,""))))) -> 12 | V27: =IF(V26="J",12,(IF(V26="A",7.5,IF(V26="M",7.5,IF(V26="C",7,""))))) -> 12 | W27: =IF(W26="J",12,(IF(W26="A",7.5,IF(W26="M",7.5,IF(W26="C",7,""))))) | X27: =IF(X26="J",12,(IF(X26="A",7.5,IF(X26="M",7.5,IF(X26="C",7,""))))) | Y27: =IF(Y26="J",12,(IF(Y26="A",7.5,IF(Y26="M",7.5,IF(Y26="C",7,""))))) -> 12 | Z27: =IF(Z26="J",12,(IF(Z26="A",7.5,IF(Z26="M",7.5,IF(Z26="C",7,""))))) -> 12 | AA27: =IF(AA26="J",12,(IF(AA26="A",7.5,IF(AA26="M",7.5,IF(AA26="C",7,""))))) | ... AF27: =IF(AF26="J",12,(IF(AF26="A",7.5,IF(AF26="M",7.5,IF(AF26="C",7,""))))) | AG27: =$AG$9 -> 140 | AH27: =SUM(B27:AF27) -> 129 | AI27: =AH27-AG27 -> -11 | AJ27: =Janvier!AK27 -> 63.25 | AK27: =AJ27+AI27 -> 52.25
A28: Rachel | B28: J | G28: J | H28: J | K28: J | L28: J | Q28: J | T28: J | W28: J | AB28: J | AC28: J
B29: =IF(B28="J",12,(IF(B28="A",7.5,IF(B28="M",7.5,IF(B28="C",7,""))))) -> 12 | C29: =IF(C28="J",12,(IF(C28="A",7.5,IF(C28="M",7.5,IF(C28="C",7,""))))) | D29: =IF(D28="J",12,(IF(D28="A",7.5,IF(D28="M",7.5,IF(D28="C",7,""))))) | E29: =IF(E28="J",12,(IF(E28="A",7.5,IF(E28="M",7.5,IF(E28="C",7,""))))) | F29: =IF(F28="J",12,(IF(F28="A",7.5,IF(F28="M",7.5,IF(F28="C",7,""))))) | G29: =IF(G28="J",12,(IF(G28="A",7.5,IF(G28="M",7.5,IF(G28="C",7,""))))) -> 12 | H29: =IF(H28="J",12,(IF(H28="A",7.5,IF(H28="M",7.5,IF(H28="C",7,""))))) -> 12 | I29: =IF(I28="J",12,(IF(I28="A",7.5,IF(I28="M",7.5,IF(I28="C",7,""))))) | ... AF29: =IF(AF28="J",12,(IF(AF28="A",7.5,IF(AF28="M",7.5,IF(AF28="C",7,""))))) | AG29: =$AG$9 -> 140 | AH29: =SUM(B29:AF29) -> 120 | AI29: =AH29-AG29 -> -20 | AJ29: =Janvier!AK29 -> 28.25 | AK29: =AJ29+AI29 -> 8.25
A30: Sabine | C30: J | F30: J | I30: J | N30: J | O30: J | R30: J | S30: J | X30: J | AA30: J
B31: =IF(B30="J",12,(IF(B30="A",7.5,IF(B30="M",7.5,IF(B30="C",7,""))))) | C31: =IF(C30="J",12,(IF(C30="A",7.5,IF(C30="M",7.5,IF(C30="C",7,""))))) -> 12 | D31: =IF(D30="J",12,(IF(D30="A",7.5,IF(D30="M",7.5,IF(D30="C",7,""))))) | E31: =IF(E30="J",12,(IF(E30="A",7.5,IF(E30="M",7.5,IF(E30="C",7,""))))) | F31: =IF(F30="J",12,(IF(F30="A",7.5,IF(F30="M",7.5,IF(F30="C",7,""))))) -> 12 | G31: =IF(G30="J",12,(IF(G30="A",7.5,IF(G30="M",7.5,IF(G30="C",7,""))))) | H31: =IF(H30="J",12,(IF(H30="A",7.5,IF(H30="M",7.5,IF(H30="C",7,""))))) | I31: =IF(I30="J",12,(IF(I30="A",7.5,IF(I30="M",7.5,IF(I30="C",7,""))))) -> 12 | ... AF31: =IF(AF30="J",12,(IF(AF30="A",7.5,IF(AF30="M",7.5,IF(AF30="C",7,""))))) | AG31: =$AG$9 -> 140 | AH31: =SUM(B31:AF31) -> 108 | AI31: =AH31-AG31 -> -32 | AJ31: =Janvier!AK31 -> -8.5 | AK31: =AJ31+AI31 -> -40.5

Sheet Mars
A2: =Janvier!A2 -> Année
A3: =Janvier!A3 -> 2021 | B3: Planning prévisionnel de Mars 2021
A6: =CONCATENATE(A8) -> Mars | B6: =DATE($A$3,MONTH(1&$A$6),B9) -> 44256 | C6: =DATE($A$3,MONTH(1&$A$6),C9) -> 44257 | D6: =DATE($A$3,MONTH(1&$A$6),D9) -> 44258 | E6: =DATE($A$3,MONTH(1&$A$6),E9) -> 44259 | F6: =DATE($A$3,MONTH(1&$A$6),F9) -> 44260 | G6: =DATE($A$3,MONTH(1&$A$6),G9) -> 44261 | H6: =DATE($A$3,MONTH(1&$A$6),H9) -> 44262 | I6: =DATE($A$3,MONTH(1&$A$6),I9) -> 44263 | ... AF6: =DATE($A$3,MONTH(1&$A$6),AF9) -> 44286
B7: =COUNTIFS(Fériés!$E$5:$E$17,B6) -> 0 | C7: =COUNTIFS(Fériés!$E$5:$E$17,C6) -> 0 | D7: =COUNTIFS(Fériés!$E$5:$E$17,D6) -> 0 | E7: =COUNTIFS(Fériés!$E$5:$E$17,E6) -> 0 | F7: =COUNTIFS(Fériés!$E$5:$E$17,F6) -> 0 | G7: =COUNTIFS(Fériés!$E$5:$E$17,G6) -> 0 | H7: =COUNTIFS(Fériés!$E$5:$E$17,H6) -> 0 | I7: =COUNTIFS(Fériés!$E$5:$E$17,I6) -> 0 | ... AF7: =COUNTIFS(Fériés!$E$5:$E$17,AF6) -> 0
A8: =MID(CELL("nomfichier",A1),FIND("]",CELL("nomfichier",A1))+1,20) -> Mars | B8: =TEXT(DATE($A$3,MONTH(1&TEXT($A$8,"")),B9),"jjj") -> lun | C8: =TEXT(DATE($A$3,MONTH(1&TEXT($A$8,"")),C9),"jjj") -> mar | D8: =TEXT(DATE($A$3,MONTH(1&TEXT($A$8,"")),D9),"jjj") -> mer | E8: =TEXT(DATE($A$3,MONTH(1&TEXT($A$8,"")),E9),"jjj") -> jeu | F8: =TEXT(DATE($A$3,MONTH(1&TEXT($A$8,"")),F9),"jjj") -> ven | G8: =TEXT(DATE($A$3,MONTH(1&TEXT($A$8,"")),G9),"jjj") -> sam | H8: =TEXT(DATE($A$3,MONTH(1&TEXT($A$8,"")),H9),"jjj") -> dim | I8: =TEXT(DATE($A$3,MONTH(1&TEXT($A$8,"")),I9),"jjj") -> lun | ... AF8: =TEXT(DATE($A$3,MONTH(1&TEXT($A$8,"")),AF9),"jjj") -> mer | AG8: Théoriques | AH8: Réalisées | AI8: Différences | AJ8: Soldes
B9: 1 | C9: =B9+1 -> 2 | D9: =C9+1 -> 3 | E9: =D9+1 -> 4 | F9: =E9+1 -> 5 | G9: =F9+1 -> 6 | H9: =G9+1 -> 7 | I9: =H9+1 -> 8 | J9: =I9+1 -> 9 | ... AF9: =AE9+1 -> 31 | AG9: 161 | AJ9: Ancien | AK9: Nouveau
A10: Infirmieres
A12: Anna
B13: =IF(B12="A",7.5,IF(B12="M",7.5,IF(OR(B12="C",B12="Mal"),7,""))) | C13: =IF(C12="A",7.5,IF(C12="M",7.5,IF(OR(C12="C",C12="Mal"),7,""))) | D13: =IF(D12="A",7.5,IF(D12="M",7.5,IF(OR(D12="C",D12="Mal"),7,""))) | E13: =IF(E12="A",7.5,IF(E12="M",7.5,IF(OR(E12="C",E12="Mal"),7,""))) | F13: =IF(F12="A",7.5,IF(F12="M",7.5,IF(OR(F12="C",F12="Mal"),7,""))) | G13: =IF(G12="A",7.5,IF(G12="M",7.5,IF(OR(G12="C",G12="Mal"),7,""))) | H13: =IF(H12="A",7.5,IF(H12="M",7.5,IF(OR(H12="C",H12="Mal"),7,""))) | I13: =IF(I12="A",7.5,IF(I12="M",7.5,IF(OR(I12="C",I12="Mal"),7,""))) | ... AF13: =IF(AF12="A",7.5,IF(AF12="M",7.5,IF(OR(AF12="C",AF12="Mal"),7,""))) | AG13: =$AG$9 -> 161 | AH13: =SUM(B13:AF13) -> 0 | AI13: =AH13-AG13 -> -161 | AJ13: =Février!AK13 -> 148.25 | AK13: =AJ13+AI13 -> -12.75
A14: Catherine | B14: M | C14: RH | D14: A | E14: A | F14: A | G14: RH | H14: RH | P14: RH | Q14: M | R14: M | S14: M | T14: RH | U14: A | V14: A | W14: A | X14: A | Y14: RH | Z14: RH | AA14: M | AB14: M | AC14: M | AD14: M | AE14: RH | AF14: A
B15: =IF(B14="A",7.5,IF(B14="M",7.5,IF(OR(B14="C",B14="Mal"),7,""))) -> 7.5 | C15: =IF(C14="A",7.5,IF(C14="M",7.5,IF(OR(C14="C",C14="Mal"),7,""))) | D15: =IF(D14="A",7.5,IF(D14="M",7.5,IF(OR(D14="C",D14="Mal"),7,""))) -> 7.5 | E15: =IF(E14="A",7.5,IF(E14="M",7.5,IF(OR(E14="C",E14="Mal"),7,""))) -> 7.5 | F15: =IF(F14="A",7.5,IF(F14="M",7.5,IF(OR(F14="C",F14="Mal"),7,""))) -> 7.5 | G15: =IF(G14="A",7.5,IF(G14="M",7.5,IF(OR(G14="C",G14="Mal"),7,""))) | H15: =IF(H14="A",7.5,IF(H14="M",7.5,IF(OR(H14="C",H14="Mal"),7,""))) | I15: =IF(I14="A",7.5,IF(I14="M",7.5,IF(OR(I14="C",I14="Mal"),7,""))) | ... AF15: =IF(AF14="A",7.5,IF(AF14="M",7.5,IF(OR(AF14="C",AF14="Mal"),7,""))) -> 7.5 | AG15: =$AG$9 -> 161 | AH15: =SUM(B15:AF15) -> 120 | AI15: =AH15-AG15 -> -41 | AJ15: =Février!AK15 -> 21.75 | AK15: =AJ15+AI15 -> -19.25
A16: Denise | B16: RH | C16: M | D16: M | E16: M | F16: RH | G16: A | H16: A | I16: A | J16: A | K16: RH | L16: RH | M16: M | N16: M | O16: M | P16: M | Q16: RH | R16: A | S16: A | T16: A | U16: RH | V16: RH | AD16: RH | AE16: M | AF16: M
B17: =IF(B16="A",7.5,IF(B16="M",7.5,IF(OR(B16="C",B16="Mal"),7,""))) | C17: =IF(C16="A",7.5,IF(C16="M",7.5,IF(OR(C16="C",C16="Mal"),7,""))) -> 7.5 | D17: =IF(D16="A",7.5,IF(D16="M",7.5,IF(OR(D16="C",D16="Mal"),7,""))) -> 7.5 | E17: =IF(E16="A",7.5,IF(E16="M",7.5,IF(OR(E16="C",E16="Mal"),7,""))) -> 7.5 | F17: =IF(F16="A",7.5,IF(F16="M",7.5,IF(OR(F16="C",F16="Mal"),7,""))) | G17: =IF(G16="A",7.5,IF(G16="M",7.5,IF(OR(G16="C",G16="Mal"),7,""))) -> 7.5 | H17: =IF(H16="A",7.5,IF(H16="M",7.5,IF(OR(H16="C",H16="Mal"),7,""))) -> 7.5 | I17: =IF(I16="A",7.5,IF(I16="M",7.5,IF(OR(I16="C",I16="Mal"),7,""))) -> 7.5 | ... AF17: =IF(AF16="A",7.5,IF(AF16="M",7.5,IF(OR(AF16="C",AF16="Mal"),7,""))) -> 7.5 | AG17: =$AG$9 -> 161 | AH17: =SUM(B17:AF17) -> 120 | AI17: =AH17-AG17 -> -41 | AJ17: =Février!AK17 -> 11.75 | AK17: =AJ17+AI17 -> -29.25
A18: Hélène | I18: RH | J18: M | K18: M | L18: M | M18: RH | N18: A | O18: A | P18: A | Q18: A | R18: RH | S18: RH | T18: M | U18: M | V18: M | W18: M | X18: RH | Y18: A | Z18: A | AA18: A | AB18: RH | AC18: RH
B19: =IF(B18="A",7.5,IF(B18="M",7.5,IF(OR(B18="C",B18="Mal"),7,""))) | C19: =IF(C18="A",7.5,IF(C18="M",7.5,IF(OR(C18="C",C18="Mal"),7,""))) | D19: =IF(D18="A",7.5,IF(D18="M",7.5,IF(OR(D18="C",D18="Mal"),7,""))) | E19: =IF(E18="A",7.5,IF(E18="M",7.5,IF(OR(E18="C",E18="Mal"),7,""))) | F19: =IF(F18="A",7.5,IF(F18="M",7.5,IF(OR(F18="C",F18="Mal"),7,""))) | G19: =IF(G18="A",7.5,IF(G18="M",7.5,IF(OR(G18="C",G18="Mal"),7,""))) | H19: =IF(H18="A",7.5,IF(H18="M",7.5,IF(OR(H18="C",H18="Mal"),7,""))) | I19: =IF(I18="A",7.5,IF(I18="M",7.5,IF(OR(I18="C",I18="Mal"),7,""))) | ... AF19: =IF(AF18="A",7.5,IF(AF18="M",7.5,IF(OR(AF18="C",AF18="Mal"),7,""))) | AG19: =$AG$9 -> 161 | AH19: =SUM(B19:AF19) -> 105 | AI19: =AH19-AG19 -> -56 | AJ19: =Février!AK19 -> 71.75 | AK19: =AJ19+AI19 -> 15.75
A20: Régine | B20: A | C20: A | D20: RH | E20: RH | F20: M | G20: M | H20: M | I20: M | J20: RH | K20: A | L20: A | M20: A | N20: RH | O20: RH | W20: RH | X20: M | Y20: M | Z20: M | AA20: RH | AB20: A | AC20: A | AD20: A | AE20: A | AF20: RH
B21: =IF(B20="A",7.5,IF(B20="M",7.5,IF(OR(B20="C",B20="Mal"),7,""))) -> 7.5 | C21: =IF(C20="A",7.5,IF(C20="M",7.5,IF(OR(C20="C",C20="Mal"),7,""))) -> 7.5 | D21: =IF(D20="A",7.5,IF(D20="M",7.5,IF(OR(D20="C",D20="Mal"),7,""))) | E21: =IF(E20="A",7.5,IF(E20="M",7.5,IF(OR(E20="C",E20="Mal"),7,""))) | F21: =IF(F20="A",7.5,IF(F20="M",7.5,IF(OR(F20="C",F20="Mal"),7,""))) -> 7.5 | G21: =IF(G20="A",7.5,IF(G20="M",7.5,IF(OR(G20="C",G20="Mal"),7,""))) -> 7.5 | H21: =IF(H20="A",7.5,IF(H20="M",7.5,IF(OR(H20="C",H20="Mal"),7,""))) -> 7.5 | I21: =IF(I20="A",7.5,IF(I20="M",7.5,IF(OR(I20="C",I20="Mal"),7,""))) -> 7.5 | ... AF21: =IF(AF20="A",7.5,IF(AF20="M",7.5,IF(OR(AF20="C",AF20="Mal"),7,""))) | AG21: =$AG$9 -> 161 | AH21: =SUM(B21:AF21) -> 120 | AI21: =AH21-AG21 -> -41 | AJ21: =Février!AK21 -> -6 | AK21: =AJ21+AI21 -> -47
A22: Martine
B23: =IF(B22="A",7.5,IF(B22="M",7.5,IF(OR(B22="C",B22="Mal"),7,""))) | C23: =IF(C22="A",7.5,IF(C22="M",7.5,IF(OR(C22="C",C22="Mal"),7,""))) | D23: =IF(D22="A",7.5,IF(D22="M",7.5,IF(OR(D22="C",D22="Mal"),7,""))) | E23: =IF(E22="A",7.5,IF(E22="M",7.5,IF(OR(E22="C",E22="Mal"),7,""))) | F23: =IF(F22="A",7.5,IF(F22="M",7.5,IF(OR(F22="C",F22="Mal"),7,""))) | G23: =IF(G22="A",7.5,IF(G22="M",7.5,IF(OR(G22="C",G22="Mal"),7,""))) | H23: =IF(H22="A",7.5,IF(H22="M",7.5,IF(OR(H22="C",H22="Mal"),7,""))) | I23: =IF(I22="A",7.5,IF(I22="M",7.5,IF(OR(I22="C",I22="Mal"),7,""))) | ... AF23: =IF(AF22="A",7.5,IF(AF22="M",7.5,IF(OR(AF22="C",AF22="Mal"),7,""))) | AG23: =$AG$9 -> 161 | AH23: =SUM(B23:AF23) -> 0 | AI23: =AH23-AG23 -> -161 | AJ23: =Février!AK23 -> 477.25 | AK23: =AJ23+AI23 -> 316.25
A24: Aides-soignantes
A26: Claudia | D26: J | G26: J | H26: J | N26: J | O26: J | P26: C | Q26: C | R26: C | S26: C | T26: C | X26: J | AA26: J | AD26: J
B27: 7 | C27: =IF(C26="J",12,(IF(C26="A",7.5,IF(C26="M",7.5,IF(C26="C",7,""))))) | D27: =IF(D26="J",12,(IF(D26="A",7.5,IF(D26="M",7.5,IF(D26="C",7,""))))) -> 12 | E27: =IF(E26="J",12,(IF(E26="A",7.5,IF(E26="M",7.5,IF(E26="C",7,""))))) | F27: =IF(F26="J",12,(IF(F26="A",7.5,IF(F26="M",7.5,IF(F26="C",7,""))))) | G27: =IF(G26="J",12,(IF(G26="A",7.5,IF(G26="M",7.5,IF(G26="C",7,""))))) -> 12 | H27: =IF(H26="J",12,(IF(H26="A",7.5,IF(H26="M",7.5,IF(H26="C",7,""))))) -> 12 | I27: =IF(I26="J",12,(IF(I26="A",7.5,IF(I26="M",7.5,IF(I26="C",7,""))))) | J27: =IF(J26="J",12,(IF(J26="A",7.5,IF(J26="M",7.5,IF(J26="C",7,""))))) | K27: 7 | L27: 7 | M27: =IF(M26="J",12,(IF(M26="A",7.5,IF(M26="M",7.5,IF(M26="C",7,""))))) | N27: 12 | O27: =IF(O26="J",12,(IF(O26="A",7.5,IF(O26="M",7.5,IF(O26="C",7,""))))) -> 12 | P27: =IF(P26="J",12,(IF(P26="A",7.5,IF(P26="M",7.5,IF(P26="C",7,""))))) -> 7 | Q27: =IF(Q26="J",12,(IF(Q26="A",7.5,IF(Q26="M",7.5,IF(Q26="C",7,""))))) -> 7 | R27: =IF(R26="J",12,(IF(R26="A",7.5,IF(R26="M",7.5,IF(R26="C",7,""))))) -> 7 | S27: =IF(S26="J",12,(IF(S26="A",7.5,IF(S26="M",7.5,IF(S26="C",7,""))))) -> 7 | T27: =IF(T26="J",12,(IF(T26="A",7.5,IF(T26="M",7.5,IF(T26="C",7,""))))) -> 7 | U27: =IF(U26="J",12,(IF(U26="A",7.5,IF(U26="M",7.5,IF(U26="C",7,""))))) | V27: =IF(V26="J",12,(IF(V26="A",7.5,IF(V26="M",7.5,IF(V26="C",7,""))))) | W27: 7 | X27: =IF(X26="J",12,(IF(X26="A",7.5,IF(X26="M",7.5,IF(X26="C",7,""))))) -> 12 | Y27: =IF(Y26="J",12,(IF(Y26="A",7.5,IF(Y26="M",7.5,IF(Y26="C",7,""))))) | Z27: =IF(Z26="J",12,(IF(Z26="A",7.5,IF(Z26="M",7.5,IF(Z26="C",7,""))))) | AA27: =IF(AA26="J",12,(IF(AA26="A",7.5,IF(AA26="M",7.5,IF(AA26="C",7,""))))) -> 12 | AB27: =IF(AB26="J",12,(IF(AB26="A",7.5,IF(AB26="M",7.5,IF(AB26="C",7,""))))) | AC27: =IF(AC26="J",12,(IF(AC26="A",7.5,IF(AC26="M",7.5,IF(AC26="C",7,""))))) | AD27: =IF(AD26="J",12,(IF(AD26="A",7.5,IF(AD26="M",7.5,IF(AD26="C",7,""))))) -> 12 | AE27: =IF(AE26="J",12,(IF(AE26="A",7.5,IF(AE26="M",7.5,IF(AE26="C",7,""))))) | AF27: =IF(AF26="J",12,(IF(AF26="A",7.5,IF(AF26="M",7.5,IF(AF26="C",7,""))))) | AG27: =$AG$9 -> 161 | AH27: =SUM(B27:AF27) -> 159 | AI27: =AH27-AG27 -> -2 | AJ27: =Février!AK27 -> 52.25 | AK27: =AJ27+AI27 -> 50.25
A28: Rachel | E28: J | F28: J | I28: J | J28: J | M28: J | P28: J | S28: J | U28: J | V28: J | Y28: J | Z28: J | AE28: J
B29: =IF(B28="J",12,(IF(B28="A",7.5,IF(B28="M",7.5,IF(B28="C",7,""))))) | C29: =IF(C28="J",12,(IF(C28="A",7.5,IF(C28="M",7.5,IF(C28="C",7,""))))) | D29: =IF(D28="J",12,(IF(D28="A",7.5,IF(D28="M",7.5,IF(D28="C",7,""))))) | E29: =IF(E28="J",12,(IF(E28="A",7.5,IF(E28="M",7.5,IF(E28="C",7,""))))) -> 12 | F29: =IF(F28="J",12,(IF(F28="A",7.5,IF(F28="M",7.5,IF(F28="C",7,""))))) -> 12 | G29: =IF(G28="J",12,(IF(G28="A",7.5,IF(G28="M",7.5,IF(G28="C",7,""))))) | H29: =IF(H28="J",12,(IF(H28="A",7.5,IF(H28="M",7.5,IF(H28="C",7,""))))) | I29: =IF(I28="J",12,(IF(I28="A",7.5,IF(I28="M",7.5,IF(I28="C",7,""))))) -> 12 | ... AC29: =IF(AC28="J",12,(IF(AC28="A",7.5,IF(AC28="M",7.5,IF(AC28="C",7,""))))) | AD29: 7 | AE29: =IF(AE28="J",12,(IF(AE28="A",7.5,IF(AE28="M",7.5,IF(AE28="C",7,""))))) -> 12 | AF29: =IF(AF28="J",12,(IF(AF28="A",7.5,IF(AF28="M",7.5,IF(AF28="C",7,""))))) | AG29: =$AG$9 -> 161 | AH29: =SUM(B29:AF29) -> 151 | AI29: =AH29-AG29 -> -10 | AJ29: =Février!AK29 -> 8.25 | AK29: =AJ29+AI29 -> -1.75
A30: Sabine | B30: J | C30: J | D30: C | E30: C | F30: C | I30: C | J30: C | K30: J | L30: J | Q30: J | R30: J | T30: J | W30: J | AB30: J | AC30: J | AF30: J
B31: =IF(B30="J",12,(IF(B30="A",7.5,IF(B30="M",7.5,IF(B30="C",7,""))))) -> 12 | C31: =IF(C30="J",12,(IF(C30="A",7.5,IF(C30="M",7.5,IF(C30="C",7,""))))) -> 12 | D31: =IF(D30="J",12,(IF(D30="A",7.5,IF(D30="M",7.5,IF(D30="C",7,""))))) -> 7 | E31: =IF(E30="J",12,(IF(E30="A",7.5,IF(E30="M",7.5,IF(E30="C",7,""))))) -> 7 | F31: =IF(F30="J",12,(IF(F30="A",7.5,IF(F30="M",7.5,IF(F30="C",7,""))))) -> 7 | G31: =IF(G30="J",12,(IF(G30="A",7.5,IF(G30="M",7.5,IF(G30="C",7,""))))) | H31: =IF(H30="J",12,(IF(H30="A",7.5,IF(H30="M",7.5,IF(H30="C",7,""))))) | I31: =IF(I30="J",12,(IF(I30="A",7.5,IF(I30="M",7.5,IF(I30="C",7,""))))) -> 7 | ... W31: =IF(W30="J",12,(IF(W30="A",7.5,IF(W30="M",7.5,IF(W30="C",7,""))))) -> 12 | X31: 7 | Y31: =IF(Y30="J",12,(IF(Y30="A",7.5,IF(Y30="M",7.5,IF(Y30="C",7,""))))) | Z31: =IF(Z30="J",12,(IF(Z30="A",7.5,IF(Z30="M",7.5,IF(Z30="C",7,""))))) | AA31: =IF(AA30="J",12,(IF(AA30="A",7.5,IF(AA30="M",7.5,IF(AA30="C",7,""))))) | AB31: =IF(AB30="J",12,(IF(AB30="A",7.5,IF(AB30="M",7.5,IF(AB30="C",7,""))))) -> 12 | AC31: =IF(AC30="J",12,(IF(AC30="A",7.5,IF(AC30="M",7.5,IF(AC30="C",7,""))))) -> 12 | AD31: =IF(AD30="J",12,(IF(AD30="A",7.5,IF(AD30="M",7.5,IF(AD30="C",7,""))))) | AE31: =IF(AE30="J",12,(IF(AE30="A",7.5,IF(AE30="M",7.5,IF(AE30="C",7,""))))) | AF31: =IF(AF30="J",12,(IF(AF30="A",7.5,IF(AF30="M",7.5,IF(AF30="C",7,""))))) -> 12 | AG31: =$AG$9 -> 161 | AH31: =SUM(B31:AF31) -> 174 | AI31: =AH31-AG31 -> 13 | AJ31: =Février!AK31 -> -40.5 | AK31: =AJ31+AI31 -> -27.5

Sheet Avril
A2: =Janvier!A2 -> Année
A3: =Janvier!A3 -> 2021 | B3: Planning prévisionnel d'Avril 2021
A6: =CONCATENATE(A8) -> Avril | B6: =DATE($A$3,MONTH(1&$A$6),B9) -> 44287 | C6: =DATE($A$3,MONTH(1&$A$6),C9) -> 44288 | D6: =DATE($A$3,MONTH(1&$A$6),D9) -> 44289 | E6: =DATE($A$3,MONTH(1&$A$6),E9) -> 44290 | F6: =DATE($A$3,MONTH(1&$A$6),F9) -> 44291 | G6: =DATE($A$3,MONTH(1&$A$6),G9) -> 44292 | H6: =DATE($A$3,MONTH(1&$A$6),H9) -> 44293 | I6: =DATE($A$3,MONTH(1&$A$6),I9) -> 44294 | ... AF6: =DATE($A$3,MONTH(1&$A$6),AF9) -> 44286
B7: =COUNTIFS(Fériés!$E$5:$E$17,B6) -> 0 | C7: =COUNTIFS(Fériés!$E$5:$E$17,C6) -> 0 | D7: =COUNTIFS(Fériés!$E$5:$E$17,D6) -> 0 | E7: =COUNTIFS(Fériés!$E$5:$E$17,E6) -> 1 | F7: =COUNTIFS(Fériés!$E$5:$E$17,F6) -> 1 | G7: =COUNTIFS(Fériés!$E$5:$E$17,G6) -> 0 | H7: =COUNTIFS(Fériés!$E$5:$E$17,H6) -> 0 | I7: =COUNTIFS(Fériés!$E$5:$E$17,I6) -> 0 | ... AF7: =COUNTIFS(Fériés!$E$5:$E$17,AF6) -> 0
A8: =MID(CELL("nomfichier",A1),FIND("]",CELL("nomfichier",A1))+1,20) -> Avril | B8: =TEXT(DATE($A$3,MONTH(1&TEXT($A$8,"")),B9),"jjj") -> jeu | C8: =TEXT(DATE($A$3,MONTH(1&TEXT($A$8,"")),C9),"jjj") -> ven | D8: =TEXT(DATE($A$3,MONTH(1&TEXT($A$8,"")),D9),"jjj") -> sam | E8: =TEXT(DATE($A$3,MONTH(1&TEXT($A$8,"")),E9),"jjj") -> dim | F8: =TEXT(DATE($A$3,MONTH(1&TEXT($A$8,"")),F9),"jjj") -> lun | G8: =TEXT(DATE($A$3,MONTH(1&TEXT($A$8,"")),G9),"jjj") -> mar | H8: =TEXT(DATE($A$3,MONTH(1&TEXT($A$8,"")),H9),"jjj") -> mer | I8: =TEXT(DATE($A$3,MONTH(1&TEXT($A$8,"")),I9),"jjj") -> jeu | ... AE8: =TEXT(DATE($A$3,MONTH(1&TEXT($A$8,"")),AE9),"jjj") -> ven | AG8: Théoriques | AH8: Réalisées | AI8: Différences | AJ8: Soldes
B9: 1 | C9: 2 | D9: 3 | E9: 4 | F9: 5 | G9: 6 | H9: 7 | I9: 8 | J9: 9 | K9: 10 | L9: 11 | M9: 12 | N9: 13 | O9: 14 | P9: 15 | Q9: 16 | R9: 17 | S9: 18 | T9: 19 | U9: 20 | V9: 21 | W9: 22 | X9: 23 | Y9: 24 | Z9: 25 | AA9: 26 | AB9: 27 | AC9: 28 | AD9: 29 | AE9: 30 | AG9: 140 | AJ9: Ancien | AK9: Nouveau
A10: Infirmieres
A12: Anna
B13: =IF(B12="A",7.5,IF(B12="M",7.5,IF(OR(B12="C",B12="Mal"),7,""))) | C13: =IF(C12="A",7.5,IF(C12="M",7.5,IF(OR(C12="C",C12="Mal"),7,""))) | D13: =IF(D12="A",7.5,IF(D12="M",7.5,IF(OR(D12="C",D12="Mal"),7,""))) | E13: =IF(E12="A",7.5,IF(E12="M",7.5,IF(OR(E12="C",E12="Mal"),7,""))) | F13: =IF(F12="A",7.5,IF(F12="M",7.5,IF(OR(F12="C",F12="Mal"),7,""))) | G13: =IF(G12="A",7.5,IF(G12="M",7.5,IF(OR(G12="C",G12="Mal"),7,""))) | H13: =IF(H12="A",7.5,IF(H12="M",7.5,IF(OR(H12="C",H12="Mal"),7,""))) | I13: =IF(I12="A",7.5,IF(I12="M",7.5,IF(OR(I12="C",I12="Mal"),7,""))) | ... AF13: =IF(AF12="A",7.5,IF(AF12="M",7.5,IF(OR(AF12="C",AF12="Mal"),7,""))) | AG13: =$AG$9 -> 140 | AH13: =SUM(B13:AF13) -> 0 | AI13: =AH13-AG13 -> -140 | AJ13: =Mars!AK13 -> -12.75 | AK13: =AJ13+AI13 -> -152.75
A14: Catherine | B14: A | C14: A | D14: RH | E14: RH | M14: RH | N14: M | O14: M | P14: M | Q14: RH | R14: A | S14: A | T14: A | U14: A | V14: RH | W14: RH | X14: M | Y14: M | Z14: M | AA14: M | AB14: RH | AC14: A | AD14: A | AE14: A
B15: =IF(B14="A",7.5,IF(B14="M",7.5,IF(OR(B14="C",B14="Mal"),7,""))) -> 7.5 | C15: =IF(C14="A",7.5,IF(C14="M",7.5,IF(OR(C14="C",C14="Mal"),7,""))) -> 7.5 | D15: =IF(D14="A",7.5,IF(D14="M",7.5,IF(OR(D14="C",D14="Mal"),7,""))) | E15: =IF(E14="A",7.5,IF(E14="M",7.5,IF(OR(E14="C",E14="Mal"),7,""))) | F15: =IF(F14="A",7.5,IF(F14="M",7.5,IF(OR(F14="C",F14="Mal"),7,""))) | G15: =IF(G14="A",7.5,IF(G14="M",7.5,IF(OR(G14="C",G14="Mal"),7,""))) | H15: =IF(H14="A",7.5,IF(H14="M",7.5,IF(OR(H14="C",H14="Mal"),7,""))) | I15: =IF(I14="A",7.5,IF(I14="M",7.5,IF(OR(I14="C",I14="Mal"),7,""))) | ... AF15: =IF(AF14="A",7.5,IF(AF14="M",7.5,IF(OR(AF14="C",AF14="Mal"),7,""))) | AG15: =$AG$9 -> 140 | AH15: =SUM(B15:AF15) -> 120 | AI15: =AH15-AG15 -> -20 | AJ15: =Mars!AK15 -> -19.25 | AK15: =AJ15+AI15 -> -39.25
A16: Denise | B16: M | C16: RH | D16: A | E16: A | F16: A | G16: A | H16: RH | I16: RH | J16: M | K16: M | L16: M | M16: M | N16: RH | O16: A | P16: A | Q16: A | R16: RH | S16: RH | AA16: RH | AB16: M | AC16: M | AD16: M | AE16: RH
B17: =IF(B16="A",7.5,IF(B16="M",7.5,IF(OR(B16="C",B16="Mal"),7,""))) -> 7.5 | C17: =IF(C16="A",7.5,IF(C16="M",7.5,IF(OR(C16="C",C16="Mal"),7,""))) | D17: =IF(D16="A",7.5,IF(D16="M",7.5,IF(OR(D16="C",D16="Mal"),7,""))) -> 7.5 | E17: =IF(E16="A",7.5,IF(E16="M",7.5,IF(OR(E16="C",E16="Mal"),7,""))) -> 7.5 | F17: =IF(F16="A",7.5,IF(F16="M",7.5,IF(OR(F16="C",F16="Mal"),7,""))) -> 7.5 | G17: =IF(G16="A",7.5,IF(G16="M",7.5,IF(OR(G16="C",G16="Mal"),7,""))) -> 7.5 | H17: =IF(H16="A",7.5,IF(H16="M",7.5,IF(OR(H16="C",H16="Mal"),7,""))) | I17: =IF(I16="A",7.5,IF(I16="M",7.5,IF(OR(I16="C",I16="Mal"),7,""))) | ... AF17: =IF(AF16="A",7.5,IF(AF16="M",7.5,IF(OR(AF16="C",AF16="Mal"),7,""))) | AG17: =$AG$9 -> 140 | AH17: =SUM(B17:AF17) -> 112.5 | AI17: =AH17-AG17 -> -27.5 | AJ17: =Mars!AK17 -> -29.25 | AK17: =AJ17+AI17 -> -56.75
A18: Hélène | F18: RH | G18: M | H18: M | I18: M | J18: RH | K18: A | L18: A | M18: A | N18: A | O18: RH | P18: RH | Q18: M | R18: M | S18: M | T18: M | U18: RH | V18: A | W18: A | X18: A | Y18: RH | Z18: RH
B19: =IF(B18="A",7.5,IF(B18="M",7.5,IF(OR(B18="C",B18="Mal"),7,""))) | C19: =IF(C18="A",7.5,IF(C18="M",7.5,IF(OR(C18="C",C18="Mal"),7,""))) | D19: =IF(D18="A",7.5,IF(D18="M",7.5,IF(OR(D18="C",D18="Mal"),7,""))) | E19: =IF(E18="A",7.5,IF(E18="M",7.5,IF(OR(E18="C",E18="Mal"),7,""))) | F19: =IF(F18="A",7.5,IF(F18="M",7.5,IF(OR(F18="C",F18="Mal"),7,""))) | G19: =IF(G18="A",7.5,IF(G18="M",7.5,IF(OR(G18="C",G18="Mal"),7,""))) -> 7.5 | H19: =IF(H18="A",7.5,IF(H18="M",7.5,IF(OR(H18="C",H18="Mal"),7,""))) -> 7.5 | I19: =IF(I18="A",7.5,IF(I18="M",7.5,IF(OR(I18="C",I18="Mal"),7,""))) -> 7.5 | ... AF19: =IF(AF18="A",7.5,IF(AF18="M",7.5,IF(OR(AF18="C",AF18="Mal"),7,""))) | AG19: =$AG$9 -> 140 | AH19: =SUM(B19:AF19) -> 105 | AI19: =AH19-AG19 -> -35 | AJ19: =Mars!AK19 -> 15.75 | AK19: =AJ19+AI19 -> -19.25
A20: Régine | B20: RH | C20: M | D20: M | E20: M | F20: M | G20: RH | H20: A | I20: A | J20: A | T20: RH | U20: M | V20: M | W20: M | X20: RH | Y20: A | Z20: A | AA20: A | AB20: A | AC20: RH | AD20: M | AE20: M
B21: =IF(B20="A",7.5,IF(B20="M",7.5,IF(OR(B20="C",B20="Mal"),7,""))) | C21: =IF(C20="A",7.5,IF(C20="M",7.5,IF(OR(C20="C",C20="Mal"),7,""))) -> 7.5 | D21: =IF(D20="A",7.5,IF(D20="M",7.5,IF(OR(D20="C",D20="Mal"),7,""))) -> 7.5 | E21: =IF(E20="A",7.5,IF(E20="M",7.5,IF(OR(E20="C",E20="Mal"),7,""))) -> 7.5 | F21: =IF(F20="A",7.5,IF(F20="M",7.5,IF(OR(F20="C",F20="Mal"),7,""))) -> 7.5 | G21: =IF(G20="A",7.5,IF(G20="M",7.5,IF(OR(G20="C",G20="Mal"),7,""))) | H21: =IF(H20="A",7.5,IF(H20="M",7.5,IF(OR(H20="C",H20="Mal"),7,""))) -> 7.5 | I21: =IF(I20="A",7.5,IF(I20="M",7.5,IF(OR(I20="C",I20="Mal"),7,""))) -> 7.5 | ... AF21: =IF(AF20="A",7.5,IF(AF20="M",7.5,IF(OR(AF20="C",AF20="Mal"),7,""))) | AG21: =$AG$9 -> 140 | AH21: =SUM(B21:AF21) -> 120 | AI21: =AH21-AG21 -> -20 | AJ21: =Mars!AK21 -> -47 | AK21: =AJ21+AI21 -> -67
A22: Martine
B23: =IF(B22="A",7.5,IF(B22="M",7.5,IF(OR(B22="C",B22="Mal"),7,""))) | C23: =IF(C22="A",7.5,IF(C22="M",7.5,IF(OR(C22="C",C22="Mal"),7,""))) | D23: =IF(D22="A",7.5,IF(D22="M",7.5,IF(OR(D22="C",D22="Mal"),7,""))) | E23: =IF(E22="A",7.5,IF(E22="M",7.5,IF(OR(E22="C",E22="Mal"),7,""))) | F23: =IF(F22="A",7.5,IF(F22="M",7.5,IF(OR(F22="C",F22="Mal"),7,""))) | G23: =IF(G22="A",7.5,IF(G22="M",7.5,IF(OR(G22="C",G22="Mal"),7,""))) | H23: =IF(H22="A",7.5,IF(H22="M",7.5,IF(OR(H22="C",H22="Mal"),7,""))) | I23: =IF(I22="A",7.5,IF(I22="M",7.5,IF(OR(I22="C",I22="Mal"),7,""))) | ... AF23: =IF(AF22="A",7.5,IF(AF22="M",7.5,IF(OR(AF22="C",AF22="Mal"),7,""))) | AG23: =$AG$9 -> 140 | AH23: =SUM(B23:AF23) -> 0 | AI23: =AH23-AG23 -> -140 | AJ23: =Mars!AK23 -> 316.25 | AK23: =AJ23+AI23 -> 176.25
A24: Aides-soignantes
A26: Claudia | D26: J | E26: J | H26: J | I26: J | N26: J | P26: C | Q26: C | T26: J | W26: J | Y26: J | Z26: J | AB26: J | AE26: J
B27: =IF(B26="J",12,(IF(B26="A",7.5,IF(B26="M",7.5,IF(B26="C",7,""))))) | D27: =IF(D26="J",12,(IF(D26="A",7.5,IF(D26="M",7.5,IF(D26="C",7,""))))) -> 12 | E27: 19 | G27: =IF(G26="J",12,(IF(G26="A",7.5,IF(G26="M",7.5,IF(G26="C",7,""))))) | H27: =IF(H26="J",12,(IF(H26="A",7.5,IF(H26="M",7.5,IF(H26="C",7,""))))) -> 12 | I27: =IF(I26="J",12,(IF(I26="A",7.5,IF(I26="M",7.5,IF(I26="C",7,""))))) -> 12 | J27: =IF(J26="J",12,(IF(J26="A",7.5,IF(J26="M",7.5,IF(J26="C",7,""))))) | K27: =IF(K26="J",12,(IF(K26="A",7.5,IF(K26="M",7.5,IF(K26="C",7,""))))) | L27: =IF(L26="J",12,(IF(L26="A",7.5,IF(L26="M",7.5,IF(L26="C",7,""))))) | M27: =IF(M26="J",12,(IF(M26="A",7.5,IF(M26="M",7.5,IF(M26="C",7,""))))) | N27: =IF(N26="J",12,(IF(N26="A",7.5,IF(N26="M",7.5,IF(N26="C",7,""))))) -> 12 | ... AF27: =IF(AF26="J",12,(IF(AF26="A",7.5,IF(AF26="M",7.5,IF(AF26="C",7,""))))) | AG27: =$AG$9 -> 140 | AH27: =SUM(B27:AF27) -> 153 | AI27: =AH27-AG27 -> 13 | AJ27: =Mars!AK27 -> 50.25 | AK27: =AJ27+AI27 -> 63.25
A28: Rachel | C28: J | F28: J | K28: J | L28: J | P28: J | Q28: J | T28: C | U28: C | V28: C | W28: C | X28: C | AA28: J | AC28: J | AD28: J
B29: =IF(B28="J",12,(IF(B28="A",7.5,IF(B28="M",7.5,IF(B28="C",7,""))))) | C29: 12 | D29: =IF(D28="J",12,(IF(D28="A",7.5,IF(D28="M",7.5,IF(D28="C",7,""))))) | E29: =IF(E28="J",12,(IF(E28="A",7.5,IF(E28="M",7.5,IF(E28="C",7,""))))) | F29: 12 | G29: 7 | H29: =IF(H28="J",12,(IF(H28="A",7.5,IF(H28="M",7.5,IF(H28="C",7,""))))) | I29: =IF(I28="J",12,(IF(I28="A",7.5,IF(I28="M",7.5,IF(I28="C",7,""))))) | J29: =IF(J28="J",12,(IF(J28="A",7.5,IF(J28="M",7.5,IF(J28="C",7,""))))) | K29: =IF(K28="J",12,(IF(K28="A",7.5,IF(K28="M",7.5,IF(K28="C",7,""))))) -> 12 | L29: =IF(L28="J",12,(IF(L28="A",7.5,IF(L28="M",7.5,IF(L28="C",7,""))))) -> 12 | M29: =IF(M28="J",12,(IF(M28="A",7.5,IF(M28="M",7.5,IF(M28="C",7,""))))) | N29: =IF(N28="J",12,(IF(N28="A",7.5,IF(N28="M",7.5,IF(N28="C",7,""))))) | O29: 7 | P29: =IF(P28="J",12,(IF(P28="A",7.5,IF(P28="M",7.5,IF(P28="C",7,""))))) -> 12 | Q29: =IF(Q28="J",12,(IF(Q28="A",7.5,IF(Q28="M",7.5,IF(Q28="C",7,""))))) -> 12 | R29: =IF(R28="J",12,(IF(R28="A",7.5,IF(R28="M",7.5,IF(R28="C",7,""))))) | S29: =IF(S28="J",12,(IF(S28="A",7.5,IF(S28="M",7.5,IF(S28="C",7,""))))) | T29: =IF(T28="J",12,(IF(T28="A",7.5,IF(T28="M",7.5,IF(T28="C",7,""))))) -> 7 | U29: =IF(U28="J",12,(IF(U28="A",7.5,IF(U28="M",7.5,IF(U28="C",7,""))))) -> 7 | V29: =IF(V28="J",12,(IF(V28="A",7.5,IF(V28="M",7.5,IF(V28="C",7,""))))) -> 7 | W29: =IF(W28="J",12,(IF(W28="A",7.5,IF(W28="M",7.5,IF(W28="C",7,""))))) -> 7 | ... AF29: =IF(AF28="J",12,(IF(AF28="A",7.5,IF(AF28="M",7.5,IF(AF28="C",7,""))))) | AG29: =$AG$9 -> 140 | AH29: =SUM(B29:AF29) -> 157 | AI29: =AH29-AG29 -> 17 | AJ29: =Mars!AK29 -> -1.75 | AK29: =AJ29+AI29 -> 15.25
A30: Sabine | B30: J | G30: J | J30: J | M30: J | O30: J | R30: J | S30: J | U30: J | V30: J | X30: J | AA30: C | AB30: C | AC30: C | AD30: C | AE30: C
B31: =IF(B30="J",12,(IF(B30="A",7.5,IF(B30="M",7.5,IF(B30="C",7,""))))) -> 12 | D31: =IF(D30="J",12,(IF(D30="A",7.5,IF(D30="M",7.5,IF(D30="C",7,""))))) | E31: =IF(E30="J",12,(IF(E30="A",7.5,IF(E30="M",7.5,IF(E30="C",7,""))))) | G31: 12 | H31: 7 | I31: =IF(I30="J",12,(IF(I30="A",7.5,IF(I30="M",7.5,IF(I30="C",7,""))))) | J31: =IF(J30="J",12,(IF(J30="A",7.5,IF(J30="M",7.5,IF(J30="C",7,""))))) -> 12 | K31: =IF(K30="J",12,(IF(K30="A",7.5,IF(K30="M",7.5,IF(K30="C",7,""))))) | L31: =IF(L30="J",12,(IF(L30="A",7.5,IF(L30="M",7.5,IF(L30="C",7,""))))) | M31: =IF(M30="J",12,(IF(M30="A",7.5,IF(M30="M",7.5,IF(M30="C",7,""))))) -> 12 | N31: =IF(N30="J",12,(IF(N30="A",7.5,IF(N30="M",7.5,IF(N30="C",7,""))))) | O31: =IF(O30="J",12,(IF(O30="A",7.5,IF(O30="M",7.5,IF(O30="C",7,""))))) -> 12 | P31: =IF(P30="J",12,(IF(P30="A",7.5,IF(P30="M",7.5,IF(P30="C",7,""))))) | ... AF31: =IF(AF30="J",12,(IF(AF30="A",7.5,IF(AF30="M",7.5,IF(AF30="C",7,""))))) | AG31: =$AG$9 -> 140 | AH31: =SUM(B31:AF31) -> 162 | AI31: =AH31-AG31 -> 22 | AJ31: =Mars!AK31 -> -27.5 | AK31: =AJ31+AI31 -> -5.5

Sheet Mai
A2: =Janvier!A2 -> Année
A3: =Janvier!A3 -> 2021 | B3: Planning prévisionel de Mai 2021
A6: =CONCATENATE(A8) -> Mai | B6: =DATE($A$3,MONTH(1&$A$6),B9) -> 44317 | C6: =DATE($A$3,MONTH(1&$A$6),C9) -> 44318 | D6: =DATE($A$3,MONTH(1&$A$6),D9) -> 44319 | E6: =DATE($A$3,MONTH(1&$A$6),E9) -> 44320 | F6: =DATE($A$3,MONTH(1&$A$6),F9) -> 44321 | G6: =DATE($A$3,MONTH(1&$A$6),G9) -> 44322 | H6: =DATE($A$3,MONTH(1&$A$6),H9) -> 44323 | I6: =DATE($A$3,MONTH(1&$A$6),I9) -> 44324 | ... AF6: =DATE($A$3,MONTH(1&$A$6),AF9) -> 44347
B7: =COUNTIFS(Fériés!$E$5:$E$17,B6) -> 1 | C7: =COUNTIFS(Fériés!$E$5:$E$17,C6) -> 0 | D7: =COUNTIFS(Fériés!$E$5:$E$17,D6) -> 0 | E7: =COUNTIFS(Fériés!$E$5:$E$17,E6) -> 0 | F7: =COUNTIFS(Fériés!$E$5:$E$17,F6) -> 0 | G7: =COUNTIFS(Fériés!$E$5:$E$17,G6) -> 0 | H7: =COUNTIFS(Fériés!$E$5:$E$17,H6) -> 0 | I7: =COUNTIFS(Fériés!$E$5:$E$17,I6) -> 1 | ... AF7: =COUNTIFS(Fériés!$E$5:$E$17,AF6) -> 0
A8: =MID(CELL("nomfichier",A1),FIND("]",CELL("nomfichier",A1))+1,20) -> Mai | B8: =TEXT(DATE($A$3,MONTH(1&TEXT($A$8,"")),B9),"jjj") -> sam | C8: =TEXT(DATE($A$3,MONTH(1&TEXT($A$8,"")),C9),"jjj") -> dim | D8: =TEXT(DATE($A$3,MONTH(1&TEXT($A$8,"")),D9),"jjj") -> lun | E8: =TEXT(DATE($A$3,MONTH(1&TEXT($A$8,"")),E9),"jjj") -> mar | F8: =TEXT(DATE($A$3,MONTH(1&TEXT($A$8,"")),F9),"jjj") -> mer | G8: =TEXT(DATE($A$3,MONTH(1&TEXT($A$8,"")),G9),"jjj") -> jeu | H8: =TEXT(DATE($A$3,MONTH(1&TEXT($A$8,"")),H9),"jjj") -> ven | I8: =TEXT(DATE($A$3,MONTH(1&TEXT($A$8,"")),I9),"jjj") -> sam | ... AF8: =TEXT(DATE($A$3,MONTH(1&TEXT($A$8,"")),AF9),"jjj") -> lun | AG8: Théoriques | AH8: Réalisées | AI8: Différences | AJ8: Soldes
B9: 1 | C9: 2 | D9: 3 | E9: 4 | F9: 5 | G9: 6 | H9: 7 | I9: 8 | J9: 9 | K9: 10 | L9: 11 | M9: 12 | N9: 13 | O9: 14 | P9: 15 | Q9: 16 | R9: 17 | S9: 18 | T9: 19 | U9: 20 | V9: 21 | W9: 22 | X9: 23 | Y9: 24 | Z9: 25 | AA9: 26 | AB9: 27 | AC9: 28 | AD9: 29 | AE9: 30 | AF9: 31 | AG9: 119 | AJ9: Ancien | AK9: Nouveau
A10: Infirmieres
A12: Anna
B13: =IF(B12="A",7.5,IF(B12="M",7.5,IF(OR(B12="C",B12="Mal"),7,""))) | C13: =IF(C12="A",7.5,IF(C12="M",7.5,IF(OR(C12="C",C12="Mal"),7,""))) | D13: =IF(D12="A",7.5,IF(D12="M",7.5,IF(OR(D12="C",D12="Mal"),7,""))) | E13: =IF(E12="A",7.5,IF(E12="M",7.5,IF(OR(E12="C",E12="Mal"),7,""))) | F13: =IF(F12="A",7.5,IF(F12="M",7.5,IF(OR(F12="C",F12="Mal"),7,""))) | G13: =IF(G12="A",7.5,IF(G12="M",7.5,IF(OR(G12="C",G12="Mal"),7,""))) | H13: =IF(H12="A",7.5,IF(H12="M",7.5,IF(OR(H12="C",H12="Mal"),7,""))) | I13: =IF(I12="A",7.5,IF(I12="M",7.5,IF(OR(I12="C",I12="Mal"),7,""))) | ... AF13: =IF(AF12="A",7.5,IF(AF12="M",7.5,IF(OR(AF12="C",AF12="Mal"),7,""))) | AG13: =$AG$9 -> 119 | AH13: =SUM(B13:AF13) -> 0 | AI13: =AH13-AG13 -> -119 | AJ13: =Avril!AK13 -> -152.75 | AK13: =AJ13+AI13 -> -271.75
A14: Catherine | B14: RH | C14: RH | K14: RH | L14: M | M14: M | N14: M | O14: RH | P14: A | Q14: A | R14: A | S14: A | T14: RH | U14: RH | V14: M | W14: M | X14: M | Y14: M | Z14: RH | AA14: A | AB14: A | AC14: A | AD14: RH | AE14: RH
B15: =IF(B14="A",7.5,IF(B14="M",7.5,IF(OR(B14="C",B14="Mal"),7,""))) | C15: =IF(C14="A",7.5,IF(C14="M",7.5,IF(OR(C14="C",C14="Mal"),7,""))) | D15: =IF(D14="A",7.5,IF(D14="M",7.5,IF(OR(D14="C",D14="Mal"),7,""))) | E15: =IF(E14="A",7.5,IF(E14="M",7.5,IF(OR(E14="C",E14="Mal"),7,""))) | F15: =IF(F14="A",7.5,IF(F14="M",7.5,IF(OR(F14="C",F14="Mal"),7,""))) | G15: =IF(G14="A",7.5,IF(G14="M",7.5,IF(OR(G14="C",G14="Mal"),7,""))) | H15: =IF(H14="A",7.5,IF(H14="M",7.5,IF(OR(H14="C",H14="Mal"),7,""))) | I15: =IF(I14="A",7.5,IF(I14="M",7.5,IF(OR(I14="C",I14="Mal"),7,""))) | ... AF15: =IF(AF14="A",7.5,IF(AF14="M",7.5,IF(OR(AF14="C",AF14="Mal"),7,""))) | AG15: =$AG$9 -> 119 | AH15: =SUM(B15:AF15) -> 105 | AI15: =AH15-AG15 -> -14 | AJ15: =Avril!AK15 -> -39.25 | AK15: =AJ15+AI15 -> -53.25
A16: Denise | B16: A | C16: A | D16: A | E16: A | F16: RH | G16: RH | H16: M | I16: M | J16: M | K16: M | L16: RH | M16: A | N16: A | O16: A | P16: RH | Q16: RH | Y16: RH | Z16: M | AA16: M | AB16: M | AC16: RH | AD16: A | AE16: A | AF16: A
B17: =IF(B16="A",7.5,IF(B16="M",7.5,IF(OR(B16="C",B16="Mal"),7,""))) -> 7.5 | C17: =IF(C16="A",7.5,IF(C16="M",7.5,IF(OR(C16="C",C16="Mal"),7,""))) -> 7.5 | D17: =IF(D16="A",7.5,IF(D16="M",7.5,IF(OR(D16="C",D16="Mal"),7,""))) -> 7.5 | E17: =IF(E16="A",7.5,IF(E16="M",7.5,IF(OR(E16="C",E16="Mal"),7,""))) -> 7.5 | F17: =IF(F16="A",7.5,IF(F16="M",7.5,IF(OR(F16="C",F16="Mal"),7,""))) | G17: =IF(G16="A",7.5,IF(G16="M",7.5,IF(OR(G16="C",G16="Mal"),7,""))) | H17: =IF(H16="A",7.5,IF(H16="M",7.5,IF(OR(H16="C",H16="Mal"),7,""))) -> 7.5 | I17: =IF(I16="A",7.5,IF(I16="M",7.5,IF(OR(I16="C",I16="Mal"),7,""))) -> 7.5 | ... AF17: =IF(AF16="A",7.5,IF(AF16="M",7.5,IF(OR(AF16="C",AF16="Mal"),7,""))) -> 7.5 | AG17: =$AG$9 -> 119 | AH17: =SUM(B17:AF17) -> 127.5 | AI17: =AH17-AG17 -> 8.5 | AJ17: =Avril!AK17 -> -56.75 | AK17: =AJ17+AI17 -> -48.25
A18: Hélène | D18: RH | E18: M | F18: M | G18: M | H18: RH | I18: A | J18: A | K18: A | L18: A | M18: RH | N18: RH | O18: M | P18: M | Q18: M | R18: M | S18: RH | T18: A | U18: A | V18: A | W18: RH | X18: RH | AF18: RH
B19: =IF(B18="A",7.5,IF(B18="M",7.5,IF(OR(B18="C",B18="Mal"),7,""))) | C19: =IF(C18="A",7.5,IF(C18="M",7.5,IF(OR(C18="C",C18="Mal"),7,""))) | D19: =IF(D18="A",7.5,IF(D18="M",7.5,IF(OR(D18="C",D18="Mal"),7,""))) | E19: =IF(E18="A",7.5,IF(E18="M",7.5,IF(OR(E18="C",E18="Mal"),7,""))) -> 7.5 | F19: =IF(F18="A",7.5,IF(F18="M",7.5,IF(OR(F18="C",F18="Mal"),7,""))) -> 7.5 | G19: =IF(G18="A",7.5,IF(G18="M",7.5,IF(OR(G18="C",G18="Mal"),7,""))) -> 7.5 | H19: =IF(H18="A",7.5,IF(H18="M",7.5,IF(OR(H18="C",H18="Mal"),7,""))) | I19: =IF(I18="A",7.5,IF(I18="M",7.5,IF(OR(I18="C",I18="Mal"),7,""))) -> 7.5 | ... AF19: =IF(AF18="A",7.5,IF(AF18="M",7.5,IF(OR(AF18="C",AF18="Mal"),7,""))) | AG19: =$AG$9 -> 119 | AH19: =SUM(B19:AF19) -> 105 | AI19: =AH19-AG19 -> -14 | AJ19: =Avril!AK19 -> -19.25 | AK19: =AJ19+AI19 -> -33.25
A20: Régine | B20: M | C20: M | D20: M | E20: RH | F20: A | G20: A | H20: A | I20: RH | J20: RH | R20: RH | S20: M | T20: M | U20: M | V20: RH | W20: A | X20: A | Y20: A | Z20: A | AA20: RH | AB20: RH | AC20: M | AD20: M | AE20: M | AF20: M
B21: =IF(B20="A",7.5,IF(B20="M",7.5,IF(OR(B20="C",B20="Mal"),7,""))) -> 7.5 | C21: =IF(C20="A",7.5,IF(C20="M",7.5,IF(OR(C20="C",C20="Mal"),7,""))) -> 7.5 | D21: =IF(D20="A",7.5,IF(D20="M",7.5,IF(OR(D20="C",D20="Mal"),7,""))) -> 7.5 | E21: =IF(E20="A",7.5,IF(E20="M",7.5,IF(OR(E20="C",E20="Mal"),7,""))) | F21: =IF(F20="A",7.5,IF(F20="M",7.5,IF(OR(F20="C",F20="Mal"),7,""))) -> 7.5 | G21: =IF(G20="A",7.5,IF(G20="M",7.5,IF(OR(G20="C",G20="Mal"),7,""))) -> 7.5 | H21: =IF(H20="A",7.5,IF(H20="M",7.5,IF(OR(H20="C",H20="Mal"),7,""))) -> 7.5 | I21: =IF(I20="A",7.5,IF(I20="M",7.5,IF(OR(I20="C",I20="Mal"),7,""))) | ... AF21: =IF(AF20="A",7.5,IF(AF20="M",7.5,IF(OR(AF20="C",AF20="Mal"),7,""))) -> 7.5 | AG21: =$AG$9 -> 119 | AH21: =SUM(B21:AF21) -> 127.5 | AI21: =AH21-AG21 -> 8.5 | AJ21: =Avril!AK21 -> -67 | AK21: =AJ21+AI21 -> -58.5
A22: Martine
B23: =IF(B22="A",7.5,IF(B22="M",7.5,IF(OR(B22="C",B22="Mal"),7,""))) | C23: =IF(C22="A",7.5,IF(C22="M",7.5,IF(OR(C22="C",C22="Mal"),7,""))) | D23: =IF(D22="A",7.5,IF(D22="M",7.5,IF(OR(D22="C",D22="Mal"),7,""))) | E23: =IF(E22="A",7.5,IF(E22="M",7.5,IF(OR(E22="C",E22="Mal"),7,""))) | F23: =IF(F22="A",7.5,IF(F22="M",7.5,IF(OR(F22="C",F22="Mal"),7,""))) | G23: =IF(G22="A",7.5,IF(G22="M",7.5,IF(OR(G22="C",G22="Mal"),7,""))) | H23: =IF(H22="A",7.5,IF(H22="M",7.5,IF(OR(H22="C",H22="Mal"),7,""))) | I23: =IF(I22="A",7.5,IF(I22="M",7.5,IF(OR(I22="C",I22="Mal"),7,""))) | ... AF23: =IF(AF22="A",7.5,IF(AF22="M",7.5,IF(OR(AF22="C",AF22="Mal"),7,""))) | AG23: =$AG$9 -> 119 | AH23: =SUM(B23:AF23) -> 0 | AI23: =AH23-AG23 -> -119 | AJ23: =Avril!AK23 -> 176.25 | AK23: =AJ23+AI23 -> 57.25
A24: Aides-soignantes
A26: Claudia | E26: J | H26: J | K26: J | P26: J | Q26: J | T26: J | U26: J | Y26: J | AC26: J | AF26: J
B27: =IF(B26="J",12,(IF(B26="A",7.5,IF(B26="M",7.5,IF(B26="C",7,""))))) | C27: =IF(C26="J",12,(IF(C26="A",7.5,IF(C26="M",7.5,IF(C26="C",7,""))))) | D27: =IF(D26="J",12,(IF(D26="A",7.5,IF(D26="M",7.5,IF(D26="C",7,""))))) | E27: =IF(E26="J",12,(IF(E26="A",7.5,IF(E26="M",7.5,IF(E26="C",7,""))))) -> 12 | F27: =IF(F26="J",12,(IF(F26="A",7.5,IF(F26="M",7.5,IF(F26="C",7,""))))) | G27: =IF(G26="J",12,(IF(G26="A",7.5,IF(G26="M",7.5,IF(G26="C",7,""))))) | H27: =IF(H26="J",12,(IF(H26="A",7.5,IF(H26="M",7.5,IF(H26="C",7,""))))) -> 12 | I27: =IF(I26="J",12,(IF(I26="A",7.5,IF(I26="M",7.5,IF(I26="C",7,""))))) | ... M27: =IF(M26="J",12,(IF(M26="A",7.5,IF(M26="M",7.5,IF(M26="C",7,""))))) | P27: =IF(P26="J",12,(IF(P26="A",7.5,IF(P26="M",7.5,IF(P26="C",7,""))))) -> 12 | Q27: =IF(Q26="J",12,(IF(Q26="A",7.5,IF(Q26="M",7.5,IF(Q26="C",7,""))))) -> 12 | R27: =IF(R26="J",12,(IF(R26="A",7.5,IF(R26="M",7.5,IF(R26="C",7,""))))) | S27: =IF(S26="J",12,(IF(S26="A",7.5,IF(S26="M",7.5,IF(S26="C",7,""))))) | T27: =IF(T26="J",12,(IF(T26="A",7.5,IF(T26="M",7.5,IF(T26="C",7,""))))) -> 12 | U27: =IF(U26="J",12,(IF(U26="A",7.5,IF(U26="M",7.5,IF(U26="C",7,""))))) -> 12 | V27: =IF(V26="J",12,(IF(V26="A",7.5,IF(V26="M",7.5,IF(V26="C",7,""))))) | W27: =IF(W26="J",12,(IF(W26="A",7.5,IF(W26="M",7.5,IF(W26="C",7,""))))) | X27: =IF(X26="J",12,(IF(X26="A",7.5,IF(X26="M",7.5,IF(X26="C",7,""))))) | Y27: 12 | Z27: =IF(Z26="J",12,(IF(Z26="A",7.5,IF(Z26="M",7.5,IF(Z26="C",7,""))))) | AA27: =IF(AA26="J",12,(IF(AA26="A",7.5,IF(AA26="M",7.5,IF(AA26="C",7,""))))) | AB27: =IF(AB26="J",12,(IF(AB26="A",7.5,IF(AB26="M",7.5,IF(AB26="C",7,""))))) | AC27: =IF(AC26="J",12,(IF(AC26="A",7.5,IF(AC26="M",7.5,IF(AC26="C",7,""))))) -> 12 | AD27: =IF(AD26="J",12,(IF(AD26="A",7.5,IF(AD26="M",7.5,IF(AD26="C",7,""))))) | AE27: =IF(AE26="J",12,(IF(AE26="A",7.5,IF(AE26="M",7.5,IF(AE26="C",7,""))))) | AF27: =IF(AF26="J",12,(IF(AF26="A",7.5,IF(AF26="M",7.5,IF(AF26="C",7,""))))) -> 12 | AG27: =$AG$9 -> 119 | AH27: =SUM(B27:AF27) -> 120 | AI27: =AH27-AG27 -> 1 | AJ27: =Avril!AK27 -> 63.25 | AK27: =AJ27+AI27 -> 64.25
A28: Rachel | B28: J | C28: J | F28: J | G28: J | L28: J | O28: J | R28: J | W28: J | X28: J | AA28: J | AB28: J
B29: =IF(B28="J",12,(IF(B28="A",7.5,IF(B28="M",7.5,IF(B28="C",7,""))))) -> 12 | C29: =IF(C28="J",12,(IF(C28="A",7.5,IF(C28="M",7.5,IF(C28="C",7,""))))) -> 12 | D29: =IF(D28="J",12,(IF(D28="A",7.5,IF(D28="M",7.5,IF(D28="C",7,""))))) | E29: =IF(E28="J",12,(IF(E28="A",7.5,IF(E28="M",7.5,IF(E28="C",7,""))))) | F29: =IF(F28="J",12,(IF(F28="A",7.5,IF(F28="M",7.5,IF(F28="C",7,""))))) -> 12 | G29: =IF(G28="J",12,(IF(G28="A",7.5,IF(G28="M",7.5,IF(G28="C",7,""))))) -> 12 | H29: =IF(H28="J",12,(IF(H28="A",7.5,IF(H28="M",7.5,IF(H28="C",7,""))))) | I29: =IF(I28="J",12,(IF(I28="A",7.5,IF(I28="M",7.5,IF(I28="C",7,""))))) | ... M29: =IF(M28="J",12,(IF(M28="A",7.5,IF(M28="M",7.5,IF(M28="C",7,""))))) | O29: =IF(O28="J",12,(IF(O28="A",7.5,IF(O28="M",7.5,IF(O28="C",7,""))))) -> 12 | P29: =IF(P28="J",12,(IF(P28="A",7.5,IF(P28="M",7.5,IF(P28="C",7,""))))) | Q29: =IF(Q28="J",12,(IF(Q28="A",7.5,IF(Q28="M",7.5,IF(Q28="C",7,""))))) | R29: =IF(R28="J",12,(IF(R28="A",7.5,IF(R28="M",7.5,IF(R28="C",7,""))))) -> 12 | S29: =IF(S28="J",12,(IF(S28="A",7.5,IF(S28="M",7.5,IF(S28="C",7,""))))) | T29: =IF(T28="J",12,(IF(T28="A",7.5,IF(T28="M",7.5,IF(T28="C",7,""))))) | U29: =IF(U28="J",12,(IF(U28="A",7.5,IF(U28="M",7.5,IF(U28="C",7,""))))) | V29: =IF(V28="J",12,(IF(V28="A",7.5,IF(V28="M",7.5,IF(V28="C",7,""))))) | W29: =IF(W28="J",12,(IF(W28="A",7.5,IF(W28="M",7.5,IF(W28="C",7,""))))) -> 12 | X29: 19 | Z29: =IF(Z28="J",12,(IF(Z28="A",7.5,IF(Z28="M",7.5,IF(Z28="C",7,""))))) | AA29: =IF(AA28="J",12,(IF(AA28="A",7.5,IF(AA28="M",7.5,IF(AA28="C",7,""))))) -> 12 | AB29: =IF(AB28="J",12,(IF(AB28="A",7.5,IF(AB28="M",7.5,IF(AB28="C",7,""))))) -> 12 | AC29: =IF(AC28="J",12,(IF(AC28="A",7.5,IF(AC28="M",7.5,IF(AC28="C",7,""))))) | AD29: =IF(AD28="J",12,(IF(AD28="A",7.5,IF(AD28="M",7.5,IF(AD28="C",7,""))))) | AE29: =IF(AE28="J",12,(IF(AE28="A",7.5,IF(AE28="M",7.5,IF(AE28="C",7,""))))) | AF29: =IF(AF28="J",12,(IF(AF28="A",7.5,IF(AF28="M",7.5,IF(AF28="C",7,""))))) | AG29: =$AG$9 -> 119 | AH29: =SUM(B29:AF29) -> 139 | AI29: =AH29-AG29 -> 20 | AJ29: =Avril!AK29 -> 15.25 | AK29: =AJ29+AI29 -> 35.25
A30: Sabine | D30: J | E30: M | I30: J | J30: J | M30: J | N30: J | S30: J | V30: J | Z30: J | AD30: J | AE30: J
B31: =IF(B30="J",12,(IF(B30="A",7.5,IF(B30="M",7.5,IF(B30="C",7,""))))) | C31: =IF(C30="J",12,(IF(C30="A",7.5,IF(C30="M",7.5,IF(C30="C",7,""))))) | D31: =IF(D30="J",12,(IF(D30="A",7.5,IF(D30="M",7.5,IF(D30="C",7,""))))) -> 12 | E31: 7 | F31: =IF(F30="J",12,(IF(F30="A",7.5,IF(F30="M",7.5,IF(F30="C",7,""))))) | G31: =IF(G30="J",12,(IF(G30="A",7.5,IF(G30="M",7.5,IF(G30="C",7,""))))) | H31: =IF(H30="J",12,(IF(H30="A",7.5,IF(H30="M",7.5,IF(H30="C",7,""))))) | I31: =IF(I30="J",12,(IF(I30="A",7.5,IF(I30="M",7.5,IF(I30="C",7,""))))) -> 12 | J31: =IF(J30="J",12,(IF(J30="A",7.5,IF(J30="M",7.5,IF(J30="C",7,""))))) -> 12 | K31: =IF(K30="J",12,(IF(K30="A",7.5,IF(K30="M",7.5,IF(K30="C",7,""))))) | L31: =IF(L30="J",12,(IF(L30="A",7.5,IF(L30="M",7.5,IF(L30="C",7,""))))) | M31: =IF(M30="J",12,(IF(M30="A",7.5,IF(M30="M",7.5,IF(M30="C",7,""))))) -> 12 | N31: 12 | O31: =IF(O30="J",12,(IF(O30="A",7.5,IF(O30="M",7.5,IF(O30="C",7,""))))) | P31: =IF(P30="J",12,(IF(P30="A",7.5,IF(P30="M",7.5,IF(P30="C",7,""))))) | Q31: =IF(Q30="J",12,(IF(Q30="A",7.5,IF(Q30="M",7.5,IF(Q30="C",7,""))))) | R31: =IF(R30="J",12,(IF(R30="A",7.5,IF(R30="M",7.5,IF(R30="C",7,""))))) | S31: =IF(S30="J",12,(IF(S30="A",7.5,IF(S30="M",7.5,IF(S30="C",7,""))))) -> 12 | T31: =IF(T30="J",12,(IF(T30="A",7.5,IF(T30="M",7.5,IF(T30="C",7,""))))) | U31: =IF(U30="J",12,(IF(U30="A",7.5,IF(U30="M",7.5,IF(U30="C",7,""))))) | V31: =IF(V30="J",12,(IF(V30="A",7.5,IF(V30="M",7.5,IF(V30="C",7,""))))) -> 12 | ... X31: =IF(X30="J",12,(IF(X30="A",7.5,IF(X30="M",7.5,IF(X30="C",7,""))))) | Z31: =IF(Z30="J",12,(IF(Z30="A",7.5,IF(Z30="M",7.5,IF(Z30="C",7,""))))) -> 12 | AA31: =IF(AA30="J",12,(IF(AA30="A",7.5,IF(AA30="M",7.5,IF(AA30="C",7,""))))) | AB31: =IF(AB30="J",12,(IF(AB30="A",7.5,IF(AB30="M",7.5,IF(AB30="C",7,""))))) | AC31: =IF(AC30="J",12,(IF(AC30="A",7.5,IF(AC30="M",7.5,IF(AC30="C",7,""))))) | AD31: =IF(AD30="J",12,(IF(AD30="A",7.5,IF(AD30="M",7.5,IF(AD30="C",7,""))))) -> 12 | AE31: =IF(AE30="J",12,(IF(AE30="A",7.5,IF(AE30="M",7.5,IF(AE30="C",7,""))))) -> 12 | AF31: =IF(AF30="J",12,(IF(AF30="A",7.5,IF(AF30="M",7.5,IF(AF30="C",7,""))))) | AG31: =$AG$9 -> 119 | AH31: =SUM(B31:AF31) -> 127 | AI31: =AH31-AG31 -> 8 | AJ31: =Avril!AK31 -> -5.5 | AK31: =AJ31+AI31 -> 2.5

Sheet Juin
A2: =Janvier!A2 -> Année
A3: =Janvier!A3 -> 2021 | B3: Planning prévionnel de Juin 2021
A6: =CONCATENATE(A8) -> Juin | B6: =DATE($A$3,MONTH(1&$A$6),B9) -> 44348 | C6: =DATE($A$3,MONTH(1&$A$6),C9) -> 44349 | D6: =DATE($A$3,MONTH(1&$A$6),D9) -> 44350 | E6: =DATE($A$3,MONTH(1&$A$6),E9) -> 44351 | F6: =DATE($A$3,MONTH(1&$A$6),F9) -> 44352 | G6: =DATE($A$3,MONTH(1&$A$6),G9) -> 44353 | H6: =DATE($A$3,MONTH(1&$A$6),H9) -> 44354 | I6: =DATE($A$3,MONTH(1&$A$6),I9) -> 44355 | ... AF6: =DATE($A$3,MONTH(1&$A$6),AF9) -> 44347
B7: =COUNTIFS(Fériés!$E$5:$E$17,B6) -> 0 | C7: =COUNTIFS(Fériés!$E$5:$E$17,C6) -> 0 | D7: =COUNTIFS(Fériés!$E$5:$E$17,D6) -> 0 | E7: =COUNTIFS(Fériés!$E$5:$E$17,E6) -> 0 | F7: =COUNTIFS(Fériés!$E$5:$E$17,F6) -> 0 | G7: =COUNTIFS(Fériés!$E$5:$E$17,G6) -> 0 | H7: =COUNTIFS(Fériés!$E$5:$E$17,H6) -> 0 | I7: =COUNTIFS(Fériés!$E$5:$E$17,I6) -> 0 | ... AF7: =COUNTIFS(Fériés!$E$5:$E$17,AF6) -> 0
A8: =MID(CELL("nomfichier",A1),FIND("]",CELL("nomfichier",A1))+1,20) -> Juin | B8: =TEXT(DATE($A$3,MONTH(1&TEXT($A$8,"")),B9),"jjj") -> mar | C8: =TEXT(DATE($A$3,MONTH(1&TEXT($A$8,"")),C9),"jjj") -> mer | D8: =TEXT(DATE($A$3,MONTH(1&TEXT($A$8,"")),D9),"jjj") -> jeu | E8: =TEXT(DATE($A$3,MONTH(1&TEXT($A$8,"")),E9),"jjj") -> ven | F8: =TEXT(DATE($A$3,MONTH(1&TEXT($A$8,"")),F9),"jjj") -> sam | G8: =TEXT(DATE($A$3,MONTH(1&TEXT($A$8,"")),G9),"jjj") -> dim | H8: =TEXT(DATE($A$3,MONTH(1&TEXT($A$8,"")),H9),"jjj") -> lun | I8: =TEXT(DATE($A$3,MONTH(1&TEXT($A$8,"")),I9),"jjj") -> mar | ... AE8: =TEXT(DATE($A$3,MONTH(1&TEXT($A$8,"")),AE9),"jjj") -> mer | AG8: Théoriques | AH8: Réalisées | AI8: Différences | AJ8: Soldes
B9: 1 | C9: 2 | D9: 3 | E9: 4 | F9: 5 | G9: 6 | H9: 7 | I9: 8 | J9: 9 | K9: 10 | L9: 11 | M9: 12 | N9: 13 | O9: 14 | P9: 15 | Q9: 16 | R9: 17 | S9: 18 | T9: 19 | U9: 20 | V9: 21 | W9: 22 | X9: 23 | Y9: 24 | Z9: 25 | AA9: 26 | AB9: 27 | AC9: 28 | AD9: 29 | AE9: 30 | AG9: =22*7 -> 154 | AJ9: Ancien | AK9: Nouveau
A10: Infirmieres
A12: Anna
B13: =IF(B12="A",7.5,IF(B12="M",7.5,IF(OR(B12="C",B12="Mal"),7,""))) | C13: =IF(C12="A",7.5,IF(C12="M",7.5,IF(OR(C12="C",C12="Mal"),7,""))) | D13: =IF(D12="A",7.5,IF(D12="M",7.5,IF(OR(D12="C",D12="Mal"),7,""))) | E13: =IF(E12="A",7.5,IF(E12="M",7.5,IF(OR(E12="C",E12="Mal"),7,""))) | F13: =IF(F12="A",7.5,IF(F12="M",7.5,IF(OR(F12="C",F12="Mal"),7,""))) | G13: =IF(G12="A",7.5,IF(G12="M",7.5,IF(OR(G12="C",G12="Mal"),7,""))) | H13: =IF(H12="A",7.5,IF(H12="M",7.5,IF(OR(H12="C",H12="Mal"),7,""))) | I13: =IF(I12="A",7.5,IF(I12="M",7.5,IF(OR(I12="C",I12="Mal"),7,""))) | ... AF13: =IF(AF12="A",7.5,IF(AF12="M",7.5,IF(OR(AF12="C",AF12="Mal"),7,""))) | AG13: =$AG$9 -> 154 | AH13: =SUM(B13:AF13) -> 0 | AI13: =AH13-AG13 -> -154 | AJ13: =Mai!AK13 -> -271.75 | AK13: =AJ13+AI13 -> -425.75
A14: Catherine | H14: RH | I14: M | J14: M | K14: M | L14: RH | M14: A | N14: A | O14: A | P14: A | Q14: RH | R14: RH | S14: M | T14: M | U14: M | V14: M | W14: RH | X14: A | Y14: A | Z14: A | AA14: RH | AB14: RH
B15: =IF(B14="A",7.5,IF(B14="M",7.5,IF(OR(B14="C",B14="Mal"),7,""))) | C15: =IF(C14="A",7.5,IF(C14="M",7.5,IF(OR(C14="C",C14="Mal"),7,""))) | D15: =IF(D14="A",7.5,IF(D14="M",7.5,IF(OR(D14="C",D14="Mal"),7,""))) | E15: =IF(E14="A",7.5,IF(E14="M",7.5,IF(OR(E14="C",E14="Mal"),7,""))) | F15: =IF(F14="A",7.5,IF(F14="M",7.5,IF(OR(F14="C",F14="Mal"),7,""))) | G15: =IF(G14="A",7.5,IF(G14="M",7.5,IF(OR(G14="C",G14="Mal"),7,""))) | H15: =IF(H14="A",7.5,IF(H14="M",7.5,IF(OR(H14="C",H14="Mal"),7,""))) | I15: =IF(I14="A",7.5,IF(I14="M",7.5,IF(OR(I14="C",I14="Mal"),7,""))) -> 7.5 | ... AF15: =IF(AF14="A",7.5,IF(AF14="M",7.5,IF(OR(AF14="C",AF14="Mal"),7,""))) | AG15: =$AG$9 -> 154 | AH15: =SUM(B15:AF15) -> 105 | AI15: =AH15-AG15 -> -49 | AJ15: =Mai!AK15 -> -53.25 | AK15: =AJ15+AI15 -> -102.25
A16: Denise | B16: A | C16: RH | D16: RH | E16: M | F16: M | G16: M | H16: M | I16: RH | J16: A | K16: A | L16: A | M16: RH | N16: RH | V16: RH | W16: M | X16: M | Y16: M | Z16: RH | AA16: A | AB16: A | AC16: A | AD16: A | AE16: RH
B17: =IF(B16="A",7.5,IF(B16="M",7.5,IF(OR(B16="C",B16="Mal"),7,""))) -> 7.5 | C17: =IF(C16="A",7.5,IF(C16="M",7.5,IF(OR(C16="C",C16="Mal"),7,""))) | D17: =IF(D16="A",7.5,IF(D16="M",7.5,IF(OR(D16="C",D16="Mal"),7,""))) | E17: =IF(E16="A",7.5,IF(E16="M",7.5,IF(OR(E16="C",E16="Mal"),7,""))) -> 7.5 | F17: =IF(F16="A",7.5,IF(F16="M",7.5,IF(OR(F16="C",F16="Mal"),7,""))) -> 7.5 | G17: =IF(G16="A",7.5,IF(G16="M",7.5,IF(OR(G16="C",G16="Mal"),7,""))) -> 7.5 | H17: =IF(H16="A",7.5,IF(H16="M",7.5,IF(OR(H16="C",H16="Mal"),7,""))) -> 7.5 | I17: =IF(I16="A",7.5,IF(I16="M",7.5,IF(OR(I16="C",I16="Mal"),7,""))) | ... AF17: =IF(AF16="A",7.5,IF(AF16="M",7.5,IF(OR(AF16="C",AF16="Mal"),7,""))) | AG17: =$AG$9 -> 154 | AH17: =SUM(B17:AF17) -> 112.5 | AI17: =AH17-AG17 -> -41.5 | AJ17: =Mai!AK17 -> -48.25 | AK17: =AJ17+AI17 -> -89.75
A18: Hélène | B18: M | C18: M | D18: M | E18: RH | F18: A | G18: A | H18: A | I18: A | J18: RH | K18: RH | L18: M | M18: M | N18: M | O18: M | P18: RH | Q18: A | R18: A | S18: A | T18: RH | U18: RH | AC18: RH | AD18: M | AE18: M
B19: =IF(B18="A",7.5,IF(B18="M",7.5,IF(OR(B18="C",B18="Mal"),7,""))) -> 7.5 | C19: =IF(C18="A",7.5,IF(C18="M",7.5,IF(OR(C18="C",C18="Mal"),7,""))) -> 7.5 | D19: =IF(D18="A",7.5,IF(D18="M",7.5,IF(OR(D18="C",D18="Mal"),7,""))) -> 7.5 | E19: =IF(E18="A",7.5,IF(E18="M",7.5,IF(OR(E18="C",E18="Mal"),7,""))) | F19: =IF(F18="A",7.5,IF(F18="M",7.5,IF(OR(F18="C",F18="Mal"),7,""))) -> 7.5 | G19: =IF(G18="A",7.5,IF(G18="M",7.5,IF(OR(G18="C",G18="Mal"),7,""))) -> 7.5 | H19: =IF(H18="A",7.5,IF(H18="M",7.5,IF(OR(H18="C",H18="Mal"),7,""))) -> 7.5 | I19: =IF(I18="A",7.5,IF(I18="M",7.5,IF(OR(I18="C",I18="Mal"),7,""))) -> 7.5 | ... AF19: =IF(AF18="A",7.5,IF(AF18="M",7.5,IF(OR(AF18="C",AF18="Mal"),7,""))) | AG19: =$AG$9 -> 154 | AH19: =SUM(B19:AF19) -> 120 | AI19: =AH19-AG19 -> -34 | AJ19: =Mai!AK19 -> -33.25 | AK19: =AJ19+AI19 -> -67.25
A20: Régine | B20: RH | C20: A | D20: A | E20: A | F20: RH | G20: RH | O20: RH | P20: M | Q20: M | R20: M | S20: RH | T20: A | U20: A | V20: C | W20: C | X20: C | Y20: C | Z20: C | AA20: C | AB20: C | AC20: M | AD20: RH | AE20: A
B21: =IF(B20="A",7.5,IF(B20="M",7.5,IF(OR(B20="C",B20="Mal"),7,""))) | C21: =IF(C20="A",7.5,IF(C20="M",7.5,IF(OR(C20="C",C20="Mal"),7,""))) -> 7.5 | D21: =IF(D20="A",7.5,IF(D20="M",7.5,IF(OR(D20="C",D20="Mal"),7,""))) -> 7.5 | E21: =IF(E20="A",7.5,IF(E20="M",7.5,IF(OR(E20="C",E20="Mal"),7,""))) -> 7.5 | F21: =IF(F20="A",7.5,IF(F20="M",7.5,IF(OR(F20="C",F20="Mal"),7,""))) | G21: =IF(G20="A",7.5,IF(G20="M",7.5,IF(OR(G20="C",G20="Mal"),7,""))) | H21: =IF(H20="A",7.5,IF(H20="M",7.5,IF(OR(H20="C",H20="Mal"),7,""))) | I21: =IF(I20="A",7.5,IF(I20="M",7.5,IF(OR(I20="C",I20="Mal"),7,""))) | ... AF21: =IF(AF20="A",7.5,IF(AF20="M",7.5,IF(OR(AF20="C",AF20="Mal"),7,""))) | AG21: =$AG$9 -> 154 | AH21: =SUM(B21:AF21) -> 124 | AI21: =AH21-AG21 -> -30 | AJ21: =Mai!AK21 -> -58.5 | AK21: =AJ21+AI21 -> -88.5
A22: Martine
B23: =IF(B22="A",7.5,IF(B22="M",7.5,IF(OR(B22="C",B22="Mal"),7,""))) | C23: =IF(C22="A",7.5,IF(C22="M",7.5,IF(OR(C22="C",C22="Mal"),7,""))) | D23: =IF(D22="A",7.5,IF(D22="M",7.5,IF(OR(D22="C",D22="Mal"),7,""))) | E23: =IF(E22="A",7.5,IF(E22="M",7.5,IF(OR(E22="C",E22="Mal"),7,""))) | F23: =IF(F22="A",7.5,IF(F22="M",7.5,IF(OR(F22="C",F22="Mal"),7,""))) | G23: =IF(G22="A",7.5,IF(G22="M",7.5,IF(OR(G22="C",G22="Mal"),7,""))) | H23: =IF(H22="A",7.5,IF(H22="M",7.5,IF(OR(H22="C",H22="Mal"),7,""))) | I23: =IF(I22="A",7.5,IF(I22="M",7.5,IF(OR(I22="C",I22="Mal"),7,""))) | ... AF23: =IF(AF22="A",7.5,IF(AF22="M",7.5,IF(OR(AF22="C",AF22="Mal"),7,""))) | AG23: =$AG$9 -> 154 | AH23: =SUM(B23:AF23) -> 0 | AI23: =AH23-AG23 -> -154 | AJ23: =Mai!AK23 -> 57.25 | AK23: =AJ23+AI23 -> -96.75
A24: Aides-soignantes
A26: Claudia | F26: J | G26: J | J26: J | K26: J | O26: C | P26: C | Q26: C | R26: C | S26: C | V26: C | W26: C | X26: C | Y26: C | Z26: C | AC26: C | AD26: C | AE26: J
B27: =IF(B26="J",12,(IF(B26="A",7.5,IF(B26="M",7.5,IF(B26="C",7,""))))) | C27: =IF(C26="J",12,(IF(C26="A",7.5,IF(C26="M",7.5,IF(C26="C",7,""))))) | D27: =IF(D26="J",12,(IF(D26="A",7.5,IF(D26="M",7.5,IF(D26="C",7,""))))) | E27: =IF(E26="J",12,(IF(E26="A",7.5,IF(E26="M",7.5,IF(E26="C",7,""))))) | F27: =IF(F26="J",12,(IF(F26="A",7.5,IF(F26="M",7.5,IF(F26="C",7,""))))) -> 12 | G27: =IF(G26="J",12,(IF(G26="A",7.5,IF(G26="M",7.5,IF(G26="C",7,""))))) -> 12 | H27: =IF(H26="J",12,(IF(H26="A",7.5,IF(H26="M",7.5,IF(H26="C",7,""))))) | I27: =IF(I26="J",12,(IF(I26="A",7.5,IF(I26="M",7.5,IF(I26="C",7,""))))) | ... AF27: =IF(AF26="J",12,(IF(AF26="A",7.5,IF(AF26="M",7.5,IF(AF26="C",7,""))))) | AG27: =$AG$9 -> 154 | AH27: =SUM(B27:AF27) -> 144 | AI27: =AH27-AG27 -> -10 | AJ27: =Mai!AK27 -> 64.25 | AK27: =AJ27+AI27 -> 54.25
A28: Rachel | B28: J | E28: J | H28: J | M28: J | N28: J | P28: J | Q28: J | S28: J | V28: J | W28: J | Y28: J | Z28: J | AC28: J
B29: =IF(B28="J",12,(IF(B28="A",7.5,IF(B28="M",7.5,IF(B28="C",7,""))))) -> 12 | C29: =IF(C28="J",12,(IF(C28="A",7.5,IF(C28="M",7.5,IF(C28="C",7,""))))) | D29: =IF(D28="J",12,(IF(D28="A",7.5,IF(D28="M",7.5,IF(D28="C",7,""))))) | E29: =IF(E28="J",12,(IF(E28="A",7.5,IF(E28="M",7.5,IF(E28="C",7,""))))) -> 12 | F29: =IF(F28="J",12,(IF(F28="A",7.5,IF(F28="M",7.5,IF(F28="C",7,""))))) | G29: =IF(G28="J",12,(IF(G28="A",7.5,IF(G28="M",7.5,IF(G28="C",7,""))))) | H29: =IF(H28="J",12,(IF(H28="A",7.5,IF(H28="M",7.5,IF(H28="C",7,""))))) -> 12 | I29: =IF(I28="J",12,(IF(I28="A",7.5,IF(I28="M",7.5,IF(I28="C",7,""))))) | ... AF29: =IF(AF28="J",12,(IF(AF28="A",7.5,IF(AF28="M",7.5,IF(AF28="C",7,""))))) | AG29: =$AG$9 -> 154 | AH29: =SUM(B29:AF29) -> 156 | AI29: =AH29-AG29 -> 2 | AJ29: =Mai!AK29 -> 35.25 | AK29: =AJ29+AI29 -> 37.25
A30: Sabine | C30: J | D30: J | I30: J | K30: M | L30: J | O30: J | R30: J | T30: J | U30: J | X30: J | AA30: J | AB30: J | AD30: J
B31: =IF(B30="J",12,(IF(B30="A",7.5,IF(B30="M",7.5,IF(B30="C",7,""))))) | C31: =IF(C30="J",12,(IF(C30="A",7.5,IF(C30="M",7.5,IF(C30="C",7,""))))) -> 12 | D31: =IF(D30="J",12,(IF(D30="A",7.5,IF(D30="M",7.5,IF(D30="C",7,""))))) -> 12 | E31: =IF(E30="J",12,(IF(E30="A",7.5,IF(E30="M",7.5,IF(E30="C",7,""))))) | F31: =IF(F30="J",12,(IF(F30="A",7.5,IF(F30="M",7.5,IF(F30="C",7,""))))) | G31: =IF(G30="J",12,(IF(G30="A",7.5,IF(G30="M",7.5,IF(G30="C",7,""))))) | H31: =IF(H30="J",12,(IF(H30="A",7.5,IF(H30="M",7.5,IF(H30="C",7,""))))) | I31: =IF(I30="J",12,(IF(I30="A",7.5,IF(I30="M",7.5,IF(I30="C",7,""))))) -> 12 | J31: =IF(J30="J",12,(IF(J30="A",7.5,IF(J30="M",7.5,IF(J30="C",7,""))))) | K31: 7 | L31: =IF(L30="J",12,(IF(L30="A",7.5,IF(L30="M",7.5,IF(L30="C",7,""))))) -> 12 | M31: =IF(M30="J",12,(IF(M30="A",7.5,IF(M30="M",7.5,IF(M30="C",7,""))))) | N31: =IF(N30="J",12,(IF(N30="A",7.5,IF(N30="M",7.5,IF(N30="C",7,""))))) | O31: =IF(O30="J",12,(IF(O30="A",7.5,IF(O30="M",7.5,IF(O30="C",7,""))))) -> 12 | P31: =IF(P30="J",12,(IF(P30="A",7.5,IF(P30="M",7.5,IF(P30="C",7,""))))) | Q31: =IF(Q30="J",12,(IF(Q30="A",7.5,IF(Q30="M",7.5,IF(Q30="C",7,""))))) | R31: 12 | S31: =IF(S30="J",12,(IF(S30="A",7.5,IF(S30="M",7.5,IF(S30="C",7,""))))) | T31: =IF(T30="J",12,(IF(T30="A",7.5,IF(T30="M",7.5,IF(T30="C",7,""))))) -> 12 | U31: =IF(U30="J",12,(IF(U30="A",7.5,IF(U30="M",7.5,IF(U30="C",7,""))))) -> 12 | V31: =IF(V30="J",12,(IF(V30="A",7.5,IF(V30="M",7.5,IF(V30="C",7,""))))) | W31: =IF(W30="J",12,(IF(W30="A",7.5,IF(W30="M",7.5,IF(W30="C",7,""))))) | X31: =IF(X30="J",12,(IF(X30="A",7.5,IF(X30="M",7.5,IF(X30="C",7,""))))) -> 12 | Y31: =IF(Y30="J",12,(IF(Y30="A",7.5,IF(Y30="M",7.5,IF(Y30="C",7,""))))) | Z31: =IF(Z30="J",12,(IF(Z30="A",7.5,IF(Z30="M",7.5,IF(Z30="C",7,""))))) | ... AF31: =IF(AF30="J",12,(IF(AF30="A",7.5,IF(AF30="M",7.5,IF(AF30="C",7,""))))) | AG31: =$AG$9 -> 154 | AH31: =SUM(B31:AF31) -> 151 | AI31: =AH31-AG31 -> -3 | AJ31: =Mai!AK31 -> 2.5 | AK31: =AJ31+AI31 -> -0.5

Sheet Juillet
A2: =Janvier!A2 -> Année
A3: =Janvier!A3 -> 2021 | B3: Planning prévionnel de Juillet 2021
A6: =CONCATENATE(A8) -> Juillet | B6: =DATE($A$3,MONTH(1&$A$6),B9) -> 44378 | C6: =DATE($A$3,MONTH(1&$A$6),C9) -> 44379 | D6: =DATE($A$3,MONTH(1&$A$6),D9) -> 44380 | E6: =DATE($A$3,MONTH(1&$A$6),E9) -> 44381 | F6: =DATE($A$3,MONTH(1&$A$6),F9) -> 44382 | G6: =DATE($A$3,MONTH(1&$A$6),G9) -> 44383 | H6: =DATE($A$3,MONTH(1&$A$6),H9) -> 44384 | I6: =DATE($A$3,MONTH(1&$A$6),I9) -> 44385 | ... AF6: =DATE($A$3,MONTH(1&$A$6),AF9) -> 44408
B7: =COUNTIFS(Fériés!$E$5:$E$17,B6) -> 0 | C7: =COUNTIFS(Fériés!$E$5:$E$17,C6) -> 0 | D7: =COUNTIFS(Fériés!$E$5:$E$17,D6) -> 0 | E7: =COUNTIFS(Fériés!$E$5:$E$17,E6) -> 0 | F7: =COUNTIFS(Fériés!$E$5:$E$17,F6) -> 0 | G7: =COUNTIFS(Fériés!$E$5:$E$17,G6) -> 0 | H7: =COUNTIFS(Fériés!$E$5:$E$17,H6) -> 0 | I7: =COUNTIFS(Fériés!$E$5:$E$17,I6) -> 0 | ... AF7: =COUNTIFS(Fériés!$E$5:$E$17,AF6) -> 0
A8: =MID(CELL("nomfichier",A1),FIND("]",CELL("nomfichier",A1))+1,20) -> Juillet | B8: =TEXT(DATE($A$3,MONTH(1&TEXT($A$8,"")),B9),"jjj") -> jeu | C8: =TEXT(DATE($A$3,MONTH(1&TEXT($A$8,"")),C9),"jjj") -> ven | D8: =TEXT(DATE($A$3,MONTH(1&TEXT($A$8,"")),D9),"jjj") -> sam | E8: =TEXT(DATE($A$3,MONTH(1&TEXT($A$8,"")),E9),"jjj") -> dim | F8: =TEXT(DATE($A$3,MONTH(1&TEXT($A$8,"")),F9),"jjj") -> lun | G8: =TEXT(DATE($A$3,MONTH(1&TEXT($A$8,"")),G9),"jjj") -> mar | H8: =TEXT(DATE($A$3,MONTH(1&TEXT($A$8,"")),H9),"jjj") -> mer | I8: =TEXT(DATE($A$3,MONTH(1&TEXT($A$8,"")),I9),"jjj") -> jeu | ... AF8: =TEXT(DATE($A$3,MONTH(1&TEXT($A$8,"")),AF9),"jjj") -> sam | AG8: Théoriques | AH8: Réalisées | AI8: Différences | AJ8: Soldes
B9: 1 | C9: 2 | D9: 3 | E9: 4 | F9: 5 | G9: 6 | H9: 7 | I9: 8 | J9: 9 | K9: 10 | L9: 11 | M9: 12 | N9: 13 | O9: 14 | P9: 15 | Q9: 16 | R9: 17 | S9: 18 | T9: 19 | U9: 20 | V9: 21 | W9: 22 | X9: 23 | Y9: 24 | Z9: 25 | AA9: 26 | AB9: 27 | AC9: 28 | AD9: 29 | AE9: 30 | AF9: 31 | AG9: =21*7 -> 147 | AJ9: Ancien | AK9: Nouveau
A10: Infirmieres
A12: Anna
B13: =IF(B12="A",7.5,IF(B12="M",7.5,IF(OR(B12="C",B12="Mal"),7,""))) | C13: =IF(C12="A",7.5,IF(C12="M",7.5,IF(OR(C12="C",C12="Mal"),7,""))) | D13: =IF(D12="A",7.5,IF(D12="M",7.5,IF(OR(D12="C",D12="Mal"),7,""))) | E13: =IF(E12="A",7.5,IF(E12="M",7.5,IF(OR(E12="C",E12="Mal"),7,""))) | F13: =IF(F12="A",7.5,IF(F12="M",7.5,IF(OR(F12="C",F12="Mal"),7,""))) | G13: =IF(G12="A",7.5,IF(G12="M",7.5,IF(OR(G12="C",G12="Mal"),7,""))) | H13: =IF(H12="A",7.5,IF(H12="M",7.5,IF(OR(H12="C",H12="Mal"),7,""))) | I13: =IF(I12="A",7.5,IF(I12="M",7.5,IF(OR(I12="C",I12="Mal"),7,""))) | ... AF13: =IF(AF12="A",7.5,IF(AF12="M",7.5,IF(OR(AF12="C",AF12="Mal"),7,""))) | AG13: =$AG$9 -> 147 | AH13: =SUM(B13:AF13) -> 0 | AI13: =AH13-AG13 -> -147 | AJ13: =Juin!AK13 -> -425.75 | AK13: =AJ13+AI13 -> -572.75
A14: Catherine | F14: RH | G14: M | H14: M | I14: M | J14: RH | K14: A | L14: A | M14: A | N14: A | O14: RH | P14: RH | Q14: M | R14: M | S14: M | T14: M | U14: RH | V14: A | W14: A | X14: A | Y14: RH | Z14: RH
B15: =IF(B14="A",7.5,IF(B14="M",7.5,IF(OR(B14="C",B14="Mal"),7,""))) | C15: =IF(C14="A",7.5,IF(C14="M",7.5,IF(OR(C14="C",C14="Mal"),7,""))) | D15: =IF(D14="A",7.5,IF(D14="M",7.5,IF(OR(D14="C",D14="Mal"),7,""))) | E15: =IF(E14="A",7.5,IF(E14="M",7.5,IF(OR(E14="C",E14="Mal"),7,""))) | F15: =IF(F14="A",7.5,IF(F14="M",7.5,IF(OR(F14="C",F14="Mal"),7,""))) | G15: =IF(G14="A",7.5,IF(G14="M",7.5,IF(OR(G14="C",G14="Mal"),7,""))) -> 7.5 | H15: =IF(H14="A",7.5,IF(H14="M",7.5,IF(OR(H14="C",H14="Mal"),7,""))) -> 7.5 | I15: =IF(I14="A",7.5,IF(I14="M",7.5,IF(OR(I14="C",I14="Mal"),7,""))) -> 7.5 | ... AF15: =IF(AF14="A",7.5,IF(AF14="M",7.5,IF(OR(AF14="C",AF14="Mal"),7,""))) | AG15: =$AG$9 -> 147 | AH15: =SUM(B15:AF15) -> 105 | AI15: =AH15-AG15 -> -42 | AJ15: =Juin!AK15 -> -102.25 | AK15: =AJ15+AI15 -> -144.25
A16: Denise | B16: RH | C16: M | D16: M | E16: M | F16: M | G16: RH | H16: A | I16: A | J16: A | K16: RH | L16: RH | T16: RH | U16: M | V16: M | W16: M | X16: RH | Y16: A | Z16: A | AA16: A | AB16: A | AC16: RH | AD16: RH | AE16: M | AF16: M
B17: =IF(B16="A",7.5,IF(B16="M",7.5,IF(OR(B16="C",B16="Mal"),7,""))) | C17: =IF(C16="A",7.5,IF(C16="M",7.5,IF(OR(C16="C",C16="Mal"),7,""))) -> 7.5 | D17: =IF(D16="A",7.5,IF(D16="M",7.5,IF(OR(D16="C",D16="Mal"),7,""))) -> 7.5 | E17: =IF(E16="A",7.5,IF(E16="M",7.5,IF(OR(E16="C",E16="Mal"),7,""))) -> 7.5 | F17: =IF(F16="A",7.5,IF(F16="M",7.5,IF(OR(F16="C",F16="Mal"),7,""))) -> 7.5 | G17: =IF(G16="A",7.5,IF(G16="M",7.5,IF(OR(G16="C",G16="Mal"),7,""))) | H17: =IF(H16="A",7.5,IF(H16="M",7.5,IF(OR(H16="C",H16="Mal"),7,""))) -> 7.5 | I17: =IF(I16="A",7.5,IF(I16="M",7.5,IF(OR(I16="C",I16="Mal"),7,""))) -> 7.5 | ... AF17: =IF(AF16="A",7.5,IF(AF16="M",7.5,IF(OR(AF16="C",AF16="Mal"),7,""))) -> 7.5 | AG17: =$AG$9 -> 147 | AH17: =SUM(B17:AF17) -> 120 | AI17: =AH17-AG17 -> -27 | AJ17: =Juin!AK17 -> -89.75 | AK17: =AJ17+AI17 -> -116.75
A18: Hélène | B18: M | C18: RH | D18: A | E18: A | F18: A | G18: A | H18: RH | I18: RH | J18: M | K18: M | L18: M | M18: M | N18: RH | O18: A | P18: A | Q18: A | R18: RH | S18: RH | AA18: RH | AB18: M | AC18: M | AD18: M | AE18: RH | AF18: A
B19: =IF(B18="A",7.5,IF(B18="M",7.5,IF(OR(B18="C",B18="Mal"),7,""))) -> 7.5 | C19: =IF(C18="A",7.5,IF(C18="M",7.5,IF(OR(C18="C",C18="Mal"),7,""))) | D19: =IF(D18="A",7.5,IF(D18="M",7.5,IF(OR(D18="C",D18="Mal"),7,""))) -> 7.5 | E19: =IF(E18="A",7.5,IF(E18="M",7.5,IF(OR(E18="C",E18="Mal"),7,""))) -> 7.5 | F19: =IF(F18="A",7.5,IF(F18="M",7.5,IF(OR(F18="C",F18="Mal"),7,""))) -> 7.5 | G19: =IF(G18="A",7.5,IF(G18="M",7.5,IF(OR(G18="C",G18="Mal"),7,""))) -> 7.5 | H19: =IF(H18="A",7.5,IF(H18="M",7.5,IF(OR(H18="C",H18="Mal"),7,""))) | I19: =IF(I18="A",7.5,IF(I18="M",7.5,IF(OR(I18="C",I18="Mal"),7,""))) | ... AF19: =IF(AF18="A",7.5,IF(AF18="M",7.5,IF(OR(AF18="C",AF18="Mal"),7,""))) -> 7.5 | AG19: =$AG$9 -> 147 | AH19: =SUM(B19:AF19) -> 120 | AI19: =AH19-AG19 -> -27 | AJ19: =Juin!AK19 -> -67.25 | AK19: =AJ19+AI19 -> -94.25
A20: Régine | B20: A | C20: A | D20: RH | E20: RH | M20: RH | N20: M | O20: M | P20: M | Q20: RH | R20: A | S20: A | T20: A | U20: A | V20: RH | W20: RH | X20: M | Y20: M | Z20: M | AA20: M | AB20: RH | AC20: A | AD20: A | AE20: A | AF20: RH
B21: =IF(B20="A",7.5,IF(B20="M",7.5,IF(OR(B20="C",B20="Mal"),7,""))) -> 7.5 | C21: =IF(C20="A",7.5,IF(C20="M",7.5,IF(OR(C20="C",C20="Mal"),7,""))) -> 7.5 | D21: =IF(D20="A",7.5,IF(D20="M",7.5,IF(OR(D20="C",D20="Mal"),7,""))) | E21: =IF(E20="A",7.5,IF(E20="M",7.5,IF(OR(E20="C",E20="Mal"),7,""))) | F21: =IF(F20="A",7.5,IF(F20="M",7.5,IF(OR(F20="C",F20="Mal"),7,""))) | G21: =IF(G20="A",7.5,IF(G20="M",7.5,IF(OR(G20="C",G20="Mal"),7,""))) | H21: =IF(H20="A",7.5,IF(H20="M",7.5,IF(OR(H20="C",H20="Mal"),7,""))) | I21: =IF(I20="A",7.5,IF(I20="M",7.5,IF(OR(I20="C",I20="Mal"),7,""))) | ... AF21: =IF(AF20="A",7.5,IF(AF20="M",7.5,IF(OR(AF20="C",AF20="Mal"),7,""))) | AG21: =$AG$9 -> 147 | AH21: =SUM(B21:AF21) -> 120 | AI21: =AH21-AG21 -> -27 | AJ21: =Juin!AK21 -> -88.5 | AK21: =AJ21+AI21 -> -115.5
A22: Martine
B23: =IF(B22="A",7.5,IF(B22="M",7.5,IF(OR(B22="C",B22="Mal"),7,""))) | C23: =IF(C22="A",7.5,IF(C22="M",7.5,IF(OR(C22="C",C22="Mal"),7,""))) | D23: =IF(D22="A",7.5,IF(D22="M",7.5,IF(OR(D22="C",D22="Mal"),7,""))) | E23: =IF(E22="A",7.5,IF(E22="M",7.5,IF(OR(E22="C",E22="Mal"),7,""))) | F23: =IF(F22="A",7.5,IF(F22="M",7.5,IF(OR(F22="C",F22="Mal"),7,""))) | G23: =IF(G22="A",7.5,IF(G22="M",7.5,IF(OR(G22="C",G22="Mal"),7,""))) | H23: =IF(H22="A",7.5,IF(H22="M",7.5,IF(OR(H22="C",H22="Mal"),7,""))) | I23: =IF(I22="A",7.5,IF(I22="M",7.5,IF(OR(I22="C",I22="Mal"),7,""))) | ... AF23: =IF(AF22="A",7.5,IF(AF22="M",7.5,IF(OR(AF22="C",AF22="Mal"),7,""))) | AG23: =$AG$9 -> 147 | AH23: =SUM(B23:AF23) -> 0 | AI23: =AH23-AG23 -> -147 | AJ23: =Juin!AK23 -> -96.75 | AK23: =AJ23+AI23 -> -243.75
A24: Aides-soignantes
A26: Claudia | B26: J | G26: J | J26: J | M26: J | R26: J | S26: J | V26: J | W26: J | AB26: J | AE26: J
B27: =IF(B26="J",12,(IF(B26="A",7.5,IF(B26="M",7.5,IF(B26="C",7,""))))) -> 12 | C27: =IF(C26="J",12,(IF(C26="A",7.5,IF(C26="M",7.5,IF(C26="C",7,""))))) | D27: =IF(D26="J",12,(IF(D26="A",7.5,IF(D26="M",7.5,IF(D26="C",7,""))))) | E27: =IF(E26="J",12,(IF(E26="A",7.5,IF(E26="M",7.5,IF(E26="C",7,""))))) | F27: =IF(F26="J",12,(IF(F26="A",7.5,IF(F26="M",7.5,IF(F26="C",7,""))))) | G27: =IF(G26="J",12,(IF(G26="A",7.5,IF(G26="M",7.5,IF(G26="C",7,""))))) -> 12 | H27: =IF(H26="J",12,(IF(H26="A",7.5,IF(H26="M",7.5,IF(H26="C",7,""))))) | I27: =IF(I26="J",12,(IF(I26="A",7.5,IF(I26="M",7.5,IF(I26="C",7,""))))) | ... N27: =IF(N26="J",12,(IF(N26="A",7.5,IF(N26="M",7.5,IF(N26="C",7,""))))) | P27: =IF(P26="J",12,(IF(P26="A",7.5,IF(P26="M",7.5,IF(P26="C",7,""))))) | Q27: =IF(Q26="J",12,(IF(Q26="A",7.5,IF(Q26="M",7.5,IF(Q26="C",7,""))))) | R27: =IF(R26="J",12,(IF(R26="A",7.5,IF(R26="M",7.5,IF(R26="C",7,""))))) -> 12 | S27: =IF(S26="J",12,(IF(S26="A",7.5,IF(S26="M",7.5,IF(S26="C",7,""))))) -> 12 | T27: =IF(T26="J",12,(IF(T26="A",7.5,IF(T26="M",7.5,IF(T26="C",7,""))))) | U27: =IF(U26="J",12,(IF(U26="A",7.5,IF(U26="M",7.5,IF(U26="C",7,""))))) | V27: =IF(V26="J",12,(IF(V26="A",7.5,IF(V26="M",7.5,IF(V26="C",7,""))))) -> 12 | W27: =IF(W26="J",12,(IF(W26="A",7.5,IF(W26="M",7.5,IF(W26="C",7,""))))) -> 12 | ... AD27: =IF(AD26="J",12,(IF(AD26="A",7.5,IF(AD26="M",7.5,IF(AD26="C",7,""))))) | AE27: 12 | AF27: =IF(AF26="J",12,(IF(AF26="A",7.5,IF(AF26="M",7.5,IF(AF26="C",7,""))))) | AG27: =$AG$9 -> 147 | AH27: =SUM(B27:AF27) -> 120 | AI27: =AH27-AG27 -> -27 | AJ27: =Juin!AK27 -> 54.25 | AK27: =AJ27+AI27 -> 27.25
A28: Rachel | D28: J | E28: J | H28: J | I28: J | N28: J | Q28: J | T28: J | Y28: J | Z28: J | AC28: J | AD28: J | AF28: J
B29: =IF(B28="J",12,(IF(B28="A",7.5,IF(B28="M",7.5,IF(B28="C",7,""))))) | C29: =IF(C28="J",12,(IF(C28="A",7.5,IF(C28="M",7.5,IF(C28="C",7,""))))) | D29: =IF(D28="J",12,(IF(D28="A",7.5,IF(D28="M",7.5,IF(D28="C",7,""))))) -> 12 | E29: =IF(E28="J",12,(IF(E28="A",7.5,IF(E28="M",7.5,IF(E28="C",7,""))))) -> 12 | F29: =IF(F28="J",12,(IF(F28="A",7.5,IF(F28="M",7.5,IF(F28="C",7,""))))) | G29: =IF(G28="J",12,(IF(G28="A",7.5,IF(G28="M",7.5,IF(G28="C",7,""))))) | H29: =IF(H28="J",12,(IF(H28="A",7.5,IF(H28="M",7.5,IF(H28="C",7,""))))) -> 12 | I29: =IF(I28="J",12,(IF(I28="A",7.5,IF(I28="M",7.5,IF(I28="C",7,""))))) -> 12 | ... N29: =IF(N28="J",12,(IF(N28="A",7.5,IF(N28="M",7.5,IF(N28="C",7,""))))) -> 12 | P29: =IF(P28="J",12,(IF(P28="A",7.5,IF(P28="M",7.5,IF(P28="C",7,""))))) | Q29: =IF(Q28="J",12,(IF(Q28="A",7.5,IF(Q28="M",7.5,IF(Q28="C",7,""))))) -> 12 | R29: =IF(R28="J",12,(IF(R28="A",7.5,IF(R28="M",7.5,IF(R28="C",7,""))))) | S29: =IF(S28="J",12,(IF(S28="A",7.5,IF(S28="M",7.5,IF(S28="C",7,""))))) | T29: =IF(T28="J",12,(IF(T28="A",7.5,IF(T28="M",7.5,IF(T28="C",7,""))))) -> 12 | U29: =IF(U28="J",12,(IF(U28="A",7.5,IF(U28="M",7.5,IF(U28="C",7,""))))) | V29: =IF(V28="J",12,(IF(V28="A",7.5,IF(V28="M",7.5,IF(V28="C",7,""))))) | W29: =IF(W28="J",12,(IF(W28="A",7.5,IF(W28="M",7.5,IF(W28="C",7,""))))) | ... AE29: =IF(AE28="J",12,(IF(AE28="A",7.5,IF(AE28="M",7.5,IF(AE28="C",7,""))))) | AF29: 12 | AG29: =$AG$9 -> 147 | AH29: =SUM(B29:AF29) -> 144 | AI29: =AH29-AG29 -> -3 | AJ29: =Juin!AK29 -> 37.25 | AK29: =AJ29+AI29 -> 34.25
A30: Sabine | C30: J | F30: J | K30: J | L30: J | O30: J | P30: J | U30: J | X30: J | AA30: J | AB30: M
B31: =IF(B30="J",12,(IF(B30="A",7.5,IF(B30="M",7.5,IF(B30="C",7,""))))) | C31: =IF(C30="J",12,(IF(C30="A",7.5,IF(C30="M",7.5,IF(C30="C",7,""))))) -> 12 | D31: =IF(D30="J",12,(IF(D30="A",7.5,IF(D30="M",7.5,IF(D30="C",7,""))))) | E31: =IF(E30="J",12,(IF(E30="A",7.5,IF(E30="M",7.5,IF(E30="C",7,""))))) | F31: =IF(F30="J",12,(IF(F30="A",7.5,IF(F30="M",7.5,IF(F30="C",7,""))))) -> 12 | G31: =IF(G30="J",12,(IF(G30="A",7.5,IF(G30="M",7.5,IF(G30="C",7,""))))) | H31: =IF(H30="J",12,(IF(H30="A",7.5,IF(H30="M",7.5,IF(H30="C",7,""))))) | I31: =IF(I30="J",12,(IF(I30="A",7.5,IF(I30="M",7.5,IF(I30="C",7,""))))) | ... N31: =IF(N30="J",12,(IF(N30="A",7.5,IF(N30="M",7.5,IF(N30="C",7,""))))) | O31: 12 | P31: =IF(P30="J",12,(IF(P30="A",7.5,IF(P30="M",7.5,IF(P30="C",7,""))))) -> 12 | Q31: =IF(Q30="J",12,(IF(Q30="A",7.5,IF(Q30="M",7.5,IF(Q30="C",7,""))))) | R31: =IF(R30="J",12,(IF(R30="A",7.5,IF(R30="M",7.5,IF(R30="C",7,""))))) | S31: =IF(S30="J",12,(IF(S30="A",7.5,IF(S30="M",7.5,IF(S30="C",7,""))))) | T31: =IF(T30="J",12,(IF(T30="A",7.5,IF(T30="M",7.5,IF(T30="C",7,""))))) | U31: =IF(U30="J",12,(IF(U30="A",7.5,IF(U30="M",7.5,IF(U30="C",7,""))))) -> 12 | V31: =IF(V30="J",12,(IF(V30="A",7.5,IF(V30="M",7.5,IF(V30="C",7,""))))) | W31: =IF(W30="J",12,(IF(W30="A",7.5,IF(W30="M",7.5,IF(W30="C",7,""))))) | ... AA31: =IF(AA30="J",12,(IF(AA30="A",7.5,IF(AA30="M",7.5,IF(AA30="C",7,""))))) -> 12 | AB31: 7 | AC31: =IF(AC30="J",12,(IF(AC30="A",7.5,IF(AC30="M",7.5,IF(AC30="C",7,""))))) | AD31: =IF(AD30="J",12,(IF(AD30="A",7.5,IF(AD30="M",7.5,IF(AD30="C",7,""))))) | AE31: =IF(AE30="J",12,(IF(AE30="A",7.5,IF(AE30="M",7.5,IF(AE30="C",7,""))))) | AF31: =IF(AF30="J",12,(IF(AF30="A",7.5,IF(AF30="M",7.5,IF(AF30="C",7,""))))) | AG31: =$AG$9 -> 147 | AH31: =SUM(B31:AF31) -> 115 | AI31: =AH31-AG31 -> -32 | AJ31: =Juin!AK31 -> -0.5 | AK31: =AJ31+AI31 -> -32.5

Sheet Août
A2: =Janvier!A2 -> Année
A3: =Janvier!A3 -> 2021 | B3: Planning prévisionnel d'Août 2021
A6: =CONCATENATE(A8) -> Août | B6: =DATE($A$3,MONTH(1&$A$6),B9) -> 44409 | C6: =DATE($A$3,MONTH(1&$A$6),C9) -> 44410 | D6: =DATE($A$3,MONTH(1&$A$6),D9) -> 44411 | E6: =DATE($A$3,MONTH(1&$A$6),E9) -> 44412 | F6: =DATE($A$3,MONTH(1&$A$6),F9) -> 44413 | G6: =DATE($A$3,MONTH(1&$A$6),G9) -> 44414 | H6: =DATE($A$3,MONTH(1&$A$6),H9) -> 44415 | I6: =DATE($A$3,MONTH(1&$A$6),I9) -> 44416 | ... AF6: =DATE($A$3,MONTH(1&$A$6),AF9) -> 44439
B7: =COUNTIFS(Fériés!$E$5:$E$17,B6) -> 0 | C7: =COUNTIFS(Fériés!$E$5:$E$17,C6) -> 0 | D7: =COUNTIFS(Fériés!$E$5:$E$17,D6) -> 0 | E7: =COUNTIFS(Fériés!$E$5:$E$17,E6) -> 0 | F7: =COUNTIFS(Fériés!$E$5:$E$17,F6) -> 0 | G7: =COUNTIFS(Fériés!$E$5:$E$17,G6) -> 0 | H7: =COUNTIFS(Fériés!$E$5:$E$17,H6) -> 0 | I7: =COUNTIFS(Fériés!$E$5:$E$17,I6) -> 0 | ... AF7: =COUNTIFS(Fériés!$E$5:$E$17,AF6) -> 0
A8: =MID(CELL("nomfichier",A1),FIND("]",CELL("nomfichier",A1))+1,20) -> Août | B8: =TEXT(DATE($A$3,MONTH(1&TEXT($A$8,"")),B9),"jjj") -> dim | C8: =TEXT(DATE($A$3,MONTH(1&TEXT($A$8,"")),C9),"jjj") -> lun | D8: =TEXT(DATE($A$3,MONTH(1&TEXT($A$8,"")),D9),"jjj") -> mar | E8: =TEXT(DATE($A$3,MONTH(1&TEXT($A$8,"")),E9),"jjj") -> mer | F8: =TEXT(DATE($A$3,MONTH(1&TEXT($A$8,"")),F9),"jjj") -> jeu | G8: =TEXT(DATE($A$3,MONTH(1&TEXT($A$8,"")),G9),"jjj") -> ven | H8: =TEXT(DATE($A$3,MONTH(1&TEXT($A$8,"")),H9),"jjj") -> sam | I8: =TEXT(DATE($A$3,MONTH(1&TEXT($A$8,"")),I9),"jjj") -> dim | ... AF8: =TEXT(DATE($A$3,MONTH(1&TEXT($A$8,"")),AF9),"jjj") -> mar | AG8: Théoriques | AH8: Réalisées | AI8: Différences | AJ8: Soldes
B9: 1 | C9: 2 | D9: 3 | E9: 4 | F9: 5 | G9: 6 | H9: 7 | I9: 8 | J9: 9 | K9: 10 | L9: 11 | M9: 12 | N9: 13 | O9: 14 | P9: 15 | Q9: 16 | R9: 17 | S9: 18 | T9: 19 | U9: 20 | V9: 21 | W9: 22 | X9: 23 | Y9: 24 | Z9: 25 | AA9: 26 | AB9: 27 | AC9: 28 | AD9: 29 | AE9: 30 | AF9: 31 | AG9: =21*7 -> 147 | AJ9: Ancien | AK9: Nouveau
A10: Infirmieres
A12: Anna
B13: =IF(B12="A",7.5,IF(B12="M",7.5,IF(OR(B12="C",B12="Mal"),7,""))) | C13: =IF(C12="A",7.5,IF(C12="M",7.5,IF(OR(C12="C",C12="Mal"),7,""))) | D13: =IF(D12="A",7.5,IF(D12="M",7.5,IF(OR(D12="C",D12="Mal"),7,""))) | E13: =IF(E12="A",7.5,IF(E12="M",7.5,IF(OR(E12="C",E12="Mal"),7,""))) | F13: =IF(F12="A",7.5,IF(F12="M",7.5,IF(OR(F12="C",F12="Mal"),7,""))) | G13: =IF(G12="A",7.5,IF(G12="M",7.5,IF(OR(G12="C",G12="Mal"),7,""))) | H13: =IF(H12="A",7.5,IF(H12="M",7.5,IF(OR(H12="C",H12="Mal"),7,""))) | I13: =IF(I12="A",7.5,IF(I12="M",7.5,IF(OR(I12="C",I12="Mal"),7,""))) | ... AF13: =IF(AF12="A",7.5,IF(AF12="M",7.5,IF(OR(AF12="C",AF12="Mal"),7,""))) | AG13: =$AG$9 -> 147 | AH13: =SUM(B13:AF13) -> 0 | AI13: =AH13-AG13 -> -147 | AJ13: =Juillet!AK13 -> -572.75 | AK13: =AJ13+AI13 -> -719.75
A14: Catherine | C14: RH | D14: M | E14: M | F14: M | G14: RH | H14: A | I14: A | J14: A | K14: A | L14: RH | M14: RH | N14: M | O14: M | P14: M | Q14: M | R14: RH | S14: A | T14: A | U14: A | V14: RH | W14: RH | AE14: RH | AF14: M
B15: =IF(B14="A",7.5,IF(B14="M",7.5,IF(OR(B14="C",B14="Mal"),7,""))) | C15: =IF(C14="A",7.5,IF(C14="M",7.5,IF(OR(C14="C",C14="Mal"),7,""))) | D15: =IF(D14="A",7.5,IF(D14="M",7.5,IF(OR(D14="C",D14="Mal"),7,""))) -> 7.5 | E15: =IF(E14="A",7.5,IF(E14="M",7.5,IF(OR(E14="C",E14="Mal"),7,""))) -> 7.5 | F15: =IF(F14="A",7.5,IF(F14="M",7.5,IF(OR(F14="C",F14="Mal"),7,""))) -> 7.5 | G15: =IF(G14="A",7.5,IF(G14="M",7.5,IF(OR(G14="C",G14="Mal"),7,""))) | H15: =IF(H14="A",7.5,IF(H14="M",7.5,IF(OR(H14="C",H14="Mal"),7,""))) -> 7.5 | I15: =IF(I14="A",7.5,IF(I14="M",7.5,IF(OR(I14="C",I14="Mal"),7,""))) -> 7.5 | ... AF15: =IF(AF14="A",7.5,IF(AF14="M",7.5,IF(OR(AF14="C",AF14="Mal"),7,""))) -> 7.5 | AG15: =$AG$9 -> 147 | AH15: =SUM(B15:AF15) -> 112.5 | AI15: =AH15-AG15 -> -34.5 | AJ15: =Juillet!AK15 -> -144.25 | AK15: =AJ15+AI15 -> -178.75
A16: Denise | B16: M | C16: M | D16: RH | E16: A | F16: A | G16: A | H16: RH | I16: RH | Q16: RH | R16: M | S16: M | T16: M | U16: RH | V16: A | W16: A | X16: A | Y16: A | Z16: RH | AA16: RH | AB16: M | AC16: M | AD16: M | AE16: M | AF16: RH
B17: =IF(B16="A",7.5,IF(B16="M",7.5,IF(OR(B16="C",B16="Mal"),7,""))) -> 7.5 | C17: =IF(C16="A",7.5,IF(C16="M",7.5,IF(OR(C16="C",C16="Mal"),7,""))) -> 7.5 | D17: =IF(D16="A",7.5,IF(D16="M",7.5,IF(OR(D16="C",D16="Mal"),7,""))) | E17: =IF(E16="A",7.5,IF(E16="M",7.5,IF(OR(E16="C",E16="Mal"),7,""))) -> 7.5 | F17: =IF(F16="A",7.5,IF(F16="M",7.5,IF(OR(F16="C",F16="Mal"),7,""))) -> 7.5 | G17: =IF(G16="A",7.5,IF(G16="M",7.5,IF(OR(G16="C",G16="Mal"),7,""))) -> 7.5 | H17: =IF(H16="A",7.5,IF(H16="M",7.5,IF(OR(H16="C",H16="Mal"),7,""))) | I17: =IF(I16="A",7.5,IF(I16="M",7.5,IF(OR(I16="C",I16="Mal"),7,""))) | ... AF17: =IF(AF16="A",7.5,IF(AF16="M",7.5,IF(OR(AF16="C",AF16="Mal"),7,""))) | AG17: =$AG$9 -> 147 | AH17: =SUM(B17:AF17) -> 120 | AI17: =AH17-AG17 -> -27 | AJ17: =Juillet!AK17 -> -116.75 | AK17: =AJ17+AI17 -> -143.75
A18: Hélène | B18: A | C18: A | D18: A | E18: RH | F18: RH | G18: M | H18: M | I18: M | J18: M | K18: RH | L18: A | M18: A | N18: A | O18: RH | P18: RH | X18: RH | Y18: M | Z18: M | AA18: M | AB18: RH | AC18: A | AD18: A | AE18: A | AF18: A
B19: =IF(B18="A",7.5,IF(B18="M",7.5,IF(OR(B18="C",B18="Mal"),7,""))) -> 7.5 | C19: =IF(C18="A",7.5,IF(C18="M",7.5,IF(OR(C18="C",C18="Mal"),7,""))) -> 7.5 | D19: =IF(D18="A",7.5,IF(D18="M",7.5,IF(OR(D18="C",D18="Mal"),7,""))) -> 7.5 | E19: =IF(E18="A",7.5,IF(E18="M",7.5,IF(OR(E18="C",E18="Mal"),7,""))) | F19: =IF(F18="A",7.5,IF(F18="M",7.5,IF(OR(F18="C",F18="Mal"),7,""))) | G19: =IF(G18="A",7.5,IF(G18="M",7.5,IF(OR(G18="C",G18="Mal"),7,""))) -> 7.5 | H19: =IF(H18="A",7.5,IF(H18="M",7.5,IF(OR(H18="C",H18="Mal"),7,""))) -> 7.5 | I19: =IF(I18="A",7.5,IF(I18="M",7.5,IF(OR(I18="C",I18="Mal"),7,""))) -> 7.5 | ... AF19: =IF(AF18="A",7.5,IF(AF18="M",7.5,IF(OR(AF18="C",AF18="Mal"),7,""))) -> 7.5 | AG19: =$AG$9 -> 147 | AH19: =SUM(B19:AF19) -> 127.5 | AI19: =AH19-AG19 -> -19.5 | AJ19: =Juillet!AK19 -> -94.25 | AK19: =AJ19+AI19 -> -113.75
A20: Régine | B20: RH | J20: RH | K20: M | L20: M | M20: M | N20: RH | O20: A | P20: A | Q20: A | R20: A | S20: RH | T20: RH | U20: M | V20: M | W20: M | X20: M | Y20: RH | Z20: A | AA20: A | AB20: A | AC20: RH | AD20: RH
B21: =IF(B20="A",7.5,IF(B20="M",7.5,IF(OR(B20="C",B20="Mal"),7,""))) | C21: =IF(C20="A",7.5,IF(C20="M",7.5,IF(OR(C20="C",C20="Mal"),7,""))) | D21: =IF(D20="A",7.5,IF(D20="M",7.5,IF(OR(D20="C",D20="Mal"),7,""))) | E21: =IF(E20="A",7.5,IF(E20="M",7.5,IF(OR(E20="C",E20="Mal"),7,""))) | F21: =IF(F20="A",7.5,IF(F20="M",7.5,IF(OR(F20="C",F20="Mal"),7,""))) | G21: =IF(G20="A",7.5,IF(G20="M",7.5,IF(OR(G20="C",G20="Mal"),7,""))) | H21: =IF(H20="A",7.5,IF(H20="M",7.5,IF(OR(H20="C",H20="Mal"),7,""))) | I21: =IF(I20="A",7.5,IF(I20="M",7.5,IF(OR(I20="C",I20="Mal"),7,""))) | ... AF21: =IF(AF20="A",7.5,IF(AF20="M",7.5,IF(OR(AF20="C",AF20="Mal"),7,""))) | AG21: =$AG$9 -> 147 | AH21: =SUM(B21:AF21) -> 105 | AI21: =AH21-AG21 -> -42 | AJ21: =Juillet!AK21 -> -115.5 | AK21: =AJ21+AI21 -> -157.5
A22: Martine
B23: =IF(B22="A",7.5,IF(B22="M",7.5,IF(OR(B22="C",B22="Mal"),7,""))) | C23: =IF(C22="A",7.5,IF(C22="M",7.5,IF(OR(C22="C",C22="Mal"),7,""))) | D23: =IF(D22="A",7.5,IF(D22="M",7.5,IF(OR(D22="C",D22="Mal"),7,""))) | E23: =IF(E22="A",7.5,IF(E22="M",7.5,IF(OR(E22="C",E22="Mal"),7,""))) | F23: =IF(F22="A",7.5,IF(F22="M",7.5,IF(OR(F22="C",F22="Mal"),7,""))) | G23: =IF(G22="A",7.5,IF(G22="M",7.5,IF(OR(G22="C",G22="Mal"),7,""))) | H23: =IF(H22="A",7.5,IF(H22="M",7.5,IF(OR(H22="C",H22="Mal"),7,""))) | I23: =IF(I22="A",7.5,IF(I22="M",7.5,IF(OR(I22="C",I22="Mal"),7,""))) | ... AF23: =IF(AF22="A",7.5,IF(AF22="M",7.5,IF(OR(AF22="C",AF22="Mal"),7,""))) | AG23: =$AG$9 -> 147 | AH23: =SUM(B23:AF23) -> 0 | AI23: =AH23-AG23 -> -147 | AJ23: =Juillet!AK23 -> -243.75 | AK23: =AJ23+AI23 -> -390.75
A24: Aides-soignantes
A26: Claudia | C26: J | E26: J | H26: J | I26: J | K26: J | M26: J | N26: J | R26: J | S26: J | V26: J | W26: J | Y26: J | AB26: J | AE26: J
B27: =IF(B26="J",12,(IF(B26="A",7.5,IF(B26="M",7.5,IF(B26="C",7,""))))) | C27: =IF(C26="J",12,(IF(C26="A",7.5,IF(C26="M",7.5,IF(C26="C",7,""))))) -> 12 | D27: =IF(D26="J",12,(IF(D26="A",7.5,IF(D26="M",7.5,IF(D26="C",7,""))))) | E27: =IF(E26="J",12,(IF(E26="A",7.5,IF(E26="M",7.5,IF(E26="C",7,""))))) -> 12 | F27: =IF(F26="J",12,(IF(F26="A",7.5,IF(F26="M",7.5,IF(F26="C",7,""))))) | G27: =IF(G26="J",12,(IF(G26="A",7.5,IF(G26="M",7.5,IF(G26="C",7,""))))) | H27: =IF(H26="J",12,(IF(H26="A",7.5,IF(H26="M",7.5,IF(H26="C",7,""))))) -> 12 | I27: =IF(I26="J",12,(IF(I26="A",7.5,IF(I26="M",7.5,IF(I26="C",7,""))))) -> 12 | ... AF27: =IF(AF26="J",12,(IF(AF26="A",7.5,IF(AF26="M",7.5,IF(AF26="C",7,""))))) | AG27: =$AG$9 -> 147 | AH27: =SUM(B27:AF27) -> 168 | AI27: =AH27-AG27 -> 21 | AJ27: =Juillet!AK27 -> 27.25 | AK27: =AJ27+AI27 -> 48.25
A28: Rachel | B28: J | D28: J | F28: J | G28: J | J28: J | L28: J | O28: J | P28: J | Q28: C | R28: C | S28: C | T28: C | U28: C | X28: C | Y28: C | Z28: C | AA28: C | AB28: C | AE28: C | AF28: C
B29: =IF(B28="J",12,(IF(B28="A",7.5,IF(B28="M",7.5,IF(B28="C",7,""))))) -> 12 | C29: =IF(C28="J",12,(IF(C28="A",7.5,IF(C28="M",7.5,IF(C28="C",7,""))))) | D29: =IF(D28="J",12,(IF(D28="A",7.5,IF(D28="M",7.5,IF(D28="C",7,""))))) -> 12 | E29: =IF(E28="J",12,(IF(E28="A",7.5,IF(E28="M",7.5,IF(E28="C",7,""))))) | F29: =IF(F28="J",12,(IF(F28="A",7.5,IF(F28="M",7.5,IF(F28="C",7,""))))) -> 12 | G29: =IF(G28="J",12,(IF(G28="A",7.5,IF(G28="M",7.5,IF(G28="C",7,""))))) -> 12 | H29: =IF(H28="J",12,(IF(H28="A",7.5,IF(H28="M",7.5,IF(H28="C",7,""))))) | I29: =IF(I28="J",12,(IF(I28="A",7.5,IF(I28="M",7.5,IF(I28="C",7,""))))) | ... AF29: =IF(AF28="J",12,(IF(AF28="A",7.5,IF(AF28="M",7.5,IF(AF28="C",7,""))))) -> 7 | AG29: =$AG$9 -> 147 | AH29: =SUM(B29:AF29) -> 180 | AI29: =AH29-AG29 -> 33 | AJ29: =Juillet!AK29 -> 34.25 | AK29: =AJ29+AI29 -> 67.25
A30: Sabine | C30: C | D30: C | E30: C | F30: C | G30: C | J30: C | K30: C | L30: C | M30: C | N30: C | Q30: J | T30: J | U30: J | X30: J | Z30: J | AA30: J | AC30: J | AD30: J | AF30: J
B31: =IF(B30="J",12,(IF(B30="A",7.5,IF(B30="M",7.5,IF(B30="C",7,""))))) | C31: =IF(C30="J",12,(IF(C30="A",7.5,IF(C30="M",7.5,IF(C30="C",7,""))))) -> 7 | D31: =IF(D30="J",12,(IF(D30="A",7.5,IF(D30="M",7.5,IF(D30="C",7,""))))) -> 7 | E31: =IF(E30="J",12,(IF(E30="A",7.5,IF(E30="M",7.5,IF(E30="C",7,""))))) -> 7 | F31: =IF(F30="J",12,(IF(F30="A",7.5,IF(F30="M",7.5,IF(F30="C",7,""))))) -> 7 | G31: =IF(G30="J",12,(IF(G30="A",7.5,IF(G30="M",7.5,IF(G30="C",7,""))))) -> 7 | H31: =IF(H30="J",12,(IF(H30="A",7.5,IF(H30="M",7.5,IF(H30="C",7,""))))) | I31: =IF(I30="J",12,(IF(I30="A",7.5,IF(I30="M",7.5,IF(I30="C",7,""))))) | ... AF31: =IF(AF30="J",12,(IF(AF30="A",7.5,IF(AF30="M",7.5,IF(AF30="C",7,""))))) -> 12 | AG31: =$AG$9 -> 147 | AH31: =SUM(B31:AF31) -> 178 | AI31: =AH31-AG31 -> 31 | AJ31: =Juillet!AK31 -> -32.5 | AK31: =AJ31+AI31 -> -1.5

Sheet Septembre
A2: =Janvier!A2 -> Année
A3: =Janvier!A3 -> 2021 | B3: Planning prévisonnel de Septembre 2021
A6: =CONCATENATE(A8) -> Septembre | B6: =DATE($A$3,MONTH(1&$A$6),B9) -> 44440 | C6: =DATE($A$3,MONTH(1&$A$6),C9) -> 44441 | D6: =DATE($A$3,MONTH(1&$A$6),D9) -> 44442 | E6: =DATE($A$3,MONTH(1&$A$6),E9) -> 44443 | F6: =DATE($A$3,MONTH(1&$A$6),F9) -> 44444 | G6: =DATE($A$3,MONTH(1&$A$6),G9) -> 44445 | H6: =DATE($A$3,MONTH(1&$A$6),H9) -> 44446 | I6: =DATE($A$3,MONTH(1&$A$6),I9) -> 44447 | ... AF6: =DATE($A$3,MONTH(1&$A$6),AF9) -> 44439
B7: =COUNTIFS(Fériés!$E$5:$E$17,B6) -> 0 | C7: =COUNTIFS(Fériés!$E$5:$E$17,C6) -> 0 | D7: =COUNTIFS(Fériés!$E$5:$E$17,D6) -> 0 | E7: =COUNTIFS(Fériés!$E$5:$E$17,E6) -> 0 | F7: =COUNTIFS(Fériés!$E$5:$E$17,F6) -> 0 | G7: =COUNTIFS(Fériés!$E$5:$E$17,G6) -> 0 | H7: =COUNTIFS(Fériés!$E$5:$E$17,H6) -> 0 | I7: =COUNTIFS(Fériés!$E$5:$E$17,I6) -> 0 | ... AF7: =COUNTIFS(Fériés!$E$5:$E$17,AF6) -> 0
A8: =MID(CELL("nomfichier",A1),FIND("]",CELL("nomfichier",A1))+1,20) -> Septembre | B8: =TEXT(DATE($A$3,MONTH(1&TEXT($A$8,"")),B9),"jjj") -> mer | C8: =TEXT(DATE($A$3,MONTH(1&TEXT($A$8,"")),C9),"jjj") -> jeu | D8: =TEXT(DATE($A$3,MONTH(1&TEXT($A$8,"")),D9),"jjj") -> ven | E8: =TEXT(DATE($A$3,MONTH(1&TEXT($A$8,"")),E9),"jjj") -> sam | F8: =TEXT(DATE($A$3,MONTH(1&TEXT($A$8,"")),F9),"jjj") -> dim | G8: =TEXT(DATE($A$3,MONTH(1&TEXT($A$8,"")),G9),"jjj") -> lun | H8: =TEXT(DATE($A$3,MONTH(1&TEXT($A$8,"")),H9),"jjj") -> mar | I8: =TEXT(DATE($A$3,MONTH(1&TEXT($A$8,"")),I9),"jjj") -> mer | ... AE8: =TEXT(DATE($A$3,MONTH(1&TEXT($A$8,"")),AE9),"jjj") -> jeu | AG8: Théoriques | AH8: Réalisées | AI8: Différences | AJ8: Soldes
B9: 1 | C9: 2 | D9: 3 | E9: 4 | F9: 5 | G9: 6 | H9: 7 | I9: 8 | J9: 9 | K9: 10 | L9: 11 | M9: 12 | N9: 13 | O9: 14 | P9: 15 | Q9: 16 | R9: 17 | S9: 18 | T9: 19 | U9: 20 | V9: 21 | W9: 22 | X9: 23 | Y9: 24 | Z9: 25 | AA9: 26 | AB9: 27 | AC9: 28 | AD9: 29 | AE9: 30 | AG9: =22*7 -> 154 | AJ9: Ancien | AK9: Nouveau
A10: Infirmieres
A12: Anna
B13: =IF(B12="A",7.5,IF(B12="M",7.5,IF(OR(B12="C",B12="Mal"),7,""))) | C13: =IF(C12="A",7.5,IF(C12="M",7.5,IF(OR(C12="C",C12="Mal"),7,""))) | D13: =IF(D12="A",7.5,IF(D12="M",7.5,IF(OR(D12="C",D12="Mal"),7,""))) | E13: =IF(E12="A",7.5,IF(E12="M",7.5,IF(OR(E12="C",E12="Mal"),7,""))) | F13: =IF(F12="A",7.5,IF(F12="M",7.5,IF(OR(F12="C",F12="Mal"),7,""))) | G13: =IF(G12="A",7.5,IF(G12="M",7.5,IF(OR(G12="C",G12="Mal"),7,""))) | H13: =IF(H12="A",7.5,IF(H12="M",7.5,IF(OR(H12="C",H12="Mal"),7,""))) | I13: =IF(I12="A",7.5,IF(I12="M",7.5,IF(OR(I12="C",I12="Mal"),7,""))) | ... AF13: =IF(AF12="A",7.5,IF(AF12="M",7.5,IF(OR(AF12="C",AF12="Mal"),7,""))) | AG13: =$AG$9 -> 154 | AH13: =SUM(B13:AF13) -> 0 | AI13: =AH13-AG13 -> -154 | AJ13: =Août!AK13 -> -719.75 | AK13: =AJ13+AI13 -> -873.75
A14: Catherine | B14: M | C14: M | D14: RH | E14: A | F14: A | G14: A | H14: A | I14: RH | J14: RH | K14: M | L14: M | M14: M | N14: M | O14: RH | P14: A | Q14: A | R14: A | S14: RH | T14: RH | AB14: RH | AC14: M | AD14: M | AE14: M
B15: =IF(B14="A",7.5,IF(B14="M",7.5,IF(OR(B14="C",B14="Mal"),7,""))) -> 7.5 | C15: =IF(C14="A",7.5,IF(C14="M",7.5,IF(OR(C14="C",C14="Mal"),7,""))) -> 7.5 | D15: =IF(D14="A",7.5,IF(D14="M",7.5,IF(OR(D14="C",D14="Mal"),7,""))) | E15: =IF(E14="A",7.5,IF(E14="M",7.5,IF(OR(E14="C",E14="Mal"),7,""))) -> 7.5 | F15: =IF(F14="A",7.5,IF(F14="M",7.5,IF(OR(F14="C",F14="Mal"),7,""))) -> 7.5 | G15: =IF(G14="A",7.5,IF(G14="M",7.5,IF(OR(G14="C",G14="Mal"),7,""))) -> 7.5 | H15: =IF(H14="A",7.5,IF(H14="M",7.5,IF(OR(H14="C",H14="Mal"),7,""))) -> 7.5 | I15: =IF(I14="A",7.5,IF(I14="M",7.5,IF(OR(I14="C",I14="Mal"),7,""))) | ... AF15: =IF(AF14="A",7.5,IF(AF14="M",7.5,IF(OR(AF14="C",AF14="Mal"),7,""))) | AG15: =$AG$9 -> 154 | AH15: =SUM(B15:AF15) -> 120 | AI15: =AH15-AG15 -> -34 | AJ15: =Août!AK15 -> -178.75 | AK15: =AJ15+AI15 -> -212.75
A16: Denise | B16: A | C16: A | D16: A | E16: RH | F16: RH | N16: RH | O16: M | P16: M | Q16: M | R16: RH | S16: A | T16: A | U16: A | V16: A | W16: RH | X16: RH | Y16: M | Z16: M | AA16: M | AB16: M | AC16: RH | AD16: A | AE16: A
B17: =IF(B16="A",7.5,IF(B16="M",7.5,IF(OR(B16="C",B16="Mal"),7,""))) -> 7.5 | C17: =IF(C16="A",7.5,IF(C16="M",7.5,IF(OR(C16="C",C16="Mal"),7,""))) -> 7.5 | D17: =IF(D16="A",7.5,IF(D16="M",7.5,IF(OR(D16="C",D16="Mal"),7,""))) -> 7.5 | E17: =IF(E16="A",7.5,IF(E16="M",7.5,IF(OR(E16="C",E16="Mal"),7,""))) | F17: =IF(F16="A",7.5,IF(F16="M",7.5,IF(OR(F16="C",F16="Mal"),7,""))) | G17: =IF(G16="A",7.5,IF(G16="M",7.5,IF(OR(G16="C",G16="Mal"),7,""))) | H17: =IF(H16="A",7.5,IF(H16="M",7.5,IF(OR(H16="C",H16="Mal"),7,""))) | I17: =IF(I16="A",7.5,IF(I16="M",7.5,IF(OR(I16="C",I16="Mal"),7,""))) | ... AF17: =IF(AF16="A",7.5,IF(AF16="M",7.5,IF(OR(AF16="C",AF16="Mal"),7,""))) | AG17: =$AG$9 -> 154 | AH17: =SUM(B17:AF17) -> 120 | AI17: =AH17-AG17 -> -34 | AJ17: =Août!AK17 -> -143.75 | AK17: =AJ17+AI17 -> -177.75
A18: Hélène | B18: RH | C18: RH | D18: M | E18: M | F18: M | G18: M | H18: RH | I18: A | J18: A | K18: A | L18: RH | M18: RH | U18: RH | V18: M | W18: M | X18: M | Y18: RH | Z18: A | AA18: A | AB18: A | AC18: A | AD18: RH | AE18: RH
B19: =IF(B18="A",7.5,IF(B18="M",7.5,IF(OR(B18="C",B18="Mal"),7,""))) | C19: =IF(C18="A",7.5,IF(C18="M",7.5,IF(OR(C18="C",C18="Mal"),7,""))) | D19: =IF(D18="A",7.5,IF(D18="M",7.5,IF(OR(D18="C",D18="Mal"),7,""))) -> 7.5 | E19: =IF(E18="A",7.5,IF(E18="M",7.5,IF(OR(E18="C",E18="Mal"),7,""))) -> 7.5 | F19: =IF(F18="A",7.5,IF(F18="M",7.5,IF(OR(F18="C",F18="Mal"),7,""))) -> 7.5 | G19: =IF(G18="A",7.5,IF(G18="M",7.5,IF(OR(G18="C",G18="Mal"),7,""))) -> 7.5 | H19: =IF(H18="A",7.5,IF(H18="M",7.5,IF(OR(H18="C",H18="Mal"),7,""))) | I19: =IF(I18="A",7.5,IF(I18="M",7.5,IF(OR(I18="C",I18="Mal"),7,""))) -> 7.5 | ... AF19: =IF(AF18="A",7.5,IF(AF18="M",7.5,IF(OR(AF18="C",AF18="Mal"),7,""))) | AG19: =$AG$9 -> 154 | AH19: =SUM(B19:AF19) -> 105 | AI19: =AH19-AG19 -> -49 | AJ19: =Août!AK19 -> -113.75 | AK19: =AJ19+AI19 -> -162.75
A20: Régine | G20: RH | H20: M | I20: M | J20: M | K20: RH | L20: A | M20: A | N20: A | O20: A | P20: RH | Q20: RH | R20: M | S20: M | T20: M | U20: M | V20: RH | W20: A | X20: A | Y20: A | Z20: RH | AA20: RH
B21: =IF(B20="A",7.5,IF(B20="M",7.5,IF(OR(B20="C",B20="Mal"),7,""))) | C21: =IF(C20="A",7.5,IF(C20="M",7.5,IF(OR(C20="C",C20="Mal"),7,""))) | D21: =IF(D20="A",7.5,IF(D20="M",7.5,IF(OR(D20="C",D20="Mal"),7,""))) | E21: =IF(E20="A",7.5,IF(E20="M",7.5,IF(OR(E20="C",E20="Mal"),7,""))) | F21: =IF(F20="A",7.5,IF(F20="M",7.5,IF(OR(F20="C",F20="Mal"),7,""))) | G21: =IF(G20="A",7.5,IF(G20="M",7.5,IF(OR(G20="C",G20="Mal"),7,""))) | H21: =IF(H20="A",7.5,IF(H20="M",7.5,IF(OR(H20="C",H20="Mal"),7,""))) -> 7.5 | I21: =IF(I20="A",7.5,IF(I20="M",7.5,IF(OR(I20="C",I20="Mal"),7,""))) -> 7.5 | ... AF21: =IF(AF20="A",7.5,IF(AF20="M",7.5,IF(OR(AF20="C",AF20="Mal"),7,""))) | AG21: =$AG$9 -> 154 | AH21: =SUM(B21:AF21) -> 105 | AI21: =AH21-AG21 -> -49 | AJ21: =Août!AK21 -> -157.5 | AK21: =AJ21+AI21 -> -206.5
A22: Martine
B23: =IF(B22="A",7.5,IF(B22="M",7.5,IF(OR(B22="C",B22="Mal"),7,""))) | C23: =IF(C22="A",7.5,IF(C22="M",7.5,IF(OR(C22="C",C22="Mal"),7,""))) | D23: =IF(D22="A",7.5,IF(D22="M",7.5,IF(OR(D22="C",D22="Mal"),7,""))) | E23: =IF(E22="A",7.5,IF(E22="M",7.5,IF(OR(E22="C",E22="Mal"),7,""))) | F23: =IF(F22="A",7.5,IF(F22="M",7.5,IF(OR(F22="C",F22="Mal"),7,""))) | G23: =IF(G22="A",7.5,IF(G22="M",7.5,IF(OR(G22="C",G22="Mal"),7,""))) | H23: =IF(H22="A",7.5,IF(H22="M",7.5,IF(OR(H22="C",H22="Mal"),7,""))) | I23: =IF(I22="A",7.5,IF(I22="M",7.5,IF(OR(I22="C",I22="Mal"),7,""))) | ... AF23: =IF(AF22="A",7.5,IF(AF22="M",7.5,IF(OR(AF22="C",AF22="Mal"),7,""))) | AG23: =$AG$9 -> 154 | AH23: =SUM(B23:AF23) -> 0 | AI23: =AH23-AG23 -> -154 | AJ23: =Août!AK23 -> -390.75 | AK23: =AJ23+AI23 -> -544.75
A24: Aides-soignantes
A26: Claudia | B26: J | E26: J | F26: J | H26: J | K26: J | N26: J | S26: J | T26: J | U26: C | V26: C | W26: C | X26: C | Y26: C | AB26: J | AC26: J
B27: =IF(B26="J",12,(IF(B26="A",7.5,IF(B26="M",7.5,IF(B26="C",7,""))))) -> 12 | C27: =IF(C26="J",12,(IF(C26="A",7.5,IF(C26="M",7.5,IF(C26="C",7,""))))) | D27: =IF(D26="J",12,(IF(D26="A",7.5,IF(D26="M",7.5,IF(D26="C",7,""))))) | E27: =IF(E26="J",12,(IF(E26="A",7.5,IF(E26="M",7.5,IF(E26="C",7,""))))) -> 12 | F27: =IF(F26="J",12,(IF(F26="A",7.5,IF(F26="M",7.5,IF(F26="C",7,""))))) -> 12 | G27: =IF(G26="J",12,(IF(G26="A",7.5,IF(G26="M",7.5,IF(G26="C",7,""))))) | H27: =IF(H26="J",12,(IF(H26="A",7.5,IF(H26="M",7.5,IF(H26="C",7,""))))) -> 12 | I27: =IF(I26="J",12,(IF(I26="A",7.5,IF(I26="M",7.5,IF(I26="C",7,""))))) | ... AF27: =IF(AF26="J",12,(IF(AF26="A",7.5,IF(AF26="M",7.5,IF(AF26="C",7,""))))) | AG27: =$AG$9 -> 154 | AH27: =SUM(B27:AF27) -> 155 | AI27: =AH27-AG27 -> 1 | AJ27: =Août!AK27 -> 48.25 | AK27: =AJ27+AI27 -> 49.25
A28: Rachel | B28: C | C28: C | D28: C | I28: J | J28: J | O28: J | R28: J | U28: J | X28: J | Z28: J | AA28: J | AD28: J | AE28: J
B29: =IF(B28="J",12,(IF(B28="A",7.5,IF(B28="M",7.5,IF(B28="C",7,""))))) -> 7 | C29: =IF(C28="J",12,(IF(C28="A",7.5,IF(C28="M",7.5,IF(C28="C",7,""))))) -> 7 | D29: =IF(D28="J",12,(IF(D28="A",7.5,IF(D28="M",7.5,IF(D28="C",7,""))))) -> 7 | E29: =IF(E28="J",12,(IF(E28="A",7.5,IF(E28="M",7.5,IF(E28="C",7,""))))) | F29: =IF(F28="J",12,(IF(F28="A",7.5,IF(F28="M",7.5,IF(F28="C",7,""))))) | G29: =IF(G28="J",12,(IF(G28="A",7.5,IF(G28="M",7.5,IF(G28="C",7,""))))) | H29: =IF(H28="J",12,(IF(H28="A",7.5,IF(H28="M",7.5,IF(H28="C",7,""))))) | I29: =IF(I28="J",12,(IF(I28="A",7.5,IF(I28="M",7.5,IF(I28="C",7,""))))) -> 12 | ... AB29: =IF(AB28="J",12,(IF(AB28="A",7.5,IF(AB28="M",7.5,IF(AB28="C",7,""))))) | AD29: =IF(AD28="J",12,(IF(AD28="A",7.5,IF(AD28="M",7.5,IF(AD28="C",7,""))))) -> 12 | AE29: =IF(AE28="J",12,(IF(AE28="A",7.5,IF(AE28="M",7.5,IF(AE28="C",7,""))))) -> 12 | AF29: =IF(AF28="J",12,(IF(AF28="A",7.5,IF(AF28="M",7.5,IF(AF28="C",7,""))))) | AG29: =$AG$9 -> 154 | AH29: =SUM(B29:AF29) -> 141 | AI29: =AH29-AG29 -> -13 | AJ29: =Août!AK29 -> 67.25 | AK29: =AJ29+AI29 -> 54.25
A30: Sabine | C30: J | D30: J | G30: J | L30: J | M30: J | P30: J | Q30: J | U30: M | W30: J | Y30: J1
B31: =IF(B30="J",12,(IF(B30="A",7.5,IF(B30="M",7.5,IF(B30="C",7,""))))) | C31: 12 | D31: =IF(D30="J",12,(IF(D30="A",7.5,IF(D30="M",7.5,IF(D30="C",7,""))))) -> 12 | E31: =IF(E30="J",12,(IF(E30="A",7.5,IF(E30="M",7.5,IF(E30="C",7,""))))) | F31: =IF(F30="J",12,(IF(F30="A",7.5,IF(F30="M",7.5,IF(F30="C",7,""))))) | G31: =IF(G30="J",12,(IF(G30="A",7.5,IF(G30="M",7.5,IF(G30="C",7,""))))) -> 12 | H31: =IF(H30="J",12,(IF(H30="A",7.5,IF(H30="M",7.5,IF(H30="C",7,""))))) | I31: =IF(I30="J",12,(IF(I30="A",7.5,IF(I30="M",7.5,IF(I30="C",7,""))))) | J31: =IF(J30="J",12,(IF(J30="A",7.5,IF(J30="M",7.5,IF(J30="C",7,""))))) | K31: =IF(K30="J",12,(IF(K30="A",7.5,IF(K30="M",7.5,IF(K30="C",7,""))))) | ... T31: =IF(T30="J",12,(IF(T30="A",7.5,IF(T30="M",7.5,IF(T30="C",7,""))))) | U31: 7 | V31: =IF(V30="J",12,(IF(V30="A",7.5,IF(V30="M",7.5,IF(V30="C",7,""))))) | W31: =IF(W30="J",12,(IF(W30="A",7.5,IF(W30="M",7.5,IF(W30="C",7,""))))) -> 12 | X31: =IF(X30="J",12,(IF(X30="A",7.5,IF(X30="M",7.5,IF(X30="C",7,""))))) | Y31: =IF(Y30="J",12,(IF(Y30="A",7.5,IF(Y30="M",7.5,IF(Y30="C",7,""))))) | Z31: =IF(Z30="J",12,(IF(Z30="A",7.5,IF(Z30="M",7.5,IF(Z30="C",7,""))))) | AA31: =IF(AA30="J",12,(IF(AA30="A",7.5,IF(AA30="M",7.5,IF(AA30="C",7,""))))) | AB31: =IF(AB30="J",12,(IF(AB30="A",7.5,IF(AB30="M",7.5,IF(AB30="C",7,""))))) | AC31: =IF(AC30="J",12,(IF(AC30="A",7.5,IF(AC30="M",7.5,IF(AC30="C",7,""))))) | ... AF31: =IF(AF30="J",12,(IF(AF30="A",7.5,IF(AF30="M",7.5,IF(AF30="C",7,""))))) | AG31: =$AG$9 -> 154 | AH31: =SUM(B31:AF31) -> 103 | AI31: =AH31-AG31 -> -51 | AJ31: =Août!AK31 -> -1.5 | AK31: =AJ31+AI31 -> -52.5

Sheet Octobre
A2: =Janvier!A2 -> Année
A3: =Janvier!A3 -> 2021 | B3: Planning prévionnel d'Octobre 2021
A6: =CONCATENATE(A8) -> Octobre | B6: =DATE($A$3,MONTH(1&$A$6),B9) -> 44470 | C6: =DATE($A$3,MONTH(1&$A$6),C9) -> 44471 | D6: =DATE($A$3,MONTH(1&$A$6),D9) -> 44472 | E6: =DATE($A$3,MONTH(1&$A$6),E9) -> 44473 | F6: =DATE($A$3,MONTH(1&$A$6),F9) -> 44474 | G6: =DATE($A$3,MONTH(1&$A$6),G9) -> 44475 | H6: =DATE($A$3,MONTH(1&$A$6),H9) -> 44476 | I6: =DATE($A$3,MONTH(1&$A$6),I9) -> 44477 | ... AF6: =DATE($A$3,MONTH(1&$A$6),AF9) -> 44500
B7: =COUNTIFS(Fériés!$E$5:$E$17,B6) -> 0 | C7: =COUNTIFS(Fériés!$E$5:$E$17,C6) -> 0 | D7: =COUNTIFS(Fériés!$E$5:$E$17,D6) -> 0 | E7: =COUNTIFS(Fériés!$E$5:$E$17,E6) -> 0 | F7: =COUNTIFS(Fériés!$E$5:$E$17,F6) -> 0 | G7: =COUNTIFS(Fériés!$E$5:$E$17,G6) -> 0 | H7: =COUNTIFS(Fériés!$E$5:$E$17,H6) -> 0 | I7: =COUNTIFS(Fériés!$E$5:$E$17,I6) -> 0 | ... AF7: =COUNTIFS(Fériés!$E$5:$E$17,AF6) -> 0
A8: =MID(CELL("nomfichier",A1),FIND("]",CELL("nomfichier",A1))+1,20) -> Octobre | B8: =TEXT(DATE($A$3,MONTH(1&TEXT($A$8,"")),B9),"jjj") -> ven | C8: =TEXT(DATE($A$3,MONTH(1&TEXT($A$8,"")),C9),"jjj") -> sam | D8: =TEXT(DATE($A$3,MONTH(1&TEXT($A$8,"")),D9),"jjj") -> dim | E8: =TEXT(DATE($A$3,MONTH(1&TEXT($A$8,"")),E9),"jjj") -> lun | F8: =TEXT(DATE($A$3,MONTH(1&TEXT($A$8,"")),F9),"jjj") -> mar | G8: =TEXT(DATE($A$3,MONTH(1&TEXT($A$8,"")),G9),"jjj") -> mer | H8: =TEXT(DATE($A$3,MONTH(1&TEXT($A$8,"")),H9),"jjj") -> jeu | I8: =TEXT(DATE($A$3,MONTH(1&TEXT($A$8,"")),I9),"jjj") -> ven | ... AF8: =TEXT(DATE($A$3,MONTH(1&TEXT($A$8,"")),AF9),"jjj") -> dim | AG8: Théoriques | AH8: Réalisées | AI8: Différences | AJ8: Soldes
B9: 1 | C9: 2 | D9: 3 | E9: 4 | F9: 5 | G9: 6 | H9: 7 | I9: 8 | J9: 9 | K9: 10 | L9: 11 | M9: 12 | N9: 13 | O9: 14 | P9: 15 | Q9: 16 | R9: 17 | S9: 18 | T9: 19 | U9: 20 | V9: 21 | W9: 22 | X9: 23 | Y9: 24 | Z9: 25 | AA9: 26 | AB9: 27 | AC9: 28 | AD9: 29 | AE9: 30 | AF9: 31 | AG9: =21*7 -> 147 | AJ9: Ancien | AK9: Nouveau
A10: Infirmieres
A12: Anna
B13: =IF(B12="A",7.5,IF(B12="M",7.5,IF(OR(B12="C",B12="Mal"),7,""))) | C13: =IF(C12="A",7.5,IF(C12="M",7.5,IF(OR(C12="C",C12="Mal"),7,""))) | D13: =IF(D12="A",7.5,IF(D12="M",7.5,IF(OR(D12="C",D12="Mal"),7,""))) | E13: =IF(E12="A",7.5,IF(E12="M",7.5,IF(OR(E12="C",E12="Mal"),7,""))) | F13: =IF(F12="A",7.5,IF(F12="M",7.5,IF(OR(F12="C",F12="Mal"),7,""))) | G13: =IF(G12="A",7.5,IF(G12="M",7.5,IF(OR(G12="C",G12="Mal"),7,""))) | H13: =IF(H12="A",7.5,IF(H12="M",7.5,IF(OR(H12="C",H12="Mal"),7,""))) | I13: =IF(I12="A",7.5,IF(I12="M",7.5,IF(OR(I12="C",I12="Mal"),7,""))) | ... AF13: =IF(AF12="A",7.5,IF(AF12="M",7.5,IF(OR(AF12="C",AF12="Mal"),7,""))) | AG13: =$AG$9 -> 147 | AH13: =SUM(B13:AF13) -> 0 | AI13: =AH13-AG13 -> -147 | AJ13: =Septembre!AK13 -> -873.75 | AK13: =AJ13+AI13 -> -1020.75
A14: Catherine | B14: RH | C14: A | D14: A | E14: A | F14: A | G14: RH | H14: RH | I14: M | J14: M | K14: M | L14: M | M14: RH | N14: A | O14: A | P14: A | Q14: RH | R14: RH | Z14: RH | AA14: M | AB14: M | AC14: M | AD14: RH | AE14: A | AF14: A
B15: =IF(B14="A",7.5,IF(B14="M",7.5,IF(OR(B14="C",B14="Mal"),7,""))) | C15: =IF(C14="A",7.5,IF(C14="M",7.5,IF(OR(C14="C",C14="Mal"),7,""))) -> 7.5 | D15: =IF(D14="A",7.5,IF(D14="M",7.5,IF(OR(D14="C",D14="Mal"),7,""))) -> 7.5 | E15: =IF(E14="A",7.5,IF(E14="M",7.5,IF(OR(E14="C",E14="Mal"),7,""))) -> 7.5 | F15: =IF(F14="A",7.5,IF(F14="M",7.5,IF(OR(F14="C",F14="Mal"),7,""))) -> 7.5 | G15: =IF(G14="A",7.5,IF(G14="M",7.5,IF(OR(G14="C",G14="Mal"),7,""))) | H15: =IF(H14="A",7.5,IF(H14="M",7.5,IF(OR(H14="C",H14="Mal"),7,""))) | I15: =IF(I14="A",7.5,IF(I14="M",7.5,IF(OR(I14="C",I14="Mal"),7,""))) -> 7.5 | ... AF15: =IF(AF14="A",7.5,IF(AF14="M",7.5,IF(OR(AF14="C",AF14="Mal"),7,""))) -> 7.5 | AG15: =$AG$9 -> 147 | AH15: =SUM(B15:AF15) -> 120 | AI15: =AH15-AG15 -> -27 | AJ15: =Septembre!AK15 -> -212.75 | AK15: =AJ15+AI15 -> -239.75
A16: Denise | B16: A | C16: RH | D16: RH | L16: RH | M16: M | N16: M | O16: M | P16: RH | Q16: A | R16: A | S16: A | T16: A | U16: RH | V16: RH | W16: M | X16: M | Y16: M | Z16: M | AA16: RH | AB16: A | AC16: A | AD16: A | AE16: RH | AF16: RH
B17: =IF(B16="A",7.5,IF(B16="M",7.5,IF(OR(B16="C",B16="Mal"),7,""))) -> 7.5 | C17: =IF(C16="A",7.5,IF(C16="M",7.5,IF(OR(C16="C",C16="Mal"),7,""))) | D17: =IF(D16="A",7.5,IF(D16="M",7.5,IF(OR(D16="C",D16="Mal"),7,""))) | E17: =IF(E16="A",7.5,IF(E16="M",7.5,IF(OR(E16="C",E16="Mal"),7,""))) | F17: =IF(F16="A",7.5,IF(F16="M",7.5,IF(OR(F16="C",F16="Mal"),7,""))) | G17: =IF(G16="A",7.5,IF(G16="M",7.5,IF(OR(G16="C",G16="Mal"),7,""))) | H17: =IF(H16="A",7.5,IF(H16="M",7.5,IF(OR(H16="C",H16="Mal"),7,""))) | I17: =IF(I16="A",7.5,IF(I16="M",7.5,IF(OR(I16="C",I16="Mal"),7,""))) | ... AF17: =IF(AF16="A",7.5,IF(AF16="M",7.5,IF(OR(AF16="C",AF16="Mal"),7,""))) | AG17: =$AG$9 -> 147 | AH17: =SUM(B17:AF17) -> 112.5 | AI17: =AH17-AG17 -> -34.5 | AJ17: =Septembre!AK17 -> -177.75 | AK17: =AJ17+AI17 -> -212.25
A18: Hélène | B18: M | C18: M | D18: M | E18: M | F18: RH | G18: A | H18: A | I18: A | J18: RH | K18: RH | S18: RH | T18: M | U18: M | V18: M | W18: RH | X18: A | Y18: A | Z18: A | AA18: A | AB18: RH | AC18: RH | AD18: M | AE18: M | AF18: M
B19: =IF(B18="A",7.5,IF(B18="M",7.5,IF(OR(B18="C",B18="Mal"),7,""))) -> 7.5 | C19: =IF(C18="A",7.5,IF(C18="M",7.5,IF(OR(C18="C",C18="Mal"),7,""))) -> 7.5 | D19: =IF(D18="A",7.5,IF(D18="M",7.5,IF(OR(D18="C",D18="Mal"),7,""))) -> 7.5 | E19: =IF(E18="A",7.5,IF(E18="M",7.5,IF(OR(E18="C",E18="Mal"),7,""))) -> 7.5 | F19: =IF(F18="A",7.5,IF(F18="M",7.5,IF(OR(F18="C",F18="Mal"),7,""))) | G19: =IF(G18="A",7.5,IF(G18="M",7.5,IF(OR(G18="C",G18="Mal"),7,""))) -> 7.5 | H19: =IF(H18="A",7.5,IF(H18="M",7.5,IF(OR(H18="C",H18="Mal"),7,""))) -> 7.5 | I19: =IF(I18="A",7.5,IF(I18="M",7.5,IF(OR(I18="C",I18="Mal"),7,""))) -> 7.5 | ... AF19: =IF(AF18="A",7.5,IF(AF18="M",7.5,IF(OR(AF18="C",AF18="Mal"),7,""))) -> 7.5 | AG19: =$AG$9 -> 147 | AH19: =SUM(B19:AF19) -> 127.5 | AI19: =AH19-AG19 -> -19.5 | AJ19: =Septembre!AK19 -> -162.75 | AK19: =AJ19+AI19 -> -182.25
A20: Régine | E20: RH | F20: M | G20: M | H20: M | I20: RH | J20: A | K20: A | L20: A | M20: A | N20: RH | O20: RH | P20: M | Q20: M | R20: M | S20: M | T20: RH | U20: A | V20: A | W20: A | X20: RH | Y20: RH
B21: =IF(B20="A",7.5,IF(B20="M",7.5,IF(OR(B20="C",B20="Mal"),7,""))) | C21: =IF(C20="A",7.5,IF(C20="M",7.5,IF(OR(C20="C",C20="Mal"),7,""))) | D21: =IF(D20="A",7.5,IF(D20="M",7.5,IF(OR(D20="C",D20="Mal"),7,""))) | E21: =IF(E20="A",7.5,IF(E20="M",7.5,IF(OR(E20="C",E20="Mal"),7,""))) | F21: =IF(F20="A",7.5,IF(F20="M",7.5,IF(OR(F20="C",F20="Mal"),7,""))) -> 7.5 | G21: =IF(G20="A",7.5,IF(G20="M",7.5,IF(OR(G20="C",G20="Mal"),7,""))) -> 7.5 | H21: =IF(H20="A",7.5,IF(H20="M",7.5,IF(OR(H20="C",H20="Mal"),7,""))) -> 7.5 | I21: =IF(I20="A",7.5,IF(I20="M",7.5,IF(OR(I20="C",I20="Mal"),7,""))) | ... AF21: =IF(AF20="A",7.5,IF(AF20="M",7.5,IF(OR(AF20="C",AF20="Mal"),7,""))) | AG21: =$AG$9 -> 147 | AH21: =SUM(B21:AF21) -> 105 | AI21: =AH21-AG21 -> -42 | AJ21: =Septembre!AK21 -> -206.5 | AK21: =AJ21+AI21 -> -248.5
A22: Martine
B23: =IF(B22="A",7.5,IF(B22="M",7.5,IF(OR(B22="C",B22="Mal"),7,""))) | C23: =IF(C22="A",7.5,IF(C22="M",7.5,IF(OR(C22="C",C22="Mal"),7,""))) | D23: =IF(D22="A",7.5,IF(D22="M",7.5,IF(OR(D22="C",D22="Mal"),7,""))) | E23: =IF(E22="A",7.5,IF(E22="M",7.5,IF(OR(E22="C",E22="Mal"),7,""))) | F23: =IF(F22="A",7.5,IF(F22="M",7.5,IF(OR(F22="C",F22="Mal"),7,""))) | G23: =IF(G22="A",7.5,IF(G22="M",7.5,IF(OR(G22="C",G22="Mal"),7,""))) | H23: =IF(H22="A",7.5,IF(H22="M",7.5,IF(OR(H22="C",H22="Mal"),7,""))) | I23: =IF(I22="A",7.5,IF(I22="M",7.5,IF(OR(I22="C",I22="Mal"),7,""))) | ... AF23: =IF(AF22="A",7.5,IF(AF22="M",7.5,IF(OR(AF22="C",AF22="Mal"),7,""))) | AG23: =$AG$9 -> 147 | AH23: =SUM(B23:AF23) -> 0 | AI23: =AH23-AG23 -> -147 | AJ23: =Septembre!AK23 -> -544.75 | AK23: =AJ23+AI23 -> -691.75
A24: Aides-soignantes
A26: Claudia | B26: J | E26: J | J26: J | K26: J | N26: J | O26: J | T26: J | W26: J | Z26: J | AE26: J | AF26: J
B27: =IF(B26="J",12,(IF(B26="A",7.5,IF(B26="M",7.5,IF(B26="C",7,""))))) -> 12 | C27: =IF(C26="J",12,(IF(C26="A",7.5,IF(C26="M",7.5,IF(C26="C",7,""))))) | D27: =IF(D26="J",12,(IF(D26="A",7.5,IF(D26="M",7.5,IF(D26="C",7,""))))) | E27: 12 | F27: =IF(F26="J",12,(IF(F26="A",7.5,IF(F26="M",7.5,IF(F26="C",7,""))))) | G27: =IF(G26="J",12,(IF(G26="A",7.5,IF(G26="M",7.5,IF(G26="C",7,""))))) | H27: =IF(H26="J",12,(IF(H26="A",7.5,IF(H26="M",7.5,IF(H26="C",7,""))))) | I27: =IF(I26="J",12,(IF(I26="A",7.5,IF(I26="M",7.5,IF(I26="C",7,""))))) | J27: =IF(J26="J",12,(IF(J26="A",7.5,IF(J26="M",7.5,IF(J26="C",7,""))))) -> 12 | K27: =IF(K26="J",12,(IF(K26="A",7.5,IF(K26="M",7.5,IF(K26="C",7,""))))) -> 12 | L27: =IF(L26="J",12,(IF(L26="A",7.5,IF(L26="M",7.5,IF(L26="C",7,""))))) | M27: =IF(M26="J",12,(IF(M26="A",7.5,IF(M26="M",7.5,IF(M26="C",7,""))))) | ... AF27: =IF(AF26="J",12,(IF(AF26="A",7.5,IF(AF26="M",7.5,IF(AF26="C",7,""))))) -> 12 | AG27: =$AG$9 -> 147 | AH27: =SUM(B27:AF27) -> 132 | AI27: =AH27-AG27 -> -15 | AJ27: =Septembre!AK27 -> 49.25 | AK27: =AJ27+AI27 -> 34.25
A28: Rachel | F28: J | I28: J | L28: J | Q28: J | R28: J | U28: J | V28: J | AA28: J | AD28: J
B29: =IF(B28="J",12,(IF(B28="A",7.5,IF(B28="M",7.5,IF(B28="C",7,""))))) | C29: =IF(C28="J",12,(IF(C28="A",7.5,IF(C28="M",7.5,IF(C28="C",7,""))))) | D29: =IF(D28="J",12,(IF(D28="A",7.5,IF(D28="M",7.5,IF(D28="C",7,""))))) | E29: =IF(E28="J",12,(IF(E28="A",7.5,IF(E28="M",7.5,IF(E28="C",7,""))))) | F29: =IF(F28="J",12,(IF(F28="A",7.5,IF(F28="M",7.5,IF(F28="C",7,""))))) -> 12 | G29: =IF(G28="J",12,(IF(G28="A",7.5,IF(G28="M",7.5,IF(G28="C",7,""))))) | H29: =IF(H28="J",12,(IF(H28="A",7.5,IF(H28="M",7.5,IF(H28="C",7,""))))) | I29: =IF(I28="J",12,(IF(I28="A",7.5,IF(I28="M",7.5,IF(I28="C",7,""))))) -> 12 | ... Z29: =IF(Z28="J",12,(IF(Z28="A",7.5,IF(Z28="M",7.5,IF(Z28="C",7,""))))) | AA29: 12 | AB29: =IF(AB28="J",12,(IF(AB28="A",7.5,IF(AB28="M",7.5,IF(AB28="C",7,""))))) | AC29: =IF(AC28="J",12,(IF(AC28="A",7.5,IF(AC28="M",7.5,IF(AC28="C",7,""))))) | AD29: 12 | AE29: =IF(AE28="J",12,(IF(AE28="A",7.5,IF(AE28="M",7.5,IF(AE28="C",7,""))))) | AF29: =IF(AF28="J",12,(IF(AF28="A",7.5,IF(AF28="M",7.5,IF(AF28="C",7,""))))) | AG29: =$AG$9 -> 147 | AH29: =SUM(B29:AF29) -> 108 | AI29: =AH29-AG29 -> -39 | AJ29: =Septembre!AK29 -> 54.25 | AK29: =AJ29+AI29 -> 15.25
A30: Sabine | C30: J | D30: J | G30: J | H30: J | M30: J | P30: J | S30: J | X30: J | Y30: J | AB30: J | AC30: J
B31: =IF(B30="J",12,(IF(B30="A",7.5,IF(B30="M",7.5,IF(B30="C",7,""))))) | C31: =IF(C30="J",12,(IF(C30="A",7.5,IF(C30="M",7.5,IF(C30="C",7,""))))) -> 12 | D31: =IF(D30="J",12,(IF(D30="A",7.5,IF(D30="M",7.5,IF(D30="C",7,""))))) -> 12 | E31: =IF(E30="J",12,(IF(E30="A",7.5,IF(E30="M",7.5,IF(E30="C",7,""))))) | F31: =IF(F30="J",12,(IF(F30="A",7.5,IF(F30="M",7.5,IF(F30="C",7,""))))) | G31: =IF(G30="J",12,(IF(G30="A",7.5,IF(G30="M",7.5,IF(G30="C",7,""))))) -> 12 | H31: =IF(H30="J",12,(IF(H30="A",7.5,IF(H30="M",7.5,IF(H30="C",7,""))))) -> 12 | I31: =IF(I30="J",12,(IF(I30="A",7.5,IF(I30="M",7.5,IF(I30="C",7,""))))) | ... AF31: =IF(AF30="J",12,(IF(AF30="A",7.5,IF(AF30="M",7.5,IF(AF30="C",7,""))))) | AG31: =$AG$9 -> 147 | AH31: =SUM(B31:AF31) -> 132 | AI31: =AH31-AG31 -> -15 | AJ31: =Septembre!AK31 -> -52.5 | AK31: =AJ31+AI31 -> -67.5

Sheet Novembre
A2: =Janvier!A2 -> Année
A3: =Janvier!A3 -> 2021 | B3: Planning prévisionnel de Novembre 2021
A6: =CONCATENATE(A8) -> Novembre | B6: =DATE($A$3,MONTH(1&$A$6),B9) -> 44501 | C6: =DATE($A$3,MONTH(1&$A$6),C9) -> 44502 | D6: =DATE($A$3,MONTH(1&$A$6),D9) -> 44503 | E6: =DATE($A$3,MONTH(1&$A$6),E9) -> 44504 | F6: =DATE($A$3,MONTH(1&$A$6),F9) -> 44505 | G6: =DATE($A$3,MONTH(1&$A$6),G9) -> 44506 | H6: =DATE($A$3,MONTH(1&$A$6),H9) -> 44507 | I6: =DATE($A$3,MONTH(1&$A$6),I9) -> 44508 | ... AF6: =DATE($A$3,MONTH(1&$A$6),AF9) -> 44500
B7: =COUNTIFS(Fériés!$E$5:$E$17,B6) -> 1 | C7: =COUNTIFS(Fériés!$E$5:$E$17,C6) -> 0 | D7: =COUNTIFS(Fériés!$E$5:$E$17,D6) -> 0 | E7: =COUNTIFS(Fériés!$E$5:$E$17,E6) -> 0 | F7: =COUNTIFS(Fériés!$E$5:$E$17,F6) -> 0 | G7: =COUNTIFS(Fériés!$E$5:$E$17,G6) -> 0 | H7: =COUNTIFS(Fériés!$E$5:$E$17,H6) -> 0 | I7: =COUNTIFS(Fériés!$E$5:$E$17,I6) -> 0 | ... AF7: =COUNTIFS(Fériés!$E$5:$E$17,AF6) -> 0
A8: =MID(CELL("nomfichier",A1),FIND("]",CELL("nomfichier",A1))+1,20) -> Novembre | B8: =TEXT(DATE($A$3,MONTH(1&TEXT($A$8,"")),B9),"jjj") -> lun | C8: =TEXT(DATE($A$3,MONTH(1&TEXT($A$8,"")),C9),"jjj") -> mar | D8: =TEXT(DATE($A$3,MONTH(1&TEXT($A$8,"")),D9),"jjj") -> mer | E8: =TEXT(DATE($A$3,MONTH(1&TEXT($A$8,"")),E9),"jjj") -> jeu | F8: =TEXT(DATE($A$3,MONTH(1&TEXT($A$8,"")),F9),"jjj") -> ven | G8: =TEXT(DATE($A$3,MONTH(1&TEXT($A$8,"")),G9),"jjj") -> sam | H8: =TEXT(DATE($A$3,MONTH(1&TEXT($A$8,"")),H9),"jjj") -> dim | I8: =TEXT(DATE($A$3,MONTH(1&TEXT($A$8,"")),I9),"jjj") -> lun | ... AE8: =TEXT(DATE($A$3,MONTH(1&TEXT($A$8,"")),AE9),"jjj") -> mar | AG8: Théoriques | AH8: Réalisées | AI8: Différences | AJ8: Soldes
B9: 1 | C9: 2 | D9: 3 | E9: 4 | F9: 5 | G9: 6 | H9: 7 | I9: 8 | J9: 9 | K9: 10 | L9: 11 | M9: 12 | N9: 13 | O9: 14 | P9: 15 | Q9: 16 | R9: 17 | S9: 18 | T9: 19 | U9: 20 | V9: 21 | W9: 22 | X9: 23 | Y9: 24 | Z9: 25 | AA9: 26 | AB9: 27 | AC9: 28 | AD9: 29 | AE9: 30 | AG9: =20*7 -> 140 | AJ9: Ancien | AK9: Nouveau
A10: Infirmieres
A12: Anna
B13: =IF(B12="A",7.5,IF(B12="M",7.5,IF(OR(B12="C",B12="Mal"),7,""))) | C13: =IF(C12="A",7.5,IF(C12="M",7.5,IF(OR(C12="C",C12="Mal"),7,""))) | D13: =IF(D12="A",7.5,IF(D12="M",7.5,IF(OR(D12="C",D12="Mal"),7,""))) | E13: =IF(E12="A",7.5,IF(E12="M",7.5,IF(OR(E12="C",E12="Mal"),7,""))) | F13: =IF(F12="A",7.5,IF(F12="M",7.5,IF(OR(F12="C",F12="Mal"),7,""))) | G13: =IF(G12="A",7.5,IF(G12="M",7.5,IF(OR(G12="C",G12="Mal"),7,""))) | H13: =IF(H12="A",7.5,IF(H12="M",7.5,IF(OR(H12="C",H12="Mal"),7,""))) | I13: =IF(I12="A",7.5,IF(I12="M",7.5,IF(OR(I12="C",I12="Mal"),7,""))) | ... AF13: =IF(AF12="A",7.5,IF(AF12="M",7.5,IF(OR(AF12="C",AF12="Mal"),7,""))) | AG13: =$AG$9 -> 140 | AH13: =SUM(B13:AF13) -> 0 | AI13: =AH13-AG13 -> -140 | AJ13: =Octobre!AK13 -> -1020.75 | AK13: =AJ13+AI13 -> -1160.75
A14: Catherine | B14: A | C14: A | D14: RH | E14: RH | F14: M | G14: M | H14: M | I14: M | J14: RH | K14: A | L14: A | M14: A | N14: RH | O14: RH | W14: RH | X14: M | Y14: M | Z14: M | AA14: RH | AB14: A | AC14: A | AD14: A | AE14: A
B15: =IF(B14="A",7.5,IF(B14="M",7.5,IF(OR(B14="C",B14="Mal"),7,""))) -> 7.5 | C15: =IF(C14="A",7.5,IF(C14="M",7.5,IF(OR(C14="C",C14="Mal"),7,""))) -> 7.5 | D15: =IF(D14="A",7.5,IF(D14="M",7.5,IF(OR(D14="C",D14="Mal"),7,""))) | E15: =IF(E14="A",7.5,IF(E14="M",7.5,IF(OR(E14="C",E14="Mal"),7,""))) | F15: =IF(F14="A",7.5,IF(F14="M",7.5,IF(OR(F14="C",F14="Mal"),7,""))) -> 7.5 | G15: =IF(G14="A",7.5,IF(G14="M",7.5,IF(OR(G14="C",G14="Mal"),7,""))) -> 7.5 | H15: =IF(H14="A",7.5,IF(H14="M",7.5,IF(OR(H14="C",H14="Mal"),7,""))) -> 7.5 | I15: =IF(I14="A",7.5,IF(I14="M",7.5,IF(OR(I14="C",I14="Mal"),7,""))) -> 7.5 | ... AF15: =IF(AF14="A",7.5,IF(AF14="M",7.5,IF(OR(AF14="C",AF14="Mal"),7,""))) | AG15: =$AG$9 -> 140 | AH15: =SUM(B15:AF15) -> 120 | AI15: =AH15-AG15 -> -20 | AJ15: =Octobre!AK15 -> -239.75 | AK15: =AJ15+AI15 -> -259.75
A16: Denise | I16: RH | J16: M | K16: M | L16: M | M16: RH | N16: A | O16: A | P16: A | Q16: A | R16: RH | S16: RH | T16: M | U16: M | V16: M | W16: M | X16: RH | Y16: A | Z16: A | AA16: A | AB16: RH | AC16: RH
B17: =IF(B16="A",7.5,IF(B16="M",7.5,IF(OR(B16="C",B16="Mal"),7,""))) | C17: =IF(C16="A",7.5,IF(C16="M",7.5,IF(OR(C16="C",C16="Mal"),7,""))) | D17: =IF(D16="A",7.5,IF(D16="M",7.5,IF(OR(D16="C",D16="Mal"),7,""))) | E17: =IF(E16="A",7.5,IF(E16="M",7.5,IF(OR(E16="C",E16="Mal"),7,""))) | F17: =IF(F16="A",7.5,IF(F16="M",7.5,IF(OR(F16="C",F16="Mal"),7,""))) | G17: =IF(G16="A",7.5,IF(G16="M",7.5,IF(OR(G16="C",G16="Mal"),7,""))) | H17: =IF(H16="A",7.5,IF(H16="M",7.5,IF(OR(H16="C",H16="Mal"),7,""))) | I17: =IF(I16="A",7.5,IF(I16="M",7.5,IF(OR(I16="C",I16="Mal"),7,""))) | ... AF17: =IF(AF16="A",7.5,IF(AF16="M",7.5,IF(OR(AF16="C",AF16="Mal"),7,""))) | AG17: =$AG$9 -> 140 | AH17: =SUM(B17:AF17) -> 105 | AI17: =AH17-AG17 -> -35 | AJ17: =Octobre!AK17 -> -212.25 | AK17: =AJ17+AI17 -> -247.25
A18: Hélène | B18: M | C18: RH | D18: A | E18: A | F18: A | G18: RH | H18: RH | P18: RH | Q18: M | R18: M | S18: M | T18: RH | U18: A | V18: A | W18: A | X18: A | Y18: RH | Z18: RH | AA18: M | AB18: M | AC18: M | AD18: M | AE18: RH
B19: =IF(B18="A",7.5,IF(B18="M",7.5,IF(OR(B18="C",B18="Mal"),7,""))) -> 7.5 | C19: =IF(C18="A",7.5,IF(C18="M",7.5,IF(OR(C18="C",C18="Mal"),7,""))) | D19: =IF(D18="A",7.5,IF(D18="M",7.5,IF(OR(D18="C",D18="Mal"),7,""))) -> 7.5 | E19: =IF(E18="A",7.5,IF(E18="M",7.5,IF(OR(E18="C",E18="Mal"),7,""))) -> 7.5 | F19: =IF(F18="A",7.5,IF(F18="M",7.5,IF(OR(F18="C",F18="Mal"),7,""))) -> 7.5 | G19: =IF(G18="A",7.5,IF(G18="M",7.5,IF(OR(G18="C",G18="Mal"),7,""))) | H19: =IF(H18="A",7.5,IF(H18="M",7.5,IF(OR(H18="C",H18="Mal"),7,""))) | I19: =IF(I18="A",7.5,IF(I18="M",7.5,IF(OR(I18="C",I18="Mal"),7,""))) | ... AF19: =IF(AF18="A",7.5,IF(AF18="M",7.5,IF(OR(AF18="C",AF18="Mal"),7,""))) | AG19: =$AG$9 -> 140 | AH19: =SUM(B19:AF19) -> 112.5 | AI19: =AH19-AG19 -> -27.5 | AJ19: =Octobre!AK19 -> -182.25 | AK19: =AJ19+AI19 -> -209.75
A20: Régine | B20: RH | C20: M | D20: M | E20: M | F20: RH | G20: A | H20: A | I20: A | J20: A | K20: RH | L20: RH | M20: M | N20: M | O20: M | P20: M | Q20: RH | R20: A | S20: A | T20: A | U20: RH | V20: RH | AD20: RH | AE20: M
B21: =IF(B20="A",7.5,IF(B20="M",7.5,IF(OR(B20="C",B20="Mal"),7,""))) | C21: =IF(C20="A",7.5,IF(C20="M",7.5,IF(OR(C20="C",C20="Mal"),7,""))) -> 7.5 | D21: =IF(D20="A",7.5,IF(D20="M",7.5,IF(OR(D20="C",D20="Mal"),7,""))) -> 7.5 | E21: =IF(E20="A",7.5,IF(E20="M",7.5,IF(OR(E20="C",E20="Mal"),7,""))) -> 7.5 | F21: =IF(F20="A",7.5,IF(F20="M",7.5,IF(OR(F20="C",F20="Mal"),7,""))) | G21: =IF(G20="A",7.5,IF(G20="M",7.5,IF(OR(G20="C",G20="Mal"),7,""))) -> 7.5 | H21: =IF(H20="A",7.5,IF(H20="M",7.5,IF(OR(H20="C",H20="Mal"),7,""))) -> 7.5 | I21: =IF(I20="A",7.5,IF(I20="M",7.5,IF(OR(I20="C",I20="Mal"),7,""))) -> 7.5 | ... AF21: =IF(AF20="A",7.5,IF(AF20="M",7.5,IF(OR(AF20="C",AF20="Mal"),7,""))) | AG21: =$AG$9 -> 140 | AH21: =SUM(B21:AF21) -> 112.5 | AI21: =AH21-AG21 -> -27.5 | AJ21: =Octobre!AK21 -> -248.5 | AK21: =AJ21+AI21 -> -276
A22: Martine
B23: =IF(B22="A",7.5,IF(B22="M",7.5,IF(OR(B22="C",B22="Mal"),7,""))) | C23: =IF(C22="A",7.5,IF(C22="M",7.5,IF(OR(C22="C",C22="Mal"),7,""))) | D23: =IF(D22="A",7.5,IF(D22="M",7.5,IF(OR(D22="C",D22="Mal"),7,""))) | E23: =IF(E22="A",7.5,IF(E22="M",7.5,IF(OR(E22="C",E22="Mal"),7,""))) | F23: =IF(F22="A",7.5,IF(F22="M",7.5,IF(OR(F22="C",F22="Mal"),7,""))) | G23: =IF(G22="A",7.5,IF(G22="M",7.5,IF(OR(G22="C",G22="Mal"),7,""))) | H23: =IF(H22="A",7.5,IF(H22="M",7.5,IF(OR(H22="C",H22="Mal"),7,""))) | I23: =IF(I22="A",7.5,IF(I22="M",7.5,IF(OR(I22="C",I22="Mal"),7,""))) | ... AF23: =IF(AF22="A",7.5,IF(AF22="M",7.5,IF(OR(AF22="C",AF22="Mal"),7,""))) | AG23: =$AG$9 -> 140 | AH23: =SUM(B23:AF23) -> 0 | AI23: =AH23-AG23 -> -140 | AJ23: =Octobre!AK23 -> -691.75 | AK23: =AJ23+AI23 -> -831.75
A24: Aides-soignantes
A26: Claudia | D26: J | E26: J | J26: J | M26: J | P26: J | U26: J | V26: J | Y26: J | Z26: J | AE26: J
C27: =IF(C26="J",12,(IF(C26="A",7.5,IF(C26="M",7.5,IF(C26="C",7,""))))) | D27: =IF(D26="J",12,(IF(D26="A",7.5,IF(D26="M",7.5,IF(D26="C",7,""))))) -> 12 | E27: =IF(E26="J",12,(IF(E26="A",7.5,IF(E26="M",7.5,IF(E26="C",7,""))))) -> 12 | F27: =IF(F26="J",12,(IF(F26="A",7.5,IF(F26="M",7.5,IF(F26="C",7,""))))) | G27: =IF(G26="J",12,(IF(G26="A",7.5,IF(G26="M",7.5,IF(G26="C",7,""))))) | H27: =IF(H26="J",12,(IF(H26="A",7.5,IF(H26="M",7.5,IF(H26="C",7,""))))) | I27: =IF(I26="J",12,(IF(I26="A",7.5,IF(I26="M",7.5,IF(I26="C",7,""))))) | J27: =IF(J26="J",12,(IF(J26="A",7.5,IF(J26="M",7.5,IF(J26="C",7,""))))) -> 12 | K27: =IF(K26="J",12,(IF(K26="A",7.5,IF(K26="M",7.5,IF(K26="C",7,""))))) | M27: 12 | N27: =IF(N26="J",12,(IF(N26="A",7.5,IF(N26="M",7.5,IF(N26="C",7,""))))) | O27: =IF(O26="J",12,(IF(O26="A",7.5,IF(O26="M",7.5,IF(O26="C",7,""))))) | P27: =IF(P26="J",12,(IF(P26="A",7.5,IF(P26="M",7.5,IF(P26="C",7,""))))) -> 12 | Q27: =IF(Q26="J",12,(IF(Q26="A",7.5,IF(Q26="M",7.5,IF(Q26="C",7,""))))) | R27: =IF(R26="J",12,(IF(R26="A",7.5,IF(R26="M",7.5,IF(R26="C",7,""))))) | S27: =IF(S26="J",12,(IF(S26="A",7.5,IF(S26="M",7.5,IF(S26="C",7,""))))) | T27: =IF(T26="J",12,(IF(T26="A",7.5,IF(T26="M",7.5,IF(T26="C",7,""))))) | U27: =IF(U26="J",12,(IF(U26="A",7.5,IF(U26="M",7.5,IF(U26="C",7,""))))) -> 12 | ... AF27: =IF(AF26="J",12,(IF(AF26="A",7.5,IF(AF26="M",7.5,IF(AF26="C",7,""))))) | AG27: =$AG$9 -> 140 | AH27: =SUM(B27:AF27) -> 120 | AI27: =AH27-AG27 -> -20 | AJ27: =Octobre!AK27 -> 34.25 | AK27: =AJ27+AI27 -> 14.25
A28: Rachel | B28: J | G28: J | H28: J | K28: J | L28: J | Q28: J | S28: J | W28: J | AB28: J | AC28: J
B29: 12 | C29: =IF(C28="J",12,(IF(C28="A",7.5,IF(C28="M",7.5,IF(C28="C",7,""))))) | D29: =IF(D28="J",12,(IF(D28="A",7.5,IF(D28="M",7.5,IF(D28="C",7,""))))) | E29: =IF(E28="J",12,(IF(E28="A",7.5,IF(E28="M",7.5,IF(E28="C",7,""))))) | F29: =IF(F28="J",12,(IF(F28="A",7.5,IF(F28="M",7.5,IF(F28="C",7,""))))) | G29: =IF(G28="J",12,(IF(G28="A",7.5,IF(G28="M",7.5,IF(G28="C",7,""))))) -> 12 | H29: =IF(H28="J",12,(IF(H28="A",7.5,IF(H28="M",7.5,IF(H28="C",7,""))))) -> 12 | I29: =IF(I28="J",12,(IF(I28="A",7.5,IF(I28="M",7.5,IF(I28="C",7,""))))) | J29: =IF(J28="J",12,(IF(J28="A",7.5,IF(J28="M",7.5,IF(J28="C",7,""))))) | K29: =IF(K28="J",12,(IF(K28="A",7.5,IF(K28="M",7.5,IF(K28="C",7,""))))) -> 12 | L29: 12 | M29: =IF(M28="J",12,(IF(M28="A",7.5,IF(M28="M",7.5,IF(M28="C",7,""))))) | N29: =IF(N28="J",12,(IF(N28="A",7.5,IF(N28="M",7.5,IF(N28="C",7,""))))) | O29: =IF(O28="J",12,(IF(O28="A",7.5,IF(O28="M",7.5,IF(O28="C",7,""))))) | P29: =IF(P28="J",12,(IF(P28="A",7.5,IF(P28="M",7.5,IF(P28="C",7,""))))) | Q29: =IF(Q28="J",12,(IF(Q28="A",7.5,IF(Q28="M",7.5,IF(Q28="C",7,""))))) -> 12 | R29: =IF(R28="J",12,(IF(R28="A",7.5,IF(R28="M",7.5,IF(R28="C",7,""))))) | S29: =IF(S28="J",12,(IF(S28="A",7.5,IF(S28="M",7.5,IF(S28="C",7,""))))) -> 12 | T29: =IF(T28="J",12,(IF(T28="A",7.5,IF(T28="M",7.5,IF(T28="C",7,""))))) | ... AF29: =IF(AF28="J",12,(IF(AF28="A",7.5,IF(AF28="M",7.5,IF(AF28="C",7,""))))) | AG29: =$AG$9 -> 140 | AH29: =SUM(B29:AF29) -> 120 | AI29: =AH29-AG29 -> -20 | AJ29: =Octobre!AK29 -> 15.25 | AK29: =AJ29+AI29 -> -4.75
A30: Sabine | C30: J | F30: J | I30: J | N30: J | O30: J | R30: J | S30: J | X30: J | AA30: J | AD30: J
C31: =IF(C30="J",12,(IF(C30="A",7.5,IF(C30="M",7.5,IF(C30="C",7,""))))) -> 12 | D31: =IF(D30="J",12,(IF(D30="A",7.5,IF(D30="M",7.5,IF(D30="C",7,""))))) | E31: =IF(E30="J",12,(IF(E30="A",7.5,IF(E30="M",7.5,IF(E30="C",7,""))))) | F31: =IF(F30="J",12,(IF(F30="A",7.5,IF(F30="M",7.5,IF(F30="C",7,""))))) -> 12 | G31: =IF(G30="J",12,(IF(G30="A",7.5,IF(G30="M",7.5,IF(G30="C",7,""))))) | H31: =IF(H30="J",12,(IF(H30="A",7.5,IF(H30="M",7.5,IF(H30="C",7,""))))) | I31: =IF(I30="J",12,(IF(I30="A",7.5,IF(I30="M",7.5,IF(I30="C",7,""))))) -> 12 | J31: =IF(J30="J",12,(IF(J30="A",7.5,IF(J30="M",7.5,IF(J30="C",7,""))))) | K31: =IF(K30="J",12,(IF(K30="A",7.5,IF(K30="M",7.5,IF(K30="C",7,""))))) | M31: =IF(M30="J",12,(IF(M30="A",7.5,IF(M30="M",7.5,IF(M30="C",7,""))))) | N31: =IF(N30="J",12,(IF(N30="A",7.5,IF(N30="M",7.5,IF(N30="C",7,""))))) -> 12 | O31: =IF(O30="J",12,(IF(O30="A",7.5,IF(O30="M",7.5,IF(O30="C",7,""))))) -> 12 | P31: =IF(P30="J",12,(IF(P30="A",7.5,IF(P30="M",7.5,IF(P30="C",7,""))))) | Q31: =IF(Q30="J",12,(IF(Q30="A",7.5,IF(Q30="M",7.5,IF(Q30="C",7,""))))) | R31: =IF(R30="J",12,(IF(R30="A",7.5,IF(R30="M",7.5,IF(R30="C",7,""))))) -> 12 | S31: =IF(S30="J",12,(IF(S30="A",7.5,IF(S30="M",7.5,IF(S30="C",7,""))))) -> 12 | T31: =IF(T30="J",12,(IF(T30="A",7.5,IF(T30="M",7.5,IF(T30="C",7,""))))) | ... AF31: =IF(AF30="J",12,(IF(AF30="A",7.5,IF(AF30="M",7.5,IF(AF30="C",7,""))))) | AG31: =$AG$9 -> 140 | AH31: =SUM(B31:AF31) -> 120 | AI31: =AH31-AG31 -> -20 | AJ31: =Octobre!AK31 -> -67.5 | AK31: =AJ31+AI31 -> -87.5

Sheet Décembre
A2: =Janvier!A2 -> Année
A3: =Janvier!A3 -> 2021 | B3: Planning prévionnel de Décembre 2021
A6: =CONCATENATE(A8) -> Décembre | B6: =DATE($A$3,MONTH(1&$A$6),B9) -> 44531 | C6: =DATE($A$3,MONTH(1&$A$6),C9) -> 44532 | D6: =DATE($A$3,MONTH(1&$A$6),D9) -> 44533 | E6: =DATE($A$3,MONTH(1&$A$6),E9) -> 44534 | F6: =DATE($A$3,MONTH(1&$A$6),F9) -> 44535 | G6: =DATE($A$3,MONTH(1&$A$6),G9) -> 44536 | H6: =DATE($A$3,MONTH(1&$A$6),H9) -> 44537 | I6: =DATE($A$3,MONTH(1&$A$6),I9) -> 44538 | ... AF6: =DATE($A$3,MONTH(1&$A$6),AF9) -> 44561
B7: =COUNTIFS(Fériés!$E$5:$E$17,B6) -> 0 | C7: =COUNTIFS(Fériés!$E$5:$E$17,C6) -> 0 | D7: =COUNTIFS(Fériés!$E$5:$E$17,D6) -> 0 | E7: =COUNTIFS(Fériés!$E$5:$E$17,E6) -> 0 | F7: =COUNTIFS(Fériés!$E$5:$E$17,F6) -> 0 | G7: =COUNTIFS(Fériés!$E$5:$E$17,G6) -> 0 | H7: =COUNTIFS(Fériés!$E$5:$E$17,H6) -> 0 | I7: =COUNTIFS(Fériés!$E$5:$E$17,I6) -> 0 | ... AF7: =COUNTIFS(Fériés!$E$5:$E$17,AF6) -> 0
A8: =MID(CELL("nomfichier",A1),FIND("]",CELL("nomfichier",A1))+1,20) -> Décembre | B8: =TEXT(DATE($A$3,MONTH(1&TEXT($A$8,"")),B9),"jjj") -> mer | C8: =TEXT(DATE($A$3,MONTH(1&TEXT($A$8,"")),C9),"jjj") -> jeu | D8: =TEXT(DATE($A$3,MONTH(1&TEXT($A$8,"")),D9),"jjj") -> ven | E8: =TEXT(DATE($A$3,MONTH(1&TEXT($A$8,"")),E9),"jjj") -> sam | F8: =TEXT(DATE($A$3,MONTH(1&TEXT($A$8,"")),F9),"jjj") -> dim | G8: =TEXT(DATE($A$3,MONTH(1&TEXT($A$8,"")),G9),"jjj") -> lun | H8: =TEXT(DATE($A$3,MONTH(1&TEXT($A$8,"")),H9),"jjj") -> mar | I8: =TEXT(DATE($A$3,MONTH(1&TEXT($A$8,"")),I9),"jjj") -> mer | ... AF8: =TEXT(DATE($A$3,MONTH(1&TEXT($A$8,"")),AF9),"jjj") -> ven | AG8: Théoriques | AH8: Réalisées | AI8: Différences | AJ8: Soldes
B9: 1 | C9: 2 | D9: 3 | E9: 4 | F9: 5 | G9: 6 | H9: 7 | I9: 8 | J9: 9 | K9: 10 | L9: 11 | M9: 12 | N9: 13 | O9: 14 | P9: 15 | Q9: 16 | R9: 17 | S9: 18 | T9: 19 | U9: 20 | V9: 21 | W9: 22 | X9: 23 | Y9: 24 | Z9: 25 | AA9: 26 | AB9: 27 | AC9: 28 | AD9: 29 | AE9: 30 | AF9: 31 | AG9: =21*7 -> 147 | AJ9: Ancien | AK9: Nouveau
A10: Infirmieres
A12: Anna
B13: =IF(B12="A",7.5,IF(B12="M",7.5,IF(OR(B12="C",B12="Mal"),7,""))) | C13: =IF(C12="A",7.5,IF(C12="M",7.5,IF(OR(C12="C",C12="Mal"),7,""))) | D13: =IF(D12="A",7.5,IF(D12="M",7.5,IF(OR(D12="C",D12="Mal"),7,""))) | E13: =IF(E12="A",7.5,IF(E12="M",7.5,IF(OR(E12="C",E12="Mal"),7,""))) | F13: =IF(F12="A",7.5,IF(F12="M",7.5,IF(OR(F12="C",F12="Mal"),7,""))) | G13: =IF(G12="A",7.5,IF(G12="M",7.5,IF(OR(G12="C",G12="Mal"),7,""))) | H13: =IF(H12="A",7.5,IF(H12="M",7.5,IF(OR(H12="C",H12="Mal"),7,""))) | I13: =IF(I12="A",7.5,IF(I12="M",7.5,IF(OR(I12="C",I12="Mal"),7,""))) | ... AF13: =IF(AF12="A",7.5,IF(AF12="M",7.5,IF(OR(AF12="C",AF12="Mal"),7,""))) | AG13: =$AG$9 -> 147 | AH13: =SUM(B13:AF13) -> 0 | AI13: =AH13-AG13 -> -147 | AJ13: =Novembre!AK13 -> -1160.75 | AK13: =AJ13+AI13 -> -1307.75
A14: Catherine | B14: RH | C14: RH | D14: M | E14: M | F14: M | G14: M | H14: RH | I14: A | J14: A | K14: A | L14: RH | M14: RH | U14: RH | V14: M | W14: M | X14: M | Y14: RH | Z14: A | AA14: A | AB14: A | AC14: A | AD14: RH | AE14: RH | AF14: M
B15: =IF(B14="A",7.5,IF(B14="M",7.5,IF(OR(B14="C",B14="Mal"),7,""))) | C15: =IF(C14="A",7.5,IF(C14="M",7.5,IF(OR(C14="C",C14="Mal"),7,""))) | D15: =IF(D14="A",7.5,IF(D14="M",7.5,IF(OR(D14="C",D14="Mal"),7,""))) -> 7.5 | E15: =IF(E14="A",7.5,IF(E14="M",7.5,IF(OR(E14="C",E14="Mal"),7,""))) -> 7.5 | F15: =IF(F14="A",7.5,IF(F14="M",7.5,IF(OR(F14="C",F14="Mal"),7,""))) -> 7.5 | G15: =IF(G14="A",7.5,IF(G14="M",7.5,IF(OR(G14="C",G14="Mal"),7,""))) -> 7.5 | H15: =IF(H14="A",7.5,IF(H14="M",7.5,IF(OR(H14="C",H14="Mal"),7,""))) | I15: =IF(I14="A",7.5,IF(I14="M",7.5,IF(OR(I14="C",I14="Mal"),7,""))) -> 7.5 | ... AF15: =IF(AF14="A",7.5,IF(AF14="M",7.5,IF(OR(AF14="C",AF14="Mal"),7,""))) -> 7.5 | AG15: =$AG$9 -> 147 | AH15: =SUM(B15:AF15) -> 112.5 | AI15: =AH15-AG15 -> -34.5 | AJ15: =Novembre!AK15 -> -259.75 | AK15: =AJ15+AI15 -> -294.25
A16: Denise | G16: RH | H16: M | I16: M | J16: M | K16: RH | L16: A | M16: A | N16: A | O16: A | P16: RH | Q16: RH | R16: M | S16: M | T16: M | U16: M | V16: RH | W16: A | X16: A | Y16: A | Z16: RH | AA16: RH
B17: =IF(B16="A",7.5,IF(B16="M",7.5,IF(OR(B16="C",B16="Mal"),7,""))) | C17: =IF(C16="A",7.5,IF(C16="M",7.5,IF(OR(C16="C",C16="Mal"),7,""))) | D17: =IF(D16="A",7.5,IF(D16="M",7.5,IF(OR(D16="C",D16="Mal"),7,""))) | E17: =IF(E16="A",7.5,IF(E16="M",7.5,IF(OR(E16="C",E16="Mal"),7,""))) | F17: =IF(F16="A",7.5,IF(F16="M",7.5,IF(OR(F16="C",F16="Mal"),7,""))) | G17: =IF(G16="A",7.5,IF(G16="M",7.5,IF(OR(G16="C",G16="Mal"),7,""))) | H17: =IF(H16="A",7.5,IF(H16="M",7.5,IF(OR(H16="C",H16="Mal"),7,""))) -> 7.5 | I17: =IF(I16="A",7.5,IF(I16="M",7.5,IF(OR(I16="C",I16="Mal"),7,""))) -> 7.5 | ... AF17: =IF(AF16="A",7.5,IF(AF16="M",7.5,IF(OR(AF16="C",AF16="Mal"),7,""))) | AG17: =$AG$9 -> 147 | AH17: =SUM(B17:AF17) -> 105 | AI17: =AH17-AG17 -> -42 | AJ17: =Novembre!AK17 -> -247.25 | AK17: =AJ17+AI17 -> -289.25
A18: Hélène | B18: A | C18: A | D18: A | E18: RH | F18: RH | N18: RH | O18: M | P18: M | Q18: M | R18: RH | S18: A | T18: A | U18: A | V18: A | W18: RH | X18: RH | Y18: M | Z18: M | AA18: M | AB18: M | AC18: RH | AD18: A | AE18: A | AF18: A
B19: =IF(B18="A",7.5,IF(B18="M",7.5,IF(OR(B18="C",B18="Mal"),7,""))) -> 7.5 | C19: =IF(C18="A",7.5,IF(C18="M",7.5,IF(OR(C18="C",C18="Mal"),7,""))) -> 7.5 | D19: =IF(D18="A",7.5,IF(D18="M",7.5,IF(OR(D18="C",D18="Mal"),7,""))) -> 7.5 | E19: =IF(E18="A",7.5,IF(E18="M",7.5,IF(OR(E18="C",E18="Mal"),7,""))) | F19: =IF(F18="A",7.5,IF(F18="M",7.5,IF(OR(F18="C",F18="Mal"),7,""))) | G19: =IF(G18="A",7.5,IF(G18="M",7.5,IF(OR(G18="C",G18="Mal"),7,""))) | H19: =IF(H18="A",7.5,IF(H18="M",7.5,IF(OR(H18="C",H18="Mal"),7,""))) | I19: =IF(I18="A",7.5,IF(I18="M",7.5,IF(OR(I18="C",I18="Mal"),7,""))) | ... AF19: =IF(AF18="A",7.5,IF(AF18="M",7.5,IF(OR(AF18="C",AF18="Mal"),7,""))) -> 7.5 | AG19: =$AG$9 -> 147 | AH19: =SUM(B19:AF19) -> 127.5 | AI19: =AH19-AG19 -> -19.5 | AJ19: =Novembre!AK19 -> -209.75 | AK19: =AJ19+AI19 -> -229.25
A20: Régine | B20: M | C20: M | D20: RH | E20: A | F20: A | G20: A | H20: A | I20: RH | J20: RH | K20: M | L20: M | M20: M | N20: M | O20: RH | P20: A | Q20: A | R20: A | S20: RH | T20: RH | AB20: RH | AC20: M | AD20: M | AE20: M | AF20: RH
B21: =IF(B20="A",7.5,IF(B20="M",7.5,IF(OR(B20="C",B20="Mal"),7,""))) -> 7.5 | C21: =IF(C20="A",7.5,IF(C20="M",7.5,IF(OR(C20="C",C20="Mal"),7,""))) -> 7.5 | D21: =IF(D20="A",7.5,IF(D20="M",7.5,IF(OR(D20="C",D20="Mal"),7,""))) | E21: =IF(E20="A",7.5,IF(E20="M",7.5,IF(OR(E20="C",E20="Mal"),7,""))) -> 7.5 | F21: =IF(F20="A",7.5,IF(F20="M",7.5,IF(OR(F20="C",F20="Mal"),7,""))) -> 7.5 | G21: =IF(G20="A",7.5,IF(G20="M",7.5,IF(OR(G20="C",G20="Mal"),7,""))) -> 7.5 | H21: =IF(H20="A",7.5,IF(H20="M",7.5,IF(OR(H20="C",H20="Mal"),7,""))) -> 7.5 | I21: =IF(I20="A",7.5,IF(I20="M",7.5,IF(OR(I20="C",I20="Mal"),7,""))) | ... AF21: =IF(AF20="A",7.5,IF(AF20="M",7.5,IF(OR(AF20="C",AF20="Mal"),7,""))) | AG21: =$AG$9 -> 147 | AH21: =SUM(B21:AF21) -> 120 | AI21: =AH21-AG21 -> -27 | AJ21: =Novembre!AK21 -> -276 | AK21: =AJ21+AI21 -> -303
A22: Martine
B23: =IF(B22="A",7.5,IF(B22="M",7.5,IF(OR(B22="C",B22="Mal"),7,""))) | C23: =IF(C22="A",7.5,IF(C22="M",7.5,IF(OR(C22="C",C22="Mal"),7,""))) | D23: =IF(D22="A",7.5,IF(D22="M",7.5,IF(OR(D22="C",D22="Mal"),7,""))) | E23: =IF(E22="A",7.5,IF(E22="M",7.5,IF(OR(E22="C",E22="Mal"),7,""))) | F23: =IF(F22="A",7.5,IF(F22="M",7.5,IF(OR(F22="C",F22="Mal"),7,""))) | G23: =IF(G22="A",7.5,IF(G22="M",7.5,IF(OR(G22="C",G22="Mal"),7,""))) | H23: =IF(H22="A",7.5,IF(H22="M",7.5,IF(OR(H22="C",H22="Mal"),7,""))) | I23: =IF(I22="A",7.5,IF(I22="M",7.5,IF(OR(I22="C",I22="Mal"),7,""))) | ... AF23: =IF(AF22="A",7.5,IF(AF22="M",7.5,IF(OR(AF22="C",AF22="Mal"),7,""))) | AG23: =$AG$9 -> 147 | AH23: =SUM(B23:AF23) -> 0 | AI23: =AH23-AG23 -> -147 | AJ23: =Novembre!AK23 -> -831.75 | AK23: =AJ23+AI23 -> -978.75
A24: Aides-soignantes
A26: Claudia | D26: J | G26: J | L26: J | M26: J | P26: J | Q26: J | V26: J | Y26: J | AB26: J
B27: =IF(B26="J",12,(IF(B26="A",7.5,IF(B26="M",7.5,IF(B26="C",7,""))))) | C27: =IF(C26="J",12,(IF(C26="A",7.5,IF(C26="M",7.5,IF(C26="C",7,""))))) | D27: =IF(D26="J",12,(IF(D26="A",7.5,IF(D26="M",7.5,IF(D26="C",7,""))))) -> 12 | E27: =IF(E26="J",12,(IF(E26="A",7.5,IF(E26="M",7.5,IF(E26="C",7,""))))) | F27: =IF(F26="J",12,(IF(F26="A",7.5,IF(F26="M",7.5,IF(F26="C",7,""))))) | G27: =IF(G26="J",12,(IF(G26="A",7.5,IF(G26="M",7.5,IF(G26="C",7,""))))) -> 12 | H27: =IF(H26="J",12,(IF(H26="A",7.5,IF(H26="M",7.5,IF(H26="C",7,""))))) | I27: =IF(I26="J",12,(IF(I26="A",7.5,IF(I26="M",7.5,IF(I26="C",7,""))))) | ... AF27: =IF(AF26="J",12,(IF(AF26="A",7.5,IF(AF26="M",7.5,IF(AF26="C",7,""))))) | AG27: =$AG$9 -> 147 | AH27: =SUM(B27:AF27) -> 108 | AI27: =AH27-AG27 -> -39 | AJ27: =Novembre!AK27 -> 14.25 | AK27: =AJ27+AI27 -> -24.75
A28: Rachel | B28: J | C28: J | H28: J | K28: J | N28: J | S28: J | T28: J | W28: J | X28: J | AC28: J | AF28: J
B29: =IF(B28="J",12,(IF(B28="A",7.5,IF(B28="M",7.5,IF(B28="C",7,""))))) -> 12 | C29: =IF(C28="J",12,(IF(C28="A",7.5,IF(C28="M",7.5,IF(C28="C",7,""))))) -> 12 | D29: =IF(D28="J",12,(IF(D28="A",7.5,IF(D28="M",7.5,IF(D28="C",7,""))))) | E29: =IF(E28="J",12,(IF(E28="A",7.5,IF(E28="M",7.5,IF(E28="C",7,""))))) | F29: =IF(F28="J",12,(IF(F28="A",7.5,IF(F28="M",7.5,IF(F28="C",7,""))))) | G29: =IF(G28="J",12,(IF(G28="A",7.5,IF(G28="M",7.5,IF(G28="C",7,""))))) | H29: =IF(H28="J",12,(IF(H28="A",7.5,IF(H28="M",7.5,IF(H28="C",7,""))))) -> 12 | I29: =IF(I28="J",12,(IF(I28="A",7.5,IF(I28="M",7.5,IF(I28="C",7,""))))) | ... AF29: =IF(AF28="J",12,(IF(AF28="A",7.5,IF(AF28="M",7.5,IF(AF28="C",7,""))))) -> 12 | AG29: =$AG$9 -> 147 | AH29: =SUM(B29:AF29) -> 132 | AI29: =AH29-AG29 -> -15 | AJ29: =Novembre!AK29 -> -4.75 | AK29: =AJ29+AI29 -> -19.75
A30: Sabine | E30: J | F30: J | I30: J | J30: J | O30: J | R30: J | U30: J | Z30: J | AA30: J | AD30: J | AE30: J
B31: =IF(B30="J",12,(IF(B30="A",7.5,IF(B30="M",7.5,IF(B30="C",7,""))))) | C31: =IF(C30="J",12,(IF(C30="A",7.5,IF(C30="M",7.5,IF(C30="C",7,""))))) | D31: =IF(D30="J",12,(IF(D30="A",7.5,IF(D30="M",7.5,IF(D30="C",7,""))))) | E31: =IF(E30="J",12,(IF(E30="A",7.5,IF(E30="M",7.5,IF(E30="C",7,""))))) -> 12 | F31: =IF(F30="J",12,(IF(F30="A",7.5,IF(F30="M",7.5,IF(F30="C",7,""))))) -> 12 | G31: =IF(G30="J",12,(IF(G30="A",7.5,IF(G30="M",7.5,IF(G30="C",7,""))))) | H31: =IF(H30="J",12,(IF(H30="A",7.5,IF(H30="M",7.5,IF(H30="C",7,""))))) | I31: =IF(I30="J",12,(IF(I30="A",7.5,IF(I30="M",7.5,IF(I30="C",7,""))))) -> 12 | ... AF31: =IF(AF30="J",12,(IF(AF30="A",7.5,IF(AF30="M",7.5,IF(AF30="C",7,""))))) | AG31: =$AG$9 -> 147 | AH31: =SUM(B31:AF31) -> 132 | AI31: =AH31-AG31 -> -15 | AJ31: =Novembre!AK31 -> -87.5 | AK31: =AJ31+AI31 -> -102.5
