Workbook
Name description: OFFSET('BASE PRODUITS'!$B$6,0,0,COUNTA('BASE PRODUITS'!$B:$B)-1,1)
Name Réf: OFFSET('BASE PRODUITS'!$A$6,0,0,COUNTA('BASE PRODUITS'!$A:$A)-4,1)

Sheet BASE PRODUITS
A1: Base produits
A2: Saisir dans les cases vertes uniquement
A3: Ne pas intercaler de ligne ; ne pas laisser de ligne vierge
A5: Référence produit | B5: Description | C5: Conditionnement
A6: P0000 | B6: Copex | C6: Bidon de 5L
A7: P0001 | B7: Javel 9.6% Chlore actif | C7: BIDON
A8: P0002 | B8: Eloxa prima / Inox alu | C8: sacs
A9: P0003 | B9: Essuie-mains 150 M | C9: rouleaux 150m
A10: P0004 | B10: Essuie-mains pliés
A11: P0005 | B11: Gants synthétiques T6
A12: P0006 | B12: Gants synthétiques T7
A13: P0007 | B13: Gants synthetiques T8
A14: P0008 | B14: Gants synthetiques T9
A15: P0009
A16: P0010
A17: P0011
A18: P0012
A19: P0013
A20: P0014
A21: P0015
A22: P0016
A23: P0017
A24: P0018
A25: P0019
A26: P0020
... A156: P0150

Sheet JOURNAL STOCKS
A1: Journal des entrées et sorties de stock
A2: Saisir dans les cases vertes uniquement
A6: Date du mouvement (Ctrl + touche ;) | B6: Référence du produit | C6: Description produit | D6: Conditionnement | E6: Entrées | F6: Sorties (y compris pertes et casse)
B7: =INDEX('BASE PRODUITS'!$A$6:$A$156,MATCH('JOURNAL STOCKS'!$C7,[0]!description,0)) -> P0002 | C7: Eloxa prima / Inox alu
B8: =INDEX('BASE PRODUITS'!$A$6:$A$156,MATCH('JOURNAL STOCKS'!$C8,[0]!description,0)) -> P0003 | C8: Essuie-mains 150 M
B9: =INDEX('BASE PRODUITS'!$A$6:$A$156,MATCH('JOURNAL STOCKS'!$C9,[0]!description,0)) -> P0002 | C9: Eloxa prima / Inox alu
B10: =INDEX('BASE PRODUITS'!$A$6:$A$156,MATCH('JOURNAL STOCKS'!$C10,[0]!description,0)) -> P0000 | C10: Copex
B11: =INDEX('BASE PRODUITS'!$A$6:$A$156,MATCH('JOURNAL STOCKS'!$C11,[0]!description,0)) -> P0005 | C11: Gants synthétiques T6
B12: =INDEX('BASE PRODUITS'!$A$6:$A$156,MATCH('JOURNAL STOCKS'!$C12,[0]!description,0)) -> #N/A
B13: =INDEX('BASE PRODUITS'!$A$6:$A$156,MATCH('JOURNAL STOCKS'!$C13,[0]!description,0)) -> #N/A
B14: =INDEX('BASE PRODUITS'!$A$6:$A$156,MATCH('JOURNAL STOCKS'!$C14,[0]!description,0)) -> #N/A
B15: =INDEX('BASE PRODUITS'!$A$6:$A$156,MATCH('JOURNAL STOCKS'!$C15,[0]!description,0)) -> #N/A
B16: =INDEX('BASE PRODUITS'!$A$6:$A$156,MATCH('JOURNAL STOCKS'!$C16,[0]!description,0)) -> #N/A
B17: =INDEX('BASE PRODUITS'!$A$6:$A$156,MATCH('JOURNAL STOCKS'!$C17,[0]!description,0)) -> #N/A
B18: =INDEX('BASE PRODUITS'!$A$6:$A$156,MATCH('JOURNAL STOCKS'!$C18,[0]!description,0)) -> #N/A
B19: =INDEX('BASE PRODUITS'!$A$6:$A$156,MATCH('JOURNAL STOCKS'!$C19,[0]!description,0)) -> #N/A
B20: =INDEX('BASE PRODUITS'!$A$6:$A$156,MATCH('JOURNAL STOCKS'!$C20,[0]!description,0)) -> #N/A
B21: =INDEX('BASE PRODUITS'!$A$6:$A$156,MATCH('JOURNAL STOCKS'!$C21,[0]!description,0)) -> #N/A
B22: =INDEX('BASE PRODUITS'!$A$6:$A$156,MATCH('JOURNAL STOCKS'!$C22,[0]!description,0)) -> #N/A
B23: =INDEX('BASE PRODUITS'!$A$6:$A$156,MATCH('JOURNAL STOCKS'!$C23,[0]!description,0)) -> #N/A
... B199: =INDEX('BASE PRODUITS'!$A$6:$A$156,MATCH('JOURNAL STOCKS'!$C199,[0]!description,0)) -> #N/A

Sheet ETAT DES STOCKS
A1: Etat des stocks à jour au : | C1: =TODAY() -> 43724
A2: Saisir dans les cases vertes uniquement
A5: Référence produit | B5: Description | C5: Stock initial | D5: Somme des entrées | E5: Somme des sorties | F5: Stock Final | G5: Prix unitaire TTC | H5: Valeur du stock
A6: ='BASE PRODUITS'!A6 -> P0000 | B6: =IF(ISBLANK('BASE PRODUITS'!B6),"",'BASE PRODUITS'!B6) -> Copex | C6: 0 | D6: =SUMIF('JOURNAL STOCKS'!$B$7:$F$199,'ETAT DES STOCKS'!A6,'JOURNAL STOCKS'!$E$7:$E$199) -> 0 | E6: =SUMIF('JOURNAL STOCKS'!$B$7:$F$199,'ETAT DES STOCKS'!A6,'JOURNAL STOCKS'!$F$7:$F$199) -> 0 | F6: =C6+D6-E6 -> 0 | G6: 33.01 | H6: =F6*G6 -> 0
A7: ='BASE PRODUITS'!A7 -> P0001 | B7: =IF(ISBLANK('BASE PRODUITS'!B7),"",'BASE PRODUITS'!B7) -> Javel 9.6% Chlore actif | C7: 0 | D7: =SUMIF('JOURNAL STOCKS'!$B$7:$F$199,'ETAT DES STOCKS'!A7,'JOURNAL STOCKS'!$E$7:$E$199) -> 0 | E7: =SUMIF('JOURNAL STOCKS'!$B$7:$F$199,'ETAT DES STOCKS'!A7,'JOURNAL STOCKS'!$F$7:$F$199) -> 0 | F7: =C7+D7-E7 -> 0 | G7: 27.75 | H7: =F7*G7 -> 0
A8: ='BASE PRODUITS'!A8 -> P0002 | B8: =IF(ISBLANK('BASE PRODUITS'!B8),"",'BASE PRODUITS'!B8) -> Eloxa prima / Inox alu | C8: 0 | D8: =SUMIF('JOURNAL STOCKS'!$B$7:$F$199,'ETAT DES STOCKS'!A8,'JOURNAL STOCKS'!$E$7:$E$199) -> 0 | E8: =SUMIF('JOURNAL STOCKS'!$B$7:$F$199,'ETAT DES STOCKS'!A8,'JOURNAL STOCKS'!$F$7:$F$199) -> 0 | F8: =C8+D8-E8 -> 0 | H8: =F8*G8 -> 0
A9: ='BASE PRODUITS'!A9 -> P0003 | B9: =IF(ISBLANK('BASE PRODUITS'!B9),"",'BASE PRODUITS'!B9) -> Essuie-mains 150 M | C9: 0 | D9: =SUMIF('JOURNAL STOCKS'!$B$7:$F$199,'ETAT DES STOCKS'!A9,'JOURNAL STOCKS'!$E$7:$E$199) -> 0 | E9: =SUMIF('JOURNAL STOCKS'!$B$7:$F$199,'ETAT DES STOCKS'!A9,'JOURNAL STOCKS'!$F$7:$F$199) -> 0 | F9: =C9+D9-E9 -> 0 | H9: =F9*G9 -> 0
A10: ='BASE PRODUITS'!A10 -> P0004 | B10: =IF(ISBLANK('BASE PRODUITS'!B10),"",'BASE PRODUITS'!B10) -> Essuie-mains pliés | C10: 0 | D10: =SUMIF('JOURNAL STOCKS'!$B$7:$F$199,'ETAT DES STOCKS'!A10,'JOURNAL STOCKS'!$E$7:$E$199) -> 0 | E10: =SUMIF('JOURNAL STOCKS'!$B$7:$F$199,'ETAT DES STOCKS'!A10,'JOURNAL STOCKS'!$F$7:$F$199) -> 0 | F10: =C10+D10-E10 -> 0 | H10: =F10*G10 -> 0
A11: ='BASE PRODUITS'!A11 -> P0005 | B11: =IF(ISBLANK('BASE PRODUITS'!B11),"",'BASE PRODUITS'!B11) -> Gants synthétiques T6 | C11: 0 | D11: =SUMIF('JOURNAL STOCKS'!$B$7:$F$199,'ETAT DES STOCKS'!A11,'JOURNAL STOCKS'!$E$7:$E$199) -> 0 | E11: =SUMIF('JOURNAL STOCKS'!$B$7:$F$199,'ETAT DES STOCKS'!A11,'JOURNAL STOCKS'!$F$7:$F$199) -> 0 | F11: =C11+D11-E11 -> 0 | H11: =F11*G11 -> 0
A12: ='BASE PRODUITS'!A12 -> P0006 | B12: =IF(ISBLANK('BASE PRODUITS'!B12),"",'BASE PRODUITS'!B12) -> Gants synthétiques T7 | C12: 0 | D12: =SUMIF('JOURNAL STOCKS'!$B$7:$F$199,'ETAT DES STOCKS'!A12,'JOURNAL STOCKS'!$E$7:$E$199) -> 0 | E12: =SUMIF('JOURNAL STOCKS'!$B$7:$F$199,'ETAT DES STOCKS'!A12,'JOURNAL STOCKS'!$F$7:$F$199) -> 0 | F12: =C12+D12-E12 -> 0 | H12: =F12*G12 -> 0
A13: ='BASE PRODUITS'!A13 -> P0007 | B13: =IF(ISBLANK('BASE PRODUITS'!B13),"",'BASE PRODUITS'!B13) -> Gants synthetiques T8 | C13: 0 | D13: =SUMIF('JOURNAL STOCKS'!$B$7:$F$199,'ETAT DES STOCKS'!A13,'JOURNAL STOCKS'!$E$7:$E$199) -> 0 | E13: =SUMIF('JOURNAL STOCKS'!$B$7:$F$199,'ETAT DES STOCKS'!A13,'JOURNAL STOCKS'!$F$7:$F$199) -> 0 | F13: =C13+D13-E13 -> 0 | H13: =F13*G13 -> 0
A14: ='BASE PRODUITS'!A14 -> P0008 | B14: =IF(ISBLANK('BASE PRODUITS'!B14),"",'BASE PRODUITS'!B14) -> Gants synthetiques T9 | C14: 0 | D14: =SUMIF('JOURNAL STOCKS'!$B$7:$F$199,'ETAT DES STOCKS'!A14,'JOURNAL STOCKS'!$E$7:$E$199) -> 0 | E14: =SUMIF('JOURNAL STOCKS'!$B$7:$F$199,'ETAT DES STOCKS'!A14,'JOURNAL STOCKS'!$F$7:$F$199) -> 0 | F14: =C14+D14-E14 -> 0 | H14: =F14*G14 -> 0
A15: ='BASE PRODUITS'!A15 -> P0009 | B15: =IF(ISBLANK('BASE PRODUITS'!B15),"",'BASE PRODUITS'!B15) | D15: =SUMIF('JOURNAL STOCKS'!$B$7:$F$199,'ETAT DES STOCKS'!A15,'JOURNAL STOCKS'!$E$7:$E$199) -> 0 | E15: =SUMIF('JOURNAL STOCKS'!$B$7:$F$199,'ETAT DES STOCKS'!A15,'JOURNAL STOCKS'!$F$7:$F$199) -> 0 | F15: =C15+D15-E15 -> 0 | H15: =F15*G15 -> 0
A16: ='BASE PRODUITS'!A16 -> P0010 | B16: =IF(ISBLANK('BASE PRODUITS'!B16),"",'BASE PRODUITS'!B16) | D16: =SUMIF('JOURNAL STOCKS'!$B$7:$F$199,'ETAT DES STOCKS'!A16,'JOURNAL STOCKS'!$E$7:$E$199) -> 0 | E16: =SUMIF('JOURNAL STOCKS'!$B$7:$F$199,'ETAT DES STOCKS'!A16,'JOURNAL STOCKS'!$F$7:$F$199) -> 0 | F16: =C16+D16-E16 -> 0 | H16: =F16*G16 -> 0
A17: ='BASE PRODUITS'!A17 -> P0011 | B17: =IF(ISBLANK('BASE PRODUITS'!B17),"",'BASE PRODUITS'!B17) | D17: =SUMIF('JOURNAL STOCKS'!$B$7:$F$199,'ETAT DES STOCKS'!A17,'JOURNAL STOCKS'!$E$7:$E$199) -> 0 | E17: =SUMIF('JOURNAL STOCKS'!$B$7:$F$199,'ETAT DES STOCKS'!A17,'JOURNAL STOCKS'!$F$7:$F$199) -> 0 | F17: =C17+D17-E17 -> 0 | H17: =F17*G17 -> 0
A18: ='BASE PRODUITS'!A18 -> P0012 | B18: =IF(ISBLANK('BASE PRODUITS'!B18),"",'BASE PRODUITS'!B18) | D18: =SUMIF('JOURNAL STOCKS'!$B$7:$F$199,'ETAT DES STOCKS'!A18,'JOURNAL STOCKS'!$E$7:$E$199) -> 0 | E18: =SUMIF('JOURNAL STOCKS'!$B$7:$F$199,'ETAT DES STOCKS'!A18,'JOURNAL STOCKS'!$F$7:$F$199) -> 0 | F18: =C18+D18-E18 -> 0 | H18: =F18*G18 -> 0
A19: ='BASE PRODUITS'!A19 -> P0013 | B19: =IF(ISBLANK('BASE PRODUITS'!B19),"",'BASE PRODUITS'!B19) | D19: =SUMIF('JOURNAL STOCKS'!$B$7:$F$199,'ETAT DES STOCKS'!A19,'JOURNAL STOCKS'!$E$7:$E$199) -> 0 | E19: =SUMIF('JOURNAL STOCKS'!$B$7:$F$199,'ETAT DES STOCKS'!A19,'JOURNAL STOCKS'!$F$7:$F$199) -> 0 | F19: =C19+D19-E19 -> 0 | H19: =F19*G19 -> 0
A20: ='BASE PRODUITS'!A20 -> P0014 | B20: =IF(ISBLANK('BASE PRODUITS'!B20),"",'BASE PRODUITS'!B20) | D20: =SUMIF('JOURNAL STOCKS'!$B$7:$F$199,'ETAT DES STOCKS'!A20,'JOURNAL STOCKS'!$E$7:$E$199) -> 0 | E20: =SUMIF('JOURNAL STOCKS'!$B$7:$F$199,'ETAT DES STOCKS'!A20,'JOURNAL STOCKS'!$F$7:$F$199) -> 0 | F20: =C20+D20-E20 -> 0 | H20: =F20*G20 -> 0
A21: ='BASE PRODUITS'!A21 -> P0015 | B21: =IF(ISBLANK('BASE PRODUITS'!B21),"",'BASE PRODUITS'!B21) | D21: =SUMIF('JOURNAL STOCKS'!$B$7:$F$199,'ETAT DES STOCKS'!A21,'JOURNAL STOCKS'!$E$7:$E$199) -> 0 | E21: =SUMIF('JOURNAL STOCKS'!$B$7:$F$199,'ETAT DES STOCKS'!A21,'JOURNAL STOCKS'!$F$7:$F$199) -> 0 | F21: =C21+D21-E21 -> 0 | H21: =F21*G21 -> 0
A22: ='BASE PRODUITS'!A22 -> P0016 | B22: =IF(ISBLANK('BASE PRODUITS'!B22),"",'BASE PRODUITS'!B22) | D22: =SUMIF('JOURNAL STOCKS'!$B$7:$F$199,'ETAT DES STOCKS'!A22,'JOURNAL STOCKS'!$E$7:$E$199) -> 0 | E22: =SUMIF('JOURNAL STOCKS'!$B$7:$F$199,'ETAT DES STOCKS'!A22,'JOURNAL STOCKS'!$F$7:$F$199) -> 0 | F22: =C22+D22-E22 -> 0 | H22: =F22*G22 -> 0
A23: ='BASE PRODUITS'!A23 -> P0017 | B23: =IF(ISBLANK('BASE PRODUITS'!B23),"",'BASE PRODUITS'!B23) | D23: =SUMIF('JOURNAL STOCKS'!$B$7:$F$199,'ETAT DES STOCKS'!A23,'JOURNAL STOCKS'!$E$7:$E$199) -> 0 | E23: =SUMIF('JOURNAL STOCKS'!$B$7:$F$199,'ETAT DES STOCKS'!A23,'JOURNAL STOCKS'!$F$7:$F$199) -> 0 | F23: =C23+D23-E23 -> 0 | H23: =F23*G23 -> 0
A24: ='BASE PRODUITS'!A24 -> P0018 | B24: =IF(ISBLANK('BASE PRODUITS'!B24),"",'BASE PRODUITS'!B24) | D24: =SUMIF('JOURNAL STOCKS'!$B$7:$F$199,'ETAT DES STOCKS'!A24,'JOURNAL STOCKS'!$E$7:$E$199) -> 0 | E24: =SUMIF('JOURNAL STOCKS'!$B$7:$F$199,'ETAT DES STOCKS'!A24,'JOURNAL STOCKS'!$F$7:$F$199) -> 0 | F24: =C24+D24-E24 -> 0 | H24: =F24*G24 -> 0
A25: ='BASE PRODUITS'!A25 -> P0019 | B25: =IF(ISBLANK('BASE PRODUITS'!B25),"",'BASE PRODUITS'!B25) | D25: =SUMIF('JOURNAL STOCKS'!$B$7:$F$199,'ETAT DES STOCKS'!A25,'JOURNAL STOCKS'!$E$7:$E$199) -> 0 | E25: =SUMIF('JOURNAL STOCKS'!$B$7:$F$199,'ETAT DES STOCKS'!A25,'JOURNAL STOCKS'!$F$7:$F$199) -> 0 | F25: =C25+D25-E25 -> 0 | H25: =F25*G25 -> 0
A26: ='BASE PRODUITS'!A26 -> P0020 | B26: =IF(ISBLANK('BASE PRODUITS'!B26),"",'BASE PRODUITS'!B26) | D26: =SUMIF('JOURNAL STOCKS'!$B$7:$F$199,'ETAT DES STOCKS'!A26,'JOURNAL STOCKS'!$E$7:$E$199) -> 0 | E26: =SUMIF('JOURNAL STOCKS'!$B$7:$F$199,'ETAT DES STOCKS'!A26,'JOURNAL STOCKS'!$F$7:$F$199) -> 0 | F26: =C26+D26-E26 -> 0 | H26: =F26*G26 -> 0
... A156: ='BASE PRODUITS'!A156 -> P0150 | B156: =IF(ISBLANK('BASE PRODUITS'!B156),"",'BASE PRODUITS'!B156) | D156: =SUMIF('JOURNAL STOCKS'!$B$7:$F$199,'ETAT DES STOCKS'!A156,'JOURNAL STOCKS'!$E$7:$E$199) -> 0 | E156: =SUMIF('JOURNAL STOCKS'!$B$7:$F$199,'ETAT DES STOCKS'!A156,'JOURNAL STOCKS'!$F$7:$F$199) -> 0 | F156: =C156+D156-E156 -> 0 | H156: =F156*G156 -> 0
F158: Valeur TTC du stock : | H158: =SUM(H6:H156) -> 0
