Workbook

Sheet CODE A BARRE
A1: Document | B1: Réf. | C1: Casier Théo. | D1: Qte Théo. | E1: Casier Scanné | F1: Qte Scannée | G1: Résultat 1ére Comptage | I1: Casier Scanné en 2éme Comptage | J1: Qte Scannée en 2éme Comptage | K1: Résultat 2éme Comptage | L1: Qte Scannée en 3éme Comptage | M1: Résultat 3éme Comptage | N1: Qte Scannée en 4éme Comptage | O1: Résultat 4éme Comptage
B2: 000010006 | C2: =VLOOKUP(B2,'BASE INCADEA'!A:D,2,FALSE) -> 026504 | D2: =VLOOKUP(B2,'BASE INCADEA'!A:D,3,FALSE) -> 20 | E2: 026505 | F2: 20 | G2: =IF(F2=D2,"Quantité OK",IF(D2<F22,"Ecart positif","Ecart négatif"))&" "&IF(C2=E2,"","- Article déclassé") -> Quantité OK - Article déclassé | I2: =VLOOKUP('CODE A BARRE'!#REF!,'COMPTAGE 2'!B:K,8,FALSE) -> #REF! | J2: =VLOOKUP('CODE A BARRE'!#REF!,'COMPTAGE 2'!B:K,9,FALSE) -> #REF! | K2: =VLOOKUP('CODE A BARRE'!#REF!,'COMPTAGE 2'!B:K,10,FALSE) -> #REF! | L2: =VLOOKUP(B2,#REF!,11,FALSE) -> #REF! | M2: =VLOOKUP(B2,#REF!,12,FALSE) -> #REF!
B3: 000979132E | C3: =VLOOKUP(B3,'BASE INCADEA'!A:D,2,FALSE) -> #N/A | D3: =VLOOKUP(B3,'BASE INCADEA'!A:D,3,FALSE) -> #N/A | E3: 025704 | F3: 5 | G3: =IF(F3=D3,"Quantité OK",IF(D3<F23,"Ecart positif","Ecart négatif"))&" "&IF(C3=E3,"","- Article déclassé") -> #N/A | I3: =VLOOKUP('CODE A BARRE'!#REF!,'COMPTAGE 2'!B:K,8,FALSE) -> #REF! | J3: =VLOOKUP('CODE A BARRE'!#REF!,'COMPTAGE 2'!B:K,9,FALSE) -> #REF! | K3: =VLOOKUP('CODE A BARRE'!#REF!,'COMPTAGE 2'!B:K,10,FALSE) -> #REF! | L3: =VLOOKUP(B3,#REF!,11,FALSE) -> #REF! | M3: =VLOOKUP(B3,#REF!,12,FALSE) -> #REF!
B4: 003519185F | C4: =VLOOKUP(B4,'BASE INCADEA'!A:D,2,FALSE) -> #N/A | D4: =VLOOKUP(B4,'BASE INCADEA'!A:D,3,FALSE) -> #N/A | E4: 033905 | F4: 4 | G4: =IF(F4=D4,"Quantité OK",IF(D4<F24,"Ecart positif","Ecart négatif"))&" "&IF(C4=E4,"","- Article déclassé") -> #N/A | I4: =VLOOKUP('CODE A BARRE'!#REF!,'COMPTAGE 2'!B:K,8,FALSE) -> #REF! | J4: =VLOOKUP('CODE A BARRE'!#REF!,'COMPTAGE 2'!B:K,9,FALSE) -> #REF! | K4: =VLOOKUP('CODE A BARRE'!#REF!,'COMPTAGE 2'!B:K,10,FALSE) -> #REF! | L4: =VLOOKUP(B4,#REF!,11,FALSE) -> #REF! | M4: =VLOOKUP(B4,#REF!,12,FALSE) -> #REF!
B5: 010409841A | C5: =VLOOKUP(B5,'BASE INCADEA'!A:D,2,FALSE) -> #N/A | D5: =VLOOKUP(B5,'BASE INCADEA'!A:D,3,FALSE) -> #N/A | E5: 021006 | F5: 1 | G5: =IF(F5=D5,"Quantité OK",IF(D5<F25,"Ecart positif","Ecart négatif"))&" "&IF(C5=E5,"","- Article déclassé") -> #N/A | I5: =VLOOKUP('CODE A BARRE'!#REF!,'COMPTAGE 2'!B:K,8,FALSE) -> #REF! | J5: =VLOOKUP('CODE A BARRE'!#REF!,'COMPTAGE 2'!B:K,9,FALSE) -> #REF! | K5: =VLOOKUP('CODE A BARRE'!#REF!,'COMPTAGE 2'!B:K,10,FALSE) -> #REF! | L5: =VLOOKUP(B5,#REF!,11,FALSE) -> #REF! | M5: =VLOOKUP(B5,#REF!,12,FALSE) -> #REF!
B6: 012141751C | C6: =VLOOKUP(B6,'BASE INCADEA'!A:D,2,FALSE) -> #N/A | D6: =VLOOKUP(B6,'BASE INCADEA'!A:D,3,FALSE) -> #N/A | E6: 020401 | F6: 10 | G6: =IF(F6=D6,"Quantité OK",IF(D6<F26,"Ecart positif","Ecart négatif"))&" "&IF(C6=E6,"","- Article déclassé") -> #N/A | I6: =VLOOKUP('CODE A BARRE'!#REF!,'COMPTAGE 2'!B:K,8,FALSE) -> #REF! | J6: =VLOOKUP('CODE A BARRE'!#REF!,'COMPTAGE 2'!B:K,9,FALSE) -> #REF! | K6: =VLOOKUP('CODE A BARRE'!#REF!,'COMPTAGE 2'!B:K,10,FALSE) -> #REF! | L6: =VLOOKUP(B6,#REF!,11,FALSE) -> #REF! | M6: =VLOOKUP(B6,#REF!,12,FALSE) -> #REF!
B7: 012409139A | C7: =VLOOKUP(B7,'BASE INCADEA'!A:D,2,FALSE) -> #N/A | D7: =VLOOKUP(B7,'BASE INCADEA'!A:D,3,FALSE) -> #N/A | E7: 034305 | F7: 4 | G7: =IF(F7=D7,"Quantité OK",IF(D7<F27,"Ecart positif","Ecart négatif"))&" "&IF(C7=E7,"","- Article déclassé") -> #N/A | I7: =VLOOKUP('CODE A BARRE'!#REF!,'COMPTAGE 2'!B:K,8,FALSE) -> #REF! | J7: =VLOOKUP('CODE A BARRE'!#REF!,'COMPTAGE 2'!B:K,9,FALSE) -> #REF! | K7: =VLOOKUP('CODE A BARRE'!#REF!,'COMPTAGE 2'!B:K,10,FALSE) -> #REF! | L7: =VLOOKUP(B7,#REF!,11,FALSE) -> #REF! | M7: =VLOOKUP(B7,#REF!,12,FALSE) -> #REF!
B8: 012409413 | C8: =VLOOKUP(B8,'BASE INCADEA'!A:D,2,FALSE) -> 034905 | D8: =VLOOKUP(B8,'BASE INCADEA'!A:D,3,FALSE) -> 26 | E8: 034905 | F8: 26 | G8: =IF(F8=D8,"Quantité OK",IF(D8<F28,"Ecart positif","Ecart négatif"))&" "&IF(C8=E8,"","- Article déclassé") -> Quantité OK | I8: =VLOOKUP('CODE A BARRE'!#REF!,'COMPTAGE 2'!B:K,8,FALSE) -> #REF! | J8: =VLOOKUP('CODE A BARRE'!#REF!,'COMPTAGE 2'!B:K,9,FALSE) -> #REF! | K8: =VLOOKUP('CODE A BARRE'!#REF!,'COMPTAGE 2'!B:K,10,FALSE) -> #REF! | L8: =VLOOKUP(B8,#REF!,11,FALSE) -> #REF! | M8: =VLOOKUP(B8,#REF!,12,FALSE) -> #REF!
B9: 014301155 | C9: =VLOOKUP(B9,'BASE INCADEA'!A:D,2,FALSE) -> 034505 | D9: =VLOOKUP(B9,'BASE INCADEA'!A:D,3,FALSE) -> 8 | E9: 034505 | F9: 8 | G9: =IF(F9=D9,"Quantité OK",IF(D9<F29,"Ecart positif","Ecart négatif"))&" "&IF(C9=E9,"","- Article déclassé") -> Quantité OK | I9: =VLOOKUP('CODE A BARRE'!#REF!,'COMPTAGE 2'!B:K,8,FALSE) -> #REF! | J9: =VLOOKUP('CODE A BARRE'!#REF!,'COMPTAGE 2'!B:K,9,FALSE) -> #REF! | K9: =VLOOKUP('CODE A BARRE'!#REF!,'COMPTAGE 2'!B:K,10,FALSE) -> #REF! | L9: =VLOOKUP(B9,#REF!,11,FALSE) -> #REF! | M9: =VLOOKUP(B9,#REF!,12,FALSE) -> #REF!
B10: 014409399B | C10: =VLOOKUP(B10,'BASE INCADEA'!A:D,2,FALSE) -> #N/A | D10: =VLOOKUP(B10,'BASE INCADEA'!A:D,3,FALSE) -> #N/A | E10: 020201 | F10: 2 | G10: =IF(F10=D10,"Quantité OK",IF(D10<F30,"Ecart positif","Ecart négatif"))&" "&IF(C10=E10,"","- Article déclassé") -> #N/A | I10: =VLOOKUP('CODE A BARRE'!#REF!,'COMPTAGE 2'!B:K,8,FALSE) -> #REF! | J10: =VLOOKUP('CODE A BARRE'!#REF!,'COMPTAGE 2'!B:K,9,FALSE) -> #REF! | K10: =VLOOKUP('CODE A BARRE'!#REF!,'COMPTAGE 2'!B:K,10,FALSE) -> #REF! | L10: =VLOOKUP(B10,#REF!,11,FALSE) -> #REF! | M10: =VLOOKUP(B10,#REF!,12,FALSE) -> #REF!
B11: 015301227 | C11: =VLOOKUP(B11,'BASE INCADEA'!A:D,2,FALSE) -> 020204 | D11: =VLOOKUP(B11,'BASE INCADEA'!A:D,3,FALSE) -> 2 | E11: 020205 | F11: 2 | G11: =IF(F11=D11,"Quantité OK",IF(D11<F31,"Ecart positif","Ecart négatif"))&" "&IF(C11=E11,"","- Article déclassé") -> Quantité OK - Article déclassé | I11: =VLOOKUP('CODE A BARRE'!#REF!,'COMPTAGE 2'!B:K,8,FALSE) -> #REF! | J11: =VLOOKUP('CODE A BARRE'!#REF!,'COMPTAGE 2'!B:K,9,FALSE) -> #REF! | K11: =VLOOKUP('CODE A BARRE'!#REF!,'COMPTAGE 2'!B:K,10,FALSE) -> #REF! | L11: =VLOOKUP(B11,#REF!,11,FALSE) -> #REF! | M11: =VLOOKUP(B11,#REF!,12,FALSE) -> #REF!
B12: 01J301547H | C12: =VLOOKUP(B12,'BASE INCADEA'!A:D,2,FALSE) -> #N/A | D12: =VLOOKUP(B12,'BASE INCADEA'!A:D,3,FALSE) -> #N/A | E12: 014803 | F12: 8 | G12: =IF(F12=D12,"Quantité OK",IF(D12<F32,"Ecart positif","Ecart négatif"))&" "&IF(C12=E12,"","- Article déclassé") -> #N/A | I12: =VLOOKUP('CODE A BARRE'!#REF!,'COMPTAGE 2'!B:K,8,FALSE) -> #REF! | J12: =VLOOKUP('CODE A BARRE'!#REF!,'COMPTAGE 2'!B:K,9,FALSE) -> #REF! | K12: =VLOOKUP('CODE A BARRE'!#REF!,'COMPTAGE 2'!B:K,10,FALSE) -> #REF! | L12: =VLOOKUP(B12,#REF!,11,FALSE) -> #REF! | M12: =VLOOKUP(B12,#REF!,12,FALSE) -> #REF!
B13: 01X409123 | C13: =VLOOKUP(B13,'BASE INCADEA'!A:D,2,FALSE) -> #N/A | D13: =VLOOKUP(B13,'BASE INCADEA'!A:D,3,FALSE) -> #N/A | E13: 044701 | F13: 1 | G13: =IF(F13=D13,"Quantité OK",IF(D13<F33,"Ecart positif","Ecart négatif"))&" "&IF(C13=E13,"","- Article déclassé") -> #N/A | I13: =VLOOKUP('CODE A BARRE'!#REF!,'COMPTAGE 2'!B:K,8,FALSE) -> #REF! | J13: =VLOOKUP('CODE A BARRE'!#REF!,'COMPTAGE 2'!B:K,9,FALSE) -> #REF! | K13: =VLOOKUP('CODE A BARRE'!#REF!,'COMPTAGE 2'!B:K,10,FALSE) -> #REF! | L13: =VLOOKUP(B13,#REF!,11,FALSE) -> #REF! | M13: =VLOOKUP(B13,#REF!,12,FALSE) -> #REF!
... B30: 026109675 | C30: =VLOOKUP(B30,'BASE INCADEA'!A:D,2,FALSE) -> #N/A | D30: =VLOOKUP(B30,'BASE INCADEA'!A:D,3,FALSE) -> #N/A | E30: 024301 | F30: 2 | G30: =IF(F30=D30,"Quantité OK",IF(D30<F50,"Ecart positif","Ecart négatif"))&" "&IF(C30=E30,"","- Article déclassé") -> #N/A | I30: =VLOOKUP('CODE A BARRE'!#REF!,'COMPTAGE 2'!B:K,8,FALSE) -> #REF! | J30: =VLOOKUP('CODE A BARRE'!#REF!,'COMPTAGE 2'!B:K,9,FALSE) -> #REF! | K30: =VLOOKUP('CODE A BARRE'!#REF!,'COMPTAGE 2'!B:K,10,FALSE) -> #REF! | L30: =VLOOKUP(B30,#REF!,11,FALSE) -> #REF! | M30: =VLOOKUP(B30,#REF!,12,FALSE) -> #REF!
B31: 026911287 | C31: =VLOOKUP(B31,'BASE INCADEA'!A:D,2,FALSE) -> #N/A | D31: =VLOOKUP(B31,'BASE INCADEA'!A:D,3,FALSE) -> #N/A | E31: 044701 | F31: 13 | G31: =IF(F31=D31,"Quantité OK",IF(D31<#REF!,"Ecart positif","Ecart négatif"))&" "&IF(C31=E31,"","- Article déclassé") -> #N/A | I31: =VLOOKUP('CODE A BARRE'!#REF!,'COMPTAGE 2'!B:K,8,FALSE) -> #REF! | J31: =VLOOKUP('CODE A BARRE'!#REF!,'COMPTAGE 2'!B:K,9,FALSE) -> #REF! | K31: =VLOOKUP('CODE A BARRE'!#REF!,'COMPTAGE 2'!B:K,10,FALSE) -> #REF! | L31: =VLOOKUP(B31,#REF!,11,FALSE) -> #REF! | M31: =VLOOKUP(B31,#REF!,12,FALSE) -> #REF!
B32: 026911287 | C32: =VLOOKUP(B32,'BASE INCADEA'!A:D,2,FALSE) -> #N/A | D32: =VLOOKUP(B32,'BASE INCADEA'!A:D,3,FALSE) -> #N/A | E32: 044504 | F32: 1 | G32: =IF(F32=D32,"Quantité OK",IF(D32<#REF!,"Ecart positif","Ecart négatif"))&" "&IF(C32=E32,"","- Article déclassé") -> #N/A | I32: =VLOOKUP('CODE A BARRE'!#REF!,'COMPTAGE 2'!B:K,8,FALSE) -> #REF! | J32: =VLOOKUP('CODE A BARRE'!#REF!,'COMPTAGE 2'!B:K,9,FALSE) -> #REF! | K32: =VLOOKUP('CODE A BARRE'!#REF!,'COMPTAGE 2'!B:K,10,FALSE) -> #REF! | L32: =VLOOKUP(B32,#REF!,11,FALSE) -> #REF! | M32: =VLOOKUP(B32,#REF!,12,FALSE) -> #REF!
B33: 028103483G | C33: =VLOOKUP(B33,'BASE INCADEA'!A:D,2,FALSE) -> #N/A | D33: =VLOOKUP(B33,'BASE INCADEA'!A:D,3,FALSE) -> #N/A | E33: 010905 | F33: 1 | G33: =IF(F33=D33,"Quantité OK",IF(D33<#REF!,"Ecart positif","Ecart négatif"))&" "&IF(C33=E33,"","- Article déclassé") -> #N/A | I33: =VLOOKUP('CODE A BARRE'!#REF!,'COMPTAGE 2'!B:K,8,FALSE) -> #REF! | J33: =VLOOKUP('CODE A BARRE'!#REF!,'COMPTAGE 2'!B:K,9,FALSE) -> #REF! | K33: =VLOOKUP('CODE A BARRE'!#REF!,'COMPTAGE 2'!B:K,10,FALSE) -> #REF! | L33: =VLOOKUP(B33,#REF!,11,FALSE) -> #REF! | M33: =VLOOKUP(B33,#REF!,12,FALSE) -> #REF!
B34: 028103493AE | C34: =VLOOKUP(B34,'BASE INCADEA'!A:D,2,FALSE) -> #N/A | D34: =VLOOKUP(B34,'BASE INCADEA'!A:D,3,FALSE) -> #N/A | E34: 011302 | F34: 2 | G34: =IF(F34=D34,"Quantité OK",IF(D34<#REF!,"Ecart positif","Ecart négatif"))&" "&IF(C34=E34,"","- Article déclassé") -> #N/A | I34: =VLOOKUP('CODE A BARRE'!#REF!,'COMPTAGE 2'!B:K,8,FALSE) -> #REF! | J34: =VLOOKUP('CODE A BARRE'!#REF!,'COMPTAGE 2'!B:K,9,FALSE) -> #REF! | K34: =VLOOKUP('CODE A BARRE'!#REF!,'COMPTAGE 2'!B:K,10,FALSE) -> #REF! | L34: =VLOOKUP(B34,#REF!,11,FALSE) -> #REF! | M34: =VLOOKUP(B34,#REF!,12,FALSE) -> #REF!
B35: 028103500 | C35: =VLOOKUP(B35,'BASE INCADEA'!A:D,2,FALSE) -> #N/A | D35: =VLOOKUP(B35,'BASE INCADEA'!A:D,3,FALSE) -> #N/A | E35: 010101 | F35: 5 | G35: =IF(F35=D35,"Quantité OK",IF(D35<#REF!,"Ecart positif","Ecart négatif"))&" "&IF(C35=E35,"","- Article déclassé") -> #N/A | I35: =VLOOKUP('CODE A BARRE'!B8,'COMPTAGE 2'!B:K,8,FALSE) -> #N/A | J35: =VLOOKUP('CODE A BARRE'!B8,'COMPTAGE 2'!B:K,9,FALSE) -> #N/A | K35: =VLOOKUP('CODE A BARRE'!B8,'COMPTAGE 2'!B:K,10,FALSE) -> #N/A | L35: =VLOOKUP(B35,#REF!,11,FALSE) -> #REF! | M35: =VLOOKUP(B35,#REF!,12,FALSE) -> #REF!
B36: 028103533 | C36: =VLOOKUP(B36,'BASE INCADEA'!A:D,2,FALSE) -> #N/A | D36: =VLOOKUP(B36,'BASE INCADEA'!A:D,3,FALSE) -> #N/A | E36: 011905 | F36: 3 | G36: =IF(F36=D36,"Quantité OK",IF(D36<#REF!,"Ecart positif","Ecart négatif"))&" "&IF(C36=E36,"","- Article déclassé") -> #N/A | I36: =VLOOKUP('CODE A BARRE'!#REF!,'COMPTAGE 2'!B:K,8,FALSE) -> #REF! | J36: =VLOOKUP('CODE A BARRE'!#REF!,'COMPTAGE 2'!B:K,9,FALSE) -> #REF! | K36: =VLOOKUP('CODE A BARRE'!#REF!,'COMPTAGE 2'!B:K,10,FALSE) -> #REF! | L36: =VLOOKUP(B36,#REF!,11,FALSE) -> #REF! | M36: =VLOOKUP(B36,#REF!,12,FALSE) -> #REF!
B37: 028103665 | C37: =VLOOKUP(B37,'BASE INCADEA'!A:D,2,FALSE) -> #N/A | D37: =VLOOKUP(B37,'BASE INCADEA'!A:D,3,FALSE) -> #N/A | E37: 015804 | F37: 1 | G37: =IF(F37=D37,"Quantité OK",IF(D37<#REF!,"Ecart positif","Ecart négatif"))&" "&IF(C37=E37,"","- Article déclassé") -> #N/A | I37: =VLOOKUP('CODE A BARRE'!#REF!,'COMPTAGE 2'!B:K,8,FALSE) -> #REF! | J37: =VLOOKUP('CODE A BARRE'!#REF!,'COMPTAGE 2'!B:K,9,FALSE) -> #REF! | K37: =VLOOKUP('CODE A BARRE'!#REF!,'COMPTAGE 2'!B:K,10,FALSE) -> #REF! | L37: =VLOOKUP(B37,#REF!,11,FALSE) -> #REF! | M37: =VLOOKUP(B37,#REF!,12,FALSE) -> #REF!
B38: 028105253A | C38: =VLOOKUP(B38,'BASE INCADEA'!A:D,2,FALSE) -> #N/A | D38: =VLOOKUP(B38,'BASE INCADEA'!A:D,3,FALSE) -> #N/A | E38: 016004 | F38: 2 | G38: =IF(F38=D38,"Quantité OK",IF(D38<#REF!,"Ecart positif","Ecart négatif"))&" "&IF(C38=E38,"","- Article déclassé") -> #N/A | I38: =VLOOKUP('CODE A BARRE'!#REF!,'COMPTAGE 2'!B:K,8,FALSE) -> #REF! | J38: =VLOOKUP('CODE A BARRE'!#REF!,'COMPTAGE 2'!B:K,9,FALSE) -> #REF! | K38: =VLOOKUP('CODE A BARRE'!#REF!,'COMPTAGE 2'!B:K,10,FALSE) -> #REF! | L38: =VLOOKUP(B38,#REF!,11,FALSE) -> #REF! | M38: =VLOOKUP(B38,#REF!,12,FALSE) -> #REF!
B39: 028105263E | C39: =VLOOKUP(B39,'BASE INCADEA'!A:D,2,FALSE) -> #N/A | D39: =VLOOKUP(B39,'BASE INCADEA'!A:D,3,FALSE) -> #N/A | E39: 015006 | F39: 2 | G39: =IF(F39=D39,"Quantité OK",IF(D39<#REF!,"Ecart positif","Ecart négatif"))&" "&IF(C39=E39,"","- Article déclassé") -> #N/A | I39: =VLOOKUP('CODE A BARRE'!#REF!,'COMPTAGE 2'!B:K,8,FALSE) -> #REF! | J39: =VLOOKUP('CODE A BARRE'!#REF!,'COMPTAGE 2'!B:K,9,FALSE) -> #REF! | K39: =VLOOKUP('CODE A BARRE'!#REF!,'COMPTAGE 2'!B:K,10,FALSE) -> #REF! | L39: =VLOOKUP(B39,#REF!,11,FALSE) -> #REF! | M39: =VLOOKUP(B39,#REF!,12,FALSE) -> #REF!
B40: 028105425N | C40: =VLOOKUP(B40,'BASE INCADEA'!A:D,2,FALSE) -> #N/A | D40: =VLOOKUP(B40,'BASE INCADEA'!A:D,3,FALSE) -> #N/A | E40: 011704 | F40: 20 | G40: =IF(F40=D40,"Quantité OK",IF(D40<#REF!,"Ecart positif","Ecart négatif"))&" "&IF(C40=E40,"","- Article déclassé") -> #N/A | I40: =VLOOKUP('CODE A BARRE'!#REF!,'COMPTAGE 2'!B:K,8,FALSE) -> #REF! | J40: =VLOOKUP('CODE A BARRE'!#REF!,'COMPTAGE 2'!B:K,9,FALSE) -> #REF! | K40: =VLOOKUP('CODE A BARRE'!#REF!,'COMPTAGE 2'!B:K,10,FALSE) -> #REF! | L40: =VLOOKUP(B40,#REF!,11,FALSE) -> #REF! | M40: =VLOOKUP(B40,#REF!,12,FALSE) -> #REF!
B41: 028109601J | C41: =VLOOKUP(B41,'BASE INCADEA'!A:D,2,FALSE) -> #N/A | D41: =VLOOKUP(B41,'BASE INCADEA'!A:D,3,FALSE) -> #N/A | E41: 015204 | F41: 6 | G41: =IF(F41=D41,"Quantité OK",IF(D41<#REF!,"Ecart positif","Ecart négatif"))&" "&IF(C41=E41,"","- Article déclassé") -> #N/A | I41: =VLOOKUP('CODE A BARRE'!#REF!,'COMPTAGE 2'!B:K,8,FALSE) -> #REF! | J41: =VLOOKUP('CODE A BARRE'!#REF!,'COMPTAGE 2'!B:K,9,FALSE) -> #REF! | K41: =VLOOKUP('CODE A BARRE'!#REF!,'COMPTAGE 2'!B:K,10,FALSE) -> #REF! | L41: =VLOOKUP(B41,#REF!,11,FALSE) -> #REF! | M41: =VLOOKUP(B41,#REF!,12,FALSE) -> #REF!
B42: 028109611J | C42: =VLOOKUP(B42,'BASE INCADEA'!A:D,2,FALSE) -> #N/A | D42: =VLOOKUP(B42,'BASE INCADEA'!A:D,3,FALSE) -> #N/A | E42: 015606 | F42: 4 | G42: =IF(F42=D42,"Quantité OK",IF(D42<#REF!,"Ecart positif","Ecart négatif"))&" "&IF(C42=E42,"","- Article déclassé") -> #N/A | I42: =VLOOKUP('CODE A BARRE'!#REF!,'COMPTAGE 2'!B:K,8,FALSE) -> #REF! | J42: =VLOOKUP('CODE A BARRE'!#REF!,'COMPTAGE 2'!B:K,9,FALSE) -> #REF! | K42: =VLOOKUP('CODE A BARRE'!#REF!,'COMPTAGE 2'!B:K,10,FALSE) -> #REF! | L42: =VLOOKUP(B42,#REF!,11,FALSE) -> #REF! | M42: =VLOOKUP(B42,#REF!,12,FALSE) -> #REF!
B43: 028115021B | C43: =VLOOKUP(B43,'BASE INCADEA'!A:D,2,FALSE) -> #N/A | D43: =VLOOKUP(B43,'BASE INCADEA'!A:D,3,FALSE) -> #N/A | E43: 016406 | F43: 1 | G43: =IF(F43=D43,"Quantité OK",IF(D43<#REF!,"Ecart positif","Ecart négatif"))&" "&IF(C43=E43,"","- Article déclassé") -> #N/A | I43: =VLOOKUP('CODE A BARRE'!#REF!,'COMPTAGE 2'!B:K,8,FALSE) -> #REF! | J43: =VLOOKUP('CODE A BARRE'!#REF!,'COMPTAGE 2'!B:K,9,FALSE) -> #REF! | K43: =VLOOKUP('CODE A BARRE'!#REF!,'COMPTAGE 2'!B:K,10,FALSE) -> #REF! | L43: =VLOOKUP(B43,#REF!,11,FALSE) -> #REF! | M43: =VLOOKUP(B43,#REF!,12,FALSE) -> #REF!
B44: 028127401A | C44: =VLOOKUP(B44,'BASE INCADEA'!A:D,2,FALSE) -> #N/A | D44: =VLOOKUP(B44,'BASE INCADEA'!A:D,3,FALSE) -> #N/A | E44: 026307 | F44: 2 | G44: =IF(F44=D44,"Quantité OK",IF(D44<#REF!,"Ecart positif","Ecart négatif"))&" "&IF(C44=E44,"","- Article déclassé") -> #N/A | I44: =VLOOKUP('CODE A BARRE'!#REF!,'COMPTAGE 2'!B:K,8,FALSE) -> #REF! | J44: =VLOOKUP('CODE A BARRE'!#REF!,'COMPTAGE 2'!B:K,9,FALSE) -> #REF! | K44: =VLOOKUP('CODE A BARRE'!#REF!,'COMPTAGE 2'!B:K,10,FALSE) -> #REF! | L44: =VLOOKUP(B44,#REF!,11,FALSE) -> #REF! | M44: =VLOOKUP(B44,#REF!,12,FALSE) -> #REF!
B45: 028141034T | C45: =VLOOKUP(B45,'BASE INCADEA'!A:D,2,FALSE) -> #N/A | D45: =VLOOKUP(B45,'BASE INCADEA'!A:D,3,FALSE) -> #N/A | E45: 011207 | F45: 1 | G45: =IF(F45=D45,"Quantité OK",IF(D45<#REF!,"Ecart positif","Ecart négatif"))&" "&IF(C45=E45,"","- Article déclassé") -> #N/A | I45: =VLOOKUP('CODE A BARRE'!#REF!,'COMPTAGE 2'!B:K,8,FALSE) -> #REF! | J45: =VLOOKUP('CODE A BARRE'!#REF!,'COMPTAGE 2'!B:K,9,FALSE) -> #REF! | K45: =VLOOKUP('CODE A BARRE'!#REF!,'COMPTAGE 2'!B:K,10,FALSE) -> #REF! | L45: =VLOOKUP(B45,#REF!,11,FALSE) -> #REF! | M45: =VLOOKUP(B45,#REF!,12,FALSE) -> #REF!
B46: 028903137AM | C46: =VLOOKUP(B46,'BASE INCADEA'!A:D,2,FALSE) -> #N/A | D46: =VLOOKUP(B46,'BASE INCADEA'!A:D,3,FALSE) -> #N/A | E46: 020607 | F46: 26 | G46: =IF(F46=D46,"Quantité OK",IF(D46<#REF!,"Ecart positif","Ecart négatif"))&" "&IF(C46=E46,"","- Article déclassé") -> #N/A | I46: =VLOOKUP('CODE A BARRE'!#REF!,'COMPTAGE 2'!B:K,8,FALSE) -> #REF! | J46: =VLOOKUP('CODE A BARRE'!#REF!,'COMPTAGE 2'!B:K,9,FALSE) -> #REF! | K46: =VLOOKUP('CODE A BARRE'!#REF!,'COMPTAGE 2'!B:K,10,FALSE) -> #REF! | L46: =VLOOKUP(B46,#REF!,11,FALSE) -> #REF! | M46: =VLOOKUP(B46,#REF!,12,FALSE) -> #REF!
B47: 028903137AM | C47: =VLOOKUP(B47,'BASE INCADEA'!A:D,2,FALSE) -> #N/A | D47: =VLOOKUP(B47,'BASE INCADEA'!A:D,3,FALSE) -> #N/A | E47: 020606 | F47: 1 | G47: =IF(F47=D47,"Quantité OK",IF(D47<#REF!,"Ecart positif","Ecart négatif"))&" "&IF(C47=E47,"","- Article déclassé") -> #N/A | I47: =VLOOKUP('CODE A BARRE'!#REF!,'COMPTAGE 2'!B:K,8,FALSE) -> #REF! | J47: =VLOOKUP('CODE A BARRE'!#REF!,'COMPTAGE 2'!B:K,9,FALSE) -> #REF! | K47: =VLOOKUP('CODE A BARRE'!#REF!,'COMPTAGE 2'!B:K,10,FALSE) -> #REF! | L47: =VLOOKUP(B47,#REF!,11,FALSE) -> #REF! | M47: =VLOOKUP(B47,#REF!,12,FALSE) -> #REF!
... B50: 02A141777B | C50: =VLOOKUP(B50,'BASE INCADEA'!A:D,2,FALSE) -> #N/A | D50: =VLOOKUP(B50,'BASE INCADEA'!A:D,3,FALSE) -> #N/A | E50: 016601 | F50: 36 | G50: =IF(F50=D50,"Quantité OK",IF(D50<#REF!,"Ecart positif","Ecart négatif"))&" "&IF(C50=E50,"","- Article déclassé") -> #N/A | I50: =VLOOKUP('CODE A BARRE'!#REF!,'COMPTAGE 2'!B:K,8,FALSE) -> #REF! | J50: =VLOOKUP('CODE A BARRE'!#REF!,'COMPTAGE 2'!B:K,9,FALSE) -> #REF! | K50: =VLOOKUP('CODE A BARRE'!#REF!,'COMPTAGE 2'!B:K,10,FALSE) -> #REF! | L50: =VLOOKUP(B50,#REF!,11,FALSE) -> #REF! | M50: =VLOOKUP(B50,#REF!,12,FALSE) -> #REF!
B51: N 91197203 | C51: =VLOOKUP(B51,'BASE INCADEA'!A:D,2,FALSE) -> #N/A | D51: =VLOOKUP(B51,'BASE INCADEA'!A:D,3,FALSE) -> #N/A | E51: 011106 | F51: 10 | G51: =IF(F51=D51,"Quantité OK",IF(D51<F71,"Ecart positif","Ecart négatif"))&" "&IF(C51=E51,"","- Article déclassé") -> #N/A | I51: =VLOOKUP('CODE A BARRE'!#REF!,'COMPTAGE 2'!B:K,8,FALSE) -> #REF! | J51: =VLOOKUP('CODE A BARRE'!#REF!,'COMPTAGE 2'!B:K,9,FALSE) -> #REF! | K51: =VLOOKUP('CODE A BARRE'!#REF!,'COMPTAGE 2'!B:K,10,FALSE) -> #REF! | L51: =VLOOKUP(B51,#REF!,11,FALSE) -> #REF! | M51: =VLOOKUP(B51,#REF!,12,FALSE) -> #REF!
B52: WHT000036 | C52: =VLOOKUP(B52,'BASE INCADEA'!A:D,2,FALSE) -> 031404 | D52: =VLOOKUP(B52,'BASE INCADEA'!A:D,3,FALSE) -> 40 | E52: 031404 | F52: 40 | G52: =IF(F52=D52,"Quantité OK",IF(D52<F72,"Ecart positif","Ecart négatif"))&" "&IF(C52=E52,"","- Article déclassé") -> Quantité OK | I52: =VLOOKUP('CODE A BARRE'!#REF!,'COMPTAGE 2'!B:K,8,FALSE) -> #REF! | J52: =VLOOKUP('CODE A BARRE'!#REF!,'COMPTAGE 2'!B:K,9,FALSE) -> #REF! | K52: =VLOOKUP('CODE A BARRE'!#REF!,'COMPTAGE 2'!B:K,10,FALSE) -> #REF! | L52: =VLOOKUP(B52,#REF!,11,FALSE) -> #REF! | M52: =VLOOKUP(B52,#REF!,12,FALSE) -> #REF!
B53: WHT000884 | C53: =VLOOKUP(B53,'BASE INCADEA'!A:D,2,FALSE) -> #N/A | D53: =VLOOKUP(B53,'BASE INCADEA'!A:D,3,FALSE) -> #N/A | E53: 034506 | F53: 25 | G53: =IF(F53=D53,"Quantité OK",IF(D53<F73,"Ecart positif","Ecart négatif"))&" "&IF(C53=E53,"","- Article déclassé") -> #N/A | I53: =VLOOKUP('CODE A BARRE'!#REF!,'COMPTAGE 2'!B:K,8,FALSE) -> #REF! | J53: =VLOOKUP('CODE A BARRE'!#REF!,'COMPTAGE 2'!B:K,9,FALSE) -> #REF! | K53: =VLOOKUP('CODE A BARRE'!#REF!,'COMPTAGE 2'!B:K,10,FALSE) -> #REF! | L53: =VLOOKUP(B53,#REF!,11,FALSE) -> #REF! | M53: =VLOOKUP(B53,#REF!,12,FALSE) -> #REF!
B54: WHT001692 | C54: =VLOOKUP(B54,'BASE INCADEA'!A:D,2,FALSE) -> 016602 | D54: =VLOOKUP(B54,'BASE INCADEA'!A:D,3,FALSE) -> 21 | E54: 016602 | F54: 21 | G54: =IF(F54=D54,"Quantité OK",IF(D54<F74,"Ecart positif","Ecart négatif"))&" "&IF(C54=E54,"","- Article déclassé") -> Quantité OK | I54: =VLOOKUP('CODE A BARRE'!#REF!,'COMPTAGE 2'!B:K,8,FALSE) -> #REF! | J54: =VLOOKUP('CODE A BARRE'!#REF!,'COMPTAGE 2'!B:K,9,FALSE) -> #REF! | K54: =VLOOKUP('CODE A BARRE'!#REF!,'COMPTAGE 2'!B:K,10,FALSE) -> #REF! | L54: =VLOOKUP(B54,#REF!,11,FALSE) -> #REF! | M54: =VLOOKUP(B54,#REF!,12,FALSE) -> #REF!
B55: WHT001921 | C55: =VLOOKUP(B55,'BASE INCADEA'!A:D,2,FALSE) -> 015804 | D55: =VLOOKUP(B55,'BASE INCADEA'!A:D,3,FALSE) -> 2 | E55: 015804 | F55: 2 | G55: =IF(F55=D55,"Quantité OK",IF(D55<F75,"Ecart positif","Ecart négatif"))&" "&IF(C55=E55,"","- Article déclassé") -> Quantité OK | I55: =VLOOKUP('CODE A BARRE'!#REF!,'COMPTAGE 2'!B:K,8,FALSE) -> #REF! | J55: =VLOOKUP('CODE A BARRE'!#REF!,'COMPTAGE 2'!B:K,9,FALSE) -> #REF! | K55: =VLOOKUP('CODE A BARRE'!#REF!,'COMPTAGE 2'!B:K,10,FALSE) -> #REF! | L55: =VLOOKUP(B55,#REF!,11,FALSE) -> #REF! | M55: =VLOOKUP(B55,#REF!,12,FALSE) -> #REF!
B56: WHT002059 | C56: =VLOOKUP(B56,'BASE INCADEA'!A:D,2,FALSE) -> 016601 | D56: =VLOOKUP(B56,'BASE INCADEA'!A:D,3,FALSE) -> 7 | E56: 016601 | F56: 7 | G56: =IF(F56=D56,"Quantité OK",IF(D56<F76,"Ecart positif","Ecart négatif"))&" "&IF(C56=E56,"","- Article déclassé") -> Quantité OK | I56: =VLOOKUP('CODE A BARRE'!#REF!,'COMPTAGE 2'!B:K,8,FALSE) -> #REF! | J56: =VLOOKUP('CODE A BARRE'!#REF!,'COMPTAGE 2'!B:K,9,FALSE) -> #REF! | K56: =VLOOKUP('CODE A BARRE'!#REF!,'COMPTAGE 2'!B:K,10,FALSE) -> #REF! | L56: =VLOOKUP(B56,#REF!,11,FALSE) -> #REF! | M56: =VLOOKUP(B56,#REF!,12,FALSE) -> #REF!
B57: WHT002244 | C57: =VLOOKUP(B57,'BASE INCADEA'!A:D,2,FALSE) -> 025204 | D57: =VLOOKUP(B57,'BASE INCADEA'!A:D,3,FALSE) -> 89 | E57: 025204 | F57: 89 | G57: =IF(F57=D57,"Quantité OK",IF(D57<F77,"Ecart positif","Ecart négatif"))&" "&IF(C57=E57,"","- Article déclassé") -> Quantité OK | I57: =VLOOKUP('CODE A BARRE'!#REF!,'COMPTAGE 2'!B:K,8,FALSE) -> #REF! | J57: =VLOOKUP('CODE A BARRE'!#REF!,'COMPTAGE 2'!B:K,9,FALSE) -> #REF! | K57: =VLOOKUP('CODE A BARRE'!#REF!,'COMPTAGE 2'!B:K,10,FALSE) -> #REF! | L57: =VLOOKUP(B57,#REF!,11,FALSE) -> #REF! | M57: =VLOOKUP(B57,#REF!,12,FALSE) -> #REF!
B58: WHT003366 | C58: =VLOOKUP(B58,'BASE INCADEA'!A:D,2,FALSE) -> 016603 | D58: =VLOOKUP(B58,'BASE INCADEA'!A:D,3,FALSE) -> 6 | E58: 016603 | F58: 6 | G58: =IF(F58=D58,"Quantité OK",IF(D58<F78,"Ecart positif","Ecart négatif"))&" "&IF(C58=E58,"","- Article déclassé") -> Quantité OK | I58: =VLOOKUP('CODE A BARRE'!#REF!,'COMPTAGE 2'!B:K,8,FALSE) -> #REF! | J58: =VLOOKUP('CODE A BARRE'!#REF!,'COMPTAGE 2'!B:K,9,FALSE) -> #REF! | K58: =VLOOKUP('CODE A BARRE'!#REF!,'COMPTAGE 2'!B:K,10,FALSE) -> #REF! | L58: =VLOOKUP(B58,#REF!,11,FALSE) -> #REF! | M58: =VLOOKUP(B58,#REF!,12,FALSE) -> #REF!
...

Sheet BASE INCADEA
A1: N° Pièce | B1: Code casier | C1: Qté (Inventaire) | D1: Coût unitaire
A2: 2036 | B2: 026406 | C2: 2 | D2: 155,553
A3: 2037 | B3: 026207 | C3: 2 | D3: 317,667
A4: 3070 | B4: 026403 | C4: 1 | D4: 86,139
A5: 3083 | B5: 026403 | C5: 1 | D5: 25,335
A6: 3180 | B6: 026403 | C6: 1 | D6: 108,722
A7: 3253 | B7: 026407 | C7: 1 | D7: 465,778
A8: 3265 | B8: 026403 | C8: 3 | D8: 14,511
A9: 3305 | B9: 026403 | C9: 1 | D9: 23,256
A10: 3307 | B10: 026403 | C10: 1 | D10: 121,363
A11: 3393 | B11: 026403 | C11: 1 | D11: 11,700
A12: 3410 | B12: 026403 | C12: 1 | D12: 15,457
... A604: WHT006407 | B604: 010107 | C604: 3 | D604: 0,951

Sheet COMPTAGE 2
A1: Document | B1: Réf. | C1: Casier Théo. | D1: Qte Théo. | E1: Casier Scanné | F1: Qte Scannée | G1: Résultat 1ére Comptage | I1: Casier Scanné en 2éme Comptage | J1: Qte Scannée en 2éme Comptage | K1: Résultat 2éme Comptage
G2: =IF(F2=D2,"Quantité OK",IF(D2<F22,"Ecart positif","Ecart négatif"))&" "&IF(C2=E2,"","- Article déclassé") -> Quantité OK | I2: =IF(H2="OK",C2,"") | K2: =IF(D2=J2,"Quantité OK",IF(D2<J2,"Ecart positif","Ecart négatif"))&" "&IF(I2=C2,"","- Article déclassé") -> Quantité OK
G3: =IF(F3=D3,"Quantité OK",IF(D3<F23,"Ecart positif","Ecart négatif"))&" "&IF(C3=E3,"","- Article déclassé") -> Quantité OK | I3: =IF(H3="OK",C3,"") | K3: =IF(D3=J3,"Quantité OK",IF(D3<J3,"Ecart positif","Ecart négatif"))&" "&IF(I3=C3,"","- Article déclassé") -> Quantité OK
G4: =IF(F4=D4,"Quantité OK",IF(D4<F24,"Ecart positif","Ecart négatif"))&" "&IF(C4=E4,"","- Article déclassé") -> Quantité OK | I4: =IF(H4="OK",C4,"") | K4: =IF(D4=J4,"Quantité OK",IF(D4<J4,"Ecart positif","Ecart négatif"))&" "&IF(I4=C4,"","- Article déclassé") -> Quantité OK
G5: =IF(F5=D5,"Quantité OK",IF(D5<F25,"Ecart positif","Ecart négatif"))&" "&IF(C5=E5,"","- Article déclassé") -> Quantité OK | I5: =IF(H5="OK",C5,"") | K5: =IF(D5=J5,"Quantité OK",IF(D5<J5,"Ecart positif","Ecart négatif"))&" "&IF(I5=C5,"","- Article déclassé") -> Quantité OK
G6: =IF(F6=D6,"Quantité OK",IF(D6<F26,"Ecart positif","Ecart négatif"))&" "&IF(C6=E6,"","- Article déclassé") -> Quantité OK | I6: =IF(H6="OK",C6,"") | K6: =IF(D6=J6,"Quantité OK",IF(D6<J6,"Ecart positif","Ecart négatif"))&" "&IF(I6=C6,"","- Article déclassé") -> Quantité OK
G7: =IF(F7=D7,"Quantité OK",IF(D7<F27,"Ecart positif","Ecart négatif"))&" "&IF(C7=E7,"","- Article déclassé") -> Quantité OK | I7: =IF(H7="OK",C7,"") | K7: =IF(D7=J7,"Quantité OK",IF(D7<J7,"Ecart positif","Ecart négatif"))&" "&IF(I7=C7,"","- Article déclassé") -> Quantité OK
G8: =IF(F8=D8,"Quantité OK",IF(D8<F28,"Ecart positif","Ecart négatif"))&" "&IF(C8=E8,"","- Article déclassé") -> Quantité OK | I8: =IF(H8="OK",C8,"") | K8: =IF(D8=J8,"Quantité OK",IF(D8<J8,"Ecart positif","Ecart négatif"))&" "&IF(I8=C8,"","- Article déclassé") -> Quantité OK
G9: =IF(F9=D9,"Quantité OK",IF(D9<F29,"Ecart positif","Ecart négatif"))&" "&IF(C9=E9,"","- Article déclassé") -> Quantité OK | I9: =IF(H9="OK",C9,"") | K9: =IF(D9=J9,"Quantité OK",IF(D9<J9,"Ecart positif","Ecart négatif"))&" "&IF(I9=C9,"","- Article déclassé") -> Quantité OK
G10: =IF(F10=D10,"Quantité OK",IF(D10<F30,"Ecart positif","Ecart négatif"))&" "&IF(C10=E10,"","- Article déclassé") -> Quantité OK | I10: =IF(H10="OK",C10,"") | K10: =IF(D10=J10,"Quantité OK",IF(D10<J10,"Ecart positif","Ecart négatif"))&" "&IF(I10=C10,"","- Article déclassé") -> Quantité OK
G11: =IF(F11=D11,"Quantité OK",IF(D11<F31,"Ecart positif","Ecart négatif"))&" "&IF(C11=E11,"","- Article déclassé") -> Quantité OK | I11: =IF(H11="OK",C11,"") | K11: =IF(D11=J11,"Quantité OK",IF(D11<J11,"Ecart positif","Ecart négatif"))&" "&IF(I11=C11,"","- Article déclassé") -> Quantité OK
G12: =IF(F12=D12,"Quantité OK",IF(D12<F32,"Ecart positif","Ecart négatif"))&" "&IF(C12=E12,"","- Article déclassé") -> Quantité OK | I12: =IF(H12="OK",C12,"") | K12: =IF(D12=J12,"Quantité OK",IF(D12<J12,"Ecart positif","Ecart négatif"))&" "&IF(I12=C12,"","- Article déclassé") -> Quantité OK
G13: =IF(F13=D13,"Quantité OK",IF(D13<F33,"Ecart positif","Ecart négatif"))&" "&IF(C13=E13,"","- Article déclassé") -> Quantité OK | I13: =IF(H13="OK",C13,"") | K13: =IF(D13=J13,"Quantité OK",IF(D13<J13,"Ecart positif","Ecart négatif"))&" "&IF(I13=C13,"","- Article déclassé") -> Quantité OK
... G245: =IF(F245=D245,"Quantité OK",IF(D245<F265,"Ecart positif","Ecart négatif"))&" "&IF(C245=E245,"","- Article déclassé") -> Quantité OK | I245: =IF(H245="OK",C245,"") | K245: =IF(D245=J245,"Quantité OK",IF(D245<J245,"Ecart positif","Ecart négatif"))&" "&IF(I245=C245,"","- Article déclassé") -> Quantité OK
G246: =IF(F246=D246,"Quantité OK",IF(D246<F265,"Ecart positif","Ecart négatif"))&" "&IF(C246=E246,"","- Article déclassé") -> Quantité OK | I246: =IF(H246="OK",C246,"") | K246: =IF(D246=J246,"Quantité OK",IF(D246<J246,"Ecart positif","Ecart négatif"))&" "&IF(I246=C246,"","- Article déclassé") -> Quantité OK
G247: =IF(F247=D247,"Quantité OK",IF(D247<F266,"Ecart positif","Ecart négatif"))&" "&IF(C247=E247,"","- Article déclassé") -> Quantité OK | I247: =IF(H247="OK",C247,"") | K247: =IF(D247=J247,"Quantité OK",IF(D247<J247,"Ecart positif","Ecart négatif"))&" "&IF(I247=C247,"","- Article déclassé") -> Quantité OK
G248: =IF(F248=D248,"Quantité OK",IF(D248<F267,"Ecart positif","Ecart négatif"))&" "&IF(C248=E248,"","- Article déclassé") -> Quantité OK | I248: =IF(H248="OK",C248,"") | K248: =IF(D248=J248,"Quantité OK",IF(D248<J248,"Ecart positif","Ecart négatif"))&" "&IF(I248=C248,"","- Article déclassé") -> Quantité OK
G249: =IF(F249=D249,"Quantité OK",IF(D249<F268,"Ecart positif","Ecart négatif"))&" "&IF(C249=E249,"","- Article déclassé") -> Quantité OK | I249: =IF(H249="OK",C249,"") | K249: =IF(D249=J249,"Quantité OK",IF(D249<J249,"Ecart positif","Ecart négatif"))&" "&IF(I249=C249,"","- Article déclassé") -> Quantité OK
G250: =IF(F250=D250,"Quantité OK",IF(D250<F269,"Ecart positif","Ecart négatif"))&" "&IF(C250=E250,"","- Article déclassé") -> Quantité OK | I250: =IF(H250="OK",C250,"") | K250: =IF(D250=J250,"Quantité OK",IF(D250<J250,"Ecart positif","Ecart négatif"))&" "&IF(I250=C250,"","- Article déclassé") -> Quantité OK
G251: =IF(F251=D251,"Quantité OK",IF(D251<#REF!,"Ecart positif","Ecart négatif"))&" "&IF(C251=E251,"","- Article déclassé") -> Quantité OK | I251: =IF(H251="OK",C251,"") | K251: =IF(D251=J251,"Quantité OK",IF(D251<J251,"Ecart positif","Ecart négatif"))&" "&IF(I251=C251,"","- Article déclassé") -> Quantité OK
G252: =IF(F252=D252,"Quantité OK",IF(D252<F270,"Ecart positif","Ecart négatif"))&" "&IF(C252=E252,"","- Article déclassé") -> Quantité OK | I252: =IF(H252="OK",C252,"") | K252: =IF(D252=J252,"Quantité OK",IF(D252<J252,"Ecart positif","Ecart négatif"))&" "&IF(I252=C252,"","- Article déclassé") -> Quantité OK
G253: =IF(F253=D253,"Quantité OK",IF(D253<F271,"Ecart positif","Ecart négatif"))&" "&IF(C253=E253,"","- Article déclassé") -> Quantité OK | I253: =IF(H253="OK",C253,"") | K253: =IF(D253=J253,"Quantité OK",IF(D253<J253,"Ecart positif","Ecart négatif"))&" "&IF(I253=C253,"","- Article déclassé") -> Quantité OK
G254: =IF(F254=D254,"Quantité OK",IF(D254<F272,"Ecart positif","Ecart négatif"))&" "&IF(C254=E254,"","- Article déclassé") -> Quantité OK | I254: =IF(H254="OK",C254,"") | K254: =IF(D254=J254,"Quantité OK",IF(D254<J254,"Ecart positif","Ecart négatif"))&" "&IF(I254=C254,"","- Article déclassé") -> Quantité OK
G255: =IF(F255=D255,"Quantité OK",IF(D255<F273,"Ecart positif","Ecart négatif"))&" "&IF(C255=E255,"","- Article déclassé") -> Quantité OK | I255: =IF(H255="OK",C255,"") | K255: =IF(D255=J255,"Quantité OK",IF(D255<J255,"Ecart positif","Ecart négatif"))&" "&IF(I255=C255,"","- Article déclassé") -> Quantité OK
G256: =IF(F256=D256,"Quantité OK",IF(D256<F274,"Ecart positif","Ecart négatif"))&" "&IF(C256=E256,"","- Article déclassé") -> Quantité OK | I256: =IF(H256="OK",C256,"") | K256: =IF(D256=J256,"Quantité OK",IF(D256<J256,"Ecart positif","Ecart négatif"))&" "&IF(I256=C256,"","- Article déclassé") -> Quantité OK
G257: =IF(F257=D257,"Quantité OK",IF(D257<F275,"Ecart positif","Ecart négatif"))&" "&IF(C257=E257,"","- Article déclassé") -> Quantité OK | I257: =IF(H257="OK",C257,"") | K257: =IF(D257=J257,"Quantité OK",IF(D257<J257,"Ecart positif","Ecart négatif"))&" "&IF(I257=C257,"","- Article déclassé") -> Quantité OK
G258: =IF(F258=D258,"Quantité OK",IF(D258<F276,"Ecart positif","Ecart négatif"))&" "&IF(C258=E258,"","- Article déclassé") -> Quantité OK | I258: =IF(H258="OK",C258,"") | K258: =IF(D258=J258,"Quantité OK",IF(D258<J258,"Ecart positif","Ecart négatif"))&" "&IF(I258=C258,"","- Article déclassé") -> Quantité OK
G259: =IF(F259=D259,"Quantité OK",IF(D259<F277,"Ecart positif","Ecart négatif"))&" "&IF(C259=E259,"","- Article déclassé") -> Quantité OK | I259: =IF(H259="OK",C259,"") | K259: =IF(D259=J259,"Quantité OK",IF(D259<J259,"Ecart positif","Ecart négatif"))&" "&IF(I259=C259,"","- Article déclassé") -> Quantité OK
G260: =IF(F260=D260,"Quantité OK",IF(D260<F278,"Ecart positif","Ecart négatif"))&" "&IF(C260=E260,"","- Article déclassé") -> Quantité OK | I260: =IF(H260="OK",C260,"") | K260: =IF(D260=J260,"Quantité OK",IF(D260<J260,"Ecart positif","Ecart négatif"))&" "&IF(I260=C260,"","- Article déclassé") -> Quantité OK
G261: =IF(F261=D261,"Quantité OK",IF(D261<F279,"Ecart positif","Ecart négatif"))&" "&IF(C261=E261,"","- Article déclassé") -> Quantité OK | I261: =IF(H261="OK",C261,"") | K261: =IF(D261=J261,"Quantité OK",IF(D261<J261,"Ecart positif","Ecart négatif"))&" "&IF(I261=C261,"","- Article déclassé") -> Quantité OK
G262: =IF(F262=D262,"Quantité OK",IF(D262<F280,"Ecart positif","Ecart négatif"))&" "&IF(C262=E262,"","- Article déclassé") -> Quantité OK | I262: =IF(H262="OK",C262,"") | K262: =IF(D262=J262,"Quantité OK",IF(D262<J262,"Ecart positif","Ecart négatif"))&" "&IF(I262=C262,"","- Article déclassé") -> Quantité OK
G263: =IF(F263=D263,"Quantité OK",IF(D263<F282,"Ecart positif","Ecart négatif"))&" "&IF(C263=E263,"","- Article déclassé") -> Quantité OK | I263: =IF(H263="OK",C263,"") | K263: =IF(D263=J263,"Quantité OK",IF(D263<J263,"Ecart positif","Ecart négatif"))&" "&IF(I263=C263,"","- Article déclassé") -> Quantité OK
G264: =IF(F264=D264,"Quantité OK",IF(D264<F283,"Ecart positif","Ecart négatif"))&" "&IF(C264=E264,"","- Article déclassé") -> Quantité OK | I264: =IF(H264="OK",C264,"") | K264: =IF(D264=J264,"Quantité OK",IF(D264<J264,"Ecart positif","Ecart négatif"))&" "&IF(I264=C264,"","- Article déclassé") -> Quantité OK
G265: =IF(F265=D265,"Quantité OK",IF(D265<F284,"Ecart positif","Ecart négatif"))&" "&IF(C265=E265,"","- Article déclassé") -> Quantité OK | I265: =IF(H265="OK",C265,"") | K265: =IF(D265=J265,"Quantité OK",IF(D265<J265,"Ecart positif","Ecart négatif"))&" "&IF(I265=C265,"","- Article déclassé") -> Quantité OK
G266: =IF(F266=D266,"Quantité OK",IF(D266<F285,"Ecart positif","Ecart négatif"))&" "&IF(C266=E266,"","- Article déclassé") -> Quantité OK | I266: =IF(H266="OK",C266,"") | K266: =IF(D266=J266,"Quantité OK",IF(D266<J266,"Ecart positif","Ecart négatif"))&" "&IF(I266=C266,"","- Article déclassé") -> Quantité OK
G267: =IF(F267=D267,"Quantité OK",IF(D267<F286,"Ecart positif","Ecart négatif"))&" "&IF(C267=E267,"","- Article déclassé") -> Quantité OK | I267: =IF(H267="OK",C267,"") | K267: =IF(D267=J267,"Quantité OK",IF(D267<J267,"Ecart positif","Ecart négatif"))&" "&IF(I267=C267,"","- Article déclassé") -> Quantité OK
G268: =IF(F268=D268,"Quantité OK",IF(D268<F287,"Ecart positif","Ecart négatif"))&" "&IF(C268=E268,"","- Article déclassé") -> Quantité OK | I268: =IF(H268="OK",C268,"") | K268: =IF(D268=J268,"Quantité OK",IF(D268<J268,"Ecart positif","Ecart négatif"))&" "&IF(I268=C268,"","- Article déclassé") -> Quantité OK
G269: =IF(F269=D269,"Quantité OK",IF(D269<F288,"Ecart positif","Ecart négatif"))&" "&IF(C269=E269,"","- Article déclassé") -> Quantité OK | I269: =IF(H269="OK",C269,"") | K269: =IF(D269=J269,"Quantité OK",IF(D269<J269,"Ecart positif","Ecart négatif"))&" "&IF(I269=C269,"","- Article déclassé") -> Quantité OK
G270: =IF(F270=D270,"Quantité OK",IF(D270<F290,"Ecart positif","Ecart négatif"))&" "&IF(C270=E270,"","- Article déclassé") -> Quantité OK | I270: =IF(H270="OK",C270,"") | K270: =IF(D270=J270,"Quantité OK",IF(D270<J270,"Ecart positif","Ecart négatif"))&" "&IF(I270=C270,"","- Article déclassé") -> Quantité OK
G271: =IF(F271=D271,"Quantité OK",IF(D271<F291,"Ecart positif","Ecart négatif"))&" "&IF(C271=E271,"","- Article déclassé") -> Quantité OK | I271: =IF(H271="OK",C271,"") | K271: =IF(D271=J271,"Quantité OK",IF(D271<J271,"Ecart positif","Ecart négatif"))&" "&IF(I271=C271,"","- Article déclassé") -> Quantité OK
...
