Workbook

Sheet Base INCADEA
A1: Ref. | B1: Casier Théo. | C1: Qte Théo. | D1: Montant Unitaire | E1: Tot.
A2: 8K0407510R | B2: 034906 | C2: 8 | D2: 170.742 | E2: 1365.936
A3: 4L0910568B | B3: 034903 | C3: 1 | D3: 768.579 | E3: 768.579
A4: 4L0910566B | B4: 034904 | C4: 1 | D4: 768.578 | E4: 768.578
A5: 1C0909605C 00E | B5: 034901 | C5: 1 | D5: 742.372 | E5: 742.372
A6: 8E0407693AL | B6: 034905 | C6: 2 | D6: 309.736 | E6: 619.472
A7: 06K109467K | B7: 034905 | C7: 9 | D7: 52.371 | E7: 471.339
A8: 4H0407694G | B8: 034906 | C8: 1 | D8: 425.52 | E8: 425.52
A9: N 10141003 | B9: 034907 | C9: 85 | D9: 3.449 | E9: 293.165
A10: 8K0407515 | B10: 034902 | C10: 12 | D10: 18.233 | E10: 218.796
A11: 8A0407465 | B11: 034902 | C11: 4 | D11: 51.808 | E11: 207.232
A12: 8E0407694AG | B12: 034906 | C12: 1 | D12: 192.842 | E12: 192.842
A13: 8K0505324H | B13: 034905 | C13: 1 | D13: 187.969 | E13: 187.969
... A29: 8T0823721 | B29: 034904 | C29: 1 | D29: 5.177 | E29: 5.177

Sheet Code a barre
A1: Produit | B1: Casier Scanné | C1: Quantité scannée | D1: Casier Théorique | E1: Quantité Théorique
A2: 012409413 | B2: 034905 | C2: 35 | D2: =IFERROR(VLOOKUP(A2,'Base INCADEA'!A:C,2,FALSE),"******") -> 034905 | E2: =IFERROR(VLOOKUP(A2,'Base INCADEA'!A:C,3,FALSE),"0") -> 36
A3: 03C103935C 9B9 | B3: 034904 | C3: 1 | D3: =IFERROR(VLOOKUP(A3,'Base INCADEA'!A:C,2,FALSE),"******") -> 034904 | E3: =IFERROR(VLOOKUP(A3,'Base INCADEA'!A:C,3,FALSE),"0") -> 1
A4: 03D103109C | B4: 034903 | C4: 2 | D4: =IFERROR(VLOOKUP(A4,'Base INCADEA'!A:C,2,FALSE),"******") -> 034903 | E4: =IFERROR(VLOOKUP(A4,'Base INCADEA'!A:C,3,FALSE),"0") -> 2
A5: 06K109467K | B5: 034905 | C5: 8 | D5: =IFERROR(VLOOKUP(A5,'Base INCADEA'!A:C,2,FALSE),"******") -> 034905 | E5: =IFERROR(VLOOKUP(A5,'Base INCADEA'!A:C,3,FALSE),"0") -> 9
A6: 1C0909605C 00E | B6: 034901 | C6: 1 | D6: =IFERROR(VLOOKUP(A6,'Base INCADEA'!A:C,2,FALSE),"******") -> 034901 | E6: =IFERROR(VLOOKUP(A6,'Base INCADEA'!A:C,3,FALSE),"0") -> 1
A7: 1K0199855BA | B7: 034905 | C7: 2 | D7: =IFERROR(VLOOKUP(A7,'Base INCADEA'!A:C,2,FALSE),"******") -> 034905 | E7: =IFERROR(VLOOKUP(A7,'Base INCADEA'!A:C,3,FALSE),"0") -> 1
A8: 1K1858544 9B9 | B8: 034904 | C8: 12 | D8: =IFERROR(VLOOKUP(A8,'Base INCADEA'!A:C,2,FALSE),"******") -> 034904 | E8: =IFERROR(VLOOKUP(A8,'Base INCADEA'!A:C,3,FALSE),"0") -> 12
A9: 357411313A | B9: 034904 | C9: 1 | D9: =IFERROR(VLOOKUP(A9,'Base INCADEA'!A:C,2,FALSE),"******") -> 034904 | E9: =IFERROR(VLOOKUP(A9,'Base INCADEA'!A:C,3,FALSE),"0") -> 1
A10: 3C0867333 | B10: 034903 | C10: 30 | D10: =IFERROR(VLOOKUP(A10,'Base INCADEA'!A:C,2,FALSE),"******") -> 034903 | E10: =IFERROR(VLOOKUP(A10,'Base INCADEA'!A:C,3,FALSE),"0") -> 30
A11: 3C5863463AC1BS | B11: 034903 | C11: 1 | D11: =IFERROR(VLOOKUP(A11,'Base INCADEA'!A:C,2,FALSE),"******") -> 034903 | E11: =IFERROR(VLOOKUP(A11,'Base INCADEA'!A:C,3,FALSE),"0") -> 1
A12: 3DD951221A | B12: 034904 | C12: 1 | D12: =IFERROR(VLOOKUP(A12,'Base INCADEA'!A:C,2,FALSE),"******") -> 034904 | E12: =IFERROR(VLOOKUP(A12,'Base INCADEA'!A:C,3,FALSE),"0") -> 1
A13: 4E0407694R | B13: 034907 | C13: 1 | D13: =IFERROR(VLOOKUP(A13,'Base INCADEA'!A:C,2,FALSE),"******") -> ****** | E13: =IFERROR(VLOOKUP(A13,'Base INCADEA'!A:C,3,FALSE),"0") -> 0
... A30: N 10141003 | B30: 034907 | C30: 85 | D30: =IFERROR(VLOOKUP(A30,'Base INCADEA'!A:C,2,FALSE),"******") -> 034907 | E30: =IFERROR(VLOOKUP(A30,'Base INCADEA'!A:C,3,FALSE),"0") -> 85

Sheet TCD Déclassé
A3: Sum of Quantité scannée
A4: Produit | B4: Casier Scanné | C4: Casier Théorique | D4: Total
A5: 4L0910568B | B5: 034903 | C5: 034903 | D5: 0
A6: 8E0407693AL | B6: 034905 | C6: 034905 | D6: 0
A7: 7L0407182G | B7: 034904 | C7: 034904 | D7: 0
A8: (vide) | B8: (vide) | C8: (vide)
A9: 8K0505324H | B9: 034905 | C9: 034905 | D9: 0
A10: 012409413 | B10: 034905 | C10: 034905 | D10: 0
A11: 6J0955751B | B11: 034903 | C11: 034903 | D11: 0
A12: 03C103935C 9B9 | B12: 034904 | C12: 034904 | D12: 0
A13: 8A0407465 | B13: 034902 | C13: 034902 | D13: 0
A14: 03D103109C | B14: 034903 | C14: 034903 | D14: 0
A15: 8K0407510R | B15: 034906 | C15: 034906 | D15: 0
A16: 1C0909605C 00E | B16: 034901 | C16: 034901 | D16: 0
A17: N 10141003 | B17: 034907 | C17: 034907 | D17: 0
A18: 1K0199855BA | B18: 034905 | C18: 034905 | D18: 0
A19: 6J0823730C | B19: 034903 | C19: 034903 | D19: 0
A20: 1K1858544 9B9 | B20: 034904 | C20: 034904 | D20: 0
... A34: 4L0910566B | B34: 034904 | C34: 034904 | D34: 0
A35: Total général | D35: 0

Sheet Déclassé
A1: Produit | B1: Casier Scanné | C1: Casier Théorique | D1: Vérification Casier
A2: 4L0910568B | B2: 034903 | C2: 034903 | D2: =IF(B2=C2,"OK","Article déclassé") -> OK
A3: 8E0407693AL | B3: 034905 | C3: 034905 | D3: =IF(B3=C3,"OK","Article déclassé") -> OK
A4: 7L0407182G | B4: 034904 | C4: 034904 | D4: =IF(B4=C4,"OK","Article déclassé") -> OK
A5: 8K0505324H | B5: 034905 | C5: 034905 | D5: =IF(B5=C5,"OK","Article déclassé") -> OK
A6: 012409413 | B6: 034905 | C6: 034905 | D6: =IF(B6=C6,"OK","Article déclassé") -> OK
A7: 6J0955751B | B7: 034903 | C7: 034903 | D7: =IF(B7=C7,"OK","Article déclassé") -> OK
A8: 03C103935C 9B9 | B8: 034904 | C8: 034904 | D8: =IF(B8=C8,"OK","Article déclassé") -> OK
A9: 8A0407465 | B9: 034902 | C9: 034902 | D9: =IF(B9=C9,"OK","Article déclassé") -> OK
A10: 03D103109C | B10: 034903 | C10: 034903 | D10: =IF(B10=C10,"OK","Article déclassé") -> OK
A11: 8K0407510R | B11: 034906 | C11: 034906 | D11: =IF(B11=C11,"OK","Article déclassé") -> OK
A12: 1C0909605C 00E | B12: 034901 | C12: 034901 | D12: =IF(B12=C12,"OK","Article déclassé") -> OK
A13: N 10141003 | B13: 034907 | C13: 034907 | D13: =IF(B13=C13,"OK","Article déclassé") -> OK
... A30: 4L0910566B | B30: 034904 | C30: 034904 | D30: =IF(B30=C30,"OK","Article déclassé") -> OK

Sheet TCD Total Scan1
A3: Étiquettes de lignes | B3: Somme de Quantité scannée
A4: (vide)
A5: 4L0910566B | B5: 0
A6: 4L0910568B | B6: 0
A7: 06K109467K | B7: 0
A8: 012409413 | B8: 0
A9: 03C103935C 9B9 | B9: 0
A10: 03D103109C | B10: 0
A11: 1C0909605C 00E | B11: 0
A12: 1K0199855BA | B12: 0
A13: 1K1858544 9B9 | B13: 0
A14: 357411313A | B14: 0
A15: 3C0867333 | B15: 0
A16: 3C5863463AC1BS | B16: 0
... A34: Total général | B34: 0

Sheet Total Scan1
A1: Produit | B1: Quantité Scannée | C1: Montant Unitaire | D1: Tot.
A2: 012409413 | B2: 35 | C2: =IFERROR(VLOOKUP(A2,'Base INCADEA'!A:E,4,0),0) -> 0.75 | D2: =C2*B2 -> 26.25
A3: 03C103935C 9B9 | B3: 1 | C3: =IFERROR(VLOOKUP(A3,'Base INCADEA'!A:E,4,0),0) -> 64.768 | D3: =C3*B3 -> 64.768
A4: 03D103109C | B4: 2 | C4: =IFERROR(VLOOKUP(A4,'Base INCADEA'!A:E,4,0),0) -> 3.48 | D4: =C4*B4 -> 6.96
A5: 06K109467K | B5: 8 | C5: =IFERROR(VLOOKUP(A5,'Base INCADEA'!A:E,4,0),0) -> 52.371 | D5: =C5*B5 -> 418.968
A6: 1C0909605C 00E | B6: 1 | C6: =IFERROR(VLOOKUP(A6,'Base INCADEA'!A:E,4,0),0) -> 742.372 | D6: =C6*B6 -> 742.372
A7: 1K0199855BA | B7: 2 | C7: =IFERROR(VLOOKUP(A7,'Base INCADEA'!A:E,4,0),0) -> 65.888 | D7: =C7*B7 -> 131.776
A8: 1K1858544 9B9 | B8: 12 | C8: =IFERROR(VLOOKUP(A8,'Base INCADEA'!A:E,4,0),0) -> 1.459 | D8: =C8*B8 -> 17.508
A9: 357411313A | B9: 1 | C9: =IFERROR(VLOOKUP(A9,'Base INCADEA'!A:E,4,0),0) -> 5.926 | D9: =C9*B9 -> 5.926
A10: 3C0867333 | B10: 30 | C10: =IFERROR(VLOOKUP(A10,'Base INCADEA'!A:E,4,0),0) -> 0.425 | D10: =C10*B10 -> 12.75
A11: 3C5863463AC1BS | B11: 1 | C11: =IFERROR(VLOOKUP(A11,'Base INCADEA'!A:E,4,0),0) -> 159.389 | D11: =C11*B11 -> 159.389
A12: 3DD951221A | B12: 1 | C12: =IFERROR(VLOOKUP(A12,'Base INCADEA'!A:E,4,0),0) -> 85.508 | D12: =C12*B12 -> 85.508
A13: 4E0407694R | B13: 1 | C13: =IFERROR(VLOOKUP(A13,'Base INCADEA'!A:E,4,0),0) -> 0 | D13: =C13*B13 -> 0
... A30: N 10141003 | B30: 85 | C30: =IFERROR(VLOOKUP(A30,'Base INCADEA'!A:E,4,0),0) -> 3.449 | D30: =C30*B30 -> 293.165
C31: =IFERROR(VLOOKUP(A31,'Base INCADEA'!A:E,4,0),0) -> 0 | D31: =C31*B31 -> 0
C32: =IFERROR(VLOOKUP(A32,'Base INCADEA'!A:E,4,0),0) -> 0 | D32: =C32*B32 -> 0
C33: =IFERROR(VLOOKUP(A33,'Base INCADEA'!A:E,4,0),0) -> 0 | D33: =C33*B33 -> 0
C34: =IFERROR(VLOOKUP(A34,'Base INCADEA'!A:E,4,0),0) -> 0 | D34: =C34*B34 -> 0
C35: =IFERROR(VLOOKUP(A35,'Base INCADEA'!A:E,4,0),0) -> 0 | D35: =C35*B35 -> 0
C36: =IFERROR(VLOOKUP(A36,'Base INCADEA'!A:E,4,0),0) -> 0 | D36: =C36*B36 -> 0
C37: =IFERROR(VLOOKUP(A37,'Base INCADEA'!A:E,4,0),0) -> 0 | D37: =C37*B37 -> 0
C38: =IFERROR(VLOOKUP(A38,'Base INCADEA'!A:E,4,0),0) -> 0 | D38: =C38*B38 -> 0
C39: =IFERROR(VLOOKUP(A39,'Base INCADEA'!A:E,4,0),0) -> 0 | D39: =C39*B39 -> 0
C40: =IFERROR(VLOOKUP(A40,'Base INCADEA'!A:E,4,0),0) -> 0 | D40: =C40*B40 -> 0
C41: =IFERROR(VLOOKUP(A41,'Base INCADEA'!A:E,4,0),0) -> 0 | D41: =C41*B41 -> 0
C42: =IFERROR(VLOOKUP(A42,'Base INCADEA'!A:E,4,0),0) -> 0 | D42: =C42*B42 -> 0
... C132: =IFERROR(VLOOKUP(A132,'Base INCADEA'!A:E,4,0),0) -> 0 | D132: =C132*B132 -> 0

Sheet Saisie Comptage2
A1: Ref. | B1: Casier Théo. | C1: Qte Scannée 2éme Comptage
A2: 06K109467K | B2: 034905 | C2: 8
A3: 1K0199855BA | B3: 034905 | C3: 2
A4: 012409413 | B4: 034905 | C4: 35

Sheet Etat Travée
A1: Ref. | B1: Casier Théo. | C1: Qte Théo. | D1: Montant unitaire | E1: Tot. | F1: Qte Scannée 1ére Comptage | G1: Ecart(1) | H1: Ecart en valeur(1) | I1: Qte Scannée 2éme Comptage | J1: Ecart(2) | K1: Ecart en valeur(2) | L1: Observation
A2: 8K0407510R | B2: 034906 | C2: 8 | D2: 170.742 | E2: 1365.936 | F2: =IFERROR(VLOOKUP(A2,'Total Scan1'!A:B,2,FALSE),0) -> 8 | G2: =ABS(F2)-ABS(C2) -> 0 | H2: =G2*D2 -> 0 | I2: =IF(G2=0,F2,VLOOKUP(A2,'Saisie Comptage2'!A:C,3,0)) -> 8 | J2: =ABS(I2)-ABS(C2) -> 0 | K2: =J2*D2 -> 0
A3: 4L0910568B | B3: 034903 | C3: 1 | D3: 768.579 | E3: 768.579 | F3: =IFERROR(VLOOKUP(A3,'Total Scan1'!A:B,2,FALSE),0) -> 1 | G3: =ABS(F3)-ABS(C3) -> 0 | H3: =G3*D3 -> 0 | I3: =IF(G3=0,F3,VLOOKUP(A3,'Saisie Comptage2'!A:C,3,0)) -> 1 | J3: =ABS(I3)-ABS(C3) -> 0 | K3: =J3*D3 -> 0
A4: 4L0910566B | B4: 034904 | C4: 1 | D4: 768.578 | E4: 768.578 | F4: =IFERROR(VLOOKUP(A4,'Total Scan1'!A:B,2,FALSE),0) -> 1 | G4: =ABS(F4)-ABS(C4) -> 0 | H4: =G4*D4 -> 0 | I4: =IF(G4=0,F4,VLOOKUP(A4,'Saisie Comptage2'!A:C,3,0)) -> 1 | J4: =ABS(I4)-ABS(C4) -> 0 | K4: =J4*D4 -> 0
A5: 1C0909605C 00E | B5: 034901 | C5: 1 | D5: 742.372 | E5: 742.372 | F5: =IFERROR(VLOOKUP(A5,'Total Scan1'!A:B,2,FALSE),0) -> 1 | G5: =ABS(F5)-ABS(C5) -> 0 | H5: =G5*D5 -> 0 | I5: =IF(G5=0,F5,VLOOKUP(A5,'Saisie Comptage2'!A:C,3,0)) -> 1 | J5: =ABS(I5)-ABS(C5) -> 0 | K5: =J5*D5 -> 0
A6: 8E0407693AL | B6: 034905 | C6: 2 | D6: 309.736 | E6: 619.472 | F6: =IFERROR(VLOOKUP(A6,'Total Scan1'!A:B,2,FALSE),0) -> 2 | G6: =ABS(F6)-ABS(C6) -> 0 | H6: =G6*D6 -> 0 | I6: =IF(G6=0,F6,VLOOKUP(A6,'Saisie Comptage2'!A:C,3,0)) -> 2 | J6: =ABS(I6)-ABS(C6) -> 0 | K6: =J6*D6 -> 0
A7: 06K109467K | B7: 034905 | C7: 9 | D7: 52.371 | E7: 471.339 | F7: =IFERROR(VLOOKUP(A7,'Total Scan1'!A:B,2,FALSE),0) -> 8 | G7: =ABS(F7)-ABS(C7) -> -1 | H7: =G7*D7 -> -52.371 | I7: =IF(G7=0,F7,VLOOKUP(A7,'Saisie Comptage2'!A:C,3,0)) -> 8 | J7: =ABS(I7)-ABS(C7) -> -1 | K7: =J7*D7 -> -52.371
A8: 4H0407694G | B8: 034906 | C8: 1 | D8: 425.52 | E8: 425.52 | F8: =IFERROR(VLOOKUP(A8,'Total Scan1'!A:B,2,FALSE),0) -> 1 | G8: =ABS(F8)-ABS(C8) -> 0 | H8: =G8*D8 -> 0 | I8: =IF(G8=0,F8,VLOOKUP(A8,'Saisie Comptage2'!A:C,3,0)) -> 1 | J8: =ABS(I8)-ABS(C8) -> 0 | K8: =J8*D8 -> 0
A9: N 10141003 | B9: 034907 | C9: 85 | D9: 3.449 | E9: 293.165 | F9: =IFERROR(VLOOKUP(A9,'Total Scan1'!A:B,2,FALSE),0) -> 85 | G9: =ABS(F9)-ABS(C9) -> 0 | H9: =G9*D9 -> 0 | I9: =IF(G9=0,F9,VLOOKUP(A9,'Saisie Comptage2'!A:C,3,0)) -> 85 | J9: =ABS(I9)-ABS(C9) -> 0 | K9: =J9*D9 -> 0
A10: 8K0407515 | B10: 034902 | C10: 12 | D10: 18.233 | E10: 218.796 | F10: =IFERROR(VLOOKUP(A10,'Total Scan1'!A:B,2,FALSE),0) -> 12 | G10: =ABS(F10)-ABS(C10) -> 0 | H10: =G10*D10 -> 0 | I10: =IF(G10=0,F10,VLOOKUP(A10,'Saisie Comptage2'!A:C,3,0)) -> 12 | J10: =ABS(I10)-ABS(C10) -> 0 | K10: =J10*D10 -> 0
A11: 8A0407465 | B11: 034902 | C11: 4 | D11: 51.808 | E11: 207.232 | F11: =IFERROR(VLOOKUP(A11,'Total Scan1'!A:B,2,FALSE),0) -> 4 | G11: =ABS(F11)-ABS(C11) -> 0 | H11: =G11*D11 -> 0 | I11: =IF(G11=0,F11,VLOOKUP(A11,'Saisie Comptage2'!A:C,3,0)) -> 4 | J11: =ABS(I11)-ABS(C11) -> 0 | K11: =J11*D11 -> 0
A12: 8E0407694AG | B12: 034906 | C12: 1 | D12: 192.842 | E12: 192.842 | F12: =IFERROR(VLOOKUP(A12,'Total Scan1'!A:B,2,FALSE),0) -> 1 | G12: =ABS(F12)-ABS(C12) -> 0 | H12: =G12*D12 -> 0 | I12: =IF(G12=0,F12,VLOOKUP(A12,'Saisie Comptage2'!A:C,3,0)) -> 1 | J12: =ABS(I12)-ABS(C12) -> 0 | K12: =J12*D12 -> 0
A13: 8K0505324H | B13: 034905 | C13: 1 | D13: 187.969 | E13: 187.969 | F13: =IFERROR(VLOOKUP(A13,'Total Scan1'!A:B,2,FALSE),0) -> 1 | G13: =ABS(F13)-ABS(C13) -> 0 | H13: =G13*D13 -> 0 | I13: =IF(G13=0,F13,VLOOKUP(A13,'Saisie Comptage2'!A:C,3,0)) -> 1 | J13: =ABS(I13)-ABS(C13) -> 0 | K13: =J13*D13 -> 0
... A29: 8T0823721 | B29: 034904 | C29: 1 | D29: 5.177 | E29: 5.177 | F29: =IFERROR(VLOOKUP(A29,'Total Scan1'!A:B,2,FALSE),0) -> 1 | G29: =ABS(F29)-ABS(C29) -> 0 | H29: =G29*D29 -> 0 | I29: =IF(G29=0,F29,VLOOKUP(A29,'Saisie Comptage2'!A:C,3,0)) -> 1 | J29: =ABS(I29)-ABS(C29) -> 0 | K29: =J29*D29 -> 0

Sheet dashboard
D1: MCENTRAL | F1: DashBoard INV.TOUR | J1: =NOW() -> 43166.642
D2: TRAVEE N°17
B4: Nbre of Réf. Théo. | C4: =COUNTA('Base INCADEA'!B:B)-1 -> 28 | F4: Nbre of Réf. Scanned | G4: =COUNTA('Total Scan1'!B:B)-1 -> 29 | H4: =G4/C4 -> 1.0357143 | J4: Nbre of Réf. Declassed | K4: =COUNTIF(Déclassé!D:D,"Article déclassé") -> 1 | L4: =K4/C4 -> 0.035714286
B6: Value of Réf.Théo. | C6: =SUM('Etat Travée'!E:E) -> 7047.065 | D6: 1 | F6: Value of Réf. Scanned | G6: =SUM('Total Scan1'!D:D) -> 7059.832 | H6: 0 | J6: Value of Réf. Declassed | K6: 0 | L6: 0
B9: 1st scan result | F9: 2nd scan result
C10: Number | D10: Value | G10: Number | H10: Value
B11: Correct quantity | C11: =COUNTIF('Etat Travée'!G:G,0) -> 25 | D11: =SUMIF('Etat Travée'!G:G,"0",'Etat Travée'!E:E) -> 6482.838 | F11: Correct quantity | G11: =COUNTIF('Etat Travée'!J:J,0) -> 25 | H11: =SUMIF('Etat Travée'!J:J,"0",'Etat Travée'!E:E) -> 6482.838
B12: Positive difference | C12: =COUNTIF('Etat Travée'!G:G,">0") -> 1 | D12: =SUMIF('Etat Travée'!G:G,">0",'Etat Travée'!H:H) -> 65.888 | F12: Positive difference | G12: =COUNTIF('Etat Travée'!J:J,">0") -> 1 | H12: =SUMIF('Etat Travée'!J:J,">0",'Etat Travée'!K:K) -> 65.888
B13: Negative diffrence | C13: =COUNTIF('Etat Travée'!G:G,"<0") -> 2 | D13: =SUMIF('Etat Travée'!G:G,"<0",'Etat Travée'!H:H) -> -53.121 | F13: Negative diffrence | G13: =COUNTIF('Etat Travée'!J:J,"<0") -> 2 | H13: =SUMIF('Etat Travée'!J:J,"<0",'Etat Travée'!K:K) -> -53.121
