Workbook

Sheet code a barre
A1: Produit | B1: Casier Scanné | C1: Quantité scannée | D1: Casier Théorique | E1: OBSERVATION | F1: Quantité Théorique | G1: Verification Emplacement
A2: 000800981A | B2: 121103 | C2: 1 | D2: =IFERROR(VLOOKUP(A2,'base incadea'!A:C,2,FALSE),"******") -> ****** | G2: =IF(B2=D2,"OK","Article déclassé") -> Article déclassé
A3: 02E398029B | B3: 110401 | C3: 1 | D3: =IFERROR(VLOOKUP(A3,'base incadea'!A:C,2,FALSE),"******") -> 110602 | G3: =IF(B3=D3,"OK","Article déclassé") -> Article déclassé
A4: 02E911023SX | B4: 113506 | C4: 1 | D4: =IFERROR(VLOOKUP(A4,'base incadea'!A:C,2,FALSE),"******") -> 113506 | G4: =IF(B4=D4,"OK","Article déclassé") -> OK
A5: 036129611CD | B5: 112705 | C5: 1 | D5: =IFERROR(VLOOKUP(A5,'base incadea'!A:C,2,FALSE),"******") -> 112505 | G5: =IF(B5=D5,"OK","Article déclassé") -> Article déclassé
A6: 036129611CD | B6: 112905 | C6: 2 | D6: =IFERROR(VLOOKUP(A6,'base incadea'!A:C,2,FALSE),"******") -> 112505 | G6: =IF(B6=D6,"OK","Article déclassé") -> Article déclassé
A7: 03C145601E | B7: 111203 | C7: 2 | D7: =IFERROR(VLOOKUP(A7,'base incadea'!A:C,2,FALSE),"******") -> 111203 | G7: =IF(B7=D7,"OK","Article déclassé") -> OK
A8: 03E109210P | B8: 110401 | C8: 2 | D8: =IFERROR(VLOOKUP(A8,'base incadea'!A:C,2,FALSE),"******") -> 110401 | G8: =IF(B8=D8,"OK","Article déclassé") -> OK
A9: 03F105269 | B9: 131303 | C9: 1 | D9: =IFERROR(VLOOKUP(A9,'base incadea'!A:C,2,FALSE),"******") -> ****** | G9: =IF(B9=D9,"OK","Article déclassé") -> Article déclassé
A10: 03L103265 X | B10: 121304 | C10: 1 | D10: =IFERROR(VLOOKUP(A10,'base incadea'!A:C,2,FALSE),"******") -> 121304 | G10: =IF(B10=D10,"OK","Article déclassé") -> OK
A11: 03L105266CE | B11: 111204 | C11: 2 | D11: =IFERROR(VLOOKUP(A11,'base incadea'!A:C,2,FALSE),"******") -> ****** | G11: =IF(B11=D11,"OK","Article déclassé") -> Article déclassé
A12: 03L122157Q | B12: 121902 | C12: 1 | D12: =IFERROR(VLOOKUP(A12,'base incadea'!A:C,2,FALSE),"******") -> 121902 | G12: =IF(B12=D12,"OK","Article déclassé") -> OK
A13: 03L130755AL | B13: 110201 | C13: 3 | D13: =IFERROR(VLOOKUP(A13,'base incadea'!A:C,2,FALSE),"******") -> 110201 | G13: =IF(B13=D13,"OK","Article déclassé") -> OK
... A290: 3AE867428M 1BS | B290: 131601 | C290: 1 | D290: =IFERROR(VLOOKUP(A290,'base incadea'!A:C,2,FALSE),"******") -> 131601 | G290: =IF(B290=D290,"OK","Article déclassé") -> OK
A291: 3B0413031Q | B291: 131205 | D291: =IFERROR(VLOOKUP(A291,'base incadea'!A:C,2,FALSE),"******") -> 131603 | G291: =IF(B291=D291,"OK","Article déclassé") -> Article déclassé
A292: 3B0413031Q | B292: 131204 | C292: 2 | D292: =IFERROR(VLOOKUP(A292,'base incadea'!A:C,2,FALSE),"******") -> 131603 | G292: =IF(B292=D292,"OK","Article déclassé") -> Article déclassé
A293: 3B0498201 | B293: 112705 | C293: 2 | D293: =IFERROR(VLOOKUP(A293,'base incadea'!A:C,2,FALSE),"******") -> 112705 | G293: =IF(B293=D293,"OK","Article déclassé") -> OK
A294: 3B0953042C | B294: 112302 | C294: 1 | D294: =IFERROR(VLOOKUP(A294,'base incadea'!A:C,2,FALSE),"******") -> 112302 | G294: =IF(B294=D294,"OK","Article déclassé") -> OK
A295: 3B5513031B | B295: 131404 | C295: 1 | D295: =IFERROR(VLOOKUP(A295,'base incadea'!A:C,2,FALSE),"******") -> 131404 | G295: =IF(B295=D295,"OK","Article déclassé") -> OK
A296: 3C0075101A | B296: 112302 | C296: 3 | D296: =IFERROR(VLOOKUP(A296,'base incadea'!A:C,2,FALSE),"******") -> 112302 | G296: =IF(B296=D296,"OK","Article déclassé") -> OK
A297: 3C0075111 | B297: 112302 | C297: 3 | D297: =IFERROR(VLOOKUP(A297,'base incadea'!A:C,2,FALSE),"******") -> 112302 | G297: =IF(B297=D297,"OK","Article déclassé") -> OK
A298: 3C0199313AD | B298: 122306 | C298: 2 | D298: =IFERROR(VLOOKUP(A298,'base incadea'!A:C,2,FALSE),"******") -> 122304 | G298: =IF(B298=D298,"OK","Article déclassé") -> Article déclassé
A299: 3C0407151G | B299: 113306 | C299: 4 | D299: =IFERROR(VLOOKUP(A299,'base incadea'!A:C,2,FALSE),"******") -> 110406 | G299: =IF(B299=D299,"OK","Article déclassé") -> Article déclassé
A300: 3C0411105AQ | B300: 130603 | C300: 1 | D300: =IFERROR(VLOOKUP(A300,'base incadea'!A:C,2,FALSE),"******") -> 130603 | G300: =IF(B300=D300,"OK","Article déclassé") -> OK
A301: 3C0411303AA | B301: 122105 | C301: 1 | D301: =IFERROR(VLOOKUP(A301,'base incadea'!A:C,2,FALSE),"******") -> 122105 | G301: =IF(B301=D301,"OK","Article déclassé") -> OK
A302: 3C0411303AC | B302: 122302 | C302: 3 | D302: =IFERROR(VLOOKUP(A302,'base incadea'!A:C,2,FALSE),"******") -> 122302 | G302: =IF(B302=D302,"OK","Article déclassé") -> OK
A303: 3C0413031AJ | B303: 131505 | C303: 1 | D303: =IFERROR(VLOOKUP(A303,'base incadea'!A:C,2,FALSE),"******") -> 131505 | G303: =IF(B303=D303,"OK","Article déclassé") -> OK
... A962: 8W0505397E | B962: 121102 | C962: 1 | D962: =IFERROR(VLOOKUP(A962,'base incadea'!A:C,2,FALSE),"******") -> 121102 | G962: =IF(B962=D962,"OK","Article déclassé") -> OK
A963: 8W0505398E | B963: 121502 | D963: =IFERROR(VLOOKUP(A963,'base incadea'!A:C,2,FALSE),"******") -> 121502 | G963: =IF(B963=D963,"OK","Article déclassé") -> OK
A964: 8W0505431T | B964: 121504 | C964: 1 | D964: =IFERROR(VLOOKUP(A964,'base incadea'!A:C,2,FALSE),"******") -> 121503 | G964: =IF(B964=D964,"OK","Article déclassé") -> Article déclassé
A965: 8W0505432T | B965: 120904 | C965: 1 | D965: =IFERROR(VLOOKUP(A965,'base incadea'!A:C,2,FALSE),"******") -> 120903 | G965: =IF(B965=D965,"OK","Article déclassé") -> Article déclassé
A966: 8W0511305AF | B966: 122303 | C966: 1 | D966: =IFERROR(VLOOKUP(A966,'base incadea'!A:C,2,FALSE),"******") -> 122303 | G966: =IF(B966=D966,"OK","Article déclassé") -> OK
A967: 8W0598611 | B967: 113505 | C967: 5 | D967: =IFERROR(VLOOKUP(A967,'base incadea'!A:C,2,FALSE),"******") -> 113505 | G967: =IF(B967=D967,"OK","Article déclassé") -> OK
A968: 8W0598611A | B968: 110602 | C968: 1 | D968: =IFERROR(VLOOKUP(A968,'base incadea'!A:C,2,FALSE),"******") -> 110602 | G968: =IF(B968=D968,"OK","Article déclassé") -> OK
A969: 8W0612107 | B969: 131402 | C969: 3 | D969: =IFERROR(VLOOKUP(A969,'base incadea'!A:C,2,FALSE),"******") -> 131402 | G969: =IF(B969=D969,"OK","Article déclassé") -> OK
A970: 8W0614517K BEF | B970: 112506 | C970: 1 | D970: =IFERROR(VLOOKUP(A970,'base incadea'!A:C,2,FALSE),"******") -> 112506 | G970: =IF(B970=D970,"OK","Article déclassé") -> OK
A971: 8W0807113 | B971: 122504 | C971: 2 | D971: =IFERROR(VLOOKUP(A971,'base incadea'!A:C,2,FALSE),"******") -> 122503 | G971: =IF(B971=D971,"OK","Article déclassé") -> Article déclassé
A972: 8W0807309 | B972: 120402 | C972: 1 | D972: =IFERROR(VLOOKUP(A972,'base incadea'!A:C,2,FALSE),"******") -> 120402 | G972: =IF(B972=D972,"OK","Article déclassé") -> OK
A973: 8W0807309B | B973: 122105 | C973: 1 | D973: =IFERROR(VLOOKUP(A973,'base incadea'!A:C,2,FALSE),"******") -> ****** | G973: =IF(B973=D973,"OK","Article déclassé") -> Article déclassé
A974: 8W1919616 | B974: 110203 | C974: 1 | D974: =IFERROR(VLOOKUP(A974,'base incadea'!A:C,2,FALSE),"******") -> 110203 | G974: =IF(B974=D974,"OK","Article déclassé") -> OK
...

Sheet base incadea
A1: Ref. | B1: Casier Théo. | C1: Qte Théo. | D1: Qte Scannée 1ére Comptage | E1: Résultat 1ére Comptage | F1: Ecart | G1: Qte Scannée 2éme Comptage | H1: Résultat 2éme Comptage | I1: Ecart | J1: Qte Scannée 3éme Comptage | K1: Résultat 3éme Comptage | L1: Ecart
A2: 03L130755AL | B2: 110201 | C2: 3 | D2: =IFERROR(VLOOKUP(A2,'code a barre'!A:C,3,0),0) -> 3 | E2: =IF(C2=D2,"Quantité OK",IF(C2<D2,"Ecart positif ","Ecart négatif")) -> Quantité OK | F2: =C2-D2 -> 0 | G2: =IF(E2="Quantité OK",D2,0) -> 3 | H2: =IF(C2=G2,"Quantité OK",IF(C2<G2,"Ecart positif ","Ecart négatif")) -> Quantité OK | I2: =C2-G2 -> 0 | J2: =IF(E2="Quantité OK",D2,0) -> 3 | K2: =IF(C2=J2,"Quantité OK",IF(C2<J2,"Ecart positif ","Ecart négatif")) -> Quantité OK | L2: =C2-J2 -> 0
A3: 8V0951210 | B3: 110201 | C3: 2 | D3: =IFERROR(VLOOKUP(A3,'code a barre'!A:C,3,0),0) -> 2 | E3: =IF(C3=D3,"Quantité OK",IF(C3<D3,"Ecart positif","Ecart négatif")) -> Quantité OK | F3: =C3-D3 -> 0 | G3: =IF(E3="Quantité OK",D3,0) -> 2 | H3: =IF(C3=G3,"Quantité OK",IF(C3<G3,"Ecart positif ","Ecart négatif")) -> Quantité OK | I3: =C3-G3 -> 0 | J3: =IF(E3="Quantité OK",D3,0) -> 2 | K3: =IF(C3=J3,"Quantité OK",IF(C3<J3,"Ecart positif ","Ecart négatif")) -> Quantité OK | L3: =C3-J3 -> 0
A4: 5N0498103 | B4: 110202 | C4: 2 | D4: =IFERROR(VLOOKUP(A4,'code a barre'!A:C,3,0),0) -> 2 | E4: =IF(C4=D4,"Quantité OK",IF(C4<D4,"Ecart positif","Ecart négatif")) -> Quantité OK | F4: =C4-D4 -> 0 | G4: =IF(E4="Quantité OK",D4,0) -> 2 | H4: =IF(C4=G4,"Quantité OK",IF(C4<G4,"Ecart positif ","Ecart négatif")) -> Quantité OK | I4: =C4-G4 -> 0 | J4: =IF(E4="Quantité OK",D4,0) -> 2 | K4: =IF(C4=J4,"Quantité OK",IF(C4<J4,"Ecart positif ","Ecart négatif")) -> Quantité OK | L4: =C4-J4 -> 0
A5: 5Q0614517J BEF | B5: 110202 | C5: 1 | D5: =IFERROR(VLOOKUP(A5,'code a barre'!A:C,3,0),0) -> 1 | E5: =IF(C5=D5,"Quantité OK",IF(C5<D5,"Ecart positif","Ecart négatif")) -> Quantité OK | F5: =C5-D5 -> 0 | G5: =IF(E5="Quantité OK",D5,0) -> 1 | H5: =IF(C5=G5,"Quantité OK",IF(C5<G5,"Ecart positif ","Ecart négatif")) -> Quantité OK | I5: =C5-G5 -> 0 | J5: =IF(E5="Quantité OK",D5,0) -> 1 | K5: =IF(C5=J5,"Quantité OK",IF(C5<J5,"Ecart positif ","Ecart négatif")) -> Quantité OK | L5: =C5-J5 -> 0
A6: 2H0614517J BEF | B6: 110203 | C6: 1 | D6: =IFERROR(VLOOKUP(A6,'code a barre'!A:C,3,0),0) -> 1 | E6: =IF(C6=D6,"Quantité OK",IF(C6<D6,"Ecart positif","Ecart négatif")) -> Quantité OK | F6: =C6-D6 -> 0 | G6: =IF(E6="Quantité OK",D6,0) -> 1 | H6: =IF(C6=G6,"Quantité OK",IF(C6<G6,"Ecart positif ","Ecart négatif")) -> Quantité OK | I6: =C6-G6 -> 0 | J6: =IF(E6="Quantité OK",D6,0) -> 1 | K6: =IF(C6=J6,"Quantité OK",IF(C6<J6,"Ecart positif ","Ecart négatif")) -> Quantité OK | L6: =C6-J6 -> 0
A7: 4G0201799C | B7: 110203 | C7: 1 | D7: =IFERROR(VLOOKUP(A7,'code a barre'!A:C,3,0),0) -> 1 | E7: =IF(C7=D7,"Quantité OK",IF(C7<D7,"Ecart positif","Ecart négatif")) -> Quantité OK | F7: =C7-D7 -> 0 | G7: =IF(E7="Quantité OK",D7,0) -> 1 | H7: =IF(C7=G7,"Quantité OK",IF(C7<G7,"Ecart positif ","Ecart négatif")) -> Quantité OK | I7: =C7-G7 -> 0 | J7: =IF(E7="Quantité OK",D7,0) -> 1 | K7: =IF(C7=J7,"Quantité OK",IF(C7<J7,"Ecart positif ","Ecart négatif")) -> Quantité OK | L7: =C7-J7 -> 0
A8: 8R0199381E | B8: 110203 | C8: 2 | D8: =IFERROR(VLOOKUP(A8,'code a barre'!A:C,3,0),0) -> 2 | E8: =IF(C8=D8,"Quantité OK",IF(C8<D8,"Ecart positif","Ecart négatif")) -> Quantité OK | F8: =C8-D8 -> 0 | G8: =IF(E8="Quantité OK",D8,0) -> 2 | H8: =IF(C8=G8,"Quantité OK",IF(C8<G8,"Ecart positif ","Ecart négatif")) -> Quantité OK | I8: =C8-G8 -> 0 | J8: =IF(E8="Quantité OK",D8,0) -> 2 | K8: =IF(C8=J8,"Quantité OK",IF(C8<J8,"Ecart positif ","Ecart négatif")) -> Quantité OK | L8: =C8-J8 -> 0
A9: 8W1919616 | B9: 110203 | C9: 1 | D9: =IFERROR(VLOOKUP(A9,'code a barre'!A:C,3,0),0) -> 1 | E9: =IF(C9=D9,"Quantité OK",IF(C9<D9,"Ecart positif","Ecart négatif")) -> Quantité OK | F9: =C9-D9 -> 0 | G9: =IF(E9="Quantité OK",D9,0) -> 1 | H9: =IF(C9=G9,"Quantité OK",IF(C9<G9,"Ecart positif ","Ecart négatif")) -> Quantité OK | I9: =C9-G9 -> 0 | J9: =IF(E9="Quantité OK",D9,0) -> 1 | K9: =IF(C9=J9,"Quantité OK",IF(C9<J9,"Ecart positif ","Ecart négatif")) -> Quantité OK | L9: =C9-J9 -> 0
A10: 1K0253141R | B10: 110204 | C10: 2 | D10: =IFERROR(VLOOKUP(A10,'code a barre'!A:C,3,0),0) -> 2 | E10: =IF(C10=D10,"Quantité OK",IF(C10<D10,"Ecart positif","Ecart négatif")) -> Quantité OK | F10: =C10-D10 -> 0 | G10: =IF(E10="Quantité OK",D10,0) -> 2 | H10: =IF(C10=G10,"Quantité OK",IF(C10<G10,"Ecart positif ","Ecart négatif")) -> Quantité OK | I10: =C10-G10 -> 0 | J10: =IF(E10="Quantité OK",D10,0) -> 2 | K10: =IF(C10=J10,"Quantité OK",IF(C10<J10,"Ecart positif ","Ecart négatif")) -> Quantité OK | L10: =C10-J10 -> 0
A11: 1K0615612AB | B11: 110204 | C11: 1 | D11: =IFERROR(VLOOKUP(A11,'code a barre'!A:C,3,0),0) -> 1 | E11: =IF(C11=D11,"Quantité OK",IF(C11<D11,"Ecart positif","Ecart négatif")) -> Quantité OK | F11: =C11-D11 -> 0 | G11: =IF(E11="Quantité OK",D11,0) -> 1 | H11: =IF(C11=G11,"Quantité OK",IF(C11<G11,"Ecart positif ","Ecart négatif")) -> Quantité OK | I11: =C11-G11 -> 0 | J11: =IF(E11="Quantité OK",D11,0) -> 1 | K11: =IF(C11=J11,"Quantité OK",IF(C11<J11,"Ecart positif ","Ecart négatif")) -> Quantité OK | L11: =C11-J11 -> 0
A12: 2H0407077A | B12: 110204 | C12: 16 | D12: =IFERROR(VLOOKUP(A12,'code a barre'!A:C,3,0),0) -> 16 | E12: =IF(C12=D12,"Quantité OK",IF(C12<D12,"Ecart positif","Ecart négatif")) -> Quantité OK | F12: =C12-D12 -> 0 | G12: =IF(E12="Quantité OK",D12,0) -> 16 | H12: =IF(C12=G12,"Quantité OK",IF(C12<G12,"Ecart positif ","Ecart négatif")) -> Quantité OK | I12: =C12-G12 -> 0 | J12: =IF(E12="Quantité OK",D12,0) -> 16 | K12: =IF(C12=J12,"Quantité OK",IF(C12<J12,"Ecart positif ","Ecart négatif")) -> Quantité OK | L12: =C12-J12 -> 0
A13: 2H0407183A | B13: 110204 | C13: 2 | D13: =IFERROR(VLOOKUP(A13,'code a barre'!A:C,3,0),0) -> 2 | E13: =IF(C13=D13,"Quantité OK",IF(C13<D13,"Ecart positif","Ecart négatif")) -> Quantité OK | F13: =C13-D13 -> 0 | G13: =IF(E13="Quantité OK",D13,0) -> 2 | H13: =IF(C13=G13,"Quantité OK",IF(C13<G13,"Ecart positif ","Ecart négatif")) -> Quantité OK | I13: =C13-G13 -> 0 | J13: =IF(E13="Quantité OK",D13,0) -> 2 | K13: =IF(C13=J13,"Quantité OK",IF(C13<J13,"Ecart positif ","Ecart négatif")) -> Quantité OK | L13: =C13-J13 -> 0
A14: 81A407151C | B14: 110204 | C14: 1 | D14: =IFERROR(VLOOKUP(A14,'code a barre'!A:C,3,0),0) -> 1 | E14: =IF(C14=D14,"Quantité OK",IF(C14<D14,"Ecart positif","Ecart négatif")) -> Quantité OK | F14: =C14-D14 -> 0 | G14: =IF(E14="Quantité OK",D14,0) -> 1 | H14: =IF(C14=G14,"Quantité OK",IF(C14<G14,"Ecart positif ","Ecart négatif")) -> Quantité OK | I14: =C14-G14 -> 0 | J14: =IF(E14="Quantité OK",D14,0) -> 1 | K14: =IF(C14=J14,"Quantité OK",IF(C14<J14,"Ecart positif ","Ecart négatif")) -> Quantité OK | L14: =C14-J14 -> 0
... A148: 1K0407255T | B148: 112706 | C148: 6 | D148: =IFERROR(VLOOKUP(A148,'code a barre'!A:C,3,0),0) -> 6 | E148: =IF(C148=D148,"Quantité OK",IF(C148<D148,"Ecart positif","Ecart négatif")) -> Quantité OK | F148: =C148-D148 -> 0 | G148: =IF(E148="Quantité OK",D148,0) -> 6 | H148: =IF(C148=G148,"Quantité OK",IF(C148<G148,"Ecart positif ","Ecart négatif")) -> Quantité OK | I148: =C148-G148 -> 0 | J148: =IF(E148="Quantité OK",D148,0) -> 6 | K148: =IF(C148=J148,"Quantité OK",IF(C148<J148,"Ecart positif ","Ecart négatif")) -> Quantité OK | L148: =C148-J148 -> 0
A149: 191601149 | B149: 112901 | C149: 4 | D149: =IFERROR(VLOOKUP(A149,'code a barre'!A:C,3,0),0) -> 0 | E149: =IF(C149=D149,"Quantité OK",IF(C149<D149,"Ecart positif","Ecart négatif")) -> Ecart négatif | F149: =C149-D149 -> 4 | G149: =IF(E149="Quantité OK",D149,0) -> 0 | H149: =IF(C149=G149,"Quantité OK",IF(C149<G149,"Ecart positif ","Ecart négatif")) -> Ecart négatif | I149: =C149-G149 -> 4 | J149: =IF(E149="Quantité OK",D149,0) -> 0 | K149: =IF(C149=J149,"Quantité OK",IF(C149<J149,"Ecart positif ","Ecart négatif")) -> Ecart négatif | L149: =C149-J149 -> 4
A150: 1K0819465B | B150: 112901 | C150: 2 | D150: =IFERROR(VLOOKUP(A150,'code a barre'!A:C,3,0),0) -> 2 | E150: =IF(C150=D150,"Quantité OK",IF(C150<D150,"Ecart positif","Ecart négatif")) -> Quantité OK | F150: =C150-D150 -> 0 | G150: =IF(E150="Quantité OK",D150,0) -> 2 | H150: =IF(C150=G150,"Quantité OK",IF(C150<G150,"Ecart positif ","Ecart négatif")) -> Quantité OK | I150: =C150-G150 -> 0 | J150: =IF(E150="Quantité OK",D150,0) -> 2 | K150: =IF(C150=J150,"Quantité OK",IF(C150<J150,"Ecart positif ","Ecart négatif")) -> Quantité OK | L150: =C150-J150 -> 0
A151: 3AA711113C A0U | B151: 112901 | C151: 1 | D151: =IFERROR(VLOOKUP(A151,'code a barre'!A:C,3,0),0) -> 0 | E151: =IF(C151=D151,"Quantité OK",IF(C151<D151,"Ecart positif","Ecart négatif")) -> Ecart négatif | F151: =C151-D151 -> 1 | G151: =IF(E151="Quantité OK",D151,0) -> 0 | H151: =IF(C151=G151,"Quantité OK",IF(C151<G151,"Ecart positif ","Ecart négatif")) -> Ecart négatif | I151: =C151-G151 -> 1 | J151: =IF(E151="Quantité OK",D151,0) -> 0 | K151: =IF(C151=J151,"Quantité OK",IF(C151<J151,"Ecart positif ","Ecart négatif")) -> Ecart négatif | L151: =C151-J151 -> 1
A152: 4F0133835N | B152: 112901 | C152: 1 | D152: =IFERROR(VLOOKUP(A152,'code a barre'!A:C,3,0),0) -> 1 | E152: =IF(C152=D152,"Quantité OK",IF(C152<D152,"Ecart positif","Ecart négatif")) -> Quantité OK | F152: =C152-D152 -> 0 | G152: =IF(E152="Quantité OK",D152,0) -> 1 | H152: =IF(C152=G152,"Quantité OK",IF(C152<G152,"Ecart positif ","Ecart négatif")) -> Quantité OK | I152: =C152-G152 -> 0 | J152: =IF(E152="Quantité OK",D152,0) -> 1 | K152: =IF(C152=J152,"Quantité OK",IF(C152<J152,"Ecart positif ","Ecart négatif")) -> Quantité OK | L152: =C152-J152 -> 0
A153: 6N0601149E FED | B153: 112901 | C153: 3 | D153: =IFERROR(VLOOKUP(A153,'code a barre'!A:C,3,0),0) -> 3 | E153: =IF(C153=D153,"Quantité OK",IF(C153<D153,"Ecart positif","Ecart négatif")) -> Quantité OK | F153: =C153-D153 -> 0 | G153: =IF(E153="Quantité OK",D153,0) -> 3 | H153: =IF(C153=G153,"Quantité OK",IF(C153<G153,"Ecart positif ","Ecart négatif")) -> Quantité OK | I153: =C153-G153 -> 0 | J153: =IF(E153="Quantité OK",D153,0) -> 3 | K153: =IF(C153=J153,"Quantité OK",IF(C153<J153,"Ecart positif ","Ecart négatif")) -> Quantité OK | L153: =C153-J153 -> 0
A154: 5Q0407254A | B154: 112902 | C154: 2 | D154: =IFERROR(VLOOKUP(A154,'code a barre'!A:C,3,0),0) -> 1 | E154: =IF(C154=D154,"Quantité OK",IF(C154<D154,"Ecart positif","Ecart négatif")) -> Ecart négatif | F154: =C154-D154 -> 1 | G154: =IF(E154="Quantité OK",D154,0) -> 0 | H154: =IF(C154=G154,"Quantité OK",IF(C154<G154,"Ecart positif ","Ecart négatif")) -> Ecart négatif | I154: =C154-G154 -> 2 | J154: =IF(E154="Quantité OK",D154,0) -> 0 | K154: =IF(C154=J154,"Quantité OK",IF(C154<J154,"Ecart positif ","Ecart négatif")) -> Ecart négatif | L154: =C154-J154 -> 2
A155: 6R0601147C WPU | B155: 112902 | C155: 4 | D155: =IFERROR(VLOOKUP(A155,'code a barre'!A:C,3,0),0) -> 4 | E155: =IF(C155=D155,"Quantité OK",IF(C155<D155,"Ecart positif","Ecart négatif")) -> Quantité OK | F155: =C155-D155 -> 0 | G155: =IF(E155="Quantité OK",D155,0) -> 4 | H155: =IF(C155=G155,"Quantité OK",IF(C155<G155,"Ecart positif ","Ecart négatif")) -> Quantité OK | I155: =C155-G155 -> 0 | J155: =IF(E155="Quantité OK",D155,0) -> 4 | K155: =IF(C155=J155,"Quantité OK",IF(C155<J155,"Ecart positif ","Ecart négatif")) -> Quantité OK | L155: =C155-J155 -> 0
A156: 2K0601169 9B9 | B156: 112903 | C156: 7 | D156: =IFERROR(VLOOKUP(A156,'code a barre'!A:C,3,0),0) -> 4 | E156: =IF(C156=D156,"Quantité OK",IF(C156<D156,"Ecart positif","Ecart négatif")) -> Ecart négatif | F156: =C156-D156 -> 3 | G156: =IF(E156="Quantité OK",D156,0) -> 0 | H156: =IF(C156=G156,"Quantité OK",IF(C156<G156,"Ecart positif ","Ecart négatif")) -> Ecart négatif | I156: =C156-G156 -> 7 | J156: =IF(E156="Quantité OK",D156,0) -> 0 | K156: =IF(C156=J156,"Quantité OK",IF(C156<J156,"Ecart positif ","Ecart négatif")) -> Ecart négatif | L156: =C156-J156 -> 7
A157: 8E0501611J | B157: 112903 | C157: 4 | D157: =IFERROR(VLOOKUP(A157,'code a barre'!A:C,3,0),0) -> 4 | E157: =IF(C157=D157,"Quantité OK",IF(C157<D157,"Ecart positif","Ecart négatif")) -> Quantité OK | F157: =C157-D157 -> 0 | G157: =IF(E157="Quantité OK",D157,0) -> 4 | H157: =IF(C157=G157,"Quantité OK",IF(C157<G157,"Ecart positif ","Ecart négatif")) -> Quantité OK | I157: =C157-G157 -> 0 | J157: =IF(E157="Quantité OK",D157,0) -> 4 | K157: =IF(C157=J157,"Quantité OK",IF(C157<J157,"Ecart positif ","Ecart négatif")) -> Quantité OK | L157: =C157-J157 -> 0
A158: 191407255C | B158: 112904 | C158: 3 | D158: =IFERROR(VLOOKUP(A158,'code a barre'!A:C,3,0),0) -> 3 | E158: =IF(C158=D158,"Quantité OK",IF(C158<D158,"Ecart positif","Ecart négatif")) -> Quantité OK | F158: =C158-D158 -> 0 | G158: =IF(E158="Quantité OK",D158,0) -> 3 | H158: =IF(C158=G158,"Quantité OK",IF(C158<G158,"Ecart positif ","Ecart négatif")) -> Quantité OK | I158: =C158-G158 -> 0 | J158: =IF(E158="Quantité OK",D158,0) -> 3 | K158: =IF(C158=J158,"Quantité OK",IF(C158<J158,"Ecart positif ","Ecart négatif")) -> Quantité OK | L158: =C158-J158 -> 0
A159: 3C0505434K | B159: 112905 | C159: 3 | D159: =IFERROR(VLOOKUP(A159,'code a barre'!A:C,3,0),0) -> 0 | E159: =IF(C159=D159,"Quantité OK",IF(C159<D159,"Ecart positif","Ecart négatif")) -> Ecart négatif | F159: =C159-D159 -> 3 | G159: =IF(E159="Quantité OK",D159,0) -> 0 | H159: =IF(C159=G159,"Quantité OK",IF(C159<G159,"Ecart positif ","Ecart négatif")) -> Ecart négatif | I159: =C159-G159 -> 3 | J159: =IF(E159="Quantité OK",D159,0) -> 0 | K159: =IF(C159=J159,"Quantité OK",IF(C159<J159,"Ecart positif ","Ecart négatif")) -> Ecart négatif | L159: =C159-J159 -> 3
A160: 5N0498099BX | B160: 112905 | C160: 1 | D160: =IFERROR(VLOOKUP(A160,'code a barre'!A:C,3,0),0) -> 1 | E160: =IF(C160=D160,"Quantité OK",IF(C160<D160,"Ecart positif","Ecart négatif")) -> Quantité OK | F160: =C160-D160 -> 0 | G160: =IF(E160="Quantité OK",D160,0) -> 1 | H160: =IF(C160=G160,"Quantité OK",IF(C160<G160,"Ecart positif ","Ecart négatif")) -> Quantité OK | I160: =C160-G160 -> 0 | J160: =IF(E160="Quantité OK",D160,0) -> 1 | K160: =IF(C160=J160,"Quantité OK",IF(C160<J160,"Ecart positif ","Ecart négatif")) -> Quantité OK | L160: =C160-J160 -> 0
A161: 8E0505432AF | B161: 112906 | C161: 2 | D161: =IFERROR(VLOOKUP(A161,'code a barre'!A:C,3,0),0) -> 2 | E161: =IF(C161=D161,"Quantité OK",IF(C161<D161,"Ecart positif","Ecart négatif")) -> Quantité OK | F161: =C161-D161 -> 0 | G161: =IF(E161="Quantité OK",D161,0) -> 2 | H161: =IF(C161=G161,"Quantité OK",IF(C161<G161,"Ecart positif ","Ecart négatif")) -> Quantité OK | I161: =C161-G161 -> 0 | J161: =IF(E161="Quantité OK",D161,0) -> 2 | K161: =IF(C161=J161,"Quantité OK",IF(C161<J161,"Ecart positif ","Ecart négatif")) -> Quantité OK | L161: =C161-J161 -> 0
... A547: 8W5813307A | B547: 122302 | C547: 2 | D547: =IFERROR(VLOOKUP(A547,'code a barre'!A:C,3,0),0) -> 1 | E547: =IF(C547=D547,"Quantité OK",IF(C547<D547,"Ecart positif","Ecart négatif")) -> Ecart négatif | F547: =C547-D547 -> 1 | G547: =IF(E547="Quantité OK",D547,0) -> 0 | H547: =IF(C547=G547,"Quantité OK",IF(C547<G547,"Ecart positif ","Ecart négatif")) -> Ecart négatif | I547: =C547-G547 -> 2 | J547: =IF(E547="Quantité OK",D547,0) -> 0 | K547: =IF(C547=J547,"Quantité OK",IF(C547<J547,"Ecart positif ","Ecart négatif")) -> Ecart négatif | L547: =C547-J547 -> 2
A548: 575807651 | B548: 122303 | C548: 3 | D548: =IFERROR(VLOOKUP(A548,'code a barre'!A:C,3,0),0) -> 0 | E548: =IF(C548=D548,"Quantité OK",IF(C548<D548,"Ecart positif","Ecart négatif")) -> Ecart négatif | F548: =C548-D548 -> 3 | G548: =IF(E548="Quantité OK",D548,0) -> 0 | H548: =IF(C548=G548,"Quantité OK",IF(C548<G548,"Ecart positif ","Ecart négatif")) -> Ecart négatif | I548: =C548-G548 -> 3 | J548: =IF(E548="Quantité OK",D548,0) -> 0 | K548: =IF(C548=J548,"Quantité OK",IF(C548<J548,"Ecart positif ","Ecart négatif")) -> Ecart négatif | L548: =C548-J548 -> 3
A549: 4G0807113A | B549: 122303 | C549: 2 | D549: =IFERROR(VLOOKUP(A549,'code a barre'!A:C,3,0),0) -> 2 | E549: =IF(C549=D549,"Quantité OK",IF(C549<D549,"Ecart positif","Ecart négatif")) -> Quantité OK | F549: =C549-D549 -> 0 | G549: =IF(E549="Quantité OK",D549,0) -> 2 | H549: =IF(C549=G549,"Quantité OK",IF(C549<G549,"Ecart positif ","Ecart négatif")) -> Quantité OK | I549: =C549-G549 -> 0 | J549: =IF(E549="Quantité OK",D549,0) -> 2 | K549: =IF(C549=J549,"Quantité OK",IF(C549<J549,"Ecart positif ","Ecart négatif")) -> Quantité OK | L549: =C549-J549 -> 0
A550: 5NA805932A | B550: 122303 | C550: 1 | D550: =IFERROR(VLOOKUP(A550,'code a barre'!A:C,3,0),0) -> 1 | E550: =IF(C550=D550,"Quantité OK",IF(C550<D550,"Ecart positif","Ecart négatif")) -> Quantité OK | F550: =C550-D550 -> 0 | G550: =IF(E550="Quantité OK",D550,0) -> 1 | H550: =IF(C550=G550,"Quantité OK",IF(C550<G550,"Ecart positif ","Ecart négatif")) -> Quantité OK | I550: =C550-G550 -> 0 | J550: =IF(E550="Quantité OK",D550,0) -> 1 | K550: =IF(C550=J550,"Quantité OK",IF(C550<J550,"Ecart positif ","Ecart négatif")) -> Quantité OK | L550: =C550-J550 -> 0
A551: 7L6145795H | B551: 122303 | C551: 2 | D551: =IFERROR(VLOOKUP(A551,'code a barre'!A:C,3,0),0) -> 2 | E551: =IF(C551=D551,"Quantité OK",IF(C551<D551,"Ecart positif","Ecart négatif")) -> Quantité OK | F551: =C551-D551 -> 0 | G551: =IF(E551="Quantité OK",D551,0) -> 2 | H551: =IF(C551=G551,"Quantité OK",IF(C551<G551,"Ecart positif ","Ecart négatif")) -> Quantité OK | I551: =C551-G551 -> 0 | J551: =IF(E551="Quantité OK",D551,0) -> 2 | K551: =IF(C551=J551,"Quantité OK",IF(C551<J551,"Ecart positif ","Ecart négatif")) -> Quantité OK | L551: =C551-J551 -> 0
A552: 8K0814339 | B552: 122303 | C552: 1 | D552: =IFERROR(VLOOKUP(A552,'code a barre'!A:C,3,0),0) -> 1 | E552: =IF(C552=D552,"Quantité OK",IF(C552<D552,"Ecart positif","Ecart négatif")) -> Quantité OK | F552: =C552-D552 -> 0 | G552: =IF(E552="Quantité OK",D552,0) -> 1 | H552: =IF(C552=G552,"Quantité OK",IF(C552<G552,"Ecart positif ","Ecart négatif")) -> Quantité OK | I552: =C552-G552 -> 0 | J552: =IF(E552="Quantité OK",D552,0) -> 1 | K552: =IF(C552=J552,"Quantité OK",IF(C552<J552,"Ecart positif ","Ecart négatif")) -> Quantité OK | L552: =C552-J552 -> 0
A553: 8T0807313 | B553: 122303 | C553: 2 | D553: =IFERROR(VLOOKUP(A553,'code a barre'!A:C,3,0),0) -> 1 | E553: =IF(C553=D553,"Quantité OK",IF(C553<D553,"Ecart positif","Ecart négatif")) -> Ecart négatif | F553: =C553-D553 -> 1 | G553: =IF(E553="Quantité OK",D553,0) -> 0 | H553: =IF(C553=G553,"Quantité OK",IF(C553<G553,"Ecart positif ","Ecart négatif")) -> Ecart négatif | I553: =C553-G553 -> 2 | J553: =IF(E553="Quantité OK",D553,0) -> 0 | K553: =IF(C553=J553,"Quantité OK",IF(C553<J553,"Ecart positif ","Ecart négatif")) -> Ecart négatif | L553: =C553-J553 -> 2
A554: 8V5821468B | B554: 122303 | C554: 3 | D554: =IFERROR(VLOOKUP(A554,'code a barre'!A:C,3,0),0) -> 2 | E554: =IF(C554=D554,"Quantité OK",IF(C554<D554,"Ecart positif","Ecart négatif")) -> Ecart négatif | F554: =C554-D554 -> 1 | G554: =IF(E554="Quantité OK",D554,0) -> 0 | H554: =IF(C554=G554,"Quantité OK",IF(C554<G554,"Ecart positif ","Ecart négatif")) -> Ecart négatif | I554: =C554-G554 -> 3 | J554: =IF(E554="Quantité OK",D554,0) -> 0 | K554: =IF(C554=J554,"Quantité OK",IF(C554<J554,"Ecart positif ","Ecart négatif")) -> Ecart négatif | L554: =C554-J554 -> 3
A555: 8W0511305AF | B555: 122303 | C555: 1 | D555: =IFERROR(VLOOKUP(A555,'code a barre'!A:C,3,0),0) -> 1 | E555: =IF(C555=D555,"Quantité OK",IF(C555<D555,"Ecart positif","Ecart négatif")) -> Quantité OK | F555: =C555-D555 -> 0 | G555: =IF(E555="Quantité OK",D555,0) -> 1 | H555: =IF(C555=G555,"Quantité OK",IF(C555<G555,"Ecart positif ","Ecart négatif")) -> Quantité OK | I555: =C555-G555 -> 0 | J555: =IF(E555="Quantité OK",D555,0) -> 1 | K555: =IF(C555=J555,"Quantité OK",IF(C555<J555,"Ecart positif ","Ecart négatif")) -> Quantité OK | L555: =C555-J555 -> 0
A556: 1P0813319C | B556: 122304 | C556: 3 | D556: =IFERROR(VLOOKUP(A556,'code a barre'!A:C,3,0),0) -> 3 | E556: =IF(C556=D556,"Quantité OK",IF(C556<D556,"Ecart positif","Ecart négatif")) -> Quantité OK | F556: =C556-D556 -> 0 | G556: =IF(E556="Quantité OK",D556,0) -> 3 | H556: =IF(C556=G556,"Quantité OK",IF(C556<G556,"Ecart positif ","Ecart négatif")) -> Quantité OK | I556: =C556-G556 -> 0 | J556: =IF(E556="Quantité OK",D556,0) -> 3 | K556: =IF(C556=J556,"Quantité OK",IF(C556<J556,"Ecart positif ","Ecart négatif")) -> Quantité OK | L556: =C556-J556 -> 0
A557: 3C0199313AD | B557: 122304 | C557: 2 | D557: =IFERROR(VLOOKUP(A557,'code a barre'!A:C,3,0),0) -> 2 | E557: =IF(C557=D557,"Quantité OK",IF(C557<D557,"Ecart positif","Ecart négatif")) -> Quantité OK | F557: =C557-D557 -> 0 | G557: =IF(E557="Quantité OK",D557,0) -> 2 | H557: =IF(C557=G557,"Quantité OK",IF(C557<G557,"Ecart positif ","Ecart négatif")) -> Quantité OK | I557: =C557-G557 -> 0 | J557: =IF(E557="Quantité OK",D557,0) -> 2 | K557: =IF(C557=J557,"Quantité OK",IF(C557<J557,"Ecart positif ","Ecart négatif")) -> Quantité OK | L557: =C557-J557 -> 0
A558: 5NA805567 | B558: 122304 | C558: 1 | D558: =IFERROR(VLOOKUP(A558,'code a barre'!A:C,3,0),0) -> 1 | E558: =IF(C558=D558,"Quantité OK",IF(C558<D558,"Ecart positif","Ecart négatif")) -> Quantité OK | F558: =C558-D558 -> 0 | G558: =IF(E558="Quantité OK",D558,0) -> 1 | H558: =IF(C558=G558,"Quantité OK",IF(C558<G558,"Ecart positif ","Ecart négatif")) -> Quantité OK | I558: =C558-G558 -> 0 | J558: =IF(E558="Quantité OK",D558,0) -> 1 | K558: =IF(C558=J558,"Quantité OK",IF(C558<J558,"Ecart positif ","Ecart négatif")) -> Quantité OK | L558: =C558-J558 -> 0
...
