Workbook

Sheet code a barre
A1: Produit | B1: Casier Scanné | C1: Quantité scannée | D1: Casier Théorique | E1: OBSERVATION | F1: Quantité Théorique | G1: Verification Emplacement
A2: 000800981A | B2: 121103 | C2: 1 | D2: =IFERROR(VLOOKUP(A2,'base incadea'!A:C,2,FALSE),"******") -> ****** | G2: =IF(B2=D2,"OK","Article déclassé") -> Article déclassé
A3: 02E398029B | B3: 110401 | C3: 1 | D3: =IFERROR(VLOOKUP(A3,'base incadea'!A:C,2,FALSE),"******") -> 110602 | G3: =IF(B3=D3,"OK","Article déclassé") -> Article déclassé
A4: 02E911023SX | B4: 113506 | C4: 1 | D4: =IFERROR(VLOOKUP(A4,'base incadea'!A:C,2,FALSE),"******") -> 113506 | G4: =IF(B4=D4,"OK","Article déclassé") -> OK
A5: 036129611CD | B5: 112705 | C5: 1 | D5: =IFERROR(VLOOKUP(A5,'base incadea'!A:C,2,FALSE),"******") -> 112505 | G5: =IF(B5=D5,"OK","Article déclassé") -> Article déclassé
A6: 036129611CD | B6: 112905 | C6: 2 | D6: =IFERROR(VLOOKUP(A6,'base incadea'!A:C,2,FALSE),"******") -> 112505 | G6: =IF(B6=D6,"OK","Article déclassé") -> Article déclassé
A7: 03C145601E | B7: 111203 | C7: 2 | D7: =IFERROR(VLOOKUP(A7,'base incadea'!A:C,2,FALSE),"******") -> 111203 | G7: =IF(B7=D7,"OK","Article déclassé") -> OK
A8: 03E109210P | B8: 110401 | C8: 2 | D8: =IFERROR(VLOOKUP(A8,'base incadea'!A:C,2,FALSE),"******") -> 110401 | G8: =IF(B8=D8,"OK","Article déclassé") -> OK
A9: 03F105269 | B9: 131303 | C9: 1 | D9: =IFERROR(VLOOKUP(A9,'base incadea'!A:C,2,FALSE),"******") -> ****** | G9: =IF(B9=D9,"OK","Article déclassé") -> Article déclassé
A10: 03L103265 X | B10: 121304 | C10: 1 | D10: =IFERROR(VLOOKUP(A10,'base incadea'!A:C,2,FALSE),"******") -> 121304 | G10: =IF(B10=D10,"OK","Article déclassé") -> OK
A11: 03L105266CE | B11: 111204 | C11: 2 | D11: =IFERROR(VLOOKUP(A11,'base incadea'!A:C,2,FALSE),"******") -> ****** | G11: =IF(B11=D11,"OK","Article déclassé") -> Article déclassé
A12: 03L122157Q | B12: 121902 | C12: 1 | D12: =IFERROR(VLOOKUP(A12,'base incadea'!A:C,2,FALSE),"******") -> 121902 | G12: =IF(B12=D12,"OK","Article déclassé") -> OK
A13: 03L130755AL | B13: 110201 | C13: 3 | D13: =IFERROR(VLOOKUP(A13,'base incadea'!A:C,2,FALSE),"******") -> 110201 | G13: =IF(B13=D13,"OK","Article déclassé") -> OK
... A290: 3AE867428M 1BS | B290: 131601 | C290: 1 | D290: =IFERROR(VLOOKUP(A290,'base incadea'!A:C,2,FALSE),"******") -> 131601 | G290: =IF(B290=D290,"OK","Article déclassé") -> OK
A291: 3B0413031Q | B291: 131205 | D291: =IFERROR(VLOOKUP(A291,'base incadea'!A:C,2,FALSE),"******") -> 131603 | G291: =IF(B291=D291,"OK","Article déclassé") -> Article déclassé
A292: 3B0413031Q | B292: 131204 | C292: 2 | D292: =IFERROR(VLOOKUP(A292,'base incadea'!A:C,2,FALSE),"******") -> 131603 | G292: =IF(B292=D292,"OK","Article déclassé") -> Article déclassé
A293: 3B0498201 | B293: 112705 | C293: 2 | D293: =IFERROR(VLOOKUP(A293,'base incadea'!A:C,2,FALSE),"******") -> 112705 | G293: =IF(B293=D293,"OK","Article déclassé") -> OK
A294: 3B0953042C | B294: 112302 | C294: 1 | D294: =IFERROR(VLOOKUP(A294,'base incadea'!A:C,2,FALSE),"******") -> 112302 | G294: =IF(B294=D294,"OK","Article déclassé") -> OK
A295: 3B5513031B | B295: 131404 | C295: 1 | D295: =IFERROR(VLOOKUP(A295,'base incadea'!A:C,2,FALSE),"******") -> 131404 | G295: =IF(B295=D295,"OK","Article déclassé") -> OK
A296: 3C0075101A | B296: 112302 | C296: 3 | D296: =IFERROR(VLOOKUP(A296,'base incadea'!A:C,2,FALSE),"******") -> 112302 | G296: =IF(B296=D296,"OK","Article déclassé") -> OK
A297: 3C0075111 | B297: 112302 | C297: 3 | D297: =IFERROR(VLOOKUP(A297,'base incadea'!A:C,2,FALSE),"******") -> 112302 | G297: =IF(B297=D297,"OK","Article déclassé") -> OK
A298: 3C0199313AD | B298: 122306 | C298: 2 | D298: =IFERROR(VLOOKUP(A298,'base incadea'!A:C,2,FALSE),"******") -> 122304 | G298: =IF(B298=D298,"OK","Article déclassé") -> Article déclassé
A299: 3C0407151G | B299: 113306 | C299: 4 | D299: =IFERROR(VLOOKUP(A299,'base incadea'!A:C,2,FALSE),"******") -> 110406 | G299: =IF(B299=D299,"OK","Article déclassé") -> Article déclassé
A300: 3C0411105AQ | B300: 130603 | C300: 1 | D300: =IFERROR(VLOOKUP(A300,'base incadea'!A:C,2,FALSE),"******") -> 130603 | G300: =IF(B300=D300,"OK","Article déclassé") -> OK
A301: 3C0411303AA | B301: 122105 | C301: 1 | D301: =IFERROR(VLOOKUP(A301,'base incadea'!A:C,2,FALSE),"******") -> 122105 | G301: =IF(B301=D301,"OK","Article déclassé") -> OK
A302: 3C0411303AC | B302: 122302 | C302: 3 | D302: =IFERROR(VLOOKUP(A302,'base incadea'!A:C,2,FALSE),"******") -> 122302 | G302: =IF(B302=D302,"OK","Article déclassé") -> OK
A303: 3C0413031AJ | B303: 131505 | C303: 1 | D303: =IFERROR(VLOOKUP(A303,'base incadea'!A:C,2,FALSE),"******") -> 131505 | G303: =IF(B303=D303,"OK","Article déclassé") -> OK
... A962: 8W0505397E | B962: 121102 | C962: 1 | D962: =IFERROR(VLOOKUP(A962,'base incadea'!A:C,2,FALSE),"******") -> 121102 | G962: =IF(B962=D962,"OK","Article déclassé") -> OK
A963: 8W0505398E | B963: 121502 | D963: =IFERROR(VLOOKUP(A963,'base incadea'!A:C,2,FALSE),"******") -> 121502 | G963: =IF(B963=D963,"OK","Article déclassé") -> OK
A964: 8W0505431T | B964: 121504 | C964: 1 | D964: =IFERROR(VLOOKUP(A964,'base incadea'!A:C,2,FALSE),"******") -> 121503 | G964: =IF(B964=D964,"OK","Article déclassé") -> Article déclassé
A965: 8W0505432T | B965: 120904 | C965: 1 | D965: =IFERROR(VLOOKUP(A965,'base incadea'!A:C,2,FALSE),"******") -> 120903 | G965: =IF(B965=D965,"OK","Article déclassé") -> Article déclassé
A966: 8W0511305AF | B966: 122303 | C966: 1 | D966: =IFERROR(VLOOKUP(A966,'base incadea'!A:C,2,FALSE),"******") -> 122303 | G966: =IF(B966=D966,"OK","Article déclassé") -> OK
A967: 8W0598611 | B967: 113505 | C967: 5 | D967: =IFERROR(VLOOKUP(A967,'base incadea'!A:C,2,FALSE),"******") -> 113505 | G967: =IF(B967=D967,"OK","Article déclassé") -> OK
A968: 8W0598611A | B968: 110602 | C968: 1 | D968: =IFERROR(VLOOKUP(A968,'base incadea'!A:C,2,FALSE),"******") -> 110602 | G968: =IF(B968=D968,"OK","Article déclassé") -> OK
A969: 8W0612107 | B969: 131402 | C969: 3 | D969: =IFERROR(VLOOKUP(A969,'base incadea'!A:C,2,FALSE),"******") -> 131402 | G969: =IF(B969=D969,"OK","Article déclassé") -> OK
A970: 8W0614517K BEF | B970: 112506 | C970: 1 | D970: =IFERROR(VLOOKUP(A970,'base incadea'!A:C,2,FALSE),"******") -> 112506 | G970: =IF(B970=D970,"OK","Article déclassé") -> OK
A971: 8W0807113 | B971: 122504 | C971: 2 | D971: =IFERROR(VLOOKUP(A971,'base incadea'!A:C,2,FALSE),"******") -> 122503 | G971: =IF(B971=D971,"OK","Article déclassé") -> Article déclassé
A972: 8W0807309 | B972: 120402 | C972: 1 | D972: =IFERROR(VLOOKUP(A972,'base incadea'!A:C,2,FALSE),"******") -> 120402 | G972: =IF(B972=D972,"OK","Article déclassé") -> OK
A973: 8W0807309B | B973: 122105 | C973: 1 | D973: =IFERROR(VLOOKUP(A973,'base incadea'!A:C,2,FALSE),"******") -> ****** | G973: =IF(B973=D973,"OK","Article déclassé") -> Article déclassé
A974: 8W1919616 | B974: 110203 | C974: 1 | D974: =IFERROR(VLOOKUP(A974,'base incadea'!A:C,2,FALSE),"******") -> 110203 | G974: =IF(B974=D974,"OK","Article déclassé") -> OK
A975: 8W5813307A | B975: 122302 | C975: 1 | D975: =IFERROR(VLOOKUP(A975,'base incadea'!A:C,2,FALSE),"******") -> 122302 | G975: =IF(B975=D975,"OK","Article déclassé") -> OK
... A998: JZW513025Q | B998: 130805 | C998: 2 | D998: =IFERROR(VLOOKUP(A998,'base incadea'!A:C,2,FALSE),"******") -> 130806 | G998: =IF(B998=D998,"OK","Article déclassé") -> Article déclassé

Sheet base incadea
A1: Ref. | B1: Casier Théo. | C1: Qte Théo. | D1: Qte Scannée 1ére Comptage | E1: Résultat 1ére Comptage | F1: Ecart | G1: Qte Scannée 2éme Comptage | H1: Résultat 2éme Comptage | I1: Ecart | J1: Qte Scannée 3éme Comptage | K1: Résultat 3éme Comptage | L1: Ecart
A2: 03L130755AL | B2: 110201 | C2: 3 | D2: =IFERROR(VLOOKUP(A2,'code a barre'!A:C,3,0),0) -> 3 | E2: =IF(C2=D2,"Quantité OK",IF(C2<D2,"Ecart positif ","Ecart négatif")) -> Quantité OK | F2: =C2-D2 -> 0 | G2: =IF(E2="Quantité OK",D2,0) -> 3 | H2: =IF(C2=G2,"Quantité OK",IF(C2<G2,"Ecart positif ","Ecart négatif")) -> Quantité OK | I2: =C2-G2 -> 0 | J2: =IF(E2="Quantité OK",D2,0) -> 3 | K2: =IF(C2=J2,"Quantité OK",IF(C2<J2,"Ecart positif ","Ecart négatif")) -> Quantité OK | L2: =C2-J2 -> 0
A3: 8V0951210 | B3: 110201 | C3: 2 | D3: =IFERROR(VLOOKUP(A3,'code a barre'!A:C,3,0),0) -> 2 | E3: =IF(C3=D3,"Quantité OK",IF(C3<D3,"Ecart positif","Ecart négatif")) -> Quantité OK | F3: =C3-D3 -> 0 | G3: =IF(E3="Quantité OK",D3,0) -> 2 | H3: =IF(C3=G3,"Quantité OK",IF(C3<G3,"Ecart positif ","Ecart négatif")) -> Quantité OK | I3: =C3-G3 -> 0 | J3: =IF(E3="Quantité OK",D3,0) -> 2 | K3: =IF(C3=J3,"Quantité OK",IF(C3<J3,"Ecart positif ","Ecart négatif")) -> Quantité OK | L3: =C3-J3 -> 0
A4: 5N0498103 | B4: 110202 | C4: 2 | D4: =IFERROR(VLOOKUP(A4,'code a barre'!A:C,3,0),0) -> 2 | E4: =IF(C4=D4,"Quantité OK",IF(C4<D4,"Ecart positif","Ecart négatif")) -> Quantité OK | F4: =C4-D4 -> 0 | G4: =IF(E4="Quantité OK",D4,0) -> 2 | H4: =IF(C4=G4,"Quantité OK",IF(C4<G4,"Ecart positif ","Ecart négatif")) -> Quantité OK | I4: =C4-G4 -> 0 | J4: =IF(E4="Quantité OK",D4,0) -> 2 | K4: =IF(C4=J4,"Quantité OK",IF(C4<J4,"Ecart positif ","Ecart négatif")) -> Quantité OK | L4: =C4-J4 -> 0
A5: 5Q0614517J BEF | B5: 110202 | C5: 1 | D5: =IFERROR(VLOOKUP(A5,'code a barre'!A:C,3,0),0) -> 1 | E5: =IF(C5=D5,"Quantité OK",IF(C5<D5,"Ecart positif","Ecart négatif")) -> Quantité OK | F5: =C5-D5 -> 0 | G5: =IF(E5="Quantité OK",D5,0) -> 1 | H5: =IF(C5=G5,"Quantité OK",IF(C5<G5,"Ecart positif ","Ecart négatif")) -> Quantité OK | I5: =C5-G5 -> 0 | J5: =IF(E5="Quantité OK",D5,0) -> 1 | K5: =IF(C5=J5,"Quantité OK",IF(C5<J5,"Ecart positif ","Ecart négatif")) -> Quantité OK | L5: =C5-J5 -> 0
A6: 2H0614517J BEF | B6: 110203 | C6: 1 | D6: =IFERROR(VLOOKUP(A6,'code a barre'!A:C,3,0),0) -> 1 | E6: =IF(C6=D6,"Quantité OK",IF(C6<D6,"Ecart positif","Ecart négatif")) -> Quantité OK | F6: =C6-D6 -> 0 | G6: =IF(E6="Quantité OK",D6,0) -> 1 | H6: =IF(C6=G6,"Quantité OK",IF(C6<G6,"Ecart positif ","Ecart négatif")) -> Quantité OK | I6: =C6-G6 -> 0 | J6: =IF(E6="Quantité OK",D6,0) -> 1 | K6: =IF(C6=J6,"Quantité OK",IF(C6<J6,"Ecart positif ","Ecart négatif")) -> Quantité OK | L6: =C6-J6 -> 0
A7: 4G0201799C | B7: 110203 | C7: 1 | D7: =IFERROR(VLOOKUP(A7,'code a barre'!A:C,3,0),0) -> 1 | E7: =IF(C7=D7,"Quantité OK",IF(C7<D7,"Ecart positif","Ecart négatif")) -> Quantité OK | F7: =C7-D7 -> 0 | G7: =IF(E7="Quantité OK",D7,0) -> 1 | H7: =IF(C7=G7,"Quantité OK",IF(C7<G7,"Ecart positif ","Ecart négatif")) -> Quantité OK | I7: =C7-G7 -> 0 | J7: =IF(E7="Quantité OK",D7,0) -> 1 | K7: =IF(C7=J7,"Quantité OK",IF(C7<J7,"Ecart positif ","Ecart négatif")) -> Quantité OK | L7: =C7-J7 -> 0
A8: 8R0199381E | B8: 110203 | C8: 2 | D8: =IFERROR(VLOOKUP(A8,'code a barre'!A:C,3,0),0) -> 2 | E8: =IF(C8=D8,"Quantité OK",IF(C8<D8,"Ecart positif","Ecart négatif")) -> Quantité OK | F8: =C8-D8 -> 0 | G8: =IF(E8="Quantité OK",D8,0) -> 2 | H8: =IF(C8=G8,"Quantité OK",IF(C8<G8,"Ecart positif ","Ecart négatif")) -> Quantité OK | I8: =C8-G8 -> 0 | J8: =IF(E8="Quantité OK",D8,0) -> 2 | K8: =IF(C8=J8,"Quantité OK",IF(C8<J8,"Ecart positif ","Ecart négatif")) -> Quantité OK | L8: =C8-J8 -> 0
A9: 8W1919616 | B9: 110203 | C9: 1 | D9: =IFERROR(VLOOKUP(A9,'code a barre'!A:C,3,0),0) -> 1 | E9: =IF(C9=D9,"Quantité OK",IF(C9<D9,"Ecart positif","Ecart négatif")) -> Quantité OK | F9: =C9-D9 -> 0 | G9: =IF(E9="Quantité OK",D9,0) -> 1 | H9: =IF(C9=G9,"Quantité OK",IF(C9<G9,"Ecart positif ","Ecart négatif")) -> Quantité OK | I9: =C9-G9 -> 0 | J9: =IF(E9="Quantité OK",D9,0) -> 1 | K9: =IF(C9=J9,"Quantité OK",IF(C9<J9,"Ecart positif ","Ecart négatif")) -> Quantité OK | L9: =C9-J9 -> 0
A10: 1K0253141R | B10: 110204 | C10: 2 | D10: =IFERROR(VLOOKUP(A10,'code a barre'!A:C,3,0),0) -> 2 | E10: =IF(C10=D10,"Quantité OK",IF(C10<D10,"Ecart positif","Ecart négatif")) -> Quantité OK | F10: =C10-D10 -> 0 | G10: =IF(E10="Quantité OK",D10,0) -> 2 | H10: =IF(C10=G10,"Quantité OK",IF(C10<G10,"Ecart positif ","Ecart négatif")) -> Quantité OK | I10: =C10-G10 -> 0 | J10: =IF(E10="Quantité OK",D10,0) -> 2 | K10: =IF(C10=J10,"Quantité OK",IF(C10<J10,"Ecart positif ","Ecart négatif")) -> Quantité OK | L10: =C10-J10 -> 0
A11: 1K0615612AB | B11: 110204 | C11: 1 | D11: =IFERROR(VLOOKUP(A11,'code a barre'!A:C,3,0),0) -> 1 | E11: =IF(C11=D11,"Quantité OK",IF(C11<D11,"Ecart positif","Ecart négatif")) -> Quantité OK | F11: =C11-D11 -> 0 | G11: =IF(E11="Quantité OK",D11,0) -> 1 | H11: =IF(C11=G11,"Quantité OK",IF(C11<G11,"Ecart positif ","Ecart négatif")) -> Quantité OK | I11: =C11-G11 -> 0 | J11: =IF(E11="Quantité OK",D11,0) -> 1 | K11: =IF(C11=J11,"Quantité OK",IF(C11<J11,"Ecart positif ","Ecart négatif")) -> Quantité OK | L11: =C11-J11 -> 0
A12: 2H0407077A | B12: 110204 | C12: 16 | D12: =IFERROR(VLOOKUP(A12,'code a barre'!A:C,3,0),0) -> 16 | E12: =IF(C12=D12,"Quantité OK",IF(C12<D12,"Ecart positif","Ecart négatif")) -> Quantité OK | F12: =C12-D12 -> 0 | G12: =IF(E12="Quantité OK",D12,0) -> 16 | H12: =IF(C12=G12,"Quantité OK",IF(C12<G12,"Ecart positif ","Ecart négatif")) -> Quantité OK | I12: =C12-G12 -> 0 | J12: =IF(E12="Quantité OK",D12,0) -> 16 | K12: =IF(C12=J12,"Quantité OK",IF(C12<J12,"Ecart positif ","Ecart négatif")) -> Quantité OK | L12: =C12-J12 -> 0
A13: 2H0407183A | B13: 110204 | C13: 2 | D13: =IFERROR(VLOOKUP(A13,'code a barre'!A:C,3,0),0) -> 2 | E13: =IF(C13=D13,"Quantité OK",IF(C13<D13,"Ecart positif","Ecart négatif")) -> Quantité OK | F13: =C13-D13 -> 0 | G13: =IF(E13="Quantité OK",D13,0) -> 2 | H13: =IF(C13=G13,"Quantité OK",IF(C13<G13,"Ecart positif ","Ecart négatif")) -> Quantité OK | I13: =C13-G13 -> 0 | J13: =IF(E13="Quantité OK",D13,0) -> 2 | K13: =IF(C13=J13,"Quantité OK",IF(C13<J13,"Ecart positif ","Ecart négatif")) -> Quantité OK | L13: =C13-J13 -> 0
A14: 81A407151C | B14: 110204 | C14: 1 | D14: =IFERROR(VLOOKUP(A14,'code a barre'!A:C,3,0),0) -> 1 | E14: =IF(C14=D14,"Quantité OK",IF(C14<D14,"Ecart positif","Ecart négatif")) -> Quantité OK | F14: =C14-D14 -> 0 | G14: =IF(E14="Quantité OK",D14,0) -> 1 | H14: =IF(C14=G14,"Quantité OK",IF(C14<G14,"Ecart positif ","Ecart négatif")) -> Quantité OK | I14: =C14-G14 -> 0 | J14: =IF(E14="Quantité OK",D14,0) -> 1 | K14: =IF(C14=J14,"Quantité OK",IF(C14<J14,"Ecart positif ","Ecart négatif")) -> Quantité OK | L14: =C14-J14 -> 0
... A148: 1K0407255T | B148: 112706 | C148: 6 | D148: =IFERROR(VLOOKUP(A148,'code a barre'!A:C,3,0),0) -> 6 | E148: =IF(C148=D148,"Quantité OK",IF(C148<D148,"Ecart positif","Ecart négatif")) -> Quantité OK | F148: =C148-D148 -> 0 | G148: =IF(E148="Quantité OK",D148,0) -> 6 | H148: =IF(C148=G148,"Quantité OK",IF(C148<G148,"Ecart positif ","Ecart négatif")) -> Quantité OK | I148: =C148-G148 -> 0 | J148: =IF(E148="Quantité OK",D148,0) -> 6 | K148: =IF(C148=J148,"Quantité OK",IF(C148<J148,"Ecart positif ","Ecart négatif")) -> Quantité OK | L148: =C148-J148 -> 0
A149: 191601149 | B149: 112901 | C149: 4 | D149: =IFERROR(VLOOKUP(A149,'code a barre'!A:C,3,0),0) -> 0 | E149: =IF(C149=D149,"Quantité OK",IF(C149<D149,"Ecart positif","Ecart négatif")) -> Ecart négatif | F149: =C149-D149 -> 4 | G149: =IF(E149="Quantité OK",D149,0) -> 0 | H149: =IF(C149=G149,"Quantité OK",IF(C149<G149,"Ecart positif ","Ecart négatif")) -> Ecart négatif | I149: =C149-G149 -> 4 | J149: =IF(E149="Quantité OK",D149,0) -> 0 | K149: =IF(C149=J149,"Quantité OK",IF(C149<J149,"Ecart positif ","Ecart négatif")) -> Ecart négatif | L149: =C149-J149 -> 4
A150: 1K0819465B | B150: 112901 | C150: 2 | D150: =IFERROR(VLOOKUP(A150,'code a barre'!A:C,3,0),0) -> 2 | E150: =IF(C150=D150,"Quantité OK",IF(C150<D150,"Ecart positif","Ecart négatif")) -> Quantité OK | F150: =C150-D150 -> 0 | G150: =IF(E150="Quantité OK",D150,0) -> 2 | H150: =IF(C150=G150,"Quantité OK",IF(C150<G150,"Ecart positif ","Ecart négatif")) -> Quantité OK | I150: =C150-G150 -> 0 | J150: =IF(E150="Quantité OK",D150,0) -> 2 | K150: =IF(C150=J150,"Quantité OK",IF(C150<J150,"Ecart positif ","Ecart négatif")) -> Quantité OK | L150: =C150-J150 -> 0
A151: 3AA711113C A0U | B151: 112901 | C151: 1 | D151: =IFERROR(VLOOKUP(A151,'code a barre'!A:C,3,0),0) -> 0 | E151: =IF(C151=D151,"Quantité OK",IF(C151<D151,"Ecart positif","Ecart négatif")) -> Ecart négatif | F151: =C151-D151 -> 1 | G151: =IF(E151="Quantité OK",D151,0) -> 0 | H151: =IF(C151=G151,"Quantité OK",IF(C151<G151,"Ecart positif ","Ecart négatif")) -> Ecart négatif | I151: =C151-G151 -> 1 | J151: =IF(E151="Quantité OK",D151,0) -> 0 | K151: =IF(C151=J151,"Quantité OK",IF(C151<J151,"Ecart positif ","Ecart négatif")) -> Ecart négatif | L151: =C151-J151 -> 1
A152: 4F0133835N | B152: 112901 | C152: 1 | D152: =IFERROR(VLOOKUP(A152,'code a barre'!A:C,3,0),0) -> 1 | E152: =IF(C152=D152,"Quantité OK",IF(C152<D152,"Ecart positif","Ecart négatif")) -> Quantité OK | F152: =C152-D152 -> 0 | G152: =IF(E152="Quantité OK",D152,0) -> 1 | H152: =IF(C152=G152,"Quantité OK",IF(C152<G152,"Ecart positif ","Ecart négatif")) -> Quantité OK | I152: =C152-G152 -> 0 | J152: =IF(E152="Quantité OK",D152,0) -> 1 | K152: =IF(C152=J152,"Quantité OK",IF(C152<J152,"Ecart positif ","Ecart négatif")) -> Quantité OK | L152: =C152-J152 -> 0
A153: 6N0601149E FED | B153: 112901 | C153: 3 | D153: =IFERROR(VLOOKUP(A153,'code a barre'!A:C,3,0),0) -> 3 | E153: =IF(C153=D153,"Quantité OK",IF(C153<D153,"Ecart positif","Ecart négatif")) -> Quantité OK | F153: =C153-D153 -> 0 | G153: =IF(E153="Quantité OK",D153,0) -> 3 | H153: =IF(C153=G153,"Quantité OK",IF(C153<G153,"Ecart positif ","Ecart négatif")) -> Quantité OK | I153: =C153-G153 -> 0 | J153: =IF(E153="Quantité OK",D153,0) -> 3 | K153: =IF(C153=J153,"Quantité OK",IF(C153<J153,"Ecart positif ","Ecart négatif")) -> Quantité OK | L153: =C153-J153 -> 0
A154: 5Q0407254A | B154: 112902 | C154: 2 | D154: =IFERROR(VLOOKUP(A154,'code a barre'!A:C,3,0),0) -> 1 | E154: =IF(C154=D154,"Quantité OK",IF(C154<D154,"Ecart positif","Ecart négatif")) -> Ecart négatif | F154: =C154-D154 -> 1 | G154: =IF(E154="Quantité OK",D154,0) -> 0 | H154: =IF(C154=G154,"Quantité OK",IF(C154<G154,"Ecart positif ","Ecart négatif")) -> Ecart négatif | I154: =C154-G154 -> 2 | J154: =IF(E154="Quantité OK",D154,0) -> 0 | K154: =IF(C154=J154,"Quantité OK",IF(C154<J154,"Ecart positif ","Ecart négatif")) -> Ecart négatif | L154: =C154-J154 -> 2
A155: 6R0601147C WPU | B155: 112902 | C155: 4 | D155: =IFERROR(VLOOKUP(A155,'code a barre'!A:C,3,0),0) -> 4 | E155: =IF(C155=D155,"Quantité OK",IF(C155<D155,"Ecart positif","Ecart négatif")) -> Quantité OK | F155: =C155-D155 -> 0 | G155: =IF(E155="Quantité OK",D155,0) -> 4 | H155: =IF(C155=G155,"Quantité OK",IF(C155<G155,"Ecart positif ","Ecart négatif")) -> Quantité OK | I155: =C155-G155 -> 0 | J155: =IF(E155="Quantité OK",D155,0) -> 4 | K155: =IF(C155=J155,"Quantité OK",IF(C155<J155,"Ecart positif ","Ecart négatif")) -> Quantité OK | L155: =C155-J155 -> 0
A156: 2K0601169 9B9 | B156: 112903 | C156: 7 | D156: =IFERROR(VLOOKUP(A156,'code a barre'!A:C,3,0),0) -> 4 | E156: =IF(C156=D156,"Quantité OK",IF(C156<D156,"Ecart positif","Ecart négatif")) -> Ecart négatif | F156: =C156-D156 -> 3 | G156: =IF(E156="Quantité OK",D156,0) -> 0 | H156: =IF(C156=G156,"Quantité OK",IF(C156<G156,"Ecart positif ","Ecart négatif")) -> Ecart négatif | I156: =C156-G156 -> 7 | J156: =IF(E156="Quantité OK",D156,0) -> 0 | K156: =IF(C156=J156,"Quantité OK",IF(C156<J156,"Ecart positif ","Ecart négatif")) -> Ecart négatif | L156: =C156-J156 -> 7
A157: 8E0501611J | B157: 112903 | C157: 4 | D157: =IFERROR(VLOOKUP(A157,'code a barre'!A:C,3,0),0) -> 4 | E157: =IF(C157=D157,"Quantité OK",IF(C157<D157,"Ecart positif","Ecart négatif")) -> Quantité OK | F157: =C157-D157 -> 0 | G157: =IF(E157="Quantité OK",D157,0) -> 4 | H157: =IF(C157=G157,"Quantité OK",IF(C157<G157,"Ecart positif ","Ecart négatif")) -> Quantité OK | I157: =C157-G157 -> 0 | J157: =IF(E157="Quantité OK",D157,0) -> 4 | K157: =IF(C157=J157,"Quantité OK",IF(C157<J157,"Ecart positif ","Ecart négatif")) -> Quantité OK | L157: =C157-J157 -> 0
A158: 191407255C | B158: 112904 | C158: 3 | D158: =IFERROR(VLOOKUP(A158,'code a barre'!A:C,3,0),0) -> 3 | E158: =IF(C158=D158,"Quantité OK",IF(C158<D158,"Ecart positif","Ecart négatif")) -> Quantité OK | F158: =C158-D158 -> 0 | G158: =IF(E158="Quantité OK",D158,0) -> 3 | H158: =IF(C158=G158,"Quantité OK",IF(C158<G158,"Ecart positif ","Ecart négatif")) -> Quantité OK | I158: =C158-G158 -> 0 | J158: =IF(E158="Quantité OK",D158,0) -> 3 | K158: =IF(C158=J158,"Quantité OK",IF(C158<J158,"Ecart positif ","Ecart négatif")) -> Quantité OK | L158: =C158-J158 -> 0
A159: 3C0505434K | B159: 112905 | C159: 3 | D159: =IFERROR(VLOOKUP(A159,'code a barre'!A:C,3,0),0) -> 0 | E159: =IF(C159=D159,"Quantité OK",IF(C159<D159,"Ecart positif","Ecart négatif")) -> Ecart négatif | F159: =C159-D159 -> 3 | G159: =IF(E159="Quantité OK",D159,0) -> 0 | H159: =IF(C159=G159,"Quantité OK",IF(C159<G159,"Ecart positif ","Ecart négatif")) -> Ecart négatif | I159: =C159-G159 -> 3 | J159: =IF(E159="Quantité OK",D159,0) -> 0 | K159: =IF(C159=J159,"Quantité OK",IF(C159<J159,"Ecart positif ","Ecart négatif")) -> Ecart négatif | L159: =C159-J159 -> 3
A160: 5N0498099BX | B160: 112905 | C160: 1 | D160: =IFERROR(VLOOKUP(A160,'code a barre'!A:C,3,0),0) -> 1 | E160: =IF(C160=D160,"Quantité OK",IF(C160<D160,"Ecart positif","Ecart négatif")) -> Quantité OK | F160: =C160-D160 -> 0 | G160: =IF(E160="Quantité OK",D160,0) -> 1 | H160: =IF(C160=G160,"Quantité OK",IF(C160<G160,"Ecart positif ","Ecart négatif")) -> Quantité OK | I160: =C160-G160 -> 0 | J160: =IF(E160="Quantité OK",D160,0) -> 1 | K160: =IF(C160=J160,"Quantité OK",IF(C160<J160,"Ecart positif ","Ecart négatif")) -> Quantité OK | L160: =C160-J160 -> 0
A161: 8E0505432AF | B161: 112906 | C161: 2 | D161: =IFERROR(VLOOKUP(A161,'code a barre'!A:C,3,0),0) -> 2 | E161: =IF(C161=D161,"Quantité OK",IF(C161<D161,"Ecart positif","Ecart négatif")) -> Quantité OK | F161: =C161-D161 -> 0 | G161: =IF(E161="Quantité OK",D161,0) -> 2 | H161: =IF(C161=G161,"Quantité OK",IF(C161<G161,"Ecart positif ","Ecart négatif")) -> Quantité OK | I161: =C161-G161 -> 0 | J161: =IF(E161="Quantité OK",D161,0) -> 2 | K161: =IF(C161=J161,"Quantité OK",IF(C161<J161,"Ecart positif ","Ecart négatif")) -> Quantité OK | L161: =C161-J161 -> 0
... A547: 8W5813307A | B547: 122302 | C547: 2 | D547: =IFERROR(VLOOKUP(A547,'code a barre'!A:C,3,0),0) -> 1 | E547: =IF(C547=D547,"Quantité OK",IF(C547<D547,"Ecart positif","Ecart négatif")) -> Ecart négatif | F547: =C547-D547 -> 1 | G547: =IF(E547="Quantité OK",D547,0) -> 0 | H547: =IF(C547=G547,"Quantité OK",IF(C547<G547,"Ecart positif ","Ecart négatif")) -> Ecart négatif | I547: =C547-G547 -> 2 | J547: =IF(E547="Quantité OK",D547,0) -> 0 | K547: =IF(C547=J547,"Quantité OK",IF(C547<J547,"Ecart positif ","Ecart négatif")) -> Ecart négatif | L547: =C547-J547 -> 2
A548: 575807651 | B548: 122303 | C548: 3 | D548: =IFERROR(VLOOKUP(A548,'code a barre'!A:C,3,0),0) -> 0 | E548: =IF(C548=D548,"Quantité OK",IF(C548<D548,"Ecart positif","Ecart négatif")) -> Ecart négatif | F548: =C548-D548 -> 3 | G548: =IF(E548="Quantité OK",D548,0) -> 0 | H548: =IF(C548=G548,"Quantité OK",IF(C548<G548,"Ecart positif ","Ecart négatif")) -> Ecart négatif | I548: =C548-G548 -> 3 | J548: =IF(E548="Quantité OK",D548,0) -> 0 | K548: =IF(C548=J548,"Quantité OK",IF(C548<J548,"Ecart positif ","Ecart négatif")) -> Ecart négatif | L548: =C548-J548 -> 3
A549: 4G0807113A | B549: 122303 | C549: 2 | D549: =IFERROR(VLOOKUP(A549,'code a barre'!A:C,3,0),0) -> 2 | E549: =IF(C549=D549,"Quantité OK",IF(C549<D549,"Ecart positif","Ecart négatif")) -> Quantité OK | F549: =C549-D549 -> 0 | G549: =IF(E549="Quantité OK",D549,0) -> 2 | H549: =IF(C549=G549,"Quantité OK",IF(C549<G549,"Ecart positif ","Ecart négatif")) -> Quantité OK | I549: =C549-G549 -> 0 | J549: =IF(E549="Quantité OK",D549,0) -> 2 | K549: =IF(C549=J549,"Quantité OK",IF(C549<J549,"Ecart positif ","Ecart négatif")) -> Quantité OK | L549: =C549-J549 -> 0
A550: 5NA805932A | B550: 122303 | C550: 1 | D550: =IFERROR(VLOOKUP(A550,'code a barre'!A:C,3,0),0) -> 1 | E550: =IF(C550=D550,"Quantité OK",IF(C550<D550,"Ecart positif","Ecart négatif")) -> Quantité OK | F550: =C550-D550 -> 0 | G550: =IF(E550="Quantité OK",D550,0) -> 1 | H550: =IF(C550=G550,"Quantité OK",IF(C550<G550,"Ecart positif ","Ecart négatif")) -> Quantité OK | I550: =C550-G550 -> 0 | J550: =IF(E550="Quantité OK",D550,0) -> 1 | K550: =IF(C550=J550,"Quantité OK",IF(C550<J550,"Ecart positif ","Ecart négatif")) -> Quantité OK | L550: =C550-J550 -> 0
A551: 7L6145795H | B551: 122303 | C551: 2 | D551: =IFERROR(VLOOKUP(A551,'code a barre'!A:C,3,0),0) -> 2 | E551: =IF(C551=D551,"Quantité OK",IF(C551<D551,"Ecart positif","Ecart négatif")) -> Quantité OK | F551: =C551-D551 -> 0 | G551: =IF(E551="Quantité OK",D551,0) -> 2 | H551: =IF(C551=G551,"Quantité OK",IF(C551<G551,"Ecart positif ","Ecart négatif")) -> Quantité OK | I551: =C551-G551 -> 0 | J551: =IF(E551="Quantité OK",D551,0) -> 2 | K551: =IF(C551=J551,"Quantité OK",IF(C551<J551,"Ecart positif ","Ecart négatif")) -> Quantité OK | L551: =C551-J551 -> 0
A552: 8K0814339 | B552: 122303 | C552: 1 | D552: =IFERROR(VLOOKUP(A552,'code a barre'!A:C,3,0),0) -> 1 | E552: =IF(C552=D552,"Quantité OK",IF(C552<D552,"Ecart positif","Ecart négatif")) -> Quantité OK | F552: =C552-D552 -> 0 | G552: =IF(E552="Quantité OK",D552,0) -> 1 | H552: =IF(C552=G552,"Quantité OK",IF(C552<G552,"Ecart positif ","Ecart négatif")) -> Quantité OK | I552: =C552-G552 -> 0 | J552: =IF(E552="Quantité OK",D552,0) -> 1 | K552: =IF(C552=J552,"Quantité OK",IF(C552<J552,"Ecart positif ","Ecart négatif")) -> Quantité OK | L552: =C552-J552 -> 0
A553: 8T0807313 | B553: 122303 | C553: 2 | D553: =IFERROR(VLOOKUP(A553,'code a barre'!A:C,3,0),0) -> 1 | E553: =IF(C553=D553,"Quantité OK",IF(C553<D553,"Ecart positif","Ecart négatif")) -> Ecart négatif | F553: =C553-D553 -> 1 | G553: =IF(E553="Quantité OK",D553,0) -> 0 | H553: =IF(C553=G553,"Quantité OK",IF(C553<G553,"Ecart positif ","Ecart négatif")) -> Ecart négatif | I553: =C553-G553 -> 2 | J553: =IF(E553="Quantité OK",D553,0) -> 0 | K553: =IF(C553=J553,"Quantité OK",IF(C553<J553,"Ecart positif ","Ecart négatif")) -> Ecart négatif | L553: =C553-J553 -> 2
A554: 8V5821468B | B554: 122303 | C554: 3 | D554: =IFERROR(VLOOKUP(A554,'code a barre'!A:C,3,0),0) -> 2 | E554: =IF(C554=D554,"Quantité OK",IF(C554<D554,"Ecart positif","Ecart négatif")) -> Ecart négatif | F554: =C554-D554 -> 1 | G554: =IF(E554="Quantité OK",D554,0) -> 0 | H554: =IF(C554=G554,"Quantité OK",IF(C554<G554,"Ecart positif ","Ecart négatif")) -> Ecart négatif | I554: =C554-G554 -> 3 | J554: =IF(E554="Quantité OK",D554,0) -> 0 | K554: =IF(C554=J554,"Quantité OK",IF(C554<J554,"Ecart positif ","Ecart négatif")) -> Ecart négatif | L554: =C554-J554 -> 3
A555: 8W0511305AF | B555: 122303 | C555: 1 | D555: =IFERROR(VLOOKUP(A555,'code a barre'!A:C,3,0),0) -> 1 | E555: =IF(C555=D555,"Quantité OK",IF(C555<D555,"Ecart positif","Ecart négatif")) -> Quantité OK | F555: =C555-D555 -> 0 | G555: =IF(E555="Quantité OK",D555,0) -> 1 | H555: =IF(C555=G555,"Quantité OK",IF(C555<G555,"Ecart positif ","Ecart négatif")) -> Quantité OK | I555: =C555-G555 -> 0 | J555: =IF(E555="Quantité OK",D555,0) -> 1 | K555: =IF(C555=J555,"Quantité OK",IF(C555<J555,"Ecart positif ","Ecart négatif")) -> Quantité OK | L555: =C555-J555 -> 0
A556: 1P0813319C | B556: 122304 | C556: 3 | D556: =IFERROR(VLOOKUP(A556,'code a barre'!A:C,3,0),0) -> 3 | E556: =IF(C556=D556,"Quantité OK",IF(C556<D556,"Ecart positif","Ecart négatif")) -> Quantité OK | F556: =C556-D556 -> 0 | G556: =IF(E556="Quantité OK",D556,0) -> 3 | H556: =IF(C556=G556,"Quantité OK",IF(C556<G556,"Ecart positif ","Ecart négatif")) -> Quantité OK | I556: =C556-G556 -> 0 | J556: =IF(E556="Quantité OK",D556,0) -> 3 | K556: =IF(C556=J556,"Quantité OK",IF(C556<J556,"Ecart positif ","Ecart négatif")) -> Quantité OK | L556: =C556-J556 -> 0
A557: 3C0199313AD | B557: 122304 | C557: 2 | D557: =IFERROR(VLOOKUP(A557,'code a barre'!A:C,3,0),0) -> 2 | E557: =IF(C557=D557,"Quantité OK",IF(C557<D557,"Ecart positif","Ecart négatif")) -> Quantité OK | F557: =C557-D557 -> 0 | G557: =IF(E557="Quantité OK",D557,0) -> 2 | H557: =IF(C557=G557,"Quantité OK",IF(C557<G557,"Ecart positif ","Ecart négatif")) -> Quantité OK | I557: =C557-G557 -> 0 | J557: =IF(E557="Quantité OK",D557,0) -> 2 | K557: =IF(C557=J557,"Quantité OK",IF(C557<J557,"Ecart positif ","Ecart négatif")) -> Quantité OK | L557: =C557-J557 -> 0
A558: 5NA805567 | B558: 122304 | C558: 1 | D558: =IFERROR(VLOOKUP(A558,'code a barre'!A:C,3,0),0) -> 1 | E558: =IF(C558=D558,"Quantité OK",IF(C558<D558,"Ecart positif","Ecart négatif")) -> Quantité OK | F558: =C558-D558 -> 0 | G558: =IF(E558="Quantité OK",D558,0) -> 1 | H558: =IF(C558=G558,"Quantité OK",IF(C558<G558,"Ecart positif ","Ecart négatif")) -> Quantité OK | I558: =C558-G558 -> 0 | J558: =IF(E558="Quantité OK",D558,0) -> 1 | K558: =IF(C558=J558,"Quantité OK",IF(C558<J558,"Ecart positif ","Ecart négatif")) -> Quantité OK | L558: =C558-J558 -> 0
A559: 8E0802091D | B559: 122304 | C559: 2 | D559: =IFERROR(VLOOKUP(A559,'code a barre'!A:C,3,0),0) -> 2 | E559: =IF(C559=D559,"Quantité OK",IF(C559<D559,"Ecart positif","Ecart négatif")) -> Quantité OK | F559: =C559-D559 -> 0 | G559: =IF(E559="Quantité OK",D559,0) -> 2 | H559: =IF(C559=G559,"Quantité OK",IF(C559<G559,"Ecart positif ","Ecart négatif")) -> Quantité OK | I559: =C559-G559 -> 0 | J559: =IF(E559="Quantité OK",D559,0) -> 2 | K559: =IF(C559=J559,"Quantité OK",IF(C559<J559,"Ecart positif ","Ecart négatif")) -> Quantité OK | L559: =C559-J559 -> 0
A560: 8K0199521Q | B560: 122304 | C560: 2 | D560: =IFERROR(VLOOKUP(A560,'code a barre'!A:C,3,0),0) -> 2 | E560: =IF(C560=D560,"Quantité OK",IF(C560<D560,"Ecart positif","Ecart négatif")) -> Quantité OK | F560: =C560-D560 -> 0 | G560: =IF(E560="Quantité OK",D560,0) -> 2 | H560: =IF(C560=G560,"Quantité OK",IF(C560<G560,"Ecart positif ","Ecart négatif")) -> Quantité OK | I560: =C560-G560 -> 0 | J560: =IF(E560="Quantité OK",D560,0) -> 2 | K560: =IF(C560=J560,"Quantité OK",IF(C560<J560,"Ecart positif ","Ecart négatif")) -> Quantité OK | L560: =C560-J560 -> 0
... A564: 8E0831507 | B564: 122305 | C564: 3 | D564: =IFERROR(VLOOKUP(A564,'code a barre'!A:C,3,0),0) -> 3 | E564: =IF(C564=D564,"Quantité OK",IF(C564<D564,"Ecart positif","Ecart négatif")) -> Quantité OK | F564: =C564-D564 -> 0 | G564: =IF(E564="Quantité OK",D564,0) -> 3 | H564: =IF(C564=G564,"Quantité OK",IF(C564<G564,"Ecart positif ","Ecart négatif")) -> Quantité OK | I564: =C564-G564 -> 0 | J564: =IF(E564="Quantité OK",D564,0) -> 3 | K564: =IF(C564=J564,"Quantité OK",IF(C564<J564,"Ecart positif ","Ecart négatif")) -> Quantité OK | L564: =C564-J564 -> 0
A565: 873809835 | B565: 122501 | C565: 1 | D565: =IFERROR(VLOOKUP(A565,'code a barre'!A:C,3,0),0) -> 0 | E565: =IF(C565=D565,"Quantité OK",IF(C565<D565,"Ecart positif","Ecart négatif")) -> Ecart négatif | F565: =C565-D565 -> 1 | G565: =IF(E565="Quantité OK",D565,0) -> 0 | H565: =IF(C565=G565,"Quantité OK",IF(C565<G565,"Ecart positif ","Ecart négatif")) -> Ecart négatif | I565: =C565-G565 -> 1 | J565: =IF(E565="Quantité OK",D565,0) -> 0 | K565: =IF(C565=J565,"Quantité OK",IF(C565<J565,"Ecart positif ","Ecart négatif")) -> Ecart négatif | L565: =C565-J565 -> 1
A566: 1Q0810150A | B566: 122501 | C566: 1 | D566: =IFERROR(VLOOKUP(A566,'code a barre'!A:C,3,0),0) -> 1 | E566: =IF(C566=D566,"Quantité OK",IF(C566<D566,"Ecart positif","Ecart négatif")) -> Quantité OK | F566: =C566-D566 -> 0 | G566: =IF(E566="Quantité OK",D566,0) -> 1 | H566: =IF(C566=G566,"Quantité OK",IF(C566<G566,"Ecart positif ","Ecart négatif")) -> Quantité OK | I566: =C566-G566 -> 0 | J566: =IF(E566="Quantité OK",D566,0) -> 1 | K566: =IF(C566=J566,"Quantité OK",IF(C566<J566,"Ecart positif ","Ecart négatif")) -> Quantité OK | L566: =C566-J566 -> 0
A567: 5K7825711 | B567: 122501 | C567: 1 | D567: =IFERROR(VLOOKUP(A567,'code a barre'!A:C,3,0),0) -> 1 | E567: =IF(C567=D567,"Quantité OK",IF(C567<D567,"Ecart positif","Ecart négatif")) -> Quantité OK | F567: =C567-D567 -> 0 | G567: =IF(E567="Quantité OK",D567,0) -> 1 | H567: =IF(C567=G567,"Quantité OK",IF(C567<G567,"Ecart positif ","Ecart négatif")) -> Quantité OK | I567: =C567-G567 -> 0 | J567: =IF(E567="Quantité OK",D567,0) -> 1 | K567: =IF(C567=J567,"Quantité OK",IF(C567<J567,"Ecart positif ","Ecart négatif")) -> Quantité OK | L567: =C567-J567 -> 0
A568: 5Q0411303N | B568: 122501 | C568: 1 | D568: =IFERROR(VLOOKUP(A568,'code a barre'!A:C,3,0),0) -> 1 | E568: =IF(C568=D568,"Quantité OK",IF(C568<D568,"Ecart positif","Ecart négatif")) -> Quantité OK | F568: =C568-D568 -> 0 | G568: =IF(E568="Quantité OK",D568,0) -> 1 | H568: =IF(C568=G568,"Quantité OK",IF(C568<G568,"Ecart positif ","Ecart négatif")) -> Quantité OK | I568: =C568-G568 -> 0 | J568: =IF(E568="Quantité OK",D568,0) -> 1 | K568: =IF(C568=J568,"Quantité OK",IF(C568<J568,"Ecart positif ","Ecart négatif")) -> Quantité OK | L568: =C568-J568 -> 0
A569: 6P8813303 | B569: 122501 | C569: 3 | D569: =IFERROR(VLOOKUP(A569,'code a barre'!A:C,3,0),0) -> 3 | E569: =IF(C569=D569,"Quantité OK",IF(C569<D569,"Ecart positif","Ecart négatif")) -> Quantité OK | F569: =C569-D569 -> 0 | G569: =IF(E569="Quantité OK",D569,0) -> 3 | H569: =IF(C569=G569,"Quantité OK",IF(C569<G569,"Ecart positif ","Ecart négatif")) -> Quantité OK | I569: =C569-G569 -> 0 | J569: =IF(E569="Quantité OK",D569,0) -> 3 | K569: =IF(C569=J569,"Quantité OK",IF(C569<J569,"Ecart positif ","Ecart négatif")) -> Quantité OK | L569: =C569-J569 -> 0
A570: 6RU813319 | B570: 122501 | C570: 1 | D570: =IFERROR(VLOOKUP(A570,'code a barre'!A:C,3,0),0) -> 1 | E570: =IF(C570=D570,"Quantité OK",IF(C570<D570,"Ecart positif","Ecart négatif")) -> Quantité OK | F570: =C570-D570 -> 0 | G570: =IF(E570="Quantité OK",D570,0) -> 1 | H570: =IF(C570=G570,"Quantité OK",IF(C570<G570,"Ecart positif ","Ecart négatif")) -> Quantité OK | I570: =C570-G570 -> 0 | J570: =IF(E570="Quantité OK",D570,0) -> 1 | K570: =IF(C570=J570,"Quantité OK",IF(C570<J570,"Ecart positif ","Ecart négatif")) -> Quantité OK | L570: =C570-J570 -> 0
A571: 6V6813301 | B571: 122501 | C571: 1 | D571: =IFERROR(VLOOKUP(A571,'code a barre'!A:C,3,0),0) -> 1 | E571: =IF(C571=D571,"Quantité OK",IF(C571<D571,"Ecart positif","Ecart négatif")) -> Quantité OK | F571: =C571-D571 -> 0 | G571: =IF(E571="Quantité OK",D571,0) -> 1 | H571: =IF(C571=G571,"Quantité OK",IF(C571<G571,"Ecart positif ","Ecart négatif")) -> Quantité OK | I571: =C571-G571 -> 0 | J571: =IF(E571="Quantité OK",D571,0) -> 1 | K571: =IF(C571=J571,"Quantité OK",IF(C571<J571,"Ecart positif ","Ecart négatif")) -> Quantité OK | L571: =C571-J571 -> 0
A572: 7D1843872 | B572: 122501 | C572: 1 | D572: =IFERROR(VLOOKUP(A572,'code a barre'!A:C,3,0),0) -> 1 | E572: =IF(C572=D572,"Quantité OK",IF(C572<D572,"Ecart positif","Ecart négatif")) -> Quantité OK | F572: =C572-D572 -> 0 | G572: =IF(E572="Quantité OK",D572,0) -> 1 | H572: =IF(C572=G572,"Quantité OK",IF(C572<G572,"Ecart positif ","Ecart négatif")) -> Quantité OK | I572: =C572-G572 -> 0 | J572: =IF(E572="Quantité OK",D572,0) -> 1 | K572: =IF(C572=J572,"Quantité OK",IF(C572<J572,"Ecart positif ","Ecart négatif")) -> Quantité OK | L572: =C572-J572 -> 0
A573: 7P0805551 | B573: 122501 | C573: 1 | D573: =IFERROR(VLOOKUP(A573,'code a barre'!A:C,3,0),0) -> 1 | E573: =IF(C573=D573,"Quantité OK",IF(C573<D573,"Ecart positif","Ecart négatif")) -> Quantité OK | F573: =C573-D573 -> 0 | G573: =IF(E573="Quantité OK",D573,0) -> 1 | H573: =IF(C573=G573,"Quantité OK",IF(C573<G573,"Ecart positif ","Ecart négatif")) -> Quantité OK | I573: =C573-G573 -> 0 | J573: =IF(E573="Quantité OK",D573,0) -> 1 | K573: =IF(C573=J573,"Quantité OK",IF(C573<J573,"Ecart positif ","Ecart négatif")) -> Quantité OK | L573: =C573-J573 -> 0
A574: 8T8813253 | B574: 122501 | C574: 2 | D574: =IFERROR(VLOOKUP(A574,'code a barre'!A:C,3,0),0) -> 2 | E574: =IF(C574=D574,"Quantité OK",IF(C574<D574,"Ecart positif","Ecart négatif")) -> Quantité OK | F574: =C574-D574 -> 0 | G574: =IF(E574="Quantité OK",D574,0) -> 2 | H574: =IF(C574=G574,"Quantité OK",IF(C574<G574,"Ecart positif ","Ecart négatif")) -> Quantité OK | I574: =C574-G574 -> 0 | J574: =IF(E574="Quantité OK",D574,0) -> 2 | K574: =IF(C574=J574,"Quantité OK",IF(C574<J574,"Ecart positif ","Ecart négatif")) -> Quantité OK | L574: =C574-J574 -> 0
A575: 1K0804105D | B575: 122502 | C575: 3 | D575: =IFERROR(VLOOKUP(A575,'code a barre'!A:C,3,0),0) -> 3 | E575: =IF(C575=D575,"Quantité OK",IF(C575<D575,"Ecart positif","Ecart négatif")) -> Quantité OK | F575: =C575-D575 -> 0 | G575: =IF(E575="Quantité OK",D575,0) -> 3 | H575: =IF(C575=G575,"Quantité OK",IF(C575<G575,"Ecart positif ","Ecart négatif")) -> Quantité OK | I575: =C575-G575 -> 0 | J575: =IF(E575="Quantité OK",D575,0) -> 3 | K575: =IF(C575=J575,"Quantité OK",IF(C575<J575,"Ecart positif ","Ecart négatif")) -> Quantité OK | L575: =C575-J575 -> 0
A576: 2E1817537 | B576: 122502 | C576: 1 | D576: =IFERROR(VLOOKUP(A576,'code a barre'!A:C,3,0),0) -> 1 | E576: =IF(C576=D576,"Quantité OK",IF(C576<D576,"Ecart positif","Ecart négatif")) -> Quantité OK | F576: =C576-D576 -> 0 | G576: =IF(E576="Quantité OK",D576,0) -> 1 | H576: =IF(C576=G576,"Quantité OK",IF(C576<G576,"Ecart positif ","Ecart négatif")) -> Quantité OK | I576: =C576-G576 -> 0 | J576: =IF(E576="Quantité OK",D576,0) -> 1 | K576: =IF(C576=J576,"Quantité OK",IF(C576<J576,"Ecart positif ","Ecart négatif")) -> Quantité OK | L576: =C576-J576 -> 0
A577: 4F0805500B | B577: 122502 | C577: 1 | D577: =IFERROR(VLOOKUP(A577,'code a barre'!A:C,3,0),0) -> 1 | E577: =IF(C577=D577,"Quantité OK",IF(C577<D577,"Ecart positif","Ecart négatif")) -> Quantité OK | F577: =C577-D577 -> 0 | G577: =IF(E577="Quantité OK",D577,0) -> 1 | H577: =IF(C577=G577,"Quantité OK",IF(C577<G577,"Ecart positif ","Ecart négatif")) -> Quantité OK | I577: =C577-G577 -> 0 | J577: =IF(E577="Quantité OK",D577,0) -> 1 | K577: =IF(C577=J577,"Quantité OK",IF(C577<J577,"Ecart positif ","Ecart négatif")) -> Quantité OK | L577: =C577-J577 -> 0
... A917: 6RF407761Q | B917: 131503 | C917: 2 | D917: =IFERROR(VLOOKUP(A917,'code a barre'!A:C,3,0),0) -> 2 | E917: =IF(C917=D917,"Quantité OK",IF(C917<D917,"Ecart positif","Ecart négatif")) -> Quantité OK | F917: =C917-D917 -> 0 | G917: =IF(E917="Quantité OK",D917,0) -> 2 | H917: =IF(C917=G917,"Quantité OK",IF(C917<G917,"Ecart positif ","Ecart négatif")) -> Quantité OK | I917: =C917-G917 -> 0 | J917: =IF(E917="Quantité OK",D917,0) -> 2 | K917: =IF(C917=J917,"Quantité OK",IF(C917<J917,"Ecart positif ","Ecart négatif")) -> Quantité OK | L917: =C917-J917 -> 0
A918: 357513031 | B918: 131504 | C918: 1 | D918: =IFERROR(VLOOKUP(A918,'code a barre'!A:C,3,0),0) -> 0 | E918: =IF(C918=D918,"Quantité OK",IF(C918<D918,"Ecart positif","Ecart négatif")) -> Ecart négatif | F918: =C918-D918 -> 1 | G918: =IF(E918="Quantité OK",D918,0) -> 0 | H918: =IF(C918=G918,"Quantité OK",IF(C918<G918,"Ecart positif ","Ecart négatif")) -> Ecart négatif | I918: =C918-G918 -> 1 | J918: =IF(E918="Quantité OK",D918,0) -> 0 | K918: =IF(C918=J918,"Quantité OK",IF(C918<J918,"Ecart positif ","Ecart négatif")) -> Ecart négatif | L918: =C918-J918 -> 1
A919: 3C0513049CH | B919: 131504 | C919: 1 | D919: =IFERROR(VLOOKUP(A919,'code a barre'!A:C,3,0),0) -> 1 | E919: =IF(C919=D919,"Quantité OK",IF(C919<D919,"Ecart positif","Ecart négatif")) -> Quantité OK | F919: =C919-D919 -> 0 | G919: =IF(E919="Quantité OK",D919,0) -> 1 | H919: =IF(C919=G919,"Quantité OK",IF(C919<G919,"Ecart positif ","Ecart négatif")) -> Quantité OK | I919: =C919-G919 -> 0 | J919: =IF(E919="Quantité OK",D919,0) -> 1 | K919: =IF(C919=J919,"Quantité OK",IF(C919<J919,"Ecart positif ","Ecart négatif")) -> Quantité OK | L919: =C919-J919 -> 0
A920: 5Q0513049FN | B920: 131504 | C920: 2 | D920: =IFERROR(VLOOKUP(A920,'code a barre'!A:C,3,0),0) -> 2 | E920: =IF(C920=D920,"Quantité OK",IF(C920<D920,"Ecart positif","Ecart négatif")) -> Quantité OK | F920: =C920-D920 -> 0 | G920: =IF(E920="Quantité OK",D920,0) -> 2 | H920: =IF(C920=G920,"Quantité OK",IF(C920<G920,"Ecart positif ","Ecart négatif")) -> Quantité OK | I920: =C920-G920 -> 0 | J920: =IF(E920="Quantité OK",D920,0) -> 2 | K920: =IF(C920=J920,"Quantité OK",IF(C920<J920,"Ecart positif ","Ecart négatif")) -> Quantité OK | L920: =C920-J920 -> 0
A921: 6N0513031E | B921: 131504 | C921: 1 | D921: =IFERROR(VLOOKUP(A921,'code a barre'!A:C,3,0),0) -> 0 | E921: =IF(C921=D921,"Quantité OK",IF(C921<D921,"Ecart positif","Ecart négatif")) -> Ecart négatif | F921: =C921-D921 -> 1 | G921: =IF(E921="Quantité OK",D921,0) -> 0 | H921: =IF(C921=G921,"Quantité OK",IF(C921<G921,"Ecart positif ","Ecart négatif")) -> Ecart négatif | I921: =C921-G921 -> 1 | J921: =IF(E921="Quantité OK",D921,0) -> 0 | K921: =IF(C921=J921,"Quantité OK",IF(C921<J921,"Ecart positif ","Ecart négatif")) -> Ecart négatif | L921: =C921-J921 -> 1
A922: 7L6513029K | B922: 131504 | C922: 1 | D922: =IFERROR(VLOOKUP(A922,'code a barre'!A:C,3,0),0) -> 1 | E922: =IF(C922=D922,"Quantité OK",IF(C922<D922,"Ecart positif","Ecart négatif")) -> Quantité OK | F922: =C922-D922 -> 0 | G922: =IF(E922="Quantité OK",D922,0) -> 1 | H922: =IF(C922=G922,"Quantité OK",IF(C922<G922,"Ecart positif ","Ecart négatif")) -> Quantité OK | I922: =C922-G922 -> 0 | J922: =IF(E922="Quantité OK",D922,0) -> 1 | K922: =IF(C922=J922,"Quantité OK",IF(C922<J922,"Ecart positif ","Ecart négatif")) -> Quantité OK | L922: =C922-J922 -> 0
A923: 8E0513036T | B923: 131504 | C923: 3 | D923: =IFERROR(VLOOKUP(A923,'code a barre'!A:C,3,0),0) -> 3 | E923: =IF(C923=D923,"Quantité OK",IF(C923<D923,"Ecart positif","Ecart négatif")) -> Quantité OK | F923: =C923-D923 -> 0 | G923: =IF(E923="Quantité OK",D923,0) -> 3 | H923: =IF(C923=G923,"Quantité OK",IF(C923<G923,"Ecart positif ","Ecart négatif")) -> Quantité OK | I923: =C923-G923 -> 0 | J923: =IF(E923="Quantité OK",D923,0) -> 3 | K923: =IF(C923=J923,"Quantité OK",IF(C923<J923,"Ecart positif ","Ecart négatif")) -> Quantité OK | L923: =C923-J923 -> 0
A924: 8K0413031CH | B924: 131504 | C924: 3 | D924: =IFERROR(VLOOKUP(A924,'code a barre'!A:C,3,0),0) -> 3 | E924: =IF(C924=D924,"Quantité OK",IF(C924<D924,"Ecart positif","Ecart négatif")) -> Quantité OK | F924: =C924-D924 -> 0 | G924: =IF(E924="Quantité OK",D924,0) -> 3 | H924: =IF(C924=G924,"Quantité OK",IF(C924<G924,"Ecart positif ","Ecart négatif")) -> Quantité OK | I924: =C924-G924 -> 0 | J924: =IF(E924="Quantité OK",D924,0) -> 3 | K924: =IF(C924=J924,"Quantité OK",IF(C924<J924,"Ecart positif ","Ecart négatif")) -> Quantité OK | L924: =C924-J924 -> 0
A925: 8P0411105B | B925: 131504 | C925: 2 | D925: =IFERROR(VLOOKUP(A925,'code a barre'!A:C,3,0),0) -> 2 | E925: =IF(C925=D925,"Quantité OK",IF(C925<D925,"Ecart positif","Ecart négatif")) -> Quantité OK | F925: =C925-D925 -> 0 | G925: =IF(E925="Quantité OK",D925,0) -> 2 | H925: =IF(C925=G925,"Quantité OK",IF(C925<G925,"Ecart positif ","Ecart négatif")) -> Quantité OK | I925: =C925-G925 -> 0 | J925: =IF(E925="Quantité OK",D925,0) -> 2 | K925: =IF(C925=J925,"Quantité OK",IF(C925<J925,"Ecart positif ","Ecart négatif")) -> Quantité OK | L925: =C925-J925 -> 0
A926: 1J0413031BH | B926: 131505 | C926: 2 | D926: =IFERROR(VLOOKUP(A926,'code a barre'!A:C,3,0),0) -> 2 | E926: =IF(C926=D926,"Quantité OK",IF(C926<D926,"Ecart positif","Ecart négatif")) -> Quantité OK | F926: =C926-D926 -> 0 | G926: =IF(E926="Quantité OK",D926,0) -> 2 | H926: =IF(C926=G926,"Quantité OK",IF(C926<G926,"Ecart positif ","Ecart négatif")) -> Quantité OK | I926: =C926-G926 -> 0 | J926: =IF(E926="Quantité OK",D926,0) -> 2 | K926: =IF(C926=J926,"Quantité OK",IF(C926<J926,"Ecart positif ","Ecart négatif")) -> Quantité OK | L926: =C926-J926 -> 0
A927: 3C0413031AJ | B927: 131505 | C927: 1 | D927: =IFERROR(VLOOKUP(A927,'code a barre'!A:C,3,0),0) -> 1 | E927: =IF(C927=D927,"Quantité OK",IF(C927<D927,"Ecart positif","Ecart négatif")) -> Quantité OK | F927: =C927-D927 -> 0 | G927: =IF(E927="Quantité OK",D927,0) -> 1 | H927: =IF(C927=G927,"Quantité OK",IF(C927<G927,"Ecart positif ","Ecart négatif")) -> Quantité OK | I927: =C927-G927 -> 0 | J927: =IF(E927="Quantité OK",D927,0) -> 1 | K927: =IF(C927=J927,"Quantité OK",IF(C927<J927,"Ecart positif ","Ecart négatif")) -> Quantité OK | L927: =C927-J927 -> 0
A928: 5N0513049K | B928: 131505 | C928: 2 | D928: =IFERROR(VLOOKUP(A928,'code a barre'!A:C,3,0),0) -> 2 | E928: =IF(C928=D928,"Quantité OK",IF(C928<D928,"Ecart positif","Ecart négatif")) -> Quantité OK | F928: =C928-D928 -> 0 | G928: =IF(E928="Quantité OK",D928,0) -> 2 | H928: =IF(C928=G928,"Quantité OK",IF(C928<G928,"Ecart positif ","Ecart négatif")) -> Quantité OK | I928: =C928-G928 -> 0 | J928: =IF(E928="Quantité OK",D928,0) -> 2 | K928: =IF(C928=J928,"Quantité OK",IF(C928<J928,"Ecart positif ","Ecart négatif")) -> Quantité OK | L928: =C928-J928 -> 0
A929: 5Q0413023EB | B929: 131505 | C929: 9 | D929: =IFERROR(VLOOKUP(A929,'code a barre'!A:C,3,0),0) -> 9 | E929: =IF(C929=D929,"Quantité OK",IF(C929<D929,"Ecart positif","Ecart négatif")) -> Quantité OK | F929: =C929-D929 -> 0 | G929: =IF(E929="Quantité OK",D929,0) -> 9 | H929: =IF(C929=G929,"Quantité OK",IF(C929<G929,"Ecart positif ","Ecart négatif")) -> Quantité OK | I929: =C929-G929 -> 0 | J929: =IF(E929="Quantité OK",D929,0) -> 9 | K929: =IF(C929=J929,"Quantité OK",IF(C929<J929,"Ecart positif ","Ecart négatif")) -> Quantité OK | L929: =C929-J929 -> 0
A930: 5Q0413031HJ | B930: 131505 | C930: 4 | D930: =IFERROR(VLOOKUP(A930,'code a barre'!A:C,3,0),0) -> 2 | E930: =IF(C930=D930,"Quantité OK",IF(C930<D930,"Ecart positif","Ecart négatif")) -> Ecart négatif | F930: =C930-D930 -> 2 | G930: =IF(E930="Quantité OK",D930,0) -> 0 | H930: =IF(C930=G930,"Quantité OK",IF(C930<G930,"Ecart positif ","Ecart négatif")) -> Ecart négatif | I930: =C930-G930 -> 4 | J930: =IF(E930="Quantité OK",D930,0) -> 0 | K930: =IF(C930=J930,"Quantité OK",IF(C930<J930,"Ecart positif ","Ecart négatif")) -> Ecart négatif | L930: =C930-J930 -> 4
... A934: 7H0513029E | B934: 131505 | C934: 1 | D934: =IFERROR(VLOOKUP(A934,'code a barre'!A:C,3,0),0) -> 1 | E934: =IF(C934=D934,"Quantité OK",IF(C934<D934,"Ecart positif","Ecart négatif")) -> Quantité OK | F934: =C934-D934 -> 0 | G934: =IF(E934="Quantité OK",D934,0) -> 1 | H934: =IF(C934=G934,"Quantité OK",IF(C934<G934,"Ecart positif ","Ecart négatif")) -> Quantité OK | I934: =C934-G934 -> 0 | J934: =IF(E934="Quantité OK",D934,0) -> 1 | K934: =IF(C934=J934,"Quantité OK",IF(C934<J934,"Ecart positif ","Ecart négatif")) -> Quantité OK | L934: =C934-J934 -> 0
A935: 871853808 | B935: 131601 | C935: 2 | D935: =IFERROR(VLOOKUP(A935,'code a barre'!A:C,3,0),0) -> 0 | E935: =IF(C935=D935,"Quantité OK",IF(C935<D935,"Ecart positif","Ecart négatif")) -> Ecart négatif | F935: =C935-D935 -> 2 | G935: =IF(E935="Quantité OK",D935,0) -> 0 | H935: =IF(C935=G935,"Quantité OK",IF(C935<G935,"Ecart positif ","Ecart négatif")) -> Ecart négatif | I935: =C935-G935 -> 2 | J935: =IF(E935="Quantité OK",D935,0) -> 0 | K935: =IF(C935=J935,"Quantité OK",IF(C935<J935,"Ecart positif ","Ecart négatif")) -> Ecart négatif | L935: =C935-J935 -> 2
A936: 3AE867428M 1BS | B936: 131601 | C936: 1 | D936: =IFERROR(VLOOKUP(A936,'code a barre'!A:C,3,0),0) -> 1 | E936: =IF(C936=D936,"Quantité OK",IF(C936<D936,"Ecart positif","Ecart négatif")) -> Quantité OK | F936: =C936-D936 -> 0 | G936: =IF(E936="Quantité OK",D936,0) -> 1 | H936: =IF(C936=G936,"Quantité OK",IF(C936<G936,"Ecart positif ","Ecart négatif")) -> Quantité OK | I936: =C936-G936 -> 0 | J936: =IF(E936="Quantité OK",D936,0) -> 1 | K936: =IF(C936=J936,"Quantité OK",IF(C936<J936,"Ecart positif ","Ecart négatif")) -> Quantité OK | L936: =C936-J936 -> 0
A937: 5Q0407761FX | B937: 131601 | C937: 1 | D937: =IFERROR(VLOOKUP(A937,'code a barre'!A:C,3,0),0) -> 1 | E937: =IF(C937=D937,"Quantité OK",IF(C937<D937,"Ecart positif","Ecart négatif")) -> Quantité OK | F937: =C937-D937 -> 0 | G937: =IF(E937="Quantité OK",D937,0) -> 1 | H937: =IF(C937=G937,"Quantité OK",IF(C937<G937,"Ecart positif ","Ecart négatif")) -> Quantité OK | I937: =C937-G937 -> 0 | J937: =IF(E937="Quantité OK",D937,0) -> 1 | K937: =IF(C937=J937,"Quantité OK",IF(C937<J937,"Ecart positif ","Ecart négatif")) -> Quantité OK | L937: =C937-J937 -> 0
A938: 2E0612107F | B938: 131602 | C938: 1 | D938: =IFERROR(VLOOKUP(A938,'code a barre'!A:C,3,0),0) -> 1 | E938: =IF(C938=D938,"Quantité OK",IF(C938<D938,"Ecart positif","Ecart négatif")) -> Quantité OK | F938: =C938-D938 -> 0 | G938: =IF(E938="Quantité OK",D938,0) -> 1 | H938: =IF(C938=G938,"Quantité OK",IF(C938<G938,"Ecart positif ","Ecart négatif")) -> Quantité OK | I938: =C938-G938 -> 0 | J938: =IF(E938="Quantité OK",D938,0) -> 1 | K938: =IF(C938=J938,"Quantité OK",IF(C938<J938,"Ecart positif ","Ecart négatif")) -> Quantité OK | L938: =C938-J938 -> 0
A939: 2H0612105 | B939: 131602 | C939: 1 | D939: =IFERROR(VLOOKUP(A939,'code a barre'!A:C,3,0),0) -> 1 | E939: =IF(C939=D939,"Quantité OK",IF(C939<D939,"Ecart positif","Ecart négatif")) -> Quantité OK | F939: =C939-D939 -> 0 | G939: =IF(E939="Quantité OK",D939,0) -> 1 | H939: =IF(C939=G939,"Quantité OK",IF(C939<G939,"Ecart positif ","Ecart négatif")) -> Quantité OK | I939: =C939-G939 -> 0 | J939: =IF(E939="Quantité OK",D939,0) -> 1 | K939: =IF(C939=J939,"Quantité OK",IF(C939<J939,"Ecart positif ","Ecart négatif")) -> Quantité OK | L939: =C939-J939 -> 0
A940: 6R1614106C | B940: 131602 | C940: 2 | D940: =IFERROR(VLOOKUP(A940,'code a barre'!A:C,3,0),0) -> 2 | E940: =IF(C940=D940,"Quantité OK",IF(C940<D940,"Ecart positif","Ecart négatif")) -> Quantité OK | F940: =C940-D940 -> 0 | G940: =IF(E940="Quantité OK",D940,0) -> 2 | H940: =IF(C940=G940,"Quantité OK",IF(C940<G940,"Ecart positif ","Ecart négatif")) -> Quantité OK | I940: =C940-G940 -> 0 | J940: =IF(E940="Quantité OK",D940,0) -> 2 | K940: =IF(C940=J940,"Quantité OK",IF(C940<J940,"Ecart positif ","Ecart négatif")) -> Quantité OK | L940: =C940-J940 -> 0
A941: 6R1614106H | B941: 131602 | C941: 2 | D941: =IFERROR(VLOOKUP(A941,'code a barre'!A:C,3,0),0) -> 1 | E941: =IF(C941=D941,"Quantité OK",IF(C941<D941,"Ecart positif","Ecart négatif")) -> Ecart négatif | F941: =C941-D941 -> 1 | G941: =IF(E941="Quantité OK",D941,0) -> 0 | H941: =IF(C941=G941,"Quantité OK",IF(C941<G941,"Ecart positif ","Ecart négatif")) -> Ecart négatif | I941: =C941-G941 -> 2 | J941: =IF(E941="Quantité OK",D941,0) -> 0 | K941: =IF(C941=J941,"Quantité OK",IF(C941<J941,"Ecart positif ","Ecart négatif")) -> Ecart négatif | L941: =C941-J941 -> 2
A942: 7E0513029C | B942: 131602 | C942: 9 | D942: =IFERROR(VLOOKUP(A942,'code a barre'!A:C,3,0),0) -> 10 | E942: =IF(C942=D942,"Quantité OK",IF(C942<D942,"Ecart positif","Ecart négatif")) -> Ecart positif | F942: =C942-D942 -> -1 | G942: =IF(E942="Quantité OK",D942,0) -> 0 | H942: =IF(C942=G942,"Quantité OK",IF(C942<G942,"Ecart positif ","Ecart négatif")) -> Ecart négatif | I942: =C942-G942 -> 9 | J942: =IF(E942="Quantité OK",D942,0) -> 0 | K942: =IF(C942=J942,"Quantité OK",IF(C942<J942,"Ecart positif ","Ecart négatif")) -> Ecart négatif | L942: =C942-J942 -> 9
A943: 7P0612105 | B943: 131602 | C943: 1 | D943: =IFERROR(VLOOKUP(A943,'code a barre'!A:C,3,0),0) -> 1 | E943: =IF(C943=D943,"Quantité OK",IF(C943<D943,"Ecart positif","Ecart négatif")) -> Quantité OK | F943: =C943-D943 -> 0 | G943: =IF(E943="Quantité OK",D943,0) -> 1 | H943: =IF(C943=G943,"Quantité OK",IF(C943<G943,"Ecart positif ","Ecart négatif")) -> Quantité OK | I943: =C943-G943 -> 0 | J943: =IF(E943="Quantité OK",D943,0) -> 1 | K943: =IF(C943=J943,"Quantité OK",IF(C943<J943,"Ecart positif ","Ecart négatif")) -> Quantité OK | L943: =C943-J943 -> 0
A944: 03L131511Q | B944: 131603 | C944: 10 | D944: =IFERROR(VLOOKUP(A944,'code a barre'!A:C,3,0),0) -> 12 | E944: =IF(C944=D944,"Quantité OK",IF(C944<D944,"Ecart positif","Ecart négatif")) -> Ecart positif | F944: =C944-D944 -> -2 | G944: =IF(E944="Quantité OK",D944,0) -> 0 | H944: =IF(C944=G944,"Quantité OK",IF(C944<G944,"Ecart positif ","Ecart négatif")) -> Ecart négatif | I944: =C944-G944 -> 10 | J944: =IF(E944="Quantité OK",D944,0) -> 0 | K944: =IF(C944=J944,"Quantité OK",IF(C944<J944,"Ecart positif ","Ecart négatif")) -> Ecart négatif | L944: =C944-J944 -> 10
A945: 2K5614106 | B945: 131603 | C945: 1 | D945: =IFERROR(VLOOKUP(A945,'code a barre'!A:C,3,0),0) -> 1 | E945: =IF(C945=D945,"Quantité OK",IF(C945<D945,"Ecart positif","Ecart négatif")) -> Quantité OK | F945: =C945-D945 -> 0 | G945: =IF(E945="Quantité OK",D945,0) -> 1 | H945: =IF(C945=G945,"Quantité OK",IF(C945<G945,"Ecart positif ","Ecart négatif")) -> Quantité OK | I945: =C945-G945 -> 0 | J945: =IF(E945="Quantité OK",D945,0) -> 1 | K945: =IF(C945=J945,"Quantité OK",IF(C945<J945,"Ecart positif ","Ecart négatif")) -> Quantité OK | L945: =C945-J945 -> 0
A946: 3B0413031Q | B946: 131603 | C946: 2 | D946: =IFERROR(VLOOKUP(A946,'code a barre'!A:C,3,0),0) -> 0 | E946: =IF(C946=D946,"Quantité OK",IF(C946<D946,"Ecart positif","Ecart négatif")) -> Ecart négatif | F946: =C946-D946 -> 2 | G946: =IF(E946="Quantité OK",D946,0) -> 0 | H946: =IF(C946=G946,"Quantité OK",IF(C946<G946,"Ecart positif ","Ecart négatif")) -> Ecart négatif | I946: =C946-G946 -> 2 | J946: =IF(E946="Quantité OK",D946,0) -> 0 | K946: =IF(C946=J946,"Quantité OK",IF(C946<J946,"Ecart positif ","Ecart négatif")) -> Ecart négatif | L946: =C946-J946 -> 2
A947: 3C0513049CN | B947: 131603 | C947: 11 | D947: =IFERROR(VLOOKUP(A947,'code a barre'!A:C,3,0),0) -> 11 | E947: =IF(C947=D947,"Quantité OK",IF(C947<D947,"Ecart positif","Ecart négatif")) -> Quantité OK | F947: =C947-D947 -> 0 | G947: =IF(E947="Quantité OK",D947,0) -> 11 | H947: =IF(C947=G947,"Quantité OK",IF(C947<G947,"Ecart positif ","Ecart négatif")) -> Quantité OK | I947: =C947-G947 -> 0 | J947: =IF(E947="Quantité OK",D947,0) -> 11 | K947: =IF(C947=J947,"Quantité OK",IF(C947<J947,"Ecart positif ","Ecart négatif")) -> Quantité OK | L947: =C947-J947 -> 0
... A957: 6Q0413031BN | B957: 131605 | C957: 6 | D957: =IFERROR(VLOOKUP(A957,'code a barre'!A:C,3,0),0) -> 6 | E957: =IF(C957=D957,"Quantité OK",IF(C957<D957,"Ecart positif","Ecart négatif")) -> Quantité OK | F957: =C957-D957 -> 0 | G957: =IF(E957="Quantité OK",D957,0) -> 6 | H957: =IF(C957=G957,"Quantité OK",IF(C957<G957,"Ecart positif ","Ecart négatif")) -> Quantité OK | I957: =C957-G957 -> 0 | J957: =IF(E957="Quantité OK",D957,0) -> 6 | K957: =IF(C957=J957,"Quantité OK",IF(C957<J957,"Ecart positif ","Ecart négatif")) -> Quantité OK | L957: =C957-J957 -> 0
