Workbook

Sheet ratio
A1: RATIOS CUISINE MEAN-HIR | H1: VENTILATION DU Cout MENSUEL
I2: Total Achats | J2: %
A3: Décades: | B3: 1 au 10 | C3: 11 au 20 | D3: 21 au 31 | E3: T Fournisseur: | H3: Poissons | I3: =E8 -> 0 | J3: =I3/E45 -> #DIV/0!
A4: POISSONS | H4: Viandes | I4: =E14 -> 0 | J4: =I4/E45 -> #DIV/0!
A5: Reynaud | B5: ='1er décade'!N3 -> 0 | C5: ='2eme décade'!N3 -> 0 | D5: ='3eme décade'!N3 -> 0 | E5: =B5+C5+D5 -> 0 | H5: Légumes | I5: =E19 -> 0 | J5: =I5/E45 -> #DIV/0!
A6: Luculus | B6: ='1er décade'!N4 -> 0 | C6: ='2eme décade'!N4 -> 0 | D6: ='3eme décade'!N4 -> 0 | E6: =B6+C6+D6 -> 0 | H6: Asiatique | I6: =E25 -> 0 | J6: =I6/E45 -> #DIV/0!
A7: Transgourmet | B7: ='1er décade'!N5 -> 0 | C7: ='2eme décade'!N5 -> 0 | D7: ='3eme décade'!N5 -> 0 | E7: =B7+C7+D7 -> 0 | H7: Epiceries | I7: =E31 -> 0 | J7: =I7/E45 -> #DIV/0!
A8: Total: | B8: =SUM(B5+B6+B7) -> 0 | C8: =SUM(C5+C6+C7) -> 0 | D8: =SUM(D5+D6+D7) -> 0 | E8: =SUM(B8+C8+D8) -> 0 | H8: Crèmerie | I8: =E36 -> 0 | J8: =I8/E45 -> #DIV/0!
H9: Pain | I9: =E40 -> 0 | J9: =I9/E45 -> #DIV/0!
A10: Viande
A11: Poularde Saint Martory | B11: ='1er décade'!N8 -> 0 | C11: ='2eme décade'!N8 -> 0 | D11: ='3eme décade'!N8 -> 0 | E11: =B11+C11+D11 -> 0 | H11: VENTILATION DU Cout MENSUEL 1ère décade
A12: Lalauze | B12: ='1er décade'!N9 -> 0 | C12: ='2eme décade'!N9 -> 0 | D12: ='3eme décade'!N9 -> 0 | E12: =B12+C12+D12 -> 0 | I12: Total Achats | J12: %
A13: Huguenin | B13: ='1er décade'!N10 -> 0 | C13: ='2eme décade'!N10 -> 0 | D13: ='3eme décade'!N10 -> 0 | E13: =B13+C13+D13 -> 0 | H13: Poissons | I13: =B8 -> 0 | J13: =I13/B45 -> #DIV/0!
A14: Total: | B14: =SUM(B11+B12+B13) -> 0 | C14: =SUM(C11+C12+C13) -> 0 | D14: =SUM(D11+D12+D13) -> 0 | E14: =SUM(B14+C14+D14) -> 0 | H14: Viandes | I14: =B14 -> 0 | J14: =I14/B45 -> #DIV/0!
H15: Légumes | I15: =B19 -> 0 | J15: =I15/B45 -> #DIV/0!
A16: LEGUMES | H16: Asiatique | I16: =B25 -> 0 | J16: =I16/B45 -> #DIV/0!
A17: Halles Prestige | B17: ='1er décade'!N13 -> 0 | C17: ='2eme décade'!N13 -> 0 | D17: ='3eme décade'!N13 -> 0 | E17: =B17+C17+D17 -> 0 | H17: Epiceries | I17: =B31 -> 0 | J17: =I17/B45 -> #DIV/0!
A18: Vergers Saint-Eustache | B18: ='1er décade'!N14 -> 0 | C18: ='2eme décade'!N14 -> 0 | D18: ='3eme décade'!N14 -> 0 | E18: =B18+C18+D18 -> 0 | H18: Crèmerie | I18: =B36 -> 0 | J18: =I18/B45 -> #DIV/0!
A19: Total: | B19: =SUM(B17+B18) -> 0 | C19: =SUM(C17+C18) -> 0 | D19: =SUM(D17+D18) -> 0 | E19: =SUM(B19+C19+D19) -> 0 | H19: Pain | I19: =B40 -> 0 | J19: =I19/B45 -> #DIV/0!
A21: PRODUITS ASIATIQUES | H21: VENTILATION DU Cout MENSUEL 2ème décade
A22: Exostore | B22: ='1er décade'!N17 -> 0 | C22: ='2eme décade'!N17 -> 0 | D22: ='3eme décade'!N17 -> 0 | E22: =B22+C22+D22 -> 0 | I22: Total Achats | J22: %
A23: JFC | B23: ='1er décade'!N18 -> 0 | C23: ='2eme décade'!N18 -> 0 | D23: ='3eme décade'!N18 -> 0 | E23: =B23+C23+D23 -> 0 | H23: Poissons | I23: =C8 -> 0 | J23: =I23/C45 -> #DIV/0!
A24: Foodex | B24: ='1er décade'!N19 -> 0 | C24: ='2eme décade'!N19 -> 0 | D24: ='3eme décade'!N19 -> 0 | E24: =B24+C24+D24 -> 0 | H24: Viandes | I24: =C14 -> 0 | J24: =I24/C45 -> #DIV/0!
A25: Total: | B25: =SUM(B22+B23+B24) -> 0 | C25: =SUM(C22+C23+C24) -> 0 | D25: =SUM(D22+D23+D24) -> 0 | E25: =SUM(B25+C25+D25) -> 0 | H25: Légumes | I25: =C19 -> 0 | J25: =I25/C45 -> #DIV/0!
H26: Asiatique | I26: =C25 -> 0 | J26: =I26/C45 -> #DIV/0!
A27: EPICERIE | H27: Epiceries | I27: =C31 -> 0 | J27: =I27/C45 -> #DIV/0!
A28: Episaveurs | B28: ='1er décade'!N22 -> 0 | C28: ='2eme décade'!N22 -> 0 | D28: ='3eme décade'!N22 -> 0 | E28: =B28+C28+D28 -> 0 | H28: Crèmerie | I28: =C36 -> 0 | J28: =I28/C45 -> #DIV/0!
A29: Qualitalia | B29: ='1er décade'!N23 -> 0 | C29: ='2eme décade'!N23 -> 0 | D29: ='3eme décade'!N23 -> 0 | E29: =B29+C29+D29 -> 0 | H29: Pain | I29: =C40 -> 0 | J29: =I29/C45 -> #DIV/0!
A30: Divers | B30: ='1er décade'!N24 -> 0 | C30: ='2eme décade'!N24 -> 0 | D30: ='3eme décade'!N24 -> 0 | E30: =B30+C30+D30 -> 0
A31: Total: | B31: =SUM(B28+B29+B30) -> 0 | C31: =SUM(C28+C29+C30) -> 0 | D31: =SUM(D28+D29+D30) -> 0 | E31: =SUM(B31+C31+D31) -> 0 | H31: VENTILATION DU Cout MENSUEL 3ème décade
I32: Total Achats | J32: %
A33: CREMERIE | H33: Poissons | I33: =D8 -> 0 | J33: =I33/D45 -> #DIV/0!
A34: France Délice | B34: ='1er décade'!N27 -> 0 | C34: ='2eme décade'!N27 -> 0 | D34: ='3eme décade'!N27 -> 0 | E34: =B34+C34+D34 -> 0 | H34: Viandes | I34: =D14 -> 0 | J34: =I34/D45 -> #DIV/0!
A35: Divers | B35: ='1er décade'!N28 -> 0 | C35: ='2eme décade'!N28 -> 0 | D35: ='3eme décade'!N28 -> 0 | E35: =B35+C35+D35 -> 0 | H35: Légumes | I35: =D19 -> 0 | J35: =I35/D45 -> #DIV/0!
A36: Total: | B36: =SUM(B34+B35) -> 0 | C36: =SUM(C34+C35) -> 0 | D36: =SUM(D34+D35) -> 0 | E36: =SUM(B36+C36+D36) -> 0 | H36: Asiatique | I36: =D25 -> 0 | J36: =I36/D45 -> #DIV/0!
H37: Epiceries | I37: =D31 -> 0 | J37: =I37/D45 -> #DIV/0!
A38: PAIN | H38: Crèmerie | I38: =D36 -> 0 | J38: =I38/D45 -> #DIV/0!
A39: Divers | B39: ='1er décade'!N31 -> 0 | C39: ='2eme décade'!N31 -> 0 | D39: ='3eme décade'!N31 -> 0 | E39: =B39+C39+D39 -> 0 | H39: Pain | I39: =D40 -> 0 | J39: =I39/D45 -> #DIV/0!
A40: Total: | B40: =SUM(B39) -> 0 | C40: =SUM(C39) -> 0 | D40: =SUM(D39) -> 0 | E40: =SUM(B40+C40+D40) -> 0
A42: Couverts: | E42: =SUM(D42+C42+B42) -> 0
A43: Cout Matiere au Couvert: | B43: =(B45/B42) -> #DIV/0! | C43: =(C45/C42) -> #DIV/0! | D43: =(D45/D42) -> #DIV/0! | E43: =SUM(E45/E42) -> #DIV/0!
A44: CAHT: | E44: =B44+C44+D44 -> 0 | F44: Objectif
A45: TOTAL COUT SOLIDES: | B45: =B8+B14+B19+B25+B31+B36+B40 -> 0 | C45: =C8+C14+C19+C25+C31+C36+C40 -> 0 | D45: =D8+D14+D19+D25+D31+D36+D40 -> 0 | E45: =B45+C45+D45 -> 0 | F45: =E44/3 -> 0
A46: RESULTAT RATIO: | B46: =SUM(B44/B45) -> #DIV/0! | C46: =SUM(C44/C45) -> #DIV/0! | D46: =SUM(D44/D45) -> #DIV/0!
A48: CAHT DU MOIS:
A49: RESULTAT RATIO DU MOIS: | C49: =SUM(E44/E45) -> #DIV/0! | D49: =100/C49/100 -> #DIV/0!

Sheet 1er décade
B1: 1 | C1: 2 | D1: 3 | E1: 4 | F1: 5 | G1: 6 | H1: 7 | I1: 8 | J1: 9 | K1: 10 | M1: AVOIR: | N1: T Fournisseur:
A2: POISSONS
A3: Reynaud | N3: =SUM(B3+C3+D3+E3+F3+G3+H3+I3+J3+K3+M3) -> 0
A4: Luculus | N4: =SUM(B4+C4+D4+E4+F4+G4+H4+I4+J4+K4+M4) -> 0
A5: TransGourmet | N5: =SUM(B5+C5+D5+E5+F5+G5+H5+I5+J5+K5+M5) -> 0
A6: Total: | B6: =SUM(B3+B4+B5) -> 0 | C6: =SUM(C3+C4+C5) -> 0 | D6: =SUM(D3+D4+D5) -> 0 | E6: =SUM(E3+E4+E5) -> 0 | F6: =SUM(F3+F4+F5) -> 0 | G6: =SUM(G3+G4+G5) -> 0 | H6: =SUM(H3+H4+H5) -> 0 | I6: =SUM(I3+I4+I5) -> 0 | ... K6: =SUM(K3+K4+K5) -> 0 | M6: =SUM(M3+M4+M5) -> 0 | N6: =SUM(N3:N5) -> 0
A7: VIANDES
A8: Poularde Saint Martory | N8: =SUM(B8+C8+D8+E8+F8+G8+H8+I8+J8+K8+M8) -> 0
A9: Lalauze | N9: =SUM(B9+C9+D9+E9+F9+G9+H9+I9+J9+K9+M9) -> 0
A10: Huguenin | N10: =SUM(B10+C10+D10+E10+F10+G10+H10+I10+J10+K10+M10) -> 0
A11: Total: | B11: =SUM(B8+B9+B10) -> 0 | C11: =SUM(C8+C9+C10) -> 0 | D11: =SUM(D8+D9+D10) -> 0 | E11: =SUM(E8+E9+E10) -> 0 | F11: =SUM(F8+F9+F10) -> 0 | G11: =SUM(G8+G9+G10) -> 0 | H11: =SUM(H8+H9+H10) -> 0 | I11: =SUM(I8+I9+I10) -> 0 | ... K11: =SUM(K8+K9+K10) -> 0 | M11: =SUM(M8+M9+M10) -> 0 | N11: =SUM(N8:N10) -> 0
A12: LEGUMES
A13: Halles Prestige | N13: =SUM(B13+C13+D13+E13+F13+G13+H13+I13+J13+K13+M13) -> 0
A14: Vergers Saint-Eustache | N14: =SUM(B14+C14+D14+E14+F14+G14+H14+I14+J14+K14+M14) -> 0
A15: Total: | B15: =SUM(B13+B14) -> 0 | C15: =SUM(C13+C14) -> 0 | D15: =SUM(D13+D14) -> 0 | E15: =SUM(E13+E14) -> 0 | F15: =SUM(F13+F14) -> 0 | G15: =SUM(G13+G14) -> 0 | H15: =SUM(H13+H14) -> 0 | I15: =SUM(I13+I14) -> 0 | ... K15: =SUM(K13+K14) -> 0 | M15: =SUM(M13+M14) -> 0 | N15: =SUM(N13:N14) -> 0
A16: PRODUITS ASIATIQUES
A17: Exostore | N17: =SUM(B17+C17+D17+E17+F17+G17+H17+I17+J17+K17+M17) -> 0
A18: JFC | N18: =SUM(B18+C18+D18+E18+F18+G18+H18+I18+J18+K18+M18) -> 0
A19: Foodex | N19: =SUM(B19+C19+D19+E19+F19+G19+H19+I19+J19+K19+M19) -> 0
A20: Total: | B20: =SUM(B17+B18+B19) -> 0 | C20: =SUM(C17+C18+C19) -> 0 | D20: =SUM(D17+D18+D19) -> 0 | E20: =SUM(E17+E18+E19) -> 0 | F20: =SUM(F17+F18+F19) -> 0 | G20: =SUM(G17+G18+G19) -> 0 | H20: =SUM(H17+H18+H19) -> 0 | I20: =SUM(I17+I18+I19) -> 0 | ... K20: =SUM(K17+K18+K19) -> 0 | M20: =SUM(M17+M18+M19) -> 0 | N20: =SUM(N16:N19) -> 0
A21: EPICERIE
A22: Episaveurs | N22: =SUM(B22+C22+D22+E22+F22+G22+H22+I22+J22+K22+M22) -> 0
A23: Qualitalia | N23: =SUM(B23+C23+D23+E23+F23+G23+H23+I23+J23+K23+M23) -> 0
A24: Divers | N24: =SUM(B24+C24+D24+E24+F24+G24+H24+I24+J24+K24+M24) -> 0
A25: Total: | B25: =SUM(B22+B23+B24) -> 0 | C25: =SUM(C22+C23+C24) -> 0 | D25: =SUM(D22+D23+D24) -> 0 | E25: =SUM(E22+E23+E24) -> 0 | F25: =SUM(F22+F23+F24) -> 0 | G25: =SUM(G22+G23+G24) -> 0 | H25: =SUM(H22+H23+H24) -> 0 | I25: =SUM(I22+I23+I24) -> 0 | ... K25: =SUM(K22+K23+K24) -> 0 | M25: =SUM(M22+M23+M24) -> 0 | N25: =SUM(M25+L25+K25+J25+I25+H25+G25+F25+E25+D25+C25+B25) -> 0
A26: CREMERIE
A27: France Délice | N27: =SUM(B27+C27+D27+E27+F27+G27+H27+I27+J27+K27+M27) -> 0
A28: Divers | N28: =SUM(B28+C28+D28+E28+F28+G28+H28+I28+J28+K28+M28) -> 0
A29: Total: | B29: =SUM(B27+B28) -> 0 | C29: =SUM(C27+C28) -> 0 | D29: =SUM(D27+D28) -> 0 | E29: =SUM(E27+E28) -> 0 | F29: =SUM(F27+F28) -> 0 | G29: =SUM(G27+G28) -> 0 | H29: =SUM(H27+H28) -> 0 | I29: =SUM(I27+I28) -> 0 | ... K29: =SUM(K27+K28) -> 0 | M29: =SUM(M27+M28) -> 0 | N29: =SUM(M29+L29+K29+J29+I29+H29+G29+F29+E29+D29+C29+B29) -> 0
A30: PAIN
A31: Divers | N31: =SUM(B31+C31+D31+E31+F31+G31+H31+I31+J31+K31+M31) -> 0
A32: Total: | B32: =SUM(B31) -> 0 | C32: =SUM(C31) -> 0 | D32: =SUM(D31) -> 0 | E32: =SUM(E31) -> 0 | F32: =SUM(F31) -> 0 | G32: =SUM(G31) -> 0 | H32: =SUM(H31) -> 0 | I32: =SUM(I31) -> 0 | ... K32: =SUM(K31) -> 0 | M32: =SUM(M31) -> 0 | N32: =SUM(M32+L32+K32+J32+I32+H32+G32+F32+E32+D32+C32+B32) -> 0
A34: SOLIDES: | B34: =SUM(B32+B29+B25+B20+B15+B11+B6) -> 0 | C34: =SUM(C32+C29+C25+C20+C15+C11+C6) -> 0 | D34: =SUM(D32+D29+D25+D20+D15+D11+D6) -> 0 | E34: =SUM(E32+E29+E25+E20+E15+E11+E6) -> 0 | F34: =SUM(F32+F29+F25+F20+F15+F11+F6) -> 0 | G34: =SUM(G32+G29+G25+G20+G15+G11+G6) -> 0 | H34: =SUM(H32+H29+H25+H20+H15+H11+H6) -> 0 | I34: =SUM(I32+I29+I25+I20+I15+I11+I6) -> 0 | ... K34: =SUM(K32+K29+K25+K20+K15+K11+K6) -> 0 | M34: =SUM(M32+M29+M25+M20+M15+M11+M6) -> 0 | N34: =SUM(N6+N11+N15+N20+N25+N29+N32) -> 0

Sheet 2eme décade
B1: 11 | C1: 12 | D1: 13 | E1: 14 | F1: 15 | G1: 16 | H1: 17 | I1: 18 | J1: 19 | K1: 20 | M1: AVOIR: | N1: T Fournisseur:
A2: POISSONS
A3: Reynaud | N3: =SUM(B3+C3+D3+E3+F3+G3+H3+I3+J3+K3+M3) -> 0
A4: Luculus | N4: =SUM(B4+C4+D4+E4+F4+G4+H4+I4+J4+K4+M4) -> 0
A5: TransGourmet | N5: =SUM(B5+C5+D5+E5+F5+G5+H5+I5+J5+K5+M5) -> 0
A6: Total: | B6: =SUM(B3+B4+B5) -> 0 | C6: =SUM(C3+C4+C5) -> 0 | D6: =SUM(D3+D4+D5) -> 0 | E6: =SUM(E3+E4+E5) -> 0 | F6: =SUM(F3+F4+F5) -> 0 | G6: =SUM(G3+G4+G5) -> 0 | H6: =SUM(H3+H4+H5) -> 0 | I6: =SUM(I3+I4+I5) -> 0 | ... K6: =SUM(K3+K4+K5) -> 0 | M6: =SUM(M3+M4+M5) -> 0 | N6: =SUM(N3:N5) -> 0
A7: VIANDES
A8: Poularde Saint Martory | N8: =SUM(B8+C8+D8+E8+F8+G8+H8+I8+J8+K8+M8) -> 0
A9: Lalauze | N9: =SUM(B9+C9+D9+E9+F9+G9+H9+I9+J9+K9+M9) -> 0
A10: Huguenin | N10: =SUM(B10+C10+D10+E10+F10+G10+H10+I10+J10+K10+M10) -> 0
A11: Total: | B11: =SUM(B8+B9+B10) -> 0 | C11: =SUM(C8+C9+C10) -> 0 | D11: =SUM(D8+D9+D10) -> 0 | E11: =SUM(E8+E9+E10) -> 0 | F11: =SUM(F8+F9+F10) -> 0 | G11: =SUM(G8+G9+G10) -> 0 | H11: =SUM(H8+H9+H10) -> 0 | I11: =SUM(I8+I9+I10) -> 0 | ... K11: =SUM(K8+K9+K10) -> 0 | M11: =SUM(M8+M9+M10) -> 0 | N11: =SUM(N8:N10) -> 0
A12: LEGUMES
A13: Halles Prestige | N13: =SUM(B13+C13+D13+E13+F13+G13+H13+I13+J13+K13+M13) -> 0
A14: Vergers Saint-Eustache | N14: =SUM(B14+C14+D14+E14+F14+G14+H14+I14+J14+K14+M14) -> 0
A15: Total: | B15: =SUM(B13+B14) -> 0 | C15: =SUM(C13+C14) -> 0 | D15: =SUM(D13+D14) -> 0 | E15: =SUM(E13+E14) -> 0 | F15: =SUM(F13+F14) -> 0 | G15: =SUM(G13+G14) -> 0 | H15: =SUM(H13+H14) -> 0 | I15: =SUM(I13+I14) -> 0 | ... K15: =SUM(K13+K14) -> 0 | M15: =SUM(M13+M14) -> 0 | N15: =SUM(N13:N14) -> 0
A16: PRODUITS ASIATIQUES
A17: Exostore | N17: =SUM(B17+C17+D17+E17+F17+G17+H17+I17+J17+K17+M17) -> 0
A18: JFC | N18: =SUM(B18+C18+D18+E18+F18+G18+H18+I18+J18+K18+M18) -> 0
A19: Foodex | N19: =SUM(B19+C19+D19+E19+F19+G19+H19+I19+J19+K19+M19) -> 0
A20: Total: | B20: =SUM(B17+B18+B19) -> 0 | C20: =SUM(C17+C18+C19) -> 0 | D20: =SUM(D17+D18+D19) -> 0 | E20: =SUM(E17+E18+E19) -> 0 | F20: =SUM(F17+F18+F19) -> 0 | G20: =SUM(G17+G18+G19) -> 0 | H20: =SUM(H17+H18+H19) -> 0 | I20: =SUM(I17+I18+I19) -> 0 | ... K20: =SUM(K17+K18+K19) -> 0 | M20: =SUM(M17+M18+M19) -> 0 | N20: =SUM(N16:N19) -> 0
A21: EPICERIE
A22: Episaveurs | N22: =SUM(B22+C22+D22+E22+F22+G22+H22+I22+J22+K22+M22) -> 0
A23: Qualitalia | N23: =SUM(B23+C23+D23+E23+F23+G23+H23+I23+J23+K23+M23) -> 0
A24: Divers | N24: =SUM(B24+C24+D24+E24+F24+G24+H24+I24+J24+K24+M24) -> 0
A25: Total: | B25: =SUM(B22+B23+B24) -> 0 | C25: =SUM(C22+C23+C24) -> 0 | D25: =SUM(D22+D23+D24) -> 0 | E25: =SUM(E22+E23+E24) -> 0 | F25: =SUM(F22+F23+F24) -> 0 | G25: =SUM(G22+G23+G24) -> 0 | H25: =SUM(H22+H23+H24) -> 0 | I25: =SUM(I22+I23+I24) -> 0 | ... K25: =SUM(K22+K23+K24) -> 0 | M25: =SUM(M22+M23+M24) -> 0 | N25: =SUM(M25+L25+K25+J25+I25+H25+G25+F25+E25+D25+C25+B25) -> 0
A26: CREMERIE
A27: France Délice | N27: =SUM(B27+C27+D27+E27+F27+G27+H27+I27+J27+K27+M27) -> 0
A28: Divers | N28: =SUM(B28+C28+D28+E28+F28+G28+H28+I28+J28+K28+M28) -> 0
A29: Total: | B29: =SUM(B27+B28) -> 0 | C29: =SUM(C27+C28) -> 0 | D29: =SUM(D27+D28) -> 0 | E29: =SUM(E27+E28) -> 0 | F29: =SUM(F27+F28) -> 0 | G29: =SUM(G27+G28) -> 0 | H29: =SUM(H27+H28) -> 0 | I29: =SUM(I27+I28) -> 0 | ... K29: =SUM(K27+K28) -> 0 | M29: =SUM(M27+M28) -> 0 | N29: =SUM(M29+L29+K29+J29+I29+H29+G29+F29+E29+D29+C29+B29) -> 0
A30: PAIN
A31: Divers | N31: =SUM(B31+C31+D31+E31+F31+G31+H31+I31+J31+K31+M31) -> 0
A32: Total: | B32: =SUM(B31) -> 0 | C32: =SUM(C31) -> 0 | D32: =SUM(D31) -> 0 | E32: =SUM(E31) -> 0 | F32: =SUM(F31) -> 0 | G32: =SUM(G31) -> 0 | H32: =SUM(H31) -> 0 | I32: =SUM(I31) -> 0 | ... K32: =SUM(K31) -> 0 | M32: =SUM(M31) -> 0 | N32: =SUM(M32+L32+K32+J32+I32+H32+G32+F32+E32+D32+C32+B32) -> 0
A34: SOLIDES: | B34: =SUM(B32+B29+B25+B20+B15+B11+B6) -> 0 | C34: =SUM(C32+C29+C25+C20+C15+C11+C6) -> 0 | D34: =SUM(D32+D29+D25+D20+D15+D11+D6) -> 0 | E34: =SUM(E32+E29+E25+E20+E15+E11+E6) -> 0 | F34: =SUM(F32+F29+F25+F20+F15+F11+F6) -> 0 | G34: =SUM(G32+G29+G25+G20+G15+G11+G6) -> 0 | H34: =SUM(H32+H29+H25+H20+H15+H11+H6) -> 0 | I34: =SUM(I32+I29+I25+I20+I15+I11+I6) -> 0 | ... K34: =SUM(K32+K29+K25+K20+K15+K11+K6) -> 0 | M34: =SUM(M32+M29+M25+M20+M15+M11+M6) -> 0 | N34: =SUM(N6+N11+N15+N20+N25+N29+N32) -> 0

Sheet 3eme décade
B1: 21 | C1: 22 | D1: 23 | E1: 24 | F1: 25 | G1: 26 | H1: 27 | I1: 28 | J1: 29 | K1: 30 | L1: 31 | M1: AVOIR: | N1: T Fournisseur:
A2: POISSONS
A3: Reynaud | N3: =SUM(B3+C3+D3+E3+F3+G3+H3+I3+J3+K3+L3+M3) -> 0
A4: Luculus | N4: =SUM(B4+C4+D4+E4+F4+G4+H4+I4+J4+K4+L4+M4) -> 0
A5: TransGourmet | N5: =SUM(B5+C5+D5+E5+F5+G5+H5+I5+J5+K5+L5+M5) -> 0
A6: Total: | B6: =SUM(B3+B4+B5) -> 0 | C6: =SUM(C3+C4+C5) -> 0 | D6: =SUM(D3+D4+D5) -> 0 | E6: =SUM(E3+E4+E5) -> 0 | F6: =SUM(F3+F4+F5) -> 0 | G6: =SUM(G3+G4+G5) -> 0 | H6: =SUM(H3+H4+H5) -> 0 | I6: =SUM(I3+I4+I5) -> 0 | ... M6: =SUM(M3+M4+M5) -> 0 | N6: =SUM(N3:N5) -> 0
A7: VIANDES
A8: Poularde Saint Martory | N8: =SUM(B8+C8+D8+E8+F8+G8+H8+I8+J8+K8+L8+M8) -> 0
A9: Lalauze | N9: =SUM(B9+C9+D9+E9+F9+G9+H9+I9+J9+K9+L9+M9) -> 0
A10: Huguenin | N10: =SUM(B10+C10+D10+E10+F10+G10+H10+I10+J10+K10+L10+M10) -> 0
A11: Total: | B11: =SUM(B8+B9+B10) -> 0 | C11: =SUM(C8+C9+C10) -> 0 | D11: =SUM(D8+D9+D10) -> 0 | E11: =SUM(E8+E9+E10) -> 0 | F11: =SUM(F8+F9+F10) -> 0 | G11: =SUM(G8+G9+G10) -> 0 | H11: =SUM(H8+H9+H10) -> 0 | I11: =SUM(I8+I9+I10) -> 0 | ... M11: =SUM(M8+M9+M10) -> 0 | N11: =SUM(N8:N10) -> 0
A12: LEGUMES
A13: Halles Prestige | N13: =SUM(B13+C13+D13+E13+F13+G13+H13+I13+J13+K13+L13+M13) -> 0
A14: Vergers Saint-Eustache | N14: =SUM(B14+C14+D14+E14+F14+G14+H14+I14+J14+K14+L14+M14) -> 0
A15: Total: | B15: =SUM(B13+B14) -> 0 | C15: =SUM(C13+C14) -> 0 | D15: =SUM(D13+D14) -> 0 | E15: =SUM(E13+E14) -> 0 | F15: =SUM(F13+F14) -> 0 | G15: =SUM(G13+G14) -> 0 | H15: =SUM(H13+H14) -> 0 | I15: =SUM(I13+I14) -> 0 | ... M15: =SUM(M13+M14) -> 0 | N15: =SUM(N13:N14) -> 0
A16: PRODUITS ASIATIQUES
A17: Exostore | N17: =SUM(B17+C17+D17+E17+F17+G17+H17+I17+J17+K17+L17+M17) -> 0
A18: JFC | N18: =SUM(B18+C18+D18+E18+F18+G18+H18+I18+J18+K18+L18+M18) -> 0
A19: Foodex | N19: =SUM(B19+C19+D19+E19+F19+G19+H19+I19+J19+K19+L19+M19) -> 0
A20: Total: | B20: =SUM(B17+B18+B19) -> 0 | C20: =SUM(C17+C18+C19) -> 0 | D20: =SUM(D17+D18+D19) -> 0 | E20: =SUM(E17+E18+E19) -> 0 | F20: =SUM(F17+F18+F19) -> 0 | G20: =SUM(G17+G18+G19) -> 0 | H20: =SUM(H17+H18+H19) -> 0 | I20: =SUM(I17+I18+I19) -> 0 | ... M20: =SUM(M17+M18+M19) -> 0 | N20: =SUM(N16:N19) -> 0
A21: EPICERIE
A22: Episaveurs | N22: =SUM(B22+C22+D22+E22+F22+G22+H22+I22+J22+K22+L22+M22) -> 0
A23: Qualitalia | N23: =SUM(B23+C23+D23+E23+F23+G23+H23+I23+J23+K23+L23+M23) -> 0
A24: Divers | N24: =SUM(B24+C24+D24+E24+F24+G24+H24+I24+J24+K24+L24+M24) -> 0
A25: Total: | B25: =SUM(B22+B23+B24) -> 0 | C25: =SUM(C22+C23+C24) -> 0 | D25: =SUM(D22+D23+D24) -> 0 | E25: =SUM(E22+E23+E24) -> 0 | F25: =SUM(F22+F23+F24) -> 0 | G25: =SUM(G22+G23+G24) -> 0 | H25: =SUM(H22+H23+H24) -> 0 | I25: =SUM(I22+I23+I24) -> 0 | ... M25: =SUM(M22+M23+M24) -> 0 | N25: =SUM(M25+L25+K25+J25+I25+H25+G25+F25+E25+D25+C25+B25) -> 0
A26: CREMERIE
A27: France Délice | N27: =SUM(B27+C27+D27+E27+F27+G27+H27+I27+J27+K27+L27+M27) -> 0
A28: Divers | N28: =SUM(B28+C28+D28+E28+F28+G28+H28+I28+J28+K28+L28+M28) -> 0
A29: Total: | B29: =SUM(B27+B28) -> 0 | C29: =SUM(C27+C28) -> 0 | D29: =SUM(D27+D28) -> 0 | E29: =SUM(E27+E28) -> 0 | F29: =SUM(F27+F28) -> 0 | G29: =SUM(G27+G28) -> 0 | H29: =SUM(H27+H28) -> 0 | I29: =SUM(I27+I28) -> 0 | ... M29: =SUM(M27+M28) -> 0 | N29: =SUM(M29+L29+K29+J29+I29+H29+G29+F29+E29+D29+C29+B29) -> 0
A30: PAIN
A31: Divers | N31: =SUM(B31+C31+D31+E31+F31+G31+H31+I31+J31+K31+L31+M31) -> 0
A32: Total: | B32: =SUM(B31) -> 0 | C32: =SUM(C31) -> 0 | D32: =SUM(D31) -> 0 | E32: =SUM(E31) -> 0 | F32: =SUM(F31) -> 0 | G32: =SUM(G31) -> 0 | H32: =SUM(H31) -> 0 | I32: =SUM(I31) -> 0 | ... M32: =SUM(M31) -> 0 | N32: =SUM(M32+L32+K32+J32+I32+H32+G32+F32+E32+D32+C32+B32) -> 0
A34: SOLIDES: | B34: =SUM(B32+B29+B25+B20+B15+B11+B6) -> 0 | C34: =SUM(C32+C29+C25+C20+C15+C11+C6) -> 0 | D34: =SUM(D32+D29+D25+D20+D15+D11+D6) -> 0 | E34: =SUM(E32+E29+E25+E20+E15+E11+E6) -> 0 | F34: =SUM(F32+F29+F25+F20+F15+F11+F6) -> 0 | G34: =SUM(G32+G29+G25+G20+G15+G11+G6) -> 0 | H34: =SUM(H32+H29+H25+H20+H15+H11+H6) -> 0 | I34: =SUM(I32+I29+I25+I20+I15+I11+I6) -> 0 | ... M34: =SUM(M32+M29+M25+M20+M15+M11+M6) -> 0 | N34: =SUM(N6+N11+N15+N20+N25+N29+N32) -> 0
